Workbook

Sheet Auswertung
A1: Anzahl Teams | C1: 15
A2: Anzahl Frauenteams | C2: 0
A3: Anzahl Spiele | C3: 10
A7: Gesamtwertung | E7: Frauenwertung
A8: Platz | B8: Teamname | C8: Punkte | E8: Platz | F8: Teamname | G8: Punkte
A9: 1 | C9: =SUMM -> #NAME? | E9: 1
A10: 2 | E10: 2
A11: 3 | E11: 3
A12: 4 | E12: 4
A13: 5 | E13: 5
A14: 6 | E14: 6
A15: 7 | E15: 7
A16: 8 | E16: 8
A17: 9 | E17: 9
A18: 10 | E18: 10
A19: 11 | E19: 11
A20: 12 | E20: 12
A21: 13 | E21: 13
... A41: 33 | E41: 33

Sheet Punkteübersicht
A1: Mannschaft | B1: 1 | C1: 2 | D1: 3 | E1: 4 | F1: 5 | G1: 6 | H1: 7 | I1: 8 | J1: 9 | K1: 10 | L1: 11 | M1: 12 | N1: 13 | O1: 14 | P1: 15 | Q1: 16 | R1: 17 | S1: 18 | T1: 19 | U1: 20 | V1: 21 | W1: 22
A2: 1
A3: 2
A4: 3
A5: 4
A6: 5
A7: 6
A8: 7
A9: 8
A10: 9
A11: 10
A12: 11
A13: 12
... A34: 33

Sheet Werteübersicht
A1: Mannschaft | B1: 1 | C1: 2 | D1: 3 | E1: 4 | F1: 5 | G1: 6 | H1: 7 | I1: 8 | J1: 9 | K1: 10 | L1: 11 | M1: 12 | N1: 13 | O1: 14 | P1: 15 | Q1: 16 | R1: 17 | S1: 18 | T1: 19 | U1: 20 | V1: 21 | W1: 22
A2: 1 | B2: =IF('Eingabe Spieleblätter'!B2=HLOOKUP($A2,'Eingabe Mannschaftsblätter'!$B$1:$AH$23,B$1+1),'Eingabe Spieleblätter'!B2,NA()) -> 10 | C2: =IF('Eingabe Spieleblätter'!C2=HLOOKUP($A2,'Eingabe Mannschaftsblätter'!$B$1:$AH$23,C$1+1),'Eingabe Spieleblätter'!C2,NA()) -> 21 | D2: =IF('Eingabe Spieleblätter'!D2=HLOOKUP($A2,'Eingabe Mannschaftsblätter'!$B$1:$AH$23,D$1+1),'Eingabe Spieleblätter'!D2,NA()) -> 13 | E2: =IF('Eingabe Spieleblätter'!E2=HLOOKUP($A2,'Eingabe Mannschaftsblätter'!$B$1:$AH$23,E$1+1),'Eingabe Spieleblätter'!E2,NA()) -> 0 | F2: =IF('Eingabe Spieleblätter'!F2=HLOOKUP($A2,'Eingabe Mannschaftsblätter'!$B$1:$AH$23,F$1+1),'Eingabe Spieleblätter'!F2,NA()) -> 0 | G2: =IF('Eingabe Spieleblätter'!G2=HLOOKUP($A2,'Eingabe Mannschaftsblätter'!$B$1:$AH$23,G$1+1),'Eingabe Spieleblätter'!G2,NA()) -> 0 | H2: =IF('Eingabe Spieleblätter'!H2=HLOOKUP($A2,'Eingabe Mannschaftsblätter'!$B$1:$AH$23,H$1+1),'Eingabe Spieleblätter'!H2,NA()) -> 0 | I2: =IF('Eingabe Spieleblätter'!I2=HLOOKUP($A2,'Eingabe Mannschaftsblätter'!$B$1:$AH$23,I$1+1),'Eingabe Spieleblätter'!I2,NA()) -> 0 | ... W2: =IF('Eingabe Spieleblätter'!W2=HLOOKUP($A2,'Eingabe Mannschaftsblätter'!$B$1:$AH$23,W$1+1),'Eingabe Spieleblätter'!W2,NA()) -> 0
A3: 2 | B3: =IF('Eingabe Spieleblätter'!B3=HLOOKUP($A3,'Eingabe Mannschaftsblätter'!$B$1:$AH$23,B$1+1),'Eingabe Spieleblätter'!B3,NA()) -> 0 | C3: =IF('Eingabe Spieleblätter'!C3=HLOOKUP($A3,'Eingabe Mannschaftsblätter'!$B$1:$AH$23,C$1+1),'Eingabe Spieleblätter'!C3,NA()) -> 0 | D3: =IF('Eingabe Spieleblätter'!D3=HLOOKUP($A3,'Eingabe Mannschaftsblätter'!$B$1:$AH$23,D$1+1),'Eingabe Spieleblätter'!D3,NA()) -> 0 | E3: =IF('Eingabe Spieleblätter'!E3=HLOOKUP($A3,'Eingabe Mannschaftsblätter'!$B$1:$AH$23,E$1+1),'Eingabe Spieleblätter'!E3,NA()) -> 0 | F3: =IF('Eingabe Spieleblätter'!F3=HLOOKUP($A3,'Eingabe Mannschaftsblätter'!$B$1:$AH$23,F$1+1),'Eingabe Spieleblätter'!F3,NA()) -> 0 | G3: =IF('Eingabe Spieleblätter'!G3=HLOOKUP($A3,'Eingabe Mannschaftsblätter'!$B$1:$AH$23,G$1+1),'Eingabe Spieleblätter'!G3,NA()) -> 0 | H3: =IF('Eingabe Spieleblätter'!H3=HLOOKUP($A3,'Eingabe Mannschaftsblätter'!$B$1:$AH$23,H$1+1),'Eingabe Spieleblätter'!H3,NA()) -> 0 | I3: =IF('Eingabe Spieleblätter'!I3=HLOOKUP($A3,'Eingabe Mannschaftsblätter'!$B$1:$AH$23,I$1+1),'Eingabe Spieleblätter'!I3,NA()) -> 0 | ... W3: =IF('Eingabe Spieleblätter'!W3=HLOOKUP($A3,'Eingabe Mannschaftsblätter'!$B$1:$AH$23,W$1+1),'Eingabe Spieleblätter'!W3,NA()) -> 0
A4: 3 | B4: =IF('Eingabe Spieleblätter'!B4=HLOOKUP($A4,'Eingabe Mannschaftsblätter'!$B$1:$AH$23,B$1+1),'Eingabe Spieleblätter'!B4,NA()) -> 0 | C4: =IF('Eingabe Spieleblätter'!C4=HLOOKUP($A4,'Eingabe Mannschaftsblätter'!$B$1:$AH$23,C$1+1),'Eingabe Spieleblätter'!C4,NA()) -> 0 | D4: =IF('Eingabe Spieleblätter'!D4=HLOOKUP($A4,'Eingabe Mannschaftsblätter'!$B$1:$AH$23,D$1+1),'Eingabe Spieleblätter'!D4,NA()) -> 0 | E4: =IF('Eingabe Spieleblätter'!E4=HLOOKUP($A4,'Eingabe Mannschaftsblätter'!$B$1:$AH$23,E$1+1),'Eingabe Spieleblätter'!E4,NA()) -> 0 | F4: =IF('Eingabe Spieleblätter'!F4=HLOOKUP($A4,'Eingabe Mannschaftsblätter'!$B$1:$AH$23,F$1+1),'Eingabe Spieleblätter'!F4,NA()) -> 0 | G4: =IF('Eingabe Spieleblätter'!G4=HLOOKUP($A4,'Eingabe Mannschaftsblätter'!$B$1:$AH$23,G$1+1),'Eingabe Spieleblätter'!G4,NA()) -> 0 | H4: =IF('Eingabe Spieleblätter'!H4=HLOOKUP($A4,'Eingabe Mannschaftsblätter'!$B$1:$AH$23,H$1+1),'Eingabe Spieleblätter'!H4,NA()) -> 0 | I4: =IF('Eingabe Spieleblätter'!I4=HLOOKUP($A4,'Eingabe Mannschaftsblätter'!$B$1:$AH$23,I$1+1),'Eingabe Spieleblätter'!I4,NA()) -> 0 | ... W4: =IF('Eingabe Spieleblätter'!W4=HLOOKUP($A4,'Eingabe Mannschaftsblätter'!$B$1:$AH$23,W$1+1),'Eingabe Spieleblätter'!W4,NA()) -> 0
A5: 4 | B5: =IF('Eingabe Spieleblätter'!B5=HLOOKUP($A5,'Eingabe Mannschaftsblätter'!$B$1:$AH$23,B$1+1),'Eingabe Spieleblätter'!B5,NA()) -> 0 | C5: =IF('Eingabe Spieleblätter'!C5=HLOOKUP($A5,'Eingabe Mannschaftsblätter'!$B$1:$AH$23,C$1+1),'Eingabe Spieleblätter'!C5,NA()) -> 0 | D5: =IF('Eingabe Spieleblätter'!D5=HLOOKUP($A5,'Eingabe Mannschaftsblätter'!$B$1:$AH$23,D$1+1),'Eingabe Spieleblätter'!D5,NA()) -> 0 | E5: =IF('Eingabe Spieleblätter'!E5=HLOOKUP($A5,'Eingabe Mannschaftsblätter'!$B$1:$AH$23,E$1+1),'Eingabe Spieleblätter'!E5,NA()) -> 0 | F5: =IF('Eingabe Spieleblätter'!F5=HLOOKUP($A5,'Eingabe Mannschaftsblätter'!$B$1:$AH$23,F$1+1),'Eingabe Spieleblätter'!F5,NA()) -> 0 | G5: =IF('Eingabe Spieleblätter'!G5=HLOOKUP($A5,'Eingabe Mannschaftsblätter'!$B$1:$AH$23,G$1+1),'Eingabe Spieleblätter'!G5,NA()) -> 0 | H5: =IF('Eingabe Spieleblätter'!H5=HLOOKUP($A5,'Eingabe Mannschaftsblätter'!$B$1:$AH$23,H$1+1),'Eingabe Spieleblätter'!H5,NA()) -> 0 | I5: =IF('Eingabe Spieleblätter'!I5=HLOOKUP($A5,'Eingabe Mannschaftsblätter'!$B$1:$AH$23,I$1+1),'Eingabe Spieleblätter'!I5,NA()) -> 0 | ... W5: =IF('Eingabe Spieleblätter'!W5=HLOOKUP($A5,'Eingabe Mannschaftsblätter'!$B$1:$AH$23,W$1+1),'Eingabe Spieleblätter'!W5,NA()) -> 0
A6: 5 | B6: =IF('Eingabe Spieleblätter'!B6=HLOOKUP($A6,'Eingabe Mannschaftsblätter'!$B$1:$AH$23,B$1+1),'Eingabe Spieleblätter'!B6,NA()) -> 0 | C6: =IF('Eingabe Spieleblätter'!C6=HLOOKUP($A6,'Eingabe Mannschaftsblätter'!$B$1:$AH$23,C$1+1),'Eingabe Spieleblätter'!C6,NA()) -> 0 | D6: =IF('Eingabe Spieleblätter'!D6=HLOOKUP($A6,'Eingabe Mannschaftsblätter'!$B$1:$AH$23,D$1+1),'Eingabe Spieleblätter'!D6,NA()) -> 0 | E6: =IF('Eingabe Spieleblätter'!E6=HLOOKUP($A6,'Eingabe Mannschaftsblätter'!$B$1:$AH$23,E$1+1),'Eingabe Spieleblätter'!E6,NA()) -> 0 | F6: =IF('Eingabe Spieleblätter'!F6=HLOOKUP($A6,'Eingabe Mannschaftsblätter'!$B$1:$AH$23,F$1+1),'Eingabe Spieleblätter'!F6,NA()) -> 0 | G6: =IF('Eingabe Spieleblätter'!G6=HLOOKUP($A6,'Eingabe Mannschaftsblätter'!$B$1:$AH$23,G$1+1),'Eingabe Spieleblätter'!G6,NA()) -> 0 | H6: =IF('Eingabe Spieleblätter'!H6=HLOOKUP($A6,'Eingabe Mannschaftsblätter'!$B$1:$AH$23,H$1+1),'Eingabe Spieleblätter'!H6,NA()) -> 0 | I6: =IF('Eingabe Spieleblätter'!I6=HLOOKUP($A6,'Eingabe Mannschaftsblätter'!$B$1:$AH$23,I$1+1),'Eingabe Spieleblätter'!I6,NA()) -> 0 | ... W6: =IF('Eingabe Spieleblätter'!W6=HLOOKUP($A6,'Eingabe Mannschaftsblätter'!$B$1:$AH$23,W$1+1),'Eingabe Spieleblätter'!W6,NA()) -> 0
A7: 6 | B7: =IF('Eingabe Spieleblätter'!B7=HLOOKUP($A7,'Eingabe Mannschaftsblätter'!$B$1:$AH$23,B$1+1),'Eingabe Spieleblätter'!B7,NA()) -> 0 | C7: =IF('Eingabe Spieleblätter'!C7=HLOOKUP($A7,'Eingabe Mannschaftsblätter'!$B$1:$AH$23,C$1+1),'Eingabe Spieleblätter'!C7,NA()) -> 0 | D7: =IF('Eingabe Spieleblätter'!D7=HLOOKUP($A7,'Eingabe Mannschaftsblätter'!$B$1:$AH$23,D$1+1),'Eingabe Spieleblätter'!D7,NA()) -> 0 | E7: =IF('Eingabe Spieleblätter'!E7=HLOOKUP($A7,'Eingabe Mannschaftsblätter'!$B$1:$AH$23,E$1+1),'Eingabe Spieleblätter'!E7,NA()) -> 0 | F7: =IF('Eingabe Spieleblätter'!F7=HLOOKUP($A7,'Eingabe Mannschaftsblätter'!$B$1:$AH$23,F$1+1),'Eingabe Spieleblätter'!F7,NA()) -> 0 | G7: =IF('Eingabe Spieleblätter'!G7=HLOOKUP($A7,'Eingabe Mannschaftsblätter'!$B$1:$AH$23,G$1+1),'Eingabe Spieleblätter'!G7,NA()) -> 0 | H7: =IF('Eingabe Spieleblätter'!H7=HLOOKUP($A7,'Eingabe Mannschaftsblätter'!$B$1:$AH$23,H$1+1),'Eingabe Spieleblätter'!H7,NA()) -> 0 | I7: =IF('Eingabe Spieleblätter'!I7=HLOOKUP($A7,'Eingabe Mannschaftsblätter'!$B$1:$AH$23,I$1+1),'Eingabe Spieleblätter'!I7,NA()) -> 0 | ... W7: =IF('Eingabe Spieleblätter'!W7=HLOOKUP($A7,'Eingabe Mannschaftsblätter'!$B$1:$AH$23,W$1+1),'Eingabe Spieleblätter'!W7,NA()) -> 0
A8: 7 | B8: =IF('Eingabe Spieleblätter'!B8=HLOOKUP($A8,'Eingabe Mannschaftsblätter'!$B$1:$AH$23,B$1+1),'Eingabe Spieleblätter'!B8,NA()) -> 0 | C8: =IF('Eingabe Spieleblätter'!C8=HLOOKUP($A8,'Eingabe Mannschaftsblätter'!$B$1:$AH$23,C$1+1),'Eingabe Spieleblätter'!C8,NA()) -> 0 | D8: =IF('Eingabe Spieleblätter'!D8=HLOOKUP($A8,'Eingabe Mannschaftsblätter'!$B$1:$AH$23,D$1+1),'Eingabe Spieleblätter'!D8,NA()) -> 0 | E8: =IF('Eingabe Spieleblätter'!E8=HLOOKUP($A8,'Eingabe Mannschaftsblätter'!$B$1:$AH$23,E$1+1),'Eingabe Spieleblätter'!E8,NA()) -> 0 | F8: =IF('Eingabe Spieleblätter'!F8=HLOOKUP($A8,'Eingabe Mannschaftsblätter'!$B$1:$AH$23,F$1+1),'Eingabe Spieleblätter'!F8,NA()) -> 0 | G8: =IF('Eingabe Spieleblätter'!G8=HLOOKUP($A8,'Eingabe Mannschaftsblätter'!$B$1:$AH$23,G$1+1),'Eingabe Spieleblätter'!G8,NA()) -> 0 | H8: =IF('Eingabe Spieleblätter'!H8=HLOOKUP($A8,'Eingabe Mannschaftsblätter'!$B$1:$AH$23,H$1+1),'Eingabe Spieleblätter'!H8,NA()) -> 0 | I8: =IF('Eingabe Spieleblätter'!I8=HLOOKUP($A8,'Eingabe Mannschaftsblätter'!$B$1:$AH$23,I$1+1),'Eingabe Spieleblätter'!I8,NA()) -> 0 | ... W8: =IF('Eingabe Spieleblätter'!W8=HLOOKUP($A8,'Eingabe Mannschaftsblätter'!$B$1:$AH$23,W$1+1),'Eingabe Spieleblätter'!W8,NA()) -> 0
A9: 8 | B9: =IF('Eingabe Spieleblätter'!B9=HLOOKUP($A9,'Eingabe Mannschaftsblätter'!$B$1:$AH$23,B$1+1),'Eingabe Spieleblätter'!B9,NA()) -> 0 | C9: =IF('Eingabe Spieleblätter'!C9=HLOOKUP($A9,'Eingabe Mannschaftsblätter'!$B$1:$AH$23,C$1+1),'Eingabe Spieleblätter'!C9,NA()) -> 0 | D9: =IF('Eingabe Spieleblätter'!D9=HLOOKUP($A9,'Eingabe Mannschaftsblätter'!$B$1:$AH$23,D$1+1),'Eingabe Spieleblätter'!D9,NA()) -> 0 | E9: =IF('Eingabe Spieleblätter'!E9=HLOOKUP($A9,'Eingabe Mannschaftsblätter'!$B$1:$AH$23,E$1+1),'Eingabe Spieleblätter'!E9,NA()) -> 0 | F9: =IF('Eingabe Spieleblätter'!F9=HLOOKUP($A9,'Eingabe Mannschaftsblätter'!$B$1:$AH$23,F$1+1),'Eingabe Spieleblätter'!F9,NA()) -> 0 | G9: =IF('Eingabe Spieleblätter'!G9=HLOOKUP($A9,'Eingabe Mannschaftsblätter'!$B$1:$AH$23,G$1+1),'Eingabe Spieleblätter'!G9,NA()) -> 0 | H9: =IF('Eingabe Spieleblätter'!H9=HLOOKUP($A9,'Eingabe Mannschaftsblätter'!$B$1:$AH$23,H$1+1),'Eingabe Spieleblätter'!H9,NA()) -> 0 | I9: =IF('Eingabe Spieleblätter'!I9=HLOOKUP($A9,'Eingabe Mannschaftsblätter'!$B$1:$AH$23,I$1+1),'Eingabe Spieleblätter'!I9,NA()) -> 0 | ... W9: =IF('Eingabe Spieleblätter'!W9=HLOOKUP($A9,'Eingabe Mannschaftsblätter'!$B$1:$AH$23,W$1+1),'Eingabe Spieleblätter'!W9,NA()) -> 0
A10: 9 | B10: =IF('Eingabe Spieleblätter'!B10=HLOOKUP($A10,'Eingabe Mannschaftsblätter'!$B$1:$AH$23,B$1+1),'Eingabe Spieleblätter'!B10,NA()) -> 0 | C10: =IF('Eingabe Spieleblätter'!C10=HLOOKUP($A10,'Eingabe Mannschaftsblätter'!$B$1:$AH$23,C$1+1),'Eingabe Spieleblätter'!C10,NA()) -> 0 | D10: =IF('Eingabe Spieleblätter'!D10=HLOOKUP($A10,'Eingabe Mannschaftsblätter'!$B$1:$AH$23,D$1+1),'Eingabe Spieleblätter'!D10,NA()) -> 0 | E10: =IF('Eingabe Spieleblätter'!E10=HLOOKUP($A10,'Eingabe Mannschaftsblätter'!$B$1:$AH$23,E$1+1),'Eingabe Spieleblätter'!E10,NA()) -> 0 | F10: =IF('Eingabe Spieleblätter'!F10=HLOOKUP($A10,'Eingabe Mannschaftsblätter'!$B$1:$AH$23,F$1+1),'Eingabe Spieleblätter'!F10,NA()) -> 0 | G10: =IF('Eingabe Spieleblätter'!G10=HLOOKUP($A10,'Eingabe Mannschaftsblätter'!$B$1:$AH$23,G$1+1),'Eingabe Spieleblätter'!G10,NA()) -> 0 | H10: =IF('Eingabe Spieleblätter'!H10=HLOOKUP($A10,'Eingabe Mannschaftsblätter'!$B$1:$AH$23,H$1+1),'Eingabe Spieleblätter'!H10,NA()) -> 0 | I10: =IF('Eingabe Spieleblätter'!I10=HLOOKUP($A10,'Eingabe Mannschaftsblätter'!$B$1:$AH$23,I$1+1),'Eingabe Spieleblätter'!I10,NA()) -> 0 | ... W10: =IF('Eingabe Spieleblätter'!W10=HLOOKUP($A10,'Eingabe Mannschaftsblätter'!$B$1:$AH$23,W$1+1),'Eingabe Spieleblätter'!W10,NA()) -> 0
A11: 10 | B11: =IF('Eingabe Spieleblätter'!B11=HLOOKUP($A11,'Eingabe Mannschaftsblätter'!$B$1:$AH$23,B$1+1),'Eingabe Spieleblätter'!B11,NA()) -> 0 | C11: =IF('Eingabe Spieleblätter'!C11=HLOOKUP($A11,'Eingabe Mannschaftsblätter'!$B$1:$AH$23,C$1+1),'Eingabe Spieleblätter'!C11,NA()) -> 0 | D11: =IF('Eingabe Spieleblätter'!D11=HLOOKUP($A11,'Eingabe Mannschaftsblätter'!$B$1:$AH$23,D$1+1),'Eingabe Spieleblätter'!D11,NA()) -> 0 | E11: =IF('Eingabe Spieleblätter'!E11=HLOOKUP($A11,'Eingabe Mannschaftsblätter'!$B$1:$AH$23,E$1+1),'Eingabe Spieleblätter'!E11,NA()) -> 0 | F11: =IF('Eingabe Spieleblätter'!F11=HLOOKUP($A11,'Eingabe Mannschaftsblätter'!$B$1:$AH$23,F$1+1),'Eingabe Spieleblätter'!F11,NA()) -> 0 | G11: =IF('Eingabe Spieleblätter'!G11=HLOOKUP($A11,'Eingabe Mannschaftsblätter'!$B$1:$AH$23,G$1+1),'Eingabe Spieleblätter'!G11,NA()) -> 0 | H11: =IF('Eingabe Spieleblätter'!H11=HLOOKUP($A11,'Eingabe Mannschaftsblätter'!$B$1:$AH$23,H$1+1),'Eingabe Spieleblätter'!H11,NA()) -> 0 | I11: =IF('Eingabe Spieleblätter'!I11=HLOOKUP($A11,'Eingabe Mannschaftsblätter'!$B$1:$AH$23,I$1+1),'Eingabe Spieleblätter'!I11,NA()) -> 0 | ... W11: =IF('Eingabe Spieleblätter'!W11=HLOOKUP($A11,'Eingabe Mannschaftsblätter'!$B$1:$AH$23,W$1+1),'Eingabe Spieleblätter'!W11,NA()) -> 0
A12: 11 | B12: =IF('Eingabe Spieleblätter'!B12=HLOOKUP($A12,'Eingabe Mannschaftsblätter'!$B$1:$AH$23,B$1+1),'Eingabe Spieleblätter'!B12,NA()) -> 0 | C12: =IF('Eingabe Spieleblätter'!C12=HLOOKUP($A12,'Eingabe Mannschaftsblätter'!$B$1:$AH$23,C$1+1),'Eingabe Spieleblätter'!C12,NA()) -> 0 | D12: =IF('Eingabe Spieleblätter'!D12=HLOOKUP($A12,'Eingabe Mannschaftsblätter'!$B$1:$AH$23,D$1+1),'Eingabe Spieleblätter'!D12,NA()) -> 0 | E12: =IF('Eingabe Spieleblätter'!E12=HLOOKUP($A12,'Eingabe Mannschaftsblätter'!$B$1:$AH$23,E$1+1),'Eingabe Spieleblätter'!E12,NA()) -> 0 | F12: =IF('Eingabe Spieleblätter'!F12=HLOOKUP($A12,'Eingabe Mannschaftsblätter'!$B$1:$AH$23,F$1+1),'Eingabe Spieleblätter'!F12,NA()) -> 0 | G12: =IF('Eingabe Spieleblätter'!G12=HLOOKUP($A12,'Eingabe Mannschaftsblätter'!$B$1:$AH$23,G$1+1),'Eingabe Spieleblätter'!G12,NA()) -> 0 | H12: =IF('Eingabe Spieleblätter'!H12=HLOOKUP($A12,'Eingabe Mannschaftsblätter'!$B$1:$AH$23,H$1+1),'Eingabe Spieleblätter'!H12,NA()) -> 0 | I12: =IF('Eingabe Spieleblätter'!I12=HLOOKUP($A12,'Eingabe Mannschaftsblätter'!$B$1:$AH$23,I$1+1),'Eingabe Spieleblätter'!I12,NA()) -> 0 | ... W12: =IF('Eingabe Spieleblätter'!W12=HLOOKUP($A12,'Eingabe Mannschaftsblätter'!$B$1:$AH$23,W$1+1),'Eingabe Spieleblätter'!W12,NA()) -> 0
A13: 12 | B13: =IF('Eingabe Spieleblätter'!B13=HLOOKUP($A13,'Eingabe Mannschaftsblätter'!$B$1:$AH$23,B$1+1),'Eingabe Spieleblätter'!B13,NA()) -> 0 | C13: =IF('Eingabe Spieleblätter'!C13=HLOOKUP($A13,'Eingabe Mannschaftsblätter'!$B$1:$AH$23,C$1+1),'Eingabe Spieleblätter'!C13,NA()) -> 0 | D13: =IF('Eingabe Spieleblätter'!D13=HLOOKUP($A13,'Eingabe Mannschaftsblätter'!$B$1:$AH$23,D$1+1),'Eingabe Spieleblätter'!D13,NA()) -> 0 | E13: =IF('Eingabe Spieleblätter'!E13=HLOOKUP($A13,'Eingabe Mannschaftsblätter'!$B$1:$AH$23,E$1+1),'Eingabe Spieleblätter'!E13,NA()) -> 0 | F13: =IF('Eingabe Spieleblätter'!F13=HLOOKUP($A13,'Eingabe Mannschaftsblätter'!$B$1:$AH$23,F$1+1),'Eingabe Spieleblätter'!F13,NA()) -> 0 | G13: =IF('Eingabe Spieleblätter'!G13=HLOOKUP($A13,'Eingabe Mannschaftsblätter'!$B$1:$AH$23,G$1+1),'Eingabe Spieleblätter'!G13,NA()) -> 0 | H13: =IF('Eingabe Spieleblätter'!H13=HLOOKUP($A13,'Eingabe Mannschaftsblätter'!$B$1:$AH$23,H$1+1),'Eingabe Spieleblätter'!H13,NA()) -> 0 | I13: =IF('Eingabe Spieleblätter'!I13=HLOOKUP($A13,'Eingabe Mannschaftsblätter'!$B$1:$AH$23,I$1+1),'Eingabe Spieleblätter'!I13,NA()) -> 0 | ... W13: =IF('Eingabe Spieleblätter'!W13=HLOOKUP($A13,'Eingabe Mannschaftsblätter'!$B$1:$AH$23,W$1+1),'Eingabe Spieleblätter'!W13,NA()) -> 0
... A34: 33 | B34: =IF('Eingabe Spieleblätter'!B34=HLOOKUP($A34,'Eingabe Mannschaftsblätter'!$B$1:$AH$23,B$1+1),'Eingabe Spieleblätter'!B34,NA()) -> 0 | C34: =IF('Eingabe Spieleblätter'!C34=HLOOKUP($A34,'Eingabe Mannschaftsblätter'!$B$1:$AH$23,C$1+1),'Eingabe Spieleblätter'!C34,NA()) -> 0 | D34: =IF('Eingabe Spieleblätter'!D34=HLOOKUP($A34,'Eingabe Mannschaftsblätter'!$B$1:$AH$23,D$1+1),'Eingabe Spieleblätter'!D34,NA()) -> 0 | E34: =IF('Eingabe Spieleblätter'!E34=HLOOKUP($A34,'Eingabe Mannschaftsblätter'!$B$1:$AH$23,E$1+1),'Eingabe Spieleblätter'!E34,NA()) -> 0 | F34: =IF('Eingabe Spieleblätter'!F34=HLOOKUP($A34,'Eingabe Mannschaftsblätter'!$B$1:$AH$23,F$1+1),'Eingabe Spieleblätter'!F34,NA()) -> 0 | G34: =IF('Eingabe Spieleblätter'!G34=HLOOKUP($A34,'Eingabe Mannschaftsblätter'!$B$1:$AH$23,G$1+1),'Eingabe Spieleblätter'!G34,NA()) -> 0 | H34: =IF('Eingabe Spieleblätter'!H34=HLOOKUP($A34,'Eingabe Mannschaftsblätter'!$B$1:$AH$23,H$1+1),'Eingabe Spieleblätter'!H34,NA()) -> 0 | I34: =IF('Eingabe Spieleblätter'!I34=HLOOKUP($A34,'Eingabe Mannschaftsblätter'!$B$1:$AH$23,I$1+1),'Eingabe Spieleblätter'!I34,NA()) -> 0 | ... W34: =IF('Eingabe Spieleblätter'!W34=HLOOKUP($A34,'Eingabe Mannschaftsblätter'!$B$1:$AH$23,W$1+1),'Eingabe Spieleblätter'!W34,NA()) -> 0

Sheet Eingabe Spieleblätter
A1: Mannschaft | B1: 1 | C1: 2 | D1: 3 | E1: 4 | F1: 5 | G1: 6 | H1: 7 | I1: 8 | J1: 9 | K1: 10 | L1: 11 | M1: 12 | N1: 13 | O1: 14 | P1: 15 | Q1: 16 | R1: 17 | S1: 18 | T1: 19 | U1: 20 | V1: 21 | W1: 22
A2: 1 | B2: 10 | C2: 21 | D2: 13
A3: 2
A4: 3
A5: 4
A6: 5
A7: 6
A8: 7
A9: 8
A10: 9
A11: 10
A12: 11
A13: 12
A14: 13
... A34: 33

Sheet Eingabe Mannschaftsblätter
A1: Spiel | B1: 1 | C1: 2 | D1: 3 | E1: 4 | F1: 5 | G1: 6 | H1: 7 | I1: 8 | J1: 9 | K1: 10 | L1: 11 | M1: 12 | N1: 13 | O1: 14 | P1: 15 | Q1: 16 | R1: 17 | S1: 18 | T1: 19 | U1: 20 | V1: 21 | W1: 22 | X1: 23 | Y1: 24 | Z1: 25 | AA1: 26 | AB1: 27 | AC1: 28 | AD1: 29 | AE1: 30 | AF1: 31 | AG1: 32 | AH1: 33
A2: 1 | B2: 10
A3: 2 | B3: 21
A4: 3 | B4: 13
A5: 4
A6: 5
A7: 6
A8: 7
A9: 8
A10: 9
A11: 10
A12: 11
A13: 12
A14: 13
A15: 14
A16: 15
... A23: 22

Sheet SpieleStatik
A1: Basispunkte | C1: 100
A3: 2
A4: id | B4: Name | C4: Kriterium | D4: Faktor | E4: 1 | F4: 2 | G4: 3 | H4: 4 | I4: 5 | J4: 6 | K4: 7 | L4: 8 | M4: 9 | N4: 10 | O4: 11 | P4: 12 | Q4: 13 | R4: 14 | S4: 15 | T4: 16 | U4: 17 | V4: 18 | W4: 19 | X4: 20 | Y4: 21 | Z4: 22
A5: 1 | D5: 1 | E5: 34 | F5: 32 | G5: 30 | H5: 28 | I5: 26 | J5: 25 | K5: 23 | L5: 22 | M5: 20 | N5: 19 | O5: 18 | P5: 17 | Q5: 15 | R5: 14 | S5: 14 | T5: 13 | U5: 12 | V5: 11 | W5: 10 | X5: 10 | Y5: 9 | Z5: 8
A6: 2 | D6: 1 | E6: 34 | F6: 32 | G6: 30 | H6: 28 | I6: 26 | J6: 25 | K6: 23 | L6: 22 | M6: 20 | N6: 19 | O6: 18 | P6: 17 | Q6: 15 | R6: 14 | S6: 14 | T6: 13 | U6: 12 | V6: 11 | W6: 10 | X6: 10 | Y6: 9 | Z6: 8
A7: 3 | D7: 1 | E7: 34 | F7: 32 | G7: 30 | H7: 28 | I7: 26 | J7: 25 | K7: 23 | L7: 22 | M7: 20 | N7: 19 | O7: 18 | P7: 17 | Q7: 15 | R7: 14 | S7: 14 | T7: 13 | U7: 12 | V7: 11 | W7: 10 | X7: 10 | Y7: 9 | Z7: 8
A8: 4 | D8: 1 | E8: 34 | F8: 32 | G8: 30 | H8: 28 | I8: 26 | J8: 25 | K8: 23 | L8: 22 | M8: 20 | N8: 19 | O8: 18 | P8: 17 | Q8: 15 | R8: 14 | S8: 14 | T8: 13 | U8: 12 | V8: 11 | W8: 10 | X8: 10 | Y8: 9 | Z8: 8
A9: 5 | D9: 1 | E9: 34 | F9: 32 | G9: 30 | H9: 28 | I9: 26 | J9: 25 | K9: 23 | L9: 22 | M9: 20 | N9: 19 | O9: 18 | P9: 17 | Q9: 15 | R9: 14 | S9: 14 | T9: 13 | U9: 12 | V9: 11 | W9: 10 | X9: 10 | Y9: 9 | Z9: 8
A10: 6 | D10: 1 | E10: 34 | F10: 32 | G10: 30 | H10: 28 | I10: 26 | J10: 25 | K10: 23 | L10: 22 | M10: 20 | N10: 19 | O10: 18 | P10: 17 | Q10: 15 | R10: 14 | S10: 14 | T10: 13 | U10: 12 | V10: 11 | W10: 10 | X10: 10 | Y10: 9 | Z10: 8
A11: 7 | D11: 1 | E11: 34 | F11: 32 | G11: 30 | H11: 28 | I11: 26 | J11: 25 | K11: 23 | L11: 22 | M11: 20 | N11: 19 | O11: 18 | P11: 17 | Q11: 15 | R11: 14 | S11: 14 | T11: 13 | U11: 12 | V11: 11 | W11: 10 | X11: 10 | Y11: 9 | Z11: 8
A12: 8 | D12: 1 | E12: 34 | F12: 32 | G12: 30 | H12: 28 | I12: 26 | J12: 25 | K12: 23 | L12: 22 | M12: 20 | N12: 19 | O12: 18 | P12: 17 | Q12: 15 | R12: 14 | S12: 14 | T12: 13 | U12: 12 | V12: 11 | W12: 10 | X12: 10 | Y12: 9 | Z12: 8
A13: 9 | D13: 1 | E13: 34 | F13: 32 | G13: 30 | H13: 28 | I13: 26 | J13: 25 | K13: 23 | L13: 22 | M13: 20 | N13: 19 | O13: 18 | P13: 17 | Q13: 15 | R13: 14 | S13: 14 | T13: 13 | U13: 12 | V13: 11 | W13: 10 | X13: 10 | Y13: 9 | Z13: 8
A14: 10 | D14: 1 | E14: 34 | F14: 32 | G14: 30 | H14: 28 | I14: 26 | J14: 25 | K14: 23 | L14: 22 | M14: 20 | N14: 19 | O14: 18 | P14: 17 | Q14: 15 | R14: 14 | S14: 14 | T14: 13 | U14: 12 | V14: 11 | W14: 10 | X14: 10 | Y14: 9 | Z14: 8
A15: 11 | D15: 1 | E15: 34 | F15: 32 | G15: 30 | H15: 28 | I15: 26 | J15: 25 | K15: 23 | L15: 22 | M15: 20 | N15: 19 | O15: 18 | P15: 17 | Q15: 15 | R15: 14 | S15: 14 | T15: 13 | U15: 12 | V15: 11 | W15: 10 | X15: 10 | Y15: 9 | Z15: 8
A16: 12 | D16: 1 | E16: 34 | F16: 32 | G16: 30 | H16: 28 | I16: 26 | J16: 25 | K16: 23 | L16: 22 | M16: 20 | N16: 19 | O16: 18 | P16: 17 | Q16: 15 | R16: 14 | S16: 14 | T16: 13 | U16: 12 | V16: 11 | W16: 10 | X16: 10 | Y16: 9 | Z16: 8
... A34: 30 | D34: 1 | E34: 34 | F34: 32 | G34: 30 | H34: 28 | I34: 26 | J34: 25 | K34: 23 | L34: 22 | M34: 20 | N34: 19 | O34: 18 | P34: 17 | Q34: 15 | R34: 14 | S34: 14 | T34: 13 | U34: 12 | V34: 11 | W34: 10 | X34: 10 | Y34: 9 | Z34: 8
A35: 31
A36: 32
A37: 33

Sheet MannschaftenStatik
A1: id | B1: Team-Name | C1: Frauenteam
A2: 1
A3: 2
A4: 3
A5: 4
A6: 5
A7: 6
A8: 7
A9: 8
A10: 9
A11: 10
A12: 11
A13: 12
... A34: 33
