Workbook

Sheet Stat.
A1: Eingansdatum | B1: Erledigungsdatum | C1: FORM. NEU
A2: 42358 | C2: =COUNTIFS(Tabelle3[Eingansdatum],"<="&#REF!,Tabelle3[Erledigungsdatum],">"&#REF!)+COUNTIFS(Tabelle3[Eingansdatum],"<="&#REF!,Tabelle3[Erledigungsdatum],"",#REF!,"o") -> #REF!
A3: 42359 | B3: 42368 | C3: =COUNTIFS(Tabelle3[Eingansdatum],"<="&#REF!,Tabelle3[Erledigungsdatum],">"&#REF!)+COUNTIFS(Tabelle3[Eingansdatum],"<="&#REF!,Tabelle3[Erledigungsdatum],"",#REF!,"o") -> #REF!
A4: 42360 | B4: 42363 | C4: =COUNTIFS(Tabelle3[Eingansdatum],"<="&#REF!,Tabelle3[Erledigungsdatum],">"&#REF!)+COUNTIFS(Tabelle3[Eingansdatum],"<="&#REF!,Tabelle3[Erledigungsdatum],"",#REF!,"o") -> #REF!
A5: 42361 | C5: =COUNTIFS(Tabelle3[Eingansdatum],"<="&#REF!,Tabelle3[Erledigungsdatum],">"&#REF!)+COUNTIFS(Tabelle3[Eingansdatum],"<="&#REF!,Tabelle3[Erledigungsdatum],"",#REF!,"o") -> #REF!
A6: 42362 | B6: 42368 | C6: =COUNTIFS(Tabelle3[Eingansdatum],"<="&#REF!,Tabelle3[Erledigungsdatum],">"&#REF!)+COUNTIFS(Tabelle3[Eingansdatum],"<="&#REF!,Tabelle3[Erledigungsdatum],"",#REF!,"o") -> #REF!
A7: 42363 | B7: 42381 | C7: =COUNTIFS(Tabelle3[Eingansdatum],"<="&#REF!,Tabelle3[Erledigungsdatum],">"&#REF!)+COUNTIFS(Tabelle3[Eingansdatum],"<="&#REF!,Tabelle3[Erledigungsdatum],"",#REF!,"o") -> #REF!
A8: 42364 | B8: 42381 | C8: =COUNTIFS(Tabelle3[Eingansdatum],"<="&#REF!,Tabelle3[Erledigungsdatum],">"&#REF!)+COUNTIFS(Tabelle3[Eingansdatum],"<="&#REF!,Tabelle3[Erledigungsdatum],"",#REF!,"o") -> #REF!
A9: 42365 | B9: 42367 | C9: =COUNTIFS(Tabelle3[Eingansdatum],"<="&#REF!,Tabelle3[Erledigungsdatum],">"&#REF!)+COUNTIFS(Tabelle3[Eingansdatum],"<="&#REF!,Tabelle3[Erledigungsdatum],"",#REF!,"o") -> #REF!
A10: 42366 | B10: 42368 | C10: =COUNTIFS(Tabelle3[Eingansdatum],"<="&#REF!,Tabelle3[Erledigungsdatum],">"&#REF!)+COUNTIFS(Tabelle3[Eingansdatum],"<="&#REF!,Tabelle3[Erledigungsdatum],"",#REF!,"o") -> #REF!
A11: 42367 | B11: 42370 | C11: =COUNTIFS(Tabelle3[Eingansdatum],"<="&#REF!,Tabelle3[Erledigungsdatum],">"&#REF!)+COUNTIFS(Tabelle3[Eingansdatum],"<="&#REF!,Tabelle3[Erledigungsdatum],"",#REF!,"o") -> #REF!
A12: 42368 | B12: 42368 | C12: =COUNTIFS(Tabelle3[Eingansdatum],"<="&#REF!,Tabelle3[Erledigungsdatum],">"&#REF!)+COUNTIFS(Tabelle3[Eingansdatum],"<="&#REF!,Tabelle3[Erledigungsdatum],"",#REF!,"o") -> #REF!
A13: 42371 | B13: 42383 | C13: =COUNTIFS(Tabelle3[Eingansdatum],"<="&#REF!,Tabelle3[Erledigungsdatum],">"&#REF!)+COUNTIFS(Tabelle3[Eingansdatum],"<="&#REF!,Tabelle3[Erledigungsdatum],"",#REF!,"o") -> #REF!
A14: 42376 | C14: =COUNTIFS(Tabelle3[Eingansdatum],"<="&#REF!,Tabelle3[Erledigungsdatum],">"&#REF!)+COUNTIFS(Tabelle3[Eingansdatum],"<="&#REF!,Tabelle3[Erledigungsdatum],"",#REF!,"o") -> #REF!
A15: 42377 | C15: =COUNTIFS(Tabelle3[Eingansdatum],"<="&#REF!,Tabelle3[Erledigungsdatum],">"&#REF!)+COUNTIFS(Tabelle3[Eingansdatum],"<="&#REF!,Tabelle3[Erledigungsdatum],"",#REF!,"o") -> #REF!
A16: 42377 | C16: =COUNTIFS(Tabelle3[Eingansdatum],"<="&#REF!,Tabelle3[Erledigungsdatum],">"&#REF!)+COUNTIFS(Tabelle3[Eingansdatum],"<="&#REF!,Tabelle3[Erledigungsdatum],"",#REF!,"o") -> #REF!

Sheet Diagramm
A1: =TODAY() -> 42401 | B1: =COUNTIFS(Stat.!$A$2:$A$16,"<="&A1,Stat.!$B$2:$B$16,">"&A1)+COUNTIFS(Stat.!$A$2:$A$16,"<="&A1,Stat.!$B$2:$B$16,"") -> 5
A2: =TODAY()-ROW(A1) -> 42400 | B2: =COUNTIFS(Stat.!$A$2:$A$16,"<="&A2,Stat.!$B$2:$B$16,">"&A2)+COUNTIFS(Stat.!$A$2:$A$16,"<="&A2,Stat.!$B$2:$B$16,"") -> 5
A3: =TODAY()-ROW(A2) -> 42399 | B3: =COUNTIFS(Stat.!$A$2:$A$16,"<="&A3,Stat.!$B$2:$B$16,">"&A3)+COUNTIFS(Stat.!$A$2:$A$16,"<="&A3,Stat.!$B$2:$B$16,"") -> 5
A4: =TODAY()-ROW(A3) -> 42398 | B4: =COUNTIFS(Stat.!$A$2:$A$16,"<="&A4,Stat.!$B$2:$B$16,">"&A4)+COUNTIFS(Stat.!$A$2:$A$16,"<="&A4,Stat.!$B$2:$B$16,"") -> 5
A5: =TODAY()-ROW(A4) -> 42397 | B5: =COUNTIFS(Stat.!$A$2:$A$16,"<="&A5,Stat.!$B$2:$B$16,">"&A5)+COUNTIFS(Stat.!$A$2:$A$16,"<="&A5,Stat.!$B$2:$B$16,"") -> 5
A6: =TODAY()-ROW(A5) -> 42396 | B6: =COUNTIFS(Stat.!$A$2:$A$16,"<="&A6,Stat.!$B$2:$B$16,">"&A6)+COUNTIFS(Stat.!$A$2:$A$16,"<="&A6,Stat.!$B$2:$B$16,"") -> 5
A7: =TODAY()-ROW(A6) -> 42395 | B7: =COUNTIFS(Stat.!$A$2:$A$16,"<="&A7,Stat.!$B$2:$B$16,">"&A7)+COUNTIFS(Stat.!$A$2:$A$16,"<="&A7,Stat.!$B$2:$B$16,"") -> 5
A8: =TODAY()-ROW(A7) -> 42394 | B8: =COUNTIFS(Stat.!$A$2:$A$16,"<="&A8,Stat.!$B$2:$B$16,">"&A8)+COUNTIFS(Stat.!$A$2:$A$16,"<="&A8,Stat.!$B$2:$B$16,"") -> 5
A9: =TODAY()-ROW(A8) -> 42393 | B9: =COUNTIFS(Stat.!$A$2:$A$16,"<="&A9,Stat.!$B$2:$B$16,">"&A9)+COUNTIFS(Stat.!$A$2:$A$16,"<="&A9,Stat.!$B$2:$B$16,"") -> 5
A10: =TODAY()-ROW(A9) -> 42392 | B10: =COUNTIFS(Stat.!$A$2:$A$16,"<="&A10,Stat.!$B$2:$B$16,">"&A10)+COUNTIFS(Stat.!$A$2:$A$16,"<="&A10,Stat.!$B$2:$B$16,"") -> 5
A11: =TODAY()-ROW(A10) -> 42391 | B11: =COUNTIFS(Stat.!$A$2:$A$16,"<="&A11,Stat.!$B$2:$B$16,">"&A11)+COUNTIFS(Stat.!$A$2:$A$16,"<="&A11,Stat.!$B$2:$B$16,"") -> 5
A12: =TODAY()-ROW(A11) -> 42390 | B12: =COUNTIFS(Stat.!$A$2:$A$16,"<="&A12,Stat.!$B$2:$B$16,">"&A12)+COUNTIFS(Stat.!$A$2:$A$16,"<="&A12,Stat.!$B$2:$B$16,"") -> 5
A13: =TODAY()-ROW(A12) -> 42389 | B13: =COUNTIFS(Stat.!$A$2:$A$16,"<="&A13,Stat.!$B$2:$B$16,">"&A13)+COUNTIFS(Stat.!$A$2:$A$16,"<="&A13,Stat.!$B$2:$B$16,"") -> 5
... A32: =TODAY()-ROW(A31) -> 42370 | B32: =COUNTIFS(Stat.!$A$2:$A$16,"<="&A32,Stat.!$B$2:$B$16,">"&A32)+COUNTIFS(Stat.!$A$2:$A$16,"<="&A32,Stat.!$B$2:$B$16,"") -> 4
