Workbook

Sheet Mitarbeiter
C1: Jahresauswertung
A2: Name | B2: Vorname | C2: Dienst statt Ruhe | D2: Ruhe statt Dienst | E2: DT MA | F2: DT Dispo
A3: aa | B3: a | C3: =SUM(Januar!AH3+Februar!AF3+März!AH3+April!AG3+Mai!AH3+Juni!AG3+Juli!AH3+August!AH3+September!AG3+Oktober!AH3+November!AG3+Dezember!AH3) -> 0 | D3: =SUM(Januar!AI3+Februar!AG3+März!AI3+April!AH3+Mai!AI3+Juni!AH3+Juli!AI3+August!AI3+September!AH3+Oktober!AI3+November!AH3+Dezember!AI3) -> 0 | E3: =SUM(Januar!AJ3+Februar!AH3+März!AJ3+April!AI3+Mai!AJ3+Juni!AI3+Juli!AJ3+August!AJ3+September!AI3+Oktober!AJ3+November!AI3+Dezember!AJ3) -> 0 | F3: =SUM(Januar!AK3+Februar!AI3+März!AK3+April!AJ3+Mai!AK3+Juni!AJ3+Juli!AK3+August!AK3+September!AJ3+Oktober!AK3+November!AJ3+Dezember!AK3) -> 0
A4: bb | B4: b | C4: =SUM(Januar!AH4+Februar!AF4+März!AH4+April!AG4+Mai!AH4+Juni!AG4+Juli!AH4+August!AH4+September!AG4+Oktober!AH4+November!AG4+Dezember!AH4) -> 0 | D4: =SUM(Januar!AI4+Februar!AG4+März!AI4+April!AH4+Mai!AI4+Juni!AH4+Juli!AI4+August!AI4+September!AH4+Oktober!AI4+November!AH4+Dezember!AI4) -> 0 | E4: =SUM(Januar!AJ4+Februar!AH4+März!AJ4+April!AI4+Mai!AJ4+Juni!AI4+Juli!AJ4+August!AJ4+September!AI4+Oktober!AJ4+November!AI4+Dezember!AJ4) -> 0 | F4: =SUM(Januar!AK4+Februar!AI4+März!AK4+April!AJ4+Mai!AK4+Juni!AJ4+Juli!AK4+August!AK4+September!AJ4+Oktober!AK4+November!AJ4+Dezember!AK4) -> 0
A5: cc | B5: c | C5: =SUM(Januar!AH5+Februar!AF5+März!AH5+April!AG5+Mai!AH5+Juni!AG5+Juli!AH5+August!AH5+September!AG5+Oktober!AH5+November!AG5+Dezember!AH5) -> 0 | D5: =SUM(Januar!AI5+Februar!AG5+März!AI5+April!AH5+Mai!AI5+Juni!AH5+Juli!AI5+August!AI5+September!AH5+Oktober!AI5+November!AH5+Dezember!AI5) -> 0 | E5: =SUM(Januar!AJ5+Februar!AH5+März!AJ5+April!AI5+Mai!AJ5+Juni!AI5+Juli!AJ5+August!AJ5+September!AI5+Oktober!AJ5+November!AI5+Dezember!AJ5) -> 0 | F5: =SUM(Januar!AK5+Februar!AI5+März!AK5+April!AJ5+Mai!AK5+Juni!AJ5+Juli!AK5+August!AK5+September!AJ5+Oktober!AK5+November!AJ5+Dezember!AK5) -> 0
A6: dd | B6: d | C6: =SUM(Januar!AH6+Februar!AF6+März!AH6+April!AG6+Mai!AH6+Juni!AG6+Juli!AH6+August!AH6+September!AG6+Oktober!AH6+November!AG6+Dezember!AH6) -> 0 | D6: =SUM(Januar!AI6+Februar!AG6+März!AI6+April!AH6+Mai!AI6+Juni!AH6+Juli!AI6+August!AI6+September!AH6+Oktober!AI6+November!AH6+Dezember!AI6) -> 0 | E6: =SUM(Januar!AJ6+Februar!AH6+März!AJ6+April!AI6+Mai!AJ6+Juni!AI6+Juli!AJ6+August!AJ6+September!AI6+Oktober!AJ6+November!AI6+Dezember!AJ6) -> 0 | F6: =SUM(Januar!AK6+Februar!AI6+März!AK6+April!AJ6+Mai!AK6+Juni!AJ6+Juli!AK6+August!AK6+September!AJ6+Oktober!AK6+November!AJ6+Dezember!AK6) -> 0
C7: =SUM(Januar!AH7+Februar!AF7+März!AH7+April!AG7+Mai!AH7+Juni!AG7+Juli!AH7+August!AH7+September!AG7+Oktober!AH7+November!AG7+Dezember!AH7) -> 0 | D7: =SUM(Januar!AI7+Februar!AG7+März!AI7+April!AH7+Mai!AI7+Juni!AH7+Juli!AI7+August!AI7+September!AH7+Oktober!AI7+November!AH7+Dezember!AI7) -> 0 | E7: =SUM(Januar!AJ7+Februar!AH7+März!AJ7+April!AI7+Mai!AJ7+Juni!AI7+Juli!AJ7+August!AJ7+September!AI7+Oktober!AJ7+November!AI7+Dezember!AJ7) -> 0 | F7: =SUM(Januar!AK7+Februar!AI7+März!AK7+April!AJ7+Mai!AK7+Juni!AJ7+Juli!AK7+August!AK7+September!AJ7+Oktober!AK7+November!AJ7+Dezember!AK7) -> 0
C8: =SUM(Januar!AH8+Februar!AF8+März!AH8+April!AG8+Mai!AH8+Juni!AG8+Juli!AH8+August!AH8+September!AG8+Oktober!AH8+November!AG8+Dezember!AH8) -> 0 | D8: =SUM(Januar!AI8+Februar!AG8+März!AI8+April!AH8+Mai!AI8+Juni!AH8+Juli!AI8+August!AI8+September!AH8+Oktober!AI8+November!AH8+Dezember!AI8) -> 0 | E8: =SUM(Januar!AJ8+Februar!AH8+März!AJ8+April!AI8+Mai!AJ8+Juni!AI8+Juli!AJ8+August!AJ8+September!AI8+Oktober!AJ8+November!AI8+Dezember!AJ8) -> 0 | F8: =SUM(Januar!AK8+Februar!AI8+März!AK8+April!AJ8+Mai!AK8+Juni!AJ8+Juli!AK8+August!AK8+September!AJ8+Oktober!AK8+November!AJ8+Dezember!AK8) -> 0
C9: =SUM(Januar!AH9+Februar!AF9+März!AH9+April!AG9+Mai!AH9+Juni!AG9+Juli!AH9+August!AH9+September!AG9+Oktober!AH9+November!AG9+Dezember!AH9) -> 0 | D9: =SUM(Januar!AI9+Februar!AG9+März!AI9+April!AH9+Mai!AI9+Juni!AH9+Juli!AI9+August!AI9+September!AH9+Oktober!AI9+November!AH9+Dezember!AI9) -> 0 | E9: =SUM(Januar!AJ9+Februar!AH9+März!AJ9+April!AI9+Mai!AJ9+Juni!AI9+Juli!AJ9+August!AJ9+September!AI9+Oktober!AJ9+November!AI9+Dezember!AJ9) -> 0 | F9: =SUM(Januar!AK9+Februar!AI9+März!AK9+April!AJ9+Mai!AK9+Juni!AJ9+Juli!AK9+August!AK9+September!AJ9+Oktober!AK9+November!AJ9+Dezember!AK9) -> 0
C10: =SUM(Januar!AH10+Februar!AF10+März!AH10+April!AG10+Mai!AH10+Juni!AG10+Juli!AH10+August!AH10+September!AG10+Oktober!AH10+November!AG10+Dezember!AH10) -> 0 | D10: =SUM(Januar!AI10+Februar!AG10+März!AI10+April!AH10+Mai!AI10+Juni!AH10+Juli!AI10+August!AI10+September!AH10+Oktober!AI10+November!AH10+Dezember!AI10) -> 0 | E10: =SUM(Januar!AJ10+Februar!AH10+März!AJ10+April!AI10+Mai!AJ10+Juni!AI10+Juli!AJ10+August!AJ10+September!AI10+Oktober!AJ10+November!AI10+Dezember!AJ10) -> 0 | F10: =SUM(Januar!AK10+Februar!AI10+März!AK10+April!AJ10+Mai!AK10+Juni!AJ10+Juli!AK10+August!AK10+September!AJ10+Oktober!AK10+November!AJ10+Dezember!AK10) -> 0
C11: =SUM(Januar!AH11+Februar!AF11+März!AH11+April!AG11+Mai!AH11+Juni!AG11+Juli!AH11+August!AH11+September!AG11+Oktober!AH11+November!AG11+Dezember!AH11) -> 0 | D11: =SUM(Januar!AI11+Februar!AG11+März!AI11+April!AH11+Mai!AI11+Juni!AH11+Juli!AI11+August!AI11+September!AH11+Oktober!AI11+November!AH11+Dezember!AI11) -> 0 | E11: =SUM(Januar!AJ11+Februar!AH11+März!AJ11+April!AI11+Mai!AJ11+Juni!AI11+Juli!AJ11+August!AJ11+September!AI11+Oktober!AJ11+November!AI11+Dezember!AJ11) -> 0 | F11: =SUM(Januar!AK11+Februar!AI11+März!AK11+April!AJ11+Mai!AK11+Juni!AJ11+Juli!AK11+August!AK11+September!AJ11+Oktober!AK11+November!AJ11+Dezember!AK11) -> 0
C12: =SUM(Januar!AH12+Februar!AF12+März!AH12+April!AG12+Mai!AH12+Juni!AG12+Juli!AH12+August!AH12+September!AG12+Oktober!AH12+November!AG12+Dezember!AH12) -> 0 | D12: =SUM(Januar!AI12+Februar!AG12+März!AI12+April!AH12+Mai!AI12+Juni!AH12+Juli!AI12+August!AI12+September!AH12+Oktober!AI12+November!AH12+Dezember!AI12) -> 0 | E12: =SUM(Januar!AJ12+Februar!AH12+März!AJ12+April!AI12+Mai!AJ12+Juni!AI12+Juli!AJ12+August!AJ12+September!AI12+Oktober!AJ12+November!AI12+Dezember!AJ12) -> 0 | F12: =SUM(Januar!AK12+Februar!AI12+März!AK12+April!AJ12+Mai!AK12+Juni!AJ12+Juli!AK12+August!AK12+September!AJ12+Oktober!AK12+November!AJ12+Dezember!AK12) -> 0
C13: =SUM(Januar!AH13+Februar!AF13+März!AH13+April!AG13+Mai!AH13+Juni!AG13+Juli!AH13+August!AH13+September!AG13+Oktober!AH13+November!AG13+Dezember!AH13) -> 0 | D13: =SUM(Januar!AI13+Februar!AG13+März!AI13+April!AH13+Mai!AI13+Juni!AH13+Juli!AI13+August!AI13+September!AH13+Oktober!AI13+November!AH13+Dezember!AI13) -> 0 | E13: =SUM(Januar!AJ13+Februar!AH13+März!AJ13+April!AI13+Mai!AJ13+Juni!AI13+Juli!AJ13+August!AJ13+September!AI13+Oktober!AJ13+November!AI13+Dezember!AJ13) -> 0 | F13: =SUM(Januar!AK13+Februar!AI13+März!AK13+April!AJ13+Mai!AK13+Juni!AJ13+Juli!AK13+August!AK13+September!AJ13+Oktober!AK13+November!AJ13+Dezember!AK13) -> 0
C14: =SUM(Januar!AH14+Februar!AF14+März!AH14+April!AG14+Mai!AH14+Juni!AG14+Juli!AH14+August!AH14+September!AG14+Oktober!AH14+November!AG14+Dezember!AH14) -> 0 | D14: =SUM(Januar!AI14+Februar!AG14+März!AI14+April!AH14+Mai!AI14+Juni!AH14+Juli!AI14+August!AI14+September!AH14+Oktober!AI14+November!AH14+Dezember!AI14) -> 0 | E14: =SUM(Januar!AJ14+Februar!AH14+März!AJ14+April!AI14+Mai!AJ14+Juni!AI14+Juli!AJ14+August!AJ14+September!AI14+Oktober!AJ14+November!AI14+Dezember!AJ14) -> 0 | F14: =SUM(Januar!AK14+Februar!AI14+März!AK14+April!AJ14+Mai!AK14+Juni!AJ14+Juli!AK14+August!AK14+September!AJ14+Oktober!AK14+November!AJ14+Dezember!AK14) -> 0
C15: =SUM(Januar!AH15+Februar!AF15+März!AH15+April!AG15+Mai!AH15+Juni!AG15+Juli!AH15+August!AH15+September!AG15+Oktober!AH15+November!AG15+Dezember!AH15) -> 0 | D15: =SUM(Januar!AI15+Februar!AG15+März!AI15+April!AH15+Mai!AI15+Juni!AH15+Juli!AI15+August!AI15+September!AH15+Oktober!AI15+November!AH15+Dezember!AI15) -> 0 | E15: =SUM(Januar!AJ15+Februar!AH15+März!AJ15+April!AI15+Mai!AJ15+Juni!AI15+Juli!AJ15+August!AJ15+September!AI15+Oktober!AJ15+November!AI15+Dezember!AJ15) -> 0 | F15: =SUM(Januar!AK15+Februar!AI15+März!AK15+April!AJ15+Mai!AK15+Juni!AJ15+Juli!AK15+August!AK15+September!AJ15+Oktober!AK15+November!AJ15+Dezember!AK15) -> 0
C16: =SUM(Januar!AH16+Februar!AF16+März!AH16+April!AG16+Mai!AH16+Juni!AG16+Juli!AH16+August!AH16+September!AG16+Oktober!AH16+November!AG16+Dezember!AH16) -> 0 | D16: =SUM(Januar!AI16+Februar!AG16+März!AI16+April!AH16+Mai!AI16+Juni!AH16+Juli!AI16+August!AI16+September!AH16+Oktober!AI16+November!AH16+Dezember!AI16) -> 0 | E16: =SUM(Januar!AJ16+Februar!AH16+März!AJ16+April!AI16+Mai!AJ16+Juni!AI16+Juli!AJ16+August!AJ16+September!AI16+Oktober!AJ16+November!AI16+Dezember!AJ16) -> 0 | F16: =SUM(Januar!AK16+Februar!AI16+März!AK16+April!AJ16+Mai!AK16+Juni!AJ16+Juli!AK16+August!AK16+September!AJ16+Oktober!AK16+November!AJ16+Dezember!AK16) -> 0
C17: =SUM(Januar!AH17+Februar!AF17+März!AH17+April!AG17+Mai!AH17+Juni!AG17+Juli!AH17+August!AH17+September!AG17+Oktober!AH17+November!AG17+Dezember!AH17) -> 0 | D17: =SUM(Januar!AI17+Februar!AG17+März!AI17+April!AH17+Mai!AI17+Juni!AH17+Juli!AI17+August!AI17+September!AH17+Oktober!AI17+November!AH17+Dezember!AI17) -> 0 | E17: =SUM(Januar!AJ17+Februar!AH17+März!AJ17+April!AI17+Mai!AJ17+Juni!AI17+Juli!AJ17+August!AJ17+September!AI17+Oktober!AJ17+November!AI17+Dezember!AJ17) -> 0 | F17: =SUM(Januar!AK17+Februar!AI17+März!AK17+April!AJ17+Mai!AK17+Juni!AJ17+Juli!AK17+August!AK17+September!AJ17+Oktober!AK17+November!AJ17+Dezember!AK17) -> 0
C18: =SUM(Januar!AH18+Februar!AF18+März!AH18+April!AG18+Mai!AH18+Juni!AG18+Juli!AH18+August!AH18+September!AG18+Oktober!AH18+November!AG18+Dezember!AH18) -> 0 | D18: =SUM(Januar!AI18+Februar!AG18+März!AI18+April!AH18+Mai!AI18+Juni!AH18+Juli!AI18+August!AI18+September!AH18+Oktober!AI18+November!AH18+Dezember!AI18) -> 0 | E18: =SUM(Januar!AJ18+Februar!AH18+März!AJ18+April!AI18+Mai!AJ18+Juni!AI18+Juli!AJ18+August!AJ18+September!AI18+Oktober!AJ18+November!AI18+Dezember!AJ18) -> 0 | F18: =SUM(Januar!AK18+Februar!AI18+März!AK18+April!AJ18+Mai!AK18+Juni!AJ18+Juli!AK18+August!AK18+September!AJ18+Oktober!AK18+November!AJ18+Dezember!AK18) -> 0
... C203: =SUM(Januar!AH203+Februar!AF203+März!AH203+April!AG203+Mai!AH203+Juni!AG203+Juli!AH203+August!AH203+September!AG203+Oktober!AH203+November!AG203+Dezember!AH203) -> 0 | D203: =SUM(Januar!AI203+Februar!AG203+März!AI203+April!AH203+Mai!AI203+Juni!AH203+Juli!AI203+August!AI203+September!AH203+Oktober!AI203+November!AH203+Dezember!AI203) -> 0 | E203: =SUM(Januar!AJ203+Februar!AH203+März!AJ203+April!AI203+Mai!AJ203+Juni!AI203+Juli!AJ203+August!AJ203+September!AI203+Oktober!AJ203+November!AI203+Dezember!AJ203) -> 0 | F203: =SUM(Januar!AK203+Februar!AI203+März!AK203+April!AJ203+Mai!AK203+Juni!AJ203+Juli!AK203+August!AK203+September!AJ203+Oktober!AK203+November!AJ203+Dezember!AK203) -> 0

Sheet Januar
C1: Januar
A2: Name | B2: Vorname | C2: 01 | D2: 02 | E2: 03 | F2: 04 | G2: 05 | H2: 06 | I2: 07 | J2: 08 | K2: 09 | L2: 10 | M2: 11 | N2: 12 | O2: 13 | P2: 14 | Q2: 15 | R2: 16 | S2: 17 | T2: 18 | U2: 19 | V2: 20 | W2: 21 | X2: 22 | Y2: 23 | Z2: 24 | AA2: 25 | AB2: 26 | AC2: 27 | AD2: 28 | AE2: 29 | AF2: 30 | AG2: 31 | AH2: Dienst statt Ruhe | AI2: Ruhe statt Dienst | AJ2: DT MA | AK2: DT Dispo
AH3: =COUNTIF(C3:AG3,"Dienst statt Ruhe") -> 0 | AI3: =COUNTIF(C3:AG3,"Ruhe statt Dienst") -> 0 | AJ3: =COUNTIF(C3:AG3,"DT MA") -> 0 | AK3: =COUNTIF(C3:AG3,"DT Dispo") -> 0
AH4: =COUNTIF(C4:AG4,"Dienst statt Ruhe") -> 0 | AI4: =COUNTIF(C4:AG4,"Ruhe statt Dienst") -> 0 | AJ4: =COUNTIF(C4:AG4,"DT MA") -> 0 | AK4: =COUNTIF(C4:AG4,"DT Dispo") -> 0
AH5: =COUNTIF(C5:AG5,"Dienst statt Ruhe") -> 0 | AI5: =COUNTIF(C5:AG5,"Ruhe statt Dienst") -> 0 | AJ5: =COUNTIF(C5:AG5,"DT MA") -> 0 | AK5: =COUNTIF(C5:AG5,"DT Dispo") -> 0
AH6: =COUNTIF(C6:AG6,"Dienst statt Ruhe") -> 0 | AI6: =COUNTIF(C6:AG6,"Ruhe statt Dienst") -> 0 | AJ6: =COUNTIF(C6:AG6,"DT MA") -> 0 | AK6: =COUNTIF(C6:AG6,"DT Dispo") -> 0
AH7: =COUNTIF(C7:AG7,"Dienst statt Ruhe") -> 0 | AI7: =COUNTIF(C7:AG7,"Ruhe statt Dienst") -> 0 | AJ7: =COUNTIF(C7:AG7,"DT MA") -> 0 | AK7: =COUNTIF(C7:AG7,"DT Dispo") -> 0
AH8: =COUNTIF(C8:AG8,"Dienst statt Ruhe") -> 0 | AI8: =COUNTIF(C8:AG8,"Ruhe statt Dienst") -> 0 | AJ8: =COUNTIF(C8:AG8,"DT MA") -> 0 | AK8: =COUNTIF(C8:AG8,"DT Dispo") -> 0
AH9: =COUNTIF(C9:AG9,"Dienst statt Ruhe") -> 0 | AI9: =COUNTIF(C9:AG9,"Ruhe statt Dienst") -> 0 | AJ9: =COUNTIF(C9:AG9,"DT MA") -> 0 | AK9: =COUNTIF(C9:AG9,"DT Dispo") -> 0
AH10: =COUNTIF(C10:AG10,"Dienst statt Ruhe") -> 0 | AI10: =COUNTIF(C10:AG10,"Ruhe statt Dienst") -> 0 | AJ10: =COUNTIF(C10:AG10,"DT MA") -> 0 | AK10: =COUNTIF(C10:AG10,"DT Dispo") -> 0
AH11: =COUNTIF(C11:AG11,"Dienst statt Ruhe") -> 0 | AI11: =COUNTIF(C11:AG11,"Ruhe statt Dienst") -> 0 | AJ11: =COUNTIF(C11:AG11,"DT MA") -> 0 | AK11: =COUNTIF(C11:AG11,"DT Dispo") -> 0
AH12: =COUNTIF(C12:AG12,"Dienst statt Ruhe") -> 0 | AI12: =COUNTIF(C12:AG12,"Ruhe statt Dienst") -> 0 | AJ12: =COUNTIF(C12:AG12,"DT MA") -> 0 | AK12: =COUNTIF(C12:AG12,"DT Dispo") -> 0
AH13: =COUNTIF(C13:AG13,"Dienst statt Ruhe") -> 0 | AI13: =COUNTIF(C13:AG13,"Ruhe statt Dienst") -> 0 | AJ13: =COUNTIF(C13:AG13,"DT MA") -> 0 | AK13: =COUNTIF(C13:AG13,"DT Dispo") -> 0
AH14: =COUNTIF(C14:AG14,"Dienst statt Ruhe") -> 0 | AI14: =COUNTIF(C14:AG14,"Ruhe statt Dienst") -> 0 | AJ14: =COUNTIF(C14:AG14,"DT MA") -> 0 | AK14: =COUNTIF(C14:AG14,"DT Dispo") -> 0
... AH203: =COUNTIF(C203:AG203,"Dienst statt Ruhe") -> 0 | AI203: =COUNTIF(C203:AG203,"Ruhe statt Dienst") -> 0 | AJ203: =COUNTIF(C203:AG203,"DT MA") -> 0 | AK203: =COUNTIF(C203:AG203,"DT Dispo") -> 0

Sheet Februar
C1: Februar
A2: Name | B2: Vorname | C2: 01 | D2: 02 | E2: 03 | F2: 04 | G2: 05 | H2: 06 | I2: 07 | J2: 08 | K2: 09 | L2: 10 | M2: 11 | N2: 12 | O2: 13 | P2: 14 | Q2: 15 | R2: 16 | S2: 17 | T2: 18 | U2: 19 | V2: 20 | W2: 21 | X2: 22 | Y2: 23 | Z2: 24 | AA2: 25 | AB2: 26 | AC2: 27 | AD2: 28 | AE2: 29 | AF2: Dienst statt Ruhe | AG2: Ruhe statt Dienst | AH2: DT MA | AI2: DT Dispo
AF3: =COUNTIF(C3:AE3,"Dienst statt Ruhe") -> 0 | AG3: =COUNTIF(C3:AE3,"Ruhe statt Dienst") -> 0 | AH3: =COUNTIF(C3:AE3,"DT MA") -> 0 | AI3: =COUNTIF(C3:AE3,"DT Dispo") -> 0
AF4: =COUNTIF(C4:AE4,"Dienst statt Ruhe") -> 0 | AG4: =COUNTIF(C4:AE4,"Ruhe statt Dienst") -> 0 | AH4: =COUNTIF(C4:AE4,"DT MA") -> 0 | AI4: =COUNTIF(C4:AE4,"DT Dispo") -> 0
AF5: =COUNTIF(C5:AE5,"Dienst statt Ruhe") -> 0 | AG5: =COUNTIF(C5:AE5,"Ruhe statt Dienst") -> 0 | AH5: =COUNTIF(C5:AE5,"DT MA") -> 0 | AI5: =COUNTIF(C5:AE5,"DT Dispo") -> 0
AF6: =COUNTIF(C6:AE6,"Dienst statt Ruhe") -> 0 | AG6: =COUNTIF(C6:AE6,"Ruhe statt Dienst") -> 0 | AH6: =COUNTIF(C6:AE6,"DT MA") -> 0 | AI6: =COUNTIF(C6:AE6,"DT Dispo") -> 0
AF7: =COUNTIF(C7:AE7,"Dienst statt Ruhe") -> 0 | AG7: =COUNTIF(C7:AE7,"Ruhe statt Dienst") -> 0 | AH7: =COUNTIF(C7:AE7,"DT MA") -> 0 | AI7: =COUNTIF(C7:AE7,"DT Dispo") -> 0
AF8: =COUNTIF(C8:AE8,"Dienst statt Ruhe") -> 0 | AG8: =COUNTIF(C8:AE8,"Ruhe statt Dienst") -> 0 | AH8: =COUNTIF(C8:AE8,"DT MA") -> 0 | AI8: =COUNTIF(C8:AE8,"DT Dispo") -> 0
AF9: =COUNTIF(C9:AE9,"Dienst statt Ruhe") -> 0 | AG9: =COUNTIF(C9:AE9,"Ruhe statt Dienst") -> 0 | AH9: =COUNTIF(C9:AE9,"DT MA") -> 0 | AI9: =COUNTIF(C9:AE9,"DT Dispo") -> 0
AF10: =COUNTIF(C10:AE10,"Dienst statt Ruhe") -> 0 | AG10: =COUNTIF(C10:AE10,"Ruhe statt Dienst") -> 0 | AH10: =COUNTIF(C10:AE10,"DT MA") -> 0 | AI10: =COUNTIF(C10:AE10,"DT Dispo") -> 0
AF11: =COUNTIF(C11:AE11,"Dienst statt Ruhe") -> 0 | AG11: =COUNTIF(C11:AE11,"Ruhe statt Dienst") -> 0 | AH11: =COUNTIF(C11:AE11,"DT MA") -> 0 | AI11: =COUNTIF(C11:AE11,"DT Dispo") -> 0
AF12: =COUNTIF(C12:AE12,"Dienst statt Ruhe") -> 0 | AG12: =COUNTIF(C12:AE12,"Ruhe statt Dienst") -> 0 | AH12: =COUNTIF(C12:AE12,"DT MA") -> 0 | AI12: =COUNTIF(C12:AE12,"DT Dispo") -> 0
AF13: =COUNTIF(C13:AE13,"Dienst statt Ruhe") -> 0 | AG13: =COUNTIF(C13:AE13,"Ruhe statt Dienst") -> 0 | AH13: =COUNTIF(C13:AE13,"DT MA") -> 0 | AI13: =COUNTIF(C13:AE13,"DT Dispo") -> 0
AF14: =COUNTIF(C14:AE14,"Dienst statt Ruhe") -> 0 | AG14: =COUNTIF(C14:AE14,"Ruhe statt Dienst") -> 0 | AH14: =COUNTIF(C14:AE14,"DT MA") -> 0 | AI14: =COUNTIF(C14:AE14,"DT Dispo") -> 0
... AF203: =COUNTIF(C203:AE203,"Dienst statt Ruhe") -> 0 | AG203: =COUNTIF(C203:AE203,"Ruhe statt Dienst") -> 0 | AH203: =COUNTIF(C203:AE203,"DT MA") -> 0 | AI203: =COUNTIF(C203:AE203,"DT Dispo") -> 0

Sheet März
C1: März
A2: Name | B2: Vorname | C2: 01 | D2: 02 | E2: 03 | F2: 04 | G2: 05 | H2: 06 | I2: 07 | J2: 08 | K2: 09 | L2: 10 | M2: 11 | N2: 12 | O2: 13 | P2: 14 | Q2: 15 | R2: 16 | S2: 17 | T2: 18 | U2: 19 | V2: 20 | W2: 21 | X2: 22 | Y2: 23 | Z2: 24 | AA2: 25 | AB2: 26 | AC2: 27 | AD2: 28 | AE2: 29 | AF2: 30 | AG2: 31 | AH2: Dienst statt Ruhe | AI2: Ruhe statt Dienst | AJ2: DT MA | AK2: DT Dispo
AH3: =COUNTIF(C3:AG3,"Dienst statt Ruhe") -> 0 | AI3: =COUNTIF(C3:AG3,"Ruhe statt Dienst") -> 0 | AJ3: =COUNTIF(C3:AG3,"DT MA") -> 0 | AK3: =COUNTIF(C3:AG3,"DT Dispo") -> 0
AH4: =COUNTIF(C4:AG4,"Dienst statt Ruhe") -> 0 | AI4: =COUNTIF(C4:AG4,"Ruhe statt Dienst") -> 0 | AJ4: =COUNTIF(C4:AG4,"DT MA") -> 0 | AK4: =COUNTIF(C4:AG4,"DT Dispo") -> 0
AH5: =COUNTIF(C5:AG5,"Dienst statt Ruhe") -> 0 | AI5: =COUNTIF(C5:AG5,"Ruhe statt Dienst") -> 0 | AJ5: =COUNTIF(C5:AG5,"DT MA") -> 0 | AK5: =COUNTIF(C5:AG5,"DT Dispo") -> 0
AH6: =COUNTIF(C6:AG6,"Dienst statt Ruhe") -> 0 | AI6: =COUNTIF(C6:AG6,"Ruhe statt Dienst") -> 0 | AJ6: =COUNTIF(C6:AG6,"DT MA") -> 0 | AK6: =COUNTIF(C6:AG6,"DT Dispo") -> 0
AH7: =COUNTIF(C7:AG7,"Dienst statt Ruhe") -> 0 | AI7: =COUNTIF(C7:AG7,"Ruhe statt Dienst") -> 0 | AJ7: =COUNTIF(C7:AG7,"DT MA") -> 0 | AK7: =COUNTIF(C7:AG7,"DT Dispo") -> 0
AH8: =COUNTIF(C8:AG8,"Dienst statt Ruhe") -> 0 | AI8: =COUNTIF(C8:AG8,"Ruhe statt Dienst") -> 0 | AJ8: =COUNTIF(C8:AG8,"DT MA") -> 0 | AK8: =COUNTIF(C8:AG8,"DT Dispo") -> 0
AH9: =COUNTIF(C9:AG9,"Dienst statt Ruhe") -> 0 | AI9: =COUNTIF(C9:AG9,"Ruhe statt Dienst") -> 0 | AJ9: =COUNTIF(C9:AG9,"DT MA") -> 0 | AK9: =COUNTIF(C9:AG9,"DT Dispo") -> 0
AH10: =COUNTIF(C10:AG10,"Dienst statt Ruhe") -> 0 | AI10: =COUNTIF(C10:AG10,"Ruhe statt Dienst") -> 0 | AJ10: =COUNTIF(C10:AG10,"DT MA") -> 0 | AK10: =COUNTIF(C10:AG10,"DT Dispo") -> 0
AH11: =COUNTIF(C11:AG11,"Dienst statt Ruhe") -> 0 | AI11: =COUNTIF(C11:AG11,"Ruhe statt Dienst") -> 0 | AJ11: =COUNTIF(C11:AG11,"DT MA") -> 0 | AK11: =COUNTIF(C11:AG11,"DT Dispo") -> 0
AH12: =COUNTIF(C12:AG12,"Dienst statt Ruhe") -> 0 | AI12: =COUNTIF(C12:AG12,"Ruhe statt Dienst") -> 0 | AJ12: =COUNTIF(C12:AG12,"DT MA") -> 0 | AK12: =COUNTIF(C12:AG12,"DT Dispo") -> 0
AH13: =COUNTIF(C13:AG13,"Dienst statt Ruhe") -> 0 | AI13: =COUNTIF(C13:AG13,"Ruhe statt Dienst") -> 0 | AJ13: =COUNTIF(C13:AG13,"DT MA") -> 0 | AK13: =COUNTIF(C13:AG13,"DT Dispo") -> 0
AH14: =COUNTIF(C14:AG14,"Dienst statt Ruhe") -> 0 | AI14: =COUNTIF(C14:AG14,"Ruhe statt Dienst") -> 0 | AJ14: =COUNTIF(C14:AG14,"DT MA") -> 0 | AK14: =COUNTIF(C14:AG14,"DT Dispo") -> 0
... AH203: =COUNTIF(C203:AG203,"Dienst statt Ruhe") -> 0 | AI203: =COUNTIF(C203:AG203,"Ruhe statt Dienst") -> 0 | AJ203: =COUNTIF(C203:AG203,"DT MA") -> 0 | AK203: =COUNTIF(C203:AG203,"DT Dispo") -> 0

Sheet April
C1: April
A2: Name | B2: Vorname | C2: 01 | D2: 02 | E2: 03 | F2: 04 | G2: 05 | H2: 06 | I2: 07 | J2: 08 | K2: 09 | L2: 10 | M2: 11 | N2: 12 | O2: 13 | P2: 14 | Q2: 15 | R2: 16 | S2: 17 | T2: 18 | U2: 19 | V2: 20 | W2: 21 | X2: 22 | Y2: 23 | Z2: 24 | AA2: 25 | AB2: 26 | AC2: 27 | AD2: 28 | AE2: 29 | AF2: 30 | AG2: Dienst statt Ruhe | AH2: Ruhe statt Dienst | AI2: DT MA | AJ2: DT Dispo
AG3: =COUNTIF(C3:AF3,"Dienst statt Ruhe") -> 0 | AH3: =COUNTIF(C3:AF3,"Ruhe statt Dienst") -> 0 | AI3: =COUNTIF(C3:AF3,"DT MA") -> 0 | AJ3: =COUNTIF(C3:AF3,"DT Dispo") -> 0
AG4: =COUNTIF(C4:AF4,"Dienst statt Ruhe") -> 0 | AH4: =COUNTIF(C4:AF4,"Ruhe statt Dienst") -> 0 | AI4: =COUNTIF(C4:AF4,"DT MA") -> 0 | AJ4: =COUNTIF(C4:AF4,"DT Dispo") -> 0
AG5: =COUNTIF(C5:AF5,"Dienst statt Ruhe") -> 0 | AH5: =COUNTIF(C5:AF5,"Ruhe statt Dienst") -> 0 | AI5: =COUNTIF(C5:AF5,"DT MA") -> 0 | AJ5: =COUNTIF(C5:AF5,"DT Dispo") -> 0
AG6: =COUNTIF(C6:AF6,"Dienst statt Ruhe") -> 0 | AH6: =COUNTIF(C6:AF6,"Ruhe statt Dienst") -> 0 | AI6: =COUNTIF(C6:AF6,"DT MA") -> 0 | AJ6: =COUNTIF(C6:AF6,"DT Dispo") -> 0
AG7: =COUNTIF(C7:AF7,"Dienst statt Ruhe") -> 0 | AH7: =COUNTIF(C7:AF7,"Ruhe statt Dienst") -> 0 | AI7: =COUNTIF(C7:AF7,"DT MA") -> 0 | AJ7: =COUNTIF(C7:AF7,"DT Dispo") -> 0
AG8: =COUNTIF(C8:AF8,"Dienst statt Ruhe") -> 0 | AH8: =COUNTIF(C8:AF8,"Ruhe statt Dienst") -> 0 | AI8: =COUNTIF(C8:AF8,"DT MA") -> 0 | AJ8: =COUNTIF(C8:AF8,"DT Dispo") -> 0
AG9: =COUNTIF(C9:AF9,"Dienst statt Ruhe") -> 0 | AH9: =COUNTIF(C9:AF9,"Ruhe statt Dienst") -> 0 | AI9: =COUNTIF(C9:AF9,"DT MA") -> 0 | AJ9: =COUNTIF(C9:AF9,"DT Dispo") -> 0
AG10: =COUNTIF(C10:AF10,"Dienst statt Ruhe") -> 0 | AH10: =COUNTIF(C10:AF10,"Ruhe statt Dienst") -> 0 | AI10: =COUNTIF(C10:AF10,"DT MA") -> 0 | AJ10: =COUNTIF(C10:AF10,"DT Dispo") -> 0
AG11: =COUNTIF(C11:AF11,"Dienst statt Ruhe") -> 0 | AH11: =COUNTIF(C11:AF11,"Ruhe statt Dienst") -> 0 | AI11: =COUNTIF(C11:AF11,"DT MA") -> 0 | AJ11: =COUNTIF(C11:AF11,"DT Dispo") -> 0
AG12: =COUNTIF(C12:AF12,"Dienst statt Ruhe") -> 0 | AH12: =COUNTIF(C12:AF12,"Ruhe statt Dienst") -> 0 | AI12: =COUNTIF(C12:AF12,"DT MA") -> 0 | AJ12: =COUNTIF(C12:AF12,"DT Dispo") -> 0
AG13: =COUNTIF(C13:AF13,"Dienst statt Ruhe") -> 0 | AH13: =COUNTIF(C13:AF13,"Ruhe statt Dienst") -> 0 | AI13: =COUNTIF(C13:AF13,"DT MA") -> 0 | AJ13: =COUNTIF(C13:AF13,"DT Dispo") -> 0
AG14: =COUNTIF(C14:AF14,"Dienst statt Ruhe") -> 0 | AH14: =COUNTIF(C14:AF14,"Ruhe statt Dienst") -> 0 | AI14: =COUNTIF(C14:AF14,"DT MA") -> 0 | AJ14: =COUNTIF(C14:AF14,"DT Dispo") -> 0
... AG203: =COUNTIF(C203:AF203,"Dienst statt Ruhe") -> 0 | AH203: =COUNTIF(C203:AF203,"Ruhe statt Dienst") -> 0 | AI203: =COUNTIF(C203:AF203,"DT MA") -> 0 | AJ203: =COUNTIF(C203:AF203,"DT Dispo") -> 0

Sheet Mai
C1: Mai
A2: Name | B2: Vorname | C2: 01 | D2: 02 | E2: 03 | F2: 04 | G2: 05 | H2: 06 | I2: 07 | J2: 08 | K2: 09 | L2: 10 | M2: 11 | N2: 12 | O2: 13 | P2: 14 | Q2: 15 | R2: 16 | S2: 17 | T2: 18 | U2: 19 | V2: 20 | W2: 21 | X2: 22 | Y2: 23 | Z2: 24 | AA2: 25 | AB2: 26 | AC2: 27 | AD2: 28 | AE2: 29 | AF2: 30 | AG2: 31 | AH2: Dienst statt Ruhe | AI2: Ruhe statt Dienst | AJ2: DT MA | AK2: DT Dispo
AH3: =COUNTIF(C3:AG3,"Dienst statt Ruhe") -> 0 | AI3: =COUNTIF(C3:AG3,"Ruhe statt Dienst") -> 0 | AJ3: =COUNTIF(C3:AG3,"DT MA") -> 0 | AK3: =COUNTIF(C3:AG3,"DT Dispo") -> 0
AH4: =COUNTIF(C4:AG4,"Dienst statt Ruhe") -> 0 | AI4: =COUNTIF(C4:AG4,"Ruhe statt Dienst") -> 0 | AJ4: =COUNTIF(C4:AG4,"DT MA") -> 0 | AK4: =COUNTIF(C4:AG4,"DT Dispo") -> 0
AH5: =COUNTIF(C5:AG5,"Dienst statt Ruhe") -> 0 | AI5: =COUNTIF(C5:AG5,"Ruhe statt Dienst") -> 0 | AJ5: =COUNTIF(C5:AG5,"DT MA") -> 0 | AK5: =COUNTIF(C5:AG5,"DT Dispo") -> 0
AH6: =COUNTIF(C6:AG6,"Dienst statt Ruhe") -> 0 | AI6: =COUNTIF(C6:AG6,"Ruhe statt Dienst") -> 0 | AJ6: =COUNTIF(C6:AG6,"DT MA") -> 0 | AK6: =COUNTIF(C6:AG6,"DT Dispo") -> 0
AH7: =COUNTIF(C7:AG7,"Dienst statt Ruhe") -> 0 | AI7: =COUNTIF(C7:AG7,"Ruhe statt Dienst") -> 0 | AJ7: =COUNTIF(C7:AG7,"DT MA") -> 0 | AK7: =COUNTIF(C7:AG7,"DT Dispo") -> 0
AH8: =COUNTIF(C8:AG8,"Dienst statt Ruhe") -> 0 | AI8: =COUNTIF(C8:AG8,"Ruhe statt Dienst") -> 0 | AJ8: =COUNTIF(C8:AG8,"DT MA") -> 0 | AK8: =COUNTIF(C8:AG8,"DT Dispo") -> 0
AH9: =COUNTIF(C9:AG9,"Dienst statt Ruhe") -> 0 | AI9: =COUNTIF(C9:AG9,"Ruhe statt Dienst") -> 0 | AJ9: =COUNTIF(C9:AG9,"DT MA") -> 0 | AK9: =COUNTIF(C9:AG9,"DT Dispo") -> 0
AH10: =COUNTIF(C10:AG10,"Dienst statt Ruhe") -> 0 | AI10: =COUNTIF(C10:AG10,"Ruhe statt Dienst") -> 0 | AJ10: =COUNTIF(C10:AG10,"DT MA") -> 0 | AK10: =COUNTIF(C10:AG10,"DT Dispo") -> 0
AH11: =COUNTIF(C11:AG11,"Dienst statt Ruhe") -> 0 | AI11: =COUNTIF(C11:AG11,"Ruhe statt Dienst") -> 0 | AJ11: =COUNTIF(C11:AG11,"DT MA") -> 0 | AK11: =COUNTIF(C11:AG11,"DT Dispo") -> 0
AH12: =COUNTIF(C12:AG12,"Dienst statt Ruhe") -> 0 | AI12: =COUNTIF(C12:AG12,"Ruhe statt Dienst") -> 0 | AJ12: =COUNTIF(C12:AG12,"DT MA") -> 0 | AK12: =COUNTIF(C12:AG12,"DT Dispo") -> 0
AH13: =COUNTIF(C13:AG13,"Dienst statt Ruhe") -> 0 | AI13: =COUNTIF(C13:AG13,"Ruhe statt Dienst") -> 0 | AJ13: =COUNTIF(C13:AG13,"DT MA") -> 0 | AK13: =COUNTIF(C13:AG13,"DT Dispo") -> 0
AH14: =COUNTIF(C14:AG14,"Dienst statt Ruhe") -> 0 | AI14: =COUNTIF(C14:AG14,"Ruhe statt Dienst") -> 0 | AJ14: =COUNTIF(C14:AG14,"DT MA") -> 0 | AK14: =COUNTIF(C14:AG14,"DT Dispo") -> 0
... AH203: =COUNTIF(C203:AG203,"Dienst statt Ruhe") -> 0 | AI203: =COUNTIF(C203:AG203,"Ruhe statt Dienst") -> 0 | AJ203: =COUNTIF(C203:AG203,"DT MA") -> 0 | AK203: =COUNTIF(C203:AG203,"DT Dispo") -> 0

Sheet Juni
C1: Juni
A2: Name | B2: Vorname | C2: 01 | D2: 02 | E2: 03 | F2: 04 | G2: 05 | H2: 06 | I2: 07 | J2: 08 | K2: 09 | L2: 10 | M2: 11 | N2: 12 | O2: 13 | P2: 14 | Q2: 15 | R2: 16 | S2: 17 | T2: 18 | U2: 19 | V2: 20 | W2: 21 | X2: 22 | Y2: 23 | Z2: 24 | AA2: 25 | AB2: 26 | AC2: 27 | AD2: 28 | AE2: 29 | AF2: 30 | AG2: Dienst statt Ruhe | AH2: Ruhe statt Dienst | AI2: DT MA | AJ2: DT Dispo
AG3: =COUNTIF(C3:AF3,"Dienst statt Ruhe") -> 0 | AH3: =COUNTIF(C3:AF3,"Ruhe statt Dienst") -> 0 | AI3: =COUNTIF(C3:AF3,"DT MA") -> 0 | AJ3: =COUNTIF(C3:AF3,"DT Dispo") -> 0
AG4: =COUNTIF(C4:AF4,"Dienst statt Ruhe") -> 0 | AH4: =COUNTIF(C4:AF4,"Ruhe statt Dienst") -> 0 | AI4: =COUNTIF(C4:AF4,"DT MA") -> 0 | AJ4: =COUNTIF(C4:AF4,"DT Dispo") -> 0
AG5: =COUNTIF(C5:AF5,"Dienst statt Ruhe") -> 0 | AH5: =COUNTIF(C5:AF5,"Ruhe statt Dienst") -> 0 | AI5: =COUNTIF(C5:AF5,"DT MA") -> 0 | AJ5: =COUNTIF(C5:AF5,"DT Dispo") -> 0
AG6: =COUNTIF(C6:AF6,"Dienst statt Ruhe") -> 0 | AH6: =COUNTIF(C6:AF6,"Ruhe statt Dienst") -> 0 | AI6: =COUNTIF(C6:AF6,"DT MA") -> 0 | AJ6: =COUNTIF(C6:AF6,"DT Dispo") -> 0
AG7: =COUNTIF(C7:AF7,"Dienst statt Ruhe") -> 0 | AH7: =COUNTIF(C7:AF7,"Ruhe statt Dienst") -> 0 | AI7: =COUNTIF(C7:AF7,"DT MA") -> 0 | AJ7: =COUNTIF(C7:AF7,"DT Dispo") -> 0
AG8: =COUNTIF(C8:AF8,"Dienst statt Ruhe") -> 0 | AH8: =COUNTIF(C8:AF8,"Ruhe statt Dienst") -> 0 | AI8: =COUNTIF(C8:AF8,"DT MA") -> 0 | AJ8: =COUNTIF(C8:AF8,"DT Dispo") -> 0
AG9: =COUNTIF(C9:AF9,"Dienst statt Ruhe") -> 0 | AH9: =COUNTIF(C9:AF9,"Ruhe statt Dienst") -> 0 | AI9: =COUNTIF(C9:AF9,"DT MA") -> 0 | AJ9: =COUNTIF(C9:AF9,"DT Dispo") -> 0
AG10: =COUNTIF(C10:AF10,"Dienst statt Ruhe") -> 0 | AH10: =COUNTIF(C10:AF10,"Ruhe statt Dienst") -> 0 | AI10: =COUNTIF(C10:AF10,"DT MA") -> 0 | AJ10: =COUNTIF(C10:AF10,"DT Dispo") -> 0
AG11: =COUNTIF(C11:AF11,"Dienst statt Ruhe") -> 0 | AH11: =COUNTIF(C11:AF11,"Ruhe statt Dienst") -> 0 | AI11: =COUNTIF(C11:AF11,"DT MA") -> 0 | AJ11: =COUNTIF(C11:AF11,"DT Dispo") -> 0
AG12: =COUNTIF(C12:AF12,"Dienst statt Ruhe") -> 0 | AH12: =COUNTIF(C12:AF12,"Ruhe statt Dienst") -> 0 | AI12: =COUNTIF(C12:AF12,"DT MA") -> 0 | AJ12: =COUNTIF(C12:AF12,"DT Dispo") -> 0
AG13: =COUNTIF(C13:AF13,"Dienst statt Ruhe") -> 0 | AH13: =COUNTIF(C13:AF13,"Ruhe statt Dienst") -> 0 | AI13: =COUNTIF(C13:AF13,"DT MA") -> 0 | AJ13: =COUNTIF(C13:AF13,"DT Dispo") -> 0
AG14: =COUNTIF(C14:AF14,"Dienst statt Ruhe") -> 0 | AH14: =COUNTIF(C14:AF14,"Ruhe statt Dienst") -> 0 | AI14: =COUNTIF(C14:AF14,"DT MA") -> 0 | AJ14: =COUNTIF(C14:AF14,"DT Dispo") -> 0
... AG203: =COUNTIF(C203:AF203,"Dienst statt Ruhe") -> 0 | AH203: =COUNTIF(C203:AF203,"Ruhe statt Dienst") -> 0 | AI203: =COUNTIF(C203:AF203,"DT MA") -> 0 | AJ203: =COUNTIF(C203:AF203,"DT Dispo") -> 0

Sheet Juli
C1: Juli
A2: Name | B2: Vorname | C2: 01 | D2: 02 | E2: 03 | F2: 04 | G2: 05 | H2: 06 | I2: 07 | J2: 08 | K2: 09 | L2: 10 | M2: 11 | N2: 12 | O2: 13 | P2: 14 | Q2: 15 | R2: 16 | S2: 17 | T2: 18 | U2: 19 | V2: 20 | W2: 21 | X2: 22 | Y2: 23 | Z2: 24 | AA2: 25 | AB2: 26 | AC2: 27 | AD2: 28 | AE2: 29 | AF2: 30 | AG2: 31 | AH2: Dienst statt Ruhe | AI2: Ruhe statt Dienst | AJ2: DT MA | AK2: DT Dispo
AH3: =COUNTIF(C3:AG3,"Dienst statt Ruhe") -> 0 | AI3: =COUNTIF(C3:AG3,"Ruhe statt Dienst") -> 0 | AJ3: =COUNTIF(C3:AG3,"DT MA") -> 0 | AK3: =COUNTIF(C3:AG3,"DT Dispo") -> 0
AH4: =COUNTIF(C4:AG4,"Dienst statt Ruhe") -> 0 | AI4: =COUNTIF(C4:AG4,"Ruhe statt Dienst") -> 0 | AJ4: =COUNTIF(C4:AG4,"DT MA") -> 0 | AK4: =COUNTIF(C4:AG4,"DT Dispo") -> 0
AH5: =COUNTIF(C5:AG5,"Dienst statt Ruhe") -> 0 | AI5: =COUNTIF(C5:AG5,"Ruhe statt Dienst") -> 0 | AJ5: =COUNTIF(C5:AG5,"DT MA") -> 0 | AK5: =COUNTIF(C5:AG5,"DT Dispo") -> 0
AH6: =COUNTIF(C6:AG6,"Dienst statt Ruhe") -> 0 | AI6: =COUNTIF(C6:AG6,"Ruhe statt Dienst") -> 0 | AJ6: =COUNTIF(C6:AG6,"DT MA") -> 0 | AK6: =COUNTIF(C6:AG6,"DT Dispo") -> 0
AH7: =COUNTIF(C7:AG7,"Dienst statt Ruhe") -> 0 | AI7: =COUNTIF(C7:AG7,"Ruhe statt Dienst") -> 0 | AJ7: =COUNTIF(C7:AG7,"DT MA") -> 0 | AK7: =COUNTIF(C7:AG7,"DT Dispo") -> 0
AH8: =COUNTIF(C8:AG8,"Dienst statt Ruhe") -> 0 | AI8: =COUNTIF(C8:AG8,"Ruhe statt Dienst") -> 0 | AJ8: =COUNTIF(C8:AG8,"DT MA") -> 0 | AK8: =COUNTIF(C8:AG8,"DT Dispo") -> 0
AH9: =COUNTIF(C9:AG9,"Dienst statt Ruhe") -> 0 | AI9: =COUNTIF(C9:AG9,"Ruhe statt Dienst") -> 0 | AJ9: =COUNTIF(C9:AG9,"DT MA") -> 0 | AK9: =COUNTIF(C9:AG9,"DT Dispo") -> 0
AH10: =COUNTIF(C10:AG10,"Dienst statt Ruhe") -> 0 | AI10: =COUNTIF(C10:AG10,"Ruhe statt Dienst") -> 0 | AJ10: =COUNTIF(C10:AG10,"DT MA") -> 0 | AK10: =COUNTIF(C10:AG10,"DT Dispo") -> 0
AH11: =COUNTIF(C11:AG11,"Dienst statt Ruhe") -> 0 | AI11: =COUNTIF(C11:AG11,"Ruhe statt Dienst") -> 0 | AJ11: =COUNTIF(C11:AG11,"DT MA") -> 0 | AK11: =COUNTIF(C11:AG11,"DT Dispo") -> 0
AH12: =COUNTIF(C12:AG12,"Dienst statt Ruhe") -> 0 | AI12: =COUNTIF(C12:AG12,"Ruhe statt Dienst") -> 0 | AJ12: =COUNTIF(C12:AG12,"DT MA") -> 0 | AK12: =COUNTIF(C12:AG12,"DT Dispo") -> 0
AH13: =COUNTIF(C13:AG13,"Dienst statt Ruhe") -> 0 | AI13: =COUNTIF(C13:AG13,"Ruhe statt Dienst") -> 0 | AJ13: =COUNTIF(C13:AG13,"DT MA") -> 0 | AK13: =COUNTIF(C13:AG13,"DT Dispo") -> 0
AH14: =COUNTIF(C14:AG14,"Dienst statt Ruhe") -> 0 | AI14: =COUNTIF(C14:AG14,"Ruhe statt Dienst") -> 0 | AJ14: =COUNTIF(C14:AG14,"DT MA") -> 0 | AK14: =COUNTIF(C14:AG14,"DT Dispo") -> 0
... AH203: =COUNTIF(C203:AG203,"Dienst statt Ruhe") -> 0 | AI203: =COUNTIF(C203:AG203,"Ruhe statt Dienst") -> 0 | AJ203: =COUNTIF(C203:AG203,"DT MA") -> 0 | AK203: =COUNTIF(C203:AG203,"DT Dispo") -> 0

Sheet August
C1: August
A2: Name | B2: Vorname | C2: 01 | D2: 02 | E2: 03 | F2: 04 | G2: 05 | H2: 06 | I2: 07 | J2: 08 | K2: 09 | L2: 10 | M2: 11 | N2: 12 | O2: 13 | P2: 14 | Q2: 15 | R2: 16 | S2: 17 | T2: 18 | U2: 19 | V2: 20 | W2: 21 | X2: 22 | Y2: 23 | Z2: 24 | AA2: 25 | AB2: 26 | AC2: 27 | AD2: 28 | AE2: 29 | AF2: 30 | AG2: 31 | AH2: Dienst statt Ruhe | AI2: Ruhe statt Dienst | AJ2: DT MA | AK2: DT Dispo
AH3: =COUNTIF(C3:AG3,"Dienst statt Ruhe") -> 0 | AI3: =COUNTIF(C3:AG3,"Ruhe statt Dienst") -> 0 | AJ3: =COUNTIF(C3:AG3,"DT MA") -> 0 | AK3: =COUNTIF(C3:AG3,"DT Dispo") -> 0
AH4: =COUNTIF(C4:AG4,"Dienst statt Ruhe") -> 0 | AI4: =COUNTIF(C4:AG4,"Ruhe statt Dienst") -> 0 | AJ4: =COUNTIF(C4:AG4,"DT MA") -> 0 | AK4: =COUNTIF(C4:AG4,"DT Dispo") -> 0
AH5: =COUNTIF(C5:AG5,"Dienst statt Ruhe") -> 0 | AI5: =COUNTIF(C5:AG5,"Ruhe statt Dienst") -> 0 | AJ5: =COUNTIF(C5:AG5,"DT MA") -> 0 | AK5: =COUNTIF(C5:AG5,"DT Dispo") -> 0
AH6: =COUNTIF(C6:AG6,"Dienst statt Ruhe") -> 0 | AI6: =COUNTIF(C6:AG6,"Ruhe statt Dienst") -> 0 | AJ6: =COUNTIF(C6:AG6,"DT MA") -> 0 | AK6: =COUNTIF(C6:AG6,"DT Dispo") -> 0
AH7: =COUNTIF(C7:AG7,"Dienst statt Ruhe") -> 0 | AI7: =COUNTIF(C7:AG7,"Ruhe statt Dienst") -> 0 | AJ7: =COUNTIF(C7:AG7,"DT MA") -> 0 | AK7: =COUNTIF(C7:AG7,"DT Dispo") -> 0
AH8: =COUNTIF(C8:AG8,"Dienst statt Ruhe") -> 0 | AI8: =COUNTIF(C8:AG8,"Ruhe statt Dienst") -> 0 | AJ8: =COUNTIF(C8:AG8,"DT MA") -> 0 | AK8: =COUNTIF(C8:AG8,"DT Dispo") -> 0
AH9: =COUNTIF(C9:AG9,"Dienst statt Ruhe") -> 0 | AI9: =COUNTIF(C9:AG9,"Ruhe statt Dienst") -> 0 | AJ9: =COUNTIF(C9:AG9,"DT MA") -> 0 | AK9: =COUNTIF(C9:AG9,"DT Dispo") -> 0
AH10: =COUNTIF(C10:AG10,"Dienst statt Ruhe") -> 0 | AI10: =COUNTIF(C10:AG10,"Ruhe statt Dienst") -> 0 | AJ10: =COUNTIF(C10:AG10,"DT MA") -> 0 | AK10: =COUNTIF(C10:AG10,"DT Dispo") -> 0
AH11: =COUNTIF(C11:AG11,"Dienst statt Ruhe") -> 0 | AI11: =COUNTIF(C11:AG11,"Ruhe statt Dienst") -> 0 | AJ11: =COUNTIF(C11:AG11,"DT MA") -> 0 | AK11: =COUNTIF(C11:AG11,"DT Dispo") -> 0
AH12: =COUNTIF(C12:AG12,"Dienst statt Ruhe") -> 0 | AI12: =COUNTIF(C12:AG12,"Ruhe statt Dienst") -> 0 | AJ12: =COUNTIF(C12:AG12,"DT MA") -> 0 | AK12: =COUNTIF(C12:AG12,"DT Dispo") -> 0
AH13: =COUNTIF(C13:AG13,"Dienst statt Ruhe") -> 0 | AI13: =COUNTIF(C13:AG13,"Ruhe statt Dienst") -> 0 | AJ13: =COUNTIF(C13:AG13,"DT MA") -> 0 | AK13: =COUNTIF(C13:AG13,"DT Dispo") -> 0
AH14: =COUNTIF(C14:AG14,"Dienst statt Ruhe") -> 0 | AI14: =COUNTIF(C14:AG14,"Ruhe statt Dienst") -> 0 | AJ14: =COUNTIF(C14:AG14,"DT MA") -> 0 | AK14: =COUNTIF(C14:AG14,"DT Dispo") -> 0
... AH203: =COUNTIF(C203:AG203,"Dienst statt Ruhe") -> 0 | AI203: =COUNTIF(C203:AG203,"Ruhe statt Dienst") -> 0 | AJ203: =COUNTIF(C203:AG203,"DT MA") -> 0 | AK203: =COUNTIF(C203:AG203,"DT Dispo") -> 0

Sheet September
C1: September
A2: Name | B2: Vorname | C2: 01 | D2: 02 | E2: 03 | F2: 04 | G2: 05 | H2: 06 | I2: 07 | J2: 08 | K2: 09 | L2: 10 | M2: 11 | N2: 12 | O2: 13 | P2: 14 | Q2: 15 | R2: 16 | S2: 17 | T2: 18 | U2: 19 | V2: 20 | W2: 21 | X2: 22 | Y2: 23 | Z2: 24 | AA2: 25 | AB2: 26 | AC2: 27 | AD2: 28 | AE2: 29 | AF2: 30 | AG2: Dienst statt Ruhe | AH2: Ruhe statt Dienst | AI2: DT MA | AJ2: DT Dispo
AG3: =COUNTIF(C3:AF3,"Dienst statt Ruhe") -> 0 | AH3: =COUNTIF(C3:AF3,"Ruhe statt Dienst") -> 0 | AI3: =COUNTIF(C3:AF3,"DT MA") -> 0 | AJ3: =COUNTIF(C3:AF3,"DT Dispo") -> 0
AG4: =COUNTIF(C4:AF4,"Dienst statt Ruhe") -> 0 | AH4: =COUNTIF(C4:AF4,"Ruhe statt Dienst") -> 0 | AI4: =COUNTIF(C4:AF4,"DT MA") -> 0 | AJ4: =COUNTIF(C4:AF4,"DT Dispo") -> 0
AG5: =COUNTIF(C5:AF5,"Dienst statt Ruhe") -> 0 | AH5: =COUNTIF(C5:AF5,"Ruhe statt Dienst") -> 0 | AI5: =COUNTIF(C5:AF5,"DT MA") -> 0 | AJ5: =COUNTIF(C5:AF5,"DT Dispo") -> 0
AG6: =COUNTIF(C6:AF6,"Dienst statt Ruhe") -> 0 | AH6: =COUNTIF(C6:AF6,"Ruhe statt Dienst") -> 0 | AI6: =COUNTIF(C6:AF6,"DT MA") -> 0 | AJ6: =COUNTIF(C6:AF6,"DT Dispo") -> 0
AG7: =COUNTIF(C7:AF7,"Dienst statt Ruhe") -> 0 | AH7: =COUNTIF(C7:AF7,"Ruhe statt Dienst") -> 0 | AI7: =COUNTIF(C7:AF7,"DT MA") -> 0 | AJ7: =COUNTIF(C7:AF7,"DT Dispo") -> 0
AG8: =COUNTIF(C8:AF8,"Dienst statt Ruhe") -> 0 | AH8: =COUNTIF(C8:AF8,"Ruhe statt Dienst") -> 0 | AI8: =COUNTIF(C8:AF8,"DT MA") -> 0 | AJ8: =COUNTIF(C8:AF8,"DT Dispo") -> 0
AG9: =COUNTIF(C9:AF9,"Dienst statt Ruhe") -> 0 | AH9: =COUNTIF(C9:AF9,"Ruhe statt Dienst") -> 0 | AI9: =COUNTIF(C9:AF9,"DT MA") -> 0 | AJ9: =COUNTIF(C9:AF9,"DT Dispo") -> 0
AG10: =COUNTIF(C10:AF10,"Dienst statt Ruhe") -> 0 | AH10: =COUNTIF(C10:AF10,"Ruhe statt Dienst") -> 0 | AI10: =COUNTIF(C10:AF10,"DT MA") -> 0 | AJ10: =COUNTIF(C10:AF10,"DT Dispo") -> 0
AG11: =COUNTIF(C11:AF11,"Dienst statt Ruhe") -> 0 | AH11: =COUNTIF(C11:AF11,"Ruhe statt Dienst") -> 0 | AI11: =COUNTIF(C11:AF11,"DT MA") -> 0 | AJ11: =COUNTIF(C11:AF11,"DT Dispo") -> 0
AG12: =COUNTIF(C12:AF12,"Dienst statt Ruhe") -> 0 | AH12: =COUNTIF(C12:AF12,"Ruhe statt Dienst") -> 0 | AI12: =COUNTIF(C12:AF12,"DT MA") -> 0 | AJ12: =COUNTIF(C12:AF12,"DT Dispo") -> 0
AG13: =COUNTIF(C13:AF13,"Dienst statt Ruhe") -> 0 | AH13: =COUNTIF(C13:AF13,"Ruhe statt Dienst") -> 0 | AI13: =COUNTIF(C13:AF13,"DT MA") -> 0 | AJ13: =COUNTIF(C13:AF13,"DT Dispo") -> 0
AG14: =COUNTIF(C14:AF14,"Dienst statt Ruhe") -> 0 | AH14: =COUNTIF(C14:AF14,"Ruhe statt Dienst") -> 0 | AI14: =COUNTIF(C14:AF14,"DT MA") -> 0 | AJ14: =COUNTIF(C14:AF14,"DT Dispo") -> 0
... AG203: =COUNTIF(C203:AF203,"Dienst statt Ruhe") -> 0 | AH203: =COUNTIF(C203:AF203,"Ruhe statt Dienst") -> 0 | AI203: =COUNTIF(C203:AF203,"DT MA") -> 0 | AJ203: =COUNTIF(C203:AF203,"DT Dispo") -> 0

Sheet Oktober
C1: Oktober
A2: Name | B2: Vorname | C2: 01 | D2: 02 | E2: 03 | F2: 04 | G2: 05 | H2: 06 | I2: 07 | J2: 08 | K2: 09 | L2: 10 | M2: 11 | N2: 12 | O2: 13 | P2: 14 | Q2: 15 | R2: 16 | S2: 17 | T2: 18 | U2: 19 | V2: 20 | W2: 21 | X2: 22 | Y2: 23 | Z2: 24 | AA2: 25 | AB2: 26 | AC2: 27 | AD2: 28 | AE2: 29 | AF2: 30 | AG2: 31 | AH2: Dienst statt Ruhe | AI2: Ruhe statt Dienst | AJ2: DT MA | AK2: DT Dispo
AH3: =COUNTIF(C3:AG3,"Dienst statt Ruhe") -> 0 | AI3: =COUNTIF(C3:AG3,"Ruhe statt Dienst") -> 0 | AJ3: =COUNTIF(C3:AG3,"DT MA") -> 0 | AK3: =COUNTIF(C3:AG3,"DT Dispo") -> 0
AH4: =COUNTIF(C4:AG4,"Dienst statt Ruhe") -> 0 | AI4: =COUNTIF(C4:AG4,"Ruhe statt Dienst") -> 0 | AJ4: =COUNTIF(C4:AG4,"DT MA") -> 0 | AK4: =COUNTIF(C4:AG4,"DT Dispo") -> 0
AH5: =COUNTIF(C5:AG5,"Dienst statt Ruhe") -> 0 | AI5: =COUNTIF(C5:AG5,"Ruhe statt Dienst") -> 0 | AJ5: =COUNTIF(C5:AG5,"DT MA") -> 0 | AK5: =COUNTIF(C5:AG5,"DT Dispo") -> 0
AH6: =COUNTIF(C6:AG6,"Dienst statt Ruhe") -> 0 | AI6: =COUNTIF(C6:AG6,"Ruhe statt Dienst") -> 0 | AJ6: =COUNTIF(C6:AG6,"DT MA") -> 0 | AK6: =COUNTIF(C6:AG6,"DT Dispo") -> 0
AH7: =COUNTIF(C7:AG7,"Dienst statt Ruhe") -> 0 | AI7: =COUNTIF(C7:AG7,"Ruhe statt Dienst") -> 0 | AJ7: =COUNTIF(C7:AG7,"DT MA") -> 0 | AK7: =COUNTIF(C7:AG7,"DT Dispo") -> 0
AH8: =COUNTIF(C8:AG8,"Dienst statt Ruhe") -> 0 | AI8: =COUNTIF(C8:AG8,"Ruhe statt Dienst") -> 0 | AJ8: =COUNTIF(C8:AG8,"DT MA") -> 0 | AK8: =COUNTIF(C8:AG8,"DT Dispo") -> 0
AH9: =COUNTIF(C9:AG9,"Dienst statt Ruhe") -> 0 | AI9: =COUNTIF(C9:AG9,"Ruhe statt Dienst") -> 0 | AJ9: =COUNTIF(C9:AG9,"DT MA") -> 0 | AK9: =COUNTIF(C9:AG9,"DT Dispo") -> 0
AH10: =COUNTIF(C10:AG10,"Dienst statt Ruhe") -> 0 | AI10: =COUNTIF(C10:AG10,"Ruhe statt Dienst") -> 0 | AJ10: =COUNTIF(C10:AG10,"DT MA") -> 0 | AK10: =COUNTIF(C10:AG10,"DT Dispo") -> 0
AH11: =COUNTIF(C11:AG11,"Dienst statt Ruhe") -> 0 | AI11: =COUNTIF(C11:AG11,"Ruhe statt Dienst") -> 0 | AJ11: =COUNTIF(C11:AG11,"DT MA") -> 0 | AK11: =COUNTIF(C11:AG11,"DT Dispo") -> 0
AH12: =COUNTIF(C12:AG12,"Dienst statt Ruhe") -> 0 | AI12: =COUNTIF(C12:AG12,"Ruhe statt Dienst") -> 0 | AJ12: =COUNTIF(C12:AG12,"DT MA") -> 0 | AK12: =COUNTIF(C12:AG12,"DT Dispo") -> 0
AH13: =COUNTIF(C13:AG13,"Dienst statt Ruhe") -> 0 | AI13: =COUNTIF(C13:AG13,"Ruhe statt Dienst") -> 0 | AJ13: =COUNTIF(C13:AG13,"DT MA") -> 0 | AK13: =COUNTIF(C13:AG13,"DT Dispo") -> 0
AH14: =COUNTIF(C14:AG14,"Dienst statt Ruhe") -> 0 | AI14: =COUNTIF(C14:AG14,"Ruhe statt Dienst") -> 0 | AJ14: =COUNTIF(C14:AG14,"DT MA") -> 0 | AK14: =COUNTIF(C14:AG14,"DT Dispo") -> 0
... AH203: =COUNTIF(C203:AG203,"Dienst statt Ruhe") -> 0 | AI203: =COUNTIF(C203:AG203,"Ruhe statt Dienst") -> 0 | AJ203: =COUNTIF(C203:AG203,"DT MA") -> 0 | AK203: =COUNTIF(C203:AG203,"DT Dispo") -> 0

Sheet November
C1: November
A2: Name | B2: Vorname | C2: 01 | D2: 02 | E2: 03 | F2: 04 | G2: 05 | H2: 06 | I2: 07 | J2: 08 | K2: 09 | L2: 10 | M2: 11 | N2: 12 | O2: 13 | P2: 14 | Q2: 15 | R2: 16 | S2: 17 | T2: 18 | U2: 19 | V2: 20 | W2: 21 | X2: 22 | Y2: 23 | Z2: 24 | AA2: 25 | AB2: 26 | AC2: 27 | AD2: 28 | AE2: 29 | AF2: 30 | AG2: Dienst statt Ruhe | AH2: Ruhe statt Dienst | AI2: DT MA | AJ2: DT Dispo
AG3: =COUNTIF(C3:AF3,"Dienst statt Ruhe") -> 0 | AH3: =COUNTIF(C3:AF3,"Ruhe statt Dienst") -> 0 | AI3: =COUNTIF(C3:AF3,"DT MA") -> 0 | AJ3: =COUNTIF(C3:AF3,"DT Dispo") -> 0
AG4: =COUNTIF(C4:AF4,"Dienst statt Ruhe") -> 0 | AH4: =COUNTIF(C4:AF4,"Ruhe statt Dienst") -> 0 | AI4: =COUNTIF(C4:AF4,"DT MA") -> 0 | AJ4: =COUNTIF(C4:AF4,"DT Dispo") -> 0
AG5: =COUNTIF(C5:AF5,"Dienst statt Ruhe") -> 0 | AH5: =COUNTIF(C5:AF5,"Ruhe statt Dienst") -> 0 | AI5: =COUNTIF(C5:AF5,"DT MA") -> 0 | AJ5: =COUNTIF(C5:AF5,"DT Dispo") -> 0
AG6: =COUNTIF(C6:AF6,"Dienst statt Ruhe") -> 0 | AH6: =COUNTIF(C6:AF6,"Ruhe statt Dienst") -> 0 | AI6: =COUNTIF(C6:AF6,"DT MA") -> 0 | AJ6: =COUNTIF(C6:AF6,"DT Dispo") -> 0
AG7: =COUNTIF(C7:AF7,"Dienst statt Ruhe") -> 0 | AH7: =COUNTIF(C7:AF7,"Ruhe statt Dienst") -> 0 | AI7: =COUNTIF(C7:AF7,"DT MA") -> 0 | AJ7: =COUNTIF(C7:AF7,"DT Dispo") -> 0
AG8: =COUNTIF(C8:AF8,"Dienst statt Ruhe") -> 0 | AH8: =COUNTIF(C8:AF8,"Ruhe statt Dienst") -> 0 | AI8: =COUNTIF(C8:AF8,"DT MA") -> 0 | AJ8: =COUNTIF(C8:AF8,"DT Dispo") -> 0
AG9: =COUNTIF(C9:AF9,"Dienst statt Ruhe") -> 0 | AH9: =COUNTIF(C9:AF9,"Ruhe statt Dienst") -> 0 | AI9: =COUNTIF(C9:AF9,"DT MA") -> 0 | AJ9: =COUNTIF(C9:AF9,"DT Dispo") -> 0
AG10: =COUNTIF(C10:AF10,"Dienst statt Ruhe") -> 0 | AH10: =COUNTIF(C10:AF10,"Ruhe statt Dienst") -> 0 | AI10: =COUNTIF(C10:AF10,"DT MA") -> 0 | AJ10: =COUNTIF(C10:AF10,"DT Dispo") -> 0
AG11: =COUNTIF(C11:AF11,"Dienst statt Ruhe") -> 0 | AH11: =COUNTIF(C11:AF11,"Ruhe statt Dienst") -> 0 | AI11: =COUNTIF(C11:AF11,"DT MA") -> 0 | AJ11: =COUNTIF(C11:AF11,"DT Dispo") -> 0
AG12: =COUNTIF(C12:AF12,"Dienst statt Ruhe") -> 0 | AH12: =COUNTIF(C12:AF12,"Ruhe statt Dienst") -> 0 | AI12: =COUNTIF(C12:AF12,"DT MA") -> 0 | AJ12: =COUNTIF(C12:AF12,"DT Dispo") -> 0
AG13: =COUNTIF(C13:AF13,"Dienst statt Ruhe") -> 0 | AH13: =COUNTIF(C13:AF13,"Ruhe statt Dienst") -> 0 | AI13: =COUNTIF(C13:AF13,"DT MA") -> 0 | AJ13: =COUNTIF(C13:AF13,"DT Dispo") -> 0
AG14: =COUNTIF(C14:AF14,"Dienst statt Ruhe") -> 0 | AH14: =COUNTIF(C14:AF14,"Ruhe statt Dienst") -> 0 | AI14: =COUNTIF(C14:AF14,"DT MA") -> 0 | AJ14: =COUNTIF(C14:AF14,"DT Dispo") -> 0
... AG203: =COUNTIF(C203:AF203,"Dienst statt Ruhe") -> 0 | AH203: =COUNTIF(C203:AF203,"Ruhe statt Dienst") -> 0 | AI203: =COUNTIF(C203:AF203,"DT MA") -> 0 | AJ203: =COUNTIF(C203:AF203,"DT Dispo") -> 0

Sheet Dezember
C1: Dezember
A2: Name | B2: Vorname | C2: 01 | D2: 02 | E2: 03 | F2: 04 | G2: 05 | H2: 06 | I2: 07 | J2: 08 | K2: 09 | L2: 10 | M2: 11 | N2: 12 | O2: 13 | P2: 14 | Q2: 15 | R2: 16 | S2: 17 | T2: 18 | U2: 19 | V2: 20 | W2: 21 | X2: 22 | Y2: 23 | Z2: 24 | AA2: 25 | AB2: 26 | AC2: 27 | AD2: 28 | AE2: 29 | AF2: 30 | AG2: 31 | AH2: Dienst statt Ruhe | AI2: Ruhe statt Dienst | AJ2: DT MA | AK2: DT Dispo
AH3: =COUNTIF(C3:AG3,"Dienst statt Ruhe") -> 0 | AI3: =COUNTIF(C3:AG3,"Ruhe statt Dienst") -> 0 | AJ3: =COUNTIF(C3:AG3,"DT MA") -> 0 | AK3: =COUNTIF(C3:AG3,"DT Dispo") -> 0
AH4: =COUNTIF(C4:AG4,"Dienst statt Ruhe") -> 0 | AI4: =COUNTIF(C4:AG4,"Ruhe statt Dienst") -> 0 | AJ4: =COUNTIF(C4:AG4,"DT MA") -> 0 | AK4: =COUNTIF(C4:AG4,"DT Dispo") -> 0
AH5: =COUNTIF(C5:AG5,"Dienst statt Ruhe") -> 0 | AI5: =COUNTIF(C5:AG5,"Ruhe statt Dienst") -> 0 | AJ5: =COUNTIF(C5:AG5,"DT MA") -> 0 | AK5: =COUNTIF(C5:AG5,"DT Dispo") -> 0
AH6: =COUNTIF(C6:AG6,"Dienst statt Ruhe") -> 0 | AI6: =COUNTIF(C6:AG6,"Ruhe statt Dienst") -> 0 | AJ6: =COUNTIF(C6:AG6,"DT MA") -> 0 | AK6: =COUNTIF(C6:AG6,"DT Dispo") -> 0
AH7: =COUNTIF(C7:AG7,"Dienst statt Ruhe") -> 0 | AI7: =COUNTIF(C7:AG7,"Ruhe statt Dienst") -> 0 | AJ7: =COUNTIF(C7:AG7,"DT MA") -> 0 | AK7: =COUNTIF(C7:AG7,"DT Dispo") -> 0
AH8: =COUNTIF(C8:AG8,"Dienst statt Ruhe") -> 0 | AI8: =COUNTIF(C8:AG8,"Ruhe statt Dienst") -> 0 | AJ8: =COUNTIF(C8:AG8,"DT MA") -> 0 | AK8: =COUNTIF(C8:AG8,"DT Dispo") -> 0
AH9: =COUNTIF(C9:AG9,"Dienst statt Ruhe") -> 0 | AI9: =COUNTIF(C9:AG9,"Ruhe statt Dienst") -> 0 | AJ9: =COUNTIF(C9:AG9,"DT MA") -> 0 | AK9: =COUNTIF(C9:AG9,"DT Dispo") -> 0
AH10: =COUNTIF(C10:AG10,"Dienst statt Ruhe") -> 0 | AI10: =COUNTIF(C10:AG10,"Ruhe statt Dienst") -> 0 | AJ10: =COUNTIF(C10:AG10,"DT MA") -> 0 | AK10: =COUNTIF(C10:AG10,"DT Dispo") -> 0
AH11: =COUNTIF(C11:AG11,"Dienst statt Ruhe") -> 0 | AI11: =COUNTIF(C11:AG11,"Ruhe statt Dienst") -> 0 | AJ11: =COUNTIF(C11:AG11,"DT MA") -> 0 | AK11: =COUNTIF(C11:AG11,"DT Dispo") -> 0
AH12: =COUNTIF(C12:AG12,"Dienst statt Ruhe") -> 0 | AI12: =COUNTIF(C12:AG12,"Ruhe statt Dienst") -> 0 | AJ12: =COUNTIF(C12:AG12,"DT MA") -> 0 | AK12: =COUNTIF(C12:AG12,"DT Dispo") -> 0
AH13: =COUNTIF(C13:AG13,"Dienst statt Ruhe") -> 0 | AI13: =COUNTIF(C13:AG13,"Ruhe statt Dienst") -> 0 | AJ13: =COUNTIF(C13:AG13,"DT MA") -> 0 | AK13: =COUNTIF(C13:AG13,"DT Dispo") -> 0
AH14: =COUNTIF(C14:AG14,"Dienst statt Ruhe") -> 0 | AI14: =COUNTIF(C14:AG14,"Ruhe statt Dienst") -> 0 | AJ14: =COUNTIF(C14:AG14,"DT MA") -> 0 | AK14: =COUNTIF(C14:AG14,"DT Dispo") -> 0
... AH203: =COUNTIF(C203:AG203,"Dienst statt Ruhe") -> 0 | AI203: =COUNTIF(C203:AG203,"Ruhe statt Dienst") -> 0 | AJ203: =COUNTIF(C203:AG203,"DT MA") -> 0 | AK203: =COUNTIF(C203:AG203,"DT Dispo") -> 0

Sheet Tabelle2
A2: Dienst statt Ruhe
A3: Ruhe statt Dienst
A4: DT MA
A5: DT Dispo
