Workbook

Sheet Mitarbeiter
C1: Jahresauswertung
A2: Name | B2: Vorname | C2: Dienst statt Ruhe | D2: Ruhe statt Dienst | E2: DT MA | F2: DT Dispo
A3: aa | B3: a | C3: x | D3: =SUM(Januar!AI3+Februar!AG3+März!AI3+April!AH3+Mai!AI3+Juni!AH3+Juli!AI3+August!AI3+September!AH3+Oktober!AI3+November!AH3+Dezember!AI3) -> 0 | E3: =SUM(Januar!AJ3+Februar!AH3+März!AJ3+April!AI3+Mai!AJ3+Juni!AI3+Juli!AJ3+August!AJ3+September!AI3+Oktober!AJ3+November!AI3+Dezember!AJ3) -> 0 | F3: 44
A4: bb | B4: b | C4: =SUM(Januar!AH4+Februar!AF4+März!AH4+April!AG4+Mai!AH4+Juni!AG4+Juli!AH4+August!AH4+September!AG4+Oktober!AH4+November!AG4+Dezember!AH4) -> 0 | D4: x | E4: 22 | F4: =SUM(Januar!AK4+Februar!AI4+März!AK4+April!AJ4+Mai!AK4+Juni!AJ4+Juli!AK4+August!AK4+September!AJ4+Oktober!AK4+November!AJ4+Dezember!AK4) -> 0
A5: cc | B5: c | C5: =SUM(Januar!AH5+Februar!AF5+März!AH5+April!AG5+Mai!AH5+Juni!AG5+Juli!AH5+August!AH5+September!AG5+Oktober!AH5+November!AG5+Dezember!AH5) -> 0 | D5: =SUM(Januar!AI5+Februar!AG5+März!AI5+April!AH5+Mai!AI5+Juni!AH5+Juli!AI5+August!AI5+September!AH5+Oktober!AI5+November!AH5+Dezember!AI5) -> 0 | E5: =SUM(Januar!AJ5+Februar!AH5+März!AJ5+April!AI5+Mai!AJ5+Juni!AI5+Juli!AJ5+August!AJ5+September!AI5+Oktober!AJ5+November!AI5+Dezember!AJ5) -> 0 | F5: 66
A6: dd | B6: d | C6: =SUM(Januar!AH6+Februar!AF6+März!AH6+April!AG6+Mai!AH6+Juni!AG6+Juli!AH6+August!AH6+September!AG6+Oktober!AH6+November!AG6+Dezember!AH6) -> 0 | D6: =SUM(Januar!AI6+Februar!AG6+März!AI6+April!AH6+Mai!AI6+Juni!AH6+Juli!AI6+August!AI6+September!AH6+Oktober!AI6+November!AH6+Dezember!AI6) -> 0 | E6: 88 | F6: =SUM(Januar!AK6+Februar!AI6+März!AK6+April!AJ6+Mai!AK6+Juni!AJ6+Juli!AK6+August!AK6+September!AJ6+Oktober!AK6+November!AJ6+Dezember!AK6) -> 0
A7: ee | B7: e | C7: x | D7: =SUM(Januar!AI7+Februar!AG7+März!AI7+April!AH7+Mai!AI7+Juni!AH7+Juli!AI7+August!AI7+September!AH7+Oktober!AI7+November!AH7+Dezember!AI7) -> 0 | E7: 12 | F7: 32
A8: ab | B8: a | C8: =SUM(Januar!AH8+Februar!AF8+März!AH8+April!AG8+Mai!AH8+Juni!AG8+Juli!AH8+August!AH8+September!AG8+Oktober!AH8+November!AG8+Dezember!AH8) -> 0 | D8: =SUM(Januar!AI8+Februar!AG8+März!AI8+April!AH8+Mai!AI8+Juni!AH8+Juli!AI8+August!AI8+September!AH8+Oktober!AI8+November!AH8+Dezember!AI8) -> 0 | E8: =SUM(Januar!AJ8+Februar!AH8+März!AJ8+April!AI8+Mai!AJ8+Juni!AI8+Juli!AJ8+August!AJ8+September!AI8+Oktober!AJ8+November!AI8+Dezember!AJ8) -> 0 | F8: =SUM(Januar!AK8+Februar!AI8+März!AK8+April!AJ8+Mai!AK8+Juni!AJ8+Juli!AK8+August!AK8+September!AJ8+Oktober!AK8+November!AJ8+Dezember!AK8) -> 0
A9: xy | B9: h | C9: =SUM(Januar!AH9+Februar!AF9+März!AH9+April!AG9+Mai!AH9+Juni!AG9+Juli!AH9+August!AH9+September!AG9+Oktober!AH9+November!AG9+Dezember!AH9) -> 0 | D9: =SUM(Januar!AI9+Februar!AG9+März!AI9+April!AH9+Mai!AI9+Juni!AH9+Juli!AI9+August!AI9+September!AH9+Oktober!AI9+November!AH9+Dezember!AI9) -> 0 | E9: =SUM(Januar!AJ9+Februar!AH9+März!AJ9+April!AI9+Mai!AJ9+Juni!AI9+Juli!AJ9+August!AJ9+September!AI9+Oktober!AJ9+November!AI9+Dezember!AJ9) -> 0 | F9: =SUM(Januar!AK9+Februar!AI9+März!AK9+April!AJ9+Mai!AK9+Juni!AJ9+Juli!AK9+August!AK9+September!AJ9+Oktober!AK9+November!AJ9+Dezember!AK9) -> 0
A10: du | B10: w | C10: =SUM(Januar!AH10+Februar!AF10+März!AH10+April!AG10+Mai!AH10+Juni!AG10+Juli!AH10+August!AH10+September!AG10+Oktober!AH10+November!AG10+Dezember!AH10) -> 0 | D10: =SUM(Januar!AI10+Februar!AG10+März!AI10+April!AH10+Mai!AI10+Juni!AH10+Juli!AI10+August!AI10+September!AH10+Oktober!AI10+November!AH10+Dezember!AI10) -> 0 | E10: =SUM(Januar!AJ10+Februar!AH10+März!AJ10+April!AI10+Mai!AJ10+Juni!AI10+Juli!AJ10+August!AJ10+September!AI10+Oktober!AJ10+November!AI10+Dezember!AJ10) -> 0 | F10: =SUM(Januar!AK10+Februar!AI10+März!AK10+April!AJ10+Mai!AK10+Juni!AJ10+Juli!AK10+August!AK10+September!AJ10+Oktober!AK10+November!AJ10+Dezember!AK10) -> 0
A11: abc | B11: tt | C11: =SUM(Januar!AH11+Februar!AF11+März!AH11+April!AG11+Mai!AH11+Juni!AG11+Juli!AH11+August!AH11+September!AG11+Oktober!AH11+November!AG11+Dezember!AH11) -> 0 | D11: =SUM(Januar!AI11+Februar!AG11+März!AI11+April!AH11+Mai!AI11+Juni!AH11+Juli!AI11+August!AI11+September!AH11+Oktober!AI11+November!AH11+Dezember!AI11) -> 0 | E11: =SUM(Januar!AJ11+Februar!AH11+März!AJ11+April!AI11+Mai!AJ11+Juni!AI11+Juli!AJ11+August!AJ11+September!AI11+Oktober!AJ11+November!AI11+Dezember!AJ11) -> 0 | F11: =SUM(Januar!AK11+Februar!AI11+März!AK11+April!AJ11+Mai!AK11+Juni!AJ11+Juli!AK11+August!AK11+September!AJ11+Oktober!AK11+November!AJ11+Dezember!AK11) -> 0

Sheet Jan
A1: Name | B1: Vorname | C1: 01 | D1: 02 | E1: 03 | F1: 04 | G1: 05 | H1: 06 | I1: 07 | J1: 08 | K1: 09 | L1: 10 | M1: 11 | N1: 12 | O1: 13 | P1: 14 | Q1: 15 | R1: 16 | S1: 17 | T1: 18 | U1: 19 | V1: 20 | W1: 21 | X1: 22 | Y1: 23 | Z1: 24 | AA1: 25 | AB1: 26 | AC1: 27 | AD1: 28 | AE1: 29 | AF1: 30 | AG1: 31 | AH1: Dienst statt Ruhe | AI1: Ruhe statt Dienst | AJ1: DT MA | AK1: DT Dispo | AL1: Na&Vn
A2: aa | B2: a | AH2: x | AI2: 0 | AJ2: 0 | AK2: 44 | AL2: aa a
A3: ab | B3: a | AH3: 0 | AI3: 0 | AJ3: 0 | AK3: 0 | AL3: ab a
A4: abc | B4: tt | AH4: 0 | AI4: 0 | AJ4: 0 | AK4: 0 | AL4: abc tt
A5: bb | B5: b | AH5: 0 | AI5: x | AJ5: 22 | AK5: 0 | AL5: bb b
A6: cc | B6: c | AH6: 0 | AI6: 0 | AJ6: 0 | AK6: 66 | AL6: cc c
A7: dd | B7: d | AH7: 0 | AI7: 0 | AJ7: 88 | AK7: 0 | AL7: dd d
A8: du | B8: w | AH8: 0 | AI8: 0 | AJ8: 0 | AK8: 0 | AL8: du w
A9: ee | B9: e | AH9: x | AI9: 0 | AJ9: 12 | AK9: 32 | AL9: ee e
A10: xy | B10: h | AH10: 0 | AI10: 0 | AJ10: 0 | AK10: 0 | AL10: xy h

Sheet Feb
A1: Name | B1: Vorname | C1: 01 | D1: 02 | E1: 03 | F1: 04 | G1: 05 | H1: 06 | I1: 07 | J1: 08 | K1: 09 | L1: 10 | M1: 11 | N1: 12 | O1: 13 | P1: 14 | Q1: 15 | R1: 16 | S1: 17 | T1: 18 | U1: 19 | V1: 20 | W1: 21 | X1: 22 | Y1: 23 | Z1: 24 | AA1: 25 | AB1: 26 | AC1: 27 | AD1: 28 | AE1: 29 | AF1: Dienst statt Ruhe | AG1: Ruhe statt Dienst | AH1: DT MA | AI1: DT Dispo | AJ1: Na&Vn
A2: aa | B2: a | AF2: x | AG2: 0 | AH2: 0 | AI2: 44 | AJ2: aa a
A3: ab | B3: a | AF3: 0 | AG3: 0 | AH3: 0 | AI3: 0 | AJ3: ab a
A4: abc | B4: tt | AF4: 0 | AG4: 0 | AH4: 0 | AI4: 0 | AJ4: abc tt
A5: bb | B5: b | AF5: 0 | AG5: x | AH5: 22 | AI5: 0 | AJ5: bb b
A6: cc | B6: c | AF6: 0 | AG6: 0 | AH6: 0 | AI6: 66 | AJ6: cc c
A7: dd | B7: d | AF7: 0 | AG7: 0 | AH7: 88 | AI7: 0 | AJ7: dd d
A8: du | B8: w | AF8: 0 | AG8: 0 | AH8: 0 | AI8: 0 | AJ8: du w
A9: ee | B9: e | AF9: x | AG9: 0 | AH9: 12 | AI9: 32 | AJ9: ee e
A10: xy | B10: h | AF10: 0 | AG10: 0 | AH10: 0 | AI10: 0 | AJ10: xy h

Sheet Mrz
A1: Name | B1: Vorname | C1: 01 | D1: 02 | E1: 03 | F1: 04 | G1: 05 | H1: 06 | I1: 07 | J1: 08 | K1: 09 | L1: 10 | M1: 11 | N1: 12 | O1: 13 | P1: 14 | Q1: 15 | R1: 16 | S1: 17 | T1: 18 | U1: 19 | V1: 20 | W1: 21 | X1: 22 | Y1: 23 | Z1: 24 | AA1: 25 | AB1: 26 | AC1: 27 | AD1: 28 | AE1: 29 | AF1: 30 | AG1: 31 | AH1: Dienst statt Ruhe | AI1: Ruhe statt Dienst | AJ1: DT MA | AK1: DT Dispo | AL1: Na&Vn
A2: aa | B2: a | AH2: x | AI2: 0 | AJ2: 0 | AK2: 44 | AL2: aa a
A3: ab | B3: a | AH3: 0 | AI3: 0 | AJ3: 0 | AK3: 0 | AL3: ab a
A4: abc | B4: tt | AH4: 0 | AI4: 0 | AJ4: 0 | AK4: 0 | AL4: abc tt
A5: bb | B5: b | AH5: 0 | AI5: x | AJ5: 22 | AK5: 0 | AL5: bb b
A6: cc | B6: c | AH6: 0 | AI6: 0 | AJ6: 0 | AK6: 66 | AL6: cc c
A7: dd | B7: d | AH7: 0 | AI7: 0 | AJ7: 88 | AK7: 0 | AL7: dd d
A8: du | B8: w | AH8: 0 | AI8: 0 | AJ8: 0 | AK8: 0 | AL8: du w
A9: ee | B9: e | AH9: x | AI9: 0 | AJ9: 12 | AK9: 32 | AL9: ee e
A10: xy | B10: h | AH10: 0 | AI10: 0 | AJ10: 0 | AK10: 0 | AL10: xy h

Sheet Apr
A1: Name | B1: Vorname | C1: 01 | D1: 02 | E1: 03 | F1: 04 | G1: 05 | H1: 06 | I1: 07 | J1: 08 | K1: 09 | L1: 10 | M1: 11 | N1: 12 | O1: 13 | P1: 14 | Q1: 15 | R1: 16 | S1: 17 | T1: 18 | U1: 19 | V1: 20 | W1: 21 | X1: 22 | Y1: 23 | Z1: 24 | AA1: 25 | AB1: 26 | AC1: 27 | AD1: 28 | AE1: 29 | AF1: 30 | AG1: Dienst statt Ruhe | AH1: Ruhe statt Dienst | AI1: DT MA | AJ1: DT Dispo | AK1: Na&Vn
A2: aa | B2: a | AG2: x | AH2: 0 | AI2: 0 | AJ2: 44 | AK2: aa a
A3: ab | B3: a | AG3: 0 | AH3: 0 | AI3: 0 | AJ3: 0 | AK3: ab a
A4: abc | B4: tt | AG4: 0 | AH4: 0 | AI4: 0 | AJ4: 0 | AK4: abc tt
A5: bb | B5: b | AG5: 0 | AH5: x | AI5: 22 | AJ5: 0 | AK5: bb b
A6: cc | B6: c | AG6: 0 | AH6: 0 | AI6: 0 | AJ6: 66 | AK6: cc c
A7: dd | B7: d | AG7: 0 | AH7: 0 | AI7: 88 | AJ7: 0 | AK7: dd d
A8: du | B8: w | AG8: 0 | AH8: 0 | AI8: 0 | AJ8: 0 | AK8: du w
A9: ee | B9: e | AG9: x | AH9: 0 | AI9: 12 | AJ9: 32 | AK9: ee e
A10: xy | B10: h | AG10: 0 | AH10: 0 | AI10: 0 | AJ10: 0 | AK10: xy h

Sheet Januar
C1: Januar
A2: Name | B2: Vorname | C2: 01 | D2: 02 | E2: 03 | F2: 04 | G2: 05 | H2: 06 | I2: 07 | J2: 08 | K2: 09 | L2: 10 | M2: 11 | N2: 12 | O2: 13 | P2: 14 | Q2: 15 | R2: 16 | S2: 17 | T2: 18 | U2: 19 | V2: 20 | W2: 21 | X2: 22 | Y2: 23 | Z2: 24 | AA2: 25 | AB2: 26 | AC2: 27 | AD2: 28 | AE2: 29 | AF2: 30 | AG2: 31 | AH2: Dienst statt Ruhe | AI2: Ruhe statt Dienst | AJ2: DT MA | AK2: DT Dispo
AH3: =COUNTIF(C3:AG3,"Dienst statt Ruhe") -> 0 | AI3: =COUNTIF(C3:AG3,"Ruhe statt Dienst") -> 0 | AJ3: =COUNTIF(C3:AG3,"DT MA") -> 0 | AK3: =COUNTIF(C3:AG3,"DT Dispo") -> 0
AH4: =COUNTIF(C4:AG4,"Dienst statt Ruhe") -> 0 | AI4: =COUNTIF(C4:AG4,"Ruhe statt Dienst") -> 0 | AJ4: =COUNTIF(C4:AG4,"DT MA") -> 0 | AK4: =COUNTIF(C4:AG4,"DT Dispo") -> 0
AH5: =COUNTIF(C5:AG5,"Dienst statt Ruhe") -> 0 | AI5: =COUNTIF(C5:AG5,"Ruhe statt Dienst") -> 0 | AJ5: =COUNTIF(C5:AG5,"DT MA") -> 0 | AK5: =COUNTIF(C5:AG5,"DT Dispo") -> 0
AH6: =COUNTIF(C6:AG6,"Dienst statt Ruhe") -> 0 | AI6: =COUNTIF(C6:AG6,"Ruhe statt Dienst") -> 0 | AJ6: =COUNTIF(C6:AG6,"DT MA") -> 0 | AK6: =COUNTIF(C6:AG6,"DT Dispo") -> 0
AH7: =COUNTIF(C7:AG7,"Dienst statt Ruhe") -> 0 | AI7: =COUNTIF(C7:AG7,"Ruhe statt Dienst") -> 0 | AJ7: =COUNTIF(C7:AG7,"DT MA") -> 0 | AK7: =COUNTIF(C7:AG7,"DT Dispo") -> 0
AH8: =COUNTIF(C8:AG8,"Dienst statt Ruhe") -> 0 | AI8: =COUNTIF(C8:AG8,"Ruhe statt Dienst") -> 0 | AJ8: =COUNTIF(C8:AG8,"DT MA") -> 0 | AK8: =COUNTIF(C8:AG8,"DT Dispo") -> 0
AH9: =COUNTIF(C9:AG9,"Dienst statt Ruhe") -> 0 | AI9: =COUNTIF(C9:AG9,"Ruhe statt Dienst") -> 0 | AJ9: =COUNTIF(C9:AG9,"DT MA") -> 0 | AK9: =COUNTIF(C9:AG9,"DT Dispo") -> 0
AH10: =COUNTIF(C10:AG10,"Dienst statt Ruhe") -> 0 | AI10: =COUNTIF(C10:AG10,"Ruhe statt Dienst") -> 0 | AJ10: =COUNTIF(C10:AG10,"DT MA") -> 0 | AK10: =COUNTIF(C10:AG10,"DT Dispo") -> 0
AH11: =COUNTIF(C11:AG11,"Dienst statt Ruhe") -> 0 | AI11: =COUNTIF(C11:AG11,"Ruhe statt Dienst") -> 0 | AJ11: =COUNTIF(C11:AG11,"DT MA") -> 0 | AK11: =COUNTIF(C11:AG11,"DT Dispo") -> 0
AH12: =COUNTIF(C12:AG12,"Dienst statt Ruhe") -> 0 | AI12: =COUNTIF(C12:AG12,"Ruhe statt Dienst") -> 0 | AJ12: =COUNTIF(C12:AG12,"DT MA") -> 0 | AK12: =COUNTIF(C12:AG12,"DT Dispo") -> 0
AH13: =COUNTIF(C13:AG13,"Dienst statt Ruhe") -> 0 | AI13: =COUNTIF(C13:AG13,"Ruhe statt Dienst") -> 0 | AJ13: =COUNTIF(C13:AG13,"DT MA") -> 0 | AK13: =COUNTIF(C13:AG13,"DT Dispo") -> 0
AH14: =COUNTIF(C14:AG14,"Dienst statt Ruhe") -> 0 | AI14: =COUNTIF(C14:AG14,"Ruhe statt Dienst") -> 0 | AJ14: =COUNTIF(C14:AG14,"DT MA") -> 0 | AK14: =COUNTIF(C14:AG14,"DT Dispo") -> 0
... AH203: =COUNTIF(C203:AG203,"Dienst statt Ruhe") -> 0 | AI203: =COUNTIF(C203:AG203,"Ruhe statt Dienst") -> 0 | AJ203: =COUNTIF(C203:AG203,"DT MA") -> 0 | AK203: =COUNTIF(C203:AG203,"DT Dispo") -> 0

Sheet Februar
C1: Februar
A2: Name | B2: Vorname | C2: 01 | D2: 02 | E2: 03 | F2: 04 | G2: 05 | H2: 06 | I2: 07 | J2: 08 | K2: 09 | L2: 10 | M2: 11 | N2: 12 | O2: 13 | P2: 14 | Q2: 15 | R2: 16 | S2: 17 | T2: 18 | U2: 19 | V2: 20 | W2: 21 | X2: 22 | Y2: 23 | Z2: 24 | AA2: 25 | AB2: 26 | AC2: 27 | AD2: 28 | AE2: 29 | AF2: Dienst statt Ruhe | AG2: Ruhe statt Dienst | AH2: DT MA | AI2: DT Dispo
AF3: =COUNTIF(C3:AE3,"Dienst statt Ruhe") -> 0 | AG3: =COUNTIF(C3:AE3,"Ruhe statt Dienst") -> 0 | AH3: =COUNTIF(C3:AE3,"DT MA") -> 0 | AI3: =COUNTIF(C3:AE3,"DT Dispo") -> 0
AF4: =COUNTIF(C4:AE4,"Dienst statt Ruhe") -> 0 | AG4: =COUNTIF(C4:AE4,"Ruhe statt Dienst") -> 0 | AH4: =COUNTIF(C4:AE4,"DT MA") -> 0 | AI4: =COUNTIF(C4:AE4,"DT Dispo") -> 0
AF5: =COUNTIF(C5:AE5,"Dienst statt Ruhe") -> 0 | AG5: =COUNTIF(C5:AE5,"Ruhe statt Dienst") -> 0 | AH5: =COUNTIF(C5:AE5,"DT MA") -> 0 | AI5: =COUNTIF(C5:AE5,"DT Dispo") -> 0
AF6: =COUNTIF(C6:AE6,"Dienst statt Ruhe") -> 0 | AG6: =COUNTIF(C6:AE6,"Ruhe statt Dienst") -> 0 | AH6: =COUNTIF(C6:AE6,"DT MA") -> 0 | AI6: =COUNTIF(C6:AE6,"DT Dispo") -> 0
AF7: =COUNTIF(C7:AE7,"Dienst statt Ruhe") -> 0 | AG7: =COUNTIF(C7:AE7,"Ruhe statt Dienst") -> 0 | AH7: =COUNTIF(C7:AE7,"DT MA") -> 0 | AI7: =COUNTIF(C7:AE7,"DT Dispo") -> 0
AF8: =COUNTIF(C8:AE8,"Dienst statt Ruhe") -> 0 | AG8: =COUNTIF(C8:AE8,"Ruhe statt Dienst") -> 0 | AH8: =COUNTIF(C8:AE8,"DT MA") -> 0 | AI8: =COUNTIF(C8:AE8,"DT Dispo") -> 0
AF9: =COUNTIF(C9:AE9,"Dienst statt Ruhe") -> 0 | AG9: =COUNTIF(C9:AE9,"Ruhe statt Dienst") -> 0 | AH9: =COUNTIF(C9:AE9,"DT MA") -> 0 | AI9: =COUNTIF(C9:AE9,"DT Dispo") -> 0
AF10: =COUNTIF(C10:AE10,"Dienst statt Ruhe") -> 0 | AG10: =COUNTIF(C10:AE10,"Ruhe statt Dienst") -> 0 | AH10: =COUNTIF(C10:AE10,"DT MA") -> 0 | AI10: =COUNTIF(C10:AE10,"DT Dispo") -> 0
AF11: =COUNTIF(C11:AE11,"Dienst statt Ruhe") -> 0 | AG11: =COUNTIF(C11:AE11,"Ruhe statt Dienst") -> 0 | AH11: =COUNTIF(C11:AE11,"DT MA") -> 0 | AI11: =COUNTIF(C11:AE11,"DT Dispo") -> 0
AF12: =COUNTIF(C12:AE12,"Dienst statt Ruhe") -> 0 | AG12: =COUNTIF(C12:AE12,"Ruhe statt Dienst") -> 0 | AH12: =COUNTIF(C12:AE12,"DT MA") -> 0 | AI12: =COUNTIF(C12:AE12,"DT Dispo") -> 0
AF13: =COUNTIF(C13:AE13,"Dienst statt Ruhe") -> 0 | AG13: =COUNTIF(C13:AE13,"Ruhe statt Dienst") -> 0 | AH13: =COUNTIF(C13:AE13,"DT MA") -> 0 | AI13: =COUNTIF(C13:AE13,"DT Dispo") -> 0
AF14: =COUNTIF(C14:AE14,"Dienst statt Ruhe") -> 0 | AG14: =COUNTIF(C14:AE14,"Ruhe statt Dienst") -> 0 | AH14: =COUNTIF(C14:AE14,"DT MA") -> 0 | AI14: =COUNTIF(C14:AE14,"DT Dispo") -> 0
... AF203: =COUNTIF(C203:AE203,"Dienst statt Ruhe") -> 0 | AG203: =COUNTIF(C203:AE203,"Ruhe statt Dienst") -> 0 | AH203: =COUNTIF(C203:AE203,"DT MA") -> 0 | AI203: =COUNTIF(C203:AE203,"DT Dispo") -> 0

Sheet März
C1: März
A2: Name | B2: Vorname | C2: 01 | D2: 02 | E2: 03 | F2: 04 | G2: 05 | H2: 06 | I2: 07 | J2: 08 | K2: 09 | L2: 10 | M2: 11 | N2: 12 | O2: 13 | P2: 14 | Q2: 15 | R2: 16 | S2: 17 | T2: 18 | U2: 19 | V2: 20 | W2: 21 | X2: 22 | Y2: 23 | Z2: 24 | AA2: 25 | AB2: 26 | AC2: 27 | AD2: 28 | AE2: 29 | AF2: 30 | AG2: 31 | AH2: Dienst statt Ruhe | AI2: Ruhe statt Dienst | AJ2: DT MA | AK2: DT Dispo
AH3: =COUNTIF(C3:AG3,"Dienst statt Ruhe") -> 0 | AI3: =COUNTIF(C3:AG3,"Ruhe statt Dienst") -> 0 | AJ3: =COUNTIF(C3:AG3,"DT MA") -> 0 | AK3: =COUNTIF(C3:AG3,"DT Dispo") -> 0
AH4: =COUNTIF(C4:AG4,"Dienst statt Ruhe") -> 0 | AI4: =COUNTIF(C4:AG4,"Ruhe statt Dienst") -> 0 | AJ4: =COUNTIF(C4:AG4,"DT MA") -> 0 | AK4: =COUNTIF(C4:AG4,"DT Dispo") -> 0
AH5: =COUNTIF(C5:AG5,"Dienst statt Ruhe") -> 0 | AI5: =COUNTIF(C5:AG5,"Ruhe statt Dienst") -> 0 | AJ5: =COUNTIF(C5:AG5,"DT MA") -> 0 | AK5: =COUNTIF(C5:AG5,"DT Dispo") -> 0
AH6: =COUNTIF(C6:AG6,"Dienst statt Ruhe") -> 0 | AI6: =COUNTIF(C6:AG6,"Ruhe statt Dienst") -> 0 | AJ6: =COUNTIF(C6:AG6,"DT MA") -> 0 | AK6: =COUNTIF(C6:AG6,"DT Dispo") -> 0
AH7: =COUNTIF(C7:AG7,"Dienst statt Ruhe") -> 0 | AI7: =COUNTIF(C7:AG7,"Ruhe statt Dienst") -> 0 | AJ7: =COUNTIF(C7:AG7,"DT MA") -> 0 | AK7: =COUNTIF(C7:AG7,"DT Dispo") -> 0
AH8: =COUNTIF(C8:AG8,"Dienst statt Ruhe") -> 0 | AI8: =COUNTIF(C8:AG8,"Ruhe statt Dienst") -> 0 | AJ8: =COUNTIF(C8:AG8,"DT MA") -> 0 | AK8: =COUNTIF(C8:AG8,"DT Dispo") -> 0
AH9: =COUNTIF(C9:AG9,"Dienst statt Ruhe") -> 0 | AI9: =COUNTIF(C9:AG9,"Ruhe statt Dienst") -> 0 | AJ9: =COUNTIF(C9:AG9,"DT MA") -> 0 | AK9: =COUNTIF(C9:AG9,"DT Dispo") -> 0
AH10: =COUNTIF(C10:AG10,"Dienst statt Ruhe") -> 0 | AI10: =COUNTIF(C10:AG10,"Ruhe statt Dienst") -> 0 | AJ10: =COUNTIF(C10:AG10,"DT MA") -> 0 | AK10: =COUNTIF(C10:AG10,"DT Dispo") -> 0
AH11: =COUNTIF(C11:AG11,"Dienst statt Ruhe") -> 0 | AI11: =COUNTIF(C11:AG11,"Ruhe statt Dienst") -> 0 | AJ11: =COUNTIF(C11:AG11,"DT MA") -> 0 | AK11: =COUNTIF(C11:AG11,"DT Dispo") -> 0
AH12: =COUNTIF(C12:AG12,"Dienst statt Ruhe") -> 0 | AI12: =COUNTIF(C12:AG12,"Ruhe statt Dienst") -> 0 | AJ12: =COUNTIF(C12:AG12,"DT MA") -> 0 | AK12: =COUNTIF(C12:AG12,"DT Dispo") -> 0
AH13: =COUNTIF(C13:AG13,"Dienst statt Ruhe") -> 0 | AI13: =COUNTIF(C13:AG13,"Ruhe statt Dienst") -> 0 | AJ13: =COUNTIF(C13:AG13,"DT MA") -> 0 | AK13: =COUNTIF(C13:AG13,"DT Dispo") -> 0
AH14: =COUNTIF(C14:AG14,"Dienst statt Ruhe") -> 0 | AI14: =COUNTIF(C14:AG14,"Ruhe statt Dienst") -> 0 | AJ14: =COUNTIF(C14:AG14,"DT MA") -> 0 | AK14: =COUNTIF(C14:AG14,"DT Dispo") -> 0
... AH203: =COUNTIF(C203:AG203,"Dienst statt Ruhe") -> 0 | AI203: =COUNTIF(C203:AG203,"Ruhe statt Dienst") -> 0 | AJ203: =COUNTIF(C203:AG203,"DT MA") -> 0 | AK203: =COUNTIF(C203:AG203,"DT Dispo") -> 0

Sheet April
C1: April
A2: Name | B2: Vorname | C2: 01 | D2: 02 | E2: 03 | F2: 04 | G2: 05 | H2: 06 | I2: 07 | J2: 08 | K2: 09 | L2: 10 | M2: 11 | N2: 12 | O2: 13 | P2: 14 | Q2: 15 | R2: 16 | S2: 17 | T2: 18 | U2: 19 | V2: 20 | W2: 21 | X2: 22 | Y2: 23 | Z2: 24 | AA2: 25 | AB2: 26 | AC2: 27 | AD2: 28 | AE2: 29 | AF2: 30 | AG2: Dienst statt Ruhe | AH2: Ruhe statt Dienst | AI2: DT MA | AJ2: DT Dispo
AG3: =COUNTIF(C3:AF3,"Dienst statt Ruhe") -> 0 | AH3: =COUNTIF(C3:AF3,"Ruhe statt Dienst") -> 0 | AI3: =COUNTIF(C3:AF3,"DT MA") -> 0 | AJ3: =COUNTIF(C3:AF3,"DT Dispo") -> 0
AG4: =COUNTIF(C4:AF4,"Dienst statt Ruhe") -> 0 | AH4: =COUNTIF(C4:AF4,"Ruhe statt Dienst") -> 0 | AI4: =COUNTIF(C4:AF4,"DT MA") -> 0 | AJ4: =COUNTIF(C4:AF4,"DT Dispo") -> 0
AG5: =COUNTIF(C5:AF5,"Dienst statt Ruhe") -> 0 | AH5: =COUNTIF(C5:AF5,"Ruhe statt Dienst") -> 0 | AI5: =COUNTIF(C5:AF5,"DT MA") -> 0 | AJ5: =COUNTIF(C5:AF5,"DT Dispo") -> 0
AG6: =COUNTIF(C6:AF6,"Dienst statt Ruhe") -> 0 | AH6: =COUNTIF(C6:AF6,"Ruhe statt Dienst") -> 0 | AI6: =COUNTIF(C6:AF6,"DT MA") -> 0 | AJ6: =COUNTIF(C6:AF6,"DT Dispo") -> 0
AG7: =COUNTIF(C7:AF7,"Dienst statt Ruhe") -> 0 | AH7: =COUNTIF(C7:AF7,"Ruhe statt Dienst") -> 0 | AI7: =COUNTIF(C7:AF7,"DT MA") -> 0 | AJ7: =COUNTIF(C7:AF7,"DT Dispo") -> 0
AG8: =COUNTIF(C8:AF8,"Dienst statt Ruhe") -> 0 | AH8: =COUNTIF(C8:AF8,"Ruhe statt Dienst") -> 0 | AI8: =COUNTIF(C8:AF8,"DT MA") -> 0 | AJ8: =COUNTIF(C8:AF8,"DT Dispo") -> 0
AG9: =COUNTIF(C9:AF9,"Dienst statt Ruhe") -> 0 | AH9: =COUNTIF(C9:AF9,"Ruhe statt Dienst") -> 0 | AI9: =COUNTIF(C9:AF9,"DT MA") -> 0 | AJ9: =COUNTIF(C9:AF9,"DT Dispo") -> 0
AG10: =COUNTIF(C10:AF10,"Dienst statt Ruhe") -> 0 | AH10: =COUNTIF(C10:AF10,"Ruhe statt Dienst") -> 0 | AI10: =COUNTIF(C10:AF10,"DT MA") -> 0 | AJ10: =COUNTIF(C10:AF10,"DT Dispo") -> 0
AG11: =COUNTIF(C11:AF11,"Dienst statt Ruhe") -> 0 | AH11: =COUNTIF(C11:AF11,"Ruhe statt Dienst") -> 0 | AI11: =COUNTIF(C11:AF11,"DT MA") -> 0 | AJ11: =COUNTIF(C11:AF11,"DT Dispo") -> 0
AG12: =COUNTIF(C12:AF12,"Dienst statt Ruhe") -> 0 | AH12: =COUNTIF(C12:AF12,"Ruhe statt Dienst") -> 0 | AI12: =COUNTIF(C12:AF12,"DT MA") -> 0 | AJ12: =COUNTIF(C12:AF12,"DT Dispo") -> 0
AG13: =COUNTIF(C13:AF13,"Dienst statt Ruhe") -> 0 | AH13: =COUNTIF(C13:AF13,"Ruhe statt Dienst") -> 0 | AI13: =COUNTIF(C13:AF13,"DT MA") -> 0 | AJ13: =COUNTIF(C13:AF13,"DT Dispo") -> 0
AG14: =COUNTIF(C14:AF14,"Dienst statt Ruhe") -> 0 | AH14: =COUNTIF(C14:AF14,"Ruhe statt Dienst") -> 0 | AI14: =COUNTIF(C14:AF14,"DT MA") -> 0 | AJ14: =COUNTIF(C14:AF14,"DT Dispo") -> 0
... AG203: =COUNTIF(C203:AF203,"Dienst statt Ruhe") -> 0 | AH203: =COUNTIF(C203:AF203,"Ruhe statt Dienst") -> 0 | AI203: =COUNTIF(C203:AF203,"DT MA") -> 0 | AJ203: =COUNTIF(C203:AF203,"DT Dispo") -> 0

Sheet Mai
C1: Mai
A2: Name | B2: Vorname | C2: 01 | D2: 02 | E2: 03 | F2: 04 | G2: 05 | H2: 06 | I2: 07 | J2: 08 | K2: 09 | L2: 10 | M2: 11 | N2: 12 | O2: 13 | P2: 14 | Q2: 15 | R2: 16 | S2: 17 | T2: 18 | U2: 19 | V2: 20 | W2: 21 | X2: 22 | Y2: 23 | Z2: 24 | AA2: 25 | AB2: 26 | AC2: 27 | AD2: 28 | AE2: 29 | AF2: 30 | AG2: 31 | AH2: Dienst statt Ruhe | AI2: Ruhe statt Dienst | AJ2: DT MA | AK2: DT Dispo
AH3: =COUNTIF(C3:AG3,"Dienst statt Ruhe") -> 0 | AI3: =COUNTIF(C3:AG3,"Ruhe statt Dienst") -> 0 | AJ3: =COUNTIF(C3:AG3,"DT MA") -> 0 | AK3: =COUNTIF(C3:AG3,"DT Dispo") -> 0
AH4: =COUNTIF(C4:AG4,"Dienst statt Ruhe") -> 0 | AI4: =COUNTIF(C4:AG4,"Ruhe statt Dienst") -> 0 | AJ4: =COUNTIF(C4:AG4,"DT MA") -> 0 | AK4: =COUNTIF(C4:AG4,"DT Dispo") -> 0
AH5: =COUNTIF(C5:AG5,"Dienst statt Ruhe") -> 0 | AI5: =COUNTIF(C5:AG5,"Ruhe statt Dienst") -> 0 | AJ5: =COUNTIF(C5:AG5,"DT MA") -> 0 | AK5: =COUNTIF(C5:AG5,"DT Dispo") -> 0
AH6: =COUNTIF(C6:AG6,"Dienst statt Ruhe") -> 0 | AI6: =COUNTIF(C6:AG6,"Ruhe statt Dienst") -> 0 | AJ6: =COUNTIF(C6:AG6,"DT MA") -> 0 | AK6: =COUNTIF(C6:AG6,"DT Dispo") -> 0
AH7: =COUNTIF(C7:AG7,"Dienst statt Ruhe") -> 0 | AI7: =COUNTIF(C7:AG7,"Ruhe statt Dienst") -> 0 | AJ7: =COUNTIF(C7:AG7,"DT MA") -> 0 | AK7: =COUNTIF(C7:AG7,"DT Dispo") -> 0
AH8: =COUNTIF(C8:AG8,"Dienst statt Ruhe") -> 0 | AI8: =COUNTIF(C8:AG8,"Ruhe statt Dienst") -> 0 | AJ8: =COUNTIF(C8:AG8,"DT MA") -> 0 | AK8: =COUNTIF(C8:AG8,"DT Dispo") -> 0
AH9: =COUNTIF(C9:AG9,"Dienst statt Ruhe") -> 0 | AI9: =COUNTIF(C9:AG9,"Ruhe statt Dienst") -> 0 | AJ9: =COUNTIF(C9:AG9,"DT MA") -> 0 | AK9: =COUNTIF(C9:AG9,"DT Dispo") -> 0
AH10: =COUNTIF(C10:AG10,"Dienst statt Ruhe") -> 0 | AI10: =COUNTIF(C10:AG10,"Ruhe statt Dienst") -> 0 | AJ10: =COUNTIF(C10:AG10,"DT MA") -> 0 | AK10: =COUNTIF(C10:AG10,"DT Dispo") -> 0
AH11: =COUNTIF(C11:AG11,"Dienst statt Ruhe") -> 0 | AI11: =COUNTIF(C11:AG11,"Ruhe statt Dienst") -> 0 | AJ11: =COUNTIF(C11:AG11,"DT MA") -> 0 | AK11: =COUNTIF(C11:AG11,"DT Dispo") -> 0
AH12: =COUNTIF(C12:AG12,"Dienst statt Ruhe") -> 0 | AI12: =COUNTIF(C12:AG12,"Ruhe statt Dienst") -> 0 | AJ12: =COUNTIF(C12:AG12,"DT MA") -> 0 | AK12: =COUNTIF(C12:AG12,"DT Dispo") -> 0
AH13: =COUNTIF(C13:AG13,"Dienst statt Ruhe") -> 0 | AI13: =COUNTIF(C13:AG13,"Ruhe statt Dienst") -> 0 | AJ13: =COUNTIF(C13:AG13,"DT MA") -> 0 | AK13: =COUNTIF(C13:AG13,"DT Dispo") -> 0
AH14: =COUNTIF(C14:AG14,"Dienst statt Ruhe") -> 0 | AI14: =COUNTIF(C14:AG14,"Ruhe statt Dienst") -> 0 | AJ14: =COUNTIF(C14:AG14,"DT MA") -> 0 | AK14: =COUNTIF(C14:AG14,"DT Dispo") -> 0
... AH203: =COUNTIF(C203:AG203,"Dienst statt Ruhe") -> 0 | AI203: =COUNTIF(C203:AG203,"Ruhe statt Dienst") -> 0 | AJ203: =COUNTIF(C203:AG203,"DT MA") -> 0 | AK203: =COUNTIF(C203:AG203,"DT Dispo") -> 0

Sheet Juni
C1: Juni
A2: Name | B2: Vorname | C2: 01 | D2: 02 | E2: 03 | F2: 04 | G2: 05 | H2: 06 | I2: 07 | J2: 08 | K2: 09 | L2: 10 | M2: 11 | N2: 12 | O2: 13 | P2: 14 | Q2: 15 | R2: 16 | S2: 17 | T2: 18 | U2: 19 | V2: 20 | W2: 21 | X2: 22 | Y2: 23 | Z2: 24 | AA2: 25 | AB2: 26 | AC2: 27 | AD2: 28 | AE2: 29 | AF2: 30 | AG2: Dienst statt Ruhe | AH2: Ruhe statt Dienst | AI2: DT MA | AJ2: DT Dispo
AG3: =COUNTIF(C3:AF3,"Dienst statt Ruhe") -> 0 | AH3: =COUNTIF(C3:AF3,"Ruhe statt Dienst") -> 0 | AI3: =COUNTIF(C3:AF3,"DT MA") -> 0 | AJ3: =COUNTIF(C3:AF3,"DT Dispo") -> 0
AG4: =COUNTIF(C4:AF4,"Dienst statt Ruhe") -> 0 | AH4: =COUNTIF(C4:AF4,"Ruhe statt Dienst") -> 0 | AI4: =COUNTIF(C4:AF4,"DT MA") -> 0 | AJ4: =COUNTIF(C4:AF4,"DT Dispo") -> 0
AG5: =COUNTIF(C5:AF5,"Dienst statt Ruhe") -> 0 | AH5: =COUNTIF(C5:AF5,"Ruhe statt Dienst") -> 0 | AI5: =COUNTIF(C5:AF5,"DT MA") -> 0 | AJ5: =COUNTIF(C5:AF5,"DT Dispo") -> 0
AG6: =COUNTIF(C6:AF6,"Dienst statt Ruhe") -> 0 | AH6: =COUNTIF(C6:AF6,"Ruhe statt Dienst") -> 0 | AI6: =COUNTIF(C6:AF6,"DT MA") -> 0 | AJ6: =COUNTIF(C6:AF6,"DT Dispo") -> 0
AG7: =COUNTIF(C7:AF7,"Dienst statt Ruhe") -> 0 | AH7: =COUNTIF(C7:AF7,"Ruhe statt Dienst") -> 0 | AI7: =COUNTIF(C7:AF7,"DT MA") -> 0 | AJ7: =COUNTIF(C7:AF7,"DT Dispo") -> 0
AG8: =COUNTIF(C8:AF8,"Dienst statt Ruhe") -> 0 | AH8: =COUNTIF(C8:AF8,"Ruhe statt Dienst") -> 0 | AI8: =COUNTIF(C8:AF8,"DT MA") -> 0 | AJ8: =COUNTIF(C8:AF8,"DT Dispo") -> 0
AG9: =COUNTIF(C9:AF9,"Dienst statt Ruhe") -> 0 | AH9: =COUNTIF(C9:AF9,"Ruhe statt Dienst") -> 0 | AI9: =COUNTIF(C9:AF9,"DT MA") -> 0 | AJ9: =COUNTIF(C9:AF9,"DT Dispo") -> 0
AG10: =COUNTIF(C10:AF10,"Dienst statt Ruhe") -> 0 | AH10: =COUNTIF(C10:AF10,"Ruhe statt Dienst") -> 0 | AI10: =COUNTIF(C10:AF10,"DT MA") -> 0 | AJ10: =COUNTIF(C10:AF10,"DT Dispo") -> 0
AG11: =COUNTIF(C11:AF11,"Dienst statt Ruhe") -> 0 | AH11: =COUNTIF(C11:AF11,"Ruhe statt Dienst") -> 0 | AI11: =COUNTIF(C11:AF11,"DT MA") -> 0 | AJ11: =COUNTIF(C11:AF11,"DT Dispo") -> 0
AG12: =COUNTIF(C12:AF12,"Dienst statt Ruhe") -> 0 | AH12: =COUNTIF(C12:AF12,"Ruhe statt Dienst") -> 0 | AI12: =COUNTIF(C12:AF12,"DT MA") -> 0 | AJ12: =COUNTIF(C12:AF12,"DT Dispo") -> 0
AG13: =COUNTIF(C13:AF13,"Dienst statt Ruhe") -> 0 | AH13: =COUNTIF(C13:AF13,"Ruhe statt Dienst") -> 0 | AI13: =COUNTIF(C13:AF13,"DT MA") -> 0 | AJ13: =COUNTIF(C13:AF13,"DT Dispo") -> 0
AG14: =COUNTIF(C14:AF14,"Dienst statt Ruhe") -> 0 | AH14: =COUNTIF(C14:AF14,"Ruhe statt Dienst") -> 0 | AI14: =COUNTIF(C14:AF14,"DT MA") -> 0 | AJ14: =COUNTIF(C14:AF14,"DT Dispo") -> 0
... AG203: =COUNTIF(C203:AF203,"Dienst statt Ruhe") -> 0 | AH203: =COUNTIF(C203:AF203,"Ruhe statt Dienst") -> 0 | AI203: =COUNTIF(C203:AF203,"DT MA") -> 0 | AJ203: =COUNTIF(C203:AF203,"DT Dispo") -> 0

Sheet Juli
C1: Juli
A2: Name | B2: Vorname | C2: 01 | D2: 02 | E2: 03 | F2: 04 | G2: 05 | H2: 06 | I2: 07 | J2: 08 | K2: 09 | L2: 10 | M2: 11 | N2: 12 | O2: 13 | P2: 14 | Q2: 15 | R2: 16 | S2: 17 | T2: 18 | U2: 19 | V2: 20 | W2: 21 | X2: 22 | Y2: 23 | Z2: 24 | AA2: 25 | AB2: 26 | AC2: 27 | AD2: 28 | AE2: 29 | AF2: 30 | AG2: 31 | AH2: Dienst statt Ruhe | AI2: Ruhe statt Dienst | AJ2: DT MA | AK2: DT Dispo
AH3: =COUNTIF(C3:AG3,"Dienst statt Ruhe") -> 0 | AI3: =COUNTIF(C3:AG3,"Ruhe statt Dienst") -> 0 | AJ3: =COUNTIF(C3:AG3,"DT MA") -> 0 | AK3: =COUNTIF(C3:AG3,"DT Dispo") -> 0
AH4: =COUNTIF(C4:AG4,"Dienst statt Ruhe") -> 0 | AI4: =COUNTIF(C4:AG4,"Ruhe statt Dienst") -> 0 | AJ4: =COUNTIF(C4:AG4,"DT MA") -> 0 | AK4: =COUNTIF(C4:AG4,"DT Dispo") -> 0
AH5: =COUNTIF(C5:AG5,"Dienst statt Ruhe") -> 0 | AI5: =COUNTIF(C5:AG5,"Ruhe statt Dienst") -> 0 | AJ5: =COUNTIF(C5:AG5,"DT MA") -> 0 | AK5: =COUNTIF(C5:AG5,"DT Dispo") -> 0
AH6: =COUNTIF(C6:AG6,"Dienst statt Ruhe") -> 0 | AI6: =COUNTIF(C6:AG6,"Ruhe statt Dienst") -> 0 | AJ6: =COUNTIF(C6:AG6,"DT MA") -> 0 | AK6: =COUNTIF(C6:AG6,"DT Dispo") -> 0
AH7: =COUNTIF(C7:AG7,"Dienst statt Ruhe") -> 0 | AI7: =COUNTIF(C7:AG7,"Ruhe statt Dienst") -> 0 | AJ7: =COUNTIF(C7:AG7,"DT MA") -> 0 | AK7: =COUNTIF(C7:AG7,"DT Dispo") -> 0
AH8: =COUNTIF(C8:AG8,"Dienst statt Ruhe") -> 0 | AI8: =COUNTIF(C8:AG8,"Ruhe statt Dienst") -> 0 | AJ8: =COUNTIF(C8:AG8,"DT MA") -> 0 | AK8: =COUNTIF(C8:AG8,"DT Dispo") -> 0
AH9: =COUNTIF(C9:AG9,"Dienst statt Ruhe") -> 0 | AI9: =COUNTIF(C9:AG9,"Ruhe statt Dienst") -> 0 | AJ9: =COUNTIF(C9:AG9,"DT MA") -> 0 | AK9: =COUNTIF(C9:AG9,"DT Dispo") -> 0
AH10: =COUNTIF(C10:AG10,"Dienst statt Ruhe") -> 0 | AI10: =COUNTIF(C10:AG10,"Ruhe statt Dienst") -> 0 | AJ10: =COUNTIF(C10:AG10,"DT MA") -> 0 | AK10: =COUNTIF(C10:AG10,"DT Dispo") -> 0
AH11: =COUNTIF(C11:AG11,"Dienst statt Ruhe") -> 0 | AI11: =COUNTIF(C11:AG11,"Ruhe statt Dienst") -> 0 | AJ11: =COUNTIF(C11:AG11,"DT MA") -> 0 | AK11: =COUNTIF(C11:AG11,"DT Dispo") -> 0
AH12: =COUNTIF(C12:AG12,"Dienst statt Ruhe") -> 0 | AI12: =COUNTIF(C12:AG12,"Ruhe statt Dienst") -> 0 | AJ12: =COUNTIF(C12:AG12,"DT MA") -> 0 | AK12: =COUNTIF(C12:AG12,"DT Dispo") -> 0
AH13: =COUNTIF(C13:AG13,"Dienst statt Ruhe") -> 0 | AI13: =COUNTIF(C13:AG13,"Ruhe statt Dienst") -> 0 | AJ13: =COUNTIF(C13:AG13,"DT MA") -> 0 | AK13: =COUNTIF(C13:AG13,"DT Dispo") -> 0
AH14: =COUNTIF(C14:AG14,"Dienst statt Ruhe") -> 0 | AI14: =COUNTIF(C14:AG14,"Ruhe statt Dienst") -> 0 | AJ14: =COUNTIF(C14:AG14,"DT MA") -> 0 | AK14: =COUNTIF(C14:AG14,"DT Dispo") -> 0
... AH203: =COUNTIF(C203:AG203,"Dienst statt Ruhe") -> 0 | AI203: =COUNTIF(C203:AG203,"Ruhe statt Dienst") -> 0 | AJ203: =COUNTIF(C203:AG203,"DT MA") -> 0 | AK203: =COUNTIF(C203:AG203,"DT Dispo") -> 0

Sheet August
C1: August
A2: Name | B2: Vorname | C2: 01 | D2: 02 | E2: 03 | F2: 04 | G2: 05 | H2: 06 | I2: 07 | J2: 08 | K2: 09 | L2: 10 | M2: 11 | N2: 12 | O2: 13 | P2: 14 | Q2: 15 | R2: 16 | S2: 17 | T2: 18 | U2: 19 | V2: 20 | W2: 21 | X2: 22 | Y2: 23 | Z2: 24 | AA2: 25 | AB2: 26 | AC2: 27 | AD2: 28 | AE2: 29 | AF2: 30 | AG2: 31 | AH2: Dienst statt Ruhe | AI2: Ruhe statt Dienst | AJ2: DT MA | AK2: DT Dispo
AH3: =COUNTIF(C3:AG3,"Dienst statt Ruhe") -> 0 | AI3: =COUNTIF(C3:AG3,"Ruhe statt Dienst") -> 0 | AJ3: =COUNTIF(C3:AG3,"DT MA") -> 0 | AK3: =COUNTIF(C3:AG3,"DT Dispo") -> 0
AH4: =COUNTIF(C4:AG4,"Dienst statt Ruhe") -> 0 | AI4: =COUNTIF(C4:AG4,"Ruhe statt Dienst") -> 0 | AJ4: =COUNTIF(C4:AG4,"DT MA") -> 0 | AK4: =COUNTIF(C4:AG4,"DT Dispo") -> 0
AH5: =COUNTIF(C5:AG5,"Dienst statt Ruhe") -> 0 | AI5: =COUNTIF(C5:AG5,"Ruhe statt Dienst") -> 0 | AJ5: =COUNTIF(C5:AG5,"DT MA") -> 0 | AK5: =COUNTIF(C5:AG5,"DT Dispo") -> 0
AH6: =COUNTIF(C6:AG6,"Dienst statt Ruhe") -> 0 | AI6: =COUNTIF(C6:AG6,"Ruhe statt Dienst") -> 0 | AJ6: =COUNTIF(C6:AG6,"DT MA") -> 0 | AK6: =COUNTIF(C6:AG6,"DT Dispo") -> 0
AH7: =COUNTIF(C7:AG7,"Dienst statt Ruhe") -> 0 | AI7: =COUNTIF(C7:AG7,"Ruhe statt Dienst") -> 0 | AJ7: =COUNTIF(C7:AG7,"DT MA") -> 0 | AK7: =COUNTIF(C7:AG7,"DT Dispo") -> 0
AH8: =COUNTIF(C8:AG8,"Dienst statt Ruhe") -> 0 | AI8: =COUNTIF(C8:AG8,"Ruhe statt Dienst") -> 0 | AJ8: =COUNTIF(C8:AG8,"DT MA") -> 0 | AK8: =COUNTIF(C8:AG8,"DT Dispo") -> 0
AH9: =COUNTIF(C9:AG9,"Dienst statt Ruhe") -> 0 | AI9: =COUNTIF(C9:AG9,"Ruhe statt Dienst") -> 0 | AJ9: =COUNTIF(C9:AG9,"DT MA") -> 0 | AK9: =COUNTIF(C9:AG9,"DT Dispo") -> 0
AH10: =COUNTIF(C10:AG10,"Dienst statt Ruhe") -> 0 | AI10: =COUNTIF(C10:AG10,"Ruhe statt Dienst") -> 0 | AJ10: =COUNTIF(C10:AG10,"DT MA") -> 0 | AK10: =COUNTIF(C10:AG10,"DT Dispo") -> 0
AH11: =COUNTIF(C11:AG11,"Dienst statt Ruhe") -> 0 | AI11: =COUNTIF(C11:AG11,"Ruhe statt Dienst") -> 0 | AJ11: =COUNTIF(C11:AG11,"DT MA") -> 0 | AK11: =COUNTIF(C11:AG11,"DT Dispo") -> 0
AH12: =COUNTIF(C12:AG12,"Dienst statt Ruhe") -> 0 | AI12: =COUNTIF(C12:AG12,"Ruhe statt Dienst") -> 0 | AJ12: =COUNTIF(C12:AG12,"DT MA") -> 0 | AK12: =COUNTIF(C12:AG12,"DT Dispo") -> 0
AH13: =COUNTIF(C13:AG13,"Dienst statt Ruhe") -> 0 | AI13: =COUNTIF(C13:AG13,"Ruhe statt Dienst") -> 0 | AJ13: =COUNTIF(C13:AG13,"DT MA") -> 0 | AK13: =COUNTIF(C13:AG13,"DT Dispo") -> 0
AH14: =COUNTIF(C14:AG14,"Dienst statt Ruhe") -> 0 | AI14: =COUNTIF(C14:AG14,"Ruhe statt Dienst") -> 0 | AJ14: =COUNTIF(C14:AG14,"DT MA") -> 0 | AK14: =COUNTIF(C14:AG14,"DT Dispo") -> 0
... AH203: =COUNTIF(C203:AG203,"Dienst statt Ruhe") -> 0 | AI203: =COUNTIF(C203:AG203,"Ruhe statt Dienst") -> 0 | AJ203: =COUNTIF(C203:AG203,"DT MA") -> 0 | AK203: =COUNTIF(C203:AG203,"DT Dispo") -> 0

Sheet September
C1: September
A2: Name | B2: Vorname | C2: 01 | D2: 02 | E2: 03 | F2: 04 | G2: 05 | H2: 06 | I2: 07 | J2: 08 | K2: 09 | L2: 10 | M2: 11 | N2: 12 | O2: 13 | P2: 14 | Q2: 15 | R2: 16 | S2: 17 | T2: 18 | U2: 19 | V2: 20 | W2: 21 | X2: 22 | Y2: 23 | Z2: 24 | AA2: 25 | AB2: 26 | AC2: 27 | AD2: 28 | AE2: 29 | AF2: 30 | AG2: Dienst statt Ruhe | AH2: Ruhe statt Dienst | AI2: DT MA | AJ2: DT Dispo
AG3: =COUNTIF(C3:AF3,"Dienst statt Ruhe") -> 0 | AH3: =COUNTIF(C3:AF3,"Ruhe statt Dienst") -> 0 | AI3: =COUNTIF(C3:AF3,"DT MA") -> 0 | AJ3: =COUNTIF(C3:AF3,"DT Dispo") -> 0
AG4: =COUNTIF(C4:AF4,"Dienst statt Ruhe") -> 0 | AH4: =COUNTIF(C4:AF4,"Ruhe statt Dienst") -> 0 | AI4: =COUNTIF(C4:AF4,"DT MA") -> 0 | AJ4: =COUNTIF(C4:AF4,"DT Dispo") -> 0
AG5: =COUNTIF(C5:AF5,"Dienst statt Ruhe") -> 0 | AH5: =COUNTIF(C5:AF5,"Ruhe statt Dienst") -> 0 | AI5: =COUNTIF(C5:AF5,"DT MA") -> 0 | AJ5: =COUNTIF(C5:AF5,"DT Dispo") -> 0
AG6: =COUNTIF(C6:AF6,"Dienst statt Ruhe") -> 0 | AH6: =COUNTIF(C6:AF6,"Ruhe statt Dienst") -> 0 | AI6: =COUNTIF(C6:AF6,"DT MA") -> 0 | AJ6: =COUNTIF(C6:AF6,"DT Dispo") -> 0
AG7: =COUNTIF(C7:AF7,"Dienst statt Ruhe") -> 0 | AH7: =COUNTIF(C7:AF7,"Ruhe statt Dienst") -> 0 | AI7: =COUNTIF(C7:AF7,"DT MA") -> 0 | AJ7: =COUNTIF(C7:AF7,"DT Dispo") -> 0
AG8: =COUNTIF(C8:AF8,"Dienst statt Ruhe") -> 0 | AH8: =COUNTIF(C8:AF8,"Ruhe statt Dienst") -> 0 | AI8: =COUNTIF(C8:AF8,"DT MA") -> 0 | AJ8: =COUNTIF(C8:AF8,"DT Dispo") -> 0
AG9: =COUNTIF(C9:AF9,"Dienst statt Ruhe") -> 0 | AH9: =COUNTIF(C9:AF9,"Ruhe statt Dienst") -> 0 | AI9: =COUNTIF(C9:AF9,"DT MA") -> 0 | AJ9: =COUNTIF(C9:AF9,"DT Dispo") -> 0
AG10: =COUNTIF(C10:AF10,"Dienst statt Ruhe") -> 0 | AH10: =COUNTIF(C10:AF10,"Ruhe statt Dienst") -> 0 | AI10: =COUNTIF(C10:AF10,"DT MA") -> 0 | AJ10: =COUNTIF(C10:AF10,"DT Dispo") -> 0
AG11: =COUNTIF(C11:AF11,"Dienst statt Ruhe") -> 0 | AH11: =COUNTIF(C11:AF11,"Ruhe statt Dienst") -> 0 | AI11: =COUNTIF(C11:AF11,"DT MA") -> 0 | AJ11: =COUNTIF(C11:AF11,"DT Dispo") -> 0
AG12: =COUNTIF(C12:AF12,"Dienst statt Ruhe") -> 0 | AH12: =COUNTIF(C12:AF12,"Ruhe statt Dienst") -> 0 | AI12: =COUNTIF(C12:AF12,"DT MA") -> 0 | AJ12: =COUNTIF(C12:AF12,"DT Dispo") -> 0
AG13: =COUNTIF(C13:AF13,"Dienst statt Ruhe") -> 0 | AH13: =COUNTIF(C13:AF13,"Ruhe statt Dienst") -> 0 | AI13: =COUNTIF(C13:AF13,"DT MA") -> 0 | AJ13: =COUNTIF(C13:AF13,"DT Dispo") -> 0
AG14: =COUNTIF(C14:AF14,"Dienst statt Ruhe") -> 0 | AH14: =COUNTIF(C14:AF14,"Ruhe statt Dienst") -> 0 | AI14: =COUNTIF(C14:AF14,"DT MA") -> 0 | AJ14: =COUNTIF(C14:AF14,"DT Dispo") -> 0
... AG203: =COUNTIF(C203:AF203,"Dienst statt Ruhe") -> 0 | AH203: =COUNTIF(C203:AF203,"Ruhe statt Dienst") -> 0 | AI203: =COUNTIF(C203:AF203,"DT MA") -> 0 | AJ203: =COUNTIF(C203:AF203,"DT Dispo") -> 0

Sheet Oktober
C1: Oktober
A2: Name | B2: Vorname | C2: 01 | D2: 02 | E2: 03 | F2: 04 | G2: 05 | H2: 06 | I2: 07 | J2: 08 | K2: 09 | L2: 10 | M2: 11 | N2: 12 | O2: 13 | P2: 14 | Q2: 15 | R2: 16 | S2: 17 | T2: 18 | U2: 19 | V2: 20 | W2: 21 | X2: 22 | Y2: 23 | Z2: 24 | AA2: 25 | AB2: 26 | AC2: 27 | AD2: 28 | AE2: 29 | AF2: 30 | AG2: 31 | AH2: Dienst statt Ruhe | AI2: Ruhe statt Dienst | AJ2: DT MA | AK2: DT Dispo
AH3: =COUNTIF(C3:AG3,"Dienst statt Ruhe") -> 0 | AI3: =COUNTIF(C3:AG3,"Ruhe statt Dienst") -> 0 | AJ3: =COUNTIF(C3:AG3,"DT MA") -> 0 | AK3: =COUNTIF(C3:AG3,"DT Dispo") -> 0
AH4: =COUNTIF(C4:AG4,"Dienst statt Ruhe") -> 0 | AI4: =COUNTIF(C4:AG4,"Ruhe statt Dienst") -> 0 | AJ4: =COUNTIF(C4:AG4,"DT MA") -> 0 | AK4: =COUNTIF(C4:AG4,"DT Dispo") -> 0
AH5: =COUNTIF(C5:AG5,"Dienst statt Ruhe") -> 0 | AI5: =COUNTIF(C5:AG5,"Ruhe statt Dienst") -> 0 | AJ5: =COUNTIF(C5:AG5,"DT MA") -> 0 | AK5: =COUNTIF(C5:AG5,"DT Dispo") -> 0
AH6: =COUNTIF(C6:AG6,"Dienst statt Ruhe") -> 0 | AI6: =COUNTIF(C6:AG6,"Ruhe statt Dienst") -> 0 | AJ6: =COUNTIF(C6:AG6,"DT MA") -> 0 | AK6: =COUNTIF(C6:AG6,"DT Dispo") -> 0
AH7: =COUNTIF(C7:AG7,"Dienst statt Ruhe") -> 0 | AI7: =COUNTIF(C7:AG7,"Ruhe statt Dienst") -> 0 | AJ7: =COUNTIF(C7:AG7,"DT MA") -> 0 | AK7: =COUNTIF(C7:AG7,"DT Dispo") -> 0
AH8: =COUNTIF(C8:AG8,"Dienst statt Ruhe") -> 0 | AI8: =COUNTIF(C8:AG8,"Ruhe statt Dienst") -> 0 | AJ8: =COUNTIF(C8:AG8,"DT MA") -> 0 | AK8: =COUNTIF(C8:AG8,"DT Dispo") -> 0
AH9: =COUNTIF(C9:AG9,"Dienst statt Ruhe") -> 0 | AI9: =COUNTIF(C9:AG9,"Ruhe statt Dienst") -> 0 | AJ9: =COUNTIF(C9:AG9,"DT MA") -> 0 | AK9: =COUNTIF(C9:AG9,"DT Dispo") -> 0
AH10: =COUNTIF(C10:AG10,"Dienst statt Ruhe") -> 0 | AI10: =COUNTIF(C10:AG10,"Ruhe statt Dienst") -> 0 | AJ10: =COUNTIF(C10:AG10,"DT MA") -> 0 | AK10: =COUNTIF(C10:AG10,"DT Dispo") -> 0
AH11: =COUNTIF(C11:AG11,"Dienst statt Ruhe") -> 0 | AI11: =COUNTIF(C11:AG11,"Ruhe statt Dienst") -> 0 | AJ11: =COUNTIF(C11:AG11,"DT MA") -> 0 | AK11: =COUNTIF(C11:AG11,"DT Dispo") -> 0
AH12: =COUNTIF(C12:AG12,"Dienst statt Ruhe") -> 0 | AI12: =COUNTIF(C12:AG12,"Ruhe statt Dienst") -> 0 | AJ12: =COUNTIF(C12:AG12,"DT MA") -> 0 | AK12: =COUNTIF(C12:AG12,"DT Dispo") -> 0
AH13: =COUNTIF(C13:AG13,"Dienst statt Ruhe") -> 0 | AI13: =COUNTIF(C13:AG13,"Ruhe statt Dienst") -> 0 | AJ13: =COUNTIF(C13:AG13,"DT MA") -> 0 | AK13: =COUNTIF(C13:AG13,"DT Dispo") -> 0
AH14: =COUNTIF(C14:AG14,"Dienst statt Ruhe") -> 0 | AI14: =COUNTIF(C14:AG14,"Ruhe statt Dienst") -> 0 | AJ14: =COUNTIF(C14:AG14,"DT MA") -> 0 | AK14: =COUNTIF(C14:AG14,"DT Dispo") -> 0
... AH203: =COUNTIF(C203:AG203,"Dienst statt Ruhe") -> 0 | AI203: =COUNTIF(C203:AG203,"Ruhe statt Dienst") -> 0 | AJ203: =COUNTIF(C203:AG203,"DT MA") -> 0 | AK203: =COUNTIF(C203:AG203,"DT Dispo") -> 0

Sheet November
C1: November
A2: Name | B2: Vorname | C2: 01 | D2: 02 | E2: 03 | F2: 04 | G2: 05 | H2: 06 | I2: 07 | J2: 08 | K2: 09 | L2: 10 | M2: 11 | N2: 12 | O2: 13 | P2: 14 | Q2: 15 | R2: 16 | S2: 17 | T2: 18 | U2: 19 | V2: 20 | W2: 21 | X2: 22 | Y2: 23 | Z2: 24 | AA2: 25 | AB2: 26 | AC2: 27 | AD2: 28 | AE2: 29 | AF2: 30 | AG2: Dienst statt Ruhe | AH2: Ruhe statt Dienst | AI2: DT MA | AJ2: DT Dispo
AG3: =COUNTIF(C3:AF3,"Dienst statt Ruhe") -> 0 | AH3: =COUNTIF(C3:AF3,"Ruhe statt Dienst") -> 0 | AI3: =COUNTIF(C3:AF3,"DT MA") -> 0 | AJ3: =COUNTIF(C3:AF3,"DT Dispo") -> 0
AG4: =COUNTIF(C4:AF4,"Dienst statt Ruhe") -> 0 | AH4: =COUNTIF(C4:AF4,"Ruhe statt Dienst") -> 0 | AI4: =COUNTIF(C4:AF4,"DT MA") -> 0 | AJ4: =COUNTIF(C4:AF4,"DT Dispo") -> 0
AG5: =COUNTIF(C5:AF5,"Dienst statt Ruhe") -> 0 | AH5: =COUNTIF(C5:AF5,"Ruhe statt Dienst") -> 0 | AI5: =COUNTIF(C5:AF5,"DT MA") -> 0 | AJ5: =COUNTIF(C5:AF5,"DT Dispo") -> 0
AG6: =COUNTIF(C6:AF6,"Dienst statt Ruhe") -> 0 | AH6: =COUNTIF(C6:AF6,"Ruhe statt Dienst") -> 0 | AI6: =COUNTIF(C6:AF6,"DT MA") -> 0 | AJ6: =COUNTIF(C6:AF6,"DT Dispo") -> 0
AG7: =COUNTIF(C7:AF7,"Dienst statt Ruhe") -> 0 | AH7: =COUNTIF(C7:AF7,"Ruhe statt Dienst") -> 0 | AI7: =COUNTIF(C7:AF7,"DT MA") -> 0 | AJ7: =COUNTIF(C7:AF7,"DT Dispo") -> 0
AG8: =COUNTIF(C8:AF8,"Dienst statt Ruhe") -> 0 | AH8: =COUNTIF(C8:AF8,"Ruhe statt Dienst") -> 0 | AI8: =COUNTIF(C8:AF8,"DT MA") -> 0 | AJ8: =COUNTIF(C8:AF8,"DT Dispo") -> 0
AG9: =COUNTIF(C9:AF9,"Dienst statt Ruhe") -> 0 | AH9: =COUNTIF(C9:AF9,"Ruhe statt Dienst") -> 0 | AI9: =COUNTIF(C9:AF9,"DT MA") -> 0 | AJ9: =COUNTIF(C9:AF9,"DT Dispo") -> 0
AG10: =COUNTIF(C10:AF10,"Dienst statt Ruhe") -> 0 | AH10: =COUNTIF(C10:AF10,"Ruhe statt Dienst") -> 0 | AI10: =COUNTIF(C10:AF10,"DT MA") -> 0 | AJ10: =COUNTIF(C10:AF10,"DT Dispo") -> 0
AG11: =COUNTIF(C11:AF11,"Dienst statt Ruhe") -> 0 | AH11: =COUNTIF(C11:AF11,"Ruhe statt Dienst") -> 0 | AI11: =COUNTIF(C11:AF11,"DT MA") -> 0 | AJ11: =COUNTIF(C11:AF11,"DT Dispo") -> 0
AG12: =COUNTIF(C12:AF12,"Dienst statt Ruhe") -> 0 | AH12: =COUNTIF(C12:AF12,"Ruhe statt Dienst") -> 0 | AI12: =COUNTIF(C12:AF12,"DT MA") -> 0 | AJ12: =COUNTIF(C12:AF12,"DT Dispo") -> 0
AG13: =COUNTIF(C13:AF13,"Dienst statt Ruhe") -> 0 | AH13: =COUNTIF(C13:AF13,"Ruhe statt Dienst") -> 0 | AI13: =COUNTIF(C13:AF13,"DT MA") -> 0 | AJ13: =COUNTIF(C13:AF13,"DT Dispo") -> 0
AG14: =COUNTIF(C14:AF14,"Dienst statt Ruhe") -> 0 | AH14: =COUNTIF(C14:AF14,"Ruhe statt Dienst") -> 0 | AI14: =COUNTIF(C14:AF14,"DT MA") -> 0 | AJ14: =COUNTIF(C14:AF14,"DT Dispo") -> 0
... AG203: =COUNTIF(C203:AF203,"Dienst statt Ruhe") -> 0 | AH203: =COUNTIF(C203:AF203,"Ruhe statt Dienst") -> 0 | AI203: =COUNTIF(C203:AF203,"DT MA") -> 0 | AJ203: =COUNTIF(C203:AF203,"DT Dispo") -> 0

Sheet Dezember
C1: Dezember
A2: Name | B2: Vorname | C2: 01 | D2: 02 | E2: 03 | F2: 04 | G2: 05 | H2: 06 | I2: 07 | J2: 08 | K2: 09 | L2: 10 | M2: 11 | N2: 12 | O2: 13 | P2: 14 | Q2: 15 | R2: 16 | S2: 17 | T2: 18 | U2: 19 | V2: 20 | W2: 21 | X2: 22 | Y2: 23 | Z2: 24 | AA2: 25 | AB2: 26 | AC2: 27 | AD2: 28 | AE2: 29 | AF2: 30 | AG2: 31 | AH2: Dienst statt Ruhe | AI2: Ruhe statt Dienst | AJ2: DT MA | AK2: DT Dispo
AH3: =COUNTIF(C3:AG3,"Dienst statt Ruhe") -> 0 | AI3: =COUNTIF(C3:AG3,"Ruhe statt Dienst") -> 0 | AJ3: =COUNTIF(C3:AG3,"DT MA") -> 0 | AK3: =COUNTIF(C3:AG3,"DT Dispo") -> 0
AH4: =COUNTIF(C4:AG4,"Dienst statt Ruhe") -> 0 | AI4: =COUNTIF(C4:AG4,"Ruhe statt Dienst") -> 0 | AJ4: =COUNTIF(C4:AG4,"DT MA") -> 0 | AK4: =COUNTIF(C4:AG4,"DT Dispo") -> 0
AH5: =COUNTIF(C5:AG5,"Dienst statt Ruhe") -> 0 | AI5: =COUNTIF(C5:AG5,"Ruhe statt Dienst") -> 0 | AJ5: =COUNTIF(C5:AG5,"DT MA") -> 0 | AK5: =COUNTIF(C5:AG5,"DT Dispo") -> 0
AH6: =COUNTIF(C6:AG6,"Dienst statt Ruhe") -> 0 | AI6: =COUNTIF(C6:AG6,"Ruhe statt Dienst") -> 0 | AJ6: =COUNTIF(C6:AG6,"DT MA") -> 0 | AK6: =COUNTIF(C6:AG6,"DT Dispo") -> 0
AH7: =COUNTIF(C7:AG7,"Dienst statt Ruhe") -> 0 | AI7: =COUNTIF(C7:AG7,"Ruhe statt Dienst") -> 0 | AJ7: =COUNTIF(C7:AG7,"DT MA") -> 0 | AK7: =COUNTIF(C7:AG7,"DT Dispo") -> 0
AH8: =COUNTIF(C8:AG8,"Dienst statt Ruhe") -> 0 | AI8: =COUNTIF(C8:AG8,"Ruhe statt Dienst") -> 0 | AJ8: =COUNTIF(C8:AG8,"DT MA") -> 0 | AK8: =COUNTIF(C8:AG8,"DT Dispo") -> 0
AH9: =COUNTIF(C9:AG9,"Dienst statt Ruhe") -> 0 | AI9: =COUNTIF(C9:AG9,"Ruhe statt Dienst") -> 0 | AJ9: =COUNTIF(C9:AG9,"DT MA") -> 0 | AK9: =COUNTIF(C9:AG9,"DT Dispo") -> 0
AH10: =COUNTIF(C10:AG10,"Dienst statt Ruhe") -> 0 | AI10: =COUNTIF(C10:AG10,"Ruhe statt Dienst") -> 0 | AJ10: =COUNTIF(C10:AG10,"DT MA") -> 0 | AK10: =COUNTIF(C10:AG10,"DT Dispo") -> 0
AH11: =COUNTIF(C11:AG11,"Dienst statt Ruhe") -> 0 | AI11: =COUNTIF(C11:AG11,"Ruhe statt Dienst") -> 0 | AJ11: =COUNTIF(C11:AG11,"DT MA") -> 0 | AK11: =COUNTIF(C11:AG11,"DT Dispo") -> 0
AH12: =COUNTIF(C12:AG12,"Dienst statt Ruhe") -> 0 | AI12: =COUNTIF(C12:AG12,"Ruhe statt Dienst") -> 0 | AJ12: =COUNTIF(C12:AG12,"DT MA") -> 0 | AK12: =COUNTIF(C12:AG12,"DT Dispo") -> 0
AH13: =COUNTIF(C13:AG13,"Dienst statt Ruhe") -> 0 | AI13: =COUNTIF(C13:AG13,"Ruhe statt Dienst") -> 0 | AJ13: =COUNTIF(C13:AG13,"DT MA") -> 0 | AK13: =COUNTIF(C13:AG13,"DT Dispo") -> 0
AH14: =COUNTIF(C14:AG14,"Dienst statt Ruhe") -> 0 | AI14: =COUNTIF(C14:AG14,"Ruhe statt Dienst") -> 0 | AJ14: =COUNTIF(C14:AG14,"DT MA") -> 0 | AK14: =COUNTIF(C14:AG14,"DT Dispo") -> 0
... AH203: =COUNTIF(C203:AG203,"Dienst statt Ruhe") -> 0 | AI203: =COUNTIF(C203:AG203,"Ruhe statt Dienst") -> 0 | AJ203: =COUNTIF(C203:AG203,"DT MA") -> 0 | AK203: =COUNTIF(C203:AG203,"DT Dispo") -> 0

Sheet Tabelle2
A2: Dienst statt Ruhe
A3: Ruhe statt Dienst
A4: DT MA
A5: DT Dispo
