Workbook

Sheet Bauart
A1: Adress- nr. | B1: Bauart
A2: 115846 | B2: 1
A3: 115866 | B3: 1
A4: 115866 | B4: 1
A5: 115901
A6: 115908 | B6: 1
A7: 115908 | B7: 1
A8: 115910 | B8: 1
A9: 115910 | B9: 1
A10: 115910 | B10: 2
A11: 115910 | B11: 2
A12: 115910 | B12: 1
A13: 115910 | B13: 1
A14: 115910 | B14: 1
A15: 115910 | B15: 1
A16: 115910 | B16: 1
A17: 115910
A18: 115910 | B18: 1
A19: 115910 | B19: 1
A20: 115910 | B20: 1
A21: 115910 | B21: 1
A22: 115910 | B22: 1
A23: 115910 | B23: 3
A24: 115910 | B24: 1
A25: 115910 | B25: 1
A26: 115910 | B26: 1
A27: 115910
A28: 115910 | B28: 1
A29: 115910 | B29: 1
A30: 115910 | B30: 1
A31: 115910 | B31: 1
A32: 115910 | B32: 1
A33: 115910 | B33: 2
A34: 115910
A35: 115910 | B35: 3
A36: 115910
A37: 115910
A38: 115910
A39: 115910
A40: 115910 | B40: 1
...

Sheet Kundenadressen
A1: Adress- nr. | B1: Firma | C1: Bauarten Test: VERWEIS | D1: Bauarten ZIEL
A2: 107 | B2: Firma 1 | C2: =LOOKUP(A2,Bauart!A:A,Bauart!B:B) -> #N/A
A3: 108 | B3: Firma 2 | C3: =LOOKUP(A3,Bauart!A:A,Bauart!B:B) -> #N/A
A4: 109 | B4: Firma 3 | C4: =LOOKUP(A4,Bauart!A:A,Bauart!B:B) -> #N/A
A5: 115548 | B5: Firma 4 | C5: =LOOKUP(A5,Bauart!A:A,Bauart!B:B) -> #N/A
A6: 115820 | B6: Firma 5 | C6: =LOOKUP(A6,Bauart!A:A,Bauart!B:B) -> #N/A
A7: 115821 | B7: Firma 6 | C7: =LOOKUP(A7,Bauart!A:A,Bauart!B:B) -> #N/A
A8: 115822 | B8: Firma 7 | C8: =LOOKUP(A8,Bauart!A:A,Bauart!B:B) -> #N/A
A9: 115823 | B9: Firma 8 | C9: =LOOKUP(A9,Bauart!A:A,Bauart!B:B) -> #N/A
A10: 115824 | B10: Firma 9 | C10: =LOOKUP(A10,Bauart!A:A,Bauart!B:B) -> #N/A
A11: 115825 | B11: Firma 10 | C11: =LOOKUP(A11,Bauart!A:A,Bauart!B:B) -> #N/A
A12: 115826 | B12: Firma 11 | C12: =LOOKUP(A12,Bauart!A:A,Bauart!B:B) -> #N/A
A13: 115827 | B13: Firma 12 | C13: =LOOKUP(A13,Bauart!A:A,Bauart!B:B) -> #N/A
... A88: 115908 | B88: Firma 87 | C88: =LOOKUP(A88,Bauart!A:A,Bauart!B:B) -> 1
A89: 115910 | B89: Firma 88 | C89: =LOOKUP(A89,Bauart!A:A,Bauart!B:B) -> 1 | D89: 1, 2, 3
A90: 115911 | B90: Firma 89 | C90: =LOOKUP(A90,Bauart!A:A,Bauart!B:B) -> 1
A91: 115912 | B91: Firma 90 | C91: =LOOKUP(A91,Bauart!A:A,Bauart!B:B) -> 1
A92: 115913 | B92: Firma 91 | C92: =LOOKUP(A92,Bauart!A:A,Bauart!B:B) -> 1
A93: 115914 | B93: Firma 92 | C93: =LOOKUP(A93,Bauart!A:A,Bauart!B:B) -> 1
A94: 115916 | B94: Firma 93 | C94: =LOOKUP(A94,Bauart!A:A,Bauart!B:B) -> 1
A95: 115917 | B95: Firma 94 | C95: =LOOKUP(A95,Bauart!A:A,Bauart!B:B) -> 1
A96: 115918 | B96: Firma 95 | C96: =LOOKUP(A96,Bauart!A:A,Bauart!B:B) -> 1
A97: 115919 | B97: Firma 96 | C97: =LOOKUP(A97,Bauart!A:A,Bauart!B:B) -> 1
A98: 115920 | B98: Firma 97 | C98: =LOOKUP(A98,Bauart!A:A,Bauart!B:B) -> 1
A99: 115921 | B99: Firma 98 | C99: =LOOKUP(A99,Bauart!A:A,Bauart!B:B) -> 1
A100: 115922 | B100: Firma 99 | C100: =LOOKUP(A100,Bauart!A:A,Bauart!B:B) -> 1
A101: 115923 | B101: Firma 100 | C101: =LOOKUP(A101,Bauart!A:A,Bauart!B:B) -> 1
... A208: 116034 | B208: Firma 207 | C208: =LOOKUP(A208,Bauart!A:A,Bauart!B:B) -> 1
A209: 116035 | B209: Firma 208
A210: 116036 | B210: Firma 209
A211: 116037 | B211: Firma 210
A212: 116038 | B212: Firma 211
A213: 116039 | B213: Firma 212
A214: 116040 | B214: Firma 213
A215: 116041 | B215: Firma 214
A216: 116042 | B216: Firma 215
A217: 116043 | B217: Firma 216
A218: 116044 | B218: Firma 217
A219: 116045 | B219: Firma 218
A220: 116046 | B220: Firma 219
...
