Workbook

Sheet Tabelle1
A1: M | B1: =COUNTIF(Tabelle2!D:D,ROW())>0 -> FALSE | E1: =IF(MOD(COLUMN(A1),11)=0,"",COLUMN(A1)-ROUNDDOWN(COLUMN(A1)/12,0)*2) -> 1 | F1: =IF(MOD(COLUMN(B1),11)=0,"",COLUMN(B1)-ROUNDDOWN(COLUMN(B1)/12,0)*2) -> 2 | G1: =IF(MOD(COLUMN(C1),11)=0,"",COLUMN(C1)-ROUNDDOWN(COLUMN(C1)/12,0)*2) -> 3 | H1: =IF(MOD(COLUMN(D1),11)=0,"",COLUMN(D1)-ROUNDDOWN(COLUMN(D1)/12,0)*2) -> 4 | I1: =IF(MOD(COLUMN(E1),11)=0,"",COLUMN(E1)-ROUNDDOWN(COLUMN(E1)/12,0)*2) -> 5 | J1: =IF(MOD(COLUMN(F1),11)=0,"",COLUMN(F1)-ROUNDDOWN(COLUMN(F1)/12,0)*2) -> 6 | K1: =IF(MOD(COLUMN(G1),11)=0,"",COLUMN(G1)-ROUNDDOWN(COLUMN(G1)/12,0)*2) -> 7 | L1: =IF(MOD(COLUMN(H1),11)=0,"",COLUMN(H1)-ROUNDDOWN(COLUMN(H1)/12,0)*2) -> 8 | ... HWC1: =IF(MOD(COLUMN(HVY1),11)=0,"",COLUMN(HVY1)-ROUNDDOWN(COLUMN(HVY1)/12,0)*2) -> 5005
A2: Q | B2: =COUNTIF(Tabelle2!D:D,ROW())>0 -> FALSE | E2: {=IF(E1="",";",IF(INDIRECT("A"&E1)="","",INDIRECT("A"&E1)))} -> M | F2: {=IF(F1="",";",IF(INDIRECT("A"&F1)="","",INDIRECT("A"&F1)))} -> Q | G2: {=IF(G1="",";",IF(INDIRECT("A"&G1)="","",INDIRECT("A"&G1)))} -> L | H2: {=IF(H1="",";",IF(INDIRECT("A"&H1)="","",INDIRECT("A"&H1)))} -> L | I2: {=IF(I1="",";",IF(INDIRECT("A"&I1)="","",INDIRECT("A"&I1)))} -> G | J2: {=IF(J1="",";",IF(INDIRECT("A"&J1)="","",INDIRECT("A"&J1)))} -> L | K2: {=IF(K1="",";",IF(INDIRECT("A"&K1)="","",INDIRECT("A"&K1)))} -> L | L2: {=IF(L1="",";",IF(INDIRECT("A"&L1)="","",INDIRECT("A"&L1)))} -> G | ... HWC2: {=IF(HWC1="",";",IF(INDIRECT("A"&HWC1)="","",INDIRECT("A"&HWC1)))}
A3: L | B3: =COUNTIF(Tabelle2!D:D,ROW())>0 -> FALSE | E3: =IF(AND(COUNTIF(Tabelle2!$D:$D,E1)>0,E2<>";"),"x","") | F3: =IF(AND(COUNTIF(Tabelle2!$D:$D,F1)>0,F2<>";"),"x","") | G3: =IF(AND(COUNTIF(Tabelle2!$D:$D,G1)>0,G2<>";"),"x","") | H3: =IF(AND(COUNTIF(Tabelle2!$D:$D,H1)>0,H2<>";"),"x","") | I3: =IF(AND(COUNTIF(Tabelle2!$D:$D,I1)>0,I2<>";"),"x","") | J3: =IF(AND(COUNTIF(Tabelle2!$D:$D,J1)>0,J2<>";"),"x","") | K3: =IF(AND(COUNTIF(Tabelle2!$D:$D,K1)>0,K2<>";"),"x","") | L3: =IF(AND(COUNTIF(Tabelle2!$D:$D,L1)>0,L2<>";"),"x","") | ... HWC3: =IF(AND(COUNTIF(Tabelle2!$D:$D,HWC1)>0,HWC2<>";"),"x","")
A4: L | B4: =COUNTIF(Tabelle2!D:D,ROW())>0 -> FALSE
A5: G | B5: =COUNTIF(Tabelle2!D:D,ROW())>0 -> FALSE
A6: L | B6: =COUNTIF(Tabelle2!D:D,ROW())>0 -> FALSE
A7: L | B7: =COUNTIF(Tabelle2!D:D,ROW())>0 -> FALSE
A8: G | B8: =COUNTIF(Tabelle2!D:D,ROW())>0 -> FALSE
A9: L | B9: =COUNTIF(Tabelle2!D:D,ROW())>0 -> FALSE
A10: L | B10: =COUNTIF(Tabelle2!D:D,ROW())>0 -> FALSE
A11: W | B11: =COUNTIF(Tabelle2!D:D,ROW())>0 -> FALSE
A12: M | B12: =COUNTIF(Tabelle2!D:D,ROW())>0 -> FALSE
A13: L | B13: =COUNTIF(Tabelle2!D:D,ROW())>0 -> FALSE
A14: K | B14: =COUNTIF(Tabelle2!D:D,ROW())>0 -> FALSE
A15: A | B15: =COUNTIF(Tabelle2!D:D,ROW())>0 -> FALSE
... A3323: V | B3323: =COUNTIF(Tabelle2!D:D,ROW())>0 -> FALSE

Sheet Tabelle2
A1: ##gff-version 2
A2: ##source-version NetOGlyc 4.0.0.13
A3: ##date 21-7-7
A4: ##Type Protein
A5: #seqname | B5: source | C5: feature | D5: start | E5: end | F5: score | G5: strand | H5: frame | I5: comment
A6: SP_Q02505_MUC3A_HUMAN | B6: netOGlyc-4.0.0.13 | C6: CARBOHYD | D6: 16 | E6: 16 | F6: 0.765496 | G6: . | H6: . | I6: #POSITIVE
A7: SP_Q02505_MUC3A_HUMAN | B7: netOGlyc-4.0.0.13 | C7: CARBOHYD | D7: 20 | E7: 20 | F7: 0.718949 | G7: . | H7: . | I7: #POSITIVE
A8: SP_Q02505_MUC3A_HUMAN | B8: netOGlyc-4.0.0.13 | C8: CARBOHYD | D8: 22 | E8: 22 | F8: 0.578604 | G8: . | H8: . | I8: #POSITIVE
A9: SP_Q02505_MUC3A_HUMAN | B9: netOGlyc-4.0.0.13 | C9: CARBOHYD | D9: 24 | E9: 24 | F9: 0.885958 | G9: . | H9: . | I9: #POSITIVE
A10: SP_Q02505_MUC3A_HUMAN | B10: netOGlyc-4.0.0.13 | C10: CARBOHYD | D10: 25 | E10: 25 | F10: 0.559825 | G10: . | H10: . | I10: #POSITIVE
A11: SP_Q02505_MUC3A_HUMAN | B11: netOGlyc-4.0.0.13 | C11: CARBOHYD | D11: 27 | E11: 27 | F11: 0.809957 | G11: . | H11: . | I11: #POSITIVE
A12: SP_Q02505_MUC3A_HUMAN | B12: netOGlyc-4.0.0.13 | C12: CARBOHYD | D12: 28 | E12: 28 | F12: 0.937973 | G12: . | H12: . | I12: #POSITIVE
A13: SP_Q02505_MUC3A_HUMAN | B13: netOGlyc-4.0.0.13 | C13: CARBOHYD | D13: 30 | E13: 30 | F13: 0.941177 | G13: . | H13: . | I13: #POSITIVE
A14: SP_Q02505_MUC3A_HUMAN | B14: netOGlyc-4.0.0.13 | C14: CARBOHYD | D14: 41 | E14: 41 | F14: 0.819832 | G14: . | H14: . | I14: #POSITIVE
A15: SP_Q02505_MUC3A_HUMAN | B15: netOGlyc-4.0.0.13 | C15: CARBOHYD | D15: 45 | E15: 45 | F15: 0.847172 | G15: . | H15: . | I15: #POSITIVE
A16: SP_Q02505_MUC3A_HUMAN | B16: netOGlyc-4.0.0.13 | C16: CARBOHYD | D16: 47 | E16: 47 | F16: 0.855402 | G16: . | H16: . | I16: #POSITIVE
A17: SP_Q02505_MUC3A_HUMAN | B17: netOGlyc-4.0.0.13 | C17: CARBOHYD | D17: 50 | E17: 50 | F17: 0.606209 | G17: . | H17: . | I17: #POSITIVE
... A1601: SP_Q02505_MUC3A_HUMAN | B1601: netOGlyc-4.0.0.13 | C1601: CARBOHYD | D1601: 2976 | E1601: 2976 | F1601: 0.506955 | G1601: . | H1601: . | I1601: #POSITIVE
