Workbook

Sheet Daten
A1: Ticket | B1: Durchlaufzeit
A2: Ticket 1 | B2: 1
A3: Ticket 2 | B3: 3
A4: Ticket 3 | B4: 5
A5: Ticket 4 | B5: 8
A6: Ticket 5 | B6: 26
A7: Ticket 6 | B7: 4
A8: Ticket 7 | B8: 1
A9: Ticket 8 | B9: 1
A10: Ticket 9 | B10: 1
A11: Ticket 10 | B11: 1
A12: Ticket 11 | B12: 2
A13: Ticket 12 | B13: 3
... A64: Ticket 63 | B64: 1

Sheet Durchlaufzeiten
A1: DLZ | B1: Anzahl | C1: Sortierte Auflistung Einzelwerte | D1: weitere Berechnung1 | E1: weitere Berechnung2 | F1: weitere Berechnung3 | G1: weitere Berechnung4
A2: 1 | B2: =COUNTIFS(Daten!B:B,Durchlaufzeiten!A2) -> 14 | C2: 1
A3: 2 | B3: =COUNTIFS(Daten!B:B,Durchlaufzeiten!A3) -> 9 | C3: 1
A4: 3 | B4: =COUNTIFS(Daten!B:B,Durchlaufzeiten!A4) -> 7 | C4: 1
A5: 4 | B5: =COUNTIFS(Daten!B:B,Durchlaufzeiten!A5) -> 5 | C5: 1
A6: 5 | B6: =COUNTIFS(Daten!B:B,Durchlaufzeiten!A6) -> 5 | C6: 1 | D6: {=MID(REPT($A$2,$B$2)& REPT($A$3,$B$3)& REPT($A$4,$B$4)& REPT($A$5,$B$5)& REPT($A$6,$B$6)& REPT($A$7,$B$7)& REPT($A$8,$B$8)& REPT($A$9,$B$9)& REPT($A$10,$B$10)& REPT($A$11,$B$11)& REPT($A$12,$B$12)& REPT($A$13,$B$13)& REPT($A$14,$B$14)& REPT($A$15,$B$15)& REPT($A$16,$B$16)& REPT($A$17,$B$17)& REPT($A$18,$B$18)& REPT($A$19,$B$19)& REPT($A$20,$B$20)& REPT($A$21,$B$21)& REPT($A$22,$B$22)& REPT($A$23,$B$23)& REPT($A$24,$B$24)& REPT($A$25,$B$25)& REPT($A$26,$B$26)& REPT($A$27,$B$27)& REPT($A$28,$B$28)& REPT($A$29,$B$29)& REPT($A$30,$B$30)& REPT($A$31,$B$31),ROW(A1:INDEX(A:A,SUM(B:B))),1)} -> 1
A7: 6 | B7: =COUNTIFS(Daten!B:B,Durchlaufzeiten!A7) -> 1 | C7: 1
A8: 7 | B8: =COUNTIFS(Daten!B:B,Durchlaufzeiten!A8) -> 2 | C8: 1
A9: 8 | B9: =COUNTIFS(Daten!B:B,Durchlaufzeiten!A9) -> 5 | C9: 1
A10: 9 | B10: =COUNTIFS(Daten!B:B,Durchlaufzeiten!A10) -> 3 | C10: 1
A11: 10 | B11: =COUNTIFS(Daten!B:B,Durchlaufzeiten!A11) -> 0 | C11: 1
A12: 11 | B12: =COUNTIFS(Daten!B:B,Durchlaufzeiten!A12) -> 3 | C12: 1
A13: 12 | B13: =COUNTIFS(Daten!B:B,Durchlaufzeiten!A13) -> 1 | C13: 1
A14: 13 | B14: =COUNTIFS(Daten!B:B,Durchlaufzeiten!A14) -> 0 | C14: 1
A15: 14 | B15: =COUNTIFS(Daten!B:B,Durchlaufzeiten!A15) -> 0 | C15: 1
A16: 15 | B16: =COUNTIFS(Daten!B:B,Durchlaufzeiten!A16) -> 1 | C16: 2
A17: 16 | B17: =COUNTIFS(Daten!B:B,Durchlaufzeiten!A17) -> 1 | C17: 2
A18: 17 | B18: =COUNTIFS(Daten!B:B,Durchlaufzeiten!A18) -> 1 | C18: 2
... A31: 30 | B31: =COUNTIFS(Daten!B:B,Durchlaufzeiten!A31) -> 0 | C31: 3
C32: 4
C33: 4
C34: 4
C35: 4
C36: 4
C37: 5
C38: 5
C39: 5
C40: 5
C41: 5
C42: 6
C43: 7
... C64: 26
