Workbook

Sheet Übersicht
B3: =Kunden!D5 -> Fertigung | G3: =Kunden!D7 -> Robotik | L3: =Kunden!D9 -> Sonstige
B5: Kunden | D5: Mitarbeiter | G5: Kunden | I5: Mitarbeiter | L5: Kunden | N5: Mitarbeiter
B19: =Kunden!D6 -> ERP | G19: =Kunden!D8 -> IT | L19: =Kunden!D10 -> CAD/PLM
B21: Kunden | D21: Mitarbeiter | G21: Kunden | I21: Mitarbeiter | L21: Kunden | N21: Mitarbeiter
B35: In die Spalte Kunden sollen die Kundennamen, die zur jeweiligen Branche sind aus der Liste

Sheet Kunden
A1: Kunden | B1: Bezug
A2: BeispielFirma 1 | B2: =D5 -> Fertigung
A3: BeispielFirma 2 | B3: =D6 -> ERP
A4: BeispielFirma 3 | B4: =D7 -> Robotik | D4: Themen | E4: Anzahl
A5: BeispielFirma 4 | B5: =D7 -> Robotik | D5: Fertigung | E5: =COUNTIFS(B:B,"Fertigung") -> 1
A6: BeispielFirma 5 | B6: =D7 -> Robotik | D6: ERP | E6: =COUNTIFS(B:B,"ERP") -> 1
A7: BeispielFirma 6 | B7: =D7 -> Robotik | D7: Robotik | E7: =COUNTIFS(B:B,"Robotik") -> 5
A8: BeispielFirma 7 | B8: =D7 -> Robotik | D8: IT | E8: =COUNTIFS(B:B,"IT") -> 1
A9: BeispielFirma 8 | B9: =D8 -> IT | D9: Sonstige | E9: =COUNTIFS(B:B,"Sonstige") -> 1
A10: BeispielFirma 9 | B10: =D15 -> Sicherheit | D10: CAD/PLM | E10: =COUNTIFS(B:B,"CAD/PLM") -> 0
A11: BeispielFirma 10 | B11: =D9 -> Sonstige | D11: PLM | E11: =COUNTIFS(B:B,"PLM") -> 0
D12: Teile | E12: =COUNTIFS(B:B,"Teile") -> 0
D13: CAD | E13: =COUNTIFS(B:B,"CAD") -> 0
D14: Marketing | E14: =COUNTIFS(B:B,"Marketing") -> 0
D15: Sicherheit | E15: =COUNTIFS(B:B,"Sicherheit") -> 1
D17: Gesamt | E17: =SUM(E5:E16) -> 10
