Workbook

Sheet CB Calculator
C2: ComputerBase Simple Forza Suspension Calculator for Forza Horizon 5
F3: v. 2.0 by 9t3ndo
D5: Tuningwerte
D6: Gewichtsverteilung | G6: Federn
D7: Gewicht in KG | E7: 1000 | G7: Federn Min
D8: Vorne % | E8: 50 | G8: Federn Max
D10: Reifen | G10: Aerodynamik
D11: Breite vorne | E11: 195 | G11: Abtrieb vorne
D12: Breite hinten | E12: 195 | G12: Abtrieb hinten
D14: Grip-Level | G14: Antriebsart
D15: Querbeschleunigung | E15: 1.6 | G15: Bitte wählen: | H15: RWD
D18: Reifen
D19: Reifenmischung | G19: Reifendruck
D20: Bitte wählen: | E20: Strasse | G20: Druck +-%
G21: Verhältnis +-%
G22: Vorne: | H22: =((2.85*((MISC!C11/100)+(MISC!C11/100/1.9)))-(E15*E15/20*0.63)+0.2)*(1+H20/100)*(1+H21/100)*IF(E20="Strasse",MISC!C18,IF(E20="Sport",MISC!C19,IF(E20="Semi-Slicks",MISC!C20,IF(E20="Slick",MISC!C21,IF(E20="Drift",MISC!C22,IF(E20="Offroad",MISC!C23,IF(E20="Gelände",MISC!C24,IF(E20="Drag",MISC!C25,IF(E20="Oldtimer-Rennr.",MISC!C26))))))))) -> 2.29436
G23: Hinten: | H23: =((2.85*((MISC!C12/100)+(MISC!C12/100/1.9))-(E15*E15/20*0.63)+0.2)*(1+H20/100)*(1-H21/100))*IF(E20="Strasse",MISC!C18,IF(E20="Sport",MISC!C19,IF(E20="Semi-Slicks",MISC!C20,IF(E20="Slick",MISC!C21,IF(E20="Drift",MISC!C22,IF(E20="Offroad",MISC!C23,IF(E20="Gelände",MISC!C24,IF(E20="Drag",MISC!C25,IF(E20="Oldtimer-Rennr.",MISC!C26))))))))) -> 2.29436
D26: Ausrichtung
D27: Radsturz | G27: Spur
D28: Vorne: | E28: =-5*(E15*E15/2/10+1)*(E11/(E11+E12))*(MISC!C12/100) -> -1.41 | G28: Vorne: | H28: =(((E15*E15/2)*(MISC!C11/100+1)*(E11/(E11+E12))-1)/10)+0.09078 -> 0.08678
D29: Hinten: | E29: =(-5*(E15*E15/2/10+1)*(E12/(E11+E12))*(MISC!C11/100))+0.2 -> -1.21 | G29: Hinten: | H29: =(((E15*E15/2)*(MISC!C12/100+1)*(E12/(E11+E12))-1)/10)+0.113 -> 0.109
D31: Vorderer Nachlauf
D32: Winkel: | E32: =7-(E28*E28/2) -> 6.00595
D35: Stabisilatoren
D36: =IF(H15="RWD","RWD",IF(H15="FWD","FWD","AWD")) -> RWD
D37: Härte +-%
D38: Verhältnis +-%
D39: Vorne: | E39: =IF(H15="RWD",((50*1.042)*MISC!C11/100)*(E11/(E11+E12)+0.5)*(MISC!C10/(E7+MISC!C10)+0.5)*(1-(E15*E15/4.5)/10)*(E37/100+1)*(1+E38/100),IF(H15="FWD",((50*1.042)*MISC!C11/100)*(E11/(E11+E12)+0.5)*(MISC!C10/(E7+MISC!C10)+0.5)*(1-(E15*E15/4.5)/10)*(E37/100+1)*(1+E38/100),((50*1.042)*MISC!C11/100)*(E11/(E11+E12)+0.5)*(MISC!C10/(E7+MISC!C10)+0.5)*(1-(E15*E15/2.25)/10)*(E37/100+1)*(1+E38/100))) -> 24.568044
D40: Hinten: | E40: =IF(H15="RWD",((50*1.042)*MISC!C11/100)*(E12/(E11+E12)+0.5)*(MISC!C10/(E7+MISC!C10)+0.5)*(1+(E15*E15/4.5)/10)*(E37/100+1)*(1-E38/100),IF(H15="FWD",((50*1.042)*MISC!C11/100)*(E12/(E11+E12)+0.5)*(MISC!C10/(E7+MISC!C10)+0.5)*(1+(E15*E15/4.5)/10)*(E37/100+1)*(1-E38/100),((50*1.042)*MISC!C11/100)*(E12/(E11+E12)+0.5)*(MISC!C10/(E7+MISC!C10)+0.5)*(1+(E15*E15/2.25)/10)*(E37/100+1)*(1-E38/100))) -> 27.531956
D43: Federn
D44: Härte | G44: Fahrwerkshöhe
D45: Härte +-% | G45: Vorne: | H45: =(11-(6*(E45/100+1)))+0.5 -> 5.5
D46: Vorne: | E46: =(((MISC!C7*(MISC!C11/100))*(MISC!C10/E7))*1.084)*(E45/100+1)*(1-(E15*E15/8)/10) -> 0 | G46: Hinten: | H46: =11-(6*(E45/100+1)) -> 5
D47: Hinten: | E47: =(((MISC!C7*(MISC!C12/100))*(MISC!C10/E7))*1.084)*(E45/100+1)*(1+(E15*E15/8)/10) -> 0
D50: Dämpfer
D51: Zugstufe | G51: Druckstufe
D52: Härte +-% | G52: Härte +-%
D53: Vorne: | E53: =((20*(MISC!C10/1500)*MISC!C11/100)*1.042)*(E52/100+1)*(1-(E15*E15/8)/10) -> 6.7243733 | G53: Vorne: | H53: =((20*(MISC!C10/1500)*MISC!C12/100)*1.042)*0.63*(H52/100+1)*(1+(E15*E15/8)/10) -> 4.5164448
D54: Hinten: | E54: =((20*(MISC!C10/1500)*MISC!C12/100)*1.042)*(E52/100+1)*(1+(E15*E15/8)/10) -> 7.16896 | G54: Hinten: | H54: =((20*(MISC!C10/1500)*MISC!C11/100)*1.042)*0.63*(H52/100+1)*(1-(E15*E15/8)/10) -> 4.2363552
D57: Bremse
D58: Verteilung | E58: =100-(((E11*100/(E11+E12))+MISC!C11)/2) -> 50 | G58: Druck | H58: =(MISC!C10/300+90)*((E15*E15/2)/10+1) -> 105.28
D61: Differenzial
D62: =IF(H15="RWD","RWD",IF(H15="FWD","FWD","AWD")) -> RWD | E62: Vorne | F62: Hinten
D63: Beschleunigung | E63: =IF(H15="RWD","X",IF(H15="FWD",(E11/(E11+E12)*100)*((MISC!C11+100)/100)*0.785,(E12/(E11+E12)*100)*((MISC!C12+100)/100)*1.03*0.83)) -> X | F63: =IF(H15="RWD",(E12/(E11+E12)*100)*((MISC!C12+100)/100)*0.815,IF(H15="FWD","X",(E12/(E11+E12)*100)*((MISC!C12+100)/100)*1.03)) -> 61.125
D64: Verzögerung | E64: =IF(H15="RWD","X",IF(H15="FWD",E67*0,0)) -> X | F64: =IF(H15="RWD",(E12/(E11+E12)*100)*((MISC!C12+100)/100)*0.815*0.75,IF(H15="FWD","X",(E12/(E11+E12)*100)*((MISC!C12+100)/100)*1.03*0.75)) -> 45.84375
D65: Verteilung | E65: =IF(H15="RWD","X",IF(H15="FWD","X",MISC!C4*(E12/(E11+E12)+100/100))) -> X

Sheet MISC
B3: Gewichtsverteilung
B4: Hinten: | C4: =100-'CB Calculator'!E8 -> 50
B6: Feder Differenz
B7: Federwert: | C7: =('CB Calculator'!H8-'CB Calculator'!H7) -> 0
B9: Aerodynamik Zwischenwerte
B10: Gesamtgewicht | C10: =(('CB Calculator'!E7*('CB Calculator'!E8/100))+('CB Calculator'!H11*2.205/2.681))+(('CB Calculator'!E7*(MISC!C4/100))+('CB Calculator'!H12*2.205/2.681)) -> 1000
B11: Vorne% | C11: =('CB Calculator'!E7*('CB Calculator'!E8/100)+'CB Calculator'!H11*2.205/2.681)*100/C10 -> 50
B12: Hinten% | C12: =('CB Calculator'!E7*(MISC!C4/100)+'CB Calculator'!H12*2.205/2.681)*100/C10 -> 50
B14: Antriebsart
B15: RWD | C15: FWD | D15: AWD
B17: Reifenmischung
B18: Strasse | C18: 1
B19: Sport | C19: 0.97
B20: Semi-Slicks | C20: 0.92
B21: Slick | C21: 0.89
B22: Drift | C22: 0.96
B23: Offroad | C23: 0.95
B24: Gelände | C24: 0.78
B25: Drag | C25: 0.96
B26: Oldtimer-Rennr. | C26: 0.94
