Workbook

Sheet CB Calculator
C2: ComputerBase Simple Forza Suspension Calculator for Forza Horizon 5
F3: v. 2.4b by 9t3ndo
D5: Tuningwerte
D6: Gewichtsverteilung | G6: Federn
D7: Gewicht in KG | E7: 1450 | G7: Federn Min
D8: Vorne % | E8: 50 | G8: Federn Max
D10: Reifen | G10: Aerodynamik
D11: Breite vorne | E11: 235 | G11: Abtrieb vorne
D12: Breite hinten | E12: 235 | G12: Abtrieb hinten
D14: Grip-Level | G14: Antriebsart
D15: Querbeschleunigung | E15: 2.4 | G15: Bitte wählen: | H15: RWD
D18: Voreinstellung
D19: Tuning & Fahrhilfe
D20: Bitte wählen: | E20: Asphalt (Rennfahrwerk)
D21: Bitte wählen: | E21: kein ABS
D24: Reifen
D25: Reifenmischung | G25: Reifendruck
D26: Bitte wählen: | E26: Sport | G26: Druck +-%
G27: Verhältnis +-%
G28: Vorne: | H28: =((2.85*((MISC!C11/100)+(MISC!C11/100/1.9)))-(E15*E15/20*0.63)+0.2)*(1+H26/100)*(1+H27/100)*IF(E26="Strasse",MISC!C27,IF(E26="Sport",MISC!C28,IF(E26="Semi-Slicks",MISC!C29,IF(E26="Slick",MISC!C30,IF(E26="Drift",MISC!C31,IF(E26="Offroad",MISC!C32,IF(E26="Gelände",MISC!C33,IF(E26="Drag",MISC!C34,IF(E26="Oldtimer-Rennr.",MISC!C35))))))))) -> 2.1277532
G29: Hinten: | H29: =((2.85*((MISC!C12/100)+(MISC!C12/100/1.9))-(E15*E15/20*0.63)+0.2)*(1+H26/100)*(1-H27/100))*IF(E26="Strasse",MISC!C27,IF(E26="Sport",MISC!C28,IF(E26="Semi-Slicks",MISC!C29,IF(E26="Slick",MISC!C30,IF(E26="Drift",MISC!C31,IF(E26="Offroad",MISC!C32,IF(E26="Gelände",MISC!C33,IF(E26="Drag",MISC!C34,IF(E26="Oldtimer-Rennr.",MISC!C35))))))))) -> 2.1277532
D32: Ausrichtung
D33: Radsturz | G33: Spur
D34: Vorne: | E34: =-5*(E15*E15/2/10+1)*(E11/(E11+E12))*(MISC!C12/100) -> -1.61 | G34: Vorne: | H34: =(((E15*E15/2)*(MISC!C11/100+1)*(E11/(E11+E12))-1)/10)+0.09078 -> 0.20678
D35: Hinten: | E35: =(-5*(E15*E15/2/10+1)*(E12/(E11+E12))*(MISC!C11/100))+0.2 -> -1.41 | G35: Hinten: | H35: =(((E15*E15/2)*(MISC!C12/100+1)*(E12/(E11+E12))-1)/10)+0.113 -> 0.229
D37: Vorderer Nachlauf
D38: Winkel: | E38: =7-(E34*E34/2) -> 5.70395
D41: Stabisilatoren
D42: =IF(H15="RWD","RWD",IF(H15="FWD","FWD","AWD")) -> RWD
D43: Härte +-%
D44: Verhältnis +-%
D45: Vorne: | E45: =IF(H15="RWD",MISC!C44,IF(H15="FWD",MISC!C45,MISC!C46))*MISC!D24*(E43/100+1)*(E44/100+1) -> 21.855357
D46: Hinten: | E46: =IF(H15="RWD",MISC!D44,IF(H15="FWD",MISC!D45,MISC!D46))*MISC!D24*(E43/100+1)*(E44/100-1)*-1 -> 27.341071
D49: Federn
D50: Härte | G50: Fahrwerkshöhe
D51: Härte +-% | G51: Vorne: | H51: =IF(E20="Dirt (Offroad-Fahrwerk)",9,IF(E20="Querfeldein (Offroad-Fahrwerk)","MAX",(11-(6*MISC!C24*(E51/100+1)))+0.5)) -> 5.5
D52: Vorne: | E52: =(((MISC!C7*(MISC!C11/100))*(MISC!C10/E7))*1.084)*MISC!C24*(E51/100+1)*(1-(E15*E15/8)/10) -> 0 | G52: Hinten: | H52: =IF(E20="Dirt (Offroad-Fahrwerk)",8,IF(E20="Querfeldein (Offroad-Fahrwerk)","MAX",11-(6*MISC!C24*(E51/100+1)))) -> 5
D53: Hinten: | E53: =(((MISC!C7*(MISC!C12/100))*(MISC!C10/E7))*1.084)*MISC!C24*(E51/100+1)*(1+(E15*E15/8)/10) -> 0
D56: Dämpfer
D57: Zugstufe | G57: Druckstufe
...

Sheet MISC
B2: Gewichtsverteilung
B3: Vorne: | C3: ='CB Calculator'!E8 -> 50
B4: Hinten: | C4: =100-'CB Calculator'!E8 -> 50
B6: Feder Differenz
B7: Federwert: | C7: =('CB Calculator'!H8-'CB Calculator'!H7) -> 0
B9: Aerodynamik Zwischenwerte
B10: Gesamtgewicht | C10: =(('CB Calculator'!E7*('CB Calculator'!E8/100))+('CB Calculator'!H11*2.205/2.681))+(('CB Calculator'!E7*(MISC!C4/100))+('CB Calculator'!H12*2.205/2.681)) -> 1450
B11: Vorne% | C11: =('CB Calculator'!E7*('CB Calculator'!E8/100)+'CB Calculator'!H11*2.205/2.681)*100/C10 -> 50
B12: Hinten% | C12: =('CB Calculator'!E7*(MISC!C4/100)+'CB Calculator'!H12*2.205/2.681)*100/C10 -> 50
B14: Antriebsart
B15: RWD | C15: FWD | D15: AWD
B17: Voreinstellung
B18: Preset | C18: Federn | D18: Stabis | E18: Dämpfer
B19: Asphalt (Rennfahrwerk) | C19: 1 | D19: 1 | E19: 1
B20: Asphalt (Rennfahrwerk - weich) | C20: 0.833 | D20: 0.9165 | E20: 0.95825
B21: Asphalt (Rennfahrwerk - hart) | C21: 1.2502 | D21: 1.12501 | E21: 1.06255
B22: Dirt (Offroad-Fahrwerk) | C22: 0.96 | D22: 0.84 | E22: 0.92
B23: Querfeldein (Offroad-Fahrwerk) | C23: 0.88 | D23: 0.52 | E23: 0.76
B24: Funktion | C24: =IF('CB Calculator'!E20="Asphalt (Rennfahrwerk - weich)",MISC!C20,IF('CB Calculator'!E20="Asphalt (Rennfahrwerk - hart)",C21,IF('CB Calculator'!E20="Dirt (Offroad-Fahrwerk)",C22,IF('CB Calculator'!E20="Querfeldein (Offroad-Fahrwerk)",C23,C19)))) -> 1 | D24: =IF('CB Calculator'!E20="Asphalt (Rennfahrwerk - weich)",MISC!D20,IF('CB Calculator'!E20="Asphalt (Rennfahrwerk - hart)",D21,IF('CB Calculator'!E20="Dirt (Offroad-Fahrwerk)",D22,IF('CB Calculator'!E20="Querfeldein (Offroad-Fahrwerk)",D23,D19)))) -> 1 | E24: =IF('CB Calculator'!E20="Asphalt (Rennfahrwerk - weich)",MISC!E20,IF('CB Calculator'!E20="Asphalt (Rennfahrwerk - hart)",E21,IF('CB Calculator'!E20="Dirt (Offroad-Fahrwerk)",E22,IF('CB Calculator'!E20="Querfeldein (Offroad-Fahrwerk)",E23,E19)))) -> 1
B26: Reifenmischung
B27: Strasse | C27: 1
B28: Sport | C28: 0.97
B29: Semi-Slicks | C29: 0.92
B30: Slick | C30: 0.89
B31: Drift | C31: 0.96
B32: Offroad | C32: 0.95
B33: Gelände | C33: 0.78
B34: Drag | C34: 0.96
B35: Oldtimer-Rennr. | C35: 0.94
B37: Stabilisatoren | C37: Vorne / Ergebnis | D37: Hinten / Zwischenerg. | E37: Wert
B38: Stabi | E38: 95
B39: Gewicht | C39: =E38*('CB Calculator'!E7/E39) -> 98.392857 | D39: =(C10/E39) -> 1.0357143 | E39: 1400
B40: Gewicht Aero | C40: =(('CB Calculator'!E7*('CB Calculator'!E8/100)+('CB Calculator'!H11+'CB Calculator'!E7*('CB Calculator'!E8/100)))) -> 1450 | D40: ='CB Calculator'!E7*((100-'CB Calculator'!E8)/100)+('CB Calculator'!H12+'CB Calculator'!E7*((100-'CB Calculator'!E8)/100)) -> 1450
B41: Gewicht Aero Multi | C41: =IF('CB Calculator'!H11>0,MISC!C40/'CB Calculator'!E7,1) -> 1 | D41: =IF('CB Calculator'!H12>0,MISC!D40/'CB Calculator'!E7,1) -> 1
B42: Gewichtsv. Inkl. Reifen | C42: ='CB Calculator'!E8/100*('CB Calculator'!E11/('CB Calculator'!E11+'CB Calculator'!E12)) -> 0.25 | D42: =(100-'CB Calculator'!E8)/100*('CB Calculator'!E12/('CB Calculator'!E11+'CB Calculator'!E12)) -> 0.25
B43: Querbeschleunigung | C43: =('CB Calculator'!E15*'CB Calculator'!E15) -> 5.76 | D43: =('CB Calculator'!E15*'CB Calculator'!E15) -> 5.76
B44: RWD | C44: =(C39*C41)*C42-(C43/E44) -> 21.855357 | D44: =(C39*D41)*D42+(D43/E44) -> 27.341071 | E44: 2.1
B45: FWD | C45: =(C39*C41)*C42-(C43/E45) -> 16.369643 | D45: =(C39*D41)*D42+(D43/E45) -> 32.826786 | E45: 0.7
B46: AWD | C46: =(C39*C41)*C42-(C43/E46) -> 19.361851 | D46: =(C39*D41)*D42+(D43/E46) -> 29.834578 | E46: 1.1
B48: Bremse | C48: kein ABS | D48: ABS | E48: kein ABS (Legacy)
...
