Workbook

Sheet Calculator
A1: v3.2
C2: Tuningwerte
C3: Gewicht | G3: Aerodynamik
C4: Gewicht in KG | D4: 1450 | G4: Abtrieb vorne
C5: Vorne % | D5: 50 | G5: Abtrieb hinten
C7: Reifen | G7: Fahrwerk
C8: Breite vorne | D8: 235 | G8: Auswahl: | H8: Straße
C9: Breite hinten | D9: 235 | G9: Preset | H9: Neutral
C11: Grip-Level | G11: Antriebsart
C12: Querbeschleunigung | D12: 1.7 | G12: Auswahl: | H12: RWD
C15: Reifen
C16: Reifenmischung | G16: Reifendruck
C17: Auswahl: | D17: Straße | G17: Druck +-%
G18: Verhältnis +-%
G19: Vorne | H19: =Formeln!D37*(H17/100+1)*(1+H18/100)*IF(H9="Neutral",1,Formeln!D10) -> 2.2643297
G20: Hinten | H20: =Formeln!E37*(H17/100+1)*(1-H18/100)*IF(H9="Neutral",1,Formeln!E10) -> 2.2643297
C23: Ausrichtung
C24: Radsturz | G24: Spur
C25: Vorne: | D25: =Formeln!D50 -> -1.6875625 | G25: Vorne: | H25: =IF(Formeln!D51<0,0,Formeln!D51+IF(H9="Neutral",0,Formeln!D11)) -> 0
C26: Hinten: | D26: =Formeln!E50 -> -1.4588063 | G26: Hinten: | H26: =Formeln!E51+IF(H9="Neutral",0,Formeln!D11) -> -0.084090909
C28: Vorderer Nachlauf
C29: Winkel: | D29: =Formeln!D52 -> 5.2972631
C32: Stabisilatoren
C33: =H12 -> RWD
C34: Härte +-%
C35: Verhältnis +-%
C36: Vorne: | D36: =Formeln!D64*(D34/100+1)*(1+D35/100)*IF(H9="Neutral",1,Formeln!D12) -> 21.952628
C37: Hinten: | D37: =Formeln!E64*(D34/100+1)*(1-D35/100)*IF(H9="Neutral",1,Formeln!E12) -> 28.759004
C40: Federn
C41: Federrate
C42: Härte +-%
C43: Verhältnis +-% | G43: Fahrwerkshöhe
C44: Vorne: | D44: =(IF(H8="Straße",Formeln!D75,Formeln!F75)*(D42/100+1)*IF(H9="Neutral",1,Formeln!D13))*1+D43/10 -> 121.22589 | G44: Vorne: | H44: =IF(H8="Straße",6,"MAX") -> 6
C45: Hinten: | D45: =(IF(H8="Straße",Formeln!E75,Formeln!G75)*(D42/100+1)*IF(H9="Neutral",1,Formeln!E13))*1-D43/10 -> 121.22589 | G45: Hinten: | H45: =IF(H8="Straße",6,"MAX") -> 6
C48: Dämpfer
C49: Zugstufe | G49: Druckstufe
C50: Härte +-% | G50: Härte +-%
C51: Verhältnis +-% | G51: Verhältnis +-%
C52: Vorne: | D52: =(IF(H8="Straße",Formeln!D85,Formeln!F85)*(D50/100+1)*IF(H9="Neutral",1,Formeln!D15))*IF(H12="AWD",Werte!D64,1)*1+D51/10 -> 10.202133 | G52: Vorne: | H52: =(IF(H8="Straße",Formeln!D86,Formeln!F86)*(H50/100+1)*IF(H9="Neutral",1,Formeln!D16))*IF(H12="AWD",Werte!D66,1)*1+H51/10 -> 5.7131947
C53: Hinten: | D53: =(IF(H8="Straße",Formeln!E85,Formeln!G85)*(D50/100+1)*IF(H9="Neutral",1,Formeln!E15))*IF(H12="AWD",Werte!D65,1)*1-D51/10 -> 10.202133 | G53: Hinten: | H53: =(IF(H8="Straße",Formeln!E86,Formeln!G86)*(H50/100+1)*IF(H9="Neutral",1,Formeln!E16))*IF(H12="AWD",Werte!D67,1)*1-H51/10 -> 5.7131947
...

Sheet Werte
C2: Gewicht
C4: Gewicht | D4: =Calculator!D4 -> 1450
C5: Verteilung | D5: =Calculator!D5 -> 50
C8: Preset
D9: Neutral | E9: Aggressiv
C10: Reifendruck | D10: 1 | E10: 2.5
C11: Spur | D11: 1 | E11: 1.7
C12: Stabilisatoren | D12: 1 | E12: 11
C13: Federrate | D13: 1 | E13: 2
C14: Fahrwerkshöhe | D14: 1 | E14: 1
C15: Zugstufe | D15: 1 | E15: 2
C16: Druckstufe | D16: 1 | E16: 2
C17: Diff. Verteilung | D17: 1 | E17: 5
C20: Grip-Level
D21: Wert
C22: Querbeschl. | D22: =Calculator!D12 -> 1.7
C25: Reifen
D26: Wert
C27: Straße | D27: 1.9104 | E27: Grundwert | F27: 4
C28: Sport | D28: 1.8912 | E28: Ausgewählt | F28: =IF(Calculator!D17="Straße",D27, IF(Calculator!D17="Sport",D28, IF(Calculator!D17="Semi-Slick",D29, IF(Calculator!D17="Slick",D30, IF(Calculator!D17="Drift",D31, IF(Calculator!D17="Offroad",D32, IF(Calculator!D17="Gelände",D33, IF(Calculator!D17="Oldtimer-Renn-Reifen",D34, IF(Calculator!D17="Oldtimer-Weißwandreifen",D35, ))))))))) -> 1.9104
C29: Semi-Slick | D29: 1.8528 | E29: Clicks | F29: 410
C30: Slick | D30: 1.8336
C31: Drift | D31: 1.8624
C32: Offroad | D32: 1.8336
C33: Gelände | D33: 1.21
C34: Oldtimer-Renn-Reifen | D34: 1.9008
C35: Oldtimer-Weißwandreifen | D35: 1.92
C38: Ausrichtung
D39: Vorne | E39: Hinten
C40: Querbeschl. | D40: =Calculator!D12 -> 1.7 | E40: =Calculator!D12 -> 1.7
C41: Offset Sturz | D41: -0.4 | E41: -0.3
C42: Offset Nachlauf | D42: 0.05
C45: Stabilisatoren
D46: Vorne | E46: Hinten | F46: Offset
C47: Wert Straße | D47: =0.06 -> 0.06
C48: Wert Offroad | D48: 0.043
C49: Querbeschl. | D49: =Calculator!D12 -> 1.7
C50: RWD | D50: =1-F50 -> 0.88 | E50: =1+F50 -> 1.12 | F50: 0.12
C51: AWD | D51: =1-F51 -> 0.55 | E51: =1+F51 -> 1.45 | F51: 0.45
C52: FWD | D52: =1-F52 -> 0.77 | E52: =1+F52 -> 1.23 | F52: 0.23
...

Sheet Formeln
C2: Gewicht
D3: Vorne | E3: Hinten
C4: Verteilung | D4: =Werte!D5/100 -> 0.5 | E4: =1-D4 -> 0.5
C5: Gewicht | D5: =Werte!D4*D4 -> 725 | E5: =Werte!D4*E4 -> 725
C8: Preset
D9: Vorne | E9: Hinten
C10: Reifendruck | D10: =1-Werte!E10/100 -> 0.975 | E10: =1+Werte!E10/100 -> 1.025
C11: Spur | D11: =Werte!E11*0.05 -> 0.085 | E11: =Werte!E11*0.05 -> 0.085
C12: Stabilisatoren | D12: =1-Werte!E12/100 -> 0.89 | E12: =1+Werte!E12/100 -> 1.11
C13: Federrate | D13: =1-Werte!E13/100 -> 0.98 | E13: =1+Werte!E13/100 -> 1.02
C14: Fahrwerkshöhe | D14: =1-Werte!E14/100 -> 0.99 | E14: =1+Werte!E14/100 -> 1.01
C15: Zugstufe | D15: =1-Werte!E15/100 -> 0.98 | E15: =1+Werte!E15/100 -> 1.02
C16: Druckstufe | D16: =1-Werte!E16/100 -> 0.98 | E16: =1+Werte!E16/100 -> 1.02
C17: Diff. Verteilung | D17: =1-Werte!E17/100 -> 0.95 | E17: =1+Werte!E17/100 -> 1.05
C20: Aerodynamik
D21: Vorne | E21: Hinten
C22: Gewichtsvert. | D22: =Werte!D4*Werte!D5/100 -> 725 | E22: =Werte!D4-Formeln!D22 -> 725
C23: Aero | D23: =Calculator!H4 -> 0 | E23: =Calculator!H5 -> 0
C24: Gewichtsvert. + Aeoro | D24: =D22+D23 -> 725 | E24: =E22+E23 -> 725
C25: Verteilung Multi | D25: =D24/D22 -> 1 | E25: =E24/E22 -> 1
C26: Verteilung | D26: =D71*D25*100 -> 50 | E26: =E71*E25*100 -> 50
C27: Verteilung Neu | D27: =D26/(D26+E26) -> 0.5 | E27: =E26/(D26+E26) -> 0.5
C30: Reifen
D31: Vorne | E31: Hinten
C32: Querbeschl. | D32: =2/Werte!D22/10+1 -> 1.1176471
C33: Reifen | D33: =Werte!F28 -> 1.9104 | E33: =Werte!F28 -> 1.9104
C34: Verteilung | D34: =D71/10+1 -> 1.05 | E34: =E71/10+1 -> 1.05
C35: Verteilung + Aero | D35: =D25/100+1 -> 1.01 | E35: =E25/100+1 -> 1.01
C36: Druck | D36: =D32*D33*D34 -> 2.2419106 | E36: =D32*E33*E34 -> 2.2419106
C37: Druck + Aero | D37: =D36*D35 -> 2.2643297 | E37: =E36*E35 -> 2.2643297
C38: Härte + Verteilung | D38: =D37*(Calculator!H17/100+1)*(1+Calculator!H18/100)*IF(Calculator!H9="Neutral",1,Formeln!D10) -> 2.2643297 | E38: =E37*(Calculator!H17/100+1)*(1-Calculator!H18/100)*IF(Calculator!H9="Neutral",1,Formeln!E10) -> 2.2643297
C39: Kürzen | D39: =TRUNC(D38,1) -> 2.2 | E39: =TRUNC(E38,1) -> 2.2
C40: Kürzen Nachkommast. | D40: =(D37-TRUNC(D37,1))*100 -> 6.4329694 | E40: =(E37-TRUNC(E37,1))*100 -> 6.4329694
C41: Einheit 10 = 15 | D41: =15/10 -> 1.5 | E41: =15/10 -> 1.5
C42: Clicks | D42: =D40*D41 -> 9.6494541 | E42: =E40*E41 -> 9.6494541
C43: Ergebnis + Clicks | D43: =D39+D42/100 -> 2.2964945 | E43: =E39+E42/100 -> 2.2964945
C45: Verteilung Breite | D45: =Calculator!D8/(Calculator!D8+Calculator!D9) -> 0.5 | E45: =Calculator!D9/(Calculator!D8+Calculator!D9) -> 0.5
C48: Ausrichtung
D49: Vorne | E49: Hinten
C50: Sturz | D50: =(-5*(Werte!D40^2/2/10+1)*D45*IF(Calculator!G5=0,E71,(D71-(D26/1000)))+Werte!D41) -> -1.6875625 | E50: =-4.5*(Werte!D40^2/2/10+1)*D45*IF(Calculator!G4=0,D71,(E71-(E26/1000)))+Werte!E41 -> -1.4588063
...
