Workbook

Sheet AMD 3700
A2: P [W] | B2: TEinlass [°C] | C2: αKühler [W / m* K] | D2: αHS [W / m* K] | E2: m' [kg/s] | F2: sNickelKühler [mm] | G2: αWLP [W / m* K] | H2: sWLP [mm] | I2: sNickelHs1 [mm] | J2: sHs [mm] | K2: sNickelHs2 [mm] | L2: αTIM [W / m* K] | M2: sTIM [mm] | N2: sDIE [mm] | O2: TAuslass [°C] | P2: V' [L/h] | Q2: TKühler [dT] | R2: TNickelKühler [dT] | S2: TWLP [dT] | T2: TNickelHS1 [dT] | U2: THS [dT] | V2: TNickelHS2 [dT] | W2: TTIM [dT] | X2: TSi3N4 [dT] | Y2: TDIE [dT] | Z2: TGesamt [dT] | AA2: TGesamt [°C] | AD2: mm | AE2: T [°C] | AI2: cp [J/kg * K] | AJ2: ρ [kg/m³]
A3: 125 | B3: 31 | C3: 385 | D3: 385 | E3: 0.027 | F3: 0.016 | G3: 8.5 | H3: 0.08 | I3: 0.016 | J3: 2.7 | K3: 0.016 | L3: 67 | M3: 0.2 | N3: 0.82 | O3: =A3/(AI3*E3)+B3 -> 32.107688 | P3: =E3*3600/AJ3*1000 -> 97.67137 | Q3: =$BF3+(A3-'AMD 3700 Sek'!$A$11)/('AMD 3700 Sek'!$A$2-'AMD 3700 Sek'!$A$11)*($BE3-$BF3) -> 5.6607457 | R3: =('AMD 3700 Sek'!$B$23+(A3-'AMD 3700 Sek'!$A$11)/('AMD 3700 Sek'!$A$2-'AMD 3700 Sek'!$A$11)*('AMD 3700 Sek'!$B$22-'AMD 3700 Sek'!$B$23))*F3/'AMD 3700 Sek'!$B$21 -> 0.044051291 | S3: =_xlfn.IFNA($BH3+(A3-'AMD 3700 Sek'!$A$11)/('AMD 3700 Sek'!$A$2-'AMD 3700 Sek'!$A$11)*($BG3-$BH3),0) -> 4.1749804 | T3: =('AMD 3700 Sek'!$C$23+(A3-'AMD 3700 Sek'!$A$11)/('AMD 3700 Sek'!$A$2-'AMD 3700 Sek'!$A$11)*('AMD 3700 Sek'!$C$22-'AMD 3700 Sek'!$C$23))*I3/'AMD 3700 Sek'!$B$21 -> 0.0066761813 | U3: =IF(J3=0,0,($BJ3+(A3-'AMD 3700 Sek'!$A$11)/('AMD 3700 Sek'!$A$2-'AMD 3700 Sek'!$A$11)*($BI3-$BJ3))*BK3) -> 7.090388 | V3: =('AMD 3700 Sek'!$D$23+(A3-'AMD 3700 Sek'!$A$11)/('AMD 3700 Sek'!$A$2-'AMD 3700 Sek'!$A$11)*('AMD 3700 Sek'!$D$22-'AMD 3700 Sek'!$D$23))*K3/'AMD 3700 Sek'!$B$21 -> 0.036303253 | W3: =_xlfn.IFNA($BM3+(A3-'AMD 3700 Sek'!$A$11)/('AMD 3700 Sek'!$A$2-'AMD 3700 Sek'!$A$11)*($BL3-$BM3),0) -> 9.6406854 | X3: =('AMD 3700 Sek'!$E$23+(A3-'AMD 3700 Sek'!$A$11)/('AMD 3700 Sek'!$A$2-'AMD 3700 Sek'!$A$11)*('AMD 3700 Sek'!$E$22-'AMD 3700 Sek'!$E$23))*0.016/'AMD 3700 Sek'!$B$21 -> 0.061882401 | Y3: =('AMD 3700 Sek'!$F$23+(A3-'AMD 3700 Sek'!$A$11)/('AMD 3700 Sek'!$A$2-'AMD 3700 Sek'!$A$11)*('AMD 3700 Sek'!$F$22-'AMD 3700 Sek'!$F$23))*N3/'AMD 3700 Sek'!$F$21 -> 18.420324 | Z3: =IF(J3=0,(SUM(Q3:Y3))*BK3,SUM(Q3:Y3)) -> 45.136036 | AA3: =(B3+O3)/2+Z3 -> 76.68988 | AD3: 0 | AE3: =($B3+$O3)/2 -> 31.553844 | AI3: =+((AX3 + AY3*(B3+273.15) +AZ3*(B3+273.15)^2 + BA3*(B3+273.15)^3)+(AX3 + AY3*(O3+273.15) + AZ3*(O3+273.15)^2 + BA3*(O3+273.15)^3))/2 -> 4179.5427 | AJ3: =((AT3 + AU3*(B3+273.15) + AV3*(B3+273.15)^2 + AW3*(B3+273.15)^3)+(AT3 + AU3*(O3+273.15) + AV3*(O3+273.15)^2 + AW3*(O3+273.15)^3))/2 -> 995.17392 | AT3: -144.24373 | AU3: 10.5287 | AV3: -0.031256926 | AW3: 2.9456116e-05 | AX3: 17554.454 | AY3: -125.69235 | AZ3: 0.39362054 | BA3: -0.00041079636 | BE3: =(INDEX('AMD 3700 Sek'!$C$2:$H$8,(MATCH(C3,'AMD 3700 Sek'!$B$2:$B$8,1)),(MATCH(E3,'AMD 3700 Sek'!$C$1:$H$1,1)))*(1-(E3-INDEX('AMD 3700 Sek'!$C$1:$H$1,1,(MATCH(E3,'AMD 3700 Sek'!$C$1:$H$1,1))))/(INDEX('AMD 3700 Sek'!$C$1:$H$1,1,(MATCH(E3,'AMD 3700 Sek'!$C$1:$H$1,1)+1))-INDEX('AMD 3700 Sek'!$C$1:$H$1,1,(MATCH(E3,'AMD 3700 Sek'!$C$1:$H$1,1)))))+INDEX('AMD 3700 Sek'!$C$2:$H$8,(MATCH(C3,'AMD 3700 Sek'!$B$2:$B$8,1)),(MATCH(E3,'AMD 3700 Sek'!$C$1:$H$1,1)+1))*(E3-INDEX('AMD 3700 Sek'!$C$1:$H$1,1,(MATCH(E3,'AMD 3700 Sek'!$C$1:$H$1,1))))/(INDEX('AMD 3700 Sek'!$C$1:$H$1,1,(MATCH(E3,'AMD 3700 Sek'!$C$1:$H$1,1)+1))-INDEX('AMD 3700 Sek'!$C$1:$H$1,1,(MATCH(E3,'AMD 3700 Sek'!$C$1:$H$1,1)))))*(1-((C3-INDEX('AMD 3700 Sek'!$B$2:$B$8,(MATCH(C3,'AMD 3700 Sek'!$B$2:$B$8,1)),1))/(INDEX('AMD 3700 Sek'!$B$2:$B$8,(MATCH(C3,'AMD 3700 Sek'!$B$2:$B$8,1)+1),1)-INDEX('AMD 3700 Sek'!$B$2:$B$8,(MATCH(C3,'AMD 3700 Sek'!$B$2:$B$8,1)),1))))+(INDEX('AMD 3700 Sek'!$C$2:$H$8,(MATCH(C3,'AMD 3700 Sek'!$B$2:$B$8,1)+1),(MATCH(E3,'AMD 3700 Sek'!$C$1:$H$1,1)))*(1-(E3-INDEX('AMD 3700 Sek'!$C$1:$H$1,1,(MATCH(E3,'AMD 3700 Sek'!$C$1:$H$1,1))))/(INDEX('AMD 3700 Sek'!$C$1:$H$1,1,(MATCH(E3,'AMD 3700 Sek'!$C$1:$H$1,1)+1))-INDEX('AMD 3700 Sek'!$C$1:$H$1,1,(MATCH(E3,'AMD 3700 Sek'!$C$1:$H$1,1)))))+INDEX('AMD 3700 Sek'!$C$2:$H$8,(MATCH(C3,'AMD 3700 Sek'!$B$2:$B$8,1)+1),(MATCH(E3,'AMD 3700 Sek'!$C$1:$H$1,1)+1))*(E3-INDEX('AMD 3700 Sek'!$C$1:$H$1,1,(MATCH(E3,'AMD 3700 Sek'!$C$1:$H$1,1))))/(INDEX('AMD 3700 Sek'!$C$1:$H$1,1,(MATCH(E3,'AMD 3700 Sek'!$C$1:$H$1,1)+1))-INDEX('AMD 3700 Sek'!$C$1:$H$1,1,(MATCH(E3,'AMD 3700 Sek'!$C$1:$H$1,1)))))*((C3-INDEX('AMD 3700 Sek'!$B$2:$B$8,(MATCH(C3,'AMD 3700 Sek'!$B$2:$B$8,1)),1))/(INDEX('AMD 3700 Sek'!$B$2:$B$8,(MATCH(C3,'AMD 3700 Sek'!$B$2:$B$8,1)+1),1)-INDEX('AMD 3700 Sek'!$B$2:$B$8,(MATCH(C3,'AMD 3700 Sek'!$B$2:$B$8,1)),1))) -> 8.1567078 | BF3: =(INDEX('AMD 3700 Sek'!$C$12:$H$18,(MATCH(C3,'AMD 3700 Sek'!$B$12:$B$18,1)),(MATCH(E3,'AMD 3700 Sek'!$C$11:$H$11,1)))*(1-(E3-INDEX('AMD 3700 Sek'!$C$11:$H$11,1,(MATCH(E3,'AMD 3700 Sek'!$C$11:$H$11,1))))/(INDEX('AMD 3700 Sek'!$C$11:$H$11,1,(MATCH(E3,'AMD 3700 Sek'!$C$11:$H$11,1)+1))-INDEX('AMD 3700 Sek'!$C$11:$H$11,1,(MATCH(E3,'AMD 3700 Sek'!$C$11:$H$11,1)))))+INDEX('AMD 3700 Sek'!$C$12:$H$18,(MATCH(C3,'AMD 3700 Sek'!$B$12:$B$18,1)),(MATCH(E3,'AMD 3700 Sek'!$C$11:$H$11,1)+1))*(E3-INDEX('AMD 3700 Sek'!$C$11:$H$11,1,(MATCH(E3,'AMD 3700 Sek'!$C$11:$H$11,1))))/(INDEX('AMD 3700 Sek'!$C$11:$H$11,1,(MATCH(E3,'AMD 3700 Sek'!$C$11:$H$11,1)+1))-INDEX('AMD 3700 Sek'!$C$11:$H$11,1,(MATCH(E3,'AMD 3700 Sek'!$C$11:$H$11,1)))))*(1-((C3-INDEX('AMD 3700 Sek'!$B$12:$B$18,(MATCH(C3,'AMD 3700 Sek'!$B$12:$B$18,1)),1))/(INDEX('AMD 3700 Sek'!$B$12:$B$18,(MATCH(C3,'AMD 3700 Sek'!$B$12:$B$18,1)+1),1)-INDEX('AMD 3700 Sek'!$B$12:$B$18,(MATCH(C3,'AMD 3700 Sek'!$B$12:$B$18,1)),1))))+(INDEX('AMD 3700 Sek'!$C$12:$H$18,(MATCH(C3,'AMD 3700 Sek'!$B$12:$B$18,1)+1),(MATCH(E3,'AMD 3700 Sek'!$C$11:$H$11,1)))*(1-(E3-INDEX('AMD 3700 Sek'!$C$11:$H$11,1,(MATCH(E3,'AMD 3700 Sek'!$C$11:$H$11,1))))/(INDEX('AMD 3700 Sek'!$C$11:$H$11,1,(MATCH(E3,'AMD 3700 Sek'!$C$11:$H$11,1)+1))-INDEX('AMD 3700 Sek'!$C$11:$H$11,1,(MATCH(E3,'AMD 3700 Sek'!$C$11:$H$11,1)))))+INDEX('AMD 3700 Sek'!$C$12:$H$18,(MATCH(C3,'AMD 3700 Sek'!$B$12:$B$18,1)+1),(MATCH(E3,'AMD 3700 Sek'!$C$11:$H$11,1)+1))*(E3-INDEX('AMD 3700 Sek'!$C$11:$H$11,1,(MATCH(E3,'AMD 3700 Sek'!$C$11:$H$11,1))))/(INDEX('AMD 3700 Sek'!$C$11:$H$11,1,(MATCH(E3,'AMD 3700 Sek'!$C$11:$H$11,1)+1))-INDEX('AMD 3700 Sek'!$C$11:$H$11,1,(MATCH(E3,'AMD 3700 Sek'!$C$11:$H$11,1)))))*((C3-INDEX('AMD 3700 Sek'!$B$12:$B$18,(MATCH(C3,'AMD 3700 Sek'!$B$12:$B$18,1)),1))/(INDEX('AMD 3700 Sek'!$B$12:$B$18,(MATCH(C3,'AMD 3700 Sek'!$B$12:$B$18,1)+1),1)-INDEX('AMD 3700 Sek'!$B$12:$B$18,(MATCH(C3,'AMD 3700 Sek'!$B$12:$B$18,1)),1))) -> 2.9473495 | BG3: =(INDEX('AMD 3700 Sek'!$K$2:$L$4,(MATCH(H3,'AMD 3700 Sek'!$J$2:$J$4,1)),(MATCH(G3,'AMD 3700 Sek'!$K$1:$L$1,1)))*(1-(G3-INDEX('AMD 3700 Sek'!$K$1:$L$1,1,(MATCH(G3,'AMD 3700 Sek'!$K$1:$L$1,1))))/(INDEX('AMD 3700 Sek'!$K$1:$L$1,1,(MATCH(G3,'AMD 3700 Sek'!$K$1:$L$1,1)+1))-INDEX('AMD 3700 Sek'!$K$1:$L$1,1,(MATCH(G3,'AMD 3700 Sek'!$K$1:$L$1,1)))))+INDEX('AMD 3700 Sek'!$K$2:$L$4,(MATCH(H3,'AMD 3700 Sek'!$J$2:$J$4,1)),(MATCH(G3,'AMD 3700 Sek'!$K$1:$L$1,1)+1))*(G3-INDEX('AMD 3700 Sek'!$K$1:$L$1,1,(MATCH(G3,'AMD 3700 Sek'!$K$1:$L$1,1))))/(INDEX('AMD 3700 Sek'!$K$1:$L$1,1,(MATCH(G3,'AMD 3700 Sek'!$K$1:$L$1,1)+1))-INDEX('AMD 3700 Sek'!$K$1:$L$1,1,(MATCH(G3,'AMD 3700 Sek'!$K$1:$L$1,1)))))*(1-((H3-INDEX('AMD 3700 Sek'!$J$2:$J$4,(MATCH(H3,'AMD 3700 Sek'!$J$2:$J$4,1)),1))/(INDEX('AMD 3700 Sek'!$J$2:$J$4,(MATCH(H3,'AMD 3700 Sek'!$J$2:$J$4,1)+1),1)-INDEX('AMD 3700 Sek'!$J$2:$J$4,(MATCH(H3,'AMD 3700 Sek'!$J$2:$J$4,1)),1))))+(INDEX('AMD 3700 Sek'!$K$2:$L$4,(MATCH(H3,'AMD 3700 Sek'!$J$2:$J$4,1)+1),(MATCH(G3,'AMD 3700 Sek'!$K$1:$L$1,1)))*(1-(G3-INDEX('AMD 3700 Sek'!$K$1:$L$1,1,(MATCH(G3,'AMD 3700 Sek'!$K$1:$L$1,1))))/(INDEX('AMD 3700 Sek'!$K$1:$L$1,1,(MATCH(G3,'AMD 3700 Sek'!$K$1:$L$1,1)+1))-INDEX('AMD 3700 Sek'!$K$1:$L$1,1,(MATCH(G3,'AMD 3700 Sek'!$K$1:$L$1,1)))))+INDEX('AMD 3700 Sek'!$K$2:$L$4,(MATCH(H3,'AMD 3700 Sek'!$J$2:$J$4,1)+1),(MATCH(G3,'AMD 3700 Sek'!$K$1:$L$1,1)+1))*(G3-INDEX('AMD 3700 Sek'!$K$1:$L$1,1,(MATCH(G3,'AMD 3700 Sek'!$K$1:$L$1,1))))/(INDEX('AMD 3700 Sek'!$K$1:$L$1,1,(MATCH(G3,'AMD 3700 Sek'!$K$1:$L$1,1)+1))-INDEX('AMD 3700 Sek'!$K$1:$L$1,1,(MATCH(G3,'AMD 3700 Sek'!$K$1:$L$1,1)))))*((H3-INDEX('AMD 3700 Sek'!$J$2:$J$4,(MATCH(H3,'AMD 3700 Sek'!$J$2:$J$4,1)),1))/(INDEX('AMD 3700 Sek'!$J$2:$J$4,(MATCH(H3,'AMD 3700 Sek'!$J$2:$J$4,1)+1),1)-INDEX('AMD 3700 Sek'!$J$2:$J$4,(MATCH(H3,'AMD 3700 Sek'!$J$2:$J$4,1)),1))) -> 6.0494423 | BH3: =(INDEX('AMD 3700 Sek'!$K$11:$L$13,(MATCH(H3,'AMD 3700 Sek'!$J$11:$J$13,1)),(MATCH(G3,'AMD 3700 Sek'!$K$10:$L$10,1)))*(1-(G3-INDEX('AMD 3700 Sek'!$K$10:$L$10,1,(MATCH(G3,'AMD 3700 Sek'!$K$10:$L$10,1))))/(INDEX('AMD 3700 Sek'!$K$10:$L$10,1,(MATCH(G3,'AMD 3700 Sek'!$K$10:$L$10,1)+1))-INDEX('AMD 3700 Sek'!$K$10:$L$10,1,(MATCH(G3,'AMD 3700 Sek'!$K$10:$L$10,1)))))+INDEX('AMD 3700 Sek'!$K$11:$L$13,(MATCH(H3,'AMD 3700 Sek'!$J$11:$J$13,1)),(MATCH(G3,'AMD 3700 Sek'!$K$10:$L$10,1)+1))*(G3-INDEX('AMD 3700 Sek'!$K$10:$L$10,1,(MATCH(G3,'AMD 3700 Sek'!$K$10:$L$10,1))))/(INDEX('AMD 3700 Sek'!$K$10:$L$10,1,(MATCH(G3,'AMD 3700 Sek'!$K$10:$L$10,1)+1))-INDEX('AMD 3700 Sek'!$K$10:$L$10,1,(MATCH(G3,'AMD 3700 Sek'!$K$10:$L$10,1)))))*(1-((H3-INDEX('AMD 3700 Sek'!$J$11:$J$13,(MATCH(H3,'AMD 3700 Sek'!$J$11:$J$13,1)),1))/(INDEX('AMD 3700 Sek'!$J$11:$J$13,(MATCH(H3,'AMD 3700 Sek'!$J$11:$J$13,1)+1),1)-INDEX('AMD 3700 Sek'!$J$11:$J$13,(MATCH(H3,'AMD 3700 Sek'!$J$11:$J$13,1)),1))))+(INDEX('AMD 3700 Sek'!$K$11:$L$13,(MATCH(H3,'AMD 3700 Sek'!$J$11:$J$13,1)+1),(MATCH(G3,'AMD 3700 Sek'!$K$10:$L$10,1)))*(1-(G3-INDEX('AMD 3700 Sek'!$K$10:$L$10,1,(MATCH(G3,'AMD 3700 Sek'!$K$10:$L$10,1))))/(INDEX('AMD 3700 Sek'!$K$10:$L$10,1,(MATCH(G3,'AMD 3700 Sek'!$K$10:$L$10,1)+1))-INDEX('AMD 3700 Sek'!$K$10:$L$10,1,(MATCH(G3,'AMD 3700 Sek'!$K$10:$L$10,1)))))+INDEX('AMD 3700 Sek'!$K$11:$L$13,(MATCH(H3,'AMD 3700 Sek'!$J$11:$J$13,1)+1),(MATCH(G3,'AMD 3700 Sek'!$K$10:$L$10,1)+1))*(G3-INDEX('AMD 3700 Sek'!$K$10:$L$10,1,(MATCH(G3,'AMD 3700 Sek'!$K$10:$L$10,1))))/(INDEX('AMD 3700 Sek'!$K$10:$L$10,1,(MATCH(G3,'AMD 3700 Sek'!$K$10:$L$10,1)+1))-INDEX('AMD 3700 Sek'!$K$10:$L$10,1,(MATCH(G3,'AMD 3700 Sek'!$K$10:$L$10,1)))))*((H3-INDEX('AMD 3700 Sek'!$J$11:$J$13,(MATCH(H3,'AMD 3700 Sek'!$J$11:$J$13,1)),1))/(INDEX('AMD 3700 Sek'!$J$11:$J$13,(MATCH(H3,'AMD 3700 Sek'!$J$11:$J$13,1)+1),1)-INDEX('AMD 3700 Sek'!$J$11:$J$13,(MATCH(H3,'AMD 3700 Sek'!$J$11:$J$13,1)),1))) -> 2.1372261 | BI3: =(INDEX('AMD 3700 Sek'!$K$20:$K$26,MATCH(D3,'AMD 3700 Sek'!$J$20:$J$26,1)+1)-INDEX('AMD 3700 Sek'!$K$20:$K$26,MATCH(D3,'AMD 3700 Sek'!$J$20:$J$26,1)))/(INDEX('AMD 3700 Sek'!$J$20:$J$26,MATCH(D3,'AMD 3700 Sek'!$J$20:$J$26,1)+1)-INDEX('AMD 3700 Sek'!$J$20:$J$26,MATCH(D3,'AMD 3700 Sek'!$J$20:$J$26,1)))*(D3-INDEX('AMD 3700 Sek'!$J$20:$J$26,MATCH(D3,'AMD 3700 Sek'!$J$20:$J$26,1)))+INDEX('AMD 3700 Sek'!$K$20:$K$26,MATCH(D3,'AMD 3700 Sek'!$J$20:$J$26,1)) -> 10.241718 | BJ3: =(INDEX('AMD 3700 Sek'!$L$20:$L$26,MATCH(D3,'AMD 3700 Sek'!$J$20:$J$26,1)+1)-INDEX('AMD 3700 Sek'!$L$20:$L$26,MATCH(D3,'AMD 3700 Sek'!$J$20:$J$26,1)))/(INDEX('AMD 3700 Sek'!$J$20:$J$26,MATCH(D3,'AMD 3700 Sek'!$J$20:$J$26,1)+1)-INDEX('AMD 3700 Sek'!$J$20:$J$26,MATCH(D3,'AMD 3700 Sek'!$J$20:$J$26,1)))*(D3-INDEX('AMD 3700 Sek'!$J$20:$J$26,MATCH(D3,'AMD 3700 Sek'!$J$20:$J$26,1)))+INDEX('AMD 3700 Sek'!$L$20:$L$26,MATCH(D3,'AMD 3700 Sek'!$J$20:$J$26,1)) -> 3.6645317 | BK3: =(INDEX('AMD 3700 Sek'!$O$19:$P$26,(MATCH(J3,'AMD 3700 Sek'!$N$19:$N$26,1)),(MATCH(A3,'AMD 3700 Sek'!$O$18:$P$18,1)))*(1-(A3-INDEX('AMD 3700 Sek'!$O$18:$P$18,1,(MATCH(A3,'AMD 3700 Sek'!$O$18:$P$18,1))))/(INDEX('AMD 3700 Sek'!$O$18:$P$18,1,(MATCH(A3,'AMD 3700 Sek'!$O$18:$P$18,1)+1))-INDEX('AMD 3700 Sek'!$O$18:$P$18,1,(MATCH(A3,'AMD 3700 Sek'!$O$18:$P$18,1)))))+INDEX('AMD 3700 Sek'!$O$19:$P$26,(MATCH(J3,'AMD 3700 Sek'!$N$19:$N$26,1)),(MATCH(A3,'AMD 3700 Sek'!$O$18:$P$18,1)+1))*(A3-INDEX('AMD 3700 Sek'!$O$18:$P$18,1,(MATCH(A3,'AMD 3700 Sek'!$O$18:$P$18,1))))/(INDEX('AMD 3700 Sek'!$O$18:$P$18,1,(MATCH(A3,'AMD 3700 Sek'!$O$18:$P$18,1)+1))-INDEX('AMD 3700 Sek'!$O$18:$P$18,1,(MATCH(A3,'AMD 3700 Sek'!$O$18:$P$18,1)))))*(1-((J3-INDEX('AMD 3700 Sek'!$N$19:$N$26,(MATCH(J3,'AMD 3700 Sek'!$N$19:$N$26,1)),1))/(INDEX('AMD 3700 Sek'!$N$19:$N$26,(MATCH(J3,'AMD 3700 Sek'!$N$19:$N$26,1)+1),1)-INDEX('AMD 3700 Sek'!$N$19:$N$26,(MATCH(J3,'AMD 3700 Sek'!$N$19:$N$26,1)),1))))+(INDEX('AMD 3700 Sek'!$O$19:$P$26,(MATCH(J3,'AMD 3700 Sek'!$N$19:$N$26,1)+1),(MATCH(A3,'AMD 3700 Sek'!$O$18:$P$18,1)))*(1-(A3-INDEX('AMD 3700 Sek'!$O$18:$P$18,1,(MATCH(A3,'AMD 3700 Sek'!$O$18:$P$18,1))))/(INDEX('AMD 3700 Sek'!$O$18:$P$18,1,(MATCH(A3,'AMD 3700 Sek'!$O$18:$P$18,1)+1))-INDEX('AMD 3700 Sek'!$O$18:$P$18,1,(MATCH(A3,'AMD 3700 Sek'!$O$18:$P$18,1)))))+INDEX('AMD 3700 Sek'!$O$19:$P$26,(MATCH(J3,'AMD 3700 Sek'!$N$19:$N$26,1)+1),(MATCH(A3,'AMD 3700 Sek'!$O$18:$P$18,1)+1))*(A3-INDEX('AMD 3700 Sek'!$O$18:$P$18,1,(MATCH(A3,'AMD 3700 Sek'!$O$18:$P$18,1))))/(INDEX('AMD 3700 Sek'!$O$18:$P$18,1,(MATCH(A3,'AMD 3700 Sek'!$O$18:$P$18,1)+1))-INDEX('AMD 3700 Sek'!$O$18:$P$18,1,(MATCH(A3,'AMD 3700 Sek'!$O$18:$P$18,1)))))*((J3-INDEX('AMD 3700 Sek'!$N$19:$N$26,(MATCH(J3,'AMD 3700 Sek'!$N$19:$N$26,1)),1))/(INDEX('AMD 3700 Sek'!$N$19:$N$26,(MATCH(J3,'AMD 3700 Sek'!$N$19:$N$26,1)+1),1)-INDEX('AMD 3700 Sek'!$N$19:$N$26,(MATCH(J3,'AMD 3700 Sek'!$N$19:$N$26,1)),1))) -> 1 | BL3: =(INDEX('AMD 3700 Sek'!$O$2:$P$4,(MATCH(M3,'AMD 3700 Sek'!$N$2:$N$4,1)),(MATCH(L3,'AMD 3700 Sek'!$O$1:$P$1,1)))*(1-(L3-INDEX('AMD 3700 Sek'!$O$1:$P$1,1,(MATCH(L3,'AMD 3700 Sek'!$O$1:$P$1,1))))/(INDEX('AMD 3700 Sek'!$O$1:$P$1,1,(MATCH(L3,'AMD 3700 Sek'!$O$1:$P$1,1)+1))-INDEX('AMD 3700 Sek'!$O$1:$P$1,1,(MATCH(L3,'AMD 3700 Sek'!$O$1:$P$1,1)))))+INDEX('AMD 3700 Sek'!$O$2:$P$4,(MATCH(M3,'AMD 3700 Sek'!$N$2:$N$4,1)),(MATCH(L3,'AMD 3700 Sek'!$O$1:$P$1,1)+1))*(L3-INDEX('AMD 3700 Sek'!$O$1:$P$1,1,(MATCH(L3,'AMD 3700 Sek'!$O$1:$P$1,1))))/(INDEX('AMD 3700 Sek'!$O$1:$P$1,1,(MATCH(L3,'AMD 3700 Sek'!$O$1:$P$1,1)+1))-INDEX('AMD 3700 Sek'!$O$1:$P$1,1,(MATCH(L3,'AMD 3700 Sek'!$O$1:$P$1,1)))))*(1-((M3-INDEX('AMD 3700 Sek'!$N$2:$N$4,(MATCH(M3,'AMD 3700 Sek'!$N$2:$N$4,1)),1))/(INDEX('AMD 3700 Sek'!$N$2:$N$4,(MATCH(M3,'AMD 3700 Sek'!$N$2:$N$4,1)+1),1)-INDEX('AMD 3700 Sek'!$N$2:$N$4,(MATCH(M3,'AMD 3700 Sek'!$N$2:$N$4,1)),1))))+(INDEX('AMD 3700 Sek'!$O$2:$P$4,(MATCH(M3,'AMD 3700 Sek'!$N$2:$N$4,1)+1),(MATCH(L3,'AMD 3700 Sek'!$O$1:$P$1,1)))*(1-(L3-INDEX('AMD 3700 Sek'!$O$1:$P$1,1,(MATCH(L3,'AMD 3700 Sek'!$O$1:$P$1,1))))/(INDEX('AMD 3700 Sek'!$O$1:$P$1,1,(MATCH(L3,'AMD 3700 Sek'!$O$1:$P$1,1)+1))-INDEX('AMD 3700 Sek'!$O$1:$P$1,1,(MATCH(L3,'AMD 3700 Sek'!$O$1:$P$1,1)))))+INDEX('AMD 3700 Sek'!$O$2:$P$4,(MATCH(M3,'AMD 3700 Sek'!$N$2:$N$4,1)+1),(MATCH(L3,'AMD 3700 Sek'!$O$1:$P$1,1)+1))*(L3-INDEX('AMD 3700 Sek'!$O$1:$P$1,1,(MATCH(L3,'AMD 3700 Sek'!$O$1:$P$1,1))))/(INDEX('AMD 3700 Sek'!$O$1:$P$1,1,(MATCH(L3,'AMD 3700 Sek'!$O$1:$P$1,1)+1))-INDEX('AMD 3700 Sek'!$O$1:$P$1,1,(MATCH(L3,'AMD 3700 Sek'!$O$1:$P$1,1)))))*((M3-INDEX('AMD 3700 Sek'!$N$2:$N$4,(MATCH(M3,'AMD 3700 Sek'!$N$2:$N$4,1)),1))/(INDEX('AMD 3700 Sek'!$N$2:$N$4,(MATCH(M3,'AMD 3700 Sek'!$N$2:$N$4,1)+1),1)-INDEX('AMD 3700 Sek'!$N$2:$N$4,(MATCH(M3,'AMD 3700 Sek'!$N$2:$N$4,1)),1))) -> 13.936377 | BM3: =(INDEX('AMD 3700 Sek'!$O$11:$P$13,(MATCH(M3,'AMD 3700 Sek'!$N$11:$N$13,1)),(MATCH(L3,'AMD 3700 Sek'!$O$10:$P$10,1)))*(1-(L3-INDEX('AMD 3700 Sek'!$O$10:$P$10,1,(MATCH(L3,'AMD 3700 Sek'!$O$10:$P$10,1))))/(INDEX('AMD 3700 Sek'!$O$10:$P$10,1,(MATCH(L3,'AMD 3700 Sek'!$O$10:$P$10,1)+1))-INDEX('AMD 3700 Sek'!$O$10:$P$10,1,(MATCH(L3,'AMD 3700 Sek'!$O$10:$P$10,1)))))+INDEX('AMD 3700 Sek'!$O$11:$P$13,(MATCH(M3,'AMD 3700 Sek'!$N$11:$N$13,1)),(MATCH(L3,'AMD 3700 Sek'!$O$10:$P$10,1)+1))*(L3-INDEX('AMD 3700 Sek'!$O$10:$P$10,1,(MATCH(L3,'AMD 3700 Sek'!$O$10:$P$10,1))))/(INDEX('AMD 3700 Sek'!$O$10:$P$10,1,(MATCH(L3,'AMD 3700 Sek'!$O$10:$P$10,1)+1))-INDEX('AMD 3700 Sek'!$O$10:$P$10,1,(MATCH(L3,'AMD 3700 Sek'!$O$10:$P$10,1)))))*(1-((M3-INDEX('AMD 3700 Sek'!$N$11:$N$13,(MATCH(M3,'AMD 3700 Sek'!$N$11:$N$13,1)),1))/(INDEX('AMD 3700 Sek'!$N$11:$N$13,(MATCH(M3,'AMD 3700 Sek'!$N$11:$N$13,1)+1),1)-INDEX('AMD 3700 Sek'!$N$11:$N$13,(MATCH(M3,'AMD 3700 Sek'!$N$11:$N$13,1)),1))))+(INDEX('AMD 3700 Sek'!$O$11:$P$13,(MATCH(M3,'AMD 3700 Sek'!$N$11:$N$13,1)+1),(MATCH(L3,'AMD 3700 Sek'!$O$10:$P$10,1)))*(1-(L3-INDEX('AMD 3700 Sek'!$O$10:$P$10,1,(MATCH(L3,'AMD 3700 Sek'!$O$10:$P$10,1))))/(INDEX('AMD 3700 Sek'!$O$10:$P$10,1,(MATCH(L3,'AMD 3700 Sek'!$O$10:$P$10,1)+1))-INDEX('AMD 3700 Sek'!$O$10:$P$10,1,(MATCH(L3,'AMD 3700 Sek'!$O$10:$P$10,1)))))+INDEX('AMD 3700 Sek'!$O$11:$P$13,(MATCH(M3,'AMD 3700 Sek'!$N$11:$N$13,1)+1),(MATCH(L3,'AMD 3700 Sek'!$O$10:$P$10,1)+1))*(L3-INDEX('AMD 3700 Sek'!$O$10:$P$10,1,(MATCH(L3,'AMD 3700 Sek'!$O$10:$P$10,1))))/(INDEX('AMD 3700 Sek'!$O$10:$P$10,1,(MATCH(L3,'AMD 3700 Sek'!$O$10:$P$10,1)+1))-INDEX('AMD 3700 Sek'!$O$10:$P$10,1,(MATCH(L3,'AMD 3700 Sek'!$O$10:$P$10,1)))))*((M3-INDEX('AMD 3700 Sek'!$N$11:$N$13,(MATCH(M3,'AMD 3700 Sek'!$N$11:$N$13,1)),1))/(INDEX('AMD 3700 Sek'!$N$11:$N$13,(MATCH(M3,'AMD 3700 Sek'!$N$11:$N$13,1)+1),1)-INDEX('AMD 3700 Sek'!$N$11:$N$13,(MATCH(M3,'AMD 3700 Sek'!$N$11:$N$13,1)),1))) -> 4.9707777
AD4: 0.01 | AE4: =AE3+$Q3-($Q3*0.17) -> 36.252263 | AI4: =+((AX4 + AY4*(B4+273.15) +AZ4*(B4+273.15)^2 + BA4*(B4+273.15)^3)+(AX4 + AY4*(O4+273.15) + AZ4*(O4+273.15)^2 + BA4*(O4+273.15)^3))/2 -> 4217.9626 | AJ4: =((AT4 + AU4*(B4+273.15) + AV4*(B4+273.15)^2 + AW4*(B4+273.15)^3)+(AT4 + AU4*(O4+273.15) + AV4*(O4+273.15)^2 + AW4*(O4+273.15)^3))/2 -> 999.87747 | AT4: -144.24373 | AU4: 10.5287 | AV4: -0.031256926 | AW4: 2.9456116e-05 | AX4: 17554.454 | AY4: -125.69235 | AZ4: 0.39362054 | BA4: -0.00041079636
AD5: =AD4+1.19 -> 1.2 | AE5: =AE3+$Q3 -> 37.21459 | AI5: =+((AX5 + AY5*(B5+273.15) +AZ5*(B5+273.15)^2 + BA5*(B5+273.15)^3)+(AX5 + AY5*(O5+273.15) + AZ5*(O5+273.15)^2 + BA5*(O5+273.15)^3))/2 -> 4217.9626 | AJ5: =((AT5 + AU5*(B5+273.15) + AV5*(B5+273.15)^2 + AW5*(B5+273.15)^3)+(AT5 + AU5*(O5+273.15) + AV5*(O5+273.15)^2 + AW5*(O5+273.15)^3))/2 -> 999.87747 | AT5: -144.24373 | AU5: 10.5287 | AV5: -0.031256926 | AW5: 2.9456116e-05 | AX5: 17554.454 | AY5: -125.69235 | AZ5: 0.39362054 | BA5: -0.00041079636
AD6: =AD5+$F3 -> 1.216 | AE6: =AE5+$R3 -> 37.258641 | AI6: =+((AX6 + AY6*(B6+273.15) +AZ6*(B6+273.15)^2 + BA6*(B6+273.15)^3)+(AX6 + AY6*(O6+273.15) + AZ6*(O6+273.15)^2 + BA6*(O6+273.15)^3))/2 -> 4217.9626 | AJ6: =((AT6 + AU6*(B6+273.15) + AV6*(B6+273.15)^2 + AW6*(B6+273.15)^3)+(AT6 + AU6*(O6+273.15) + AV6*(O6+273.15)^2 + AW6*(O6+273.15)^3))/2 -> 999.87747 | AT6: -144.24373 | AU6: 10.5287 | AV6: -0.031256926 | AW6: 2.9456116e-05 | AX6: 17554.454 | AY6: -125.69235 | AZ6: 0.39362054 | BA6: -0.00041079636
AD7: =AD6+$H3 -> 1.296 | AE7: =AE6+$S3 -> 41.433621 | AI7: =+((AX7 + AY7*(B7+273.15) +AZ7*(B7+273.15)^2 + BA7*(B7+273.15)^3)+(AX7 + AY7*(O7+273.15) + AZ7*(O7+273.15)^2 + BA7*(O7+273.15)^3))/2 -> 4217.9626 | AJ7: =((AT7 + AU7*(B7+273.15) + AV7*(B7+273.15)^2 + AW7*(B7+273.15)^3)+(AT7 + AU7*(O7+273.15) + AV7*(O7+273.15)^2 + AW7*(O7+273.15)^3))/2 -> 999.87747 | AT7: -144.24373 | AU7: 10.5287 | AV7: -0.031256926 | AW7: 2.9456116e-05 | AX7: 17554.454 | AY7: -125.69235 | AZ7: 0.39362054 | BA7: -0.00041079636
AD8: =AD7+$I3 -> 1.312 | AE8: =AE7+$T3 -> 41.440298 | AI8: =+((AX8 + AY8*(B8+273.15) +AZ8*(B8+273.15)^2 + BA8*(B8+273.15)^3)+(AX8 + AY8*(O8+273.15) + AZ8*(O8+273.15)^2 + BA8*(O8+273.15)^3))/2 -> 4217.9626 | AJ8: =((AT8 + AU8*(B8+273.15) + AV8*(B8+273.15)^2 + AW8*(B8+273.15)^3)+(AT8 + AU8*(O8+273.15) + AV8*(O8+273.15)^2 + AW8*(O8+273.15)^3))/2 -> 999.87747 | AT8: -144.24373 | AU8: 10.5287 | AV8: -0.031256926 | AW8: 2.9456116e-05 | AX8: 17554.454 | AY8: -125.69235 | AZ8: 0.39362054 | BA8: -0.00041079636
AD9: =AD8+J3 -> 4.012 | AE9: =AE8+$U3 -> 48.530686 | AI9: =+((AX9 + AY9*(B9+273.15) +AZ9*(B9+273.15)^2 + BA9*(B9+273.15)^3)+(AX9 + AY9*(O9+273.15) + AZ9*(O9+273.15)^2 + BA9*(O9+273.15)^3))/2 -> 4217.9626 | AJ9: =((AT9 + AU9*(B9+273.15) + AV9*(B9+273.15)^2 + AW9*(B9+273.15)^3)+(AT9 + AU9*(O9+273.15) + AV9*(O9+273.15)^2 + AW9*(O9+273.15)^3))/2 -> 999.87747 | AT9: -144.24373 | AU9: 10.5287 | AV9: -0.031256926 | AW9: 2.9456116e-05 | AX9: 17554.454 | AY9: -125.69235 | AZ9: 0.39362054 | BA9: -0.00041079636
AD10: =AD9+$K3 -> 4.028 | AE10: =AE9+$V3 -> 48.566989 | AI10: =+((AX10 + AY10*(B10+273.15) +AZ10*(B10+273.15)^2 + BA10*(B10+273.15)^3)+(AX10 + AY10*(O10+273.15) + AZ10*(O10+273.15)^2 + BA10*(O10+273.15)^3))/2 -> 4217.9626 | AJ10: =((AT10 + AU10*(B10+273.15) + AV10*(B10+273.15)^2 + AW10*(B10+273.15)^3)+(AT10 + AU10*(O10+273.15) + AV10*(O10+273.15)^2 + AW10*(O10+273.15)^3))/2 -> 999.87747 | AT10: -144.24373 | AU10: 10.5287 | AV10: -0.031256926 | AW10: 2.9456116e-05 | AX10: 17554.454 | AY10: -125.69235 | AZ10: 0.39362054 | BA10: -0.00041079636
AD11: =AD10+$M3 -> 4.228 | AE11: =AE10+$W3 -> 58.207674 | AI11: =+((AX11 + AY11*(B11+273.15) +AZ11*(B11+273.15)^2 + BA11*(B11+273.15)^3)+(AX11 + AY11*(O11+273.15) + AZ11*(O11+273.15)^2 + BA11*(O11+273.15)^3))/2 -> 4217.9626 | AJ11: =((AT11 + AU11*(B11+273.15) + AV11*(B11+273.15)^2 + AW11*(B11+273.15)^3)+(AT11 + AU11*(O11+273.15) + AV11*(O11+273.15)^2 + AW11*(O11+273.15)^3))/2 -> 999.87747 | AT11: -144.24373 | AU11: 10.5287 | AV11: -0.031256926 | AW11: 2.9456116e-05 | AX11: 17554.454 | AY11: -125.69235 | AZ11: 0.39362054 | BA11: -0.00041079636
AD12: =AD11+0.016 -> 4.244 | AE12: =AE11+$X3 -> 58.269557 | AI12: =+((AX12 + AY12*(B12+273.15) +AZ12*(B12+273.15)^2 + BA12*(B12+273.15)^3)+(AX12 + AY12*(O12+273.15) + AZ12*(O12+273.15)^2 + BA12*(O12+273.15)^3))/2 -> 4217.9626 | AJ12: =((AT12 + AU12*(B12+273.15) + AV12*(B12+273.15)^2 + AW12*(B12+273.15)^3)+(AT12 + AU12*(O12+273.15) + AV12*(O12+273.15)^2 + AW12*(O12+273.15)^3))/2 -> 999.87747 | AT12: -144.24373 | AU12: 10.5287 | AV12: -0.031256926 | AW12: 2.9456116e-05 | AX12: 17554.454 | AY12: -125.69235 | AZ12: 0.39362054 | BA12: -0.00041079636
AD13: =AD12+$N3 -> 5.064 | AE13: =AE12+$Y3 -> 76.68988 | AI13: =+((AX13 + AY13*(B13+273.15) +AZ13*(B13+273.15)^2 + BA13*(B13+273.15)^3)+(AX13 + AY13*(O13+273.15) + AZ13*(O13+273.15)^2 + BA13*(O13+273.15)^3))/2 -> 4217.9626 | AJ13: =((AT13 + AU13*(B13+273.15) + AV13*(B13+273.15)^2 + AW13*(B13+273.15)^3)+(AT13 + AU13*(O13+273.15) + AV13*(O13+273.15)^2 + AW13*(O13+273.15)^3))/2 -> 999.87747 | AT13: -144.24373 | AU13: 10.5287 | AV13: -0.031256926 | AW13: 2.9456116e-05 | AX13: 17554.454 | AY13: -125.69235 | AZ13: 0.39362054 | BA13: -0.00041079636
AI14: =+((AX14 + AY14*(B14+273.15) +AZ14*(B14+273.15)^2 + BA14*(B14+273.15)^3)+(AX14 + AY14*(O14+273.15) + AZ14*(O14+273.15)^2 + BA14*(O14+273.15)^3))/2 -> 4217.9626 | AJ14: =((AT14 + AU14*(B14+273.15) + AV14*(B14+273.15)^2 + AW14*(B14+273.15)^3)+(AT14 + AU14*(O14+273.15) + AV14*(O14+273.15)^2 + AW14*(O14+273.15)^3))/2 -> 999.87747 | AT14: -144.24373 | AU14: 10.5287 | AV14: -0.031256926 | AW14: 2.9456116e-05 | AX14: 17554.454 | AY14: -125.69235 | AZ14: 0.39362054 | BA14: -0.00041079636
AI15: =+((AX15 + AY15*(B15+273.15) +AZ15*(B15+273.15)^2 + BA15*(B15+273.15)^3)+(AX15 + AY15*(O15+273.15) + AZ15*(O15+273.15)^2 + BA15*(O15+273.15)^3))/2 -> 4217.9626 | AJ15: =((AT15 + AU15*(B15+273.15) + AV15*(B15+273.15)^2 + AW15*(B15+273.15)^3)+(AT15 + AU15*(O15+273.15) + AV15*(O15+273.15)^2 + AW15*(O15+273.15)^3))/2 -> 999.87747 | AT15: -144.24373 | AU15: 10.5287 | AV15: -0.031256926 | AW15: 2.9456116e-05 | AX15: 17554.454 | AY15: -125.69235 | AZ15: 0.39362054 | BA15: -0.00041079636
AI16: =+((AX16 + AY16*(B16+273.15) +AZ16*(B16+273.15)^2 + BA16*(B16+273.15)^3)+(AX16 + AY16*(O16+273.15) + AZ16*(O16+273.15)^2 + BA16*(O16+273.15)^3))/2 -> 4217.9626 | AJ16: =((AT16 + AU16*(B16+273.15) + AV16*(B16+273.15)^2 + AW16*(B16+273.15)^3)+(AT16 + AU16*(O16+273.15) + AV16*(O16+273.15)^2 + AW16*(O16+273.15)^3))/2 -> 999.87747 | AT16: -144.24373 | AU16: 10.5287 | AV16: -0.031256926 | AW16: 2.9456116e-05 | AX16: 17554.454 | AY16: -125.69235 | AZ16: 0.39362054 | BA16: -0.00041079636
AI17: =+((AX17 + AY17*(B17+273.15) +AZ17*(B17+273.15)^2 + BA17*(B17+273.15)^3)+(AX17 + AY17*(O17+273.15) + AZ17*(O17+273.15)^2 + BA17*(O17+273.15)^3))/2 -> 4217.9626 | AJ17: =((AT17 + AU17*(B17+273.15) + AV17*(B17+273.15)^2 + AW17*(B17+273.15)^3)+(AT17 + AU17*(O17+273.15) + AV17*(O17+273.15)^2 + AW17*(O17+273.15)^3))/2 -> 999.87747 | AT17: -144.24373 | AU17: 10.5287 | AV17: -0.031256926 | AW17: 2.9456116e-05 | AX17: 17554.454 | AY17: -125.69235 | AZ17: 0.39362054 | BA17: -0.00041079636
AI18: =+((AX18 + AY18*(B18+273.15) +AZ18*(B18+273.15)^2 + BA18*(B18+273.15)^3)+(AX18 + AY18*(O18+273.15) + AZ18*(O18+273.15)^2 + BA18*(O18+273.15)^3))/2 -> 4217.9626 | AJ18: =((AT18 + AU18*(B18+273.15) + AV18*(B18+273.15)^2 + AW18*(B18+273.15)^3)+(AT18 + AU18*(O18+273.15) + AV18*(O18+273.15)^2 + AW18*(O18+273.15)^3))/2 -> 999.87747 | AT18: -144.24373 | AU18: 10.5287 | AV18: -0.031256926 | AW18: 2.9456116e-05 | AX18: 17554.454 | AY18: -125.69235 | AZ18: 0.39362054 | BA18: -0.00041079636
AI19: =+((AX19 + AY19*(B19+273.15) +AZ19*(B19+273.15)^2 + BA19*(B19+273.15)^3)+(AX19 + AY19*(O19+273.15) + AZ19*(O19+273.15)^2 + BA19*(O19+273.15)^3))/2 -> 4217.9626 | AJ19: =((AT19 + AU19*(B19+273.15) + AV19*(B19+273.15)^2 + AW19*(B19+273.15)^3)+(AT19 + AU19*(O19+273.15) + AV19*(O19+273.15)^2 + AW19*(O19+273.15)^3))/2 -> 999.87747 | AT19: -144.24373 | AU19: 10.5287 | AV19: -0.031256926 | AW19: 2.9456116e-05 | AX19: 17554.454 | AY19: -125.69235 | AZ19: 0.39362054 | BA19: -0.00041079636
AI20: =+((AX20 + AY20*(B20+273.15) +AZ20*(B20+273.15)^2 + BA20*(B20+273.15)^3)+(AX20 + AY20*(O20+273.15) + AZ20*(O20+273.15)^2 + BA20*(O20+273.15)^3))/2 -> 4217.9626 | AJ20: =((AT20 + AU20*(B20+273.15) + AV20*(B20+273.15)^2 + AW20*(B20+273.15)^3)+(AT20 + AU20*(O20+273.15) + AV20*(O20+273.15)^2 + AW20*(O20+273.15)^3))/2 -> 999.87747 | AT20: -144.24373 | AU20: 10.5287 | AV20: -0.031256926 | AW20: 2.9456116e-05 | AX20: 17554.454 | AY20: -125.69235 | AZ20: 0.39362054 | BA20: -0.00041079636
AI21: =+((AX21 + AY21*(B21+273.15) +AZ21*(B21+273.15)^2 + BA21*(B21+273.15)^3)+(AX21 + AY21*(O21+273.15) + AZ21*(O21+273.15)^2 + BA21*(O21+273.15)^3))/2 -> 4217.9626 | AJ21: =((AT21 + AU21*(B21+273.15) + AV21*(B21+273.15)^2 + AW21*(B21+273.15)^3)+(AT21 + AU21*(O21+273.15) + AV21*(O21+273.15)^2 + AW21*(O21+273.15)^3))/2 -> 999.87747 | AT21: -144.24373 | AU21: 10.5287 | AV21: -0.031256926 | AW21: 2.9456116e-05 | AX21: 17554.454 | AY21: -125.69235 | AZ21: 0.39362054 | BA21: -0.00041079636
AI22: =+((AX22 + AY22*(B22+273.15) +AZ22*(B22+273.15)^2 + BA22*(B22+273.15)^3)+(AX22 + AY22*(O22+273.15) + AZ22*(O22+273.15)^2 + BA22*(O22+273.15)^3))/2 -> 4217.9626 | AJ22: =((AT22 + AU22*(B22+273.15) + AV22*(B22+273.15)^2 + AW22*(B22+273.15)^3)+(AT22 + AU22*(O22+273.15) + AV22*(O22+273.15)^2 + AW22*(O22+273.15)^3))/2 -> 999.87747 | AT22: -144.24373 | AU22: 10.5287 | AV22: -0.031256926 | AW22: 2.9456116e-05 | AX22: 17554.454 | AY22: -125.69235 | AZ22: 0.39362054 | BA22: -0.00041079636
AI23: =+((AX23 + AY23*(B23+273.15) +AZ23*(B23+273.15)^2 + BA23*(B23+273.15)^3)+(AX23 + AY23*(O23+273.15) + AZ23*(O23+273.15)^2 + BA23*(O23+273.15)^3))/2 -> 4217.9626 | AJ23: =((AT23 + AU23*(B23+273.15) + AV23*(B23+273.15)^2 + AW23*(B23+273.15)^3)+(AT23 + AU23*(O23+273.15) + AV23*(O23+273.15)^2 + AW23*(O23+273.15)^3))/2 -> 999.87747 | AT23: -144.24373 | AU23: 10.5287 | AV23: -0.031256926 | AW23: 2.9456116e-05 | AX23: 17554.454 | AY23: -125.69235 | AZ23: 0.39362054 | BA23: -0.00041079636
AI24: =+((AX24 + AY24*(B24+273.15) +AZ24*(B24+273.15)^2 + BA24*(B24+273.15)^3)+(AX24 + AY24*(O24+273.15) + AZ24*(O24+273.15)^2 + BA24*(O24+273.15)^3))/2 -> 4217.9626 | AJ24: =((AT24 + AU24*(B24+273.15) + AV24*(B24+273.15)^2 + AW24*(B24+273.15)^3)+(AT24 + AU24*(O24+273.15) + AV24*(O24+273.15)^2 + AW24*(O24+273.15)^3))/2 -> 999.87747 | AT24: -144.24373 | AU24: 10.5287 | AV24: -0.031256926 | AW24: 2.9456116e-05 | AX24: 17554.454 | AY24: -125.69235 | AZ24: 0.39362054 | BA24: -0.00041079636
AI25: =+((AX25 + AY25*(B25+273.15) +AZ25*(B25+273.15)^2 + BA25*(B25+273.15)^3)+(AX25 + AY25*(O25+273.15) + AZ25*(O25+273.15)^2 + BA25*(O25+273.15)^3))/2 -> 4217.9626 | AJ25: =((AT25 + AU25*(B25+273.15) + AV25*(B25+273.15)^2 + AW25*(B25+273.15)^3)+(AT25 + AU25*(O25+273.15) + AV25*(O25+273.15)^2 + AW25*(O25+273.15)^3))/2 -> 999.87747 | AT25: -144.24373 | AU25: 10.5287 | AV25: -0.031256926 | AW25: 2.9456116e-05 | AX25: 17554.454 | AY25: -125.69235 | AZ25: 0.39362054 | BA25: -0.00041079636
... AI114: =+((AX114 + AY114*(B114+273.15) +AZ114*(B114+273.15)^2 + BA114*(B114+273.15)^3)+(AX114 + AY114*(O114+273.15) + AZ114*(O114+273.15)^2 + BA114*(O114+273.15)^3))/2 -> 4217.9626 | AJ114: =((AT114 + AU114*(B114+273.15) + AV114*(B114+273.15)^2 + AW114*(B114+273.15)^3)+(AT114 + AU114*(O114+273.15) + AV114*(O114+273.15)^2 + AW114*(O114+273.15)^3))/2 -> 999.87747 | AT114: -144.24373 | AU114: 10.5287 | AV114: -0.031256926 | AW114: 2.9456116e-05 | AX114: 17554.454 | AY114: -125.69235 | AZ114: 0.39362054 | BA114: -0.00041079636

Sheet AMD 3700 Dia

Sheet AMD 3700 Sek
C1: 0.008 | D1: 0.016 | E1: 0.027 | F1: 0.042 | G1: 0.054 | H1: 0.074 | K1: 8.5 | L1: 73 | O1: 8.5 | P1: 73
A2: 180.1 | B2: 38.5 | C2: 27.707893 | D2: 24.365723 | E2: 22.180584 | F2: 20.529602 | G2: 19.661551 | H2: 18.63976 | J2: 0.02 | K2: 0.0033073425 | L2: 0.011756897 | N2: 0.02 | O2: 7.6601906 | P2: 0.97838593
B3: 77 | C3: 21.701385 | D3: 18.151745 | E3: 16.017647 | F3: 14.499329 | G3: 13.732678 | H3: 12.857645 | J3: 0.08 | K3: 6.0494423 | L3: 0.8843956 | N3: 0.08 | O3: 28.887253 | P3: 3.6580391
B4: 154 | C4: 17.626122 | D4: 13.901951 | E4: 11.742313 | F4: 10.248374 | G4: 9.5090119 | H4: 8.6784811 | J4: 0.12 | K4: 8.3095398 | L4: 1.306076 | N4: 0.35 | O4: 109.91124 | P4: 15.023945
B5: 231 | C5: 15.805313 | D5: 12.094341 | E5: 9.9097061 | F5: 8.3907521 | G5: 7.6387472 | H5: 6.795538
B6: 308 | C6: 14.67651 | D6: 11.018639 | E6: 8.8581505 | F6: 7.3798605 | G6: 6.6496368 | H6: 5.8353932
B7: 385 | C7: 13.866795 | D7: 10.276535 | E7: 8.1567078 | F7: 6.7412492 | G7: 6.0430466 | H7: 5.2689906
B8: 408.1 | C8: 13.666664 | D8: 10.094662 | E8: 7.9874077 | F8: 6.5872533 | G8: 5.8973078 | H8: 5.133535
K10: 8.5 | L10: 73 | O10: 8.5 | P10: 73
A11: 65.1 | C11: 0.008 | D11: 0.016 | E11: 0.027 | F11: 0.042 | G11: 0.054 | H11: 0.074 | J11: 0.02 | K11: 0.0012016296 | L11: 0.0042381287 | N11: 0.02 | O11: 2.7395477 | P11: 0.35047531
B12: 38.5 | C12: 9.9866905 | D12: 8.78442 | E12: 7.9981575 | F12: 7.4039772 | G12: 7.0915262 | H12: 6.7236961 | J12: 0.08 | K12: 2.1372261 | L12: 0.31880951 | N12: 0.08 | O12: 10.265244 | P12: 1.310997
B13: 77 | C13: 7.8287582 | D13: 6.5499382 | E13: 5.7809868 | F13: 5.2338529 | G13: 4.9575656 | H13: 4.6421997 | J13: 0.12 | K13: 3.0001717 | L13: 0.47121429 | N13: 0.35 | O13: 39.023548 | P13: 5.3741341
B14: 154 | C14: 6.3615456 | D14: 5.0189133 | E14: 4.2399635 | F14: 3.7009499 | G14: 3.4341322 | H14: 3.1343681
B15: 231 | C15: 5.7063332 | D15: 4.3679237 | E15: 3.5796509 | F15: 3.0313969 | G15: 2.7599088 | H15: 2.4554454
B16: 308 | C16: 5.2992554 | D16: 3.979805 | E16: 3.2001762 | F16: 2.6666839 | G16: 2.4031246 | H16: 2.1092082
B17: 385 | C17: 5.0071678 | D17: 3.712429 | E17: 2.9473495 | F17: 2.4365764 | G17: 2.1845529 | H17: 1.9051076
B18: 408.1 | C18: 4.9349556 | D18: 3.646759 | E18: 2.8862 | F18: 2.3812293 | G18: 2.1322084 | H18: 1.8564935 | O18: 65.1 | P18: 180.1
K19: 180.1 | L19: 65.1 | N19: 0 | O19: 1.27 | P19: 1.18
J20: 38.5 | K20: 100.5396 | L20: 35.675385 | N20: 0.5 | O20: 1.0396601 | P20: 1.0682403
A21: 180.1 | B21: 0.016 | C21: 0.016 | D21: 0.016 | E21: 0.016 | F21: 0.82 | J21: 77 | K21: 52.394669 | L21: 18.494156 | N21: 1 | O21: 1.0182486 | P21: 1.0313381
A22: 65.1 | B22: 0.063518524 | C22: 0.0096206665 | D22: 0.051689148 | E22: 0.088996887 | F22: 27.462389 | J22: 154 | K22: 26.318001 | L22: 9.3523521 | N22: 1.5 | O22: 1.0084476 | P22: 1.0144598
B23: 0.022888184 | C23: 0.0034751892 | D23: 0.019577026 | E23: 0.032405853 | F23: 8.5905647 | J23: 231 | K23: 17.379707 | L23: 6.1979294 | N23: 2 | O23: 1.0033698 | P23: 1.0057565
J24: 308 | K24: 12.911957 | L24: 4.6140022 | N24: 2.7 | O24: 1 | P24: 1
J25: 385 | K25: 10.241718 | L25: 3.6645317 | N25: 3 | O25: 0.99932904 | P25: 0.99887664
J26: 408.1 | K26: 9.6393242 | L26: 3.450058 | N26: 3.5 | O26: 0.99885725 | P26: 0.99812339

Sheet Intel 9900K
A2: P [W] | B2: TEinlass [°C] | C2: αKühler [W / m* K] | D2: αHS [W / m* K] | E2: m' [kg/s] | F2: sNickelKühler [mm] | G2: αWLP [W / m* K] | H2: sWLP [mm] | I2: sNickelHs1 [mm] | J2: sHs [mm] | K2: sNickelHs2 [mm] | L2: αTIM [W / m* K] | M2: sTIM [mm] | N2: sDIE [mm] | O2: TAuslass [°C] | P2: V' [L/h] | Q2: TKühler [dT] | R2: TNickelKühler [dT] | S2: TWLP [dT] | T2: TNickelHS1 [dT] | U2: THS [dT] | V2: TNickelHS2 [dT] | W2: TTIM [dT] | X2: TSi3N4 [dT] | Y2: TDIE [dT] | Z2: TGesamt [dT] | AA2: TGesamt [°C] | AD2: mm | AE2: T [°C] | AI2: cp [J/kg * K] | AJ2: ρ [kg/m³]
A3: 175 | B3: 31 | C3: 385 | D3: 385 | E3: 0.027 | F3: 0.016 | G3: 8.5 | H3: 0.08 | I3: 0.016 | J3: 2.3 | K3: 0.016 | L3: 67 | M3: 0.2 | N3: 0.85 | O3: =A3/(AI3*E3)+B3 -> 32.550781 | P3: =E3*3600/AJ3*1000 -> 97.678365 | Q3: =$BF3+(A3-'Intel 9900K Sek'!$A$11)/('Intel 9900K Sek'!$A$2-'Intel 9900K Sek'!$A$11)*($BE3-$BF3) -> 8.3414223 | R3: =('Intel 9900K Sek'!$B$22+(A3-'Intel 9900K Sek'!$A$11)/('Intel 9900K Sek'!$A$2-'Intel 9900K Sek'!$A$11)*('Intel 9900K Sek'!$B$21-'Intel 9900K Sek'!$B$22))*F3/'Intel 9900K Sek'!$B$20 -> 0.075292157 | S3: =_xlfn.IFNA($BH3+(A3-'Intel 9900K Sek'!$A$11)/('Intel 9900K Sek'!$A$2-'Intel 9900K Sek'!$A$11)*($BG3-$BH3),0) -> 7.2574881 | T3: =('Intel 9900K Sek'!$C$22+(A3-'Intel 9900K Sek'!$A$11)/('Intel 9900K Sek'!$A$2-'Intel 9900K Sek'!$A$11)*('Intel 9900K Sek'!$C$21-'Intel 9900K Sek'!$C$22))*I3/'Intel 9900K Sek'!$B$20 -> 0.011203151 | U3: =IF(J3=0,0,($BJ3+(A3-'Intel 9900K Sek'!$A$11)/('Intel 9900K Sek'!$A$2-'Intel 9900K Sek'!$A$11)*($BI3-$BJ3))*BK3) -> 6.3720284 | V3: =('Intel 9900K Sek'!$D$22+(A3-'Intel 9900K Sek'!$A$11)/('Intel 9900K Sek'!$A$2-'Intel 9900K Sek'!$A$11)*('Intel 9900K Sek'!$D$21-'Intel 9900K Sek'!$D$22))*K3/'Intel 9900K Sek'!$B$20 -> 0.038549116 | W3: =_xlfn.IFNA($BM3+(A3-'Intel 9900K Sek'!$A$11)/('Intel 9900K Sek'!$A$2-'Intel 9900K Sek'!$A$11)*($BL3-$BM3),0) -> 7.6816102 | X3: =('Intel 9900K Sek'!$E$22+(A3-'Intel 9900K Sek'!$A$11)/('Intel 9900K Sek'!$A$2-'Intel 9900K Sek'!$A$11)*('Intel 9900K Sek'!$E$21-'Intel 9900K Sek'!$E$22))*0.016/'Intel 9900K Sek'!$B$20 -> 0.023937225 | Y3: =('Intel 9900K Sek'!$F$22+(A3-'Intel 9900K Sek'!$A$11)/('Intel 9900K Sek'!$A$2-'Intel 9900K Sek'!$A$11)*('Intel 9900K Sek'!$F$21-'Intel 9900K Sek'!$F$22))*N3/'Intel 9900K Sek'!$F$20 -> 12.563452 | Z3: =IF(J3=0,(SUM(Q3:Y3))*BK3,SUM(Q3:Y3)) -> 42.364982 | AA3: =(B3+O3)/2+Z3 -> 74.140373 | AD3: 0 | AE3: =($B3+$O3)/2 -> 31.77539 | AI3: =+((AX3 + AY3*(B3+273.15) +AZ3*(B3+273.15)^2 + BA3*(B3+273.15)^3)+(AX3 + AY3*(O3+273.15) + AZ3*(O3+273.15)^2 + BA3*(O3+273.15)^3))/2 -> 4179.4961 | AJ3: =((AT3 + AU3*(B3+273.15) + AV3*(B3+273.15)^2 + AW3*(B3+273.15)^3)+(AT3 + AU3*(O3+273.15) + AV3*(O3+273.15)^2 + AW3*(O3+273.15)^3))/2 -> 995.10265 | AT3: -144.24373 | AU3: 10.5287 | AV3: -0.031256926 | AW3: 2.9456116e-05 | AX3: 17554.454 | AY3: -125.69235 | AZ3: 0.39362054 | BA3: -0.00041079636 | BE3: =(INDEX('Intel 9900K Sek'!$C$2:$H$7,(MATCH(C3,'Intel 9900K Sek'!$B$2:$B$7,1)),(MATCH(E3,'Intel 9900K Sek'!$C$1:$H$1,1)))*(1-(E3-INDEX('Intel 9900K Sek'!$C$1:$H$1,1,(MATCH(E3,'Intel 9900K Sek'!$C$1:$H$1,1))))/(INDEX('Intel 9900K Sek'!$C$1:$H$1,1,(MATCH(E3,'Intel 9900K Sek'!$C$1:$H$1,1)+1))-INDEX('Intel 9900K Sek'!$C$1:$H$1,1,(MATCH(E3,'Intel 9900K Sek'!$C$1:$H$1,1)))))+INDEX('Intel 9900K Sek'!$C$2:$H$7,(MATCH(C3,'Intel 9900K Sek'!$B$2:$B$7,1)),(MATCH(E3,'Intel 9900K Sek'!$C$1:$H$1,1)+1))*(E3-INDEX('Intel 9900K Sek'!$C$1:$H$1,1,(MATCH(E3,'Intel 9900K Sek'!$C$1:$H$1,1))))/(INDEX('Intel 9900K Sek'!$C$1:$H$1,1,(MATCH(E3,'Intel 9900K Sek'!$C$1:$H$1,1)+1))-INDEX('Intel 9900K Sek'!$C$1:$H$1,1,(MATCH(E3,'Intel 9900K Sek'!$C$1:$H$1,1)))))*(1-((C3-INDEX('Intel 9900K Sek'!$B$2:$B$7,(MATCH(C3,'Intel 9900K Sek'!$B$2:$B$7,1)),1))/(INDEX('Intel 9900K Sek'!$B$2:$B$7,(MATCH(C3,'Intel 9900K Sek'!$B$2:$B$7,1)+1),1)-INDEX('Intel 9900K Sek'!$B$2:$B$7,(MATCH(C3,'Intel 9900K Sek'!$B$2:$B$7,1)),1))))+(INDEX('Intel 9900K Sek'!$C$2:$H$7,(MATCH(C3,'Intel 9900K Sek'!$B$2:$B$7,1)+1),(MATCH(E3,'Intel 9900K Sek'!$C$1:$H$1,1)))*(1-(E3-INDEX('Intel 9900K Sek'!$C$1:$H$1,1,(MATCH(E3,'Intel 9900K Sek'!$C$1:$H$1,1))))/(INDEX('Intel 9900K Sek'!$C$1:$H$1,1,(MATCH(E3,'Intel 9900K Sek'!$C$1:$H$1,1)+1))-INDEX('Intel 9900K Sek'!$C$1:$H$1,1,(MATCH(E3,'Intel 9900K Sek'!$C$1:$H$1,1)))))+INDEX('Intel 9900K Sek'!$C$2:$H$7,(MATCH(C3,'Intel 9900K Sek'!$B$2:$B$7,1)+1),(MATCH(E3,'Intel 9900K Sek'!$C$1:$H$1,1)+1))*(E3-INDEX('Intel 9900K Sek'!$C$1:$H$1,1,(MATCH(E3,'Intel 9900K Sek'!$C$1:$H$1,1))))/(INDEX('Intel 9900K Sek'!$C$1:$H$1,1,(MATCH(E3,'Intel 9900K Sek'!$C$1:$H$1,1)+1))-INDEX('Intel 9900K Sek'!$C$1:$H$1,1,(MATCH(E3,'Intel 9900K Sek'!$C$1:$H$1,1)))))*((C3-INDEX('Intel 9900K Sek'!$B$2:$B$7,(MATCH(C3,'Intel 9900K Sek'!$B$2:$B$7,1)),1))/(INDEX('Intel 9900K Sek'!$B$2:$B$7,(MATCH(C3,'Intel 9900K Sek'!$B$2:$B$7,1)+1),1)-INDEX('Intel 9900K Sek'!$B$2:$B$7,(MATCH(C3,'Intel 9900K Sek'!$B$2:$B$7,1)),1))) -> 10.511307 | BF3: =(INDEX('Intel 9900K Sek'!$C$12:$H$17,(MATCH(C3,'Intel 9900K Sek'!$B$12:$B$17,1)),(MATCH(E3,'Intel 9900K Sek'!$C$11:$H$11,1)))*(1-(E3-INDEX('Intel 9900K Sek'!$C$11:$H$11,1,(MATCH(E3,'Intel 9900K Sek'!$C$11:$H$11,1))))/(INDEX('Intel 9900K Sek'!$C$11:$H$11,1,(MATCH(E3,'Intel 9900K Sek'!$C$11:$H$11,1)+1))-INDEX('Intel 9900K Sek'!$C$11:$H$11,1,(MATCH(E3,'Intel 9900K Sek'!$C$11:$H$11,1)))))+INDEX('Intel 9900K Sek'!$C$12:$H$17,(MATCH(C3,'Intel 9900K Sek'!$B$12:$B$17,1)),(MATCH(E3,'Intel 9900K Sek'!$C$11:$H$11,1)+1))*(E3-INDEX('Intel 9900K Sek'!$C$11:$H$11,1,(MATCH(E3,'Intel 9900K Sek'!$C$11:$H$11,1))))/(INDEX('Intel 9900K Sek'!$C$11:$H$11,1,(MATCH(E3,'Intel 9900K Sek'!$C$11:$H$11,1)+1))-INDEX('Intel 9900K Sek'!$C$11:$H$11,1,(MATCH(E3,'Intel 9900K Sek'!$C$11:$H$11,1)))))*(1-((C3-INDEX('Intel 9900K Sek'!$B$12:$B$17,(MATCH(C3,'Intel 9900K Sek'!$B$12:$B$17,1)),1))/(INDEX('Intel 9900K Sek'!$B$12:$B$17,(MATCH(C3,'Intel 9900K Sek'!$B$12:$B$17,1)+1),1)-INDEX('Intel 9900K Sek'!$B$12:$B$17,(MATCH(C3,'Intel 9900K Sek'!$B$12:$B$17,1)),1))))+(INDEX('Intel 9900K Sek'!$C$12:$H$17,(MATCH(C3,'Intel 9900K Sek'!$B$12:$B$17,1)+1),(MATCH(E3,'Intel 9900K Sek'!$C$11:$H$11,1)))*(1-(E3-INDEX('Intel 9900K Sek'!$C$11:$H$11,1,(MATCH(E3,'Intel 9900K Sek'!$C$11:$H$11,1))))/(INDEX('Intel 9900K Sek'!$C$11:$H$11,1,(MATCH(E3,'Intel 9900K Sek'!$C$11:$H$11,1)+1))-INDEX('Intel 9900K Sek'!$C$11:$H$11,1,(MATCH(E3,'Intel 9900K Sek'!$C$11:$H$11,1)))))+INDEX('Intel 9900K Sek'!$C$12:$H$17,(MATCH(C3,'Intel 9900K Sek'!$B$12:$B$17,1)+1),(MATCH(E3,'Intel 9900K Sek'!$C$11:$H$11,1)+1))*(E3-INDEX('Intel 9900K Sek'!$C$11:$H$11,1,(MATCH(E3,'Intel 9900K Sek'!$C$11:$H$11,1))))/(INDEX('Intel 9900K Sek'!$C$11:$H$11,1,(MATCH(E3,'Intel 9900K Sek'!$C$11:$H$11,1)+1))-INDEX('Intel 9900K Sek'!$C$11:$H$11,1,(MATCH(E3,'Intel 9900K Sek'!$C$11:$H$11,1)))))*((C3-INDEX('Intel 9900K Sek'!$B$12:$B$17,(MATCH(C3,'Intel 9900K Sek'!$B$12:$B$17,1)),1))/(INDEX('Intel 9900K Sek'!$B$12:$B$17,(MATCH(C3,'Intel 9900K Sek'!$B$12:$B$17,1)+1),1)-INDEX('Intel 9900K Sek'!$B$12:$B$17,(MATCH(C3,'Intel 9900K Sek'!$B$12:$B$17,1)),1))) -> 3.0372602 | BG3: =(INDEX('Intel 9900K Sek'!$K$2:$L$4,(MATCH(H3,'Intel 9900K Sek'!$J$2:$J$4,1)),(MATCH(G3,'Intel 9900K Sek'!$K$1:$L$1,1)))*(1-(G3-INDEX('Intel 9900K Sek'!$K$1:$L$1,1,(MATCH(G3,'Intel 9900K Sek'!$K$1:$L$1,1))))/(INDEX('Intel 9900K Sek'!$K$1:$L$1,1,(MATCH(G3,'Intel 9900K Sek'!$K$1:$L$1,1)+1))-INDEX('Intel 9900K Sek'!$K$1:$L$1,1,(MATCH(G3,'Intel 9900K Sek'!$K$1:$L$1,1)))))+INDEX('Intel 9900K Sek'!$K$2:$L$4,(MATCH(H3,'Intel 9900K Sek'!$J$2:$J$4,1)),(MATCH(G3,'Intel 9900K Sek'!$K$1:$L$1,1)+1))*(G3-INDEX('Intel 9900K Sek'!$K$1:$L$1,1,(MATCH(G3,'Intel 9900K Sek'!$K$1:$L$1,1))))/(INDEX('Intel 9900K Sek'!$K$1:$L$1,1,(MATCH(G3,'Intel 9900K Sek'!$K$1:$L$1,1)+1))-INDEX('Intel 9900K Sek'!$K$1:$L$1,1,(MATCH(G3,'Intel 9900K Sek'!$K$1:$L$1,1)))))*(1-((H3-INDEX('Intel 9900K Sek'!$J$2:$J$4,(MATCH(H3,'Intel 9900K Sek'!$J$2:$J$4,1)),1))/(INDEX('Intel 9900K Sek'!$J$2:$J$4,(MATCH(H3,'Intel 9900K Sek'!$J$2:$J$4,1)+1),1)-INDEX('Intel 9900K Sek'!$J$2:$J$4,(MATCH(H3,'Intel 9900K Sek'!$J$2:$J$4,1)),1))))+(INDEX('Intel 9900K Sek'!$K$2:$L$4,(MATCH(H3,'Intel 9900K Sek'!$J$2:$J$4,1)+1),(MATCH(G3,'Intel 9900K Sek'!$K$1:$L$1,1)))*(1-(G3-INDEX('Intel 9900K Sek'!$K$1:$L$1,1,(MATCH(G3,'Intel 9900K Sek'!$K$1:$L$1,1))))/(INDEX('Intel 9900K Sek'!$K$1:$L$1,1,(MATCH(G3,'Intel 9900K Sek'!$K$1:$L$1,1)+1))-INDEX('Intel 9900K Sek'!$K$1:$L$1,1,(MATCH(G3,'Intel 9900K Sek'!$K$1:$L$1,1)))))+INDEX('Intel 9900K Sek'!$K$2:$L$4,(MATCH(H3,'Intel 9900K Sek'!$J$2:$J$4,1)+1),(MATCH(G3,'Intel 9900K Sek'!$K$1:$L$1,1)+1))*(G3-INDEX('Intel 9900K Sek'!$K$1:$L$1,1,(MATCH(G3,'Intel 9900K Sek'!$K$1:$L$1,1))))/(INDEX('Intel 9900K Sek'!$K$1:$L$1,1,(MATCH(G3,'Intel 9900K Sek'!$K$1:$L$1,1)+1))-INDEX('Intel 9900K Sek'!$K$1:$L$1,1,(MATCH(G3,'Intel 9900K Sek'!$K$1:$L$1,1)))))*((H3-INDEX('Intel 9900K Sek'!$J$2:$J$4,(MATCH(H3,'Intel 9900K Sek'!$J$2:$J$4,1)),1))/(INDEX('Intel 9900K Sek'!$J$2:$J$4,(MATCH(H3,'Intel 9900K Sek'!$J$2:$J$4,1)+1),1)-INDEX('Intel 9900K Sek'!$J$2:$J$4,(MATCH(H3,'Intel 9900K Sek'!$J$2:$J$4,1)),1))) -> 9.1277809 | BH3: =(INDEX('Intel 9900K Sek'!$K$11:$L$13,(MATCH(H3,'Intel 9900K Sek'!$J$11:$J$13,1)),(MATCH(G3,'Intel 9900K Sek'!$K$10:$L$10,1)))*(1-(G3-INDEX('Intel 9900K Sek'!$K$10:$L$10,1,(MATCH(G3,'Intel 9900K Sek'!$K$10:$L$10,1))))/(INDEX('Intel 9900K Sek'!$K$10:$L$10,1,(MATCH(G3,'Intel 9900K Sek'!$K$10:$L$10,1)+1))-INDEX('Intel 9900K Sek'!$K$10:$L$10,1,(MATCH(G3,'Intel 9900K Sek'!$K$10:$L$10,1)))))+INDEX('Intel 9900K Sek'!$K$11:$L$13,(MATCH(H3,'Intel 9900K Sek'!$J$11:$J$13,1)),(MATCH(G3,'Intel 9900K Sek'!$K$10:$L$10,1)+1))*(G3-INDEX('Intel 9900K Sek'!$K$10:$L$10,1,(MATCH(G3,'Intel 9900K Sek'!$K$10:$L$10,1))))/(INDEX('Intel 9900K Sek'!$K$10:$L$10,1,(MATCH(G3,'Intel 9900K Sek'!$K$10:$L$10,1)+1))-INDEX('Intel 9900K Sek'!$K$10:$L$10,1,(MATCH(G3,'Intel 9900K Sek'!$K$10:$L$10,1)))))*(1-((H3-INDEX('Intel 9900K Sek'!$J$11:$J$13,(MATCH(H3,'Intel 9900K Sek'!$J$11:$J$13,1)),1))/(INDEX('Intel 9900K Sek'!$J$11:$J$13,(MATCH(H3,'Intel 9900K Sek'!$J$11:$J$13,1)+1),1)-INDEX('Intel 9900K Sek'!$J$11:$J$13,(MATCH(H3,'Intel 9900K Sek'!$J$11:$J$13,1)),1))))+(INDEX('Intel 9900K Sek'!$K$11:$L$13,(MATCH(H3,'Intel 9900K Sek'!$J$11:$J$13,1)+1),(MATCH(G3,'Intel 9900K Sek'!$K$10:$L$10,1)))*(1-(G3-INDEX('Intel 9900K Sek'!$K$10:$L$10,1,(MATCH(G3,'Intel 9900K Sek'!$K$10:$L$10,1))))/(INDEX('Intel 9900K Sek'!$K$10:$L$10,1,(MATCH(G3,'Intel 9900K Sek'!$K$10:$L$10,1)+1))-INDEX('Intel 9900K Sek'!$K$10:$L$10,1,(MATCH(G3,'Intel 9900K Sek'!$K$10:$L$10,1)))))+INDEX('Intel 9900K Sek'!$K$11:$L$13,(MATCH(H3,'Intel 9900K Sek'!$J$11:$J$13,1)+1),(MATCH(G3,'Intel 9900K Sek'!$K$10:$L$10,1)+1))*(G3-INDEX('Intel 9900K Sek'!$K$10:$L$10,1,(MATCH(G3,'Intel 9900K Sek'!$K$10:$L$10,1))))/(INDEX('Intel 9900K Sek'!$K$10:$L$10,1,(MATCH(G3,'Intel 9900K Sek'!$K$10:$L$10,1)+1))-INDEX('Intel 9900K Sek'!$K$10:$L$10,1,(MATCH(G3,'Intel 9900K Sek'!$K$10:$L$10,1)))))*((H3-INDEX('Intel 9900K Sek'!$J$11:$J$13,(MATCH(H3,'Intel 9900K Sek'!$J$11:$J$13,1)),1))/(INDEX('Intel 9900K Sek'!$J$11:$J$13,(MATCH(H3,'Intel 9900K Sek'!$J$11:$J$13,1)+1),1)-INDEX('Intel 9900K Sek'!$J$11:$J$13,(MATCH(H3,'Intel 9900K Sek'!$J$11:$J$13,1)),1))) -> 2.6856613 | BI3: =(INDEX('Intel 9900K Sek'!$K$20:$K$25,MATCH(D3,'Intel 9900K Sek'!$J$20:$J$25,1)+1)-INDEX('Intel 9900K Sek'!$K$20:$K$25,MATCH(D3,'Intel 9900K Sek'!$J$20:$J$25,1)))/(INDEX('Intel 9900K Sek'!$J$20:$J$25,MATCH(D3,'Intel 9900K Sek'!$J$20:$J$25,1)+1)-INDEX('Intel 9900K Sek'!$J$20:$J$25,MATCH(D3,'Intel 9900K Sek'!$J$20:$J$25,1)))*(D3-INDEX('Intel 9900K Sek'!$J$20:$J$25,MATCH(D3,'Intel 9900K Sek'!$J$20:$J$25,1)))+INDEX('Intel 9900K Sek'!$K$20:$K$25,MATCH(D3,'Intel 9900K Sek'!$J$20:$J$25,1)) -> 8.0180206 | BJ3: =(INDEX('Intel 9900K Sek'!$L$20:$L$25,MATCH(D3,'Intel 9900K Sek'!$J$20:$J$25,1)+1)-INDEX('Intel 9900K Sek'!$L$20:$L$25,MATCH(D3,'Intel 9900K Sek'!$J$20:$J$25,1)))/(INDEX('Intel 9900K Sek'!$J$20:$J$25,MATCH(D3,'Intel 9900K Sek'!$J$20:$J$25,1)+1)-INDEX('Intel 9900K Sek'!$J$20:$J$25,MATCH(D3,'Intel 9900K Sek'!$J$20:$J$25,1)))*(D3-INDEX('Intel 9900K Sek'!$J$20:$J$25,MATCH(D3,'Intel 9900K Sek'!$J$20:$J$25,1)))+INDEX('Intel 9900K Sek'!$L$20:$L$25,MATCH(D3,'Intel 9900K Sek'!$J$20:$J$25,1)) -> 2.3484917 | BK3: =(INDEX('Intel 9900K Sek'!$O$19:$P$25,(MATCH(J3,'Intel 9900K Sek'!$N$19:$N$25,1)),(MATCH(A3,'Intel 9900K Sek'!$O$18:$P$18,1)))*(1-(A3-INDEX('Intel 9900K Sek'!$O$18:$P$18,1,(MATCH(A3,'Intel 9900K Sek'!$O$18:$P$18,1))))/(INDEX('Intel 9900K Sek'!$O$18:$P$18,1,(MATCH(A3,'Intel 9900K Sek'!$O$18:$P$18,1)+1))-INDEX('Intel 9900K Sek'!$O$18:$P$18,1,(MATCH(A3,'Intel 9900K Sek'!$O$18:$P$18,1)))))+INDEX('Intel 9900K Sek'!$O$19:$P$25,(MATCH(J3,'Intel 9900K Sek'!$N$19:$N$25,1)),(MATCH(A3,'Intel 9900K Sek'!$O$18:$P$18,1)+1))*(A3-INDEX('Intel 9900K Sek'!$O$18:$P$18,1,(MATCH(A3,'Intel 9900K Sek'!$O$18:$P$18,1))))/(INDEX('Intel 9900K Sek'!$O$18:$P$18,1,(MATCH(A3,'Intel 9900K Sek'!$O$18:$P$18,1)+1))-INDEX('Intel 9900K Sek'!$O$18:$P$18,1,(MATCH(A3,'Intel 9900K Sek'!$O$18:$P$18,1)))))*(1-((J3-INDEX('Intel 9900K Sek'!$N$19:$N$25,(MATCH(J3,'Intel 9900K Sek'!$N$19:$N$25,1)),1))/(INDEX('Intel 9900K Sek'!$N$19:$N$25,(MATCH(J3,'Intel 9900K Sek'!$N$19:$N$25,1)+1),1)-INDEX('Intel 9900K Sek'!$N$19:$N$25,(MATCH(J3,'Intel 9900K Sek'!$N$19:$N$25,1)),1))))+(INDEX('Intel 9900K Sek'!$O$19:$P$25,(MATCH(J3,'Intel 9900K Sek'!$N$19:$N$25,1)+1),(MATCH(A3,'Intel 9900K Sek'!$O$18:$P$18,1)))*(1-(A3-INDEX('Intel 9900K Sek'!$O$18:$P$18,1,(MATCH(A3,'Intel 9900K Sek'!$O$18:$P$18,1))))/(INDEX('Intel 9900K Sek'!$O$18:$P$18,1,(MATCH(A3,'Intel 9900K Sek'!$O$18:$P$18,1)+1))-INDEX('Intel 9900K Sek'!$O$18:$P$18,1,(MATCH(A3,'Intel 9900K Sek'!$O$18:$P$18,1)))))+INDEX('Intel 9900K Sek'!$O$19:$P$25,(MATCH(J3,'Intel 9900K Sek'!$N$19:$N$25,1)+1),(MATCH(A3,'Intel 9900K Sek'!$O$18:$P$18,1)+1))*(A3-INDEX('Intel 9900K Sek'!$O$18:$P$18,1,(MATCH(A3,'Intel 9900K Sek'!$O$18:$P$18,1))))/(INDEX('Intel 9900K Sek'!$O$18:$P$18,1,(MATCH(A3,'Intel 9900K Sek'!$O$18:$P$18,1)+1))-INDEX('Intel 9900K Sek'!$O$18:$P$18,1,(MATCH(A3,'Intel 9900K Sek'!$O$18:$P$18,1)))))*((J3-INDEX('Intel 9900K Sek'!$N$19:$N$25,(MATCH(J3,'Intel 9900K Sek'!$N$19:$N$25,1)),1))/(INDEX('Intel 9900K Sek'!$N$19:$N$25,(MATCH(J3,'Intel 9900K Sek'!$N$19:$N$25,1)+1),1)-INDEX('Intel 9900K Sek'!$N$19:$N$25,(MATCH(J3,'Intel 9900K Sek'!$N$19:$N$25,1)),1))) -> 1 | BL3: =(INDEX('Intel 9900K Sek'!$O$2:$P$4,(MATCH(M3,'Intel 9900K Sek'!$N$2:$N$4,1)),(MATCH(L3,'Intel 9900K Sek'!$O$1:$P$1,1)))*(1-(L3-INDEX('Intel 9900K Sek'!$O$1:$P$1,1,(MATCH(L3,'Intel 9900K Sek'!$O$1:$P$1,1))))/(INDEX('Intel 9900K Sek'!$O$1:$P$1,1,(MATCH(L3,'Intel 9900K Sek'!$O$1:$P$1,1)+1))-INDEX('Intel 9900K Sek'!$O$1:$P$1,1,(MATCH(L3,'Intel 9900K Sek'!$O$1:$P$1,1)))))+INDEX('Intel 9900K Sek'!$O$2:$P$4,(MATCH(M3,'Intel 9900K Sek'!$N$2:$N$4,1)),(MATCH(L3,'Intel 9900K Sek'!$O$1:$P$1,1)+1))*(L3-INDEX('Intel 9900K Sek'!$O$1:$P$1,1,(MATCH(L3,'Intel 9900K Sek'!$O$1:$P$1,1))))/(INDEX('Intel 9900K Sek'!$O$1:$P$1,1,(MATCH(L3,'Intel 9900K Sek'!$O$1:$P$1,1)+1))-INDEX('Intel 9900K Sek'!$O$1:$P$1,1,(MATCH(L3,'Intel 9900K Sek'!$O$1:$P$1,1)))))*(1-((M3-INDEX('Intel 9900K Sek'!$N$2:$N$4,(MATCH(M3,'Intel 9900K Sek'!$N$2:$N$4,1)),1))/(INDEX('Intel 9900K Sek'!$N$2:$N$4,(MATCH(M3,'Intel 9900K Sek'!$N$2:$N$4,1)+1),1)-INDEX('Intel 9900K Sek'!$N$2:$N$4,(MATCH(M3,'Intel 9900K Sek'!$N$2:$N$4,1)),1))))+(INDEX('Intel 9900K Sek'!$O$2:$P$4,(MATCH(M3,'Intel 9900K Sek'!$N$2:$N$4,1)+1),(MATCH(L3,'Intel 9900K Sek'!$O$1:$P$1,1)))*(1-(L3-INDEX('Intel 9900K Sek'!$O$1:$P$1,1,(MATCH(L3,'Intel 9900K Sek'!$O$1:$P$1,1))))/(INDEX('Intel 9900K Sek'!$O$1:$P$1,1,(MATCH(L3,'Intel 9900K Sek'!$O$1:$P$1,1)+1))-INDEX('Intel 9900K Sek'!$O$1:$P$1,1,(MATCH(L3,'Intel 9900K Sek'!$O$1:$P$1,1)))))+INDEX('Intel 9900K Sek'!$O$2:$P$4,(MATCH(M3,'Intel 9900K Sek'!$N$2:$N$4,1)+1),(MATCH(L3,'Intel 9900K Sek'!$O$1:$P$1,1)+1))*(L3-INDEX('Intel 9900K Sek'!$O$1:$P$1,1,(MATCH(L3,'Intel 9900K Sek'!$O$1:$P$1,1))))/(INDEX('Intel 9900K Sek'!$O$1:$P$1,1,(MATCH(L3,'Intel 9900K Sek'!$O$1:$P$1,1)+1))-INDEX('Intel 9900K Sek'!$O$1:$P$1,1,(MATCH(L3,'Intel 9900K Sek'!$O$1:$P$1,1)))))*((M3-INDEX('Intel 9900K Sek'!$N$2:$N$4,(MATCH(M3,'Intel 9900K Sek'!$N$2:$N$4,1)),1))/(INDEX('Intel 9900K Sek'!$N$2:$N$4,(MATCH(M3,'Intel 9900K Sek'!$N$2:$N$4,1)+1),1)-INDEX('Intel 9900K Sek'!$N$2:$N$4,(MATCH(M3,'Intel 9900K Sek'!$N$2:$N$4,1)),1))) -> 9.6739408 | BM3: =(INDEX('Intel 9900K Sek'!$O$11:$P$13,(MATCH(M3,'Intel 9900K Sek'!$N$11:$N$13,1)),(MATCH(L3,'Intel 9900K Sek'!$O$10:$P$10,1)))*(1-(L3-INDEX('Intel 9900K Sek'!$O$10:$P$10,1,(MATCH(L3,'Intel 9900K Sek'!$O$10:$P$10,1))))/(INDEX('Intel 9900K Sek'!$O$10:$P$10,1,(MATCH(L3,'Intel 9900K Sek'!$O$10:$P$10,1)+1))-INDEX('Intel 9900K Sek'!$O$10:$P$10,1,(MATCH(L3,'Intel 9900K Sek'!$O$10:$P$10,1)))))+INDEX('Intel 9900K Sek'!$O$11:$P$13,(MATCH(M3,'Intel 9900K Sek'!$N$11:$N$13,1)),(MATCH(L3,'Intel 9900K Sek'!$O$10:$P$10,1)+1))*(L3-INDEX('Intel 9900K Sek'!$O$10:$P$10,1,(MATCH(L3,'Intel 9900K Sek'!$O$10:$P$10,1))))/(INDEX('Intel 9900K Sek'!$O$10:$P$10,1,(MATCH(L3,'Intel 9900K Sek'!$O$10:$P$10,1)+1))-INDEX('Intel 9900K Sek'!$O$10:$P$10,1,(MATCH(L3,'Intel 9900K Sek'!$O$10:$P$10,1)))))*(1-((M3-INDEX('Intel 9900K Sek'!$N$11:$N$13,(MATCH(M3,'Intel 9900K Sek'!$N$11:$N$13,1)),1))/(INDEX('Intel 9900K Sek'!$N$11:$N$13,(MATCH(M3,'Intel 9900K Sek'!$N$11:$N$13,1)+1),1)-INDEX('Intel 9900K Sek'!$N$11:$N$13,(MATCH(M3,'Intel 9900K Sek'!$N$11:$N$13,1)),1))))+(INDEX('Intel 9900K Sek'!$O$11:$P$13,(MATCH(M3,'Intel 9900K Sek'!$N$11:$N$13,1)+1),(MATCH(L3,'Intel 9900K Sek'!$O$10:$P$10,1)))*(1-(L3-INDEX('Intel 9900K Sek'!$O$10:$P$10,1,(MATCH(L3,'Intel 9900K Sek'!$O$10:$P$10,1))))/(INDEX('Intel 9900K Sek'!$O$10:$P$10,1,(MATCH(L3,'Intel 9900K Sek'!$O$10:$P$10,1)+1))-INDEX('Intel 9900K Sek'!$O$10:$P$10,1,(MATCH(L3,'Intel 9900K Sek'!$O$10:$P$10,1)))))+INDEX('Intel 9900K Sek'!$O$11:$P$13,(MATCH(M3,'Intel 9900K Sek'!$N$11:$N$13,1)+1),(MATCH(L3,'Intel 9900K Sek'!$O$10:$P$10,1)+1))*(L3-INDEX('Intel 9900K Sek'!$O$10:$P$10,1,(MATCH(L3,'Intel 9900K Sek'!$O$10:$P$10,1))))/(INDEX('Intel 9900K Sek'!$O$10:$P$10,1,(MATCH(L3,'Intel 9900K Sek'!$O$10:$P$10,1)+1))-INDEX('Intel 9900K Sek'!$O$10:$P$10,1,(MATCH(L3,'Intel 9900K Sek'!$O$10:$P$10,1)))))*((M3-INDEX('Intel 9900K Sek'!$N$11:$N$13,(MATCH(M3,'Intel 9900K Sek'!$N$11:$N$13,1)),1))/(INDEX('Intel 9900K Sek'!$N$11:$N$13,(MATCH(M3,'Intel 9900K Sek'!$N$11:$N$13,1)+1),1)-INDEX('Intel 9900K Sek'!$N$11:$N$13,(MATCH(M3,'Intel 9900K Sek'!$N$11:$N$13,1)),1))) -> 2.8114689
AD4: 0.01 | AE4: =AE3+$Q3-($Q3*0.17) -> 38.698771 | AI4: =+((AX4 + AY4*(B4+273.15) +AZ4*(B4+273.15)^2 + BA4*(B4+273.15)^3)+(AX4 + AY4*(O4+273.15) + AZ4*(O4+273.15)^2 + BA4*(O4+273.15)^3))/2 -> 4217.9626 | AJ4: =((AT4 + AU4*(B4+273.15) + AV4*(B4+273.15)^2 + AW4*(B4+273.15)^3)+(AT4 + AU4*(O4+273.15) + AV4*(O4+273.15)^2 + AW4*(O4+273.15)^3))/2 -> 999.87747 | AT4: -144.24373 | AU4: 10.5287 | AV4: -0.031256926 | AW4: 2.9456116e-05 | AX4: 17554.454 | AY4: -125.69235 | AZ4: 0.39362054 | BA4: -0.00041079636
AD5: =AD4+1.19 -> 1.2 | AE5: =AE3+$Q3 -> 40.116813 | AI5: =+((AX5 + AY5*(B5+273.15) +AZ5*(B5+273.15)^2 + BA5*(B5+273.15)^3)+(AX5 + AY5*(O5+273.15) + AZ5*(O5+273.15)^2 + BA5*(O5+273.15)^3))/2 -> 4217.9626 | AJ5: =((AT5 + AU5*(B5+273.15) + AV5*(B5+273.15)^2 + AW5*(B5+273.15)^3)+(AT5 + AU5*(O5+273.15) + AV5*(O5+273.15)^2 + AW5*(O5+273.15)^3))/2 -> 999.87747 | AT5: -144.24373 | AU5: 10.5287 | AV5: -0.031256926 | AW5: 2.9456116e-05 | AX5: 17554.454 | AY5: -125.69235 | AZ5: 0.39362054 | BA5: -0.00041079636
AD6: =AD5+$F3 -> 1.216 | AE6: =AE5+$R3 -> 40.192105 | AI6: =+((AX6 + AY6*(B6+273.15) +AZ6*(B6+273.15)^2 + BA6*(B6+273.15)^3)+(AX6 + AY6*(O6+273.15) + AZ6*(O6+273.15)^2 + BA6*(O6+273.15)^3))/2 -> 4217.9626 | AJ6: =((AT6 + AU6*(B6+273.15) + AV6*(B6+273.15)^2 + AW6*(B6+273.15)^3)+(AT6 + AU6*(O6+273.15) + AV6*(O6+273.15)^2 + AW6*(O6+273.15)^3))/2 -> 999.87747 | AT6: -144.24373 | AU6: 10.5287 | AV6: -0.031256926 | AW6: 2.9456116e-05 | AX6: 17554.454 | AY6: -125.69235 | AZ6: 0.39362054 | BA6: -0.00041079636
AD7: =AD6+$H3 -> 1.296 | AE7: =AE6+$S3 -> 47.449593 | AI7: =+((AX7 + AY7*(B7+273.15) +AZ7*(B7+273.15)^2 + BA7*(B7+273.15)^3)+(AX7 + AY7*(O7+273.15) + AZ7*(O7+273.15)^2 + BA7*(O7+273.15)^3))/2 -> 4217.9626 | AJ7: =((AT7 + AU7*(B7+273.15) + AV7*(B7+273.15)^2 + AW7*(B7+273.15)^3)+(AT7 + AU7*(O7+273.15) + AV7*(O7+273.15)^2 + AW7*(O7+273.15)^3))/2 -> 999.87747 | AT7: -144.24373 | AU7: 10.5287 | AV7: -0.031256926 | AW7: 2.9456116e-05 | AX7: 17554.454 | AY7: -125.69235 | AZ7: 0.39362054 | BA7: -0.00041079636
AD8: =AD7+$I3 -> 1.312 | AE8: =AE7+$T3 -> 47.460796 | AI8: =+((AX8 + AY8*(B8+273.15) +AZ8*(B8+273.15)^2 + BA8*(B8+273.15)^3)+(AX8 + AY8*(O8+273.15) + AZ8*(O8+273.15)^2 + BA8*(O8+273.15)^3))/2 -> 4217.9626 | AJ8: =((AT8 + AU8*(B8+273.15) + AV8*(B8+273.15)^2 + AW8*(B8+273.15)^3)+(AT8 + AU8*(O8+273.15) + AV8*(O8+273.15)^2 + AW8*(O8+273.15)^3))/2 -> 999.87747 | AT8: -144.24373 | AU8: 10.5287 | AV8: -0.031256926 | AW8: 2.9456116e-05 | AX8: 17554.454 | AY8: -125.69235 | AZ8: 0.39362054 | BA8: -0.00041079636
AD9: =AD8+J3 -> 3.612 | AE9: =AE8+$U3 -> 53.832824 | AI9: =+((AX9 + AY9*(B9+273.15) +AZ9*(B9+273.15)^2 + BA9*(B9+273.15)^3)+(AX9 + AY9*(O9+273.15) + AZ9*(O9+273.15)^2 + BA9*(O9+273.15)^3))/2 -> 4217.9626 | AJ9: =((AT9 + AU9*(B9+273.15) + AV9*(B9+273.15)^2 + AW9*(B9+273.15)^3)+(AT9 + AU9*(O9+273.15) + AV9*(O9+273.15)^2 + AW9*(O9+273.15)^3))/2 -> 999.87747 | AT9: -144.24373 | AU9: 10.5287 | AV9: -0.031256926 | AW9: 2.9456116e-05 | AX9: 17554.454 | AY9: -125.69235 | AZ9: 0.39362054 | BA9: -0.00041079636
AD10: =AD9+$K3 -> 3.628 | AE10: =AE9+$V3 -> 53.871373 | AI10: =+((AX10 + AY10*(B10+273.15) +AZ10*(B10+273.15)^2 + BA10*(B10+273.15)^3)+(AX10 + AY10*(O10+273.15) + AZ10*(O10+273.15)^2 + BA10*(O10+273.15)^3))/2 -> 4217.9626 | AJ10: =((AT10 + AU10*(B10+273.15) + AV10*(B10+273.15)^2 + AW10*(B10+273.15)^3)+(AT10 + AU10*(O10+273.15) + AV10*(O10+273.15)^2 + AW10*(O10+273.15)^3))/2 -> 999.87747 | AT10: -144.24373 | AU10: 10.5287 | AV10: -0.031256926 | AW10: 2.9456116e-05 | AX10: 17554.454 | AY10: -125.69235 | AZ10: 0.39362054 | BA10: -0.00041079636
AD11: =AD10+$M3 -> 3.828 | AE11: =AE10+$W3 -> 61.552984 | AI11: =+((AX11 + AY11*(B11+273.15) +AZ11*(B11+273.15)^2 + BA11*(B11+273.15)^3)+(AX11 + AY11*(O11+273.15) + AZ11*(O11+273.15)^2 + BA11*(O11+273.15)^3))/2 -> 4217.9626 | AJ11: =((AT11 + AU11*(B11+273.15) + AV11*(B11+273.15)^2 + AW11*(B11+273.15)^3)+(AT11 + AU11*(O11+273.15) + AV11*(O11+273.15)^2 + AW11*(O11+273.15)^3))/2 -> 999.87747 | AT11: -144.24373 | AU11: 10.5287 | AV11: -0.031256926 | AW11: 2.9456116e-05 | AX11: 17554.454 | AY11: -125.69235 | AZ11: 0.39362054 | BA11: -0.00041079636
AD12: =AD11+0.016 -> 3.844 | AE12: =AE11+$X3 -> 61.576921 | AI12: =+((AX12 + AY12*(B12+273.15) +AZ12*(B12+273.15)^2 + BA12*(B12+273.15)^3)+(AX12 + AY12*(O12+273.15) + AZ12*(O12+273.15)^2 + BA12*(O12+273.15)^3))/2 -> 4217.9626 | AJ12: =((AT12 + AU12*(B12+273.15) + AV12*(B12+273.15)^2 + AW12*(B12+273.15)^3)+(AT12 + AU12*(O12+273.15) + AV12*(O12+273.15)^2 + AW12*(O12+273.15)^3))/2 -> 999.87747 | AT12: -144.24373 | AU12: 10.5287 | AV12: -0.031256926 | AW12: 2.9456116e-05 | AX12: 17554.454 | AY12: -125.69235 | AZ12: 0.39362054 | BA12: -0.00041079636
AD13: =AD12+$N3 -> 4.694 | AE13: =AE12+$Y3 -> 74.140373 | AI13: =+((AX13 + AY13*(B13+273.15) +AZ13*(B13+273.15)^2 + BA13*(B13+273.15)^3)+(AX13 + AY13*(O13+273.15) + AZ13*(O13+273.15)^2 + BA13*(O13+273.15)^3))/2 -> 4217.9626 | AJ13: =((AT13 + AU13*(B13+273.15) + AV13*(B13+273.15)^2 + AW13*(B13+273.15)^3)+(AT13 + AU13*(O13+273.15) + AV13*(O13+273.15)^2 + AW13*(O13+273.15)^3))/2 -> 999.87747 | AT13: -144.24373 | AU13: 10.5287 | AV13: -0.031256926 | AW13: 2.9456116e-05 | AX13: 17554.454 | AY13: -125.69235 | AZ13: 0.39362054 | BA13: -0.00041079636
AI14: =+((AX14 + AY14*(B14+273.15) +AZ14*(B14+273.15)^2 + BA14*(B14+273.15)^3)+(AX14 + AY14*(O14+273.15) + AZ14*(O14+273.15)^2 + BA14*(O14+273.15)^3))/2 -> 4217.9626 | AJ14: =((AT14 + AU14*(B14+273.15) + AV14*(B14+273.15)^2 + AW14*(B14+273.15)^3)+(AT14 + AU14*(O14+273.15) + AV14*(O14+273.15)^2 + AW14*(O14+273.15)^3))/2 -> 999.87747 | AT14: -144.24373 | AU14: 10.5287 | AV14: -0.031256926 | AW14: 2.9456116e-05 | AX14: 17554.454 | AY14: -125.69235 | AZ14: 0.39362054 | BA14: -0.00041079636
AI15: =+((AX15 + AY15*(B15+273.15) +AZ15*(B15+273.15)^2 + BA15*(B15+273.15)^3)+(AX15 + AY15*(O15+273.15) + AZ15*(O15+273.15)^2 + BA15*(O15+273.15)^3))/2 -> 4217.9626 | AJ15: =((AT15 + AU15*(B15+273.15) + AV15*(B15+273.15)^2 + AW15*(B15+273.15)^3)+(AT15 + AU15*(O15+273.15) + AV15*(O15+273.15)^2 + AW15*(O15+273.15)^3))/2 -> 999.87747 | AT15: -144.24373 | AU15: 10.5287 | AV15: -0.031256926 | AW15: 2.9456116e-05 | AX15: 17554.454 | AY15: -125.69235 | AZ15: 0.39362054 | BA15: -0.00041079636
AI16: =+((AX16 + AY16*(B16+273.15) +AZ16*(B16+273.15)^2 + BA16*(B16+273.15)^3)+(AX16 + AY16*(O16+273.15) + AZ16*(O16+273.15)^2 + BA16*(O16+273.15)^3))/2 -> 4217.9626 | AJ16: =((AT16 + AU16*(B16+273.15) + AV16*(B16+273.15)^2 + AW16*(B16+273.15)^3)+(AT16 + AU16*(O16+273.15) + AV16*(O16+273.15)^2 + AW16*(O16+273.15)^3))/2 -> 999.87747 | AT16: -144.24373 | AU16: 10.5287 | AV16: -0.031256926 | AW16: 2.9456116e-05 | AX16: 17554.454 | AY16: -125.69235 | AZ16: 0.39362054 | BA16: -0.00041079636
AI17: =+((AX17 + AY17*(B17+273.15) +AZ17*(B17+273.15)^2 + BA17*(B17+273.15)^3)+(AX17 + AY17*(O17+273.15) + AZ17*(O17+273.15)^2 + BA17*(O17+273.15)^3))/2 -> 4217.9626 | AJ17: =((AT17 + AU17*(B17+273.15) + AV17*(B17+273.15)^2 + AW17*(B17+273.15)^3)+(AT17 + AU17*(O17+273.15) + AV17*(O17+273.15)^2 + AW17*(O17+273.15)^3))/2 -> 999.87747 | AT17: -144.24373 | AU17: 10.5287 | AV17: -0.031256926 | AW17: 2.9456116e-05 | AX17: 17554.454 | AY17: -125.69235 | AZ17: 0.39362054 | BA17: -0.00041079636
AI18: =+((AX18 + AY18*(B18+273.15) +AZ18*(B18+273.15)^2 + BA18*(B18+273.15)^3)+(AX18 + AY18*(O18+273.15) + AZ18*(O18+273.15)^2 + BA18*(O18+273.15)^3))/2 -> 4217.9626 | AJ18: =((AT18 + AU18*(B18+273.15) + AV18*(B18+273.15)^2 + AW18*(B18+273.15)^3)+(AT18 + AU18*(O18+273.15) + AV18*(O18+273.15)^2 + AW18*(O18+273.15)^3))/2 -> 999.87747 | AT18: -144.24373 | AU18: 10.5287 | AV18: -0.031256926 | AW18: 2.9456116e-05 | AX18: 17554.454 | AY18: -125.69235 | AZ18: 0.39362054 | BA18: -0.00041079636
AI19: =+((AX19 + AY19*(B19+273.15) +AZ19*(B19+273.15)^2 + BA19*(B19+273.15)^3)+(AX19 + AY19*(O19+273.15) + AZ19*(O19+273.15)^2 + BA19*(O19+273.15)^3))/2 -> 4217.9626 | AJ19: =((AT19 + AU19*(B19+273.15) + AV19*(B19+273.15)^2 + AW19*(B19+273.15)^3)+(AT19 + AU19*(O19+273.15) + AV19*(O19+273.15)^2 + AW19*(O19+273.15)^3))/2 -> 999.87747 | AT19: -144.24373 | AU19: 10.5287 | AV19: -0.031256926 | AW19: 2.9456116e-05 | AX19: 17554.454 | AY19: -125.69235 | AZ19: 0.39362054 | BA19: -0.00041079636
AI20: =+((AX20 + AY20*(B20+273.15) +AZ20*(B20+273.15)^2 + BA20*(B20+273.15)^3)+(AX20 + AY20*(O20+273.15) + AZ20*(O20+273.15)^2 + BA20*(O20+273.15)^3))/2 -> 4217.9626 | AJ20: =((AT20 + AU20*(B20+273.15) + AV20*(B20+273.15)^2 + AW20*(B20+273.15)^3)+(AT20 + AU20*(O20+273.15) + AV20*(O20+273.15)^2 + AW20*(O20+273.15)^3))/2 -> 999.87747 | AT20: -144.24373 | AU20: 10.5287 | AV20: -0.031256926 | AW20: 2.9456116e-05 | AX20: 17554.454 | AY20: -125.69235 | AZ20: 0.39362054 | BA20: -0.00041079636
AI21: =+((AX21 + AY21*(B21+273.15) +AZ21*(B21+273.15)^2 + BA21*(B21+273.15)^3)+(AX21 + AY21*(O21+273.15) + AZ21*(O21+273.15)^2 + BA21*(O21+273.15)^3))/2 -> 4217.9626 | AJ21: =((AT21 + AU21*(B21+273.15) + AV21*(B21+273.15)^2 + AW21*(B21+273.15)^3)+(AT21 + AU21*(O21+273.15) + AV21*(O21+273.15)^2 + AW21*(O21+273.15)^3))/2 -> 999.87747 | AT21: -144.24373 | AU21: 10.5287 | AV21: -0.031256926 | AW21: 2.9456116e-05 | AX21: 17554.454 | AY21: -125.69235 | AZ21: 0.39362054 | BA21: -0.00041079636
