Workbook

Sheet Artikel
A1: EAN | B1: Min | C1: Max | D1: Mittel
A2: DAF31D80-AD99-40C4-8F76-1655FA459D40 | B2: {=MIN(IF(Einkauf!$A$2:$A$15=$A2,Einkauf!$C$2:$C$15/Einkauf!$B$2:$B$15,""))} -> 0.575 | C2: {=MAX(IF(Einkauf!$A$2:$A$15=$A2,Einkauf!$C$2:$C$15/Einkauf!$B$2:$B$15,""))} -> 6 | D2: {=IFERROR(AVERAGE(IF(Einkauf!$A$2:$A$15=$A2,Einkauf!$C$2:$C$15/Einkauf!$B$2:$B$15,"")),0)} -> 2.425
A3: 61647454-B82C-4DA3-A122-70D6DC65755B | B3: {=MIN(IF(Einkauf!$A$2:$A$15=$A3,Einkauf!$C$2:$C$15/Einkauf!$B$2:$B$15,""))} -> 0 | C3: {=MAX(IF(Einkauf!$A$2:$A$15=$A3,Einkauf!$C$2:$C$15/Einkauf!$B$2:$B$15,""))} -> 0 | D3: {=IFERROR(AVERAGE(IF(Einkauf!$A$2:$A$15=$A3,Einkauf!$C$2:$C$15/Einkauf!$B$2:$B$15,"")),0)} -> 0
A4: 402F2ADF-C4ED-4144-99E6-C291D36C95AB | B4: {=MIN(IF(Einkauf!$A$2:$A$15=$A4,Einkauf!$C$2:$C$15/Einkauf!$B$2:$B$15,""))} -> 6.5 | C4: {=MAX(IF(Einkauf!$A$2:$A$15=$A4,Einkauf!$C$2:$C$15/Einkauf!$B$2:$B$15,""))} -> 6.5 | D4: {=IFERROR(AVERAGE(IF(Einkauf!$A$2:$A$15=$A4,Einkauf!$C$2:$C$15/Einkauf!$B$2:$B$15,"")),0)} -> 6.5
A5: 6D4E4AC6-CDA8-4831-A628-0B8654D81320 | B5: {=MIN(IF(Einkauf!$A$2:$A$15=$A5,Einkauf!$C$2:$C$15/Einkauf!$B$2:$B$15,""))} -> 1.5333333 | C5: {=MAX(IF(Einkauf!$A$2:$A$15=$A5,Einkauf!$C$2:$C$15/Einkauf!$B$2:$B$15,""))} -> 1.5333333 | D5: {=IFERROR(AVERAGE(IF(Einkauf!$A$2:$A$15=$A5,Einkauf!$C$2:$C$15/Einkauf!$B$2:$B$15,"")),0)} -> 1.5333333
A6: 4F163FC4-FFB3-4E86-AEAB-8696E728B1A6 | B6: {=MIN(IF(Einkauf!$A$2:$A$15=$A6,Einkauf!$C$2:$C$15/Einkauf!$B$2:$B$15,""))} -> 2.32 | C6: {=MAX(IF(Einkauf!$A$2:$A$15=$A6,Einkauf!$C$2:$C$15/Einkauf!$B$2:$B$15,""))} -> 4.4 | D6: {=IFERROR(AVERAGE(IF(Einkauf!$A$2:$A$15=$A6,Einkauf!$C$2:$C$15/Einkauf!$B$2:$B$15,"")),0)} -> 3.36
A7: 026B8345-1BC9-4FB9-ACF6-37C7D0586CB9 | B7: {=MIN(IF(Einkauf!$A$2:$A$15=$A7,Einkauf!$C$2:$C$15/Einkauf!$B$2:$B$15,""))} -> 7.3 | C7: {=MAX(IF(Einkauf!$A$2:$A$15=$A7,Einkauf!$C$2:$C$15/Einkauf!$B$2:$B$15,""))} -> 18.3 | D7: {=IFERROR(AVERAGE(IF(Einkauf!$A$2:$A$15=$A7,Einkauf!$C$2:$C$15/Einkauf!$B$2:$B$15,"")),0)} -> 11.166667
A8: CAED1194-588B-47E1-93BC-8E3D135C8CCA | B8: {=MIN(IF(Einkauf!$A$2:$A$15=$A8,Einkauf!$C$2:$C$15/Einkauf!$B$2:$B$15,""))} -> 0.42 | C8: {=MAX(IF(Einkauf!$A$2:$A$15=$A8,Einkauf!$C$2:$C$15/Einkauf!$B$2:$B$15,""))} -> 7.15 | D8: {=IFERROR(AVERAGE(IF(Einkauf!$A$2:$A$15=$A8,Einkauf!$C$2:$C$15/Einkauf!$B$2:$B$15,"")),0)} -> 3.3741667

Sheet Einkauf
A1: EAN | B1: Menge | C1: Gesamtpreis
A2: 4F163FC4-FFB3-4E86-AEAB-8696E728B1A6 | B2: 3 | C2: 13.2
A3: DAF31D80-AD99-40C4-8F76-1655FA459D40 | B3: 4 | C3: 2.3
A4: CAED1194-588B-47E1-93BC-8E3D135C8CCA | B4: 5 | C4: 2.1
A5: DAF31D80-AD99-40C4-8F76-1655FA459D40 | B5: 4 | C5: 2.8
A6: 402F2ADF-C4ED-4144-99E6-C291D36C95AB | B6: 1 | C6: 6.5
A7: 4F163FC4-FFB3-4E86-AEAB-8696E728B1A6 | B7: 5 | C7: 11.6
A8: 026B8345-1BC9-4FB9-ACF6-37C7D0586CB9 | B8: 1 | C8: 7.3
A9: 026B8345-1BC9-4FB9-ACF6-37C7D0586CB9 | B9: 1 | C9: 7.9
A10: CAED1194-588B-47E1-93BC-8E3D135C8CCA | B10: 2 | C10: 14.3
A11: DAF31D80-AD99-40C4-8F76-1655FA459D40 | B11: 1 | C11: 6
A12: CAED1194-588B-47E1-93BC-8E3D135C8CCA | B12: 5 | C12: 18.8
A13: CAED1194-588B-47E1-93BC-8E3D135C8CCA | B13: 3 | C13: 6.5
... A15: 6D4E4AC6-CDA8-4831-A628-0B8654D81320 | B15: 3 | C15: 4.6
