Workbook

Sheet Tabelle1
A1: Eingabefeld
A2: Anzahl/Faktor
A3: Auswahlliste
A4: bei gleichen Komponenten paralleler Anordnung wird der Gesamtwiderstand als einzelne Komponente zusammengefasst. Beispiel 2x 4000 = 2000. Das kann im Feld Faktor, Beispiel 0,5, berücksichtigt werden.
B8: Datensatz 1 | G8: Datensatz 2
A10: Pumpe | B10: DDC-1T+ | F10: Pumpe | G10: D5 | J10: Restriktionen
A11: Anzahl seriell | B11: 1 | F11: Anzahl seriell | G11: 1
A12: Anzahl parallel | B12: 1 | F12: Anzahl parallel | G12: 1 | J12: Temperatur | K12: 34 | L12: °C | M12: =-144.243725701978+10.5287000584009*($K$12+273.15)+-0.0312569261429242*($K$12+273.15)^2+0.0000294561161905512*($K$12+273.15)^3 -> 994.37922 | N12: kg/m³ | O12: =(0.672217699933641+0.0162955138253262*K12)^(-1/0.673014147097612) -> 0.73854443 | P12: mm²/s
A13: Drehzahlfaktor | B13: 1 | F13: Drehzahlfaktor | G13: 1
A14: Drehzahl | B14: =IF(B10="DDC-1T+",4600*B13,4800*B13) -> 4600 | C14: rpm | F14: Drehzahl | G14: =IF(G10="DDC-1T+",4600*G13,4800*G13) -> 4800 | H14: rpm
I15: ID | J15: Radiator 1 - 10 | K15: Faktor | L15: kg/s | M15: 0 | N15: 0.008 | O15: 0.014 | P15: 0.02 | Q15: 0.026 | R15: 0.032 | S15: 0.038 | T15: 0.044 | U15: 0.05 | V15: 0.056 | W15: 0.062 | X15: 0.068 | Y15: 0.074
I16: 1 | J16: 6 | K16: 1 | L16: Pa | M16: =IF($J16=1,'Datensatz Radiator'!D$2*(998.2/$M$12)*($O$12/1)*$K16,IF($J16=2,'Datensatz Radiator'!D$3*(998.2/$M$12)*($O$12/1)*$K16,IF($J16=3,'Datensatz Radiator'!D$4*(998.2/$M$12)*($O$12/1)*$K16,IF($J16=4,'Datensatz Radiator'!D$5*(998.2/$M$12)*($O$12/1)*$K16,IF($J16=5,'Datensatz Radiator'!D$6*(998.2/$M$12)*($O$12/1)*$K16,IF($J16=6,'Datensatz Radiator'!D$7*(998.2/$M$12)*($O$12/1)*$K16,IF($J16=7,'Datensatz Radiator'!D$8*(998.2/$M$12)*($O$12/1)*$K16,IF($J16=8,'Datensatz Radiator'!D$9*(998.2/$M$12)*($O$12/1)*$K16,IF($J16=9,'Datensatz Radiator'!D$10*(998.2/$M$12)*($O$12/1)*$K16,IF($J16=10,'Datensatz Radiator'!D$11*(998.2/$M$12)*($O$12/1)*$K16,IF($J16=11,'Datensatz Radiator'!D$12*(998.2/$M$12)*($O$12/1)*$K16,IF($J16=12,'Datensatz Radiator'!D$13*(998.2/$M$12)*($O$12/1)*$K16,IF($J16=13,'Datensatz Radiator'!D$14*(998.2/$M$12)*($O$12/1)*$K16,IF($J16=14,'Datensatz Radiator'!D$15*(998.2/$M$12)*($O$12/1)*$K16,IF($J16=15,'Datensatz Radiator'!D$16*(998.2/$M$12)*($O$12/1)*$K16,IF($J16=16,'Datensatz Radiator'!D$17*(998.2/$M$12)*($O$12/1)*$K16,IF($J16=17,'Datensatz Radiator'!D$18*(998.2/$M$12)*($O$12/1)*$K16,IF($J16=18,'Datensatz Radiator'!D$19*(998.2/$M$12)*($O$12/1)*$K16,IF($J16=19,'Datensatz Radiator'!D$20*(998.2/$M$12)*($O$12/1)*$K16,IF($J16=20,'Datensatz Radiator'!D$21*(998.2/$M$12)*($O$12/1)*$K16,IF($J16=21,'Datensatz Radiator'!D$22*(998.2/$M$12)*($O$12/1)*$K16,IF($J16=22,'Datensatz Radiator'!D$23*(998.2/$M$12)*($O$12/1)*$K16,IF($J16=23,'Datensatz Radiator'!D$24*(998.2/$M$12)*($O$12/1)*$K16,IF($J16=24,'Datensatz Radiator'!D$25*(998.2/$M$12)*($O$12/1)*$K16,IF($J16=25,'Datensatz Radiator'!D$26*(998.2/$M$12)*($O$12/1)*$K16,IF($J16=26,'Datensatz Radiator'!D$27*(998.2/$M$12)*($O$12/1)*$K16,IF($J16=27,'Datensatz Radiator'!D$28*(998.2/$M$12)*($O$12/1)*$K16,IF($J16=28,'Datensatz Radiator'!D$39*(998.2/$M$12)*($O$12/1)*$K16,IF($J16=29,'Datensatz Radiator'!D$30*(998.2/$M$12)*($O$12/1)*$K16,IF($J16=30,'Datensatz Radiator'!D$31*(998.2/$M$12)*($O$12/1)*$K16,IF($J16=31,'Datensatz Radiator'!D$32*(998.2/$M$12)*($O$12/1)*$K16,IF($J16=32,'Datensatz Radiator'!D$33*(998.2/$M$12)*($O$12/1)*$K16,IF($J16=33,'Datensatz Radiator'!D$34*(998.2/$M$12)*($O$12/1)*$K16,IF($J16=34,'Datensatz Radiator'!D$35*(998.2/$M$12)*($O$12/1)*$K16,IF($J16=35,'Datensatz Radiator'!D$36*(998.2/$M$12)*($O$12/1)*$K16,IF($J16=36,'Datensatz Radiator'!D$37*(998.2/$M$12)*($O$12/1)*$K16,'Datensatz Radiator'!D$38*(998.2/$M$12)*($O$12/1)*$K16)))))))))))))))))))))))))))))))))))) -> 0 | N16: =IF($J16=1,'Datensatz Radiator'!E$2*(998.2/$M$12)*($O$12/1)*$K16,IF($J16=2,'Datensatz Radiator'!E$3*(998.2/$M$12)*($O$12/1)*$K16,IF($J16=3,'Datensatz Radiator'!E$4*(998.2/$M$12)*($O$12/1)*$K16,IF($J16=4,'Datensatz Radiator'!E$5*(998.2/$M$12)*($O$12/1)*$K16,IF($J16=5,'Datensatz Radiator'!E$6*(998.2/$M$12)*($O$12/1)*$K16,IF($J16=6,'Datensatz Radiator'!E$7*(998.2/$M$12)*($O$12/1)*$K16,IF($J16=7,'Datensatz Radiator'!E$8*(998.2/$M$12)*($O$12/1)*$K16,IF($J16=8,'Datensatz Radiator'!E$9*(998.2/$M$12)*($O$12/1)*$K16,IF($J16=9,'Datensatz Radiator'!E$10*(998.2/$M$12)*($O$12/1)*$K16,IF($J16=10,'Datensatz Radiator'!E$11*(998.2/$M$12)*($O$12/1)*$K16,IF($J16=11,'Datensatz Radiator'!E$12*(998.2/$M$12)*($O$12/1)*$K16,IF($J16=12,'Datensatz Radiator'!E$13*(998.2/$M$12)*($O$12/1)*$K16,IF($J16=13,'Datensatz Radiator'!E$14*(998.2/$M$12)*($O$12/1)*$K16,IF($J16=14,'Datensatz Radiator'!E$15*(998.2/$M$12)*($O$12/1)*$K16,IF($J16=15,'Datensatz Radiator'!E$16*(998.2/$M$12)*($O$12/1)*$K16,IF($J16=16,'Datensatz Radiator'!E$17*(998.2/$M$12)*($O$12/1)*$K16,IF($J16=17,'Datensatz Radiator'!E$18*(998.2/$M$12)*($O$12/1)*$K16,IF($J16=18,'Datensatz Radiator'!E$19*(998.2/$M$12)*($O$12/1)*$K16,IF($J16=19,'Datensatz Radiator'!E$20*(998.2/$M$12)*($O$12/1)*$K16,IF($J16=20,'Datensatz Radiator'!E$21*(998.2/$M$12)*($O$12/1)*$K16,IF($J16=21,'Datensatz Radiator'!E$22*(998.2/$M$12)*($O$12/1)*$K16,IF($J16=22,'Datensatz Radiator'!E$23*(998.2/$M$12)*($O$12/1)*$K16,IF($J16=23,'Datensatz Radiator'!E$24*(998.2/$M$12)*($O$12/1)*$K16,IF($J16=24,'Datensatz Radiator'!E$25*(998.2/$M$12)*($O$12/1)*$K16,IF($J16=25,'Datensatz Radiator'!E$26*(998.2/$M$12)*($O$12/1)*$K16,IF($J16=26,'Datensatz Radiator'!E$27*(998.2/$M$12)*($O$12/1)*$K16,IF($J16=27,'Datensatz Radiator'!E$28*(998.2/$M$12)*($O$12/1)*$K16,IF($J16=28,'Datensatz Radiator'!E$39*(998.2/$M$12)*($O$12/1)*$K16,IF($J16=29,'Datensatz Radiator'!E$30*(998.2/$M$12)*($O$12/1)*$K16,IF($J16=30,'Datensatz Radiator'!E$31*(998.2/$M$12)*($O$12/1)*$K16,IF($J16=31,'Datensatz Radiator'!E$32*(998.2/$M$12)*($O$12/1)*$K16,IF($J16=32,'Datensatz Radiator'!E$33*(998.2/$M$12)*($O$12/1)*$K16,IF($J16=33,'Datensatz Radiator'!E$34*(998.2/$M$12)*($O$12/1)*$K16,IF($J16=34,'Datensatz Radiator'!E$35*(998.2/$M$12)*($O$12/1)*$K16,IF($J16=35,'Datensatz Radiator'!E$36*(998.2/$M$12)*($O$12/1)*$K16,IF($J16=36,'Datensatz Radiator'!E$37*(998.2/$M$12)*($O$12/1)*$K16,'Datensatz Radiator'!E$38*(998.2/$M$12)*($O$12/1)*$K16)))))))))))))))))))))))))))))))))))) -> 70.255635 | O16: =IF($J16=1,'Datensatz Radiator'!F$2*(998.2/$M$12)*($O$12/1)*$K16,IF($J16=2,'Datensatz Radiator'!F$3*(998.2/$M$12)*($O$12/1)*$K16,IF($J16=3,'Datensatz Radiator'!F$4*(998.2/$M$12)*($O$12/1)*$K16,IF($J16=4,'Datensatz Radiator'!F$5*(998.2/$M$12)*($O$12/1)*$K16,IF($J16=5,'Datensatz Radiator'!F$6*(998.2/$M$12)*($O$12/1)*$K16,IF($J16=6,'Datensatz Radiator'!F$7*(998.2/$M$12)*($O$12/1)*$K16,IF($J16=7,'Datensatz Radiator'!F$8*(998.2/$M$12)*($O$12/1)*$K16,IF($J16=8,'Datensatz Radiator'!F$9*(998.2/$M$12)*($O$12/1)*$K16,IF($J16=9,'Datensatz Radiator'!F$10*(998.2/$M$12)*($O$12/1)*$K16,IF($J16=10,'Datensatz Radiator'!F$11*(998.2/$M$12)*($O$12/1)*$K16,IF($J16=11,'Datensatz Radiator'!F$12*(998.2/$M$12)*($O$12/1)*$K16,IF($J16=12,'Datensatz Radiator'!F$13*(998.2/$M$12)*($O$12/1)*$K16,IF($J16=13,'Datensatz Radiator'!F$14*(998.2/$M$12)*($O$12/1)*$K16,IF($J16=14,'Datensatz Radiator'!F$15*(998.2/$M$12)*($O$12/1)*$K16,IF($J16=15,'Datensatz Radiator'!F$16*(998.2/$M$12)*($O$12/1)*$K16,IF($J16=16,'Datensatz Radiator'!F$17*(998.2/$M$12)*($O$12/1)*$K16,IF($J16=17,'Datensatz Radiator'!F$18*(998.2/$M$12)*($O$12/1)*$K16,IF($J16=18,'Datensatz Radiator'!F$19*(998.2/$M$12)*($O$12/1)*$K16,IF($J16=19,'Datensatz Radiator'!F$20*(998.2/$M$12)*($O$12/1)*$K16,IF($J16=20,'Datensatz Radiator'!F$21*(998.2/$M$12)*($O$12/1)*$K16,IF($J16=21,'Datensatz Radiator'!F$22*(998.2/$M$12)*($O$12/1)*$K16,IF($J16=22,'Datensatz Radiator'!F$23*(998.2/$M$12)*($O$12/1)*$K16,IF($J16=23,'Datensatz Radiator'!F$24*(998.2/$M$12)*($O$12/1)*$K16,IF($J16=24,'Datensatz Radiator'!F$25*(998.2/$M$12)*($O$12/1)*$K16,IF($J16=25,'Datensatz Radiator'!F$26*(998.2/$M$12)*($O$12/1)*$K16,IF($J16=26,'Datensatz Radiator'!F$27*(998.2/$M$12)*($O$12/1)*$K16,IF($J16=27,'Datensatz Radiator'!F$28*(998.2/$M$12)*($O$12/1)*$K16,IF($J16=28,'Datensatz Radiator'!F$39*(998.2/$M$12)*($O$12/1)*$K16,IF($J16=29,'Datensatz Radiator'!F$30*(998.2/$M$12)*($O$12/1)*$K16,IF($J16=30,'Datensatz Radiator'!F$31*(998.2/$M$12)*($O$12/1)*$K16,IF($J16=31,'Datensatz Radiator'!F$32*(998.2/$M$12)*($O$12/1)*$K16,IF($J16=32,'Datensatz Radiator'!F$33*(998.2/$M$12)*($O$12/1)*$K16,IF($J16=33,'Datensatz Radiator'!F$34*(998.2/$M$12)*($O$12/1)*$K16,IF($J16=34,'Datensatz Radiator'!F$35*(998.2/$M$12)*($O$12/1)*$K16,IF($J16=35,'Datensatz Radiator'!F$36*(998.2/$M$12)*($O$12/1)*$K16,IF($J16=36,'Datensatz Radiator'!F$37*(998.2/$M$12)*($O$12/1)*$K16,'Datensatz Radiator'!F$38*(998.2/$M$12)*($O$12/1)*$K16)))))))))))))))))))))))))))))))))))) -> 152.15992 | P16: =IF($J16=1,'Datensatz Radiator'!G$2*(998.2/$M$12)*($O$12/1)*$K16,IF($J16=2,'Datensatz Radiator'!G$3*(998.2/$M$12)*($O$12/1)*$K16,IF($J16=3,'Datensatz Radiator'!G$4*(998.2/$M$12)*($O$12/1)*$K16,IF($J16=4,'Datensatz Radiator'!G$5*(998.2/$M$12)*($O$12/1)*$K16,IF($J16=5,'Datensatz Radiator'!G$6*(998.2/$M$12)*($O$12/1)*$K16,IF($J16=6,'Datensatz Radiator'!G$7*(998.2/$M$12)*($O$12/1)*$K16,IF($J16=7,'Datensatz Radiator'!G$8*(998.2/$M$12)*($O$12/1)*$K16,IF($J16=8,'Datensatz Radiator'!G$9*(998.2/$M$12)*($O$12/1)*$K16,IF($J16=9,'Datensatz Radiator'!G$10*(998.2/$M$12)*($O$12/1)*$K16,IF($J16=10,'Datensatz Radiator'!G$11*(998.2/$M$12)*($O$12/1)*$K16,IF($J16=11,'Datensatz Radiator'!G$12*(998.2/$M$12)*($O$12/1)*$K16,IF($J16=12,'Datensatz Radiator'!G$13*(998.2/$M$12)*($O$12/1)*$K16,IF($J16=13,'Datensatz Radiator'!G$14*(998.2/$M$12)*($O$12/1)*$K16,IF($J16=14,'Datensatz Radiator'!G$15*(998.2/$M$12)*($O$12/1)*$K16,IF($J16=15,'Datensatz Radiator'!G$16*(998.2/$M$12)*($O$12/1)*$K16,IF($J16=16,'Datensatz Radiator'!G$17*(998.2/$M$12)*($O$12/1)*$K16,IF($J16=17,'Datensatz Radiator'!G$18*(998.2/$M$12)*($O$12/1)*$K16,IF($J16=18,'Datensatz Radiator'!G$19*(998.2/$M$12)*($O$12/1)*$K16,IF($J16=19,'Datensatz Radiator'!G$20*(998.2/$M$12)*($O$12/1)*$K16,IF($J16=20,'Datensatz Radiator'!G$21*(998.2/$M$12)*($O$12/1)*$K16,IF($J16=21,'Datensatz Radiator'!G$22*(998.2/$M$12)*($O$12/1)*$K16,IF($J16=22,'Datensatz Radiator'!G$23*(998.2/$M$12)*($O$12/1)*$K16,IF($J16=23,'Datensatz Radiator'!G$24*(998.2/$M$12)*($O$12/1)*$K16,IF($J16=24,'Datensatz Radiator'!G$25*(998.2/$M$12)*($O$12/1)*$K16,IF($J16=25,'Datensatz Radiator'!G$26*(998.2/$M$12)*($O$12/1)*$K16,IF($J16=26,'Datensatz Radiator'!G$27*(998.2/$M$12)*($O$12/1)*$K16,IF($J16=27,'Datensatz Radiator'!G$28*(998.2/$M$12)*($O$12/1)*$K16,IF($J16=28,'Datensatz Radiator'!G$39*(998.2/$M$12)*($O$12/1)*$K16,IF($J16=29,'Datensatz Radiator'!G$30*(998.2/$M$12)*($O$12/1)*$K16,IF($J16=30,'Datensatz Radiator'!G$31*(998.2/$M$12)*($O$12/1)*$K16,IF($J16=31,'Datensatz Radiator'!G$32*(998.2/$M$12)*($O$12/1)*$K16,IF($J16=32,'Datensatz Radiator'!G$33*(998.2/$M$12)*($O$12/1)*$K16,IF($J16=33,'Datensatz Radiator'!G$34*(998.2/$M$12)*($O$12/1)*$K16,IF($J16=34,'Datensatz Radiator'!G$35*(998.2/$M$12)*($O$12/1)*$K16,IF($J16=35,'Datensatz Radiator'!G$36*(998.2/$M$12)*($O$12/1)*$K16,IF($J16=36,'Datensatz Radiator'!G$37*(998.2/$M$12)*($O$12/1)*$K16,'Datensatz Radiator'!G$38*(998.2/$M$12)*($O$12/1)*$K16)))))))))))))))))))))))))))))))))))) -> 259.10355 | Q16: =IF($J16=1,'Datensatz Radiator'!H$2*(998.2/$M$12)*($O$12/1)*$K16,IF($J16=2,'Datensatz Radiator'!H$3*(998.2/$M$12)*($O$12/1)*$K16,IF($J16=3,'Datensatz Radiator'!H$4*(998.2/$M$12)*($O$12/1)*$K16,IF($J16=4,'Datensatz Radiator'!H$5*(998.2/$M$12)*($O$12/1)*$K16,IF($J16=5,'Datensatz Radiator'!H$6*(998.2/$M$12)*($O$12/1)*$K16,IF($J16=6,'Datensatz Radiator'!H$7*(998.2/$M$12)*($O$12/1)*$K16,IF($J16=7,'Datensatz Radiator'!H$8*(998.2/$M$12)*($O$12/1)*$K16,IF($J16=8,'Datensatz Radiator'!H$9*(998.2/$M$12)*($O$12/1)*$K16,IF($J16=9,'Datensatz Radiator'!H$10*(998.2/$M$12)*($O$12/1)*$K16,IF($J16=10,'Datensatz Radiator'!H$11*(998.2/$M$12)*($O$12/1)*$K16,IF($J16=11,'Datensatz Radiator'!H$12*(998.2/$M$12)*($O$12/1)*$K16,IF($J16=12,'Datensatz Radiator'!H$13*(998.2/$M$12)*($O$12/1)*$K16,IF($J16=13,'Datensatz Radiator'!H$14*(998.2/$M$12)*($O$12/1)*$K16,IF($J16=14,'Datensatz Radiator'!H$15*(998.2/$M$12)*($O$12/1)*$K16,IF($J16=15,'Datensatz Radiator'!H$16*(998.2/$M$12)*($O$12/1)*$K16,IF($J16=16,'Datensatz Radiator'!H$17*(998.2/$M$12)*($O$12/1)*$K16,IF($J16=17,'Datensatz Radiator'!H$18*(998.2/$M$12)*($O$12/1)*$K16,IF($J16=18,'Datensatz Radiator'!H$19*(998.2/$M$12)*($O$12/1)*$K16,IF($J16=19,'Datensatz Radiator'!H$20*(998.2/$M$12)*($O$12/1)*$K16,IF($J16=20,'Datensatz Radiator'!H$21*(998.2/$M$12)*($O$12/1)*$K16,IF($J16=21,'Datensatz Radiator'!H$22*(998.2/$M$12)*($O$12/1)*$K16,IF($J16=22,'Datensatz Radiator'!H$23*(998.2/$M$12)*($O$12/1)*$K16,IF($J16=23,'Datensatz Radiator'!H$24*(998.2/$M$12)*($O$12/1)*$K16,IF($J16=24,'Datensatz Radiator'!H$25*(998.2/$M$12)*($O$12/1)*$K16,IF($J16=25,'Datensatz Radiator'!H$26*(998.2/$M$12)*($O$12/1)*$K16,IF($J16=26,'Datensatz Radiator'!H$27*(998.2/$M$12)*($O$12/1)*$K16,IF($J16=27,'Datensatz Radiator'!H$28*(998.2/$M$12)*($O$12/1)*$K16,IF($J16=28,'Datensatz Radiator'!H$39*(998.2/$M$12)*($O$12/1)*$K16,IF($J16=29,'Datensatz Radiator'!H$30*(998.2/$M$12)*($O$12/1)*$K16,IF($J16=30,'Datensatz Radiator'!H$31*(998.2/$M$12)*($O$12/1)*$K16,IF($J16=31,'Datensatz Radiator'!H$32*(998.2/$M$12)*($O$12/1)*$K16,IF($J16=32,'Datensatz Radiator'!H$33*(998.2/$M$12)*($O$12/1)*$K16,IF($J16=33,'Datensatz Radiator'!H$34*(998.2/$M$12)*($O$12/1)*$K16,IF($J16=34,'Datensatz Radiator'!H$35*(998.2/$M$12)*($O$12/1)*$K16,IF($J16=35,'Datensatz Radiator'!H$36*(998.2/$M$12)*($O$12/1)*$K16,IF($J16=36,'Datensatz Radiator'!H$37*(998.2/$M$12)*($O$12/1)*$K16,'Datensatz Radiator'!H$38*(998.2/$M$12)*($O$12/1)*$K16)))))))))))))))))))))))))))))))))))) -> 391.08652 | R16: =IF($J16=1,'Datensatz Radiator'!I$2*(998.2/$M$12)*($O$12/1)*$K16,IF($J16=2,'Datensatz Radiator'!I$3*(998.2/$M$12)*($O$12/1)*$K16,IF($J16=3,'Datensatz Radiator'!I$4*(998.2/$M$12)*($O$12/1)*$K16,IF($J16=4,'Datensatz Radiator'!I$5*(998.2/$M$12)*($O$12/1)*$K16,IF($J16=5,'Datensatz Radiator'!I$6*(998.2/$M$12)*($O$12/1)*$K16,IF($J16=6,'Datensatz Radiator'!I$7*(998.2/$M$12)*($O$12/1)*$K16,IF($J16=7,'Datensatz Radiator'!I$8*(998.2/$M$12)*($O$12/1)*$K16,IF($J16=8,'Datensatz Radiator'!I$9*(998.2/$M$12)*($O$12/1)*$K16,IF($J16=9,'Datensatz Radiator'!I$10*(998.2/$M$12)*($O$12/1)*$K16,IF($J16=10,'Datensatz Radiator'!I$11*(998.2/$M$12)*($O$12/1)*$K16,IF($J16=11,'Datensatz Radiator'!I$12*(998.2/$M$12)*($O$12/1)*$K16,IF($J16=12,'Datensatz Radiator'!I$13*(998.2/$M$12)*($O$12/1)*$K16,IF($J16=13,'Datensatz Radiator'!I$14*(998.2/$M$12)*($O$12/1)*$K16,IF($J16=14,'Datensatz Radiator'!I$15*(998.2/$M$12)*($O$12/1)*$K16,IF($J16=15,'Datensatz Radiator'!I$16*(998.2/$M$12)*($O$12/1)*$K16,IF($J16=16,'Datensatz Radiator'!I$17*(998.2/$M$12)*($O$12/1)*$K16,IF($J16=17,'Datensatz Radiator'!I$18*(998.2/$M$12)*($O$12/1)*$K16,IF($J16=18,'Datensatz Radiator'!I$19*(998.2/$M$12)*($O$12/1)*$K16,IF($J16=19,'Datensatz Radiator'!I$20*(998.2/$M$12)*($O$12/1)*$K16,IF($J16=20,'Datensatz Radiator'!I$21*(998.2/$M$12)*($O$12/1)*$K16,IF($J16=21,'Datensatz Radiator'!I$22*(998.2/$M$12)*($O$12/1)*$K16,IF($J16=22,'Datensatz Radiator'!I$23*(998.2/$M$12)*($O$12/1)*$K16,IF($J16=23,'Datensatz Radiator'!I$24*(998.2/$M$12)*($O$12/1)*$K16,IF($J16=24,'Datensatz Radiator'!I$25*(998.2/$M$12)*($O$12/1)*$K16,IF($J16=25,'Datensatz Radiator'!I$26*(998.2/$M$12)*($O$12/1)*$K16,IF($J16=26,'Datensatz Radiator'!I$27*(998.2/$M$12)*($O$12/1)*$K16,IF($J16=27,'Datensatz Radiator'!I$28*(998.2/$M$12)*($O$12/1)*$K16,IF($J16=28,'Datensatz Radiator'!I$39*(998.2/$M$12)*($O$12/1)*$K16,IF($J16=29,'Datensatz Radiator'!I$30*(998.2/$M$12)*($O$12/1)*$K16,IF($J16=30,'Datensatz Radiator'!I$31*(998.2/$M$12)*($O$12/1)*$K16,IF($J16=31,'Datensatz Radiator'!I$32*(998.2/$M$12)*($O$12/1)*$K16,IF($J16=32,'Datensatz Radiator'!I$33*(998.2/$M$12)*($O$12/1)*$K16,IF($J16=33,'Datensatz Radiator'!I$34*(998.2/$M$12)*($O$12/1)*$K16,IF($J16=34,'Datensatz Radiator'!I$35*(998.2/$M$12)*($O$12/1)*$K16,IF($J16=35,'Datensatz Radiator'!I$36*(998.2/$M$12)*($O$12/1)*$K16,IF($J16=36,'Datensatz Radiator'!I$37*(998.2/$M$12)*($O$12/1)*$K16,'Datensatz Radiator'!I$38*(998.2/$M$12)*($O$12/1)*$K16)))))))))))))))))))))))))))))))))))) -> 548.10883 | S16: =IF($J16=1,'Datensatz Radiator'!J$2*(998.2/$M$12)*($O$12/1)*$K16,IF($J16=2,'Datensatz Radiator'!J$3*(998.2/$M$12)*($O$12/1)*$K16,IF($J16=3,'Datensatz Radiator'!J$4*(998.2/$M$12)*($O$12/1)*$K16,IF($J16=4,'Datensatz Radiator'!J$5*(998.2/$M$12)*($O$12/1)*$K16,IF($J16=5,'Datensatz Radiator'!J$6*(998.2/$M$12)*($O$12/1)*$K16,IF($J16=6,'Datensatz Radiator'!J$7*(998.2/$M$12)*($O$12/1)*$K16,IF($J16=7,'Datensatz Radiator'!J$8*(998.2/$M$12)*($O$12/1)*$K16,IF($J16=8,'Datensatz Radiator'!J$9*(998.2/$M$12)*($O$12/1)*$K16,IF($J16=9,'Datensatz Radiator'!J$10*(998.2/$M$12)*($O$12/1)*$K16,IF($J16=10,'Datensatz Radiator'!J$11*(998.2/$M$12)*($O$12/1)*$K16,IF($J16=11,'Datensatz Radiator'!J$12*(998.2/$M$12)*($O$12/1)*$K16,IF($J16=12,'Datensatz Radiator'!J$13*(998.2/$M$12)*($O$12/1)*$K16,IF($J16=13,'Datensatz Radiator'!J$14*(998.2/$M$12)*($O$12/1)*$K16,IF($J16=14,'Datensatz Radiator'!J$15*(998.2/$M$12)*($O$12/1)*$K16,IF($J16=15,'Datensatz Radiator'!J$16*(998.2/$M$12)*($O$12/1)*$K16,IF($J16=16,'Datensatz Radiator'!J$17*(998.2/$M$12)*($O$12/1)*$K16,IF($J16=17,'Datensatz Radiator'!J$18*(998.2/$M$12)*($O$12/1)*$K16,IF($J16=18,'Datensatz Radiator'!J$19*(998.2/$M$12)*($O$12/1)*$K16,IF($J16=19,'Datensatz Radiator'!J$20*(998.2/$M$12)*($O$12/1)*$K16,IF($J16=20,'Datensatz Radiator'!J$21*(998.2/$M$12)*($O$12/1)*$K16,IF($J16=21,'Datensatz Radiator'!J$22*(998.2/$M$12)*($O$12/1)*$K16,IF($J16=22,'Datensatz Radiator'!J$23*(998.2/$M$12)*($O$12/1)*$K16,IF($J16=23,'Datensatz Radiator'!J$24*(998.2/$M$12)*($O$12/1)*$K16,IF($J16=24,'Datensatz Radiator'!J$25*(998.2/$M$12)*($O$12/1)*$K16,IF($J16=25,'Datensatz Radiator'!J$26*(998.2/$M$12)*($O$12/1)*$K16,IF($J16=26,'Datensatz Radiator'!J$27*(998.2/$M$12)*($O$12/1)*$K16,IF($J16=27,'Datensatz Radiator'!J$28*(998.2/$M$12)*($O$12/1)*$K16,IF($J16=28,'Datensatz Radiator'!J$39*(998.2/$M$12)*($O$12/1)*$K16,IF($J16=29,'Datensatz Radiator'!J$30*(998.2/$M$12)*($O$12/1)*$K16,IF($J16=30,'Datensatz Radiator'!J$31*(998.2/$M$12)*($O$12/1)*$K16,IF($J16=31,'Datensatz Radiator'!J$32*(998.2/$M$12)*($O$12/1)*$K16,IF($J16=32,'Datensatz Radiator'!J$33*(998.2/$M$12)*($O$12/1)*$K16,IF($J16=33,'Datensatz Radiator'!J$34*(998.2/$M$12)*($O$12/1)*$K16,IF($J16=34,'Datensatz Radiator'!J$35*(998.2/$M$12)*($O$12/1)*$K16,IF($J16=35,'Datensatz Radiator'!J$36*(998.2/$M$12)*($O$12/1)*$K16,IF($J16=36,'Datensatz Radiator'!J$37*(998.2/$M$12)*($O$12/1)*$K16,'Datensatz Radiator'!J$38*(998.2/$M$12)*($O$12/1)*$K16)))))))))))))))))))))))))))))))))))) -> 730.17048 | T16: =IF($J16=1,'Datensatz Radiator'!K$2*(998.2/$M$12)*($O$12/1)*$K16,IF($J16=2,'Datensatz Radiator'!K$3*(998.2/$M$12)*($O$12/1)*$K16,IF($J16=3,'Datensatz Radiator'!K$4*(998.2/$M$12)*($O$12/1)*$K16,IF($J16=4,'Datensatz Radiator'!K$5*(998.2/$M$12)*($O$12/1)*$K16,IF($J16=5,'Datensatz Radiator'!K$6*(998.2/$M$12)*($O$12/1)*$K16,IF($J16=6,'Datensatz Radiator'!K$7*(998.2/$M$12)*($O$12/1)*$K16,IF($J16=7,'Datensatz Radiator'!K$8*(998.2/$M$12)*($O$12/1)*$K16,IF($J16=8,'Datensatz Radiator'!K$9*(998.2/$M$12)*($O$12/1)*$K16,IF($J16=9,'Datensatz Radiator'!K$10*(998.2/$M$12)*($O$12/1)*$K16,IF($J16=10,'Datensatz Radiator'!K$11*(998.2/$M$12)*($O$12/1)*$K16,IF($J16=11,'Datensatz Radiator'!K$12*(998.2/$M$12)*($O$12/1)*$K16,IF($J16=12,'Datensatz Radiator'!K$13*(998.2/$M$12)*($O$12/1)*$K16,IF($J16=13,'Datensatz Radiator'!K$14*(998.2/$M$12)*($O$12/1)*$K16,IF($J16=14,'Datensatz Radiator'!K$15*(998.2/$M$12)*($O$12/1)*$K16,IF($J16=15,'Datensatz Radiator'!K$16*(998.2/$M$12)*($O$12/1)*$K16,IF($J16=16,'Datensatz Radiator'!K$17*(998.2/$M$12)*($O$12/1)*$K16,IF($J16=17,'Datensatz Radiator'!K$18*(998.2/$M$12)*($O$12/1)*$K16,IF($J16=18,'Datensatz Radiator'!K$19*(998.2/$M$12)*($O$12/1)*$K16,IF($J16=19,'Datensatz Radiator'!K$20*(998.2/$M$12)*($O$12/1)*$K16,IF($J16=20,'Datensatz Radiator'!K$21*(998.2/$M$12)*($O$12/1)*$K16,IF($J16=21,'Datensatz Radiator'!K$22*(998.2/$M$12)*($O$12/1)*$K16,IF($J16=22,'Datensatz Radiator'!K$23*(998.2/$M$12)*($O$12/1)*$K16,IF($J16=23,'Datensatz Radiator'!K$24*(998.2/$M$12)*($O$12/1)*$K16,IF($J16=24,'Datensatz Radiator'!K$25*(998.2/$M$12)*($O$12/1)*$K16,IF($J16=25,'Datensatz Radiator'!K$26*(998.2/$M$12)*($O$12/1)*$K16,IF($J16=26,'Datensatz Radiator'!K$27*(998.2/$M$12)*($O$12/1)*$K16,IF($J16=27,'Datensatz Radiator'!K$28*(998.2/$M$12)*($O$12/1)*$K16,IF($J16=28,'Datensatz Radiator'!K$39*(998.2/$M$12)*($O$12/1)*$K16,IF($J16=29,'Datensatz Radiator'!K$30*(998.2/$M$12)*($O$12/1)*$K16,IF($J16=30,'Datensatz Radiator'!K$31*(998.2/$M$12)*($O$12/1)*$K16,IF($J16=31,'Datensatz Radiator'!K$32*(998.2/$M$12)*($O$12/1)*$K16,IF($J16=32,'Datensatz Radiator'!K$33*(998.2/$M$12)*($O$12/1)*$K16,IF($J16=33,'Datensatz Radiator'!K$34*(998.2/$M$12)*($O$12/1)*$K16,IF($J16=34,'Datensatz Radiator'!K$35*(998.2/$M$12)*($O$12/1)*$K16,IF($J16=35,'Datensatz Radiator'!K$36*(998.2/$M$12)*($O$12/1)*$K16,IF($J16=36,'Datensatz Radiator'!K$37*(998.2/$M$12)*($O$12/1)*$K16,'Datensatz Radiator'!K$38*(998.2/$M$12)*($O$12/1)*$K16)))))))))))))))))))))))))))))))))))) -> 937.27146 | ... Y16: =IF($J16=1,'Datensatz Radiator'!P$2*(998.2/$M$12)*($O$12/1)*$K16,IF($J16=2,'Datensatz Radiator'!P$3*(998.2/$M$12)*($O$12/1)*$K16,IF($J16=3,'Datensatz Radiator'!P$4*(998.2/$M$12)*($O$12/1)*$K16,IF($J16=4,'Datensatz Radiator'!P$5*(998.2/$M$12)*($O$12/1)*$K16,IF($J16=5,'Datensatz Radiator'!P$6*(998.2/$M$12)*($O$12/1)*$K16,IF($J16=6,'Datensatz Radiator'!P$7*(998.2/$M$12)*($O$12/1)*$K16,IF($J16=7,'Datensatz Radiator'!P$8*(998.2/$M$12)*($O$12/1)*$K16,IF($J16=8,'Datensatz Radiator'!P$9*(998.2/$M$12)*($O$12/1)*$K16,IF($J16=9,'Datensatz Radiator'!P$10*(998.2/$M$12)*($O$12/1)*$K16,IF($J16=10,'Datensatz Radiator'!P$11*(998.2/$M$12)*($O$12/1)*$K16,IF($J16=11,'Datensatz Radiator'!P$12*(998.2/$M$12)*($O$12/1)*$K16,IF($J16=12,'Datensatz Radiator'!P$13*(998.2/$M$12)*($O$12/1)*$K16,IF($J16=13,'Datensatz Radiator'!P$14*(998.2/$M$12)*($O$12/1)*$K16,IF($J16=14,'Datensatz Radiator'!P$15*(998.2/$M$12)*($O$12/1)*$K16,IF($J16=15,'Datensatz Radiator'!P$16*(998.2/$M$12)*($O$12/1)*$K16,IF($J16=16,'Datensatz Radiator'!P$17*(998.2/$M$12)*($O$12/1)*$K16,IF($J16=17,'Datensatz Radiator'!P$18*(998.2/$M$12)*($O$12/1)*$K16,IF($J16=18,'Datensatz Radiator'!P$19*(998.2/$M$12)*($O$12/1)*$K16,IF($J16=19,'Datensatz Radiator'!P$20*(998.2/$M$12)*($O$12/1)*$K16,IF($J16=20,'Datensatz Radiator'!P$21*(998.2/$M$12)*($O$12/1)*$K16,IF($J16=21,'Datensatz Radiator'!P$22*(998.2/$M$12)*($O$12/1)*$K16,IF($J16=22,'Datensatz Radiator'!P$23*(998.2/$M$12)*($O$12/1)*$K16,IF($J16=23,'Datensatz Radiator'!P$24*(998.2/$M$12)*($O$12/1)*$K16,IF($J16=24,'Datensatz Radiator'!P$25*(998.2/$M$12)*($O$12/1)*$K16,IF($J16=25,'Datensatz Radiator'!P$26*(998.2/$M$12)*($O$12/1)*$K16,IF($J16=26,'Datensatz Radiator'!P$27*(998.2/$M$12)*($O$12/1)*$K16,IF($J16=27,'Datensatz Radiator'!P$28*(998.2/$M$12)*($O$12/1)*$K16,IF($J16=28,'Datensatz Radiator'!P$39*(998.2/$M$12)*($O$12/1)*$K16,IF($J16=29,'Datensatz Radiator'!P$30*(998.2/$M$12)*($O$12/1)*$K16,IF($J16=30,'Datensatz Radiator'!P$31*(998.2/$M$12)*($O$12/1)*$K16,IF($J16=31,'Datensatz Radiator'!P$32*(998.2/$M$12)*($O$12/1)*$K16,IF($J16=32,'Datensatz Radiator'!P$33*(998.2/$M$12)*($O$12/1)*$K16,IF($J16=33,'Datensatz Radiator'!P$34*(998.2/$M$12)*($O$12/1)*$K16,IF($J16=34,'Datensatz Radiator'!P$35*(998.2/$M$12)*($O$12/1)*$K16,IF($J16=35,'Datensatz Radiator'!P$36*(998.2/$M$12)*($O$12/1)*$K16,IF($J16=36,'Datensatz Radiator'!P$37*(998.2/$M$12)*($O$12/1)*$K16,'Datensatz Radiator'!P$38*(998.2/$M$12)*($O$12/1)*$K16)))))))))))))))))))))))))))))))))))) -> 2348.3665
I17: 2 | J17: 1 | K17: 1 | L17: Pa | M17: =IF($J17=1,'Datensatz Radiator'!D$2*(998.2/$M$12)*($O$12/1)*$K17,IF($J17=2,'Datensatz Radiator'!D$3*(998.2/$M$12)*($O$12/1)*$K17,IF($J17=3,'Datensatz Radiator'!D$4*(998.2/$M$12)*($O$12/1)*$K17,IF($J17=4,'Datensatz Radiator'!D$5*(998.2/$M$12)*($O$12/1)*$K17,IF($J17=5,'Datensatz Radiator'!D$6*(998.2/$M$12)*($O$12/1)*$K17,IF($J17=6,'Datensatz Radiator'!D$7*(998.2/$M$12)*($O$12/1)*$K17,IF($J17=7,'Datensatz Radiator'!D$8*(998.2/$M$12)*($O$12/1)*$K17,IF($J17=8,'Datensatz Radiator'!D$9*(998.2/$M$12)*($O$12/1)*$K17,IF($J17=9,'Datensatz Radiator'!D$10*(998.2/$M$12)*($O$12/1)*$K17,IF($J17=10,'Datensatz Radiator'!D$11*(998.2/$M$12)*($O$12/1)*$K17,IF($J17=11,'Datensatz Radiator'!D$12*(998.2/$M$12)*($O$12/1)*$K17,IF($J17=12,'Datensatz Radiator'!D$13*(998.2/$M$12)*($O$12/1)*$K17,IF($J17=13,'Datensatz Radiator'!D$14*(998.2/$M$12)*($O$12/1)*$K17,IF($J17=14,'Datensatz Radiator'!D$15*(998.2/$M$12)*($O$12/1)*$K17,IF($J17=15,'Datensatz Radiator'!D$16*(998.2/$M$12)*($O$12/1)*$K17,IF($J17=16,'Datensatz Radiator'!D$17*(998.2/$M$12)*($O$12/1)*$K17,IF($J17=17,'Datensatz Radiator'!D$18*(998.2/$M$12)*($O$12/1)*$K17,IF($J17=18,'Datensatz Radiator'!D$19*(998.2/$M$12)*($O$12/1)*$K17,IF($J17=19,'Datensatz Radiator'!D$20*(998.2/$M$12)*($O$12/1)*$K17,IF($J17=20,'Datensatz Radiator'!D$21*(998.2/$M$12)*($O$12/1)*$K17,IF($J17=21,'Datensatz Radiator'!D$22*(998.2/$M$12)*($O$12/1)*$K17,IF($J17=22,'Datensatz Radiator'!D$23*(998.2/$M$12)*($O$12/1)*$K17,IF($J17=23,'Datensatz Radiator'!D$24*(998.2/$M$12)*($O$12/1)*$K17,IF($J17=24,'Datensatz Radiator'!D$25*(998.2/$M$12)*($O$12/1)*$K17,IF($J17=25,'Datensatz Radiator'!D$26*(998.2/$M$12)*($O$12/1)*$K17,IF($J17=26,'Datensatz Radiator'!D$27*(998.2/$M$12)*($O$12/1)*$K17,IF($J17=27,'Datensatz Radiator'!D$28*(998.2/$M$12)*($O$12/1)*$K17,IF($J17=28,'Datensatz Radiator'!D$39*(998.2/$M$12)*($O$12/1)*$K17,IF($J17=29,'Datensatz Radiator'!D$30*(998.2/$M$12)*($O$12/1)*$K17,IF($J17=30,'Datensatz Radiator'!D$31*(998.2/$M$12)*($O$12/1)*$K17,IF($J17=31,'Datensatz Radiator'!D$32*(998.2/$M$12)*($O$12/1)*$K17,IF($J17=32,'Datensatz Radiator'!D$33*(998.2/$M$12)*($O$12/1)*$K17,IF($J17=33,'Datensatz Radiator'!D$34*(998.2/$M$12)*($O$12/1)*$K17,IF($J17=34,'Datensatz Radiator'!D$35*(998.2/$M$12)*($O$12/1)*$K17,IF($J17=35,'Datensatz Radiator'!D$36*(998.2/$M$12)*($O$12/1)*$K17,IF($J17=36,'Datensatz Radiator'!D$37*(998.2/$M$12)*($O$12/1)*$K17,'Datensatz Radiator'!D$38*(998.2/$M$12)*($O$12/1)*$K17)))))))))))))))))))))))))))))))))))) -> 0 | N17: =IF($J17=1,'Datensatz Radiator'!E$2*(998.2/$M$12)*($O$12/1)*$K17,IF($J17=2,'Datensatz Radiator'!E$3*(998.2/$M$12)*($O$12/1)*$K17,IF($J17=3,'Datensatz Radiator'!E$4*(998.2/$M$12)*($O$12/1)*$K17,IF($J17=4,'Datensatz Radiator'!E$5*(998.2/$M$12)*($O$12/1)*$K17,IF($J17=5,'Datensatz Radiator'!E$6*(998.2/$M$12)*($O$12/1)*$K17,IF($J17=6,'Datensatz Radiator'!E$7*(998.2/$M$12)*($O$12/1)*$K17,IF($J17=7,'Datensatz Radiator'!E$8*(998.2/$M$12)*($O$12/1)*$K17,IF($J17=8,'Datensatz Radiator'!E$9*(998.2/$M$12)*($O$12/1)*$K17,IF($J17=9,'Datensatz Radiator'!E$10*(998.2/$M$12)*($O$12/1)*$K17,IF($J17=10,'Datensatz Radiator'!E$11*(998.2/$M$12)*($O$12/1)*$K17,IF($J17=11,'Datensatz Radiator'!E$12*(998.2/$M$12)*($O$12/1)*$K17,IF($J17=12,'Datensatz Radiator'!E$13*(998.2/$M$12)*($O$12/1)*$K17,IF($J17=13,'Datensatz Radiator'!E$14*(998.2/$M$12)*($O$12/1)*$K17,IF($J17=14,'Datensatz Radiator'!E$15*(998.2/$M$12)*($O$12/1)*$K17,IF($J17=15,'Datensatz Radiator'!E$16*(998.2/$M$12)*($O$12/1)*$K17,IF($J17=16,'Datensatz Radiator'!E$17*(998.2/$M$12)*($O$12/1)*$K17,IF($J17=17,'Datensatz Radiator'!E$18*(998.2/$M$12)*($O$12/1)*$K17,IF($J17=18,'Datensatz Radiator'!E$19*(998.2/$M$12)*($O$12/1)*$K17,IF($J17=19,'Datensatz Radiator'!E$20*(998.2/$M$12)*($O$12/1)*$K17,IF($J17=20,'Datensatz Radiator'!E$21*(998.2/$M$12)*($O$12/1)*$K17,IF($J17=21,'Datensatz Radiator'!E$22*(998.2/$M$12)*($O$12/1)*$K17,IF($J17=22,'Datensatz Radiator'!E$23*(998.2/$M$12)*($O$12/1)*$K17,IF($J17=23,'Datensatz Radiator'!E$24*(998.2/$M$12)*($O$12/1)*$K17,IF($J17=24,'Datensatz Radiator'!E$25*(998.2/$M$12)*($O$12/1)*$K17,IF($J17=25,'Datensatz Radiator'!E$26*(998.2/$M$12)*($O$12/1)*$K17,IF($J17=26,'Datensatz Radiator'!E$27*(998.2/$M$12)*($O$12/1)*$K17,IF($J17=27,'Datensatz Radiator'!E$28*(998.2/$M$12)*($O$12/1)*$K17,IF($J17=28,'Datensatz Radiator'!E$39*(998.2/$M$12)*($O$12/1)*$K17,IF($J17=29,'Datensatz Radiator'!E$30*(998.2/$M$12)*($O$12/1)*$K17,IF($J17=30,'Datensatz Radiator'!E$31*(998.2/$M$12)*($O$12/1)*$K17,IF($J17=31,'Datensatz Radiator'!E$32*(998.2/$M$12)*($O$12/1)*$K17,IF($J17=32,'Datensatz Radiator'!E$33*(998.2/$M$12)*($O$12/1)*$K17,IF($J17=33,'Datensatz Radiator'!E$34*(998.2/$M$12)*($O$12/1)*$K17,IF($J17=34,'Datensatz Radiator'!E$35*(998.2/$M$12)*($O$12/1)*$K17,IF($J17=35,'Datensatz Radiator'!E$36*(998.2/$M$12)*($O$12/1)*$K17,IF($J17=36,'Datensatz Radiator'!E$37*(998.2/$M$12)*($O$12/1)*$K17,'Datensatz Radiator'!E$38*(998.2/$M$12)*($O$12/1)*$K17)))))))))))))))))))))))))))))))))))) -> 115.90785 | O17: =IF($J17=1,'Datensatz Radiator'!F$2*(998.2/$M$12)*($O$12/1)*$K17,IF($J17=2,'Datensatz Radiator'!F$3*(998.2/$M$12)*($O$12/1)*$K17,IF($J17=3,'Datensatz Radiator'!F$4*(998.2/$M$12)*($O$12/1)*$K17,IF($J17=4,'Datensatz Radiator'!F$5*(998.2/$M$12)*($O$12/1)*$K17,IF($J17=5,'Datensatz Radiator'!F$6*(998.2/$M$12)*($O$12/1)*$K17,IF($J17=6,'Datensatz Radiator'!F$7*(998.2/$M$12)*($O$12/1)*$K17,IF($J17=7,'Datensatz Radiator'!F$8*(998.2/$M$12)*($O$12/1)*$K17,IF($J17=8,'Datensatz Radiator'!F$9*(998.2/$M$12)*($O$12/1)*$K17,IF($J17=9,'Datensatz Radiator'!F$10*(998.2/$M$12)*($O$12/1)*$K17,IF($J17=10,'Datensatz Radiator'!F$11*(998.2/$M$12)*($O$12/1)*$K17,IF($J17=11,'Datensatz Radiator'!F$12*(998.2/$M$12)*($O$12/1)*$K17,IF($J17=12,'Datensatz Radiator'!F$13*(998.2/$M$12)*($O$12/1)*$K17,IF($J17=13,'Datensatz Radiator'!F$14*(998.2/$M$12)*($O$12/1)*$K17,IF($J17=14,'Datensatz Radiator'!F$15*(998.2/$M$12)*($O$12/1)*$K17,IF($J17=15,'Datensatz Radiator'!F$16*(998.2/$M$12)*($O$12/1)*$K17,IF($J17=16,'Datensatz Radiator'!F$17*(998.2/$M$12)*($O$12/1)*$K17,IF($J17=17,'Datensatz Radiator'!F$18*(998.2/$M$12)*($O$12/1)*$K17,IF($J17=18,'Datensatz Radiator'!F$19*(998.2/$M$12)*($O$12/1)*$K17,IF($J17=19,'Datensatz Radiator'!F$20*(998.2/$M$12)*($O$12/1)*$K17,IF($J17=20,'Datensatz Radiator'!F$21*(998.2/$M$12)*($O$12/1)*$K17,IF($J17=21,'Datensatz Radiator'!F$22*(998.2/$M$12)*($O$12/1)*$K17,IF($J17=22,'Datensatz Radiator'!F$23*(998.2/$M$12)*($O$12/1)*$K17,IF($J17=23,'Datensatz Radiator'!F$24*(998.2/$M$12)*($O$12/1)*$K17,IF($J17=24,'Datensatz Radiator'!F$25*(998.2/$M$12)*($O$12/1)*$K17,IF($J17=25,'Datensatz Radiator'!F$26*(998.2/$M$12)*($O$12/1)*$K17,IF($J17=26,'Datensatz Radiator'!F$27*(998.2/$M$12)*($O$12/1)*$K17,IF($J17=27,'Datensatz Radiator'!F$28*(998.2/$M$12)*($O$12/1)*$K17,IF($J17=28,'Datensatz Radiator'!F$39*(998.2/$M$12)*($O$12/1)*$K17,IF($J17=29,'Datensatz Radiator'!F$30*(998.2/$M$12)*($O$12/1)*$K17,IF($J17=30,'Datensatz Radiator'!F$31*(998.2/$M$12)*($O$12/1)*$K17,IF($J17=31,'Datensatz Radiator'!F$32*(998.2/$M$12)*($O$12/1)*$K17,IF($J17=32,'Datensatz Radiator'!F$33*(998.2/$M$12)*($O$12/1)*$K17,IF($J17=33,'Datensatz Radiator'!F$34*(998.2/$M$12)*($O$12/1)*$K17,IF($J17=34,'Datensatz Radiator'!F$35*(998.2/$M$12)*($O$12/1)*$K17,IF($J17=35,'Datensatz Radiator'!F$36*(998.2/$M$12)*($O$12/1)*$K17,IF($J17=36,'Datensatz Radiator'!F$37*(998.2/$M$12)*($O$12/1)*$K17,'Datensatz Radiator'!F$38*(998.2/$M$12)*($O$12/1)*$K17)))))))))))))))))))))))))))))))))))) -> 241.71664 | P17: =IF($J17=1,'Datensatz Radiator'!G$2*(998.2/$M$12)*($O$12/1)*$K17,IF($J17=2,'Datensatz Radiator'!G$3*(998.2/$M$12)*($O$12/1)*$K17,IF($J17=3,'Datensatz Radiator'!G$4*(998.2/$M$12)*($O$12/1)*$K17,IF($J17=4,'Datensatz Radiator'!G$5*(998.2/$M$12)*($O$12/1)*$K17,IF($J17=5,'Datensatz Radiator'!G$6*(998.2/$M$12)*($O$12/1)*$K17,IF($J17=6,'Datensatz Radiator'!G$7*(998.2/$M$12)*($O$12/1)*$K17,IF($J17=7,'Datensatz Radiator'!G$8*(998.2/$M$12)*($O$12/1)*$K17,IF($J17=8,'Datensatz Radiator'!G$9*(998.2/$M$12)*($O$12/1)*$K17,IF($J17=9,'Datensatz Radiator'!G$10*(998.2/$M$12)*($O$12/1)*$K17,IF($J17=10,'Datensatz Radiator'!G$11*(998.2/$M$12)*($O$12/1)*$K17,IF($J17=11,'Datensatz Radiator'!G$12*(998.2/$M$12)*($O$12/1)*$K17,IF($J17=12,'Datensatz Radiator'!G$13*(998.2/$M$12)*($O$12/1)*$K17,IF($J17=13,'Datensatz Radiator'!G$14*(998.2/$M$12)*($O$12/1)*$K17,IF($J17=14,'Datensatz Radiator'!G$15*(998.2/$M$12)*($O$12/1)*$K17,IF($J17=15,'Datensatz Radiator'!G$16*(998.2/$M$12)*($O$12/1)*$K17,IF($J17=16,'Datensatz Radiator'!G$17*(998.2/$M$12)*($O$12/1)*$K17,IF($J17=17,'Datensatz Radiator'!G$18*(998.2/$M$12)*($O$12/1)*$K17,IF($J17=18,'Datensatz Radiator'!G$19*(998.2/$M$12)*($O$12/1)*$K17,IF($J17=19,'Datensatz Radiator'!G$20*(998.2/$M$12)*($O$12/1)*$K17,IF($J17=20,'Datensatz Radiator'!G$21*(998.2/$M$12)*($O$12/1)*$K17,IF($J17=21,'Datensatz Radiator'!G$22*(998.2/$M$12)*($O$12/1)*$K17,IF($J17=22,'Datensatz Radiator'!G$23*(998.2/$M$12)*($O$12/1)*$K17,IF($J17=23,'Datensatz Radiator'!G$24*(998.2/$M$12)*($O$12/1)*$K17,IF($J17=24,'Datensatz Radiator'!G$25*(998.2/$M$12)*($O$12/1)*$K17,IF($J17=25,'Datensatz Radiator'!G$26*(998.2/$M$12)*($O$12/1)*$K17,IF($J17=26,'Datensatz Radiator'!G$27*(998.2/$M$12)*($O$12/1)*$K17,IF($J17=27,'Datensatz Radiator'!G$28*(998.2/$M$12)*($O$12/1)*$K17,IF($J17=28,'Datensatz Radiator'!G$39*(998.2/$M$12)*($O$12/1)*$K17,IF($J17=29,'Datensatz Radiator'!G$30*(998.2/$M$12)*($O$12/1)*$K17,IF($J17=30,'Datensatz Radiator'!G$31*(998.2/$M$12)*($O$12/1)*$K17,IF($J17=31,'Datensatz Radiator'!G$32*(998.2/$M$12)*($O$12/1)*$K17,IF($J17=32,'Datensatz Radiator'!G$33*(998.2/$M$12)*($O$12/1)*$K17,IF($J17=33,'Datensatz Radiator'!G$34*(998.2/$M$12)*($O$12/1)*$K17,IF($J17=34,'Datensatz Radiator'!G$35*(998.2/$M$12)*($O$12/1)*$K17,IF($J17=35,'Datensatz Radiator'!G$36*(998.2/$M$12)*($O$12/1)*$K17,IF($J17=36,'Datensatz Radiator'!G$37*(998.2/$M$12)*($O$12/1)*$K17,'Datensatz Radiator'!G$38*(998.2/$M$12)*($O$12/1)*$K17)))))))))))))))))))))))))))))))))))) -> 400.84933 | Q17: =IF($J17=1,'Datensatz Radiator'!H$2*(998.2/$M$12)*($O$12/1)*$K17,IF($J17=2,'Datensatz Radiator'!H$3*(998.2/$M$12)*($O$12/1)*$K17,IF($J17=3,'Datensatz Radiator'!H$4*(998.2/$M$12)*($O$12/1)*$K17,IF($J17=4,'Datensatz Radiator'!H$5*(998.2/$M$12)*($O$12/1)*$K17,IF($J17=5,'Datensatz Radiator'!H$6*(998.2/$M$12)*($O$12/1)*$K17,IF($J17=6,'Datensatz Radiator'!H$7*(998.2/$M$12)*($O$12/1)*$K17,IF($J17=7,'Datensatz Radiator'!H$8*(998.2/$M$12)*($O$12/1)*$K17,IF($J17=8,'Datensatz Radiator'!H$9*(998.2/$M$12)*($O$12/1)*$K17,IF($J17=9,'Datensatz Radiator'!H$10*(998.2/$M$12)*($O$12/1)*$K17,IF($J17=10,'Datensatz Radiator'!H$11*(998.2/$M$12)*($O$12/1)*$K17,IF($J17=11,'Datensatz Radiator'!H$12*(998.2/$M$12)*($O$12/1)*$K17,IF($J17=12,'Datensatz Radiator'!H$13*(998.2/$M$12)*($O$12/1)*$K17,IF($J17=13,'Datensatz Radiator'!H$14*(998.2/$M$12)*($O$12/1)*$K17,IF($J17=14,'Datensatz Radiator'!H$15*(998.2/$M$12)*($O$12/1)*$K17,IF($J17=15,'Datensatz Radiator'!H$16*(998.2/$M$12)*($O$12/1)*$K17,IF($J17=16,'Datensatz Radiator'!H$17*(998.2/$M$12)*($O$12/1)*$K17,IF($J17=17,'Datensatz Radiator'!H$18*(998.2/$M$12)*($O$12/1)*$K17,IF($J17=18,'Datensatz Radiator'!H$19*(998.2/$M$12)*($O$12/1)*$K17,IF($J17=19,'Datensatz Radiator'!H$20*(998.2/$M$12)*($O$12/1)*$K17,IF($J17=20,'Datensatz Radiator'!H$21*(998.2/$M$12)*($O$12/1)*$K17,IF($J17=21,'Datensatz Radiator'!H$22*(998.2/$M$12)*($O$12/1)*$K17,IF($J17=22,'Datensatz Radiator'!H$23*(998.2/$M$12)*($O$12/1)*$K17,IF($J17=23,'Datensatz Radiator'!H$24*(998.2/$M$12)*($O$12/1)*$K17,IF($J17=24,'Datensatz Radiator'!H$25*(998.2/$M$12)*($O$12/1)*$K17,IF($J17=25,'Datensatz Radiator'!H$26*(998.2/$M$12)*($O$12/1)*$K17,IF($J17=26,'Datensatz Radiator'!H$27*(998.2/$M$12)*($O$12/1)*$K17,IF($J17=27,'Datensatz Radiator'!H$28*(998.2/$M$12)*($O$12/1)*$K17,IF($J17=28,'Datensatz Radiator'!H$39*(998.2/$M$12)*($O$12/1)*$K17,IF($J17=29,'Datensatz Radiator'!H$30*(998.2/$M$12)*($O$12/1)*$K17,IF($J17=30,'Datensatz Radiator'!H$31*(998.2/$M$12)*($O$12/1)*$K17,IF($J17=31,'Datensatz Radiator'!H$32*(998.2/$M$12)*($O$12/1)*$K17,IF($J17=32,'Datensatz Radiator'!H$33*(998.2/$M$12)*($O$12/1)*$K17,IF($J17=33,'Datensatz Radiator'!H$34*(998.2/$M$12)*($O$12/1)*$K17,IF($J17=34,'Datensatz Radiator'!H$35*(998.2/$M$12)*($O$12/1)*$K17,IF($J17=35,'Datensatz Radiator'!H$36*(998.2/$M$12)*($O$12/1)*$K17,IF($J17=36,'Datensatz Radiator'!H$37*(998.2/$M$12)*($O$12/1)*$K17,'Datensatz Radiator'!H$38*(998.2/$M$12)*($O$12/1)*$K17)))))))))))))))))))))))))))))))))))) -> 593.30593 | R17: =IF($J17=1,'Datensatz Radiator'!I$2*(998.2/$M$12)*($O$12/1)*$K17,IF($J17=2,'Datensatz Radiator'!I$3*(998.2/$M$12)*($O$12/1)*$K17,IF($J17=3,'Datensatz Radiator'!I$4*(998.2/$M$12)*($O$12/1)*$K17,IF($J17=4,'Datensatz Radiator'!I$5*(998.2/$M$12)*($O$12/1)*$K17,IF($J17=5,'Datensatz Radiator'!I$6*(998.2/$M$12)*($O$12/1)*$K17,IF($J17=6,'Datensatz Radiator'!I$7*(998.2/$M$12)*($O$12/1)*$K17,IF($J17=7,'Datensatz Radiator'!I$8*(998.2/$M$12)*($O$12/1)*$K17,IF($J17=8,'Datensatz Radiator'!I$9*(998.2/$M$12)*($O$12/1)*$K17,IF($J17=9,'Datensatz Radiator'!I$10*(998.2/$M$12)*($O$12/1)*$K17,IF($J17=10,'Datensatz Radiator'!I$11*(998.2/$M$12)*($O$12/1)*$K17,IF($J17=11,'Datensatz Radiator'!I$12*(998.2/$M$12)*($O$12/1)*$K17,IF($J17=12,'Datensatz Radiator'!I$13*(998.2/$M$12)*($O$12/1)*$K17,IF($J17=13,'Datensatz Radiator'!I$14*(998.2/$M$12)*($O$12/1)*$K17,IF($J17=14,'Datensatz Radiator'!I$15*(998.2/$M$12)*($O$12/1)*$K17,IF($J17=15,'Datensatz Radiator'!I$16*(998.2/$M$12)*($O$12/1)*$K17,IF($J17=16,'Datensatz Radiator'!I$17*(998.2/$M$12)*($O$12/1)*$K17,IF($J17=17,'Datensatz Radiator'!I$18*(998.2/$M$12)*($O$12/1)*$K17,IF($J17=18,'Datensatz Radiator'!I$19*(998.2/$M$12)*($O$12/1)*$K17,IF($J17=19,'Datensatz Radiator'!I$20*(998.2/$M$12)*($O$12/1)*$K17,IF($J17=20,'Datensatz Radiator'!I$21*(998.2/$M$12)*($O$12/1)*$K17,IF($J17=21,'Datensatz Radiator'!I$22*(998.2/$M$12)*($O$12/1)*$K17,IF($J17=22,'Datensatz Radiator'!I$23*(998.2/$M$12)*($O$12/1)*$K17,IF($J17=23,'Datensatz Radiator'!I$24*(998.2/$M$12)*($O$12/1)*$K17,IF($J17=24,'Datensatz Radiator'!I$25*(998.2/$M$12)*($O$12/1)*$K17,IF($J17=25,'Datensatz Radiator'!I$26*(998.2/$M$12)*($O$12/1)*$K17,IF($J17=26,'Datensatz Radiator'!I$27*(998.2/$M$12)*($O$12/1)*$K17,IF($J17=27,'Datensatz Radiator'!I$28*(998.2/$M$12)*($O$12/1)*$K17,IF($J17=28,'Datensatz Radiator'!I$39*(998.2/$M$12)*($O$12/1)*$K17,IF($J17=29,'Datensatz Radiator'!I$30*(998.2/$M$12)*($O$12/1)*$K17,IF($J17=30,'Datensatz Radiator'!I$31*(998.2/$M$12)*($O$12/1)*$K17,IF($J17=31,'Datensatz Radiator'!I$32*(998.2/$M$12)*($O$12/1)*$K17,IF($J17=32,'Datensatz Radiator'!I$33*(998.2/$M$12)*($O$12/1)*$K17,IF($J17=33,'Datensatz Radiator'!I$34*(998.2/$M$12)*($O$12/1)*$K17,IF($J17=34,'Datensatz Radiator'!I$35*(998.2/$M$12)*($O$12/1)*$K17,IF($J17=35,'Datensatz Radiator'!I$36*(998.2/$M$12)*($O$12/1)*$K17,IF($J17=36,'Datensatz Radiator'!I$37*(998.2/$M$12)*($O$12/1)*$K17,'Datensatz Radiator'!I$38*(998.2/$M$12)*($O$12/1)*$K17)))))))))))))))))))))))))))))))))))) -> 819.08644 | S17: =IF($J17=1,'Datensatz Radiator'!J$2*(998.2/$M$12)*($O$12/1)*$K17,IF($J17=2,'Datensatz Radiator'!J$3*(998.2/$M$12)*($O$12/1)*$K17,IF($J17=3,'Datensatz Radiator'!J$4*(998.2/$M$12)*($O$12/1)*$K17,IF($J17=4,'Datensatz Radiator'!J$5*(998.2/$M$12)*($O$12/1)*$K17,IF($J17=5,'Datensatz Radiator'!J$6*(998.2/$M$12)*($O$12/1)*$K17,IF($J17=6,'Datensatz Radiator'!J$7*(998.2/$M$12)*($O$12/1)*$K17,IF($J17=7,'Datensatz Radiator'!J$8*(998.2/$M$12)*($O$12/1)*$K17,IF($J17=8,'Datensatz Radiator'!J$9*(998.2/$M$12)*($O$12/1)*$K17,IF($J17=9,'Datensatz Radiator'!J$10*(998.2/$M$12)*($O$12/1)*$K17,IF($J17=10,'Datensatz Radiator'!J$11*(998.2/$M$12)*($O$12/1)*$K17,IF($J17=11,'Datensatz Radiator'!J$12*(998.2/$M$12)*($O$12/1)*$K17,IF($J17=12,'Datensatz Radiator'!J$13*(998.2/$M$12)*($O$12/1)*$K17,IF($J17=13,'Datensatz Radiator'!J$14*(998.2/$M$12)*($O$12/1)*$K17,IF($J17=14,'Datensatz Radiator'!J$15*(998.2/$M$12)*($O$12/1)*$K17,IF($J17=15,'Datensatz Radiator'!J$16*(998.2/$M$12)*($O$12/1)*$K17,IF($J17=16,'Datensatz Radiator'!J$17*(998.2/$M$12)*($O$12/1)*$K17,IF($J17=17,'Datensatz Radiator'!J$18*(998.2/$M$12)*($O$12/1)*$K17,IF($J17=18,'Datensatz Radiator'!J$19*(998.2/$M$12)*($O$12/1)*$K17,IF($J17=19,'Datensatz Radiator'!J$20*(998.2/$M$12)*($O$12/1)*$K17,IF($J17=20,'Datensatz Radiator'!J$21*(998.2/$M$12)*($O$12/1)*$K17,IF($J17=21,'Datensatz Radiator'!J$22*(998.2/$M$12)*($O$12/1)*$K17,IF($J17=22,'Datensatz Radiator'!J$23*(998.2/$M$12)*($O$12/1)*$K17,IF($J17=23,'Datensatz Radiator'!J$24*(998.2/$M$12)*($O$12/1)*$K17,IF($J17=24,'Datensatz Radiator'!J$25*(998.2/$M$12)*($O$12/1)*$K17,IF($J17=25,'Datensatz Radiator'!J$26*(998.2/$M$12)*($O$12/1)*$K17,IF($J17=26,'Datensatz Radiator'!J$27*(998.2/$M$12)*($O$12/1)*$K17,IF($J17=27,'Datensatz Radiator'!J$28*(998.2/$M$12)*($O$12/1)*$K17,IF($J17=28,'Datensatz Radiator'!J$39*(998.2/$M$12)*($O$12/1)*$K17,IF($J17=29,'Datensatz Radiator'!J$30*(998.2/$M$12)*($O$12/1)*$K17,IF($J17=30,'Datensatz Radiator'!J$31*(998.2/$M$12)*($O$12/1)*$K17,IF($J17=31,'Datensatz Radiator'!J$32*(998.2/$M$12)*($O$12/1)*$K17,IF($J17=32,'Datensatz Radiator'!J$33*(998.2/$M$12)*($O$12/1)*$K17,IF($J17=33,'Datensatz Radiator'!J$34*(998.2/$M$12)*($O$12/1)*$K17,IF($J17=34,'Datensatz Radiator'!J$35*(998.2/$M$12)*($O$12/1)*$K17,IF($J17=35,'Datensatz Radiator'!J$36*(998.2/$M$12)*($O$12/1)*$K17,IF($J17=36,'Datensatz Radiator'!J$37*(998.2/$M$12)*($O$12/1)*$K17,'Datensatz Radiator'!J$38*(998.2/$M$12)*($O$12/1)*$K17)))))))))))))))))))))))))))))))))))) -> 1078.1909 | T17: =IF($J17=1,'Datensatz Radiator'!K$2*(998.2/$M$12)*($O$12/1)*$K17,IF($J17=2,'Datensatz Radiator'!K$3*(998.2/$M$12)*($O$12/1)*$K17,IF($J17=3,'Datensatz Radiator'!K$4*(998.2/$M$12)*($O$12/1)*$K17,IF($J17=4,'Datensatz Radiator'!K$5*(998.2/$M$12)*($O$12/1)*$K17,IF($J17=5,'Datensatz Radiator'!K$6*(998.2/$M$12)*($O$12/1)*$K17,IF($J17=6,'Datensatz Radiator'!K$7*(998.2/$M$12)*($O$12/1)*$K17,IF($J17=7,'Datensatz Radiator'!K$8*(998.2/$M$12)*($O$12/1)*$K17,IF($J17=8,'Datensatz Radiator'!K$9*(998.2/$M$12)*($O$12/1)*$K17,IF($J17=9,'Datensatz Radiator'!K$10*(998.2/$M$12)*($O$12/1)*$K17,IF($J17=10,'Datensatz Radiator'!K$11*(998.2/$M$12)*($O$12/1)*$K17,IF($J17=11,'Datensatz Radiator'!K$12*(998.2/$M$12)*($O$12/1)*$K17,IF($J17=12,'Datensatz Radiator'!K$13*(998.2/$M$12)*($O$12/1)*$K17,IF($J17=13,'Datensatz Radiator'!K$14*(998.2/$M$12)*($O$12/1)*$K17,IF($J17=14,'Datensatz Radiator'!K$15*(998.2/$M$12)*($O$12/1)*$K17,IF($J17=15,'Datensatz Radiator'!K$16*(998.2/$M$12)*($O$12/1)*$K17,IF($J17=16,'Datensatz Radiator'!K$17*(998.2/$M$12)*($O$12/1)*$K17,IF($J17=17,'Datensatz Radiator'!K$18*(998.2/$M$12)*($O$12/1)*$K17,IF($J17=18,'Datensatz Radiator'!K$19*(998.2/$M$12)*($O$12/1)*$K17,IF($J17=19,'Datensatz Radiator'!K$20*(998.2/$M$12)*($O$12/1)*$K17,IF($J17=20,'Datensatz Radiator'!K$21*(998.2/$M$12)*($O$12/1)*$K17,IF($J17=21,'Datensatz Radiator'!K$22*(998.2/$M$12)*($O$12/1)*$K17,IF($J17=22,'Datensatz Radiator'!K$23*(998.2/$M$12)*($O$12/1)*$K17,IF($J17=23,'Datensatz Radiator'!K$24*(998.2/$M$12)*($O$12/1)*$K17,IF($J17=24,'Datensatz Radiator'!K$25*(998.2/$M$12)*($O$12/1)*$K17,IF($J17=25,'Datensatz Radiator'!K$26*(998.2/$M$12)*($O$12/1)*$K17,IF($J17=26,'Datensatz Radiator'!K$27*(998.2/$M$12)*($O$12/1)*$K17,IF($J17=27,'Datensatz Radiator'!K$28*(998.2/$M$12)*($O$12/1)*$K17,IF($J17=28,'Datensatz Radiator'!K$39*(998.2/$M$12)*($O$12/1)*$K17,IF($J17=29,'Datensatz Radiator'!K$30*(998.2/$M$12)*($O$12/1)*$K17,IF($J17=30,'Datensatz Radiator'!K$31*(998.2/$M$12)*($O$12/1)*$K17,IF($J17=31,'Datensatz Radiator'!K$32*(998.2/$M$12)*($O$12/1)*$K17,IF($J17=32,'Datensatz Radiator'!K$33*(998.2/$M$12)*($O$12/1)*$K17,IF($J17=33,'Datensatz Radiator'!K$34*(998.2/$M$12)*($O$12/1)*$K17,IF($J17=34,'Datensatz Radiator'!K$35*(998.2/$M$12)*($O$12/1)*$K17,IF($J17=35,'Datensatz Radiator'!K$36*(998.2/$M$12)*($O$12/1)*$K17,IF($J17=36,'Datensatz Radiator'!K$37*(998.2/$M$12)*($O$12/1)*$K17,'Datensatz Radiator'!K$38*(998.2/$M$12)*($O$12/1)*$K17)))))))))))))))))))))))))))))))))))) -> 1370.6192 | ... Y17: =IF($J17=1,'Datensatz Radiator'!P$2*(998.2/$M$12)*($O$12/1)*$K17,IF($J17=2,'Datensatz Radiator'!P$3*(998.2/$M$12)*($O$12/1)*$K17,IF($J17=3,'Datensatz Radiator'!P$4*(998.2/$M$12)*($O$12/1)*$K17,IF($J17=4,'Datensatz Radiator'!P$5*(998.2/$M$12)*($O$12/1)*$K17,IF($J17=5,'Datensatz Radiator'!P$6*(998.2/$M$12)*($O$12/1)*$K17,IF($J17=6,'Datensatz Radiator'!P$7*(998.2/$M$12)*($O$12/1)*$K17,IF($J17=7,'Datensatz Radiator'!P$8*(998.2/$M$12)*($O$12/1)*$K17,IF($J17=8,'Datensatz Radiator'!P$9*(998.2/$M$12)*($O$12/1)*$K17,IF($J17=9,'Datensatz Radiator'!P$10*(998.2/$M$12)*($O$12/1)*$K17,IF($J17=10,'Datensatz Radiator'!P$11*(998.2/$M$12)*($O$12/1)*$K17,IF($J17=11,'Datensatz Radiator'!P$12*(998.2/$M$12)*($O$12/1)*$K17,IF($J17=12,'Datensatz Radiator'!P$13*(998.2/$M$12)*($O$12/1)*$K17,IF($J17=13,'Datensatz Radiator'!P$14*(998.2/$M$12)*($O$12/1)*$K17,IF($J17=14,'Datensatz Radiator'!P$15*(998.2/$M$12)*($O$12/1)*$K17,IF($J17=15,'Datensatz Radiator'!P$16*(998.2/$M$12)*($O$12/1)*$K17,IF($J17=16,'Datensatz Radiator'!P$17*(998.2/$M$12)*($O$12/1)*$K17,IF($J17=17,'Datensatz Radiator'!P$18*(998.2/$M$12)*($O$12/1)*$K17,IF($J17=18,'Datensatz Radiator'!P$19*(998.2/$M$12)*($O$12/1)*$K17,IF($J17=19,'Datensatz Radiator'!P$20*(998.2/$M$12)*($O$12/1)*$K17,IF($J17=20,'Datensatz Radiator'!P$21*(998.2/$M$12)*($O$12/1)*$K17,IF($J17=21,'Datensatz Radiator'!P$22*(998.2/$M$12)*($O$12/1)*$K17,IF($J17=22,'Datensatz Radiator'!P$23*(998.2/$M$12)*($O$12/1)*$K17,IF($J17=23,'Datensatz Radiator'!P$24*(998.2/$M$12)*($O$12/1)*$K17,IF($J17=24,'Datensatz Radiator'!P$25*(998.2/$M$12)*($O$12/1)*$K17,IF($J17=25,'Datensatz Radiator'!P$26*(998.2/$M$12)*($O$12/1)*$K17,IF($J17=26,'Datensatz Radiator'!P$27*(998.2/$M$12)*($O$12/1)*$K17,IF($J17=27,'Datensatz Radiator'!P$28*(998.2/$M$12)*($O$12/1)*$K17,IF($J17=28,'Datensatz Radiator'!P$39*(998.2/$M$12)*($O$12/1)*$K17,IF($J17=29,'Datensatz Radiator'!P$30*(998.2/$M$12)*($O$12/1)*$K17,IF($J17=30,'Datensatz Radiator'!P$31*(998.2/$M$12)*($O$12/1)*$K17,IF($J17=31,'Datensatz Radiator'!P$32*(998.2/$M$12)*($O$12/1)*$K17,IF($J17=32,'Datensatz Radiator'!P$33*(998.2/$M$12)*($O$12/1)*$K17,IF($J17=33,'Datensatz Radiator'!P$34*(998.2/$M$12)*($O$12/1)*$K17,IF($J17=34,'Datensatz Radiator'!P$35*(998.2/$M$12)*($O$12/1)*$K17,IF($J17=35,'Datensatz Radiator'!P$36*(998.2/$M$12)*($O$12/1)*$K17,IF($J17=36,'Datensatz Radiator'!P$37*(998.2/$M$12)*($O$12/1)*$K17,'Datensatz Radiator'!P$38*(998.2/$M$12)*($O$12/1)*$K17)))))))))))))))))))))))))))))))))))) -> 3332.6195
A18: L/h | B18: Pa | F18: L/h | G18: Pa | I18: 3 | J18: 1 | K18: 1 | L18: Pa | M18: =IF($J18=1,'Datensatz Radiator'!D$2*(998.2/$M$12)*($O$12/1)*$K18,IF($J18=2,'Datensatz Radiator'!D$3*(998.2/$M$12)*($O$12/1)*$K18,IF($J18=3,'Datensatz Radiator'!D$4*(998.2/$M$12)*($O$12/1)*$K18,IF($J18=4,'Datensatz Radiator'!D$5*(998.2/$M$12)*($O$12/1)*$K18,IF($J18=5,'Datensatz Radiator'!D$6*(998.2/$M$12)*($O$12/1)*$K18,IF($J18=6,'Datensatz Radiator'!D$7*(998.2/$M$12)*($O$12/1)*$K18,IF($J18=7,'Datensatz Radiator'!D$8*(998.2/$M$12)*($O$12/1)*$K18,IF($J18=8,'Datensatz Radiator'!D$9*(998.2/$M$12)*($O$12/1)*$K18,IF($J18=9,'Datensatz Radiator'!D$10*(998.2/$M$12)*($O$12/1)*$K18,IF($J18=10,'Datensatz Radiator'!D$11*(998.2/$M$12)*($O$12/1)*$K18,IF($J18=11,'Datensatz Radiator'!D$12*(998.2/$M$12)*($O$12/1)*$K18,IF($J18=12,'Datensatz Radiator'!D$13*(998.2/$M$12)*($O$12/1)*$K18,IF($J18=13,'Datensatz Radiator'!D$14*(998.2/$M$12)*($O$12/1)*$K18,IF($J18=14,'Datensatz Radiator'!D$15*(998.2/$M$12)*($O$12/1)*$K18,IF($J18=15,'Datensatz Radiator'!D$16*(998.2/$M$12)*($O$12/1)*$K18,IF($J18=16,'Datensatz Radiator'!D$17*(998.2/$M$12)*($O$12/1)*$K18,IF($J18=17,'Datensatz Radiator'!D$18*(998.2/$M$12)*($O$12/1)*$K18,IF($J18=18,'Datensatz Radiator'!D$19*(998.2/$M$12)*($O$12/1)*$K18,IF($J18=19,'Datensatz Radiator'!D$20*(998.2/$M$12)*($O$12/1)*$K18,IF($J18=20,'Datensatz Radiator'!D$21*(998.2/$M$12)*($O$12/1)*$K18,IF($J18=21,'Datensatz Radiator'!D$22*(998.2/$M$12)*($O$12/1)*$K18,IF($J18=22,'Datensatz Radiator'!D$23*(998.2/$M$12)*($O$12/1)*$K18,IF($J18=23,'Datensatz Radiator'!D$24*(998.2/$M$12)*($O$12/1)*$K18,IF($J18=24,'Datensatz Radiator'!D$25*(998.2/$M$12)*($O$12/1)*$K18,IF($J18=25,'Datensatz Radiator'!D$26*(998.2/$M$12)*($O$12/1)*$K18,IF($J18=26,'Datensatz Radiator'!D$27*(998.2/$M$12)*($O$12/1)*$K18,IF($J18=27,'Datensatz Radiator'!D$28*(998.2/$M$12)*($O$12/1)*$K18,IF($J18=28,'Datensatz Radiator'!D$39*(998.2/$M$12)*($O$12/1)*$K18,IF($J18=29,'Datensatz Radiator'!D$30*(998.2/$M$12)*($O$12/1)*$K18,IF($J18=30,'Datensatz Radiator'!D$31*(998.2/$M$12)*($O$12/1)*$K18,IF($J18=31,'Datensatz Radiator'!D$32*(998.2/$M$12)*($O$12/1)*$K18,IF($J18=32,'Datensatz Radiator'!D$33*(998.2/$M$12)*($O$12/1)*$K18,IF($J18=33,'Datensatz Radiator'!D$34*(998.2/$M$12)*($O$12/1)*$K18,IF($J18=34,'Datensatz Radiator'!D$35*(998.2/$M$12)*($O$12/1)*$K18,IF($J18=35,'Datensatz Radiator'!D$36*(998.2/$M$12)*($O$12/1)*$K18,IF($J18=36,'Datensatz Radiator'!D$37*(998.2/$M$12)*($O$12/1)*$K18,'Datensatz Radiator'!D$38*(998.2/$M$12)*($O$12/1)*$K18)))))))))))))))))))))))))))))))))))) -> 0 | N18: =IF($J18=1,'Datensatz Radiator'!E$2*(998.2/$M$12)*($O$12/1)*$K18,IF($J18=2,'Datensatz Radiator'!E$3*(998.2/$M$12)*($O$12/1)*$K18,IF($J18=3,'Datensatz Radiator'!E$4*(998.2/$M$12)*($O$12/1)*$K18,IF($J18=4,'Datensatz Radiator'!E$5*(998.2/$M$12)*($O$12/1)*$K18,IF($J18=5,'Datensatz Radiator'!E$6*(998.2/$M$12)*($O$12/1)*$K18,IF($J18=6,'Datensatz Radiator'!E$7*(998.2/$M$12)*($O$12/1)*$K18,IF($J18=7,'Datensatz Radiator'!E$8*(998.2/$M$12)*($O$12/1)*$K18,IF($J18=8,'Datensatz Radiator'!E$9*(998.2/$M$12)*($O$12/1)*$K18,IF($J18=9,'Datensatz Radiator'!E$10*(998.2/$M$12)*($O$12/1)*$K18,IF($J18=10,'Datensatz Radiator'!E$11*(998.2/$M$12)*($O$12/1)*$K18,IF($J18=11,'Datensatz Radiator'!E$12*(998.2/$M$12)*($O$12/1)*$K18,IF($J18=12,'Datensatz Radiator'!E$13*(998.2/$M$12)*($O$12/1)*$K18,IF($J18=13,'Datensatz Radiator'!E$14*(998.2/$M$12)*($O$12/1)*$K18,IF($J18=14,'Datensatz Radiator'!E$15*(998.2/$M$12)*($O$12/1)*$K18,IF($J18=15,'Datensatz Radiator'!E$16*(998.2/$M$12)*($O$12/1)*$K18,IF($J18=16,'Datensatz Radiator'!E$17*(998.2/$M$12)*($O$12/1)*$K18,IF($J18=17,'Datensatz Radiator'!E$18*(998.2/$M$12)*($O$12/1)*$K18,IF($J18=18,'Datensatz Radiator'!E$19*(998.2/$M$12)*($O$12/1)*$K18,IF($J18=19,'Datensatz Radiator'!E$20*(998.2/$M$12)*($O$12/1)*$K18,IF($J18=20,'Datensatz Radiator'!E$21*(998.2/$M$12)*($O$12/1)*$K18,IF($J18=21,'Datensatz Radiator'!E$22*(998.2/$M$12)*($O$12/1)*$K18,IF($J18=22,'Datensatz Radiator'!E$23*(998.2/$M$12)*($O$12/1)*$K18,IF($J18=23,'Datensatz Radiator'!E$24*(998.2/$M$12)*($O$12/1)*$K18,IF($J18=24,'Datensatz Radiator'!E$25*(998.2/$M$12)*($O$12/1)*$K18,IF($J18=25,'Datensatz Radiator'!E$26*(998.2/$M$12)*($O$12/1)*$K18,IF($J18=26,'Datensatz Radiator'!E$27*(998.2/$M$12)*($O$12/1)*$K18,IF($J18=27,'Datensatz Radiator'!E$28*(998.2/$M$12)*($O$12/1)*$K18,IF($J18=28,'Datensatz Radiator'!E$39*(998.2/$M$12)*($O$12/1)*$K18,IF($J18=29,'Datensatz Radiator'!E$30*(998.2/$M$12)*($O$12/1)*$K18,IF($J18=30,'Datensatz Radiator'!E$31*(998.2/$M$12)*($O$12/1)*$K18,IF($J18=31,'Datensatz Radiator'!E$32*(998.2/$M$12)*($O$12/1)*$K18,IF($J18=32,'Datensatz Radiator'!E$33*(998.2/$M$12)*($O$12/1)*$K18,IF($J18=33,'Datensatz Radiator'!E$34*(998.2/$M$12)*($O$12/1)*$K18,IF($J18=34,'Datensatz Radiator'!E$35*(998.2/$M$12)*($O$12/1)*$K18,IF($J18=35,'Datensatz Radiator'!E$36*(998.2/$M$12)*($O$12/1)*$K18,IF($J18=36,'Datensatz Radiator'!E$37*(998.2/$M$12)*($O$12/1)*$K18,'Datensatz Radiator'!E$38*(998.2/$M$12)*($O$12/1)*$K18)))))))))))))))))))))))))))))))))))) -> 115.90785 | O18: =IF($J18=1,'Datensatz Radiator'!F$2*(998.2/$M$12)*($O$12/1)*$K18,IF($J18=2,'Datensatz Radiator'!F$3*(998.2/$M$12)*($O$12/1)*$K18,IF($J18=3,'Datensatz Radiator'!F$4*(998.2/$M$12)*($O$12/1)*$K18,IF($J18=4,'Datensatz Radiator'!F$5*(998.2/$M$12)*($O$12/1)*$K18,IF($J18=5,'Datensatz Radiator'!F$6*(998.2/$M$12)*($O$12/1)*$K18,IF($J18=6,'Datensatz Radiator'!F$7*(998.2/$M$12)*($O$12/1)*$K18,IF($J18=7,'Datensatz Radiator'!F$8*(998.2/$M$12)*($O$12/1)*$K18,IF($J18=8,'Datensatz Radiator'!F$9*(998.2/$M$12)*($O$12/1)*$K18,IF($J18=9,'Datensatz Radiator'!F$10*(998.2/$M$12)*($O$12/1)*$K18,IF($J18=10,'Datensatz Radiator'!F$11*(998.2/$M$12)*($O$12/1)*$K18,IF($J18=11,'Datensatz Radiator'!F$12*(998.2/$M$12)*($O$12/1)*$K18,IF($J18=12,'Datensatz Radiator'!F$13*(998.2/$M$12)*($O$12/1)*$K18,IF($J18=13,'Datensatz Radiator'!F$14*(998.2/$M$12)*($O$12/1)*$K18,IF($J18=14,'Datensatz Radiator'!F$15*(998.2/$M$12)*($O$12/1)*$K18,IF($J18=15,'Datensatz Radiator'!F$16*(998.2/$M$12)*($O$12/1)*$K18,IF($J18=16,'Datensatz Radiator'!F$17*(998.2/$M$12)*($O$12/1)*$K18,IF($J18=17,'Datensatz Radiator'!F$18*(998.2/$M$12)*($O$12/1)*$K18,IF($J18=18,'Datensatz Radiator'!F$19*(998.2/$M$12)*($O$12/1)*$K18,IF($J18=19,'Datensatz Radiator'!F$20*(998.2/$M$12)*($O$12/1)*$K18,IF($J18=20,'Datensatz Radiator'!F$21*(998.2/$M$12)*($O$12/1)*$K18,IF($J18=21,'Datensatz Radiator'!F$22*(998.2/$M$12)*($O$12/1)*$K18,IF($J18=22,'Datensatz Radiator'!F$23*(998.2/$M$12)*($O$12/1)*$K18,IF($J18=23,'Datensatz Radiator'!F$24*(998.2/$M$12)*($O$12/1)*$K18,IF($J18=24,'Datensatz Radiator'!F$25*(998.2/$M$12)*($O$12/1)*$K18,IF($J18=25,'Datensatz Radiator'!F$26*(998.2/$M$12)*($O$12/1)*$K18,IF($J18=26,'Datensatz Radiator'!F$27*(998.2/$M$12)*($O$12/1)*$K18,IF($J18=27,'Datensatz Radiator'!F$28*(998.2/$M$12)*($O$12/1)*$K18,IF($J18=28,'Datensatz Radiator'!F$39*(998.2/$M$12)*($O$12/1)*$K18,IF($J18=29,'Datensatz Radiator'!F$30*(998.2/$M$12)*($O$12/1)*$K18,IF($J18=30,'Datensatz Radiator'!F$31*(998.2/$M$12)*($O$12/1)*$K18,IF($J18=31,'Datensatz Radiator'!F$32*(998.2/$M$12)*($O$12/1)*$K18,IF($J18=32,'Datensatz Radiator'!F$33*(998.2/$M$12)*($O$12/1)*$K18,IF($J18=33,'Datensatz Radiator'!F$34*(998.2/$M$12)*($O$12/1)*$K18,IF($J18=34,'Datensatz Radiator'!F$35*(998.2/$M$12)*($O$12/1)*$K18,IF($J18=35,'Datensatz Radiator'!F$36*(998.2/$M$12)*($O$12/1)*$K18,IF($J18=36,'Datensatz Radiator'!F$37*(998.2/$M$12)*($O$12/1)*$K18,'Datensatz Radiator'!F$38*(998.2/$M$12)*($O$12/1)*$K18)))))))))))))))))))))))))))))))))))) -> 241.71664 | P18: =IF($J18=1,'Datensatz Radiator'!G$2*(998.2/$M$12)*($O$12/1)*$K18,IF($J18=2,'Datensatz Radiator'!G$3*(998.2/$M$12)*($O$12/1)*$K18,IF($J18=3,'Datensatz Radiator'!G$4*(998.2/$M$12)*($O$12/1)*$K18,IF($J18=4,'Datensatz Radiator'!G$5*(998.2/$M$12)*($O$12/1)*$K18,IF($J18=5,'Datensatz Radiator'!G$6*(998.2/$M$12)*($O$12/1)*$K18,IF($J18=6,'Datensatz Radiator'!G$7*(998.2/$M$12)*($O$12/1)*$K18,IF($J18=7,'Datensatz Radiator'!G$8*(998.2/$M$12)*($O$12/1)*$K18,IF($J18=8,'Datensatz Radiator'!G$9*(998.2/$M$12)*($O$12/1)*$K18,IF($J18=9,'Datensatz Radiator'!G$10*(998.2/$M$12)*($O$12/1)*$K18,IF($J18=10,'Datensatz Radiator'!G$11*(998.2/$M$12)*($O$12/1)*$K18,IF($J18=11,'Datensatz Radiator'!G$12*(998.2/$M$12)*($O$12/1)*$K18,IF($J18=12,'Datensatz Radiator'!G$13*(998.2/$M$12)*($O$12/1)*$K18,IF($J18=13,'Datensatz Radiator'!G$14*(998.2/$M$12)*($O$12/1)*$K18,IF($J18=14,'Datensatz Radiator'!G$15*(998.2/$M$12)*($O$12/1)*$K18,IF($J18=15,'Datensatz Radiator'!G$16*(998.2/$M$12)*($O$12/1)*$K18,IF($J18=16,'Datensatz Radiator'!G$17*(998.2/$M$12)*($O$12/1)*$K18,IF($J18=17,'Datensatz Radiator'!G$18*(998.2/$M$12)*($O$12/1)*$K18,IF($J18=18,'Datensatz Radiator'!G$19*(998.2/$M$12)*($O$12/1)*$K18,IF($J18=19,'Datensatz Radiator'!G$20*(998.2/$M$12)*($O$12/1)*$K18,IF($J18=20,'Datensatz Radiator'!G$21*(998.2/$M$12)*($O$12/1)*$K18,IF($J18=21,'Datensatz Radiator'!G$22*(998.2/$M$12)*($O$12/1)*$K18,IF($J18=22,'Datensatz Radiator'!G$23*(998.2/$M$12)*($O$12/1)*$K18,IF($J18=23,'Datensatz Radiator'!G$24*(998.2/$M$12)*($O$12/1)*$K18,IF($J18=24,'Datensatz Radiator'!G$25*(998.2/$M$12)*($O$12/1)*$K18,IF($J18=25,'Datensatz Radiator'!G$26*(998.2/$M$12)*($O$12/1)*$K18,IF($J18=26,'Datensatz Radiator'!G$27*(998.2/$M$12)*($O$12/1)*$K18,IF($J18=27,'Datensatz Radiator'!G$28*(998.2/$M$12)*($O$12/1)*$K18,IF($J18=28,'Datensatz Radiator'!G$39*(998.2/$M$12)*($O$12/1)*$K18,IF($J18=29,'Datensatz Radiator'!G$30*(998.2/$M$12)*($O$12/1)*$K18,IF($J18=30,'Datensatz Radiator'!G$31*(998.2/$M$12)*($O$12/1)*$K18,IF($J18=31,'Datensatz Radiator'!G$32*(998.2/$M$12)*($O$12/1)*$K18,IF($J18=32,'Datensatz Radiator'!G$33*(998.2/$M$12)*($O$12/1)*$K18,IF($J18=33,'Datensatz Radiator'!G$34*(998.2/$M$12)*($O$12/1)*$K18,IF($J18=34,'Datensatz Radiator'!G$35*(998.2/$M$12)*($O$12/1)*$K18,IF($J18=35,'Datensatz Radiator'!G$36*(998.2/$M$12)*($O$12/1)*$K18,IF($J18=36,'Datensatz Radiator'!G$37*(998.2/$M$12)*($O$12/1)*$K18,'Datensatz Radiator'!G$38*(998.2/$M$12)*($O$12/1)*$K18)))))))))))))))))))))))))))))))))))) -> 400.84933 | Q18: =IF($J18=1,'Datensatz Radiator'!H$2*(998.2/$M$12)*($O$12/1)*$K18,IF($J18=2,'Datensatz Radiator'!H$3*(998.2/$M$12)*($O$12/1)*$K18,IF($J18=3,'Datensatz Radiator'!H$4*(998.2/$M$12)*($O$12/1)*$K18,IF($J18=4,'Datensatz Radiator'!H$5*(998.2/$M$12)*($O$12/1)*$K18,IF($J18=5,'Datensatz Radiator'!H$6*(998.2/$M$12)*($O$12/1)*$K18,IF($J18=6,'Datensatz Radiator'!H$7*(998.2/$M$12)*($O$12/1)*$K18,IF($J18=7,'Datensatz Radiator'!H$8*(998.2/$M$12)*($O$12/1)*$K18,IF($J18=8,'Datensatz Radiator'!H$9*(998.2/$M$12)*($O$12/1)*$K18,IF($J18=9,'Datensatz Radiator'!H$10*(998.2/$M$12)*($O$12/1)*$K18,IF($J18=10,'Datensatz Radiator'!H$11*(998.2/$M$12)*($O$12/1)*$K18,IF($J18=11,'Datensatz Radiator'!H$12*(998.2/$M$12)*($O$12/1)*$K18,IF($J18=12,'Datensatz Radiator'!H$13*(998.2/$M$12)*($O$12/1)*$K18,IF($J18=13,'Datensatz Radiator'!H$14*(998.2/$M$12)*($O$12/1)*$K18,IF($J18=14,'Datensatz Radiator'!H$15*(998.2/$M$12)*($O$12/1)*$K18,IF($J18=15,'Datensatz Radiator'!H$16*(998.2/$M$12)*($O$12/1)*$K18,IF($J18=16,'Datensatz Radiator'!H$17*(998.2/$M$12)*($O$12/1)*$K18,IF($J18=17,'Datensatz Radiator'!H$18*(998.2/$M$12)*($O$12/1)*$K18,IF($J18=18,'Datensatz Radiator'!H$19*(998.2/$M$12)*($O$12/1)*$K18,IF($J18=19,'Datensatz Radiator'!H$20*(998.2/$M$12)*($O$12/1)*$K18,IF($J18=20,'Datensatz Radiator'!H$21*(998.2/$M$12)*($O$12/1)*$K18,IF($J18=21,'Datensatz Radiator'!H$22*(998.2/$M$12)*($O$12/1)*$K18,IF($J18=22,'Datensatz Radiator'!H$23*(998.2/$M$12)*($O$12/1)*$K18,IF($J18=23,'Datensatz Radiator'!H$24*(998.2/$M$12)*($O$12/1)*$K18,IF($J18=24,'Datensatz Radiator'!H$25*(998.2/$M$12)*($O$12/1)*$K18,IF($J18=25,'Datensatz Radiator'!H$26*(998.2/$M$12)*($O$12/1)*$K18,IF($J18=26,'Datensatz Radiator'!H$27*(998.2/$M$12)*($O$12/1)*$K18,IF($J18=27,'Datensatz Radiator'!H$28*(998.2/$M$12)*($O$12/1)*$K18,IF($J18=28,'Datensatz Radiator'!H$39*(998.2/$M$12)*($O$12/1)*$K18,IF($J18=29,'Datensatz Radiator'!H$30*(998.2/$M$12)*($O$12/1)*$K18,IF($J18=30,'Datensatz Radiator'!H$31*(998.2/$M$12)*($O$12/1)*$K18,IF($J18=31,'Datensatz Radiator'!H$32*(998.2/$M$12)*($O$12/1)*$K18,IF($J18=32,'Datensatz Radiator'!H$33*(998.2/$M$12)*($O$12/1)*$K18,IF($J18=33,'Datensatz Radiator'!H$34*(998.2/$M$12)*($O$12/1)*$K18,IF($J18=34,'Datensatz Radiator'!H$35*(998.2/$M$12)*($O$12/1)*$K18,IF($J18=35,'Datensatz Radiator'!H$36*(998.2/$M$12)*($O$12/1)*$K18,IF($J18=36,'Datensatz Radiator'!H$37*(998.2/$M$12)*($O$12/1)*$K18,'Datensatz Radiator'!H$38*(998.2/$M$12)*($O$12/1)*$K18)))))))))))))))))))))))))))))))))))) -> 593.30593 | R18: =IF($J18=1,'Datensatz Radiator'!I$2*(998.2/$M$12)*($O$12/1)*$K18,IF($J18=2,'Datensatz Radiator'!I$3*(998.2/$M$12)*($O$12/1)*$K18,IF($J18=3,'Datensatz Radiator'!I$4*(998.2/$M$12)*($O$12/1)*$K18,IF($J18=4,'Datensatz Radiator'!I$5*(998.2/$M$12)*($O$12/1)*$K18,IF($J18=5,'Datensatz Radiator'!I$6*(998.2/$M$12)*($O$12/1)*$K18,IF($J18=6,'Datensatz Radiator'!I$7*(998.2/$M$12)*($O$12/1)*$K18,IF($J18=7,'Datensatz Radiator'!I$8*(998.2/$M$12)*($O$12/1)*$K18,IF($J18=8,'Datensatz Radiator'!I$9*(998.2/$M$12)*($O$12/1)*$K18,IF($J18=9,'Datensatz Radiator'!I$10*(998.2/$M$12)*($O$12/1)*$K18,IF($J18=10,'Datensatz Radiator'!I$11*(998.2/$M$12)*($O$12/1)*$K18,IF($J18=11,'Datensatz Radiator'!I$12*(998.2/$M$12)*($O$12/1)*$K18,IF($J18=12,'Datensatz Radiator'!I$13*(998.2/$M$12)*($O$12/1)*$K18,IF($J18=13,'Datensatz Radiator'!I$14*(998.2/$M$12)*($O$12/1)*$K18,IF($J18=14,'Datensatz Radiator'!I$15*(998.2/$M$12)*($O$12/1)*$K18,IF($J18=15,'Datensatz Radiator'!I$16*(998.2/$M$12)*($O$12/1)*$K18,IF($J18=16,'Datensatz Radiator'!I$17*(998.2/$M$12)*($O$12/1)*$K18,IF($J18=17,'Datensatz Radiator'!I$18*(998.2/$M$12)*($O$12/1)*$K18,IF($J18=18,'Datensatz Radiator'!I$19*(998.2/$M$12)*($O$12/1)*$K18,IF($J18=19,'Datensatz Radiator'!I$20*(998.2/$M$12)*($O$12/1)*$K18,IF($J18=20,'Datensatz Radiator'!I$21*(998.2/$M$12)*($O$12/1)*$K18,IF($J18=21,'Datensatz Radiator'!I$22*(998.2/$M$12)*($O$12/1)*$K18,IF($J18=22,'Datensatz Radiator'!I$23*(998.2/$M$12)*($O$12/1)*$K18,IF($J18=23,'Datensatz Radiator'!I$24*(998.2/$M$12)*($O$12/1)*$K18,IF($J18=24,'Datensatz Radiator'!I$25*(998.2/$M$12)*($O$12/1)*$K18,IF($J18=25,'Datensatz Radiator'!I$26*(998.2/$M$12)*($O$12/1)*$K18,IF($J18=26,'Datensatz Radiator'!I$27*(998.2/$M$12)*($O$12/1)*$K18,IF($J18=27,'Datensatz Radiator'!I$28*(998.2/$M$12)*($O$12/1)*$K18,IF($J18=28,'Datensatz Radiator'!I$39*(998.2/$M$12)*($O$12/1)*$K18,IF($J18=29,'Datensatz Radiator'!I$30*(998.2/$M$12)*($O$12/1)*$K18,IF($J18=30,'Datensatz Radiator'!I$31*(998.2/$M$12)*($O$12/1)*$K18,IF($J18=31,'Datensatz Radiator'!I$32*(998.2/$M$12)*($O$12/1)*$K18,IF($J18=32,'Datensatz Radiator'!I$33*(998.2/$M$12)*($O$12/1)*$K18,IF($J18=33,'Datensatz Radiator'!I$34*(998.2/$M$12)*($O$12/1)*$K18,IF($J18=34,'Datensatz Radiator'!I$35*(998.2/$M$12)*($O$12/1)*$K18,IF($J18=35,'Datensatz Radiator'!I$36*(998.2/$M$12)*($O$12/1)*$K18,IF($J18=36,'Datensatz Radiator'!I$37*(998.2/$M$12)*($O$12/1)*$K18,'Datensatz Radiator'!I$38*(998.2/$M$12)*($O$12/1)*$K18)))))))))))))))))))))))))))))))))))) -> 819.08644 | S18: =IF($J18=1,'Datensatz Radiator'!J$2*(998.2/$M$12)*($O$12/1)*$K18,IF($J18=2,'Datensatz Radiator'!J$3*(998.2/$M$12)*($O$12/1)*$K18,IF($J18=3,'Datensatz Radiator'!J$4*(998.2/$M$12)*($O$12/1)*$K18,IF($J18=4,'Datensatz Radiator'!J$5*(998.2/$M$12)*($O$12/1)*$K18,IF($J18=5,'Datensatz Radiator'!J$6*(998.2/$M$12)*($O$12/1)*$K18,IF($J18=6,'Datensatz Radiator'!J$7*(998.2/$M$12)*($O$12/1)*$K18,IF($J18=7,'Datensatz Radiator'!J$8*(998.2/$M$12)*($O$12/1)*$K18,IF($J18=8,'Datensatz Radiator'!J$9*(998.2/$M$12)*($O$12/1)*$K18,IF($J18=9,'Datensatz Radiator'!J$10*(998.2/$M$12)*($O$12/1)*$K18,IF($J18=10,'Datensatz Radiator'!J$11*(998.2/$M$12)*($O$12/1)*$K18,IF($J18=11,'Datensatz Radiator'!J$12*(998.2/$M$12)*($O$12/1)*$K18,IF($J18=12,'Datensatz Radiator'!J$13*(998.2/$M$12)*($O$12/1)*$K18,IF($J18=13,'Datensatz Radiator'!J$14*(998.2/$M$12)*($O$12/1)*$K18,IF($J18=14,'Datensatz Radiator'!J$15*(998.2/$M$12)*($O$12/1)*$K18,IF($J18=15,'Datensatz Radiator'!J$16*(998.2/$M$12)*($O$12/1)*$K18,IF($J18=16,'Datensatz Radiator'!J$17*(998.2/$M$12)*($O$12/1)*$K18,IF($J18=17,'Datensatz Radiator'!J$18*(998.2/$M$12)*($O$12/1)*$K18,IF($J18=18,'Datensatz Radiator'!J$19*(998.2/$M$12)*($O$12/1)*$K18,IF($J18=19,'Datensatz Radiator'!J$20*(998.2/$M$12)*($O$12/1)*$K18,IF($J18=20,'Datensatz Radiator'!J$21*(998.2/$M$12)*($O$12/1)*$K18,IF($J18=21,'Datensatz Radiator'!J$22*(998.2/$M$12)*($O$12/1)*$K18,IF($J18=22,'Datensatz Radiator'!J$23*(998.2/$M$12)*($O$12/1)*$K18,IF($J18=23,'Datensatz Radiator'!J$24*(998.2/$M$12)*($O$12/1)*$K18,IF($J18=24,'Datensatz Radiator'!J$25*(998.2/$M$12)*($O$12/1)*$K18,IF($J18=25,'Datensatz Radiator'!J$26*(998.2/$M$12)*($O$12/1)*$K18,IF($J18=26,'Datensatz Radiator'!J$27*(998.2/$M$12)*($O$12/1)*$K18,IF($J18=27,'Datensatz Radiator'!J$28*(998.2/$M$12)*($O$12/1)*$K18,IF($J18=28,'Datensatz Radiator'!J$39*(998.2/$M$12)*($O$12/1)*$K18,IF($J18=29,'Datensatz Radiator'!J$30*(998.2/$M$12)*($O$12/1)*$K18,IF($J18=30,'Datensatz Radiator'!J$31*(998.2/$M$12)*($O$12/1)*$K18,IF($J18=31,'Datensatz Radiator'!J$32*(998.2/$M$12)*($O$12/1)*$K18,IF($J18=32,'Datensatz Radiator'!J$33*(998.2/$M$12)*($O$12/1)*$K18,IF($J18=33,'Datensatz Radiator'!J$34*(998.2/$M$12)*($O$12/1)*$K18,IF($J18=34,'Datensatz Radiator'!J$35*(998.2/$M$12)*($O$12/1)*$K18,IF($J18=35,'Datensatz Radiator'!J$36*(998.2/$M$12)*($O$12/1)*$K18,IF($J18=36,'Datensatz Radiator'!J$37*(998.2/$M$12)*($O$12/1)*$K18,'Datensatz Radiator'!J$38*(998.2/$M$12)*($O$12/1)*$K18)))))))))))))))))))))))))))))))))))) -> 1078.1909 | T18: =IF($J18=1,'Datensatz Radiator'!K$2*(998.2/$M$12)*($O$12/1)*$K18,IF($J18=2,'Datensatz Radiator'!K$3*(998.2/$M$12)*($O$12/1)*$K18,IF($J18=3,'Datensatz Radiator'!K$4*(998.2/$M$12)*($O$12/1)*$K18,IF($J18=4,'Datensatz Radiator'!K$5*(998.2/$M$12)*($O$12/1)*$K18,IF($J18=5,'Datensatz Radiator'!K$6*(998.2/$M$12)*($O$12/1)*$K18,IF($J18=6,'Datensatz Radiator'!K$7*(998.2/$M$12)*($O$12/1)*$K18,IF($J18=7,'Datensatz Radiator'!K$8*(998.2/$M$12)*($O$12/1)*$K18,IF($J18=8,'Datensatz Radiator'!K$9*(998.2/$M$12)*($O$12/1)*$K18,IF($J18=9,'Datensatz Radiator'!K$10*(998.2/$M$12)*($O$12/1)*$K18,IF($J18=10,'Datensatz Radiator'!K$11*(998.2/$M$12)*($O$12/1)*$K18,IF($J18=11,'Datensatz Radiator'!K$12*(998.2/$M$12)*($O$12/1)*$K18,IF($J18=12,'Datensatz Radiator'!K$13*(998.2/$M$12)*($O$12/1)*$K18,IF($J18=13,'Datensatz Radiator'!K$14*(998.2/$M$12)*($O$12/1)*$K18,IF($J18=14,'Datensatz Radiator'!K$15*(998.2/$M$12)*($O$12/1)*$K18,IF($J18=15,'Datensatz Radiator'!K$16*(998.2/$M$12)*($O$12/1)*$K18,IF($J18=16,'Datensatz Radiator'!K$17*(998.2/$M$12)*($O$12/1)*$K18,IF($J18=17,'Datensatz Radiator'!K$18*(998.2/$M$12)*($O$12/1)*$K18,IF($J18=18,'Datensatz Radiator'!K$19*(998.2/$M$12)*($O$12/1)*$K18,IF($J18=19,'Datensatz Radiator'!K$20*(998.2/$M$12)*($O$12/1)*$K18,IF($J18=20,'Datensatz Radiator'!K$21*(998.2/$M$12)*($O$12/1)*$K18,IF($J18=21,'Datensatz Radiator'!K$22*(998.2/$M$12)*($O$12/1)*$K18,IF($J18=22,'Datensatz Radiator'!K$23*(998.2/$M$12)*($O$12/1)*$K18,IF($J18=23,'Datensatz Radiator'!K$24*(998.2/$M$12)*($O$12/1)*$K18,IF($J18=24,'Datensatz Radiator'!K$25*(998.2/$M$12)*($O$12/1)*$K18,IF($J18=25,'Datensatz Radiator'!K$26*(998.2/$M$12)*($O$12/1)*$K18,IF($J18=26,'Datensatz Radiator'!K$27*(998.2/$M$12)*($O$12/1)*$K18,IF($J18=27,'Datensatz Radiator'!K$28*(998.2/$M$12)*($O$12/1)*$K18,IF($J18=28,'Datensatz Radiator'!K$39*(998.2/$M$12)*($O$12/1)*$K18,IF($J18=29,'Datensatz Radiator'!K$30*(998.2/$M$12)*($O$12/1)*$K18,IF($J18=30,'Datensatz Radiator'!K$31*(998.2/$M$12)*($O$12/1)*$K18,IF($J18=31,'Datensatz Radiator'!K$32*(998.2/$M$12)*($O$12/1)*$K18,IF($J18=32,'Datensatz Radiator'!K$33*(998.2/$M$12)*($O$12/1)*$K18,IF($J18=33,'Datensatz Radiator'!K$34*(998.2/$M$12)*($O$12/1)*$K18,IF($J18=34,'Datensatz Radiator'!K$35*(998.2/$M$12)*($O$12/1)*$K18,IF($J18=35,'Datensatz Radiator'!K$36*(998.2/$M$12)*($O$12/1)*$K18,IF($J18=36,'Datensatz Radiator'!K$37*(998.2/$M$12)*($O$12/1)*$K18,'Datensatz Radiator'!K$38*(998.2/$M$12)*($O$12/1)*$K18)))))))))))))))))))))))))))))))))))) -> 1370.6192 | ... Y18: =IF($J18=1,'Datensatz Radiator'!P$2*(998.2/$M$12)*($O$12/1)*$K18,IF($J18=2,'Datensatz Radiator'!P$3*(998.2/$M$12)*($O$12/1)*$K18,IF($J18=3,'Datensatz Radiator'!P$4*(998.2/$M$12)*($O$12/1)*$K18,IF($J18=4,'Datensatz Radiator'!P$5*(998.2/$M$12)*($O$12/1)*$K18,IF($J18=5,'Datensatz Radiator'!P$6*(998.2/$M$12)*($O$12/1)*$K18,IF($J18=6,'Datensatz Radiator'!P$7*(998.2/$M$12)*($O$12/1)*$K18,IF($J18=7,'Datensatz Radiator'!P$8*(998.2/$M$12)*($O$12/1)*$K18,IF($J18=8,'Datensatz Radiator'!P$9*(998.2/$M$12)*($O$12/1)*$K18,IF($J18=9,'Datensatz Radiator'!P$10*(998.2/$M$12)*($O$12/1)*$K18,IF($J18=10,'Datensatz Radiator'!P$11*(998.2/$M$12)*($O$12/1)*$K18,IF($J18=11,'Datensatz Radiator'!P$12*(998.2/$M$12)*($O$12/1)*$K18,IF($J18=12,'Datensatz Radiator'!P$13*(998.2/$M$12)*($O$12/1)*$K18,IF($J18=13,'Datensatz Radiator'!P$14*(998.2/$M$12)*($O$12/1)*$K18,IF($J18=14,'Datensatz Radiator'!P$15*(998.2/$M$12)*($O$12/1)*$K18,IF($J18=15,'Datensatz Radiator'!P$16*(998.2/$M$12)*($O$12/1)*$K18,IF($J18=16,'Datensatz Radiator'!P$17*(998.2/$M$12)*($O$12/1)*$K18,IF($J18=17,'Datensatz Radiator'!P$18*(998.2/$M$12)*($O$12/1)*$K18,IF($J18=18,'Datensatz Radiator'!P$19*(998.2/$M$12)*($O$12/1)*$K18,IF($J18=19,'Datensatz Radiator'!P$20*(998.2/$M$12)*($O$12/1)*$K18,IF($J18=20,'Datensatz Radiator'!P$21*(998.2/$M$12)*($O$12/1)*$K18,IF($J18=21,'Datensatz Radiator'!P$22*(998.2/$M$12)*($O$12/1)*$K18,IF($J18=22,'Datensatz Radiator'!P$23*(998.2/$M$12)*($O$12/1)*$K18,IF($J18=23,'Datensatz Radiator'!P$24*(998.2/$M$12)*($O$12/1)*$K18,IF($J18=24,'Datensatz Radiator'!P$25*(998.2/$M$12)*($O$12/1)*$K18,IF($J18=25,'Datensatz Radiator'!P$26*(998.2/$M$12)*($O$12/1)*$K18,IF($J18=26,'Datensatz Radiator'!P$27*(998.2/$M$12)*($O$12/1)*$K18,IF($J18=27,'Datensatz Radiator'!P$28*(998.2/$M$12)*($O$12/1)*$K18,IF($J18=28,'Datensatz Radiator'!P$39*(998.2/$M$12)*($O$12/1)*$K18,IF($J18=29,'Datensatz Radiator'!P$30*(998.2/$M$12)*($O$12/1)*$K18,IF($J18=30,'Datensatz Radiator'!P$31*(998.2/$M$12)*($O$12/1)*$K18,IF($J18=31,'Datensatz Radiator'!P$32*(998.2/$M$12)*($O$12/1)*$K18,IF($J18=32,'Datensatz Radiator'!P$33*(998.2/$M$12)*($O$12/1)*$K18,IF($J18=33,'Datensatz Radiator'!P$34*(998.2/$M$12)*($O$12/1)*$K18,IF($J18=34,'Datensatz Radiator'!P$35*(998.2/$M$12)*($O$12/1)*$K18,IF($J18=35,'Datensatz Radiator'!P$36*(998.2/$M$12)*($O$12/1)*$K18,IF($J18=36,'Datensatz Radiator'!P$37*(998.2/$M$12)*($O$12/1)*$K18,'Datensatz Radiator'!P$38*(998.2/$M$12)*($O$12/1)*$K18)))))))))))))))))))))))))))))))))))) -> 3332.6195 | AQ18: L/h | AR18: m | AS18: Pa | AT18: m | AU18: Pa
A19: =AQ19*B$12*B$13 -> 0 | B19: =IF(B$10="DDC-1T+",AS19*B$11*B$13^2,AU19*B$11*B$13^2) -> 46009.933 | F19: =AQ19*G$12*G$13 -> 0 | G19: =IF(G$10="DDC-1T+",AS19*G$11*G$13^2,AU19*G$11*G$13^2) -> 36220.585 | I19: 4 | J19: 1 | K19: 1 | L19: Pa | M19: =IF($J19=1,'Datensatz Radiator'!D$2*(998.2/$M$12)*($O$12/1)*$K19,IF($J19=2,'Datensatz Radiator'!D$3*(998.2/$M$12)*($O$12/1)*$K19,IF($J19=3,'Datensatz Radiator'!D$4*(998.2/$M$12)*($O$12/1)*$K19,IF($J19=4,'Datensatz Radiator'!D$5*(998.2/$M$12)*($O$12/1)*$K19,IF($J19=5,'Datensatz Radiator'!D$6*(998.2/$M$12)*($O$12/1)*$K19,IF($J19=6,'Datensatz Radiator'!D$7*(998.2/$M$12)*($O$12/1)*$K19,IF($J19=7,'Datensatz Radiator'!D$8*(998.2/$M$12)*($O$12/1)*$K19,IF($J19=8,'Datensatz Radiator'!D$9*(998.2/$M$12)*($O$12/1)*$K19,IF($J19=9,'Datensatz Radiator'!D$10*(998.2/$M$12)*($O$12/1)*$K19,IF($J19=10,'Datensatz Radiator'!D$11*(998.2/$M$12)*($O$12/1)*$K19,IF($J19=11,'Datensatz Radiator'!D$12*(998.2/$M$12)*($O$12/1)*$K19,IF($J19=12,'Datensatz Radiator'!D$13*(998.2/$M$12)*($O$12/1)*$K19,IF($J19=13,'Datensatz Radiator'!D$14*(998.2/$M$12)*($O$12/1)*$K19,IF($J19=14,'Datensatz Radiator'!D$15*(998.2/$M$12)*($O$12/1)*$K19,IF($J19=15,'Datensatz Radiator'!D$16*(998.2/$M$12)*($O$12/1)*$K19,IF($J19=16,'Datensatz Radiator'!D$17*(998.2/$M$12)*($O$12/1)*$K19,IF($J19=17,'Datensatz Radiator'!D$18*(998.2/$M$12)*($O$12/1)*$K19,IF($J19=18,'Datensatz Radiator'!D$19*(998.2/$M$12)*($O$12/1)*$K19,IF($J19=19,'Datensatz Radiator'!D$20*(998.2/$M$12)*($O$12/1)*$K19,IF($J19=20,'Datensatz Radiator'!D$21*(998.2/$M$12)*($O$12/1)*$K19,IF($J19=21,'Datensatz Radiator'!D$22*(998.2/$M$12)*($O$12/1)*$K19,IF($J19=22,'Datensatz Radiator'!D$23*(998.2/$M$12)*($O$12/1)*$K19,IF($J19=23,'Datensatz Radiator'!D$24*(998.2/$M$12)*($O$12/1)*$K19,IF($J19=24,'Datensatz Radiator'!D$25*(998.2/$M$12)*($O$12/1)*$K19,IF($J19=25,'Datensatz Radiator'!D$26*(998.2/$M$12)*($O$12/1)*$K19,IF($J19=26,'Datensatz Radiator'!D$27*(998.2/$M$12)*($O$12/1)*$K19,IF($J19=27,'Datensatz Radiator'!D$28*(998.2/$M$12)*($O$12/1)*$K19,IF($J19=28,'Datensatz Radiator'!D$39*(998.2/$M$12)*($O$12/1)*$K19,IF($J19=29,'Datensatz Radiator'!D$30*(998.2/$M$12)*($O$12/1)*$K19,IF($J19=30,'Datensatz Radiator'!D$31*(998.2/$M$12)*($O$12/1)*$K19,IF($J19=31,'Datensatz Radiator'!D$32*(998.2/$M$12)*($O$12/1)*$K19,IF($J19=32,'Datensatz Radiator'!D$33*(998.2/$M$12)*($O$12/1)*$K19,IF($J19=33,'Datensatz Radiator'!D$34*(998.2/$M$12)*($O$12/1)*$K19,IF($J19=34,'Datensatz Radiator'!D$35*(998.2/$M$12)*($O$12/1)*$K19,IF($J19=35,'Datensatz Radiator'!D$36*(998.2/$M$12)*($O$12/1)*$K19,IF($J19=36,'Datensatz Radiator'!D$37*(998.2/$M$12)*($O$12/1)*$K19,'Datensatz Radiator'!D$38*(998.2/$M$12)*($O$12/1)*$K19)))))))))))))))))))))))))))))))))))) -> 0 | N19: =IF($J19=1,'Datensatz Radiator'!E$2*(998.2/$M$12)*($O$12/1)*$K19,IF($J19=2,'Datensatz Radiator'!E$3*(998.2/$M$12)*($O$12/1)*$K19,IF($J19=3,'Datensatz Radiator'!E$4*(998.2/$M$12)*($O$12/1)*$K19,IF($J19=4,'Datensatz Radiator'!E$5*(998.2/$M$12)*($O$12/1)*$K19,IF($J19=5,'Datensatz Radiator'!E$6*(998.2/$M$12)*($O$12/1)*$K19,IF($J19=6,'Datensatz Radiator'!E$7*(998.2/$M$12)*($O$12/1)*$K19,IF($J19=7,'Datensatz Radiator'!E$8*(998.2/$M$12)*($O$12/1)*$K19,IF($J19=8,'Datensatz Radiator'!E$9*(998.2/$M$12)*($O$12/1)*$K19,IF($J19=9,'Datensatz Radiator'!E$10*(998.2/$M$12)*($O$12/1)*$K19,IF($J19=10,'Datensatz Radiator'!E$11*(998.2/$M$12)*($O$12/1)*$K19,IF($J19=11,'Datensatz Radiator'!E$12*(998.2/$M$12)*($O$12/1)*$K19,IF($J19=12,'Datensatz Radiator'!E$13*(998.2/$M$12)*($O$12/1)*$K19,IF($J19=13,'Datensatz Radiator'!E$14*(998.2/$M$12)*($O$12/1)*$K19,IF($J19=14,'Datensatz Radiator'!E$15*(998.2/$M$12)*($O$12/1)*$K19,IF($J19=15,'Datensatz Radiator'!E$16*(998.2/$M$12)*($O$12/1)*$K19,IF($J19=16,'Datensatz Radiator'!E$17*(998.2/$M$12)*($O$12/1)*$K19,IF($J19=17,'Datensatz Radiator'!E$18*(998.2/$M$12)*($O$12/1)*$K19,IF($J19=18,'Datensatz Radiator'!E$19*(998.2/$M$12)*($O$12/1)*$K19,IF($J19=19,'Datensatz Radiator'!E$20*(998.2/$M$12)*($O$12/1)*$K19,IF($J19=20,'Datensatz Radiator'!E$21*(998.2/$M$12)*($O$12/1)*$K19,IF($J19=21,'Datensatz Radiator'!E$22*(998.2/$M$12)*($O$12/1)*$K19,IF($J19=22,'Datensatz Radiator'!E$23*(998.2/$M$12)*($O$12/1)*$K19,IF($J19=23,'Datensatz Radiator'!E$24*(998.2/$M$12)*($O$12/1)*$K19,IF($J19=24,'Datensatz Radiator'!E$25*(998.2/$M$12)*($O$12/1)*$K19,IF($J19=25,'Datensatz Radiator'!E$26*(998.2/$M$12)*($O$12/1)*$K19,IF($J19=26,'Datensatz Radiator'!E$27*(998.2/$M$12)*($O$12/1)*$K19,IF($J19=27,'Datensatz Radiator'!E$28*(998.2/$M$12)*($O$12/1)*$K19,IF($J19=28,'Datensatz Radiator'!E$39*(998.2/$M$12)*($O$12/1)*$K19,IF($J19=29,'Datensatz Radiator'!E$30*(998.2/$M$12)*($O$12/1)*$K19,IF($J19=30,'Datensatz Radiator'!E$31*(998.2/$M$12)*($O$12/1)*$K19,IF($J19=31,'Datensatz Radiator'!E$32*(998.2/$M$12)*($O$12/1)*$K19,IF($J19=32,'Datensatz Radiator'!E$33*(998.2/$M$12)*($O$12/1)*$K19,IF($J19=33,'Datensatz Radiator'!E$34*(998.2/$M$12)*($O$12/1)*$K19,IF($J19=34,'Datensatz Radiator'!E$35*(998.2/$M$12)*($O$12/1)*$K19,IF($J19=35,'Datensatz Radiator'!E$36*(998.2/$M$12)*($O$12/1)*$K19,IF($J19=36,'Datensatz Radiator'!E$37*(998.2/$M$12)*($O$12/1)*$K19,'Datensatz Radiator'!E$38*(998.2/$M$12)*($O$12/1)*$K19)))))))))))))))))))))))))))))))))))) -> 115.90785 | O19: =IF($J19=1,'Datensatz Radiator'!F$2*(998.2/$M$12)*($O$12/1)*$K19,IF($J19=2,'Datensatz Radiator'!F$3*(998.2/$M$12)*($O$12/1)*$K19,IF($J19=3,'Datensatz Radiator'!F$4*(998.2/$M$12)*($O$12/1)*$K19,IF($J19=4,'Datensatz Radiator'!F$5*(998.2/$M$12)*($O$12/1)*$K19,IF($J19=5,'Datensatz Radiator'!F$6*(998.2/$M$12)*($O$12/1)*$K19,IF($J19=6,'Datensatz Radiator'!F$7*(998.2/$M$12)*($O$12/1)*$K19,IF($J19=7,'Datensatz Radiator'!F$8*(998.2/$M$12)*($O$12/1)*$K19,IF($J19=8,'Datensatz Radiator'!F$9*(998.2/$M$12)*($O$12/1)*$K19,IF($J19=9,'Datensatz Radiator'!F$10*(998.2/$M$12)*($O$12/1)*$K19,IF($J19=10,'Datensatz Radiator'!F$11*(998.2/$M$12)*($O$12/1)*$K19,IF($J19=11,'Datensatz Radiator'!F$12*(998.2/$M$12)*($O$12/1)*$K19,IF($J19=12,'Datensatz Radiator'!F$13*(998.2/$M$12)*($O$12/1)*$K19,IF($J19=13,'Datensatz Radiator'!F$14*(998.2/$M$12)*($O$12/1)*$K19,IF($J19=14,'Datensatz Radiator'!F$15*(998.2/$M$12)*($O$12/1)*$K19,IF($J19=15,'Datensatz Radiator'!F$16*(998.2/$M$12)*($O$12/1)*$K19,IF($J19=16,'Datensatz Radiator'!F$17*(998.2/$M$12)*($O$12/1)*$K19,IF($J19=17,'Datensatz Radiator'!F$18*(998.2/$M$12)*($O$12/1)*$K19,IF($J19=18,'Datensatz Radiator'!F$19*(998.2/$M$12)*($O$12/1)*$K19,IF($J19=19,'Datensatz Radiator'!F$20*(998.2/$M$12)*($O$12/1)*$K19,IF($J19=20,'Datensatz Radiator'!F$21*(998.2/$M$12)*($O$12/1)*$K19,IF($J19=21,'Datensatz Radiator'!F$22*(998.2/$M$12)*($O$12/1)*$K19,IF($J19=22,'Datensatz Radiator'!F$23*(998.2/$M$12)*($O$12/1)*$K19,IF($J19=23,'Datensatz Radiator'!F$24*(998.2/$M$12)*($O$12/1)*$K19,IF($J19=24,'Datensatz Radiator'!F$25*(998.2/$M$12)*($O$12/1)*$K19,IF($J19=25,'Datensatz Radiator'!F$26*(998.2/$M$12)*($O$12/1)*$K19,IF($J19=26,'Datensatz Radiator'!F$27*(998.2/$M$12)*($O$12/1)*$K19,IF($J19=27,'Datensatz Radiator'!F$28*(998.2/$M$12)*($O$12/1)*$K19,IF($J19=28,'Datensatz Radiator'!F$39*(998.2/$M$12)*($O$12/1)*$K19,IF($J19=29,'Datensatz Radiator'!F$30*(998.2/$M$12)*($O$12/1)*$K19,IF($J19=30,'Datensatz Radiator'!F$31*(998.2/$M$12)*($O$12/1)*$K19,IF($J19=31,'Datensatz Radiator'!F$32*(998.2/$M$12)*($O$12/1)*$K19,IF($J19=32,'Datensatz Radiator'!F$33*(998.2/$M$12)*($O$12/1)*$K19,IF($J19=33,'Datensatz Radiator'!F$34*(998.2/$M$12)*($O$12/1)*$K19,IF($J19=34,'Datensatz Radiator'!F$35*(998.2/$M$12)*($O$12/1)*$K19,IF($J19=35,'Datensatz Radiator'!F$36*(998.2/$M$12)*($O$12/1)*$K19,IF($J19=36,'Datensatz Radiator'!F$37*(998.2/$M$12)*($O$12/1)*$K19,'Datensatz Radiator'!F$38*(998.2/$M$12)*($O$12/1)*$K19)))))))))))))))))))))))))))))))))))) -> 241.71664 | P19: =IF($J19=1,'Datensatz Radiator'!G$2*(998.2/$M$12)*($O$12/1)*$K19,IF($J19=2,'Datensatz Radiator'!G$3*(998.2/$M$12)*($O$12/1)*$K19,IF($J19=3,'Datensatz Radiator'!G$4*(998.2/$M$12)*($O$12/1)*$K19,IF($J19=4,'Datensatz Radiator'!G$5*(998.2/$M$12)*($O$12/1)*$K19,IF($J19=5,'Datensatz Radiator'!G$6*(998.2/$M$12)*($O$12/1)*$K19,IF($J19=6,'Datensatz Radiator'!G$7*(998.2/$M$12)*($O$12/1)*$K19,IF($J19=7,'Datensatz Radiator'!G$8*(998.2/$M$12)*($O$12/1)*$K19,IF($J19=8,'Datensatz Radiator'!G$9*(998.2/$M$12)*($O$12/1)*$K19,IF($J19=9,'Datensatz Radiator'!G$10*(998.2/$M$12)*($O$12/1)*$K19,IF($J19=10,'Datensatz Radiator'!G$11*(998.2/$M$12)*($O$12/1)*$K19,IF($J19=11,'Datensatz Radiator'!G$12*(998.2/$M$12)*($O$12/1)*$K19,IF($J19=12,'Datensatz Radiator'!G$13*(998.2/$M$12)*($O$12/1)*$K19,IF($J19=13,'Datensatz Radiator'!G$14*(998.2/$M$12)*($O$12/1)*$K19,IF($J19=14,'Datensatz Radiator'!G$15*(998.2/$M$12)*($O$12/1)*$K19,IF($J19=15,'Datensatz Radiator'!G$16*(998.2/$M$12)*($O$12/1)*$K19,IF($J19=16,'Datensatz Radiator'!G$17*(998.2/$M$12)*($O$12/1)*$K19,IF($J19=17,'Datensatz Radiator'!G$18*(998.2/$M$12)*($O$12/1)*$K19,IF($J19=18,'Datensatz Radiator'!G$19*(998.2/$M$12)*($O$12/1)*$K19,IF($J19=19,'Datensatz Radiator'!G$20*(998.2/$M$12)*($O$12/1)*$K19,IF($J19=20,'Datensatz Radiator'!G$21*(998.2/$M$12)*($O$12/1)*$K19,IF($J19=21,'Datensatz Radiator'!G$22*(998.2/$M$12)*($O$12/1)*$K19,IF($J19=22,'Datensatz Radiator'!G$23*(998.2/$M$12)*($O$12/1)*$K19,IF($J19=23,'Datensatz Radiator'!G$24*(998.2/$M$12)*($O$12/1)*$K19,IF($J19=24,'Datensatz Radiator'!G$25*(998.2/$M$12)*($O$12/1)*$K19,IF($J19=25,'Datensatz Radiator'!G$26*(998.2/$M$12)*($O$12/1)*$K19,IF($J19=26,'Datensatz Radiator'!G$27*(998.2/$M$12)*($O$12/1)*$K19,IF($J19=27,'Datensatz Radiator'!G$28*(998.2/$M$12)*($O$12/1)*$K19,IF($J19=28,'Datensatz Radiator'!G$39*(998.2/$M$12)*($O$12/1)*$K19,IF($J19=29,'Datensatz Radiator'!G$30*(998.2/$M$12)*($O$12/1)*$K19,IF($J19=30,'Datensatz Radiator'!G$31*(998.2/$M$12)*($O$12/1)*$K19,IF($J19=31,'Datensatz Radiator'!G$32*(998.2/$M$12)*($O$12/1)*$K19,IF($J19=32,'Datensatz Radiator'!G$33*(998.2/$M$12)*($O$12/1)*$K19,IF($J19=33,'Datensatz Radiator'!G$34*(998.2/$M$12)*($O$12/1)*$K19,IF($J19=34,'Datensatz Radiator'!G$35*(998.2/$M$12)*($O$12/1)*$K19,IF($J19=35,'Datensatz Radiator'!G$36*(998.2/$M$12)*($O$12/1)*$K19,IF($J19=36,'Datensatz Radiator'!G$37*(998.2/$M$12)*($O$12/1)*$K19,'Datensatz Radiator'!G$38*(998.2/$M$12)*($O$12/1)*$K19)))))))))))))))))))))))))))))))))))) -> 400.84933 | Q19: =IF($J19=1,'Datensatz Radiator'!H$2*(998.2/$M$12)*($O$12/1)*$K19,IF($J19=2,'Datensatz Radiator'!H$3*(998.2/$M$12)*($O$12/1)*$K19,IF($J19=3,'Datensatz Radiator'!H$4*(998.2/$M$12)*($O$12/1)*$K19,IF($J19=4,'Datensatz Radiator'!H$5*(998.2/$M$12)*($O$12/1)*$K19,IF($J19=5,'Datensatz Radiator'!H$6*(998.2/$M$12)*($O$12/1)*$K19,IF($J19=6,'Datensatz Radiator'!H$7*(998.2/$M$12)*($O$12/1)*$K19,IF($J19=7,'Datensatz Radiator'!H$8*(998.2/$M$12)*($O$12/1)*$K19,IF($J19=8,'Datensatz Radiator'!H$9*(998.2/$M$12)*($O$12/1)*$K19,IF($J19=9,'Datensatz Radiator'!H$10*(998.2/$M$12)*($O$12/1)*$K19,IF($J19=10,'Datensatz Radiator'!H$11*(998.2/$M$12)*($O$12/1)*$K19,IF($J19=11,'Datensatz Radiator'!H$12*(998.2/$M$12)*($O$12/1)*$K19,IF($J19=12,'Datensatz Radiator'!H$13*(998.2/$M$12)*($O$12/1)*$K19,IF($J19=13,'Datensatz Radiator'!H$14*(998.2/$M$12)*($O$12/1)*$K19,IF($J19=14,'Datensatz Radiator'!H$15*(998.2/$M$12)*($O$12/1)*$K19,IF($J19=15,'Datensatz Radiator'!H$16*(998.2/$M$12)*($O$12/1)*$K19,IF($J19=16,'Datensatz Radiator'!H$17*(998.2/$M$12)*($O$12/1)*$K19,IF($J19=17,'Datensatz Radiator'!H$18*(998.2/$M$12)*($O$12/1)*$K19,IF($J19=18,'Datensatz Radiator'!H$19*(998.2/$M$12)*($O$12/1)*$K19,IF($J19=19,'Datensatz Radiator'!H$20*(998.2/$M$12)*($O$12/1)*$K19,IF($J19=20,'Datensatz Radiator'!H$21*(998.2/$M$12)*($O$12/1)*$K19,IF($J19=21,'Datensatz Radiator'!H$22*(998.2/$M$12)*($O$12/1)*$K19,IF($J19=22,'Datensatz Radiator'!H$23*(998.2/$M$12)*($O$12/1)*$K19,IF($J19=23,'Datensatz Radiator'!H$24*(998.2/$M$12)*($O$12/1)*$K19,IF($J19=24,'Datensatz Radiator'!H$25*(998.2/$M$12)*($O$12/1)*$K19,IF($J19=25,'Datensatz Radiator'!H$26*(998.2/$M$12)*($O$12/1)*$K19,IF($J19=26,'Datensatz Radiator'!H$27*(998.2/$M$12)*($O$12/1)*$K19,IF($J19=27,'Datensatz Radiator'!H$28*(998.2/$M$12)*($O$12/1)*$K19,IF($J19=28,'Datensatz Radiator'!H$39*(998.2/$M$12)*($O$12/1)*$K19,IF($J19=29,'Datensatz Radiator'!H$30*(998.2/$M$12)*($O$12/1)*$K19,IF($J19=30,'Datensatz Radiator'!H$31*(998.2/$M$12)*($O$12/1)*$K19,IF($J19=31,'Datensatz Radiator'!H$32*(998.2/$M$12)*($O$12/1)*$K19,IF($J19=32,'Datensatz Radiator'!H$33*(998.2/$M$12)*($O$12/1)*$K19,IF($J19=33,'Datensatz Radiator'!H$34*(998.2/$M$12)*($O$12/1)*$K19,IF($J19=34,'Datensatz Radiator'!H$35*(998.2/$M$12)*($O$12/1)*$K19,IF($J19=35,'Datensatz Radiator'!H$36*(998.2/$M$12)*($O$12/1)*$K19,IF($J19=36,'Datensatz Radiator'!H$37*(998.2/$M$12)*($O$12/1)*$K19,'Datensatz Radiator'!H$38*(998.2/$M$12)*($O$12/1)*$K19)))))))))))))))))))))))))))))))))))) -> 593.30593 | R19: =IF($J19=1,'Datensatz Radiator'!I$2*(998.2/$M$12)*($O$12/1)*$K19,IF($J19=2,'Datensatz Radiator'!I$3*(998.2/$M$12)*($O$12/1)*$K19,IF($J19=3,'Datensatz Radiator'!I$4*(998.2/$M$12)*($O$12/1)*$K19,IF($J19=4,'Datensatz Radiator'!I$5*(998.2/$M$12)*($O$12/1)*$K19,IF($J19=5,'Datensatz Radiator'!I$6*(998.2/$M$12)*($O$12/1)*$K19,IF($J19=6,'Datensatz Radiator'!I$7*(998.2/$M$12)*($O$12/1)*$K19,IF($J19=7,'Datensatz Radiator'!I$8*(998.2/$M$12)*($O$12/1)*$K19,IF($J19=8,'Datensatz Radiator'!I$9*(998.2/$M$12)*($O$12/1)*$K19,IF($J19=9,'Datensatz Radiator'!I$10*(998.2/$M$12)*($O$12/1)*$K19,IF($J19=10,'Datensatz Radiator'!I$11*(998.2/$M$12)*($O$12/1)*$K19,IF($J19=11,'Datensatz Radiator'!I$12*(998.2/$M$12)*($O$12/1)*$K19,IF($J19=12,'Datensatz Radiator'!I$13*(998.2/$M$12)*($O$12/1)*$K19,IF($J19=13,'Datensatz Radiator'!I$14*(998.2/$M$12)*($O$12/1)*$K19,IF($J19=14,'Datensatz Radiator'!I$15*(998.2/$M$12)*($O$12/1)*$K19,IF($J19=15,'Datensatz Radiator'!I$16*(998.2/$M$12)*($O$12/1)*$K19,IF($J19=16,'Datensatz Radiator'!I$17*(998.2/$M$12)*($O$12/1)*$K19,IF($J19=17,'Datensatz Radiator'!I$18*(998.2/$M$12)*($O$12/1)*$K19,IF($J19=18,'Datensatz Radiator'!I$19*(998.2/$M$12)*($O$12/1)*$K19,IF($J19=19,'Datensatz Radiator'!I$20*(998.2/$M$12)*($O$12/1)*$K19,IF($J19=20,'Datensatz Radiator'!I$21*(998.2/$M$12)*($O$12/1)*$K19,IF($J19=21,'Datensatz Radiator'!I$22*(998.2/$M$12)*($O$12/1)*$K19,IF($J19=22,'Datensatz Radiator'!I$23*(998.2/$M$12)*($O$12/1)*$K19,IF($J19=23,'Datensatz Radiator'!I$24*(998.2/$M$12)*($O$12/1)*$K19,IF($J19=24,'Datensatz Radiator'!I$25*(998.2/$M$12)*($O$12/1)*$K19,IF($J19=25,'Datensatz Radiator'!I$26*(998.2/$M$12)*($O$12/1)*$K19,IF($J19=26,'Datensatz Radiator'!I$27*(998.2/$M$12)*($O$12/1)*$K19,IF($J19=27,'Datensatz Radiator'!I$28*(998.2/$M$12)*($O$12/1)*$K19,IF($J19=28,'Datensatz Radiator'!I$39*(998.2/$M$12)*($O$12/1)*$K19,IF($J19=29,'Datensatz Radiator'!I$30*(998.2/$M$12)*($O$12/1)*$K19,IF($J19=30,'Datensatz Radiator'!I$31*(998.2/$M$12)*($O$12/1)*$K19,IF($J19=31,'Datensatz Radiator'!I$32*(998.2/$M$12)*($O$12/1)*$K19,IF($J19=32,'Datensatz Radiator'!I$33*(998.2/$M$12)*($O$12/1)*$K19,IF($J19=33,'Datensatz Radiator'!I$34*(998.2/$M$12)*($O$12/1)*$K19,IF($J19=34,'Datensatz Radiator'!I$35*(998.2/$M$12)*($O$12/1)*$K19,IF($J19=35,'Datensatz Radiator'!I$36*(998.2/$M$12)*($O$12/1)*$K19,IF($J19=36,'Datensatz Radiator'!I$37*(998.2/$M$12)*($O$12/1)*$K19,'Datensatz Radiator'!I$38*(998.2/$M$12)*($O$12/1)*$K19)))))))))))))))))))))))))))))))))))) -> 819.08644 | S19: =IF($J19=1,'Datensatz Radiator'!J$2*(998.2/$M$12)*($O$12/1)*$K19,IF($J19=2,'Datensatz Radiator'!J$3*(998.2/$M$12)*($O$12/1)*$K19,IF($J19=3,'Datensatz Radiator'!J$4*(998.2/$M$12)*($O$12/1)*$K19,IF($J19=4,'Datensatz Radiator'!J$5*(998.2/$M$12)*($O$12/1)*$K19,IF($J19=5,'Datensatz Radiator'!J$6*(998.2/$M$12)*($O$12/1)*$K19,IF($J19=6,'Datensatz Radiator'!J$7*(998.2/$M$12)*($O$12/1)*$K19,IF($J19=7,'Datensatz Radiator'!J$8*(998.2/$M$12)*($O$12/1)*$K19,IF($J19=8,'Datensatz Radiator'!J$9*(998.2/$M$12)*($O$12/1)*$K19,IF($J19=9,'Datensatz Radiator'!J$10*(998.2/$M$12)*($O$12/1)*$K19,IF($J19=10,'Datensatz Radiator'!J$11*(998.2/$M$12)*($O$12/1)*$K19,IF($J19=11,'Datensatz Radiator'!J$12*(998.2/$M$12)*($O$12/1)*$K19,IF($J19=12,'Datensatz Radiator'!J$13*(998.2/$M$12)*($O$12/1)*$K19,IF($J19=13,'Datensatz Radiator'!J$14*(998.2/$M$12)*($O$12/1)*$K19,IF($J19=14,'Datensatz Radiator'!J$15*(998.2/$M$12)*($O$12/1)*$K19,IF($J19=15,'Datensatz Radiator'!J$16*(998.2/$M$12)*($O$12/1)*$K19,IF($J19=16,'Datensatz Radiator'!J$17*(998.2/$M$12)*($O$12/1)*$K19,IF($J19=17,'Datensatz Radiator'!J$18*(998.2/$M$12)*($O$12/1)*$K19,IF($J19=18,'Datensatz Radiator'!J$19*(998.2/$M$12)*($O$12/1)*$K19,IF($J19=19,'Datensatz Radiator'!J$20*(998.2/$M$12)*($O$12/1)*$K19,IF($J19=20,'Datensatz Radiator'!J$21*(998.2/$M$12)*($O$12/1)*$K19,IF($J19=21,'Datensatz Radiator'!J$22*(998.2/$M$12)*($O$12/1)*$K19,IF($J19=22,'Datensatz Radiator'!J$23*(998.2/$M$12)*($O$12/1)*$K19,IF($J19=23,'Datensatz Radiator'!J$24*(998.2/$M$12)*($O$12/1)*$K19,IF($J19=24,'Datensatz Radiator'!J$25*(998.2/$M$12)*($O$12/1)*$K19,IF($J19=25,'Datensatz Radiator'!J$26*(998.2/$M$12)*($O$12/1)*$K19,IF($J19=26,'Datensatz Radiator'!J$27*(998.2/$M$12)*($O$12/1)*$K19,IF($J19=27,'Datensatz Radiator'!J$28*(998.2/$M$12)*($O$12/1)*$K19,IF($J19=28,'Datensatz Radiator'!J$39*(998.2/$M$12)*($O$12/1)*$K19,IF($J19=29,'Datensatz Radiator'!J$30*(998.2/$M$12)*($O$12/1)*$K19,IF($J19=30,'Datensatz Radiator'!J$31*(998.2/$M$12)*($O$12/1)*$K19,IF($J19=31,'Datensatz Radiator'!J$32*(998.2/$M$12)*($O$12/1)*$K19,IF($J19=32,'Datensatz Radiator'!J$33*(998.2/$M$12)*($O$12/1)*$K19,IF($J19=33,'Datensatz Radiator'!J$34*(998.2/$M$12)*($O$12/1)*$K19,IF($J19=34,'Datensatz Radiator'!J$35*(998.2/$M$12)*($O$12/1)*$K19,IF($J19=35,'Datensatz Radiator'!J$36*(998.2/$M$12)*($O$12/1)*$K19,IF($J19=36,'Datensatz Radiator'!J$37*(998.2/$M$12)*($O$12/1)*$K19,'Datensatz Radiator'!J$38*(998.2/$M$12)*($O$12/1)*$K19)))))))))))))))))))))))))))))))))))) -> 1078.1909 | T19: =IF($J19=1,'Datensatz Radiator'!K$2*(998.2/$M$12)*($O$12/1)*$K19,IF($J19=2,'Datensatz Radiator'!K$3*(998.2/$M$12)*($O$12/1)*$K19,IF($J19=3,'Datensatz Radiator'!K$4*(998.2/$M$12)*($O$12/1)*$K19,IF($J19=4,'Datensatz Radiator'!K$5*(998.2/$M$12)*($O$12/1)*$K19,IF($J19=5,'Datensatz Radiator'!K$6*(998.2/$M$12)*($O$12/1)*$K19,IF($J19=6,'Datensatz Radiator'!K$7*(998.2/$M$12)*($O$12/1)*$K19,IF($J19=7,'Datensatz Radiator'!K$8*(998.2/$M$12)*($O$12/1)*$K19,IF($J19=8,'Datensatz Radiator'!K$9*(998.2/$M$12)*($O$12/1)*$K19,IF($J19=9,'Datensatz Radiator'!K$10*(998.2/$M$12)*($O$12/1)*$K19,IF($J19=10,'Datensatz Radiator'!K$11*(998.2/$M$12)*($O$12/1)*$K19,IF($J19=11,'Datensatz Radiator'!K$12*(998.2/$M$12)*($O$12/1)*$K19,IF($J19=12,'Datensatz Radiator'!K$13*(998.2/$M$12)*($O$12/1)*$K19,IF($J19=13,'Datensatz Radiator'!K$14*(998.2/$M$12)*($O$12/1)*$K19,IF($J19=14,'Datensatz Radiator'!K$15*(998.2/$M$12)*($O$12/1)*$K19,IF($J19=15,'Datensatz Radiator'!K$16*(998.2/$M$12)*($O$12/1)*$K19,IF($J19=16,'Datensatz Radiator'!K$17*(998.2/$M$12)*($O$12/1)*$K19,IF($J19=17,'Datensatz Radiator'!K$18*(998.2/$M$12)*($O$12/1)*$K19,IF($J19=18,'Datensatz Radiator'!K$19*(998.2/$M$12)*($O$12/1)*$K19,IF($J19=19,'Datensatz Radiator'!K$20*(998.2/$M$12)*($O$12/1)*$K19,IF($J19=20,'Datensatz Radiator'!K$21*(998.2/$M$12)*($O$12/1)*$K19,IF($J19=21,'Datensatz Radiator'!K$22*(998.2/$M$12)*($O$12/1)*$K19,IF($J19=22,'Datensatz Radiator'!K$23*(998.2/$M$12)*($O$12/1)*$K19,IF($J19=23,'Datensatz Radiator'!K$24*(998.2/$M$12)*($O$12/1)*$K19,IF($J19=24,'Datensatz Radiator'!K$25*(998.2/$M$12)*($O$12/1)*$K19,IF($J19=25,'Datensatz Radiator'!K$26*(998.2/$M$12)*($O$12/1)*$K19,IF($J19=26,'Datensatz Radiator'!K$27*(998.2/$M$12)*($O$12/1)*$K19,IF($J19=27,'Datensatz Radiator'!K$28*(998.2/$M$12)*($O$12/1)*$K19,IF($J19=28,'Datensatz Radiator'!K$39*(998.2/$M$12)*($O$12/1)*$K19,IF($J19=29,'Datensatz Radiator'!K$30*(998.2/$M$12)*($O$12/1)*$K19,IF($J19=30,'Datensatz Radiator'!K$31*(998.2/$M$12)*($O$12/1)*$K19,IF($J19=31,'Datensatz Radiator'!K$32*(998.2/$M$12)*($O$12/1)*$K19,IF($J19=32,'Datensatz Radiator'!K$33*(998.2/$M$12)*($O$12/1)*$K19,IF($J19=33,'Datensatz Radiator'!K$34*(998.2/$M$12)*($O$12/1)*$K19,IF($J19=34,'Datensatz Radiator'!K$35*(998.2/$M$12)*($O$12/1)*$K19,IF($J19=35,'Datensatz Radiator'!K$36*(998.2/$M$12)*($O$12/1)*$K19,IF($J19=36,'Datensatz Radiator'!K$37*(998.2/$M$12)*($O$12/1)*$K19,'Datensatz Radiator'!K$38*(998.2/$M$12)*($O$12/1)*$K19)))))))))))))))))))))))))))))))))))) -> 1370.6192 | ... Y19: =IF($J19=1,'Datensatz Radiator'!P$2*(998.2/$M$12)*($O$12/1)*$K19,IF($J19=2,'Datensatz Radiator'!P$3*(998.2/$M$12)*($O$12/1)*$K19,IF($J19=3,'Datensatz Radiator'!P$4*(998.2/$M$12)*($O$12/1)*$K19,IF($J19=4,'Datensatz Radiator'!P$5*(998.2/$M$12)*($O$12/1)*$K19,IF($J19=5,'Datensatz Radiator'!P$6*(998.2/$M$12)*($O$12/1)*$K19,IF($J19=6,'Datensatz Radiator'!P$7*(998.2/$M$12)*($O$12/1)*$K19,IF($J19=7,'Datensatz Radiator'!P$8*(998.2/$M$12)*($O$12/1)*$K19,IF($J19=8,'Datensatz Radiator'!P$9*(998.2/$M$12)*($O$12/1)*$K19,IF($J19=9,'Datensatz Radiator'!P$10*(998.2/$M$12)*($O$12/1)*$K19,IF($J19=10,'Datensatz Radiator'!P$11*(998.2/$M$12)*($O$12/1)*$K19,IF($J19=11,'Datensatz Radiator'!P$12*(998.2/$M$12)*($O$12/1)*$K19,IF($J19=12,'Datensatz Radiator'!P$13*(998.2/$M$12)*($O$12/1)*$K19,IF($J19=13,'Datensatz Radiator'!P$14*(998.2/$M$12)*($O$12/1)*$K19,IF($J19=14,'Datensatz Radiator'!P$15*(998.2/$M$12)*($O$12/1)*$K19,IF($J19=15,'Datensatz Radiator'!P$16*(998.2/$M$12)*($O$12/1)*$K19,IF($J19=16,'Datensatz Radiator'!P$17*(998.2/$M$12)*($O$12/1)*$K19,IF($J19=17,'Datensatz Radiator'!P$18*(998.2/$M$12)*($O$12/1)*$K19,IF($J19=18,'Datensatz Radiator'!P$19*(998.2/$M$12)*($O$12/1)*$K19,IF($J19=19,'Datensatz Radiator'!P$20*(998.2/$M$12)*($O$12/1)*$K19,IF($J19=20,'Datensatz Radiator'!P$21*(998.2/$M$12)*($O$12/1)*$K19,IF($J19=21,'Datensatz Radiator'!P$22*(998.2/$M$12)*($O$12/1)*$K19,IF($J19=22,'Datensatz Radiator'!P$23*(998.2/$M$12)*($O$12/1)*$K19,IF($J19=23,'Datensatz Radiator'!P$24*(998.2/$M$12)*($O$12/1)*$K19,IF($J19=24,'Datensatz Radiator'!P$25*(998.2/$M$12)*($O$12/1)*$K19,IF($J19=25,'Datensatz Radiator'!P$26*(998.2/$M$12)*($O$12/1)*$K19,IF($J19=26,'Datensatz Radiator'!P$27*(998.2/$M$12)*($O$12/1)*$K19,IF($J19=27,'Datensatz Radiator'!P$28*(998.2/$M$12)*($O$12/1)*$K19,IF($J19=28,'Datensatz Radiator'!P$39*(998.2/$M$12)*($O$12/1)*$K19,IF($J19=29,'Datensatz Radiator'!P$30*(998.2/$M$12)*($O$12/1)*$K19,IF($J19=30,'Datensatz Radiator'!P$31*(998.2/$M$12)*($O$12/1)*$K19,IF($J19=31,'Datensatz Radiator'!P$32*(998.2/$M$12)*($O$12/1)*$K19,IF($J19=32,'Datensatz Radiator'!P$33*(998.2/$M$12)*($O$12/1)*$K19,IF($J19=33,'Datensatz Radiator'!P$34*(998.2/$M$12)*($O$12/1)*$K19,IF($J19=34,'Datensatz Radiator'!P$35*(998.2/$M$12)*($O$12/1)*$K19,IF($J19=35,'Datensatz Radiator'!P$36*(998.2/$M$12)*($O$12/1)*$K19,IF($J19=36,'Datensatz Radiator'!P$37*(998.2/$M$12)*($O$12/1)*$K19,'Datensatz Radiator'!P$38*(998.2/$M$12)*($O$12/1)*$K19)))))))))))))))))))))))))))))))))))) -> 3332.6195 | AQ19: 0 | AR19: 4.7 | AS19: =AR19*998.2*9.807 -> 46009.933 | AT19: 3.7 | AU19: =AT19*998.2*9.807 -> 36220.585
A20: =AQ20*B$12*B$13 -> 1 | B20: =IF(B$10="DDC-1T+",AS20*B$11*B$13^2,AU20*B$11*B$13^2) -> 46009.876 | F20: =AQ20*G$12*G$13 -> 1 | G20: =IF(G$10="DDC-1T+",AS20*G$11*G$13^2,AU20*G$11*G$13^2) -> 36216.306 | I20: 5 | J20: 1 | K20: 1 | L20: Pa | M20: =IF($J20=1,'Datensatz Radiator'!D$2*(998.2/$M$12)*($O$12/1)*$K20,IF($J20=2,'Datensatz Radiator'!D$3*(998.2/$M$12)*($O$12/1)*$K20,IF($J20=3,'Datensatz Radiator'!D$4*(998.2/$M$12)*($O$12/1)*$K20,IF($J20=4,'Datensatz Radiator'!D$5*(998.2/$M$12)*($O$12/1)*$K20,IF($J20=5,'Datensatz Radiator'!D$6*(998.2/$M$12)*($O$12/1)*$K20,IF($J20=6,'Datensatz Radiator'!D$7*(998.2/$M$12)*($O$12/1)*$K20,IF($J20=7,'Datensatz Radiator'!D$8*(998.2/$M$12)*($O$12/1)*$K20,IF($J20=8,'Datensatz Radiator'!D$9*(998.2/$M$12)*($O$12/1)*$K20,IF($J20=9,'Datensatz Radiator'!D$10*(998.2/$M$12)*($O$12/1)*$K20,IF($J20=10,'Datensatz Radiator'!D$11*(998.2/$M$12)*($O$12/1)*$K20,IF($J20=11,'Datensatz Radiator'!D$12*(998.2/$M$12)*($O$12/1)*$K20,IF($J20=12,'Datensatz Radiator'!D$13*(998.2/$M$12)*($O$12/1)*$K20,IF($J20=13,'Datensatz Radiator'!D$14*(998.2/$M$12)*($O$12/1)*$K20,IF($J20=14,'Datensatz Radiator'!D$15*(998.2/$M$12)*($O$12/1)*$K20,IF($J20=15,'Datensatz Radiator'!D$16*(998.2/$M$12)*($O$12/1)*$K20,IF($J20=16,'Datensatz Radiator'!D$17*(998.2/$M$12)*($O$12/1)*$K20,IF($J20=17,'Datensatz Radiator'!D$18*(998.2/$M$12)*($O$12/1)*$K20,IF($J20=18,'Datensatz Radiator'!D$19*(998.2/$M$12)*($O$12/1)*$K20,IF($J20=19,'Datensatz Radiator'!D$20*(998.2/$M$12)*($O$12/1)*$K20,IF($J20=20,'Datensatz Radiator'!D$21*(998.2/$M$12)*($O$12/1)*$K20,IF($J20=21,'Datensatz Radiator'!D$22*(998.2/$M$12)*($O$12/1)*$K20,IF($J20=22,'Datensatz Radiator'!D$23*(998.2/$M$12)*($O$12/1)*$K20,IF($J20=23,'Datensatz Radiator'!D$24*(998.2/$M$12)*($O$12/1)*$K20,IF($J20=24,'Datensatz Radiator'!D$25*(998.2/$M$12)*($O$12/1)*$K20,IF($J20=25,'Datensatz Radiator'!D$26*(998.2/$M$12)*($O$12/1)*$K20,IF($J20=26,'Datensatz Radiator'!D$27*(998.2/$M$12)*($O$12/1)*$K20,IF($J20=27,'Datensatz Radiator'!D$28*(998.2/$M$12)*($O$12/1)*$K20,IF($J20=28,'Datensatz Radiator'!D$39*(998.2/$M$12)*($O$12/1)*$K20,IF($J20=29,'Datensatz Radiator'!D$30*(998.2/$M$12)*($O$12/1)*$K20,IF($J20=30,'Datensatz Radiator'!D$31*(998.2/$M$12)*($O$12/1)*$K20,IF($J20=31,'Datensatz Radiator'!D$32*(998.2/$M$12)*($O$12/1)*$K20,IF($J20=32,'Datensatz Radiator'!D$33*(998.2/$M$12)*($O$12/1)*$K20,IF($J20=33,'Datensatz Radiator'!D$34*(998.2/$M$12)*($O$12/1)*$K20,IF($J20=34,'Datensatz Radiator'!D$35*(998.2/$M$12)*($O$12/1)*$K20,IF($J20=35,'Datensatz Radiator'!D$36*(998.2/$M$12)*($O$12/1)*$K20,IF($J20=36,'Datensatz Radiator'!D$37*(998.2/$M$12)*($O$12/1)*$K20,'Datensatz Radiator'!D$38*(998.2/$M$12)*($O$12/1)*$K20)))))))))))))))))))))))))))))))))))) -> 0 | N20: =IF($J20=1,'Datensatz Radiator'!E$2*(998.2/$M$12)*($O$12/1)*$K20,IF($J20=2,'Datensatz Radiator'!E$3*(998.2/$M$12)*($O$12/1)*$K20,IF($J20=3,'Datensatz Radiator'!E$4*(998.2/$M$12)*($O$12/1)*$K20,IF($J20=4,'Datensatz Radiator'!E$5*(998.2/$M$12)*($O$12/1)*$K20,IF($J20=5,'Datensatz Radiator'!E$6*(998.2/$M$12)*($O$12/1)*$K20,IF($J20=6,'Datensatz Radiator'!E$7*(998.2/$M$12)*($O$12/1)*$K20,IF($J20=7,'Datensatz Radiator'!E$8*(998.2/$M$12)*($O$12/1)*$K20,IF($J20=8,'Datensatz Radiator'!E$9*(998.2/$M$12)*($O$12/1)*$K20,IF($J20=9,'Datensatz Radiator'!E$10*(998.2/$M$12)*($O$12/1)*$K20,IF($J20=10,'Datensatz Radiator'!E$11*(998.2/$M$12)*($O$12/1)*$K20,IF($J20=11,'Datensatz Radiator'!E$12*(998.2/$M$12)*($O$12/1)*$K20,IF($J20=12,'Datensatz Radiator'!E$13*(998.2/$M$12)*($O$12/1)*$K20,IF($J20=13,'Datensatz Radiator'!E$14*(998.2/$M$12)*($O$12/1)*$K20,IF($J20=14,'Datensatz Radiator'!E$15*(998.2/$M$12)*($O$12/1)*$K20,IF($J20=15,'Datensatz Radiator'!E$16*(998.2/$M$12)*($O$12/1)*$K20,IF($J20=16,'Datensatz Radiator'!E$17*(998.2/$M$12)*($O$12/1)*$K20,IF($J20=17,'Datensatz Radiator'!E$18*(998.2/$M$12)*($O$12/1)*$K20,IF($J20=18,'Datensatz Radiator'!E$19*(998.2/$M$12)*($O$12/1)*$K20,IF($J20=19,'Datensatz Radiator'!E$20*(998.2/$M$12)*($O$12/1)*$K20,IF($J20=20,'Datensatz Radiator'!E$21*(998.2/$M$12)*($O$12/1)*$K20,IF($J20=21,'Datensatz Radiator'!E$22*(998.2/$M$12)*($O$12/1)*$K20,IF($J20=22,'Datensatz Radiator'!E$23*(998.2/$M$12)*($O$12/1)*$K20,IF($J20=23,'Datensatz Radiator'!E$24*(998.2/$M$12)*($O$12/1)*$K20,IF($J20=24,'Datensatz Radiator'!E$25*(998.2/$M$12)*($O$12/1)*$K20,IF($J20=25,'Datensatz Radiator'!E$26*(998.2/$M$12)*($O$12/1)*$K20,IF($J20=26,'Datensatz Radiator'!E$27*(998.2/$M$12)*($O$12/1)*$K20,IF($J20=27,'Datensatz Radiator'!E$28*(998.2/$M$12)*($O$12/1)*$K20,IF($J20=28,'Datensatz Radiator'!E$39*(998.2/$M$12)*($O$12/1)*$K20,IF($J20=29,'Datensatz Radiator'!E$30*(998.2/$M$12)*($O$12/1)*$K20,IF($J20=30,'Datensatz Radiator'!E$31*(998.2/$M$12)*($O$12/1)*$K20,IF($J20=31,'Datensatz Radiator'!E$32*(998.2/$M$12)*($O$12/1)*$K20,IF($J20=32,'Datensatz Radiator'!E$33*(998.2/$M$12)*($O$12/1)*$K20,IF($J20=33,'Datensatz Radiator'!E$34*(998.2/$M$12)*($O$12/1)*$K20,IF($J20=34,'Datensatz Radiator'!E$35*(998.2/$M$12)*($O$12/1)*$K20,IF($J20=35,'Datensatz Radiator'!E$36*(998.2/$M$12)*($O$12/1)*$K20,IF($J20=36,'Datensatz Radiator'!E$37*(998.2/$M$12)*($O$12/1)*$K20,'Datensatz Radiator'!E$38*(998.2/$M$12)*($O$12/1)*$K20)))))))))))))))))))))))))))))))))))) -> 115.90785 | O20: =IF($J20=1,'Datensatz Radiator'!F$2*(998.2/$M$12)*($O$12/1)*$K20,IF($J20=2,'Datensatz Radiator'!F$3*(998.2/$M$12)*($O$12/1)*$K20,IF($J20=3,'Datensatz Radiator'!F$4*(998.2/$M$12)*($O$12/1)*$K20,IF($J20=4,'Datensatz Radiator'!F$5*(998.2/$M$12)*($O$12/1)*$K20,IF($J20=5,'Datensatz Radiator'!F$6*(998.2/$M$12)*($O$12/1)*$K20,IF($J20=6,'Datensatz Radiator'!F$7*(998.2/$M$12)*($O$12/1)*$K20,IF($J20=7,'Datensatz Radiator'!F$8*(998.2/$M$12)*($O$12/1)*$K20,IF($J20=8,'Datensatz Radiator'!F$9*(998.2/$M$12)*($O$12/1)*$K20,IF($J20=9,'Datensatz Radiator'!F$10*(998.2/$M$12)*($O$12/1)*$K20,IF($J20=10,'Datensatz Radiator'!F$11*(998.2/$M$12)*($O$12/1)*$K20,IF($J20=11,'Datensatz Radiator'!F$12*(998.2/$M$12)*($O$12/1)*$K20,IF($J20=12,'Datensatz Radiator'!F$13*(998.2/$M$12)*($O$12/1)*$K20,IF($J20=13,'Datensatz Radiator'!F$14*(998.2/$M$12)*($O$12/1)*$K20,IF($J20=14,'Datensatz Radiator'!F$15*(998.2/$M$12)*($O$12/1)*$K20,IF($J20=15,'Datensatz Radiator'!F$16*(998.2/$M$12)*($O$12/1)*$K20,IF($J20=16,'Datensatz Radiator'!F$17*(998.2/$M$12)*($O$12/1)*$K20,IF($J20=17,'Datensatz Radiator'!F$18*(998.2/$M$12)*($O$12/1)*$K20,IF($J20=18,'Datensatz Radiator'!F$19*(998.2/$M$12)*($O$12/1)*$K20,IF($J20=19,'Datensatz Radiator'!F$20*(998.2/$M$12)*($O$12/1)*$K20,IF($J20=20,'Datensatz Radiator'!F$21*(998.2/$M$12)*($O$12/1)*$K20,IF($J20=21,'Datensatz Radiator'!F$22*(998.2/$M$12)*($O$12/1)*$K20,IF($J20=22,'Datensatz Radiator'!F$23*(998.2/$M$12)*($O$12/1)*$K20,IF($J20=23,'Datensatz Radiator'!F$24*(998.2/$M$12)*($O$12/1)*$K20,IF($J20=24,'Datensatz Radiator'!F$25*(998.2/$M$12)*($O$12/1)*$K20,IF($J20=25,'Datensatz Radiator'!F$26*(998.2/$M$12)*($O$12/1)*$K20,IF($J20=26,'Datensatz Radiator'!F$27*(998.2/$M$12)*($O$12/1)*$K20,IF($J20=27,'Datensatz Radiator'!F$28*(998.2/$M$12)*($O$12/1)*$K20,IF($J20=28,'Datensatz Radiator'!F$39*(998.2/$M$12)*($O$12/1)*$K20,IF($J20=29,'Datensatz Radiator'!F$30*(998.2/$M$12)*($O$12/1)*$K20,IF($J20=30,'Datensatz Radiator'!F$31*(998.2/$M$12)*($O$12/1)*$K20,IF($J20=31,'Datensatz Radiator'!F$32*(998.2/$M$12)*($O$12/1)*$K20,IF($J20=32,'Datensatz Radiator'!F$33*(998.2/$M$12)*($O$12/1)*$K20,IF($J20=33,'Datensatz Radiator'!F$34*(998.2/$M$12)*($O$12/1)*$K20,IF($J20=34,'Datensatz Radiator'!F$35*(998.2/$M$12)*($O$12/1)*$K20,IF($J20=35,'Datensatz Radiator'!F$36*(998.2/$M$12)*($O$12/1)*$K20,IF($J20=36,'Datensatz Radiator'!F$37*(998.2/$M$12)*($O$12/1)*$K20,'Datensatz Radiator'!F$38*(998.2/$M$12)*($O$12/1)*$K20)))))))))))))))))))))))))))))))))))) -> 241.71664 | P20: =IF($J20=1,'Datensatz Radiator'!G$2*(998.2/$M$12)*($O$12/1)*$K20,IF($J20=2,'Datensatz Radiator'!G$3*(998.2/$M$12)*($O$12/1)*$K20,IF($J20=3,'Datensatz Radiator'!G$4*(998.2/$M$12)*($O$12/1)*$K20,IF($J20=4,'Datensatz Radiator'!G$5*(998.2/$M$12)*($O$12/1)*$K20,IF($J20=5,'Datensatz Radiator'!G$6*(998.2/$M$12)*($O$12/1)*$K20,IF($J20=6,'Datensatz Radiator'!G$7*(998.2/$M$12)*($O$12/1)*$K20,IF($J20=7,'Datensatz Radiator'!G$8*(998.2/$M$12)*($O$12/1)*$K20,IF($J20=8,'Datensatz Radiator'!G$9*(998.2/$M$12)*($O$12/1)*$K20,IF($J20=9,'Datensatz Radiator'!G$10*(998.2/$M$12)*($O$12/1)*$K20,IF($J20=10,'Datensatz Radiator'!G$11*(998.2/$M$12)*($O$12/1)*$K20,IF($J20=11,'Datensatz Radiator'!G$12*(998.2/$M$12)*($O$12/1)*$K20,IF($J20=12,'Datensatz Radiator'!G$13*(998.2/$M$12)*($O$12/1)*$K20,IF($J20=13,'Datensatz Radiator'!G$14*(998.2/$M$12)*($O$12/1)*$K20,IF($J20=14,'Datensatz Radiator'!G$15*(998.2/$M$12)*($O$12/1)*$K20,IF($J20=15,'Datensatz Radiator'!G$16*(998.2/$M$12)*($O$12/1)*$K20,IF($J20=16,'Datensatz Radiator'!G$17*(998.2/$M$12)*($O$12/1)*$K20,IF($J20=17,'Datensatz Radiator'!G$18*(998.2/$M$12)*($O$12/1)*$K20,IF($J20=18,'Datensatz Radiator'!G$19*(998.2/$M$12)*($O$12/1)*$K20,IF($J20=19,'Datensatz Radiator'!G$20*(998.2/$M$12)*($O$12/1)*$K20,IF($J20=20,'Datensatz Radiator'!G$21*(998.2/$M$12)*($O$12/1)*$K20,IF($J20=21,'Datensatz Radiator'!G$22*(998.2/$M$12)*($O$12/1)*$K20,IF($J20=22,'Datensatz Radiator'!G$23*(998.2/$M$12)*($O$12/1)*$K20,IF($J20=23,'Datensatz Radiator'!G$24*(998.2/$M$12)*($O$12/1)*$K20,IF($J20=24,'Datensatz Radiator'!G$25*(998.2/$M$12)*($O$12/1)*$K20,IF($J20=25,'Datensatz Radiator'!G$26*(998.2/$M$12)*($O$12/1)*$K20,IF($J20=26,'Datensatz Radiator'!G$27*(998.2/$M$12)*($O$12/1)*$K20,IF($J20=27,'Datensatz Radiator'!G$28*(998.2/$M$12)*($O$12/1)*$K20,IF($J20=28,'Datensatz Radiator'!G$39*(998.2/$M$12)*($O$12/1)*$K20,IF($J20=29,'Datensatz Radiator'!G$30*(998.2/$M$12)*($O$12/1)*$K20,IF($J20=30,'Datensatz Radiator'!G$31*(998.2/$M$12)*($O$12/1)*$K20,IF($J20=31,'Datensatz Radiator'!G$32*(998.2/$M$12)*($O$12/1)*$K20,IF($J20=32,'Datensatz Radiator'!G$33*(998.2/$M$12)*($O$12/1)*$K20,IF($J20=33,'Datensatz Radiator'!G$34*(998.2/$M$12)*($O$12/1)*$K20,IF($J20=34,'Datensatz Radiator'!G$35*(998.2/$M$12)*($O$12/1)*$K20,IF($J20=35,'Datensatz Radiator'!G$36*(998.2/$M$12)*($O$12/1)*$K20,IF($J20=36,'Datensatz Radiator'!G$37*(998.2/$M$12)*($O$12/1)*$K20,'Datensatz Radiator'!G$38*(998.2/$M$12)*($O$12/1)*$K20)))))))))))))))))))))))))))))))))))) -> 400.84933 | Q20: =IF($J20=1,'Datensatz Radiator'!H$2*(998.2/$M$12)*($O$12/1)*$K20,IF($J20=2,'Datensatz Radiator'!H$3*(998.2/$M$12)*($O$12/1)*$K20,IF($J20=3,'Datensatz Radiator'!H$4*(998.2/$M$12)*($O$12/1)*$K20,IF($J20=4,'Datensatz Radiator'!H$5*(998.2/$M$12)*($O$12/1)*$K20,IF($J20=5,'Datensatz Radiator'!H$6*(998.2/$M$12)*($O$12/1)*$K20,IF($J20=6,'Datensatz Radiator'!H$7*(998.2/$M$12)*($O$12/1)*$K20,IF($J20=7,'Datensatz Radiator'!H$8*(998.2/$M$12)*($O$12/1)*$K20,IF($J20=8,'Datensatz Radiator'!H$9*(998.2/$M$12)*($O$12/1)*$K20,IF($J20=9,'Datensatz Radiator'!H$10*(998.2/$M$12)*($O$12/1)*$K20,IF($J20=10,'Datensatz Radiator'!H$11*(998.2/$M$12)*($O$12/1)*$K20,IF($J20=11,'Datensatz Radiator'!H$12*(998.2/$M$12)*($O$12/1)*$K20,IF($J20=12,'Datensatz Radiator'!H$13*(998.2/$M$12)*($O$12/1)*$K20,IF($J20=13,'Datensatz Radiator'!H$14*(998.2/$M$12)*($O$12/1)*$K20,IF($J20=14,'Datensatz Radiator'!H$15*(998.2/$M$12)*($O$12/1)*$K20,IF($J20=15,'Datensatz Radiator'!H$16*(998.2/$M$12)*($O$12/1)*$K20,IF($J20=16,'Datensatz Radiator'!H$17*(998.2/$M$12)*($O$12/1)*$K20,IF($J20=17,'Datensatz Radiator'!H$18*(998.2/$M$12)*($O$12/1)*$K20,IF($J20=18,'Datensatz Radiator'!H$19*(998.2/$M$12)*($O$12/1)*$K20,IF($J20=19,'Datensatz Radiator'!H$20*(998.2/$M$12)*($O$12/1)*$K20,IF($J20=20,'Datensatz Radiator'!H$21*(998.2/$M$12)*($O$12/1)*$K20,IF($J20=21,'Datensatz Radiator'!H$22*(998.2/$M$12)*($O$12/1)*$K20,IF($J20=22,'Datensatz Radiator'!H$23*(998.2/$M$12)*($O$12/1)*$K20,IF($J20=23,'Datensatz Radiator'!H$24*(998.2/$M$12)*($O$12/1)*$K20,IF($J20=24,'Datensatz Radiator'!H$25*(998.2/$M$12)*($O$12/1)*$K20,IF($J20=25,'Datensatz Radiator'!H$26*(998.2/$M$12)*($O$12/1)*$K20,IF($J20=26,'Datensatz Radiator'!H$27*(998.2/$M$12)*($O$12/1)*$K20,IF($J20=27,'Datensatz Radiator'!H$28*(998.2/$M$12)*($O$12/1)*$K20,IF($J20=28,'Datensatz Radiator'!H$39*(998.2/$M$12)*($O$12/1)*$K20,IF($J20=29,'Datensatz Radiator'!H$30*(998.2/$M$12)*($O$12/1)*$K20,IF($J20=30,'Datensatz Radiator'!H$31*(998.2/$M$12)*($O$12/1)*$K20,IF($J20=31,'Datensatz Radiator'!H$32*(998.2/$M$12)*($O$12/1)*$K20,IF($J20=32,'Datensatz Radiator'!H$33*(998.2/$M$12)*($O$12/1)*$K20,IF($J20=33,'Datensatz Radiator'!H$34*(998.2/$M$12)*($O$12/1)*$K20,IF($J20=34,'Datensatz Radiator'!H$35*(998.2/$M$12)*($O$12/1)*$K20,IF($J20=35,'Datensatz Radiator'!H$36*(998.2/$M$12)*($O$12/1)*$K20,IF($J20=36,'Datensatz Radiator'!H$37*(998.2/$M$12)*($O$12/1)*$K20,'Datensatz Radiator'!H$38*(998.2/$M$12)*($O$12/1)*$K20)))))))))))))))))))))))))))))))))))) -> 593.30593 | R20: =IF($J20=1,'Datensatz Radiator'!I$2*(998.2/$M$12)*($O$12/1)*$K20,IF($J20=2,'Datensatz Radiator'!I$3*(998.2/$M$12)*($O$12/1)*$K20,IF($J20=3,'Datensatz Radiator'!I$4*(998.2/$M$12)*($O$12/1)*$K20,IF($J20=4,'Datensatz Radiator'!I$5*(998.2/$M$12)*($O$12/1)*$K20,IF($J20=5,'Datensatz Radiator'!I$6*(998.2/$M$12)*($O$12/1)*$K20,IF($J20=6,'Datensatz Radiator'!I$7*(998.2/$M$12)*($O$12/1)*$K20,IF($J20=7,'Datensatz Radiator'!I$8*(998.2/$M$12)*($O$12/1)*$K20,IF($J20=8,'Datensatz Radiator'!I$9*(998.2/$M$12)*($O$12/1)*$K20,IF($J20=9,'Datensatz Radiator'!I$10*(998.2/$M$12)*($O$12/1)*$K20,IF($J20=10,'Datensatz Radiator'!I$11*(998.2/$M$12)*($O$12/1)*$K20,IF($J20=11,'Datensatz Radiator'!I$12*(998.2/$M$12)*($O$12/1)*$K20,IF($J20=12,'Datensatz Radiator'!I$13*(998.2/$M$12)*($O$12/1)*$K20,IF($J20=13,'Datensatz Radiator'!I$14*(998.2/$M$12)*($O$12/1)*$K20,IF($J20=14,'Datensatz Radiator'!I$15*(998.2/$M$12)*($O$12/1)*$K20,IF($J20=15,'Datensatz Radiator'!I$16*(998.2/$M$12)*($O$12/1)*$K20,IF($J20=16,'Datensatz Radiator'!I$17*(998.2/$M$12)*($O$12/1)*$K20,IF($J20=17,'Datensatz Radiator'!I$18*(998.2/$M$12)*($O$12/1)*$K20,IF($J20=18,'Datensatz Radiator'!I$19*(998.2/$M$12)*($O$12/1)*$K20,IF($J20=19,'Datensatz Radiator'!I$20*(998.2/$M$12)*($O$12/1)*$K20,IF($J20=20,'Datensatz Radiator'!I$21*(998.2/$M$12)*($O$12/1)*$K20,IF($J20=21,'Datensatz Radiator'!I$22*(998.2/$M$12)*($O$12/1)*$K20,IF($J20=22,'Datensatz Radiator'!I$23*(998.2/$M$12)*($O$12/1)*$K20,IF($J20=23,'Datensatz Radiator'!I$24*(998.2/$M$12)*($O$12/1)*$K20,IF($J20=24,'Datensatz Radiator'!I$25*(998.2/$M$12)*($O$12/1)*$K20,IF($J20=25,'Datensatz Radiator'!I$26*(998.2/$M$12)*($O$12/1)*$K20,IF($J20=26,'Datensatz Radiator'!I$27*(998.2/$M$12)*($O$12/1)*$K20,IF($J20=27,'Datensatz Radiator'!I$28*(998.2/$M$12)*($O$12/1)*$K20,IF($J20=28,'Datensatz Radiator'!I$39*(998.2/$M$12)*($O$12/1)*$K20,IF($J20=29,'Datensatz Radiator'!I$30*(998.2/$M$12)*($O$12/1)*$K20,IF($J20=30,'Datensatz Radiator'!I$31*(998.2/$M$12)*($O$12/1)*$K20,IF($J20=31,'Datensatz Radiator'!I$32*(998.2/$M$12)*($O$12/1)*$K20,IF($J20=32,'Datensatz Radiator'!I$33*(998.2/$M$12)*($O$12/1)*$K20,IF($J20=33,'Datensatz Radiator'!I$34*(998.2/$M$12)*($O$12/1)*$K20,IF($J20=34,'Datensatz Radiator'!I$35*(998.2/$M$12)*($O$12/1)*$K20,IF($J20=35,'Datensatz Radiator'!I$36*(998.2/$M$12)*($O$12/1)*$K20,IF($J20=36,'Datensatz Radiator'!I$37*(998.2/$M$12)*($O$12/1)*$K20,'Datensatz Radiator'!I$38*(998.2/$M$12)*($O$12/1)*$K20)))))))))))))))))))))))))))))))))))) -> 819.08644 | S20: =IF($J20=1,'Datensatz Radiator'!J$2*(998.2/$M$12)*($O$12/1)*$K20,IF($J20=2,'Datensatz Radiator'!J$3*(998.2/$M$12)*($O$12/1)*$K20,IF($J20=3,'Datensatz Radiator'!J$4*(998.2/$M$12)*($O$12/1)*$K20,IF($J20=4,'Datensatz Radiator'!J$5*(998.2/$M$12)*($O$12/1)*$K20,IF($J20=5,'Datensatz Radiator'!J$6*(998.2/$M$12)*($O$12/1)*$K20,IF($J20=6,'Datensatz Radiator'!J$7*(998.2/$M$12)*($O$12/1)*$K20,IF($J20=7,'Datensatz Radiator'!J$8*(998.2/$M$12)*($O$12/1)*$K20,IF($J20=8,'Datensatz Radiator'!J$9*(998.2/$M$12)*($O$12/1)*$K20,IF($J20=9,'Datensatz Radiator'!J$10*(998.2/$M$12)*($O$12/1)*$K20,IF($J20=10,'Datensatz Radiator'!J$11*(998.2/$M$12)*($O$12/1)*$K20,IF($J20=11,'Datensatz Radiator'!J$12*(998.2/$M$12)*($O$12/1)*$K20,IF($J20=12,'Datensatz Radiator'!J$13*(998.2/$M$12)*($O$12/1)*$K20,IF($J20=13,'Datensatz Radiator'!J$14*(998.2/$M$12)*($O$12/1)*$K20,IF($J20=14,'Datensatz Radiator'!J$15*(998.2/$M$12)*($O$12/1)*$K20,IF($J20=15,'Datensatz Radiator'!J$16*(998.2/$M$12)*($O$12/1)*$K20,IF($J20=16,'Datensatz Radiator'!J$17*(998.2/$M$12)*($O$12/1)*$K20,IF($J20=17,'Datensatz Radiator'!J$18*(998.2/$M$12)*($O$12/1)*$K20,IF($J20=18,'Datensatz Radiator'!J$19*(998.2/$M$12)*($O$12/1)*$K20,IF($J20=19,'Datensatz Radiator'!J$20*(998.2/$M$12)*($O$12/1)*$K20,IF($J20=20,'Datensatz Radiator'!J$21*(998.2/$M$12)*($O$12/1)*$K20,IF($J20=21,'Datensatz Radiator'!J$22*(998.2/$M$12)*($O$12/1)*$K20,IF($J20=22,'Datensatz Radiator'!J$23*(998.2/$M$12)*($O$12/1)*$K20,IF($J20=23,'Datensatz Radiator'!J$24*(998.2/$M$12)*($O$12/1)*$K20,IF($J20=24,'Datensatz Radiator'!J$25*(998.2/$M$12)*($O$12/1)*$K20,IF($J20=25,'Datensatz Radiator'!J$26*(998.2/$M$12)*($O$12/1)*$K20,IF($J20=26,'Datensatz Radiator'!J$27*(998.2/$M$12)*($O$12/1)*$K20,IF($J20=27,'Datensatz Radiator'!J$28*(998.2/$M$12)*($O$12/1)*$K20,IF($J20=28,'Datensatz Radiator'!J$39*(998.2/$M$12)*($O$12/1)*$K20,IF($J20=29,'Datensatz Radiator'!J$30*(998.2/$M$12)*($O$12/1)*$K20,IF($J20=30,'Datensatz Radiator'!J$31*(998.2/$M$12)*($O$12/1)*$K20,IF($J20=31,'Datensatz Radiator'!J$32*(998.2/$M$12)*($O$12/1)*$K20,IF($J20=32,'Datensatz Radiator'!J$33*(998.2/$M$12)*($O$12/1)*$K20,IF($J20=33,'Datensatz Radiator'!J$34*(998.2/$M$12)*($O$12/1)*$K20,IF($J20=34,'Datensatz Radiator'!J$35*(998.2/$M$12)*($O$12/1)*$K20,IF($J20=35,'Datensatz Radiator'!J$36*(998.2/$M$12)*($O$12/1)*$K20,IF($J20=36,'Datensatz Radiator'!J$37*(998.2/$M$12)*($O$12/1)*$K20,'Datensatz Radiator'!J$38*(998.2/$M$12)*($O$12/1)*$K20)))))))))))))))))))))))))))))))))))) -> 1078.1909 | T20: =IF($J20=1,'Datensatz Radiator'!K$2*(998.2/$M$12)*($O$12/1)*$K20,IF($J20=2,'Datensatz Radiator'!K$3*(998.2/$M$12)*($O$12/1)*$K20,IF($J20=3,'Datensatz Radiator'!K$4*(998.2/$M$12)*($O$12/1)*$K20,IF($J20=4,'Datensatz Radiator'!K$5*(998.2/$M$12)*($O$12/1)*$K20,IF($J20=5,'Datensatz Radiator'!K$6*(998.2/$M$12)*($O$12/1)*$K20,IF($J20=6,'Datensatz Radiator'!K$7*(998.2/$M$12)*($O$12/1)*$K20,IF($J20=7,'Datensatz Radiator'!K$8*(998.2/$M$12)*($O$12/1)*$K20,IF($J20=8,'Datensatz Radiator'!K$9*(998.2/$M$12)*($O$12/1)*$K20,IF($J20=9,'Datensatz Radiator'!K$10*(998.2/$M$12)*($O$12/1)*$K20,IF($J20=10,'Datensatz Radiator'!K$11*(998.2/$M$12)*($O$12/1)*$K20,IF($J20=11,'Datensatz Radiator'!K$12*(998.2/$M$12)*($O$12/1)*$K20,IF($J20=12,'Datensatz Radiator'!K$13*(998.2/$M$12)*($O$12/1)*$K20,IF($J20=13,'Datensatz Radiator'!K$14*(998.2/$M$12)*($O$12/1)*$K20,IF($J20=14,'Datensatz Radiator'!K$15*(998.2/$M$12)*($O$12/1)*$K20,IF($J20=15,'Datensatz Radiator'!K$16*(998.2/$M$12)*($O$12/1)*$K20,IF($J20=16,'Datensatz Radiator'!K$17*(998.2/$M$12)*($O$12/1)*$K20,IF($J20=17,'Datensatz Radiator'!K$18*(998.2/$M$12)*($O$12/1)*$K20,IF($J20=18,'Datensatz Radiator'!K$19*(998.2/$M$12)*($O$12/1)*$K20,IF($J20=19,'Datensatz Radiator'!K$20*(998.2/$M$12)*($O$12/1)*$K20,IF($J20=20,'Datensatz Radiator'!K$21*(998.2/$M$12)*($O$12/1)*$K20,IF($J20=21,'Datensatz Radiator'!K$22*(998.2/$M$12)*($O$12/1)*$K20,IF($J20=22,'Datensatz Radiator'!K$23*(998.2/$M$12)*($O$12/1)*$K20,IF($J20=23,'Datensatz Radiator'!K$24*(998.2/$M$12)*($O$12/1)*$K20,IF($J20=24,'Datensatz Radiator'!K$25*(998.2/$M$12)*($O$12/1)*$K20,IF($J20=25,'Datensatz Radiator'!K$26*(998.2/$M$12)*($O$12/1)*$K20,IF($J20=26,'Datensatz Radiator'!K$27*(998.2/$M$12)*($O$12/1)*$K20,IF($J20=27,'Datensatz Radiator'!K$28*(998.2/$M$12)*($O$12/1)*$K20,IF($J20=28,'Datensatz Radiator'!K$39*(998.2/$M$12)*($O$12/1)*$K20,IF($J20=29,'Datensatz Radiator'!K$30*(998.2/$M$12)*($O$12/1)*$K20,IF($J20=30,'Datensatz Radiator'!K$31*(998.2/$M$12)*($O$12/1)*$K20,IF($J20=31,'Datensatz Radiator'!K$32*(998.2/$M$12)*($O$12/1)*$K20,IF($J20=32,'Datensatz Radiator'!K$33*(998.2/$M$12)*($O$12/1)*$K20,IF($J20=33,'Datensatz Radiator'!K$34*(998.2/$M$12)*($O$12/1)*$K20,IF($J20=34,'Datensatz Radiator'!K$35*(998.2/$M$12)*($O$12/1)*$K20,IF($J20=35,'Datensatz Radiator'!K$36*(998.2/$M$12)*($O$12/1)*$K20,IF($J20=36,'Datensatz Radiator'!K$37*(998.2/$M$12)*($O$12/1)*$K20,'Datensatz Radiator'!K$38*(998.2/$M$12)*($O$12/1)*$K20)))))))))))))))))))))))))))))))))))) -> 1370.6192 | ... Y20: =IF($J20=1,'Datensatz Radiator'!P$2*(998.2/$M$12)*($O$12/1)*$K20,IF($J20=2,'Datensatz Radiator'!P$3*(998.2/$M$12)*($O$12/1)*$K20,IF($J20=3,'Datensatz Radiator'!P$4*(998.2/$M$12)*($O$12/1)*$K20,IF($J20=4,'Datensatz Radiator'!P$5*(998.2/$M$12)*($O$12/1)*$K20,IF($J20=5,'Datensatz Radiator'!P$6*(998.2/$M$12)*($O$12/1)*$K20,IF($J20=6,'Datensatz Radiator'!P$7*(998.2/$M$12)*($O$12/1)*$K20,IF($J20=7,'Datensatz Radiator'!P$8*(998.2/$M$12)*($O$12/1)*$K20,IF($J20=8,'Datensatz Radiator'!P$9*(998.2/$M$12)*($O$12/1)*$K20,IF($J20=9,'Datensatz Radiator'!P$10*(998.2/$M$12)*($O$12/1)*$K20,IF($J20=10,'Datensatz Radiator'!P$11*(998.2/$M$12)*($O$12/1)*$K20,IF($J20=11,'Datensatz Radiator'!P$12*(998.2/$M$12)*($O$12/1)*$K20,IF($J20=12,'Datensatz Radiator'!P$13*(998.2/$M$12)*($O$12/1)*$K20,IF($J20=13,'Datensatz Radiator'!P$14*(998.2/$M$12)*($O$12/1)*$K20,IF($J20=14,'Datensatz Radiator'!P$15*(998.2/$M$12)*($O$12/1)*$K20,IF($J20=15,'Datensatz Radiator'!P$16*(998.2/$M$12)*($O$12/1)*$K20,IF($J20=16,'Datensatz Radiator'!P$17*(998.2/$M$12)*($O$12/1)*$K20,IF($J20=17,'Datensatz Radiator'!P$18*(998.2/$M$12)*($O$12/1)*$K20,IF($J20=18,'Datensatz Radiator'!P$19*(998.2/$M$12)*($O$12/1)*$K20,IF($J20=19,'Datensatz Radiator'!P$20*(998.2/$M$12)*($O$12/1)*$K20,IF($J20=20,'Datensatz Radiator'!P$21*(998.2/$M$12)*($O$12/1)*$K20,IF($J20=21,'Datensatz Radiator'!P$22*(998.2/$M$12)*($O$12/1)*$K20,IF($J20=22,'Datensatz Radiator'!P$23*(998.2/$M$12)*($O$12/1)*$K20,IF($J20=23,'Datensatz Radiator'!P$24*(998.2/$M$12)*($O$12/1)*$K20,IF($J20=24,'Datensatz Radiator'!P$25*(998.2/$M$12)*($O$12/1)*$K20,IF($J20=25,'Datensatz Radiator'!P$26*(998.2/$M$12)*($O$12/1)*$K20,IF($J20=26,'Datensatz Radiator'!P$27*(998.2/$M$12)*($O$12/1)*$K20,IF($J20=27,'Datensatz Radiator'!P$28*(998.2/$M$12)*($O$12/1)*$K20,IF($J20=28,'Datensatz Radiator'!P$39*(998.2/$M$12)*($O$12/1)*$K20,IF($J20=29,'Datensatz Radiator'!P$30*(998.2/$M$12)*($O$12/1)*$K20,IF($J20=30,'Datensatz Radiator'!P$31*(998.2/$M$12)*($O$12/1)*$K20,IF($J20=31,'Datensatz Radiator'!P$32*(998.2/$M$12)*($O$12/1)*$K20,IF($J20=32,'Datensatz Radiator'!P$33*(998.2/$M$12)*($O$12/1)*$K20,IF($J20=33,'Datensatz Radiator'!P$34*(998.2/$M$12)*($O$12/1)*$K20,IF($J20=34,'Datensatz Radiator'!P$35*(998.2/$M$12)*($O$12/1)*$K20,IF($J20=35,'Datensatz Radiator'!P$36*(998.2/$M$12)*($O$12/1)*$K20,IF($J20=36,'Datensatz Radiator'!P$37*(998.2/$M$12)*($O$12/1)*$K20,'Datensatz Radiator'!P$38*(998.2/$M$12)*($O$12/1)*$K20)))))))))))))))))))))))))))))))))))) -> 3332.6195 | AQ20: 1 | AR20: 4.6999942 | AS20: =AR20*998.2*9.807 -> 46009.876 | AT20: 3.6995628 | AU20: =AT20*998.2*9.807 -> 36216.306
A21: =AQ21*B$12*B$13 -> 2 | B21: =IF(B$10="DDC-1T+",AS21*B$11*B$13^2,AU21*B$11*B$13^2) -> 46009.675 | F21: =AQ21*G$12*G$13 -> 2 | G21: =IF(G$10="DDC-1T+",AS21*G$11*G$13^2,AU21*G$11*G$13^2) -> 36210.048 | I21: 6 | J21: 1 | K21: 1 | L21: Pa | M21: =IF($J21=1,'Datensatz Radiator'!D$2*(998.2/$M$12)*($O$12/1)*$K21,IF($J21=2,'Datensatz Radiator'!D$3*(998.2/$M$12)*($O$12/1)*$K21,IF($J21=3,'Datensatz Radiator'!D$4*(998.2/$M$12)*($O$12/1)*$K21,IF($J21=4,'Datensatz Radiator'!D$5*(998.2/$M$12)*($O$12/1)*$K21,IF($J21=5,'Datensatz Radiator'!D$6*(998.2/$M$12)*($O$12/1)*$K21,IF($J21=6,'Datensatz Radiator'!D$7*(998.2/$M$12)*($O$12/1)*$K21,IF($J21=7,'Datensatz Radiator'!D$8*(998.2/$M$12)*($O$12/1)*$K21,IF($J21=8,'Datensatz Radiator'!D$9*(998.2/$M$12)*($O$12/1)*$K21,IF($J21=9,'Datensatz Radiator'!D$10*(998.2/$M$12)*($O$12/1)*$K21,IF($J21=10,'Datensatz Radiator'!D$11*(998.2/$M$12)*($O$12/1)*$K21,IF($J21=11,'Datensatz Radiator'!D$12*(998.2/$M$12)*($O$12/1)*$K21,IF($J21=12,'Datensatz Radiator'!D$13*(998.2/$M$12)*($O$12/1)*$K21,IF($J21=13,'Datensatz Radiator'!D$14*(998.2/$M$12)*($O$12/1)*$K21,IF($J21=14,'Datensatz Radiator'!D$15*(998.2/$M$12)*($O$12/1)*$K21,IF($J21=15,'Datensatz Radiator'!D$16*(998.2/$M$12)*($O$12/1)*$K21,IF($J21=16,'Datensatz Radiator'!D$17*(998.2/$M$12)*($O$12/1)*$K21,IF($J21=17,'Datensatz Radiator'!D$18*(998.2/$M$12)*($O$12/1)*$K21,IF($J21=18,'Datensatz Radiator'!D$19*(998.2/$M$12)*($O$12/1)*$K21,IF($J21=19,'Datensatz Radiator'!D$20*(998.2/$M$12)*($O$12/1)*$K21,IF($J21=20,'Datensatz Radiator'!D$21*(998.2/$M$12)*($O$12/1)*$K21,IF($J21=21,'Datensatz Radiator'!D$22*(998.2/$M$12)*($O$12/1)*$K21,IF($J21=22,'Datensatz Radiator'!D$23*(998.2/$M$12)*($O$12/1)*$K21,IF($J21=23,'Datensatz Radiator'!D$24*(998.2/$M$12)*($O$12/1)*$K21,IF($J21=24,'Datensatz Radiator'!D$25*(998.2/$M$12)*($O$12/1)*$K21,IF($J21=25,'Datensatz Radiator'!D$26*(998.2/$M$12)*($O$12/1)*$K21,IF($J21=26,'Datensatz Radiator'!D$27*(998.2/$M$12)*($O$12/1)*$K21,IF($J21=27,'Datensatz Radiator'!D$28*(998.2/$M$12)*($O$12/1)*$K21,IF($J21=28,'Datensatz Radiator'!D$39*(998.2/$M$12)*($O$12/1)*$K21,IF($J21=29,'Datensatz Radiator'!D$30*(998.2/$M$12)*($O$12/1)*$K21,IF($J21=30,'Datensatz Radiator'!D$31*(998.2/$M$12)*($O$12/1)*$K21,IF($J21=31,'Datensatz Radiator'!D$32*(998.2/$M$12)*($O$12/1)*$K21,IF($J21=32,'Datensatz Radiator'!D$33*(998.2/$M$12)*($O$12/1)*$K21,IF($J21=33,'Datensatz Radiator'!D$34*(998.2/$M$12)*($O$12/1)*$K21,IF($J21=34,'Datensatz Radiator'!D$35*(998.2/$M$12)*($O$12/1)*$K21,IF($J21=35,'Datensatz Radiator'!D$36*(998.2/$M$12)*($O$12/1)*$K21,IF($J21=36,'Datensatz Radiator'!D$37*(998.2/$M$12)*($O$12/1)*$K21,'Datensatz Radiator'!D$38*(998.2/$M$12)*($O$12/1)*$K21)))))))))))))))))))))))))))))))))))) -> 0 | N21: =IF($J21=1,'Datensatz Radiator'!E$2*(998.2/$M$12)*($O$12/1)*$K21,IF($J21=2,'Datensatz Radiator'!E$3*(998.2/$M$12)*($O$12/1)*$K21,IF($J21=3,'Datensatz Radiator'!E$4*(998.2/$M$12)*($O$12/1)*$K21,IF($J21=4,'Datensatz Radiator'!E$5*(998.2/$M$12)*($O$12/1)*$K21,IF($J21=5,'Datensatz Radiator'!E$6*(998.2/$M$12)*($O$12/1)*$K21,IF($J21=6,'Datensatz Radiator'!E$7*(998.2/$M$12)*($O$12/1)*$K21,IF($J21=7,'Datensatz Radiator'!E$8*(998.2/$M$12)*($O$12/1)*$K21,IF($J21=8,'Datensatz Radiator'!E$9*(998.2/$M$12)*($O$12/1)*$K21,IF($J21=9,'Datensatz Radiator'!E$10*(998.2/$M$12)*($O$12/1)*$K21,IF($J21=10,'Datensatz Radiator'!E$11*(998.2/$M$12)*($O$12/1)*$K21,IF($J21=11,'Datensatz Radiator'!E$12*(998.2/$M$12)*($O$12/1)*$K21,IF($J21=12,'Datensatz Radiator'!E$13*(998.2/$M$12)*($O$12/1)*$K21,IF($J21=13,'Datensatz Radiator'!E$14*(998.2/$M$12)*($O$12/1)*$K21,IF($J21=14,'Datensatz Radiator'!E$15*(998.2/$M$12)*($O$12/1)*$K21,IF($J21=15,'Datensatz Radiator'!E$16*(998.2/$M$12)*($O$12/1)*$K21,IF($J21=16,'Datensatz Radiator'!E$17*(998.2/$M$12)*($O$12/1)*$K21,IF($J21=17,'Datensatz Radiator'!E$18*(998.2/$M$12)*($O$12/1)*$K21,IF($J21=18,'Datensatz Radiator'!E$19*(998.2/$M$12)*($O$12/1)*$K21,IF($J21=19,'Datensatz Radiator'!E$20*(998.2/$M$12)*($O$12/1)*$K21,IF($J21=20,'Datensatz Radiator'!E$21*(998.2/$M$12)*($O$12/1)*$K21,IF($J21=21,'Datensatz Radiator'!E$22*(998.2/$M$12)*($O$12/1)*$K21,IF($J21=22,'Datensatz Radiator'!E$23*(998.2/$M$12)*($O$12/1)*$K21,IF($J21=23,'Datensatz Radiator'!E$24*(998.2/$M$12)*($O$12/1)*$K21,IF($J21=24,'Datensatz Radiator'!E$25*(998.2/$M$12)*($O$12/1)*$K21,IF($J21=25,'Datensatz Radiator'!E$26*(998.2/$M$12)*($O$12/1)*$K21,IF($J21=26,'Datensatz Radiator'!E$27*(998.2/$M$12)*($O$12/1)*$K21,IF($J21=27,'Datensatz Radiator'!E$28*(998.2/$M$12)*($O$12/1)*$K21,IF($J21=28,'Datensatz Radiator'!E$39*(998.2/$M$12)*($O$12/1)*$K21,IF($J21=29,'Datensatz Radiator'!E$30*(998.2/$M$12)*($O$12/1)*$K21,IF($J21=30,'Datensatz Radiator'!E$31*(998.2/$M$12)*($O$12/1)*$K21,IF($J21=31,'Datensatz Radiator'!E$32*(998.2/$M$12)*($O$12/1)*$K21,IF($J21=32,'Datensatz Radiator'!E$33*(998.2/$M$12)*($O$12/1)*$K21,IF($J21=33,'Datensatz Radiator'!E$34*(998.2/$M$12)*($O$12/1)*$K21,IF($J21=34,'Datensatz Radiator'!E$35*(998.2/$M$12)*($O$12/1)*$K21,IF($J21=35,'Datensatz Radiator'!E$36*(998.2/$M$12)*($O$12/1)*$K21,IF($J21=36,'Datensatz Radiator'!E$37*(998.2/$M$12)*($O$12/1)*$K21,'Datensatz Radiator'!E$38*(998.2/$M$12)*($O$12/1)*$K21)))))))))))))))))))))))))))))))))))) -> 115.90785 | O21: =IF($J21=1,'Datensatz Radiator'!F$2*(998.2/$M$12)*($O$12/1)*$K21,IF($J21=2,'Datensatz Radiator'!F$3*(998.2/$M$12)*($O$12/1)*$K21,IF($J21=3,'Datensatz Radiator'!F$4*(998.2/$M$12)*($O$12/1)*$K21,IF($J21=4,'Datensatz Radiator'!F$5*(998.2/$M$12)*($O$12/1)*$K21,IF($J21=5,'Datensatz Radiator'!F$6*(998.2/$M$12)*($O$12/1)*$K21,IF($J21=6,'Datensatz Radiator'!F$7*(998.2/$M$12)*($O$12/1)*$K21,IF($J21=7,'Datensatz Radiator'!F$8*(998.2/$M$12)*($O$12/1)*$K21,IF($J21=8,'Datensatz Radiator'!F$9*(998.2/$M$12)*($O$12/1)*$K21,IF($J21=9,'Datensatz Radiator'!F$10*(998.2/$M$12)*($O$12/1)*$K21,IF($J21=10,'Datensatz Radiator'!F$11*(998.2/$M$12)*($O$12/1)*$K21,IF($J21=11,'Datensatz Radiator'!F$12*(998.2/$M$12)*($O$12/1)*$K21,IF($J21=12,'Datensatz Radiator'!F$13*(998.2/$M$12)*($O$12/1)*$K21,IF($J21=13,'Datensatz Radiator'!F$14*(998.2/$M$12)*($O$12/1)*$K21,IF($J21=14,'Datensatz Radiator'!F$15*(998.2/$M$12)*($O$12/1)*$K21,IF($J21=15,'Datensatz Radiator'!F$16*(998.2/$M$12)*($O$12/1)*$K21,IF($J21=16,'Datensatz Radiator'!F$17*(998.2/$M$12)*($O$12/1)*$K21,IF($J21=17,'Datensatz Radiator'!F$18*(998.2/$M$12)*($O$12/1)*$K21,IF($J21=18,'Datensatz Radiator'!F$19*(998.2/$M$12)*($O$12/1)*$K21,IF($J21=19,'Datensatz Radiator'!F$20*(998.2/$M$12)*($O$12/1)*$K21,IF($J21=20,'Datensatz Radiator'!F$21*(998.2/$M$12)*($O$12/1)*$K21,IF($J21=21,'Datensatz Radiator'!F$22*(998.2/$M$12)*($O$12/1)*$K21,IF($J21=22,'Datensatz Radiator'!F$23*(998.2/$M$12)*($O$12/1)*$K21,IF($J21=23,'Datensatz Radiator'!F$24*(998.2/$M$12)*($O$12/1)*$K21,IF($J21=24,'Datensatz Radiator'!F$25*(998.2/$M$12)*($O$12/1)*$K21,IF($J21=25,'Datensatz Radiator'!F$26*(998.2/$M$12)*($O$12/1)*$K21,IF($J21=26,'Datensatz Radiator'!F$27*(998.2/$M$12)*($O$12/1)*$K21,IF($J21=27,'Datensatz Radiator'!F$28*(998.2/$M$12)*($O$12/1)*$K21,IF($J21=28,'Datensatz Radiator'!F$39*(998.2/$M$12)*($O$12/1)*$K21,IF($J21=29,'Datensatz Radiator'!F$30*(998.2/$M$12)*($O$12/1)*$K21,IF($J21=30,'Datensatz Radiator'!F$31*(998.2/$M$12)*($O$12/1)*$K21,IF($J21=31,'Datensatz Radiator'!F$32*(998.2/$M$12)*($O$12/1)*$K21,IF($J21=32,'Datensatz Radiator'!F$33*(998.2/$M$12)*($O$12/1)*$K21,IF($J21=33,'Datensatz Radiator'!F$34*(998.2/$M$12)*($O$12/1)*$K21,IF($J21=34,'Datensatz Radiator'!F$35*(998.2/$M$12)*($O$12/1)*$K21,IF($J21=35,'Datensatz Radiator'!F$36*(998.2/$M$12)*($O$12/1)*$K21,IF($J21=36,'Datensatz Radiator'!F$37*(998.2/$M$12)*($O$12/1)*$K21,'Datensatz Radiator'!F$38*(998.2/$M$12)*($O$12/1)*$K21)))))))))))))))))))))))))))))))))))) -> 241.71664 | P21: =IF($J21=1,'Datensatz Radiator'!G$2*(998.2/$M$12)*($O$12/1)*$K21,IF($J21=2,'Datensatz Radiator'!G$3*(998.2/$M$12)*($O$12/1)*$K21,IF($J21=3,'Datensatz Radiator'!G$4*(998.2/$M$12)*($O$12/1)*$K21,IF($J21=4,'Datensatz Radiator'!G$5*(998.2/$M$12)*($O$12/1)*$K21,IF($J21=5,'Datensatz Radiator'!G$6*(998.2/$M$12)*($O$12/1)*$K21,IF($J21=6,'Datensatz Radiator'!G$7*(998.2/$M$12)*($O$12/1)*$K21,IF($J21=7,'Datensatz Radiator'!G$8*(998.2/$M$12)*($O$12/1)*$K21,IF($J21=8,'Datensatz Radiator'!G$9*(998.2/$M$12)*($O$12/1)*$K21,IF($J21=9,'Datensatz Radiator'!G$10*(998.2/$M$12)*($O$12/1)*$K21,IF($J21=10,'Datensatz Radiator'!G$11*(998.2/$M$12)*($O$12/1)*$K21,IF($J21=11,'Datensatz Radiator'!G$12*(998.2/$M$12)*($O$12/1)*$K21,IF($J21=12,'Datensatz Radiator'!G$13*(998.2/$M$12)*($O$12/1)*$K21,IF($J21=13,'Datensatz Radiator'!G$14*(998.2/$M$12)*($O$12/1)*$K21,IF($J21=14,'Datensatz Radiator'!G$15*(998.2/$M$12)*($O$12/1)*$K21,IF($J21=15,'Datensatz Radiator'!G$16*(998.2/$M$12)*($O$12/1)*$K21,IF($J21=16,'Datensatz Radiator'!G$17*(998.2/$M$12)*($O$12/1)*$K21,IF($J21=17,'Datensatz Radiator'!G$18*(998.2/$M$12)*($O$12/1)*$K21,IF($J21=18,'Datensatz Radiator'!G$19*(998.2/$M$12)*($O$12/1)*$K21,IF($J21=19,'Datensatz Radiator'!G$20*(998.2/$M$12)*($O$12/1)*$K21,IF($J21=20,'Datensatz Radiator'!G$21*(998.2/$M$12)*($O$12/1)*$K21,IF($J21=21,'Datensatz Radiator'!G$22*(998.2/$M$12)*($O$12/1)*$K21,IF($J21=22,'Datensatz Radiator'!G$23*(998.2/$M$12)*($O$12/1)*$K21,IF($J21=23,'Datensatz Radiator'!G$24*(998.2/$M$12)*($O$12/1)*$K21,IF($J21=24,'Datensatz Radiator'!G$25*(998.2/$M$12)*($O$12/1)*$K21,IF($J21=25,'Datensatz Radiator'!G$26*(998.2/$M$12)*($O$12/1)*$K21,IF($J21=26,'Datensatz Radiator'!G$27*(998.2/$M$12)*($O$12/1)*$K21,IF($J21=27,'Datensatz Radiator'!G$28*(998.2/$M$12)*($O$12/1)*$K21,IF($J21=28,'Datensatz Radiator'!G$39*(998.2/$M$12)*($O$12/1)*$K21,IF($J21=29,'Datensatz Radiator'!G$30*(998.2/$M$12)*($O$12/1)*$K21,IF($J21=30,'Datensatz Radiator'!G$31*(998.2/$M$12)*($O$12/1)*$K21,IF($J21=31,'Datensatz Radiator'!G$32*(998.2/$M$12)*($O$12/1)*$K21,IF($J21=32,'Datensatz Radiator'!G$33*(998.2/$M$12)*($O$12/1)*$K21,IF($J21=33,'Datensatz Radiator'!G$34*(998.2/$M$12)*($O$12/1)*$K21,IF($J21=34,'Datensatz Radiator'!G$35*(998.2/$M$12)*($O$12/1)*$K21,IF($J21=35,'Datensatz Radiator'!G$36*(998.2/$M$12)*($O$12/1)*$K21,IF($J21=36,'Datensatz Radiator'!G$37*(998.2/$M$12)*($O$12/1)*$K21,'Datensatz Radiator'!G$38*(998.2/$M$12)*($O$12/1)*$K21)))))))))))))))))))))))))))))))))))) -> 400.84933 | Q21: =IF($J21=1,'Datensatz Radiator'!H$2*(998.2/$M$12)*($O$12/1)*$K21,IF($J21=2,'Datensatz Radiator'!H$3*(998.2/$M$12)*($O$12/1)*$K21,IF($J21=3,'Datensatz Radiator'!H$4*(998.2/$M$12)*($O$12/1)*$K21,IF($J21=4,'Datensatz Radiator'!H$5*(998.2/$M$12)*($O$12/1)*$K21,IF($J21=5,'Datensatz Radiator'!H$6*(998.2/$M$12)*($O$12/1)*$K21,IF($J21=6,'Datensatz Radiator'!H$7*(998.2/$M$12)*($O$12/1)*$K21,IF($J21=7,'Datensatz Radiator'!H$8*(998.2/$M$12)*($O$12/1)*$K21,IF($J21=8,'Datensatz Radiator'!H$9*(998.2/$M$12)*($O$12/1)*$K21,IF($J21=9,'Datensatz Radiator'!H$10*(998.2/$M$12)*($O$12/1)*$K21,IF($J21=10,'Datensatz Radiator'!H$11*(998.2/$M$12)*($O$12/1)*$K21,IF($J21=11,'Datensatz Radiator'!H$12*(998.2/$M$12)*($O$12/1)*$K21,IF($J21=12,'Datensatz Radiator'!H$13*(998.2/$M$12)*($O$12/1)*$K21,IF($J21=13,'Datensatz Radiator'!H$14*(998.2/$M$12)*($O$12/1)*$K21,IF($J21=14,'Datensatz Radiator'!H$15*(998.2/$M$12)*($O$12/1)*$K21,IF($J21=15,'Datensatz Radiator'!H$16*(998.2/$M$12)*($O$12/1)*$K21,IF($J21=16,'Datensatz Radiator'!H$17*(998.2/$M$12)*($O$12/1)*$K21,IF($J21=17,'Datensatz Radiator'!H$18*(998.2/$M$12)*($O$12/1)*$K21,IF($J21=18,'Datensatz Radiator'!H$19*(998.2/$M$12)*($O$12/1)*$K21,IF($J21=19,'Datensatz Radiator'!H$20*(998.2/$M$12)*($O$12/1)*$K21,IF($J21=20,'Datensatz Radiator'!H$21*(998.2/$M$12)*($O$12/1)*$K21,IF($J21=21,'Datensatz Radiator'!H$22*(998.2/$M$12)*($O$12/1)*$K21,IF($J21=22,'Datensatz Radiator'!H$23*(998.2/$M$12)*($O$12/1)*$K21,IF($J21=23,'Datensatz Radiator'!H$24*(998.2/$M$12)*($O$12/1)*$K21,IF($J21=24,'Datensatz Radiator'!H$25*(998.2/$M$12)*($O$12/1)*$K21,IF($J21=25,'Datensatz Radiator'!H$26*(998.2/$M$12)*($O$12/1)*$K21,IF($J21=26,'Datensatz Radiator'!H$27*(998.2/$M$12)*($O$12/1)*$K21,IF($J21=27,'Datensatz Radiator'!H$28*(998.2/$M$12)*($O$12/1)*$K21,IF($J21=28,'Datensatz Radiator'!H$39*(998.2/$M$12)*($O$12/1)*$K21,IF($J21=29,'Datensatz Radiator'!H$30*(998.2/$M$12)*($O$12/1)*$K21,IF($J21=30,'Datensatz Radiator'!H$31*(998.2/$M$12)*($O$12/1)*$K21,IF($J21=31,'Datensatz Radiator'!H$32*(998.2/$M$12)*($O$12/1)*$K21,IF($J21=32,'Datensatz Radiator'!H$33*(998.2/$M$12)*($O$12/1)*$K21,IF($J21=33,'Datensatz Radiator'!H$34*(998.2/$M$12)*($O$12/1)*$K21,IF($J21=34,'Datensatz Radiator'!H$35*(998.2/$M$12)*($O$12/1)*$K21,IF($J21=35,'Datensatz Radiator'!H$36*(998.2/$M$12)*($O$12/1)*$K21,IF($J21=36,'Datensatz Radiator'!H$37*(998.2/$M$12)*($O$12/1)*$K21,'Datensatz Radiator'!H$38*(998.2/$M$12)*($O$12/1)*$K21)))))))))))))))))))))))))))))))))))) -> 593.30593 | R21: =IF($J21=1,'Datensatz Radiator'!I$2*(998.2/$M$12)*($O$12/1)*$K21,IF($J21=2,'Datensatz Radiator'!I$3*(998.2/$M$12)*($O$12/1)*$K21,IF($J21=3,'Datensatz Radiator'!I$4*(998.2/$M$12)*($O$12/1)*$K21,IF($J21=4,'Datensatz Radiator'!I$5*(998.2/$M$12)*($O$12/1)*$K21,IF($J21=5,'Datensatz Radiator'!I$6*(998.2/$M$12)*($O$12/1)*$K21,IF($J21=6,'Datensatz Radiator'!I$7*(998.2/$M$12)*($O$12/1)*$K21,IF($J21=7,'Datensatz Radiator'!I$8*(998.2/$M$12)*($O$12/1)*$K21,IF($J21=8,'Datensatz Radiator'!I$9*(998.2/$M$12)*($O$12/1)*$K21,IF($J21=9,'Datensatz Radiator'!I$10*(998.2/$M$12)*($O$12/1)*$K21,IF($J21=10,'Datensatz Radiator'!I$11*(998.2/$M$12)*($O$12/1)*$K21,IF($J21=11,'Datensatz Radiator'!I$12*(998.2/$M$12)*($O$12/1)*$K21,IF($J21=12,'Datensatz Radiator'!I$13*(998.2/$M$12)*($O$12/1)*$K21,IF($J21=13,'Datensatz Radiator'!I$14*(998.2/$M$12)*($O$12/1)*$K21,IF($J21=14,'Datensatz Radiator'!I$15*(998.2/$M$12)*($O$12/1)*$K21,IF($J21=15,'Datensatz Radiator'!I$16*(998.2/$M$12)*($O$12/1)*$K21,IF($J21=16,'Datensatz Radiator'!I$17*(998.2/$M$12)*($O$12/1)*$K21,IF($J21=17,'Datensatz Radiator'!I$18*(998.2/$M$12)*($O$12/1)*$K21,IF($J21=18,'Datensatz Radiator'!I$19*(998.2/$M$12)*($O$12/1)*$K21,IF($J21=19,'Datensatz Radiator'!I$20*(998.2/$M$12)*($O$12/1)*$K21,IF($J21=20,'Datensatz Radiator'!I$21*(998.2/$M$12)*($O$12/1)*$K21,IF($J21=21,'Datensatz Radiator'!I$22*(998.2/$M$12)*($O$12/1)*$K21,IF($J21=22,'Datensatz Radiator'!I$23*(998.2/$M$12)*($O$12/1)*$K21,IF($J21=23,'Datensatz Radiator'!I$24*(998.2/$M$12)*($O$12/1)*$K21,IF($J21=24,'Datensatz Radiator'!I$25*(998.2/$M$12)*($O$12/1)*$K21,IF($J21=25,'Datensatz Radiator'!I$26*(998.2/$M$12)*($O$12/1)*$K21,IF($J21=26,'Datensatz Radiator'!I$27*(998.2/$M$12)*($O$12/1)*$K21,IF($J21=27,'Datensatz Radiator'!I$28*(998.2/$M$12)*($O$12/1)*$K21,IF($J21=28,'Datensatz Radiator'!I$39*(998.2/$M$12)*($O$12/1)*$K21,IF($J21=29,'Datensatz Radiator'!I$30*(998.2/$M$12)*($O$12/1)*$K21,IF($J21=30,'Datensatz Radiator'!I$31*(998.2/$M$12)*($O$12/1)*$K21,IF($J21=31,'Datensatz Radiator'!I$32*(998.2/$M$12)*($O$12/1)*$K21,IF($J21=32,'Datensatz Radiator'!I$33*(998.2/$M$12)*($O$12/1)*$K21,IF($J21=33,'Datensatz Radiator'!I$34*(998.2/$M$12)*($O$12/1)*$K21,IF($J21=34,'Datensatz Radiator'!I$35*(998.2/$M$12)*($O$12/1)*$K21,IF($J21=35,'Datensatz Radiator'!I$36*(998.2/$M$12)*($O$12/1)*$K21,IF($J21=36,'Datensatz Radiator'!I$37*(998.2/$M$12)*($O$12/1)*$K21,'Datensatz Radiator'!I$38*(998.2/$M$12)*($O$12/1)*$K21)))))))))))))))))))))))))))))))))))) -> 819.08644 | S21: =IF($J21=1,'Datensatz Radiator'!J$2*(998.2/$M$12)*($O$12/1)*$K21,IF($J21=2,'Datensatz Radiator'!J$3*(998.2/$M$12)*($O$12/1)*$K21,IF($J21=3,'Datensatz Radiator'!J$4*(998.2/$M$12)*($O$12/1)*$K21,IF($J21=4,'Datensatz Radiator'!J$5*(998.2/$M$12)*($O$12/1)*$K21,IF($J21=5,'Datensatz Radiator'!J$6*(998.2/$M$12)*($O$12/1)*$K21,IF($J21=6,'Datensatz Radiator'!J$7*(998.2/$M$12)*($O$12/1)*$K21,IF($J21=7,'Datensatz Radiator'!J$8*(998.2/$M$12)*($O$12/1)*$K21,IF($J21=8,'Datensatz Radiator'!J$9*(998.2/$M$12)*($O$12/1)*$K21,IF($J21=9,'Datensatz Radiator'!J$10*(998.2/$M$12)*($O$12/1)*$K21,IF($J21=10,'Datensatz Radiator'!J$11*(998.2/$M$12)*($O$12/1)*$K21,IF($J21=11,'Datensatz Radiator'!J$12*(998.2/$M$12)*($O$12/1)*$K21,IF($J21=12,'Datensatz Radiator'!J$13*(998.2/$M$12)*($O$12/1)*$K21,IF($J21=13,'Datensatz Radiator'!J$14*(998.2/$M$12)*($O$12/1)*$K21,IF($J21=14,'Datensatz Radiator'!J$15*(998.2/$M$12)*($O$12/1)*$K21,IF($J21=15,'Datensatz Radiator'!J$16*(998.2/$M$12)*($O$12/1)*$K21,IF($J21=16,'Datensatz Radiator'!J$17*(998.2/$M$12)*($O$12/1)*$K21,IF($J21=17,'Datensatz Radiator'!J$18*(998.2/$M$12)*($O$12/1)*$K21,IF($J21=18,'Datensatz Radiator'!J$19*(998.2/$M$12)*($O$12/1)*$K21,IF($J21=19,'Datensatz Radiator'!J$20*(998.2/$M$12)*($O$12/1)*$K21,IF($J21=20,'Datensatz Radiator'!J$21*(998.2/$M$12)*($O$12/1)*$K21,IF($J21=21,'Datensatz Radiator'!J$22*(998.2/$M$12)*($O$12/1)*$K21,IF($J21=22,'Datensatz Radiator'!J$23*(998.2/$M$12)*($O$12/1)*$K21,IF($J21=23,'Datensatz Radiator'!J$24*(998.2/$M$12)*($O$12/1)*$K21,IF($J21=24,'Datensatz Radiator'!J$25*(998.2/$M$12)*($O$12/1)*$K21,IF($J21=25,'Datensatz Radiator'!J$26*(998.2/$M$12)*($O$12/1)*$K21,IF($J21=26,'Datensatz Radiator'!J$27*(998.2/$M$12)*($O$12/1)*$K21,IF($J21=27,'Datensatz Radiator'!J$28*(998.2/$M$12)*($O$12/1)*$K21,IF($J21=28,'Datensatz Radiator'!J$39*(998.2/$M$12)*($O$12/1)*$K21,IF($J21=29,'Datensatz Radiator'!J$30*(998.2/$M$12)*($O$12/1)*$K21,IF($J21=30,'Datensatz Radiator'!J$31*(998.2/$M$12)*($O$12/1)*$K21,IF($J21=31,'Datensatz Radiator'!J$32*(998.2/$M$12)*($O$12/1)*$K21,IF($J21=32,'Datensatz Radiator'!J$33*(998.2/$M$12)*($O$12/1)*$K21,IF($J21=33,'Datensatz Radiator'!J$34*(998.2/$M$12)*($O$12/1)*$K21,IF($J21=34,'Datensatz Radiator'!J$35*(998.2/$M$12)*($O$12/1)*$K21,IF($J21=35,'Datensatz Radiator'!J$36*(998.2/$M$12)*($O$12/1)*$K21,IF($J21=36,'Datensatz Radiator'!J$37*(998.2/$M$12)*($O$12/1)*$K21,'Datensatz Radiator'!J$38*(998.2/$M$12)*($O$12/1)*$K21)))))))))))))))))))))))))))))))))))) -> 1078.1909 | T21: =IF($J21=1,'Datensatz Radiator'!K$2*(998.2/$M$12)*($O$12/1)*$K21,IF($J21=2,'Datensatz Radiator'!K$3*(998.2/$M$12)*($O$12/1)*$K21,IF($J21=3,'Datensatz Radiator'!K$4*(998.2/$M$12)*($O$12/1)*$K21,IF($J21=4,'Datensatz Radiator'!K$5*(998.2/$M$12)*($O$12/1)*$K21,IF($J21=5,'Datensatz Radiator'!K$6*(998.2/$M$12)*($O$12/1)*$K21,IF($J21=6,'Datensatz Radiator'!K$7*(998.2/$M$12)*($O$12/1)*$K21,IF($J21=7,'Datensatz Radiator'!K$8*(998.2/$M$12)*($O$12/1)*$K21,IF($J21=8,'Datensatz Radiator'!K$9*(998.2/$M$12)*($O$12/1)*$K21,IF($J21=9,'Datensatz Radiator'!K$10*(998.2/$M$12)*($O$12/1)*$K21,IF($J21=10,'Datensatz Radiator'!K$11*(998.2/$M$12)*($O$12/1)*$K21,IF($J21=11,'Datensatz Radiator'!K$12*(998.2/$M$12)*($O$12/1)*$K21,IF($J21=12,'Datensatz Radiator'!K$13*(998.2/$M$12)*($O$12/1)*$K21,IF($J21=13,'Datensatz Radiator'!K$14*(998.2/$M$12)*($O$12/1)*$K21,IF($J21=14,'Datensatz Radiator'!K$15*(998.2/$M$12)*($O$12/1)*$K21,IF($J21=15,'Datensatz Radiator'!K$16*(998.2/$M$12)*($O$12/1)*$K21,IF($J21=16,'Datensatz Radiator'!K$17*(998.2/$M$12)*($O$12/1)*$K21,IF($J21=17,'Datensatz Radiator'!K$18*(998.2/$M$12)*($O$12/1)*$K21,IF($J21=18,'Datensatz Radiator'!K$19*(998.2/$M$12)*($O$12/1)*$K21,IF($J21=19,'Datensatz Radiator'!K$20*(998.2/$M$12)*($O$12/1)*$K21,IF($J21=20,'Datensatz Radiator'!K$21*(998.2/$M$12)*($O$12/1)*$K21,IF($J21=21,'Datensatz Radiator'!K$22*(998.2/$M$12)*($O$12/1)*$K21,IF($J21=22,'Datensatz Radiator'!K$23*(998.2/$M$12)*($O$12/1)*$K21,IF($J21=23,'Datensatz Radiator'!K$24*(998.2/$M$12)*($O$12/1)*$K21,IF($J21=24,'Datensatz Radiator'!K$25*(998.2/$M$12)*($O$12/1)*$K21,IF($J21=25,'Datensatz Radiator'!K$26*(998.2/$M$12)*($O$12/1)*$K21,IF($J21=26,'Datensatz Radiator'!K$27*(998.2/$M$12)*($O$12/1)*$K21,IF($J21=27,'Datensatz Radiator'!K$28*(998.2/$M$12)*($O$12/1)*$K21,IF($J21=28,'Datensatz Radiator'!K$39*(998.2/$M$12)*($O$12/1)*$K21,IF($J21=29,'Datensatz Radiator'!K$30*(998.2/$M$12)*($O$12/1)*$K21,IF($J21=30,'Datensatz Radiator'!K$31*(998.2/$M$12)*($O$12/1)*$K21,IF($J21=31,'Datensatz Radiator'!K$32*(998.2/$M$12)*($O$12/1)*$K21,IF($J21=32,'Datensatz Radiator'!K$33*(998.2/$M$12)*($O$12/1)*$K21,IF($J21=33,'Datensatz Radiator'!K$34*(998.2/$M$12)*($O$12/1)*$K21,IF($J21=34,'Datensatz Radiator'!K$35*(998.2/$M$12)*($O$12/1)*$K21,IF($J21=35,'Datensatz Radiator'!K$36*(998.2/$M$12)*($O$12/1)*$K21,IF($J21=36,'Datensatz Radiator'!K$37*(998.2/$M$12)*($O$12/1)*$K21,'Datensatz Radiator'!K$38*(998.2/$M$12)*($O$12/1)*$K21)))))))))))))))))))))))))))))))))))) -> 1370.6192 | ... Y21: =IF($J21=1,'Datensatz Radiator'!P$2*(998.2/$M$12)*($O$12/1)*$K21,IF($J21=2,'Datensatz Radiator'!P$3*(998.2/$M$12)*($O$12/1)*$K21,IF($J21=3,'Datensatz Radiator'!P$4*(998.2/$M$12)*($O$12/1)*$K21,IF($J21=4,'Datensatz Radiator'!P$5*(998.2/$M$12)*($O$12/1)*$K21,IF($J21=5,'Datensatz Radiator'!P$6*(998.2/$M$12)*($O$12/1)*$K21,IF($J21=6,'Datensatz Radiator'!P$7*(998.2/$M$12)*($O$12/1)*$K21,IF($J21=7,'Datensatz Radiator'!P$8*(998.2/$M$12)*($O$12/1)*$K21,IF($J21=8,'Datensatz Radiator'!P$9*(998.2/$M$12)*($O$12/1)*$K21,IF($J21=9,'Datensatz Radiator'!P$10*(998.2/$M$12)*($O$12/1)*$K21,IF($J21=10,'Datensatz Radiator'!P$11*(998.2/$M$12)*($O$12/1)*$K21,IF($J21=11,'Datensatz Radiator'!P$12*(998.2/$M$12)*($O$12/1)*$K21,IF($J21=12,'Datensatz Radiator'!P$13*(998.2/$M$12)*($O$12/1)*$K21,IF($J21=13,'Datensatz Radiator'!P$14*(998.2/$M$12)*($O$12/1)*$K21,IF($J21=14,'Datensatz Radiator'!P$15*(998.2/$M$12)*($O$12/1)*$K21,IF($J21=15,'Datensatz Radiator'!P$16*(998.2/$M$12)*($O$12/1)*$K21,IF($J21=16,'Datensatz Radiator'!P$17*(998.2/$M$12)*($O$12/1)*$K21,IF($J21=17,'Datensatz Radiator'!P$18*(998.2/$M$12)*($O$12/1)*$K21,IF($J21=18,'Datensatz Radiator'!P$19*(998.2/$M$12)*($O$12/1)*$K21,IF($J21=19,'Datensatz Radiator'!P$20*(998.2/$M$12)*($O$12/1)*$K21,IF($J21=20,'Datensatz Radiator'!P$21*(998.2/$M$12)*($O$12/1)*$K21,IF($J21=21,'Datensatz Radiator'!P$22*(998.2/$M$12)*($O$12/1)*$K21,IF($J21=22,'Datensatz Radiator'!P$23*(998.2/$M$12)*($O$12/1)*$K21,IF($J21=23,'Datensatz Radiator'!P$24*(998.2/$M$12)*($O$12/1)*$K21,IF($J21=24,'Datensatz Radiator'!P$25*(998.2/$M$12)*($O$12/1)*$K21,IF($J21=25,'Datensatz Radiator'!P$26*(998.2/$M$12)*($O$12/1)*$K21,IF($J21=26,'Datensatz Radiator'!P$27*(998.2/$M$12)*($O$12/1)*$K21,IF($J21=27,'Datensatz Radiator'!P$28*(998.2/$M$12)*($O$12/1)*$K21,IF($J21=28,'Datensatz Radiator'!P$39*(998.2/$M$12)*($O$12/1)*$K21,IF($J21=29,'Datensatz Radiator'!P$30*(998.2/$M$12)*($O$12/1)*$K21,IF($J21=30,'Datensatz Radiator'!P$31*(998.2/$M$12)*($O$12/1)*$K21,IF($J21=31,'Datensatz Radiator'!P$32*(998.2/$M$12)*($O$12/1)*$K21,IF($J21=32,'Datensatz Radiator'!P$33*(998.2/$M$12)*($O$12/1)*$K21,IF($J21=33,'Datensatz Radiator'!P$34*(998.2/$M$12)*($O$12/1)*$K21,IF($J21=34,'Datensatz Radiator'!P$35*(998.2/$M$12)*($O$12/1)*$K21,IF($J21=35,'Datensatz Radiator'!P$36*(998.2/$M$12)*($O$12/1)*$K21,IF($J21=36,'Datensatz Radiator'!P$37*(998.2/$M$12)*($O$12/1)*$K21,'Datensatz Radiator'!P$38*(998.2/$M$12)*($O$12/1)*$K21)))))))))))))))))))))))))))))))))))) -> 3332.6195 | AQ21: 2 | AR21: 4.6999737 | AS21: =AR21*998.2*9.807 -> 46009.675 | AT21: 3.6989235 | AU21: =AT21*998.2*9.807 -> 36210.048
A22: =AQ22*B$12*B$13 -> 3 | B22: =IF(B$10="DDC-1T+",AS22*B$11*B$13^2,AU22*B$11*B$13^2) -> 46009.306 | F22: =AQ22*G$12*G$13 -> 3 | G22: =IF(G$10="DDC-1T+",AS22*G$11*G$13^2,AU22*G$11*G$13^2) -> 36202.734 | I22: 7 | J22: 1 | K22: 1 | L22: Pa | M22: =IF($J22=1,'Datensatz Radiator'!D$2*(998.2/$M$12)*($O$12/1)*$K22,IF($J22=2,'Datensatz Radiator'!D$3*(998.2/$M$12)*($O$12/1)*$K22,IF($J22=3,'Datensatz Radiator'!D$4*(998.2/$M$12)*($O$12/1)*$K22,IF($J22=4,'Datensatz Radiator'!D$5*(998.2/$M$12)*($O$12/1)*$K22,IF($J22=5,'Datensatz Radiator'!D$6*(998.2/$M$12)*($O$12/1)*$K22,IF($J22=6,'Datensatz Radiator'!D$7*(998.2/$M$12)*($O$12/1)*$K22,IF($J22=7,'Datensatz Radiator'!D$8*(998.2/$M$12)*($O$12/1)*$K22,IF($J22=8,'Datensatz Radiator'!D$9*(998.2/$M$12)*($O$12/1)*$K22,IF($J22=9,'Datensatz Radiator'!D$10*(998.2/$M$12)*($O$12/1)*$K22,IF($J22=10,'Datensatz Radiator'!D$11*(998.2/$M$12)*($O$12/1)*$K22,IF($J22=11,'Datensatz Radiator'!D$12*(998.2/$M$12)*($O$12/1)*$K22,IF($J22=12,'Datensatz Radiator'!D$13*(998.2/$M$12)*($O$12/1)*$K22,IF($J22=13,'Datensatz Radiator'!D$14*(998.2/$M$12)*($O$12/1)*$K22,IF($J22=14,'Datensatz Radiator'!D$15*(998.2/$M$12)*($O$12/1)*$K22,IF($J22=15,'Datensatz Radiator'!D$16*(998.2/$M$12)*($O$12/1)*$K22,IF($J22=16,'Datensatz Radiator'!D$17*(998.2/$M$12)*($O$12/1)*$K22,IF($J22=17,'Datensatz Radiator'!D$18*(998.2/$M$12)*($O$12/1)*$K22,IF($J22=18,'Datensatz Radiator'!D$19*(998.2/$M$12)*($O$12/1)*$K22,IF($J22=19,'Datensatz Radiator'!D$20*(998.2/$M$12)*($O$12/1)*$K22,IF($J22=20,'Datensatz Radiator'!D$21*(998.2/$M$12)*($O$12/1)*$K22,IF($J22=21,'Datensatz Radiator'!D$22*(998.2/$M$12)*($O$12/1)*$K22,IF($J22=22,'Datensatz Radiator'!D$23*(998.2/$M$12)*($O$12/1)*$K22,IF($J22=23,'Datensatz Radiator'!D$24*(998.2/$M$12)*($O$12/1)*$K22,IF($J22=24,'Datensatz Radiator'!D$25*(998.2/$M$12)*($O$12/1)*$K22,IF($J22=25,'Datensatz Radiator'!D$26*(998.2/$M$12)*($O$12/1)*$K22,IF($J22=26,'Datensatz Radiator'!D$27*(998.2/$M$12)*($O$12/1)*$K22,IF($J22=27,'Datensatz Radiator'!D$28*(998.2/$M$12)*($O$12/1)*$K22,IF($J22=28,'Datensatz Radiator'!D$39*(998.2/$M$12)*($O$12/1)*$K22,IF($J22=29,'Datensatz Radiator'!D$30*(998.2/$M$12)*($O$12/1)*$K22,IF($J22=30,'Datensatz Radiator'!D$31*(998.2/$M$12)*($O$12/1)*$K22,IF($J22=31,'Datensatz Radiator'!D$32*(998.2/$M$12)*($O$12/1)*$K22,IF($J22=32,'Datensatz Radiator'!D$33*(998.2/$M$12)*($O$12/1)*$K22,IF($J22=33,'Datensatz Radiator'!D$34*(998.2/$M$12)*($O$12/1)*$K22,IF($J22=34,'Datensatz Radiator'!D$35*(998.2/$M$12)*($O$12/1)*$K22,IF($J22=35,'Datensatz Radiator'!D$36*(998.2/$M$12)*($O$12/1)*$K22,IF($J22=36,'Datensatz Radiator'!D$37*(998.2/$M$12)*($O$12/1)*$K22,'Datensatz Radiator'!D$38*(998.2/$M$12)*($O$12/1)*$K22)))))))))))))))))))))))))))))))))))) -> 0 | N22: =IF($J22=1,'Datensatz Radiator'!E$2*(998.2/$M$12)*($O$12/1)*$K22,IF($J22=2,'Datensatz Radiator'!E$3*(998.2/$M$12)*($O$12/1)*$K22,IF($J22=3,'Datensatz Radiator'!E$4*(998.2/$M$12)*($O$12/1)*$K22,IF($J22=4,'Datensatz Radiator'!E$5*(998.2/$M$12)*($O$12/1)*$K22,IF($J22=5,'Datensatz Radiator'!E$6*(998.2/$M$12)*($O$12/1)*$K22,IF($J22=6,'Datensatz Radiator'!E$7*(998.2/$M$12)*($O$12/1)*$K22,IF($J22=7,'Datensatz Radiator'!E$8*(998.2/$M$12)*($O$12/1)*$K22,IF($J22=8,'Datensatz Radiator'!E$9*(998.2/$M$12)*($O$12/1)*$K22,IF($J22=9,'Datensatz Radiator'!E$10*(998.2/$M$12)*($O$12/1)*$K22,IF($J22=10,'Datensatz Radiator'!E$11*(998.2/$M$12)*($O$12/1)*$K22,IF($J22=11,'Datensatz Radiator'!E$12*(998.2/$M$12)*($O$12/1)*$K22,IF($J22=12,'Datensatz Radiator'!E$13*(998.2/$M$12)*($O$12/1)*$K22,IF($J22=13,'Datensatz Radiator'!E$14*(998.2/$M$12)*($O$12/1)*$K22,IF($J22=14,'Datensatz Radiator'!E$15*(998.2/$M$12)*($O$12/1)*$K22,IF($J22=15,'Datensatz Radiator'!E$16*(998.2/$M$12)*($O$12/1)*$K22,IF($J22=16,'Datensatz Radiator'!E$17*(998.2/$M$12)*($O$12/1)*$K22,IF($J22=17,'Datensatz Radiator'!E$18*(998.2/$M$12)*($O$12/1)*$K22,IF($J22=18,'Datensatz Radiator'!E$19*(998.2/$M$12)*($O$12/1)*$K22,IF($J22=19,'Datensatz Radiator'!E$20*(998.2/$M$12)*($O$12/1)*$K22,IF($J22=20,'Datensatz Radiator'!E$21*(998.2/$M$12)*($O$12/1)*$K22,IF($J22=21,'Datensatz Radiator'!E$22*(998.2/$M$12)*($O$12/1)*$K22,IF($J22=22,'Datensatz Radiator'!E$23*(998.2/$M$12)*($O$12/1)*$K22,IF($J22=23,'Datensatz Radiator'!E$24*(998.2/$M$12)*($O$12/1)*$K22,IF($J22=24,'Datensatz Radiator'!E$25*(998.2/$M$12)*($O$12/1)*$K22,IF($J22=25,'Datensatz Radiator'!E$26*(998.2/$M$12)*($O$12/1)*$K22,IF($J22=26,'Datensatz Radiator'!E$27*(998.2/$M$12)*($O$12/1)*$K22,IF($J22=27,'Datensatz Radiator'!E$28*(998.2/$M$12)*($O$12/1)*$K22,IF($J22=28,'Datensatz Radiator'!E$39*(998.2/$M$12)*($O$12/1)*$K22,IF($J22=29,'Datensatz Radiator'!E$30*(998.2/$M$12)*($O$12/1)*$K22,IF($J22=30,'Datensatz Radiator'!E$31*(998.2/$M$12)*($O$12/1)*$K22,IF($J22=31,'Datensatz Radiator'!E$32*(998.2/$M$12)*($O$12/1)*$K22,IF($J22=32,'Datensatz Radiator'!E$33*(998.2/$M$12)*($O$12/1)*$K22,IF($J22=33,'Datensatz Radiator'!E$34*(998.2/$M$12)*($O$12/1)*$K22,IF($J22=34,'Datensatz Radiator'!E$35*(998.2/$M$12)*($O$12/1)*$K22,IF($J22=35,'Datensatz Radiator'!E$36*(998.2/$M$12)*($O$12/1)*$K22,IF($J22=36,'Datensatz Radiator'!E$37*(998.2/$M$12)*($O$12/1)*$K22,'Datensatz Radiator'!E$38*(998.2/$M$12)*($O$12/1)*$K22)))))))))))))))))))))))))))))))))))) -> 115.90785 | O22: =IF($J22=1,'Datensatz Radiator'!F$2*(998.2/$M$12)*($O$12/1)*$K22,IF($J22=2,'Datensatz Radiator'!F$3*(998.2/$M$12)*($O$12/1)*$K22,IF($J22=3,'Datensatz Radiator'!F$4*(998.2/$M$12)*($O$12/1)*$K22,IF($J22=4,'Datensatz Radiator'!F$5*(998.2/$M$12)*($O$12/1)*$K22,IF($J22=5,'Datensatz Radiator'!F$6*(998.2/$M$12)*($O$12/1)*$K22,IF($J22=6,'Datensatz Radiator'!F$7*(998.2/$M$12)*($O$12/1)*$K22,IF($J22=7,'Datensatz Radiator'!F$8*(998.2/$M$12)*($O$12/1)*$K22,IF($J22=8,'Datensatz Radiator'!F$9*(998.2/$M$12)*($O$12/1)*$K22,IF($J22=9,'Datensatz Radiator'!F$10*(998.2/$M$12)*($O$12/1)*$K22,IF($J22=10,'Datensatz Radiator'!F$11*(998.2/$M$12)*($O$12/1)*$K22,IF($J22=11,'Datensatz Radiator'!F$12*(998.2/$M$12)*($O$12/1)*$K22,IF($J22=12,'Datensatz Radiator'!F$13*(998.2/$M$12)*($O$12/1)*$K22,IF($J22=13,'Datensatz Radiator'!F$14*(998.2/$M$12)*($O$12/1)*$K22,IF($J22=14,'Datensatz Radiator'!F$15*(998.2/$M$12)*($O$12/1)*$K22,IF($J22=15,'Datensatz Radiator'!F$16*(998.2/$M$12)*($O$12/1)*$K22,IF($J22=16,'Datensatz Radiator'!F$17*(998.2/$M$12)*($O$12/1)*$K22,IF($J22=17,'Datensatz Radiator'!F$18*(998.2/$M$12)*($O$12/1)*$K22,IF($J22=18,'Datensatz Radiator'!F$19*(998.2/$M$12)*($O$12/1)*$K22,IF($J22=19,'Datensatz Radiator'!F$20*(998.2/$M$12)*($O$12/1)*$K22,IF($J22=20,'Datensatz Radiator'!F$21*(998.2/$M$12)*($O$12/1)*$K22,IF($J22=21,'Datensatz Radiator'!F$22*(998.2/$M$12)*($O$12/1)*$K22,IF($J22=22,'Datensatz Radiator'!F$23*(998.2/$M$12)*($O$12/1)*$K22,IF($J22=23,'Datensatz Radiator'!F$24*(998.2/$M$12)*($O$12/1)*$K22,IF($J22=24,'Datensatz Radiator'!F$25*(998.2/$M$12)*($O$12/1)*$K22,IF($J22=25,'Datensatz Radiator'!F$26*(998.2/$M$12)*($O$12/1)*$K22,IF($J22=26,'Datensatz Radiator'!F$27*(998.2/$M$12)*($O$12/1)*$K22,IF($J22=27,'Datensatz Radiator'!F$28*(998.2/$M$12)*($O$12/1)*$K22,IF($J22=28,'Datensatz Radiator'!F$39*(998.2/$M$12)*($O$12/1)*$K22,IF($J22=29,'Datensatz Radiator'!F$30*(998.2/$M$12)*($O$12/1)*$K22,IF($J22=30,'Datensatz Radiator'!F$31*(998.2/$M$12)*($O$12/1)*$K22,IF($J22=31,'Datensatz Radiator'!F$32*(998.2/$M$12)*($O$12/1)*$K22,IF($J22=32,'Datensatz Radiator'!F$33*(998.2/$M$12)*($O$12/1)*$K22,IF($J22=33,'Datensatz Radiator'!F$34*(998.2/$M$12)*($O$12/1)*$K22,IF($J22=34,'Datensatz Radiator'!F$35*(998.2/$M$12)*($O$12/1)*$K22,IF($J22=35,'Datensatz Radiator'!F$36*(998.2/$M$12)*($O$12/1)*$K22,IF($J22=36,'Datensatz Radiator'!F$37*(998.2/$M$12)*($O$12/1)*$K22,'Datensatz Radiator'!F$38*(998.2/$M$12)*($O$12/1)*$K22)))))))))))))))))))))))))))))))))))) -> 241.71664 | P22: =IF($J22=1,'Datensatz Radiator'!G$2*(998.2/$M$12)*($O$12/1)*$K22,IF($J22=2,'Datensatz Radiator'!G$3*(998.2/$M$12)*($O$12/1)*$K22,IF($J22=3,'Datensatz Radiator'!G$4*(998.2/$M$12)*($O$12/1)*$K22,IF($J22=4,'Datensatz Radiator'!G$5*(998.2/$M$12)*($O$12/1)*$K22,IF($J22=5,'Datensatz Radiator'!G$6*(998.2/$M$12)*($O$12/1)*$K22,IF($J22=6,'Datensatz Radiator'!G$7*(998.2/$M$12)*($O$12/1)*$K22,IF($J22=7,'Datensatz Radiator'!G$8*(998.2/$M$12)*($O$12/1)*$K22,IF($J22=8,'Datensatz Radiator'!G$9*(998.2/$M$12)*($O$12/1)*$K22,IF($J22=9,'Datensatz Radiator'!G$10*(998.2/$M$12)*($O$12/1)*$K22,IF($J22=10,'Datensatz Radiator'!G$11*(998.2/$M$12)*($O$12/1)*$K22,IF($J22=11,'Datensatz Radiator'!G$12*(998.2/$M$12)*($O$12/1)*$K22,IF($J22=12,'Datensatz Radiator'!G$13*(998.2/$M$12)*($O$12/1)*$K22,IF($J22=13,'Datensatz Radiator'!G$14*(998.2/$M$12)*($O$12/1)*$K22,IF($J22=14,'Datensatz Radiator'!G$15*(998.2/$M$12)*($O$12/1)*$K22,IF($J22=15,'Datensatz Radiator'!G$16*(998.2/$M$12)*($O$12/1)*$K22,IF($J22=16,'Datensatz Radiator'!G$17*(998.2/$M$12)*($O$12/1)*$K22,IF($J22=17,'Datensatz Radiator'!G$18*(998.2/$M$12)*($O$12/1)*$K22,IF($J22=18,'Datensatz Radiator'!G$19*(998.2/$M$12)*($O$12/1)*$K22,IF($J22=19,'Datensatz Radiator'!G$20*(998.2/$M$12)*($O$12/1)*$K22,IF($J22=20,'Datensatz Radiator'!G$21*(998.2/$M$12)*($O$12/1)*$K22,IF($J22=21,'Datensatz Radiator'!G$22*(998.2/$M$12)*($O$12/1)*$K22,IF($J22=22,'Datensatz Radiator'!G$23*(998.2/$M$12)*($O$12/1)*$K22,IF($J22=23,'Datensatz Radiator'!G$24*(998.2/$M$12)*($O$12/1)*$K22,IF($J22=24,'Datensatz Radiator'!G$25*(998.2/$M$12)*($O$12/1)*$K22,IF($J22=25,'Datensatz Radiator'!G$26*(998.2/$M$12)*($O$12/1)*$K22,IF($J22=26,'Datensatz Radiator'!G$27*(998.2/$M$12)*($O$12/1)*$K22,IF($J22=27,'Datensatz Radiator'!G$28*(998.2/$M$12)*($O$12/1)*$K22,IF($J22=28,'Datensatz Radiator'!G$39*(998.2/$M$12)*($O$12/1)*$K22,IF($J22=29,'Datensatz Radiator'!G$30*(998.2/$M$12)*($O$12/1)*$K22,IF($J22=30,'Datensatz Radiator'!G$31*(998.2/$M$12)*($O$12/1)*$K22,IF($J22=31,'Datensatz Radiator'!G$32*(998.2/$M$12)*($O$12/1)*$K22,IF($J22=32,'Datensatz Radiator'!G$33*(998.2/$M$12)*($O$12/1)*$K22,IF($J22=33,'Datensatz Radiator'!G$34*(998.2/$M$12)*($O$12/1)*$K22,IF($J22=34,'Datensatz Radiator'!G$35*(998.2/$M$12)*($O$12/1)*$K22,IF($J22=35,'Datensatz Radiator'!G$36*(998.2/$M$12)*($O$12/1)*$K22,IF($J22=36,'Datensatz Radiator'!G$37*(998.2/$M$12)*($O$12/1)*$K22,'Datensatz Radiator'!G$38*(998.2/$M$12)*($O$12/1)*$K22)))))))))))))))))))))))))))))))))))) -> 400.84933 | Q22: =IF($J22=1,'Datensatz Radiator'!H$2*(998.2/$M$12)*($O$12/1)*$K22,IF($J22=2,'Datensatz Radiator'!H$3*(998.2/$M$12)*($O$12/1)*$K22,IF($J22=3,'Datensatz Radiator'!H$4*(998.2/$M$12)*($O$12/1)*$K22,IF($J22=4,'Datensatz Radiator'!H$5*(998.2/$M$12)*($O$12/1)*$K22,IF($J22=5,'Datensatz Radiator'!H$6*(998.2/$M$12)*($O$12/1)*$K22,IF($J22=6,'Datensatz Radiator'!H$7*(998.2/$M$12)*($O$12/1)*$K22,IF($J22=7,'Datensatz Radiator'!H$8*(998.2/$M$12)*($O$12/1)*$K22,IF($J22=8,'Datensatz Radiator'!H$9*(998.2/$M$12)*($O$12/1)*$K22,IF($J22=9,'Datensatz Radiator'!H$10*(998.2/$M$12)*($O$12/1)*$K22,IF($J22=10,'Datensatz Radiator'!H$11*(998.2/$M$12)*($O$12/1)*$K22,IF($J22=11,'Datensatz Radiator'!H$12*(998.2/$M$12)*($O$12/1)*$K22,IF($J22=12,'Datensatz Radiator'!H$13*(998.2/$M$12)*($O$12/1)*$K22,IF($J22=13,'Datensatz Radiator'!H$14*(998.2/$M$12)*($O$12/1)*$K22,IF($J22=14,'Datensatz Radiator'!H$15*(998.2/$M$12)*($O$12/1)*$K22,IF($J22=15,'Datensatz Radiator'!H$16*(998.2/$M$12)*($O$12/1)*$K22,IF($J22=16,'Datensatz Radiator'!H$17*(998.2/$M$12)*($O$12/1)*$K22,IF($J22=17,'Datensatz Radiator'!H$18*(998.2/$M$12)*($O$12/1)*$K22,IF($J22=18,'Datensatz Radiator'!H$19*(998.2/$M$12)*($O$12/1)*$K22,IF($J22=19,'Datensatz Radiator'!H$20*(998.2/$M$12)*($O$12/1)*$K22,IF($J22=20,'Datensatz Radiator'!H$21*(998.2/$M$12)*($O$12/1)*$K22,IF($J22=21,'Datensatz Radiator'!H$22*(998.2/$M$12)*($O$12/1)*$K22,IF($J22=22,'Datensatz Radiator'!H$23*(998.2/$M$12)*($O$12/1)*$K22,IF($J22=23,'Datensatz Radiator'!H$24*(998.2/$M$12)*($O$12/1)*$K22,IF($J22=24,'Datensatz Radiator'!H$25*(998.2/$M$12)*($O$12/1)*$K22,IF($J22=25,'Datensatz Radiator'!H$26*(998.2/$M$12)*($O$12/1)*$K22,IF($J22=26,'Datensatz Radiator'!H$27*(998.2/$M$12)*($O$12/1)*$K22,IF($J22=27,'Datensatz Radiator'!H$28*(998.2/$M$12)*($O$12/1)*$K22,IF($J22=28,'Datensatz Radiator'!H$39*(998.2/$M$12)*($O$12/1)*$K22,IF($J22=29,'Datensatz Radiator'!H$30*(998.2/$M$12)*($O$12/1)*$K22,IF($J22=30,'Datensatz Radiator'!H$31*(998.2/$M$12)*($O$12/1)*$K22,IF($J22=31,'Datensatz Radiator'!H$32*(998.2/$M$12)*($O$12/1)*$K22,IF($J22=32,'Datensatz Radiator'!H$33*(998.2/$M$12)*($O$12/1)*$K22,IF($J22=33,'Datensatz Radiator'!H$34*(998.2/$M$12)*($O$12/1)*$K22,IF($J22=34,'Datensatz Radiator'!H$35*(998.2/$M$12)*($O$12/1)*$K22,IF($J22=35,'Datensatz Radiator'!H$36*(998.2/$M$12)*($O$12/1)*$K22,IF($J22=36,'Datensatz Radiator'!H$37*(998.2/$M$12)*($O$12/1)*$K22,'Datensatz Radiator'!H$38*(998.2/$M$12)*($O$12/1)*$K22)))))))))))))))))))))))))))))))))))) -> 593.30593 | R22: =IF($J22=1,'Datensatz Radiator'!I$2*(998.2/$M$12)*($O$12/1)*$K22,IF($J22=2,'Datensatz Radiator'!I$3*(998.2/$M$12)*($O$12/1)*$K22,IF($J22=3,'Datensatz Radiator'!I$4*(998.2/$M$12)*($O$12/1)*$K22,IF($J22=4,'Datensatz Radiator'!I$5*(998.2/$M$12)*($O$12/1)*$K22,IF($J22=5,'Datensatz Radiator'!I$6*(998.2/$M$12)*($O$12/1)*$K22,IF($J22=6,'Datensatz Radiator'!I$7*(998.2/$M$12)*($O$12/1)*$K22,IF($J22=7,'Datensatz Radiator'!I$8*(998.2/$M$12)*($O$12/1)*$K22,IF($J22=8,'Datensatz Radiator'!I$9*(998.2/$M$12)*($O$12/1)*$K22,IF($J22=9,'Datensatz Radiator'!I$10*(998.2/$M$12)*($O$12/1)*$K22,IF($J22=10,'Datensatz Radiator'!I$11*(998.2/$M$12)*($O$12/1)*$K22,IF($J22=11,'Datensatz Radiator'!I$12*(998.2/$M$12)*($O$12/1)*$K22,IF($J22=12,'Datensatz Radiator'!I$13*(998.2/$M$12)*($O$12/1)*$K22,IF($J22=13,'Datensatz Radiator'!I$14*(998.2/$M$12)*($O$12/1)*$K22,IF($J22=14,'Datensatz Radiator'!I$15*(998.2/$M$12)*($O$12/1)*$K22,IF($J22=15,'Datensatz Radiator'!I$16*(998.2/$M$12)*($O$12/1)*$K22,IF($J22=16,'Datensatz Radiator'!I$17*(998.2/$M$12)*($O$12/1)*$K22,IF($J22=17,'Datensatz Radiator'!I$18*(998.2/$M$12)*($O$12/1)*$K22,IF($J22=18,'Datensatz Radiator'!I$19*(998.2/$M$12)*($O$12/1)*$K22,IF($J22=19,'Datensatz Radiator'!I$20*(998.2/$M$12)*($O$12/1)*$K22,IF($J22=20,'Datensatz Radiator'!I$21*(998.2/$M$12)*($O$12/1)*$K22,IF($J22=21,'Datensatz Radiator'!I$22*(998.2/$M$12)*($O$12/1)*$K22,IF($J22=22,'Datensatz Radiator'!I$23*(998.2/$M$12)*($O$12/1)*$K22,IF($J22=23,'Datensatz Radiator'!I$24*(998.2/$M$12)*($O$12/1)*$K22,IF($J22=24,'Datensatz Radiator'!I$25*(998.2/$M$12)*($O$12/1)*$K22,IF($J22=25,'Datensatz Radiator'!I$26*(998.2/$M$12)*($O$12/1)*$K22,IF($J22=26,'Datensatz Radiator'!I$27*(998.2/$M$12)*($O$12/1)*$K22,IF($J22=27,'Datensatz Radiator'!I$28*(998.2/$M$12)*($O$12/1)*$K22,IF($J22=28,'Datensatz Radiator'!I$39*(998.2/$M$12)*($O$12/1)*$K22,IF($J22=29,'Datensatz Radiator'!I$30*(998.2/$M$12)*($O$12/1)*$K22,IF($J22=30,'Datensatz Radiator'!I$31*(998.2/$M$12)*($O$12/1)*$K22,IF($J22=31,'Datensatz Radiator'!I$32*(998.2/$M$12)*($O$12/1)*$K22,IF($J22=32,'Datensatz Radiator'!I$33*(998.2/$M$12)*($O$12/1)*$K22,IF($J22=33,'Datensatz Radiator'!I$34*(998.2/$M$12)*($O$12/1)*$K22,IF($J22=34,'Datensatz Radiator'!I$35*(998.2/$M$12)*($O$12/1)*$K22,IF($J22=35,'Datensatz Radiator'!I$36*(998.2/$M$12)*($O$12/1)*$K22,IF($J22=36,'Datensatz Radiator'!I$37*(998.2/$M$12)*($O$12/1)*$K22,'Datensatz Radiator'!I$38*(998.2/$M$12)*($O$12/1)*$K22)))))))))))))))))))))))))))))))))))) -> 819.08644 | S22: =IF($J22=1,'Datensatz Radiator'!J$2*(998.2/$M$12)*($O$12/1)*$K22,IF($J22=2,'Datensatz Radiator'!J$3*(998.2/$M$12)*($O$12/1)*$K22,IF($J22=3,'Datensatz Radiator'!J$4*(998.2/$M$12)*($O$12/1)*$K22,IF($J22=4,'Datensatz Radiator'!J$5*(998.2/$M$12)*($O$12/1)*$K22,IF($J22=5,'Datensatz Radiator'!J$6*(998.2/$M$12)*($O$12/1)*$K22,IF($J22=6,'Datensatz Radiator'!J$7*(998.2/$M$12)*($O$12/1)*$K22,IF($J22=7,'Datensatz Radiator'!J$8*(998.2/$M$12)*($O$12/1)*$K22,IF($J22=8,'Datensatz Radiator'!J$9*(998.2/$M$12)*($O$12/1)*$K22,IF($J22=9,'Datensatz Radiator'!J$10*(998.2/$M$12)*($O$12/1)*$K22,IF($J22=10,'Datensatz Radiator'!J$11*(998.2/$M$12)*($O$12/1)*$K22,IF($J22=11,'Datensatz Radiator'!J$12*(998.2/$M$12)*($O$12/1)*$K22,IF($J22=12,'Datensatz Radiator'!J$13*(998.2/$M$12)*($O$12/1)*$K22,IF($J22=13,'Datensatz Radiator'!J$14*(998.2/$M$12)*($O$12/1)*$K22,IF($J22=14,'Datensatz Radiator'!J$15*(998.2/$M$12)*($O$12/1)*$K22,IF($J22=15,'Datensatz Radiator'!J$16*(998.2/$M$12)*($O$12/1)*$K22,IF($J22=16,'Datensatz Radiator'!J$17*(998.2/$M$12)*($O$12/1)*$K22,IF($J22=17,'Datensatz Radiator'!J$18*(998.2/$M$12)*($O$12/1)*$K22,IF($J22=18,'Datensatz Radiator'!J$19*(998.2/$M$12)*($O$12/1)*$K22,IF($J22=19,'Datensatz Radiator'!J$20*(998.2/$M$12)*($O$12/1)*$K22,IF($J22=20,'Datensatz Radiator'!J$21*(998.2/$M$12)*($O$12/1)*$K22,IF($J22=21,'Datensatz Radiator'!J$22*(998.2/$M$12)*($O$12/1)*$K22,IF($J22=22,'Datensatz Radiator'!J$23*(998.2/$M$12)*($O$12/1)*$K22,IF($J22=23,'Datensatz Radiator'!J$24*(998.2/$M$12)*($O$12/1)*$K22,IF($J22=24,'Datensatz Radiator'!J$25*(998.2/$M$12)*($O$12/1)*$K22,IF($J22=25,'Datensatz Radiator'!J$26*(998.2/$M$12)*($O$12/1)*$K22,IF($J22=26,'Datensatz Radiator'!J$27*(998.2/$M$12)*($O$12/1)*$K22,IF($J22=27,'Datensatz Radiator'!J$28*(998.2/$M$12)*($O$12/1)*$K22,IF($J22=28,'Datensatz Radiator'!J$39*(998.2/$M$12)*($O$12/1)*$K22,IF($J22=29,'Datensatz Radiator'!J$30*(998.2/$M$12)*($O$12/1)*$K22,IF($J22=30,'Datensatz Radiator'!J$31*(998.2/$M$12)*($O$12/1)*$K22,IF($J22=31,'Datensatz Radiator'!J$32*(998.2/$M$12)*($O$12/1)*$K22,IF($J22=32,'Datensatz Radiator'!J$33*(998.2/$M$12)*($O$12/1)*$K22,IF($J22=33,'Datensatz Radiator'!J$34*(998.2/$M$12)*($O$12/1)*$K22,IF($J22=34,'Datensatz Radiator'!J$35*(998.2/$M$12)*($O$12/1)*$K22,IF($J22=35,'Datensatz Radiator'!J$36*(998.2/$M$12)*($O$12/1)*$K22,IF($J22=36,'Datensatz Radiator'!J$37*(998.2/$M$12)*($O$12/1)*$K22,'Datensatz Radiator'!J$38*(998.2/$M$12)*($O$12/1)*$K22)))))))))))))))))))))))))))))))))))) -> 1078.1909 | T22: =IF($J22=1,'Datensatz Radiator'!K$2*(998.2/$M$12)*($O$12/1)*$K22,IF($J22=2,'Datensatz Radiator'!K$3*(998.2/$M$12)*($O$12/1)*$K22,IF($J22=3,'Datensatz Radiator'!K$4*(998.2/$M$12)*($O$12/1)*$K22,IF($J22=4,'Datensatz Radiator'!K$5*(998.2/$M$12)*($O$12/1)*$K22,IF($J22=5,'Datensatz Radiator'!K$6*(998.2/$M$12)*($O$12/1)*$K22,IF($J22=6,'Datensatz Radiator'!K$7*(998.2/$M$12)*($O$12/1)*$K22,IF($J22=7,'Datensatz Radiator'!K$8*(998.2/$M$12)*($O$12/1)*$K22,IF($J22=8,'Datensatz Radiator'!K$9*(998.2/$M$12)*($O$12/1)*$K22,IF($J22=9,'Datensatz Radiator'!K$10*(998.2/$M$12)*($O$12/1)*$K22,IF($J22=10,'Datensatz Radiator'!K$11*(998.2/$M$12)*($O$12/1)*$K22,IF($J22=11,'Datensatz Radiator'!K$12*(998.2/$M$12)*($O$12/1)*$K22,IF($J22=12,'Datensatz Radiator'!K$13*(998.2/$M$12)*($O$12/1)*$K22,IF($J22=13,'Datensatz Radiator'!K$14*(998.2/$M$12)*($O$12/1)*$K22,IF($J22=14,'Datensatz Radiator'!K$15*(998.2/$M$12)*($O$12/1)*$K22,IF($J22=15,'Datensatz Radiator'!K$16*(998.2/$M$12)*($O$12/1)*$K22,IF($J22=16,'Datensatz Radiator'!K$17*(998.2/$M$12)*($O$12/1)*$K22,IF($J22=17,'Datensatz Radiator'!K$18*(998.2/$M$12)*($O$12/1)*$K22,IF($J22=18,'Datensatz Radiator'!K$19*(998.2/$M$12)*($O$12/1)*$K22,IF($J22=19,'Datensatz Radiator'!K$20*(998.2/$M$12)*($O$12/1)*$K22,IF($J22=20,'Datensatz Radiator'!K$21*(998.2/$M$12)*($O$12/1)*$K22,IF($J22=21,'Datensatz Radiator'!K$22*(998.2/$M$12)*($O$12/1)*$K22,IF($J22=22,'Datensatz Radiator'!K$23*(998.2/$M$12)*($O$12/1)*$K22,IF($J22=23,'Datensatz Radiator'!K$24*(998.2/$M$12)*($O$12/1)*$K22,IF($J22=24,'Datensatz Radiator'!K$25*(998.2/$M$12)*($O$12/1)*$K22,IF($J22=25,'Datensatz Radiator'!K$26*(998.2/$M$12)*($O$12/1)*$K22,IF($J22=26,'Datensatz Radiator'!K$27*(998.2/$M$12)*($O$12/1)*$K22,IF($J22=27,'Datensatz Radiator'!K$28*(998.2/$M$12)*($O$12/1)*$K22,IF($J22=28,'Datensatz Radiator'!K$39*(998.2/$M$12)*($O$12/1)*$K22,IF($J22=29,'Datensatz Radiator'!K$30*(998.2/$M$12)*($O$12/1)*$K22,IF($J22=30,'Datensatz Radiator'!K$31*(998.2/$M$12)*($O$12/1)*$K22,IF($J22=31,'Datensatz Radiator'!K$32*(998.2/$M$12)*($O$12/1)*$K22,IF($J22=32,'Datensatz Radiator'!K$33*(998.2/$M$12)*($O$12/1)*$K22,IF($J22=33,'Datensatz Radiator'!K$34*(998.2/$M$12)*($O$12/1)*$K22,IF($J22=34,'Datensatz Radiator'!K$35*(998.2/$M$12)*($O$12/1)*$K22,IF($J22=35,'Datensatz Radiator'!K$36*(998.2/$M$12)*($O$12/1)*$K22,IF($J22=36,'Datensatz Radiator'!K$37*(998.2/$M$12)*($O$12/1)*$K22,'Datensatz Radiator'!K$38*(998.2/$M$12)*($O$12/1)*$K22)))))))))))))))))))))))))))))))))))) -> 1370.6192 | ... Y22: =IF($J22=1,'Datensatz Radiator'!P$2*(998.2/$M$12)*($O$12/1)*$K22,IF($J22=2,'Datensatz Radiator'!P$3*(998.2/$M$12)*($O$12/1)*$K22,IF($J22=3,'Datensatz Radiator'!P$4*(998.2/$M$12)*($O$12/1)*$K22,IF($J22=4,'Datensatz Radiator'!P$5*(998.2/$M$12)*($O$12/1)*$K22,IF($J22=5,'Datensatz Radiator'!P$6*(998.2/$M$12)*($O$12/1)*$K22,IF($J22=6,'Datensatz Radiator'!P$7*(998.2/$M$12)*($O$12/1)*$K22,IF($J22=7,'Datensatz Radiator'!P$8*(998.2/$M$12)*($O$12/1)*$K22,IF($J22=8,'Datensatz Radiator'!P$9*(998.2/$M$12)*($O$12/1)*$K22,IF($J22=9,'Datensatz Radiator'!P$10*(998.2/$M$12)*($O$12/1)*$K22,IF($J22=10,'Datensatz Radiator'!P$11*(998.2/$M$12)*($O$12/1)*$K22,IF($J22=11,'Datensatz Radiator'!P$12*(998.2/$M$12)*($O$12/1)*$K22,IF($J22=12,'Datensatz Radiator'!P$13*(998.2/$M$12)*($O$12/1)*$K22,IF($J22=13,'Datensatz Radiator'!P$14*(998.2/$M$12)*($O$12/1)*$K22,IF($J22=14,'Datensatz Radiator'!P$15*(998.2/$M$12)*($O$12/1)*$K22,IF($J22=15,'Datensatz Radiator'!P$16*(998.2/$M$12)*($O$12/1)*$K22,IF($J22=16,'Datensatz Radiator'!P$17*(998.2/$M$12)*($O$12/1)*$K22,IF($J22=17,'Datensatz Radiator'!P$18*(998.2/$M$12)*($O$12/1)*$K22,IF($J22=18,'Datensatz Radiator'!P$19*(998.2/$M$12)*($O$12/1)*$K22,IF($J22=19,'Datensatz Radiator'!P$20*(998.2/$M$12)*($O$12/1)*$K22,IF($J22=20,'Datensatz Radiator'!P$21*(998.2/$M$12)*($O$12/1)*$K22,IF($J22=21,'Datensatz Radiator'!P$22*(998.2/$M$12)*($O$12/1)*$K22,IF($J22=22,'Datensatz Radiator'!P$23*(998.2/$M$12)*($O$12/1)*$K22,IF($J22=23,'Datensatz Radiator'!P$24*(998.2/$M$12)*($O$12/1)*$K22,IF($J22=24,'Datensatz Radiator'!P$25*(998.2/$M$12)*($O$12/1)*$K22,IF($J22=25,'Datensatz Radiator'!P$26*(998.2/$M$12)*($O$12/1)*$K22,IF($J22=26,'Datensatz Radiator'!P$27*(998.2/$M$12)*($O$12/1)*$K22,IF($J22=27,'Datensatz Radiator'!P$28*(998.2/$M$12)*($O$12/1)*$K22,IF($J22=28,'Datensatz Radiator'!P$39*(998.2/$M$12)*($O$12/1)*$K22,IF($J22=29,'Datensatz Radiator'!P$30*(998.2/$M$12)*($O$12/1)*$K22,IF($J22=30,'Datensatz Radiator'!P$31*(998.2/$M$12)*($O$12/1)*$K22,IF($J22=31,'Datensatz Radiator'!P$32*(998.2/$M$12)*($O$12/1)*$K22,IF($J22=32,'Datensatz Radiator'!P$33*(998.2/$M$12)*($O$12/1)*$K22,IF($J22=33,'Datensatz Radiator'!P$34*(998.2/$M$12)*($O$12/1)*$K22,IF($J22=34,'Datensatz Radiator'!P$35*(998.2/$M$12)*($O$12/1)*$K22,IF($J22=35,'Datensatz Radiator'!P$36*(998.2/$M$12)*($O$12/1)*$K22,IF($J22=36,'Datensatz Radiator'!P$37*(998.2/$M$12)*($O$12/1)*$K22,'Datensatz Radiator'!P$38*(998.2/$M$12)*($O$12/1)*$K22)))))))))))))))))))))))))))))))))))) -> 3332.6195 | AQ22: 3 | AR22: 4.699936 | AS22: =AR22*998.2*9.807 -> 46009.306 | AT22: 3.6981765 | AU22: =AT22*998.2*9.807 -> 36202.734
A23: =AQ23*B$12*B$13 -> 4 | B23: =IF(B$10="DDC-1T+",AS23*B$11*B$13^2,AU23*B$11*B$13^2) -> 46008.756 | F23: =AQ23*G$12*G$13 -> 4 | G23: =IF(G$10="DDC-1T+",AS23*G$11*G$13^2,AU23*G$11*G$13^2) -> 36194.638 | I23: 8 | J23: 1 | K23: 1 | L23: Pa | M23: =IF($J23=1,'Datensatz Radiator'!D$2*(998.2/$M$12)*($O$12/1)*$K23,IF($J23=2,'Datensatz Radiator'!D$3*(998.2/$M$12)*($O$12/1)*$K23,IF($J23=3,'Datensatz Radiator'!D$4*(998.2/$M$12)*($O$12/1)*$K23,IF($J23=4,'Datensatz Radiator'!D$5*(998.2/$M$12)*($O$12/1)*$K23,IF($J23=5,'Datensatz Radiator'!D$6*(998.2/$M$12)*($O$12/1)*$K23,IF($J23=6,'Datensatz Radiator'!D$7*(998.2/$M$12)*($O$12/1)*$K23,IF($J23=7,'Datensatz Radiator'!D$8*(998.2/$M$12)*($O$12/1)*$K23,IF($J23=8,'Datensatz Radiator'!D$9*(998.2/$M$12)*($O$12/1)*$K23,IF($J23=9,'Datensatz Radiator'!D$10*(998.2/$M$12)*($O$12/1)*$K23,IF($J23=10,'Datensatz Radiator'!D$11*(998.2/$M$12)*($O$12/1)*$K23,IF($J23=11,'Datensatz Radiator'!D$12*(998.2/$M$12)*($O$12/1)*$K23,IF($J23=12,'Datensatz Radiator'!D$13*(998.2/$M$12)*($O$12/1)*$K23,IF($J23=13,'Datensatz Radiator'!D$14*(998.2/$M$12)*($O$12/1)*$K23,IF($J23=14,'Datensatz Radiator'!D$15*(998.2/$M$12)*($O$12/1)*$K23,IF($J23=15,'Datensatz Radiator'!D$16*(998.2/$M$12)*($O$12/1)*$K23,IF($J23=16,'Datensatz Radiator'!D$17*(998.2/$M$12)*($O$12/1)*$K23,IF($J23=17,'Datensatz Radiator'!D$18*(998.2/$M$12)*($O$12/1)*$K23,IF($J23=18,'Datensatz Radiator'!D$19*(998.2/$M$12)*($O$12/1)*$K23,IF($J23=19,'Datensatz Radiator'!D$20*(998.2/$M$12)*($O$12/1)*$K23,IF($J23=20,'Datensatz Radiator'!D$21*(998.2/$M$12)*($O$12/1)*$K23,IF($J23=21,'Datensatz Radiator'!D$22*(998.2/$M$12)*($O$12/1)*$K23,IF($J23=22,'Datensatz Radiator'!D$23*(998.2/$M$12)*($O$12/1)*$K23,IF($J23=23,'Datensatz Radiator'!D$24*(998.2/$M$12)*($O$12/1)*$K23,IF($J23=24,'Datensatz Radiator'!D$25*(998.2/$M$12)*($O$12/1)*$K23,IF($J23=25,'Datensatz Radiator'!D$26*(998.2/$M$12)*($O$12/1)*$K23,IF($J23=26,'Datensatz Radiator'!D$27*(998.2/$M$12)*($O$12/1)*$K23,IF($J23=27,'Datensatz Radiator'!D$28*(998.2/$M$12)*($O$12/1)*$K23,IF($J23=28,'Datensatz Radiator'!D$39*(998.2/$M$12)*($O$12/1)*$K23,IF($J23=29,'Datensatz Radiator'!D$30*(998.2/$M$12)*($O$12/1)*$K23,IF($J23=30,'Datensatz Radiator'!D$31*(998.2/$M$12)*($O$12/1)*$K23,IF($J23=31,'Datensatz Radiator'!D$32*(998.2/$M$12)*($O$12/1)*$K23,IF($J23=32,'Datensatz Radiator'!D$33*(998.2/$M$12)*($O$12/1)*$K23,IF($J23=33,'Datensatz Radiator'!D$34*(998.2/$M$12)*($O$12/1)*$K23,IF($J23=34,'Datensatz Radiator'!D$35*(998.2/$M$12)*($O$12/1)*$K23,IF($J23=35,'Datensatz Radiator'!D$36*(998.2/$M$12)*($O$12/1)*$K23,IF($J23=36,'Datensatz Radiator'!D$37*(998.2/$M$12)*($O$12/1)*$K23,'Datensatz Radiator'!D$38*(998.2/$M$12)*($O$12/1)*$K23)))))))))))))))))))))))))))))))))))) -> 0 | N23: =IF($J23=1,'Datensatz Radiator'!E$2*(998.2/$M$12)*($O$12/1)*$K23,IF($J23=2,'Datensatz Radiator'!E$3*(998.2/$M$12)*($O$12/1)*$K23,IF($J23=3,'Datensatz Radiator'!E$4*(998.2/$M$12)*($O$12/1)*$K23,IF($J23=4,'Datensatz Radiator'!E$5*(998.2/$M$12)*($O$12/1)*$K23,IF($J23=5,'Datensatz Radiator'!E$6*(998.2/$M$12)*($O$12/1)*$K23,IF($J23=6,'Datensatz Radiator'!E$7*(998.2/$M$12)*($O$12/1)*$K23,IF($J23=7,'Datensatz Radiator'!E$8*(998.2/$M$12)*($O$12/1)*$K23,IF($J23=8,'Datensatz Radiator'!E$9*(998.2/$M$12)*($O$12/1)*$K23,IF($J23=9,'Datensatz Radiator'!E$10*(998.2/$M$12)*($O$12/1)*$K23,IF($J23=10,'Datensatz Radiator'!E$11*(998.2/$M$12)*($O$12/1)*$K23,IF($J23=11,'Datensatz Radiator'!E$12*(998.2/$M$12)*($O$12/1)*$K23,IF($J23=12,'Datensatz Radiator'!E$13*(998.2/$M$12)*($O$12/1)*$K23,IF($J23=13,'Datensatz Radiator'!E$14*(998.2/$M$12)*($O$12/1)*$K23,IF($J23=14,'Datensatz Radiator'!E$15*(998.2/$M$12)*($O$12/1)*$K23,IF($J23=15,'Datensatz Radiator'!E$16*(998.2/$M$12)*($O$12/1)*$K23,IF($J23=16,'Datensatz Radiator'!E$17*(998.2/$M$12)*($O$12/1)*$K23,IF($J23=17,'Datensatz Radiator'!E$18*(998.2/$M$12)*($O$12/1)*$K23,IF($J23=18,'Datensatz Radiator'!E$19*(998.2/$M$12)*($O$12/1)*$K23,IF($J23=19,'Datensatz Radiator'!E$20*(998.2/$M$12)*($O$12/1)*$K23,IF($J23=20,'Datensatz Radiator'!E$21*(998.2/$M$12)*($O$12/1)*$K23,IF($J23=21,'Datensatz Radiator'!E$22*(998.2/$M$12)*($O$12/1)*$K23,IF($J23=22,'Datensatz Radiator'!E$23*(998.2/$M$12)*($O$12/1)*$K23,IF($J23=23,'Datensatz Radiator'!E$24*(998.2/$M$12)*($O$12/1)*$K23,IF($J23=24,'Datensatz Radiator'!E$25*(998.2/$M$12)*($O$12/1)*$K23,IF($J23=25,'Datensatz Radiator'!E$26*(998.2/$M$12)*($O$12/1)*$K23,IF($J23=26,'Datensatz Radiator'!E$27*(998.2/$M$12)*($O$12/1)*$K23,IF($J23=27,'Datensatz Radiator'!E$28*(998.2/$M$12)*($O$12/1)*$K23,IF($J23=28,'Datensatz Radiator'!E$39*(998.2/$M$12)*($O$12/1)*$K23,IF($J23=29,'Datensatz Radiator'!E$30*(998.2/$M$12)*($O$12/1)*$K23,IF($J23=30,'Datensatz Radiator'!E$31*(998.2/$M$12)*($O$12/1)*$K23,IF($J23=31,'Datensatz Radiator'!E$32*(998.2/$M$12)*($O$12/1)*$K23,IF($J23=32,'Datensatz Radiator'!E$33*(998.2/$M$12)*($O$12/1)*$K23,IF($J23=33,'Datensatz Radiator'!E$34*(998.2/$M$12)*($O$12/1)*$K23,IF($J23=34,'Datensatz Radiator'!E$35*(998.2/$M$12)*($O$12/1)*$K23,IF($J23=35,'Datensatz Radiator'!E$36*(998.2/$M$12)*($O$12/1)*$K23,IF($J23=36,'Datensatz Radiator'!E$37*(998.2/$M$12)*($O$12/1)*$K23,'Datensatz Radiator'!E$38*(998.2/$M$12)*($O$12/1)*$K23)))))))))))))))))))))))))))))))))))) -> 115.90785 | O23: =IF($J23=1,'Datensatz Radiator'!F$2*(998.2/$M$12)*($O$12/1)*$K23,IF($J23=2,'Datensatz Radiator'!F$3*(998.2/$M$12)*($O$12/1)*$K23,IF($J23=3,'Datensatz Radiator'!F$4*(998.2/$M$12)*($O$12/1)*$K23,IF($J23=4,'Datensatz Radiator'!F$5*(998.2/$M$12)*($O$12/1)*$K23,IF($J23=5,'Datensatz Radiator'!F$6*(998.2/$M$12)*($O$12/1)*$K23,IF($J23=6,'Datensatz Radiator'!F$7*(998.2/$M$12)*($O$12/1)*$K23,IF($J23=7,'Datensatz Radiator'!F$8*(998.2/$M$12)*($O$12/1)*$K23,IF($J23=8,'Datensatz Radiator'!F$9*(998.2/$M$12)*($O$12/1)*$K23,IF($J23=9,'Datensatz Radiator'!F$10*(998.2/$M$12)*($O$12/1)*$K23,IF($J23=10,'Datensatz Radiator'!F$11*(998.2/$M$12)*($O$12/1)*$K23,IF($J23=11,'Datensatz Radiator'!F$12*(998.2/$M$12)*($O$12/1)*$K23,IF($J23=12,'Datensatz Radiator'!F$13*(998.2/$M$12)*($O$12/1)*$K23,IF($J23=13,'Datensatz Radiator'!F$14*(998.2/$M$12)*($O$12/1)*$K23,IF($J23=14,'Datensatz Radiator'!F$15*(998.2/$M$12)*($O$12/1)*$K23,IF($J23=15,'Datensatz Radiator'!F$16*(998.2/$M$12)*($O$12/1)*$K23,IF($J23=16,'Datensatz Radiator'!F$17*(998.2/$M$12)*($O$12/1)*$K23,IF($J23=17,'Datensatz Radiator'!F$18*(998.2/$M$12)*($O$12/1)*$K23,IF($J23=18,'Datensatz Radiator'!F$19*(998.2/$M$12)*($O$12/1)*$K23,IF($J23=19,'Datensatz Radiator'!F$20*(998.2/$M$12)*($O$12/1)*$K23,IF($J23=20,'Datensatz Radiator'!F$21*(998.2/$M$12)*($O$12/1)*$K23,IF($J23=21,'Datensatz Radiator'!F$22*(998.2/$M$12)*($O$12/1)*$K23,IF($J23=22,'Datensatz Radiator'!F$23*(998.2/$M$12)*($O$12/1)*$K23,IF($J23=23,'Datensatz Radiator'!F$24*(998.2/$M$12)*($O$12/1)*$K23,IF($J23=24,'Datensatz Radiator'!F$25*(998.2/$M$12)*($O$12/1)*$K23,IF($J23=25,'Datensatz Radiator'!F$26*(998.2/$M$12)*($O$12/1)*$K23,IF($J23=26,'Datensatz Radiator'!F$27*(998.2/$M$12)*($O$12/1)*$K23,IF($J23=27,'Datensatz Radiator'!F$28*(998.2/$M$12)*($O$12/1)*$K23,IF($J23=28,'Datensatz Radiator'!F$39*(998.2/$M$12)*($O$12/1)*$K23,IF($J23=29,'Datensatz Radiator'!F$30*(998.2/$M$12)*($O$12/1)*$K23,IF($J23=30,'Datensatz Radiator'!F$31*(998.2/$M$12)*($O$12/1)*$K23,IF($J23=31,'Datensatz Radiator'!F$32*(998.2/$M$12)*($O$12/1)*$K23,IF($J23=32,'Datensatz Radiator'!F$33*(998.2/$M$12)*($O$12/1)*$K23,IF($J23=33,'Datensatz Radiator'!F$34*(998.2/$M$12)*($O$12/1)*$K23,IF($J23=34,'Datensatz Radiator'!F$35*(998.2/$M$12)*($O$12/1)*$K23,IF($J23=35,'Datensatz Radiator'!F$36*(998.2/$M$12)*($O$12/1)*$K23,IF($J23=36,'Datensatz Radiator'!F$37*(998.2/$M$12)*($O$12/1)*$K23,'Datensatz Radiator'!F$38*(998.2/$M$12)*($O$12/1)*$K23)))))))))))))))))))))))))))))))))))) -> 241.71664 | P23: =IF($J23=1,'Datensatz Radiator'!G$2*(998.2/$M$12)*($O$12/1)*$K23,IF($J23=2,'Datensatz Radiator'!G$3*(998.2/$M$12)*($O$12/1)*$K23,IF($J23=3,'Datensatz Radiator'!G$4*(998.2/$M$12)*($O$12/1)*$K23,IF($J23=4,'Datensatz Radiator'!G$5*(998.2/$M$12)*($O$12/1)*$K23,IF($J23=5,'Datensatz Radiator'!G$6*(998.2/$M$12)*($O$12/1)*$K23,IF($J23=6,'Datensatz Radiator'!G$7*(998.2/$M$12)*($O$12/1)*$K23,IF($J23=7,'Datensatz Radiator'!G$8*(998.2/$M$12)*($O$12/1)*$K23,IF($J23=8,'Datensatz Radiator'!G$9*(998.2/$M$12)*($O$12/1)*$K23,IF($J23=9,'Datensatz Radiator'!G$10*(998.2/$M$12)*($O$12/1)*$K23,IF($J23=10,'Datensatz Radiator'!G$11*(998.2/$M$12)*($O$12/1)*$K23,IF($J23=11,'Datensatz Radiator'!G$12*(998.2/$M$12)*($O$12/1)*$K23,IF($J23=12,'Datensatz Radiator'!G$13*(998.2/$M$12)*($O$12/1)*$K23,IF($J23=13,'Datensatz Radiator'!G$14*(998.2/$M$12)*($O$12/1)*$K23,IF($J23=14,'Datensatz Radiator'!G$15*(998.2/$M$12)*($O$12/1)*$K23,IF($J23=15,'Datensatz Radiator'!G$16*(998.2/$M$12)*($O$12/1)*$K23,IF($J23=16,'Datensatz Radiator'!G$17*(998.2/$M$12)*($O$12/1)*$K23,IF($J23=17,'Datensatz Radiator'!G$18*(998.2/$M$12)*($O$12/1)*$K23,IF($J23=18,'Datensatz Radiator'!G$19*(998.2/$M$12)*($O$12/1)*$K23,IF($J23=19,'Datensatz Radiator'!G$20*(998.2/$M$12)*($O$12/1)*$K23,IF($J23=20,'Datensatz Radiator'!G$21*(998.2/$M$12)*($O$12/1)*$K23,IF($J23=21,'Datensatz Radiator'!G$22*(998.2/$M$12)*($O$12/1)*$K23,IF($J23=22,'Datensatz Radiator'!G$23*(998.2/$M$12)*($O$12/1)*$K23,IF($J23=23,'Datensatz Radiator'!G$24*(998.2/$M$12)*($O$12/1)*$K23,IF($J23=24,'Datensatz Radiator'!G$25*(998.2/$M$12)*($O$12/1)*$K23,IF($J23=25,'Datensatz Radiator'!G$26*(998.2/$M$12)*($O$12/1)*$K23,IF($J23=26,'Datensatz Radiator'!G$27*(998.2/$M$12)*($O$12/1)*$K23,IF($J23=27,'Datensatz Radiator'!G$28*(998.2/$M$12)*($O$12/1)*$K23,IF($J23=28,'Datensatz Radiator'!G$39*(998.2/$M$12)*($O$12/1)*$K23,IF($J23=29,'Datensatz Radiator'!G$30*(998.2/$M$12)*($O$12/1)*$K23,IF($J23=30,'Datensatz Radiator'!G$31*(998.2/$M$12)*($O$12/1)*$K23,IF($J23=31,'Datensatz Radiator'!G$32*(998.2/$M$12)*($O$12/1)*$K23,IF($J23=32,'Datensatz Radiator'!G$33*(998.2/$M$12)*($O$12/1)*$K23,IF($J23=33,'Datensatz Radiator'!G$34*(998.2/$M$12)*($O$12/1)*$K23,IF($J23=34,'Datensatz Radiator'!G$35*(998.2/$M$12)*($O$12/1)*$K23,IF($J23=35,'Datensatz Radiator'!G$36*(998.2/$M$12)*($O$12/1)*$K23,IF($J23=36,'Datensatz Radiator'!G$37*(998.2/$M$12)*($O$12/1)*$K23,'Datensatz Radiator'!G$38*(998.2/$M$12)*($O$12/1)*$K23)))))))))))))))))))))))))))))))))))) -> 400.84933 | Q23: =IF($J23=1,'Datensatz Radiator'!H$2*(998.2/$M$12)*($O$12/1)*$K23,IF($J23=2,'Datensatz Radiator'!H$3*(998.2/$M$12)*($O$12/1)*$K23,IF($J23=3,'Datensatz Radiator'!H$4*(998.2/$M$12)*($O$12/1)*$K23,IF($J23=4,'Datensatz Radiator'!H$5*(998.2/$M$12)*($O$12/1)*$K23,IF($J23=5,'Datensatz Radiator'!H$6*(998.2/$M$12)*($O$12/1)*$K23,IF($J23=6,'Datensatz Radiator'!H$7*(998.2/$M$12)*($O$12/1)*$K23,IF($J23=7,'Datensatz Radiator'!H$8*(998.2/$M$12)*($O$12/1)*$K23,IF($J23=8,'Datensatz Radiator'!H$9*(998.2/$M$12)*($O$12/1)*$K23,IF($J23=9,'Datensatz Radiator'!H$10*(998.2/$M$12)*($O$12/1)*$K23,IF($J23=10,'Datensatz Radiator'!H$11*(998.2/$M$12)*($O$12/1)*$K23,IF($J23=11,'Datensatz Radiator'!H$12*(998.2/$M$12)*($O$12/1)*$K23,IF($J23=12,'Datensatz Radiator'!H$13*(998.2/$M$12)*($O$12/1)*$K23,IF($J23=13,'Datensatz Radiator'!H$14*(998.2/$M$12)*($O$12/1)*$K23,IF($J23=14,'Datensatz Radiator'!H$15*(998.2/$M$12)*($O$12/1)*$K23,IF($J23=15,'Datensatz Radiator'!H$16*(998.2/$M$12)*($O$12/1)*$K23,IF($J23=16,'Datensatz Radiator'!H$17*(998.2/$M$12)*($O$12/1)*$K23,IF($J23=17,'Datensatz Radiator'!H$18*(998.2/$M$12)*($O$12/1)*$K23,IF($J23=18,'Datensatz Radiator'!H$19*(998.2/$M$12)*($O$12/1)*$K23,IF($J23=19,'Datensatz Radiator'!H$20*(998.2/$M$12)*($O$12/1)*$K23,IF($J23=20,'Datensatz Radiator'!H$21*(998.2/$M$12)*($O$12/1)*$K23,IF($J23=21,'Datensatz Radiator'!H$22*(998.2/$M$12)*($O$12/1)*$K23,IF($J23=22,'Datensatz Radiator'!H$23*(998.2/$M$12)*($O$12/1)*$K23,IF($J23=23,'Datensatz Radiator'!H$24*(998.2/$M$12)*($O$12/1)*$K23,IF($J23=24,'Datensatz Radiator'!H$25*(998.2/$M$12)*($O$12/1)*$K23,IF($J23=25,'Datensatz Radiator'!H$26*(998.2/$M$12)*($O$12/1)*$K23,IF($J23=26,'Datensatz Radiator'!H$27*(998.2/$M$12)*($O$12/1)*$K23,IF($J23=27,'Datensatz Radiator'!H$28*(998.2/$M$12)*($O$12/1)*$K23,IF($J23=28,'Datensatz Radiator'!H$39*(998.2/$M$12)*($O$12/1)*$K23,IF($J23=29,'Datensatz Radiator'!H$30*(998.2/$M$12)*($O$12/1)*$K23,IF($J23=30,'Datensatz Radiator'!H$31*(998.2/$M$12)*($O$12/1)*$K23,IF($J23=31,'Datensatz Radiator'!H$32*(998.2/$M$12)*($O$12/1)*$K23,IF($J23=32,'Datensatz Radiator'!H$33*(998.2/$M$12)*($O$12/1)*$K23,IF($J23=33,'Datensatz Radiator'!H$34*(998.2/$M$12)*($O$12/1)*$K23,IF($J23=34,'Datensatz Radiator'!H$35*(998.2/$M$12)*($O$12/1)*$K23,IF($J23=35,'Datensatz Radiator'!H$36*(998.2/$M$12)*($O$12/1)*$K23,IF($J23=36,'Datensatz Radiator'!H$37*(998.2/$M$12)*($O$12/1)*$K23,'Datensatz Radiator'!H$38*(998.2/$M$12)*($O$12/1)*$K23)))))))))))))))))))))))))))))))))))) -> 593.30593 | R23: =IF($J23=1,'Datensatz Radiator'!I$2*(998.2/$M$12)*($O$12/1)*$K23,IF($J23=2,'Datensatz Radiator'!I$3*(998.2/$M$12)*($O$12/1)*$K23,IF($J23=3,'Datensatz Radiator'!I$4*(998.2/$M$12)*($O$12/1)*$K23,IF($J23=4,'Datensatz Radiator'!I$5*(998.2/$M$12)*($O$12/1)*$K23,IF($J23=5,'Datensatz Radiator'!I$6*(998.2/$M$12)*($O$12/1)*$K23,IF($J23=6,'Datensatz Radiator'!I$7*(998.2/$M$12)*($O$12/1)*$K23,IF($J23=7,'Datensatz Radiator'!I$8*(998.2/$M$12)*($O$12/1)*$K23,IF($J23=8,'Datensatz Radiator'!I$9*(998.2/$M$12)*($O$12/1)*$K23,IF($J23=9,'Datensatz Radiator'!I$10*(998.2/$M$12)*($O$12/1)*$K23,IF($J23=10,'Datensatz Radiator'!I$11*(998.2/$M$12)*($O$12/1)*$K23,IF($J23=11,'Datensatz Radiator'!I$12*(998.2/$M$12)*($O$12/1)*$K23,IF($J23=12,'Datensatz Radiator'!I$13*(998.2/$M$12)*($O$12/1)*$K23,IF($J23=13,'Datensatz Radiator'!I$14*(998.2/$M$12)*($O$12/1)*$K23,IF($J23=14,'Datensatz Radiator'!I$15*(998.2/$M$12)*($O$12/1)*$K23,IF($J23=15,'Datensatz Radiator'!I$16*(998.2/$M$12)*($O$12/1)*$K23,IF($J23=16,'Datensatz Radiator'!I$17*(998.2/$M$12)*($O$12/1)*$K23,IF($J23=17,'Datensatz Radiator'!I$18*(998.2/$M$12)*($O$12/1)*$K23,IF($J23=18,'Datensatz Radiator'!I$19*(998.2/$M$12)*($O$12/1)*$K23,IF($J23=19,'Datensatz Radiator'!I$20*(998.2/$M$12)*($O$12/1)*$K23,IF($J23=20,'Datensatz Radiator'!I$21*(998.2/$M$12)*($O$12/1)*$K23,IF($J23=21,'Datensatz Radiator'!I$22*(998.2/$M$12)*($O$12/1)*$K23,IF($J23=22,'Datensatz Radiator'!I$23*(998.2/$M$12)*($O$12/1)*$K23,IF($J23=23,'Datensatz Radiator'!I$24*(998.2/$M$12)*($O$12/1)*$K23,IF($J23=24,'Datensatz Radiator'!I$25*(998.2/$M$12)*($O$12/1)*$K23,IF($J23=25,'Datensatz Radiator'!I$26*(998.2/$M$12)*($O$12/1)*$K23,IF($J23=26,'Datensatz Radiator'!I$27*(998.2/$M$12)*($O$12/1)*$K23,IF($J23=27,'Datensatz Radiator'!I$28*(998.2/$M$12)*($O$12/1)*$K23,IF($J23=28,'Datensatz Radiator'!I$39*(998.2/$M$12)*($O$12/1)*$K23,IF($J23=29,'Datensatz Radiator'!I$30*(998.2/$M$12)*($O$12/1)*$K23,IF($J23=30,'Datensatz Radiator'!I$31*(998.2/$M$12)*($O$12/1)*$K23,IF($J23=31,'Datensatz Radiator'!I$32*(998.2/$M$12)*($O$12/1)*$K23,IF($J23=32,'Datensatz Radiator'!I$33*(998.2/$M$12)*($O$12/1)*$K23,IF($J23=33,'Datensatz Radiator'!I$34*(998.2/$M$12)*($O$12/1)*$K23,IF($J23=34,'Datensatz Radiator'!I$35*(998.2/$M$12)*($O$12/1)*$K23,IF($J23=35,'Datensatz Radiator'!I$36*(998.2/$M$12)*($O$12/1)*$K23,IF($J23=36,'Datensatz Radiator'!I$37*(998.2/$M$12)*($O$12/1)*$K23,'Datensatz Radiator'!I$38*(998.2/$M$12)*($O$12/1)*$K23)))))))))))))))))))))))))))))))))))) -> 819.08644 | S23: =IF($J23=1,'Datensatz Radiator'!J$2*(998.2/$M$12)*($O$12/1)*$K23,IF($J23=2,'Datensatz Radiator'!J$3*(998.2/$M$12)*($O$12/1)*$K23,IF($J23=3,'Datensatz Radiator'!J$4*(998.2/$M$12)*($O$12/1)*$K23,IF($J23=4,'Datensatz Radiator'!J$5*(998.2/$M$12)*($O$12/1)*$K23,IF($J23=5,'Datensatz Radiator'!J$6*(998.2/$M$12)*($O$12/1)*$K23,IF($J23=6,'Datensatz Radiator'!J$7*(998.2/$M$12)*($O$12/1)*$K23,IF($J23=7,'Datensatz Radiator'!J$8*(998.2/$M$12)*($O$12/1)*$K23,IF($J23=8,'Datensatz Radiator'!J$9*(998.2/$M$12)*($O$12/1)*$K23,IF($J23=9,'Datensatz Radiator'!J$10*(998.2/$M$12)*($O$12/1)*$K23,IF($J23=10,'Datensatz Radiator'!J$11*(998.2/$M$12)*($O$12/1)*$K23,IF($J23=11,'Datensatz Radiator'!J$12*(998.2/$M$12)*($O$12/1)*$K23,IF($J23=12,'Datensatz Radiator'!J$13*(998.2/$M$12)*($O$12/1)*$K23,IF($J23=13,'Datensatz Radiator'!J$14*(998.2/$M$12)*($O$12/1)*$K23,IF($J23=14,'Datensatz Radiator'!J$15*(998.2/$M$12)*($O$12/1)*$K23,IF($J23=15,'Datensatz Radiator'!J$16*(998.2/$M$12)*($O$12/1)*$K23,IF($J23=16,'Datensatz Radiator'!J$17*(998.2/$M$12)*($O$12/1)*$K23,IF($J23=17,'Datensatz Radiator'!J$18*(998.2/$M$12)*($O$12/1)*$K23,IF($J23=18,'Datensatz Radiator'!J$19*(998.2/$M$12)*($O$12/1)*$K23,IF($J23=19,'Datensatz Radiator'!J$20*(998.2/$M$12)*($O$12/1)*$K23,IF($J23=20,'Datensatz Radiator'!J$21*(998.2/$M$12)*($O$12/1)*$K23,IF($J23=21,'Datensatz Radiator'!J$22*(998.2/$M$12)*($O$12/1)*$K23,IF($J23=22,'Datensatz Radiator'!J$23*(998.2/$M$12)*($O$12/1)*$K23,IF($J23=23,'Datensatz Radiator'!J$24*(998.2/$M$12)*($O$12/1)*$K23,IF($J23=24,'Datensatz Radiator'!J$25*(998.2/$M$12)*($O$12/1)*$K23,IF($J23=25,'Datensatz Radiator'!J$26*(998.2/$M$12)*($O$12/1)*$K23,IF($J23=26,'Datensatz Radiator'!J$27*(998.2/$M$12)*($O$12/1)*$K23,IF($J23=27,'Datensatz Radiator'!J$28*(998.2/$M$12)*($O$12/1)*$K23,IF($J23=28,'Datensatz Radiator'!J$39*(998.2/$M$12)*($O$12/1)*$K23,IF($J23=29,'Datensatz Radiator'!J$30*(998.2/$M$12)*($O$12/1)*$K23,IF($J23=30,'Datensatz Radiator'!J$31*(998.2/$M$12)*($O$12/1)*$K23,IF($J23=31,'Datensatz Radiator'!J$32*(998.2/$M$12)*($O$12/1)*$K23,IF($J23=32,'Datensatz Radiator'!J$33*(998.2/$M$12)*($O$12/1)*$K23,IF($J23=33,'Datensatz Radiator'!J$34*(998.2/$M$12)*($O$12/1)*$K23,IF($J23=34,'Datensatz Radiator'!J$35*(998.2/$M$12)*($O$12/1)*$K23,IF($J23=35,'Datensatz Radiator'!J$36*(998.2/$M$12)*($O$12/1)*$K23,IF($J23=36,'Datensatz Radiator'!J$37*(998.2/$M$12)*($O$12/1)*$K23,'Datensatz Radiator'!J$38*(998.2/$M$12)*($O$12/1)*$K23)))))))))))))))))))))))))))))))))))) -> 1078.1909 | T23: =IF($J23=1,'Datensatz Radiator'!K$2*(998.2/$M$12)*($O$12/1)*$K23,IF($J23=2,'Datensatz Radiator'!K$3*(998.2/$M$12)*($O$12/1)*$K23,IF($J23=3,'Datensatz Radiator'!K$4*(998.2/$M$12)*($O$12/1)*$K23,IF($J23=4,'Datensatz Radiator'!K$5*(998.2/$M$12)*($O$12/1)*$K23,IF($J23=5,'Datensatz Radiator'!K$6*(998.2/$M$12)*($O$12/1)*$K23,IF($J23=6,'Datensatz Radiator'!K$7*(998.2/$M$12)*($O$12/1)*$K23,IF($J23=7,'Datensatz Radiator'!K$8*(998.2/$M$12)*($O$12/1)*$K23,IF($J23=8,'Datensatz Radiator'!K$9*(998.2/$M$12)*($O$12/1)*$K23,IF($J23=9,'Datensatz Radiator'!K$10*(998.2/$M$12)*($O$12/1)*$K23,IF($J23=10,'Datensatz Radiator'!K$11*(998.2/$M$12)*($O$12/1)*$K23,IF($J23=11,'Datensatz Radiator'!K$12*(998.2/$M$12)*($O$12/1)*$K23,IF($J23=12,'Datensatz Radiator'!K$13*(998.2/$M$12)*($O$12/1)*$K23,IF($J23=13,'Datensatz Radiator'!K$14*(998.2/$M$12)*($O$12/1)*$K23,IF($J23=14,'Datensatz Radiator'!K$15*(998.2/$M$12)*($O$12/1)*$K23,IF($J23=15,'Datensatz Radiator'!K$16*(998.2/$M$12)*($O$12/1)*$K23,IF($J23=16,'Datensatz Radiator'!K$17*(998.2/$M$12)*($O$12/1)*$K23,IF($J23=17,'Datensatz Radiator'!K$18*(998.2/$M$12)*($O$12/1)*$K23,IF($J23=18,'Datensatz Radiator'!K$19*(998.2/$M$12)*($O$12/1)*$K23,IF($J23=19,'Datensatz Radiator'!K$20*(998.2/$M$12)*($O$12/1)*$K23,IF($J23=20,'Datensatz Radiator'!K$21*(998.2/$M$12)*($O$12/1)*$K23,IF($J23=21,'Datensatz Radiator'!K$22*(998.2/$M$12)*($O$12/1)*$K23,IF($J23=22,'Datensatz Radiator'!K$23*(998.2/$M$12)*($O$12/1)*$K23,IF($J23=23,'Datensatz Radiator'!K$24*(998.2/$M$12)*($O$12/1)*$K23,IF($J23=24,'Datensatz Radiator'!K$25*(998.2/$M$12)*($O$12/1)*$K23,IF($J23=25,'Datensatz Radiator'!K$26*(998.2/$M$12)*($O$12/1)*$K23,IF($J23=26,'Datensatz Radiator'!K$27*(998.2/$M$12)*($O$12/1)*$K23,IF($J23=27,'Datensatz Radiator'!K$28*(998.2/$M$12)*($O$12/1)*$K23,IF($J23=28,'Datensatz Radiator'!K$39*(998.2/$M$12)*($O$12/1)*$K23,IF($J23=29,'Datensatz Radiator'!K$30*(998.2/$M$12)*($O$12/1)*$K23,IF($J23=30,'Datensatz Radiator'!K$31*(998.2/$M$12)*($O$12/1)*$K23,IF($J23=31,'Datensatz Radiator'!K$32*(998.2/$M$12)*($O$12/1)*$K23,IF($J23=32,'Datensatz Radiator'!K$33*(998.2/$M$12)*($O$12/1)*$K23,IF($J23=33,'Datensatz Radiator'!K$34*(998.2/$M$12)*($O$12/1)*$K23,IF($J23=34,'Datensatz Radiator'!K$35*(998.2/$M$12)*($O$12/1)*$K23,IF($J23=35,'Datensatz Radiator'!K$36*(998.2/$M$12)*($O$12/1)*$K23,IF($J23=36,'Datensatz Radiator'!K$37*(998.2/$M$12)*($O$12/1)*$K23,'Datensatz Radiator'!K$38*(998.2/$M$12)*($O$12/1)*$K23)))))))))))))))))))))))))))))))))))) -> 1370.6192 | ... Y23: =IF($J23=1,'Datensatz Radiator'!P$2*(998.2/$M$12)*($O$12/1)*$K23,IF($J23=2,'Datensatz Radiator'!P$3*(998.2/$M$12)*($O$12/1)*$K23,IF($J23=3,'Datensatz Radiator'!P$4*(998.2/$M$12)*($O$12/1)*$K23,IF($J23=4,'Datensatz Radiator'!P$5*(998.2/$M$12)*($O$12/1)*$K23,IF($J23=5,'Datensatz Radiator'!P$6*(998.2/$M$12)*($O$12/1)*$K23,IF($J23=6,'Datensatz Radiator'!P$7*(998.2/$M$12)*($O$12/1)*$K23,IF($J23=7,'Datensatz Radiator'!P$8*(998.2/$M$12)*($O$12/1)*$K23,IF($J23=8,'Datensatz Radiator'!P$9*(998.2/$M$12)*($O$12/1)*$K23,IF($J23=9,'Datensatz Radiator'!P$10*(998.2/$M$12)*($O$12/1)*$K23,IF($J23=10,'Datensatz Radiator'!P$11*(998.2/$M$12)*($O$12/1)*$K23,IF($J23=11,'Datensatz Radiator'!P$12*(998.2/$M$12)*($O$12/1)*$K23,IF($J23=12,'Datensatz Radiator'!P$13*(998.2/$M$12)*($O$12/1)*$K23,IF($J23=13,'Datensatz Radiator'!P$14*(998.2/$M$12)*($O$12/1)*$K23,IF($J23=14,'Datensatz Radiator'!P$15*(998.2/$M$12)*($O$12/1)*$K23,IF($J23=15,'Datensatz Radiator'!P$16*(998.2/$M$12)*($O$12/1)*$K23,IF($J23=16,'Datensatz Radiator'!P$17*(998.2/$M$12)*($O$12/1)*$K23,IF($J23=17,'Datensatz Radiator'!P$18*(998.2/$M$12)*($O$12/1)*$K23,IF($J23=18,'Datensatz Radiator'!P$19*(998.2/$M$12)*($O$12/1)*$K23,IF($J23=19,'Datensatz Radiator'!P$20*(998.2/$M$12)*($O$12/1)*$K23,IF($J23=20,'Datensatz Radiator'!P$21*(998.2/$M$12)*($O$12/1)*$K23,IF($J23=21,'Datensatz Radiator'!P$22*(998.2/$M$12)*($O$12/1)*$K23,IF($J23=22,'Datensatz Radiator'!P$23*(998.2/$M$12)*($O$12/1)*$K23,IF($J23=23,'Datensatz Radiator'!P$24*(998.2/$M$12)*($O$12/1)*$K23,IF($J23=24,'Datensatz Radiator'!P$25*(998.2/$M$12)*($O$12/1)*$K23,IF($J23=25,'Datensatz Radiator'!P$26*(998.2/$M$12)*($O$12/1)*$K23,IF($J23=26,'Datensatz Radiator'!P$27*(998.2/$M$12)*($O$12/1)*$K23,IF($J23=27,'Datensatz Radiator'!P$28*(998.2/$M$12)*($O$12/1)*$K23,IF($J23=28,'Datensatz Radiator'!P$39*(998.2/$M$12)*($O$12/1)*$K23,IF($J23=29,'Datensatz Radiator'!P$30*(998.2/$M$12)*($O$12/1)*$K23,IF($J23=30,'Datensatz Radiator'!P$31*(998.2/$M$12)*($O$12/1)*$K23,IF($J23=31,'Datensatz Radiator'!P$32*(998.2/$M$12)*($O$12/1)*$K23,IF($J23=32,'Datensatz Radiator'!P$33*(998.2/$M$12)*($O$12/1)*$K23,IF($J23=33,'Datensatz Radiator'!P$34*(998.2/$M$12)*($O$12/1)*$K23,IF($J23=34,'Datensatz Radiator'!P$35*(998.2/$M$12)*($O$12/1)*$K23,IF($J23=35,'Datensatz Radiator'!P$36*(998.2/$M$12)*($O$12/1)*$K23,IF($J23=36,'Datensatz Radiator'!P$37*(998.2/$M$12)*($O$12/1)*$K23,'Datensatz Radiator'!P$38*(998.2/$M$12)*($O$12/1)*$K23)))))))))))))))))))))))))))))))))))) -> 3332.6195 | AQ23: 4 | AR23: 4.6998798 | AS23: =AR23*998.2*9.807 -> 46008.756 | AT23: 3.6973495 | AU23: =AT23*998.2*9.807 -> 36194.638
