Workbook

Sheet Messaufbau

Sheet 1
A1: Referenz [°C] | B1: T in [°C] | C1: T in [°C] | D1: T in [°C] | E1: T in [°C] | F1: T in [°C] | G1: T in [°C] | H1: T in [°C] | I1: T in [°C] | J1: T in [°C] | K1: T in [°C] | L1: T in [°C] | M1: T in [°C] | N1: T in [°C] | O1: T in [°C] | P1: T in [°C]
A2: 5.135 | B2: 5.5 | C2: 5.31 | D2: 5.13 | E2: 5.94 | F2: 4.19 | G2: 4.75 | H2: 4.88 | I2: 4.75 | J2: 5.31 | K2: 5.63 | L2: 5.5 | M2: 5.31 | N2: 5.13 | O2: 5.06 | P2: 5.19
A3: 5.134 | B3: 5.5 | C3: 5.31 | D3: 5.13 | E3: 5.94 | F3: 4.19 | G3: 4.81 | H3: 4.88 | I3: 4.75 | J3: 5.31 | K3: 5.69 | L3: 5.44 | M3: 5.25 | N3: 5.13 | O3: 5.13 | P3: 5.19
A4: 5.133 | B4: 5.5 | C4: 5.31 | D4: 5.13 | E4: 5.94 | F4: 4.19 | G4: 4.81 | H4: 4.94 | I4: 4.81 | J4: 5.31 | K4: 5.75 | L4: 5.5 | M4: 5.31 | N4: 5.13 | O4: 5.06 | P4: 5.19
A5: 5.138 | B5: 5.5 | C5: 5.31 | D5: 5.19 | E5: 6 | F5: 4.19 | G5: 4.81 | H5: 4.88 | I5: 4.81 | J5: 5.31 | K5: 5.69 | L5: 5.5 | M5: 5.31 | N5: 5.13 | O5: 5.06 | P5: 5.19
A6: 5.138 | B6: 5.5 | C6: 5.31 | D6: 5.19 | E6: 5.94 | F6: 4.19 | G6: 4.81 | H6: 4.88 | I6: 4.81 | J6: 5.31 | K6: 5.69 | L6: 5.5 | M6: 5.31 | N6: 5.19 | O6: 5.06 | P6: 5.25
A7: 5.138 | B7: 5.5 | C7: 5.31 | D7: 5.06 | E7: 5.94 | F7: 4.25 | G7: 4.75 | H7: 4.88 | I7: 4.81 | J7: 5.31 | K7: 5.69 | L7: 5.44 | M7: 5.25 | N7: 5.13 | O7: 5.06 | P7: 5.25
A8: 5.138 | B8: 5.56 | C8: 5.31 | D8: 5.13 | E8: 6 | F8: 4.19 | G8: 4.81 | H8: 4.88 | I8: 4.81 | J8: 5.38 | K8: 5.69 | L8: 5.44 | M8: 5.25 | N8: 5.19 | O8: 5.13 | P8: 5.19
A9: 5.138 | B9: 5.5 | C9: 5.31 | D9: 5.13 | E9: 6 | F9: 4.25 | G9: 4.75 | H9: 4.88 | I9: 4.81 | J9: 5.38 | K9: 5.69 | L9: 5.44 | M9: 5.31 | N9: 5.13 | O9: 5.06 | P9: 5.25
A10: 5.138 | B10: 5.56 | C10: 5.31 | D10: 5.13 | E10: 6 | F10: 4.25 | G10: 4.81 | H10: 4.88 | I10: 4.75 | J10: 5.31 | K10: 5.69 | L10: 5.5 | M10: 5.31 | N10: 5.19 | O10: 5.13 | P10: 5.25
A11: 5.138 | B11: 5.5 | C11: 5.31 | D11: 5.13 | E11: 5.94 | F11: 4.25 | G11: 4.75 | H11: 4.88 | I11: 4.81 | J11: 5.31 | K11: 5.63 | L11: 5.44 | M11: 5.31 | N11: 5.19 | O11: 5.13 | P11: 5.25
A12: 5.138 | B12: 5.5 | C12: 5.31 | D12: 5.19 | E12: 6 | F12: 4.25 | G12: 4.81 | H12: 4.88 | I12: 4.75 | J12: 5.31 | K12: 5.69 | L12: 5.5 | M12: 5.31 | N12: 5.19 | O12: 5.06 | P12: 5.19
A13: 5.138 | B13: 5.56 | C13: 5.31 | D13: 5.13 | E13: 5.94 | F13: 4.25 | G13: 4.81 | H13: 4.94 | I13: 4.75 | J13: 5.31 | K13: 5.69 | L13: 5.5 | M13: 5.31 | N13: 5.13 | O13: 5.13 | P13: 5.25
... A16: 5.138 | B16: 5.44 | C16: 5.31 | D16: 5.19 | E16: 6 | F16: 4.25 | G16: 4.81 | H16: 4.88 | I16: 4.81 | J16: 5.31 | K16: 5.69 | L16: 5.5 | M16: 5.38 | N16: 5.13 | O16: 5.13 | P16: 5.19
A19: Referenz [°C] | B19: T in [°C] | C19: T in [°C] | D19: T in [°C] | E19: T in [°C] | F19: T in [°C] | G19: T in [°C] | H19: T in [°C] | I19: T in [°C] | J19: T in [°C] | K19: T in [°C] | L19: T in [°C] | M19: T in [°C] | N19: T in [°C] | O19: T in [°C] | P19: T in [°C]
A20: 22.904 | B20: 23.19 | C20: 23 | D20: 22.87 | E20: 23.37 | F20: 22 | G20: 22.56 | H20: 22.62 | I20: 22.75 | J20: 22.75 | K20: 23.06 | L20: 23.19 | M20: 22.81 | N20: 22.94 | O20: 23 | P20: 22.75
A21: 22.904 | B21: 23.12 | C21: 23 | D21: 22.87 | E21: 23.37 | F21: 22 | G21: 22.56 | H21: 22.62 | I21: 22.75 | J21: 22.75 | K21: 23.06 | L21: 23.19 | M21: 22.81 | N21: 22.94 | O21: 23 | P21: 22.75
A22: 22.904 | B22: 23.12 | C22: 23 | D22: 22.87 | E22: 23.31 | F22: 21.94 | G22: 22.5 | H22: 22.69 | I22: 22.75 | J22: 22.75 | K22: 23.06 | L22: 23.19 | M22: 22.81 | N22: 22.94 | O22: 23 | P22: 22.81
A23: 22.904 | B23: 23.19 | C23: 23 | D23: 22.94 | E23: 23.37 | F23: 22 | G23: 22.56 | H23: 22.62 | I23: 22.69 | J23: 22.75 | K23: 23.06 | L23: 23.19 | M23: 22.81 | N23: 22.94 | O23: 22.94 | P23: 22.75
A24: 22.904 | B24: 23.19 | C24: 23 | D24: 22.81 | E24: 23.31 | F24: 22 | G24: 22.56 | H24: 22.62 | I24: 22.75 | J24: 22.75 | K24: 23.06 | L24: 23.19 | M24: 22.81 | N24: 22.94 | O24: 22.94 | P24: 22.81
A25: 22.904 | B25: 23.19 | C25: 23 | D25: 22.81 | E25: 23.37 | F25: 22 | G25: 22.56 | H25: 22.62 | I25: 22.69 | J25: 22.81 | K25: 23.06 | L25: 23.19 | M25: 22.81 | N25: 22.94 | O25: 23 | P25: 22.81
A26: 22.904 | B26: 23.19 | C26: 22.94 | D26: 22.87 | E26: 23.37 | F26: 22 | G26: 22.56 | H26: 22.62 | I26: 22.69 | J26: 22.75 | K26: 23.12 | L26: 23.19 | M26: 22.81 | N26: 23 | O26: 22.94 | P26: 22.81
A27: 22.904 | B27: 23.19 | C27: 23 | D27: 22.81 | E27: 23.37 | F27: 22 | G27: 22.56 | H27: 22.69 | I27: 22.75 | J27: 22.75 | K27: 23.12 | L27: 23.12 | M27: 22.81 | N27: 23 | O27: 22.94 | P27: 22.75
A28: 22.904 | B28: 23.19 | C28: 22.94 | D28: 22.87 | E28: 23.37 | F28: 22.06 | G28: 22.56 | H28: 22.62 | I28: 22.69 | J28: 22.75 | K28: 23.06 | L28: 23.19 | M28: 22.81 | N28: 23 | O28: 23 | P28: 22.81
A29: 22.904 | B29: 23.19 | C29: 23 | D29: 22.87 | E29: 23.31 | F29: 22 | G29: 22.56 | H29: 22.62 | I29: 22.75 | J29: 22.75 | K29: 23.12 | L29: 23.19 | M29: 22.81 | N29: 22.94 | O29: 22.94 | P29: 22.81
A30: 22.904 | B30: 23.19 | C30: 23 | D30: 22.87 | E30: 23.37 | F30: 22 | G30: 22.5 | H30: 22.62 | I30: 22.69 | J30: 22.75 | K30: 23.06 | L30: 23.19 | M30: 22.81 | N30: 23 | O30: 22.94 | P30: 22.81
A31: 22.904 | B31: 23.19 | C31: 23 | D31: 22.87 | E31: 23.37 | F31: 22 | G31: 22.56 | H31: 22.69 | I31: 22.69 | J31: 22.75 | K31: 23.12 | L31: 23.19 | M31: 22.81 | N31: 23 | O31: 23 | P31: 22.75
... A62: 22.904 | B62: 23.19 | C62: 22.94 | D62: 22.87 | E62: 23.37 | F62: 22 | G62: 22.56 | H62: 22.69 | I62: 22.81 | J62: 22.75 | K62: 23.06 | L62: 23.19 | M62: 22.81 | N62: 22.94 | O62: 22.94 | P62: 22.81
A65: Referenz [°C] | B65: T in [°C] | C65: T in [°C] | D65: T in [°C] | E65: T in [°C] | F65: T in [°C] | G65: T in [°C] | H65: T in [°C] | I65: T in [°C] | J65: T in [°C] | K65: T in [°C] | L65: T in [°C] | M65: T in [°C] | N65: T in [°C] | O65: T in [°C] | P65: T in [°C]
A66: 31.071 | B66: 31.12 | C66: 31.06 | D66: 30.87 | E66: 31.31 | F66: 30 | G66: 30.44 | H66: 30.44 | I66: 30.75 | J66: 30.62 | K66: 31.06 | L66: 31.25 | M66: 30.87 | N66: 30.94 | O66: 31.06 | P66: 30.75
A67: 31.067 | B67: 31.12 | C67: 31.06 | D67: 30.87 | E67: 31.31 | F67: 30.06 | G67: 30.44 | H67: 30.44 | I67: 30.75 | J67: 30.62 | K67: 31.06 | L67: 31.19 | M67: 30.87 | N67: 30.94 | O67: 31.06 | P67: 30.75
A68: 31.062 | B68: 31.12 | C68: 31.06 | D68: 30.94 | E68: 31.31 | F68: 30 | G68: 30.5 | H68: 30.5 | I68: 30.69 | J68: 30.62 | K68: 31.06 | L68: 31.25 | M68: 30.87 | N68: 30.94 | O68: 31.06 | P68: 30.75
A69: 30.992 | B69: 31.06 | C69: 31.06 | D69: 30.87 | E69: 31.25 | F69: 30 | G69: 30.44 | H69: 30.5 | I69: 30.69 | J69: 30.62 | K69: 31.06 | L69: 31.19 | M69: 30.81 | N69: 30.94 | O69: 31.06 | P69: 30.75
A70: 31.015 | B70: 31.12 | C70: 31.06 | D70: 30.94 | E70: 31.25 | F70: 30 | G70: 30.44 | H70: 30.44 | I70: 30.69 | J70: 30.62 | K70: 31.06 | L70: 31.19 | M70: 30.81 | N70: 30.94 | O70: 31.06 | P70: 30.75
A71: 31.016 | B71: 31.06 | C71: 31 | D71: 30.94 | E71: 31.25 | F71: 30 | G71: 30.37 | H71: 30.5 | I71: 30.69 | J71: 30.62 | K71: 31.06 | L71: 31.19 | M71: 30.87 | N71: 30.87 | O71: 31.06 | P71: 30.75
A72: 30.958 | B72: 31.06 | C72: 31 | D72: 30.87 | E72: 31.25 | F72: 30.06 | G72: 30.37 | H72: 30.5 | I72: 30.69 | J72: 30.62 | K72: 31.06 | L72: 31.19 | M72: 30.81 | N72: 30.94 | O72: 31.06 | P72: 30.69
A73: 31.024 | B73: 31.06 | C73: 31.06 | D73: 30.87 | E73: 31.25 | F73: 30.06 | G73: 30.37 | H73: 30.5 | I73: 30.69 | J73: 30.62 | K73: 31.06 | L73: 31.25 | M73: 30.75 | N73: 30.94 | O73: 31.06 | P73: 30.75
A74: 31.02 | B74: 31.06 | C74: 31 | D74: 30.87 | E74: 31.25 | F74: 30 | G74: 30.37 | H74: 30.5 | I74: 30.69 | J74: 30.62 | K74: 31.06 | L74: 31.19 | M74: 30.75 | N74: 30.94 | O74: 31.06 | P74: 30.69
A75: 31.023 | B75: 31.06 | C75: 31 | D75: 30.87 | E75: 31.25 | F75: 30 | G75: 30.37 | H75: 30.5 | I75: 30.69 | J75: 30.62 | K75: 31.06 | L75: 31.19 | M75: 30.75 | N75: 30.94 | O75: 31 | P75: 30.69
A76: 31.016 | B76: 31.06 | C76: 30.94 | D76: 30.87 | E76: 31.25 | F76: 30 | G76: 30.37 | H76: 30.5 | I76: 30.69 | J76: 30.69 | K76: 31.06 | L76: 31.19 | M76: 30.75 | N76: 30.94 | O76: 31 | P76: 30.69
A77: 31.004 | B77: 31.06 | C77: 31 | D77: 30.87 | E77: 31.25 | F77: 30 | G77: 30.37 | H77: 30.44 | I77: 30.69 | J77: 30.62 | K77: 31.06 | L77: 31.19 | M77: 30.75 | N77: 30.87 | O77: 31.06 | P77: 30.69
... A95: 30.97 | B95: 31 | C95: 30.87 | D95: 30.81 | E95: 31.12 | F95: 29.94 | G95: 30.37 | H95: 30.44 | I95: 30.69 | J95: 30.62 | K95: 31 | L95: 31.12 | M95: 30.69 | N95: 30.81 | O95: 31 | P95: 30.62
A98: Referenz [°C] | B98: T in [°C] | C98: T in [°C] | D98: T in [°C] | E98: T in [°C] | F98: T in [°C] | G98: T in [°C] | H98: T in [°C] | I98: T in [°C] | J98: T in [°C] | K98: T in [°C] | L98: T in [°C] | M98: T in [°C] | N98: T in [°C] | O98: T in [°C] | P98: T in [°C]
A99: 35.071 | B99: 35.06 | C99: 34.94 | D99: 34.88 | E99: 35.19 | F99: 33.94 | G99: 34.38 | H99: 34.38 | I99: 34.63 | J99: 34.5 | K99: 35 | L99: 35.19 | M99: 34.69 | N99: 34.94 | O99: 35.06 | P99: 34.69
A100: 35.046 | B100: 35.06 | C100: 34.94 | D100: 34.81 | E100: 35.19 | F100: 33.94 | G100: 34.31 | H100: 34.44 | I100: 34.69 | J100: 34.5 | K100: 35 | L100: 35.19 | M100: 34.69 | N100: 34.88 | O100: 35.06 | P100: 34.69
A101: 35.043 | B101: 35.06 | C101: 35 | D101: 34.81 | E101: 35.19 | F101: 33.88 | G101: 34.31 | H101: 34.44 | I101: 34.63 | J101: 34.5 | K101: 35 | L101: 35.19 | M101: 34.69 | N101: 34.88 | O101: 35.06 | P101: 34.63
A102: 35.036 | B102: 35.06 | C102: 34.94 | D102: 34.88 | E102: 35.19 | F102: 33.88 | G102: 34.31 | H102: 34.44 | I102: 34.69 | J102: 34.5 | K102: 34.94 | L102: 35.19 | M102: 34.69 | N102: 34.94 | O102: 35 | P102: 34.63
A103: 35.031 | B103: 35.06 | C103: 34.94 | D103: 34.81 | E103: 35.13 | F103: 33.88 | G103: 34.31 | H103: 34.44 | I103: 34.69 | J103: 34.5 | K103: 35 | L103: 35.19 | M103: 34.69 | N103: 34.88 | O103: 35 | P103: 34.69
A104: 35.012 | B104: 35.06 | C104: 34.94 | D104: 34.81 | E104: 35.19 | F104: 33.88 | G104: 34.31 | H104: 34.44 | I104: 34.69 | J104: 34.5 | K104: 34.94 | L104: 35.19 | M104: 34.69 | N104: 34.88 | O104: 35 | P104: 34.69
A105: 35.039 | B105: 35.06 | C105: 34.94 | D105: 34.81 | E105: 35.19 | F105: 33.81 | G105: 34.31 | H105: 34.5 | I105: 34.69 | J105: 34.5 | K105: 34.94 | L105: 35.19 | M105: 34.69 | N105: 34.88 | O105: 35 | P105: 34.69
A106: 34.997 | B106: 35.06 | C106: 34.94 | D106: 34.81 | E106: 35.13 | F106: 33.81 | G106: 34.31 | H106: 34.44 | I106: 34.69 | J106: 34.5 | K106: 34.94 | L106: 35.19 | M106: 34.69 | N106: 34.88 | O106: 35.06 | P106: 34.63
A107: 35 | B107: 35 | C107: 34.88 | D107: 34.81 | E107: 35.13 | F107: 33.81 | G107: 34.31 | H107: 34.5 | I107: 34.69 | J107: 34.5 | K107: 34.94 | L107: 35.19 | M107: 34.69 | N107: 34.88 | O107: 35 | P107: 34.63
A108: 34.995 | B108: 35.06 | C108: 34.94 | D108: 34.81 | E108: 35.13 | F108: 33.88 | G108: 34.31 | H108: 34.5 | I108: 34.69 | J108: 34.5 | K108: 34.88 | L108: 35.19 | M108: 34.75 | N108: 34.88 | O108: 35 | P108: 34.63
A109: 34.994 | B109: 35 | C109: 34.88 | D109: 34.81 | E109: 35.13 | F109: 33.88 | G109: 34.31 | H109: 34.5 | I109: 34.69 | J109: 34.5 | K109: 34.94 | L109: 35.19 | M109: 34.75 | N109: 34.88 | O109: 35 | P109: 34.63
A110: 34.972 | B110: 35 | C110: 34.88 | D110: 34.81 | E110: 35.13 | F110: 33.81 | G110: 34.31 | H110: 34.5 | I110: 34.69 | J110: 34.44 | K110: 34.94 | L110: 35.13 | M110: 34.75 | N110: 34.88 | O110: 35 | P110: 34.63
... A130: 34.878 | B130: 34.88 | C130: 34.88 | D130: 34.69 | E130: 35.06 | F130: 33.81 | G130: 34.25 | H130: 34.25 | I130: 34.56 | J130: 34.31 | K130: 34.81 | L130: 35 | M130: 34.69 | N130: 34.75 | O130: 34.88 | P130: 34.56
A133: Referenz [°C] | B133: T in [°C] | C133: T in [°C] | D133: T in [°C] | E133: T in [°C] | F133: T in [°C] | G133: T in [°C] | H133: T in [°C] | I133: T in [°C] | J133: T in [°C] | K133: T in [°C] | L133: T in [°C] | M133: T in [°C] | N133: T in [°C] | O133: T in [°C] | P133: T in [°C]
A134: 40.029 | B134: 40 | C134: 39.94 | D134: 39.81 | E134: 40.13 | F134: 38.94 | G134: 39.31 | H134: 39.44 | I134: 39.69 | J134: 39.5 | K134: 39.88 | L134: 40.19 | M134: 39.75 | N134: 39.88 | O134: 40.06 | P134: 39.56
A135: 40.02 | B135: 40 | C135: 39.94 | D135: 39.88 | E135: 40.13 | F135: 38.94 | G135: 39.38 | H135: 39.38 | I135: 39.69 | J135: 39.5 | K135: 39.88 | L135: 40.19 | M135: 39.75 | N135: 39.88 | O135: 40 | P135: 39.63
A136: 40.013 | B136: 39.94 | C136: 39.94 | D136: 39.81 | E136: 40.13 | F136: 38.94 | G136: 39.31 | H136: 39.38 | I136: 39.75 | J136: 39.44 | K136: 39.88 | L136: 40.13 | M136: 39.75 | N136: 39.88 | O136: 40 | P136: 39.56
A137: 40.018 | B137: 40 | C137: 39.94 | D137: 39.75 | E137: 40.06 | F137: 38.88 | G137: 39.31 | H137: 39.38 | I137: 39.75 | J137: 39.44 | K137: 39.88 | L137: 40.19 | M137: 39.75 | N137: 39.88 | O137: 40 | P137: 39.63
A138: 40.015 | B138: 40 | C138: 39.94 | D138: 39.75 | E138: 40.06 | F138: 38.88 | G138: 39.31 | H138: 39.38 | I138: 39.75 | J138: 39.44 | K138: 39.88 | L138: 40.13 | M138: 39.69 | N138: 39.88 | O138: 40 | P138: 39.56
A139: 39.998 | B139: 40 | C139: 39.94 | D139: 39.81 | E139: 40.13 | F139: 38.88 | G139: 39.25 | H139: 39.38 | I139: 39.75 | J139: 39.44 | K139: 39.81 | L139: 40.13 | M139: 39.69 | N139: 39.88 | O139: 40 | P139: 39.63
A140: 39.994 | B140: 40 | C140: 39.88 | D140: 39.75 | E140: 40.06 | F140: 38.88 | G140: 39.25 | H140: 39.31 | I140: 39.75 | J140: 39.44 | K140: 39.88 | L140: 40.13 | M140: 39.69 | N140: 39.88 | O140: 40 | P140: 39.56
A141: 39.983 | B141: 39.94 | C141: 39.88 | D141: 39.81 | E141: 40.13 | F141: 38.88 | G141: 39.19 | H141: 39.31 | I141: 39.69 | J141: 39.38 | K141: 39.88 | L141: 40.06 | M141: 39.63 | N141: 39.88 | O141: 40 | P141: 39.5
A142: 39.965 | B142: 40 | C142: 39.88 | D142: 39.81 | E142: 40.06 | F142: 38.88 | G142: 39.19 | H142: 39.31 | I142: 39.75 | J142: 39.38 | K142: 39.81 | L142: 40.13 | M142: 39.69 | N142: 39.81 | O142: 39.94 | P142: 39.56
A143: 39.964 | B143: 39.94 | C143: 39.88 | D143: 39.75 | E143: 40.06 | F143: 38.88 | G143: 39.25 | H143: 39.31 | I143: 39.69 | J143: 39.38 | K143: 39.81 | L143: 40.13 | M143: 39.63 | N143: 39.81 | O143: 40 | P143: 39.5
A144: 39.962 | B144: 39.94 | C144: 39.81 | D144: 39.75 | E144: 40.06 | F144: 38.88 | G144: 39.25 | H144: 39.31 | I144: 39.75 | J144: 39.38 | K144: 39.81 | L144: 40.06 | M144: 39.63 | N144: 39.81 | O144: 39.94 | P144: 39.56
A145: 39.956 | B145: 39.94 | C145: 39.81 | D145: 39.75 | E145: 40.06 | F145: 38.81 | G145: 39.19 | H145: 39.31 | I145: 39.63 | J145: 39.31 | K145: 39.81 | L145: 40.13 | M145: 39.63 | N145: 39.81 | O145: 40 | P145: 39.56
... A167: 39.817 | B167: 39.75 | C167: 39.69 | D167: 39.63 | E167: 39.88 | F167: 38.63 | G167: 39.06 | H167: 39.13 | I167: 39.5 | J167: 39.19 | K167: 39.63 | L167: 39.88 | M167: 39.5 | N167: 39.63 | O167: 39.81 | P167: 39.31

Sheet  1dt
A1: Referenz [°C] | B1: dT in [K] | C1: dT in [K] | D1: dT in [K] | E1: dT in [K] | F1: dT in [K] | G1: dT in [K] | H1: dT in [K] | I1: dT in [K] | J1: dT in [K] | K1: dT in [K] | L1: dT in [K] | M1: dT in [K] | N1: dT in [K] | O1: dT in [K] | P1: dT in [K]
A2: ='1'!A2 -> 5.135 | B2: ='1'!B2-'1'!$A2 -> 0.365 | C2: ='1'!C2-'1'!$A2 -> 0.175 | D2: ='1'!D2-'1'!$A2 -> -0.005 | E2: ='1'!E2-'1'!$A2 -> 0.805 | F2: ='1'!F2-'1'!$A2 -> -0.945 | G2: ='1'!G2-'1'!$A2 -> -0.385 | H2: ='1'!H2-'1'!$A2 -> -0.255 | I2: ='1'!I2-'1'!$A2 -> -0.385 | ... P2: ='1'!P2-'1'!$A2 -> 0.055
A3: ='1'!A3 -> 5.134 | B3: ='1'!B3-'1'!$A3 -> 0.366 | C3: ='1'!C3-'1'!$A3 -> 0.176 | D3: ='1'!D3-'1'!$A3 -> -0.004 | E3: ='1'!E3-'1'!$A3 -> 0.806 | F3: ='1'!F3-'1'!$A3 -> -0.944 | G3: ='1'!G3-'1'!$A3 -> -0.324 | H3: ='1'!H3-'1'!$A3 -> -0.254 | I3: ='1'!I3-'1'!$A3 -> -0.384 | ... P3: ='1'!P3-'1'!$A3 -> 0.056
A4: ='1'!A4 -> 5.133 | B4: ='1'!B4-'1'!$A4 -> 0.367 | C4: ='1'!C4-'1'!$A4 -> 0.177 | D4: ='1'!D4-'1'!$A4 -> -0.003 | E4: ='1'!E4-'1'!$A4 -> 0.807 | F4: ='1'!F4-'1'!$A4 -> -0.943 | G4: ='1'!G4-'1'!$A4 -> -0.323 | H4: ='1'!H4-'1'!$A4 -> -0.193 | I4: ='1'!I4-'1'!$A4 -> -0.323 | ... P4: ='1'!P4-'1'!$A4 -> 0.057
A5: ='1'!A5 -> 5.138 | B5: ='1'!B5-'1'!$A5 -> 0.362 | C5: ='1'!C5-'1'!$A5 -> 0.172 | D5: ='1'!D5-'1'!$A5 -> 0.052 | E5: ='1'!E5-'1'!$A5 -> 0.862 | F5: ='1'!F5-'1'!$A5 -> -0.948 | G5: ='1'!G5-'1'!$A5 -> -0.328 | H5: ='1'!H5-'1'!$A5 -> -0.258 | I5: ='1'!I5-'1'!$A5 -> -0.328 | ... P5: ='1'!P5-'1'!$A5 -> 0.052
A6: ='1'!A6 -> 5.138 | B6: ='1'!B6-'1'!$A6 -> 0.362 | C6: ='1'!C6-'1'!$A6 -> 0.172 | D6: ='1'!D6-'1'!$A6 -> 0.052 | E6: ='1'!E6-'1'!$A6 -> 0.802 | F6: ='1'!F6-'1'!$A6 -> -0.948 | G6: ='1'!G6-'1'!$A6 -> -0.328 | H6: ='1'!H6-'1'!$A6 -> -0.258 | I6: ='1'!I6-'1'!$A6 -> -0.328 | ... P6: ='1'!P6-'1'!$A6 -> 0.112
A7: ='1'!A7 -> 5.138 | B7: ='1'!B7-'1'!$A7 -> 0.362 | C7: ='1'!C7-'1'!$A7 -> 0.172 | D7: ='1'!D7-'1'!$A7 -> -0.078 | E7: ='1'!E7-'1'!$A7 -> 0.802 | F7: ='1'!F7-'1'!$A7 -> -0.888 | G7: ='1'!G7-'1'!$A7 -> -0.388 | H7: ='1'!H7-'1'!$A7 -> -0.258 | I7: ='1'!I7-'1'!$A7 -> -0.328 | ... P7: ='1'!P7-'1'!$A7 -> 0.112
A8: ='1'!A8 -> 5.138 | B8: ='1'!B8-'1'!$A8 -> 0.422 | C8: ='1'!C8-'1'!$A8 -> 0.172 | D8: ='1'!D8-'1'!$A8 -> -0.008 | E8: ='1'!E8-'1'!$A8 -> 0.862 | F8: ='1'!F8-'1'!$A8 -> -0.948 | G8: ='1'!G8-'1'!$A8 -> -0.328 | H8: ='1'!H8-'1'!$A8 -> -0.258 | I8: ='1'!I8-'1'!$A8 -> -0.328 | ... P8: ='1'!P8-'1'!$A8 -> 0.052
A9: ='1'!A9 -> 5.138 | B9: ='1'!B9-'1'!$A9 -> 0.362 | C9: ='1'!C9-'1'!$A9 -> 0.172 | D9: ='1'!D9-'1'!$A9 -> -0.008 | E9: ='1'!E9-'1'!$A9 -> 0.862 | F9: ='1'!F9-'1'!$A9 -> -0.888 | G9: ='1'!G9-'1'!$A9 -> -0.388 | H9: ='1'!H9-'1'!$A9 -> -0.258 | I9: ='1'!I9-'1'!$A9 -> -0.328 | ... P9: ='1'!P9-'1'!$A9 -> 0.112
A10: ='1'!A10 -> 5.138 | B10: ='1'!B10-'1'!$A10 -> 0.422 | C10: ='1'!C10-'1'!$A10 -> 0.172 | D10: ='1'!D10-'1'!$A10 -> -0.008 | E10: ='1'!E10-'1'!$A10 -> 0.862 | F10: ='1'!F10-'1'!$A10 -> -0.888 | G10: ='1'!G10-'1'!$A10 -> -0.328 | H10: ='1'!H10-'1'!$A10 -> -0.258 | I10: ='1'!I10-'1'!$A10 -> -0.388 | ... P10: ='1'!P10-'1'!$A10 -> 0.112
A11: ='1'!A11 -> 5.138 | B11: ='1'!B11-'1'!$A11 -> 0.362 | C11: ='1'!C11-'1'!$A11 -> 0.172 | D11: ='1'!D11-'1'!$A11 -> -0.008 | E11: ='1'!E11-'1'!$A11 -> 0.802 | F11: ='1'!F11-'1'!$A11 -> -0.888 | G11: ='1'!G11-'1'!$A11 -> -0.388 | H11: ='1'!H11-'1'!$A11 -> -0.258 | I11: ='1'!I11-'1'!$A11 -> -0.328 | ... P11: ='1'!P11-'1'!$A11 -> 0.112
A12: ='1'!A12 -> 5.138 | B12: ='1'!B12-'1'!$A12 -> 0.362 | C12: ='1'!C12-'1'!$A12 -> 0.172 | D12: ='1'!D12-'1'!$A12 -> 0.052 | E12: ='1'!E12-'1'!$A12 -> 0.862 | F12: ='1'!F12-'1'!$A12 -> -0.888 | G12: ='1'!G12-'1'!$A12 -> -0.328 | H12: ='1'!H12-'1'!$A12 -> -0.258 | I12: ='1'!I12-'1'!$A12 -> -0.388 | ... P12: ='1'!P12-'1'!$A12 -> 0.052
A13: ='1'!A13 -> 5.138 | B13: ='1'!B13-'1'!$A13 -> 0.422 | C13: ='1'!C13-'1'!$A13 -> 0.172 | D13: ='1'!D13-'1'!$A13 -> -0.008 | E13: ='1'!E13-'1'!$A13 -> 0.802 | F13: ='1'!F13-'1'!$A13 -> -0.888 | G13: ='1'!G13-'1'!$A13 -> -0.328 | H13: ='1'!H13-'1'!$A13 -> -0.198 | I13: ='1'!I13-'1'!$A13 -> -0.388 | ... P13: ='1'!P13-'1'!$A13 -> 0.112
... A16: ='1'!A16 -> 5.138 | B16: ='1'!B16-'1'!$A16 -> 0.302 | C16: ='1'!C16-'1'!$A16 -> 0.172 | D16: ='1'!D16-'1'!$A16 -> 0.052 | E16: ='1'!E16-'1'!$A16 -> 0.862 | F16: ='1'!F16-'1'!$A16 -> -0.888 | G16: ='1'!G16-'1'!$A16 -> -0.328 | H16: ='1'!H16-'1'!$A16 -> -0.258 | I16: ='1'!I16-'1'!$A16 -> -0.328 | ... P16: ='1'!P16-'1'!$A16 -> 0.052
A19: Referenz [°C] | B19: dT in [K] | C19: dT in [K] | D19: dT in [K] | E19: dT in [K] | F19: dT in [K] | G19: dT in [K] | H19: dT in [K] | I19: dT in [K] | J19: dT in [K] | K19: dT in [K] | L19: dT in [K] | M19: dT in [K] | N19: dT in [K] | O19: dT in [K] | P19: dT in [K]
A20: ='1'!A20 -> 22.904 | B20: ='1'!B20-'1'!$A20 -> 0.286 | C20: ='1'!C20-'1'!$A20 -> 0.096 | D20: ='1'!D20-'1'!$A20 -> -0.034 | E20: ='1'!E20-'1'!$A20 -> 0.466 | F20: ='1'!F20-'1'!$A20 -> -0.904 | G20: ='1'!G20-'1'!$A20 -> -0.344 | H20: ='1'!H20-'1'!$A20 -> -0.284 | I20: ='1'!I20-'1'!$A20 -> -0.154 | ... P20: ='1'!P20-'1'!$A20 -> -0.154
A21: ='1'!A21 -> 22.904 | B21: ='1'!B21-'1'!$A21 -> 0.216 | C21: ='1'!C21-'1'!$A21 -> 0.096 | D21: ='1'!D21-'1'!$A21 -> -0.034 | E21: ='1'!E21-'1'!$A21 -> 0.466 | F21: ='1'!F21-'1'!$A21 -> -0.904 | G21: ='1'!G21-'1'!$A21 -> -0.344 | H21: ='1'!H21-'1'!$A21 -> -0.284 | I21: ='1'!I21-'1'!$A21 -> -0.154 | ... P21: ='1'!P21-'1'!$A21 -> -0.154
A22: ='1'!A22 -> 22.904 | B22: ='1'!B22-'1'!$A22 -> 0.216 | C22: ='1'!C22-'1'!$A22 -> 0.096 | D22: ='1'!D22-'1'!$A22 -> -0.034 | E22: ='1'!E22-'1'!$A22 -> 0.406 | F22: ='1'!F22-'1'!$A22 -> -0.964 | G22: ='1'!G22-'1'!$A22 -> -0.404 | H22: ='1'!H22-'1'!$A22 -> -0.214 | I22: ='1'!I22-'1'!$A22 -> -0.154 | ... P22: ='1'!P22-'1'!$A22 -> -0.094
A23: ='1'!A23 -> 22.904 | B23: ='1'!B23-'1'!$A23 -> 0.286 | C23: ='1'!C23-'1'!$A23 -> 0.096 | D23: ='1'!D23-'1'!$A23 -> 0.036 | E23: ='1'!E23-'1'!$A23 -> 0.466 | F23: ='1'!F23-'1'!$A23 -> -0.904 | G23: ='1'!G23-'1'!$A23 -> -0.344 | H23: ='1'!H23-'1'!$A23 -> -0.284 | I23: ='1'!I23-'1'!$A23 -> -0.214 | ... P23: ='1'!P23-'1'!$A23 -> -0.154
A24: ='1'!A24 -> 22.904 | B24: ='1'!B24-'1'!$A24 -> 0.286 | C24: ='1'!C24-'1'!$A24 -> 0.096 | D24: ='1'!D24-'1'!$A24 -> -0.094 | E24: ='1'!E24-'1'!$A24 -> 0.406 | F24: ='1'!F24-'1'!$A24 -> -0.904 | G24: ='1'!G24-'1'!$A24 -> -0.344 | H24: ='1'!H24-'1'!$A24 -> -0.284 | I24: ='1'!I24-'1'!$A24 -> -0.154 | ... P24: ='1'!P24-'1'!$A24 -> -0.094
A25: ='1'!A25 -> 22.904 | B25: ='1'!B25-'1'!$A25 -> 0.286 | C25: ='1'!C25-'1'!$A25 -> 0.096 | D25: ='1'!D25-'1'!$A25 -> -0.094 | E25: ='1'!E25-'1'!$A25 -> 0.466 | F25: ='1'!F25-'1'!$A25 -> -0.904 | G25: ='1'!G25-'1'!$A25 -> -0.344 | H25: ='1'!H25-'1'!$A25 -> -0.284 | I25: ='1'!I25-'1'!$A25 -> -0.214 | ... P25: ='1'!P25-'1'!$A25 -> -0.094
A26: ='1'!A26 -> 22.904 | B26: ='1'!B26-'1'!$A26 -> 0.286 | C26: ='1'!C26-'1'!$A26 -> 0.036 | D26: ='1'!D26-'1'!$A26 -> -0.034 | E26: ='1'!E26-'1'!$A26 -> 0.466 | F26: ='1'!F26-'1'!$A26 -> -0.904 | G26: ='1'!G26-'1'!$A26 -> -0.344 | H26: ='1'!H26-'1'!$A26 -> -0.284 | I26: ='1'!I26-'1'!$A26 -> -0.214 | ... P26: ='1'!P26-'1'!$A26 -> -0.094
A27: ='1'!A27 -> 22.904 | B27: ='1'!B27-'1'!$A27 -> 0.286 | C27: ='1'!C27-'1'!$A27 -> 0.096 | D27: ='1'!D27-'1'!$A27 -> -0.094 | E27: ='1'!E27-'1'!$A27 -> 0.466 | F27: ='1'!F27-'1'!$A27 -> -0.904 | G27: ='1'!G27-'1'!$A27 -> -0.344 | H27: ='1'!H27-'1'!$A27 -> -0.214 | I27: ='1'!I27-'1'!$A27 -> -0.154 | ... P27: ='1'!P27-'1'!$A27 -> -0.154
A28: ='1'!A28 -> 22.904 | B28: ='1'!B28-'1'!$A28 -> 0.286 | C28: ='1'!C28-'1'!$A28 -> 0.036 | D28: ='1'!D28-'1'!$A28 -> -0.034 | E28: ='1'!E28-'1'!$A28 -> 0.466 | F28: ='1'!F28-'1'!$A28 -> -0.844 | G28: ='1'!G28-'1'!$A28 -> -0.344 | H28: ='1'!H28-'1'!$A28 -> -0.284 | I28: ='1'!I28-'1'!$A28 -> -0.214 | ... P28: ='1'!P28-'1'!$A28 -> -0.094
A29: ='1'!A29 -> 22.904 | B29: ='1'!B29-'1'!$A29 -> 0.286 | C29: ='1'!C29-'1'!$A29 -> 0.096 | D29: ='1'!D29-'1'!$A29 -> -0.034 | E29: ='1'!E29-'1'!$A29 -> 0.406 | F29: ='1'!F29-'1'!$A29 -> -0.904 | G29: ='1'!G29-'1'!$A29 -> -0.344 | H29: ='1'!H29-'1'!$A29 -> -0.284 | I29: ='1'!I29-'1'!$A29 -> -0.154 | ... P29: ='1'!P29-'1'!$A29 -> -0.094
A30: ='1'!A30 -> 22.904 | B30: ='1'!B30-'1'!$A30 -> 0.286 | C30: ='1'!C30-'1'!$A30 -> 0.096 | D30: ='1'!D30-'1'!$A30 -> -0.034 | E30: ='1'!E30-'1'!$A30 -> 0.466 | F30: ='1'!F30-'1'!$A30 -> -0.904 | G30: ='1'!G30-'1'!$A30 -> -0.404 | H30: ='1'!H30-'1'!$A30 -> -0.284 | I30: ='1'!I30-'1'!$A30 -> -0.214 | ... P30: ='1'!P30-'1'!$A30 -> -0.094
A31: ='1'!A31 -> 22.904 | B31: ='1'!B31-'1'!$A31 -> 0.286 | C31: ='1'!C31-'1'!$A31 -> 0.096 | D31: ='1'!D31-'1'!$A31 -> -0.034 | E31: ='1'!E31-'1'!$A31 -> 0.466 | F31: ='1'!F31-'1'!$A31 -> -0.904 | G31: ='1'!G31-'1'!$A31 -> -0.344 | H31: ='1'!H31-'1'!$A31 -> -0.214 | I31: ='1'!I31-'1'!$A31 -> -0.214 | ... P31: ='1'!P31-'1'!$A31 -> -0.154
... A62: ='1'!A62 -> 22.904 | B62: ='1'!B62-'1'!$A62 -> 0.286 | C62: ='1'!C62-'1'!$A62 -> 0.036 | D62: ='1'!D62-'1'!$A62 -> -0.034 | E62: ='1'!E62-'1'!$A62 -> 0.466 | F62: ='1'!F62-'1'!$A62 -> -0.904 | G62: ='1'!G62-'1'!$A62 -> -0.344 | H62: ='1'!H62-'1'!$A62 -> -0.214 | I62: ='1'!I62-'1'!$A62 -> -0.094 | ... P62: ='1'!P62-'1'!$A62 -> -0.094
A65: Referenz [°C] | B65: dT in [K] | C65: dT in [K] | D65: dT in [K] | E65: dT in [K] | F65: dT in [K] | G65: dT in [K] | H65: dT in [K] | I65: dT in [K] | J65: dT in [K] | K65: dT in [K] | L65: dT in [K] | M65: dT in [K] | N65: dT in [K] | O65: dT in [K] | P65: dT in [K]
A66: ='1'!A66 -> 31.071 | B66: ='1'!B66-'1'!$A66 -> 0.049 | C66: ='1'!C66-'1'!$A66 -> -0.011 | D66: ='1'!D66-'1'!$A66 -> -0.201 | E66: ='1'!E66-'1'!$A66 -> 0.239 | F66: ='1'!F66-'1'!$A66 -> -1.071 | G66: ='1'!G66-'1'!$A66 -> -0.631 | H66: ='1'!H66-'1'!$A66 -> -0.631 | I66: ='1'!I66-'1'!$A66 -> -0.321 | ... P66: ='1'!P66-'1'!$A66 -> -0.321
A67: ='1'!A67 -> 31.067 | B67: ='1'!B67-'1'!$A67 -> 0.053 | C67: ='1'!C67-'1'!$A67 -> -0.007 | D67: ='1'!D67-'1'!$A67 -> -0.197 | E67: ='1'!E67-'1'!$A67 -> 0.243 | F67: ='1'!F67-'1'!$A67 -> -1.007 | G67: ='1'!G67-'1'!$A67 -> -0.627 | H67: ='1'!H67-'1'!$A67 -> -0.627 | I67: ='1'!I67-'1'!$A67 -> -0.317 | ... P67: ='1'!P67-'1'!$A67 -> -0.317
A68: ='1'!A68 -> 31.062 | B68: ='1'!B68-'1'!$A68 -> 0.058 | C68: ='1'!C68-'1'!$A68 -> -0.002 | D68: ='1'!D68-'1'!$A68 -> -0.122 | E68: ='1'!E68-'1'!$A68 -> 0.248 | F68: ='1'!F68-'1'!$A68 -> -1.062 | G68: ='1'!G68-'1'!$A68 -> -0.562 | H68: ='1'!H68-'1'!$A68 -> -0.562 | I68: ='1'!I68-'1'!$A68 -> -0.372 | ... P68: ='1'!P68-'1'!$A68 -> -0.312
A69: ='1'!A69 -> 30.992 | B69: ='1'!B69-'1'!$A69 -> 0.068 | C69: ='1'!C69-'1'!$A69 -> 0.068 | D69: ='1'!D69-'1'!$A69 -> -0.122 | E69: ='1'!E69-'1'!$A69 -> 0.258 | F69: ='1'!F69-'1'!$A69 -> -0.992 | G69: ='1'!G69-'1'!$A69 -> -0.552 | H69: ='1'!H69-'1'!$A69 -> -0.492 | I69: ='1'!I69-'1'!$A69 -> -0.302 | ... P69: ='1'!P69-'1'!$A69 -> -0.242
A70: ='1'!A70 -> 31.015 | B70: ='1'!B70-'1'!$A70 -> 0.105 | C70: ='1'!C70-'1'!$A70 -> 0.045 | D70: ='1'!D70-'1'!$A70 -> -0.075 | E70: ='1'!E70-'1'!$A70 -> 0.235 | F70: ='1'!F70-'1'!$A70 -> -1.015 | G70: ='1'!G70-'1'!$A70 -> -0.575 | H70: ='1'!H70-'1'!$A70 -> -0.575 | I70: ='1'!I70-'1'!$A70 -> -0.325 | ... P70: ='1'!P70-'1'!$A70 -> -0.265
A71: ='1'!A71 -> 31.016 | B71: ='1'!B71-'1'!$A71 -> 0.044 | C71: ='1'!C71-'1'!$A71 -> -0.016 | D71: ='1'!D71-'1'!$A71 -> -0.076 | E71: ='1'!E71-'1'!$A71 -> 0.234 | F71: ='1'!F71-'1'!$A71 -> -1.016 | G71: ='1'!G71-'1'!$A71 -> -0.646 | H71: ='1'!H71-'1'!$A71 -> -0.516 | I71: ='1'!I71-'1'!$A71 -> -0.326 | ... P71: ='1'!P71-'1'!$A71 -> -0.266
A72: ='1'!A72 -> 30.958 | B72: ='1'!B72-'1'!$A72 -> 0.102 | C72: ='1'!C72-'1'!$A72 -> 0.042 | D72: ='1'!D72-'1'!$A72 -> -0.088 | E72: ='1'!E72-'1'!$A72 -> 0.292 | F72: ='1'!F72-'1'!$A72 -> -0.898 | G72: ='1'!G72-'1'!$A72 -> -0.588 | H72: ='1'!H72-'1'!$A72 -> -0.458 | I72: ='1'!I72-'1'!$A72 -> -0.268 | ... P72: ='1'!P72-'1'!$A72 -> -0.268
A73: ='1'!A73 -> 31.024 | B73: ='1'!B73-'1'!$A73 -> 0.036 | C73: ='1'!C73-'1'!$A73 -> 0.036 | D73: ='1'!D73-'1'!$A73 -> -0.154 | E73: ='1'!E73-'1'!$A73 -> 0.226 | F73: ='1'!F73-'1'!$A73 -> -0.964 | G73: ='1'!G73-'1'!$A73 -> -0.654 | H73: ='1'!H73-'1'!$A73 -> -0.524 | I73: ='1'!I73-'1'!$A73 -> -0.334 | ... P73: ='1'!P73-'1'!$A73 -> -0.274
A74: ='1'!A74 -> 31.02 | B74: ='1'!B74-'1'!$A74 -> 0.04 | C74: ='1'!C74-'1'!$A74 -> -0.02 | D74: ='1'!D74-'1'!$A74 -> -0.15 | E74: ='1'!E74-'1'!$A74 -> 0.23 | F74: ='1'!F74-'1'!$A74 -> -1.02 | G74: ='1'!G74-'1'!$A74 -> -0.65 | H74: ='1'!H74-'1'!$A74 -> -0.52 | I74: ='1'!I74-'1'!$A74 -> -0.33 | ... P74: ='1'!P74-'1'!$A74 -> -0.33
A75: ='1'!A75 -> 31.023 | B75: ='1'!B75-'1'!$A75 -> 0.037 | C75: ='1'!C75-'1'!$A75 -> -0.023 | D75: ='1'!D75-'1'!$A75 -> -0.153 | E75: ='1'!E75-'1'!$A75 -> 0.227 | F75: ='1'!F75-'1'!$A75 -> -1.023 | G75: ='1'!G75-'1'!$A75 -> -0.653 | H75: ='1'!H75-'1'!$A75 -> -0.523 | I75: ='1'!I75-'1'!$A75 -> -0.333 | ... P75: ='1'!P75-'1'!$A75 -> -0.333
A76: ='1'!A76 -> 31.016 | B76: ='1'!B76-'1'!$A76 -> 0.044 | C76: ='1'!C76-'1'!$A76 -> -0.076 | D76: ='1'!D76-'1'!$A76 -> -0.146 | E76: ='1'!E76-'1'!$A76 -> 0.234 | F76: ='1'!F76-'1'!$A76 -> -1.016 | G76: ='1'!G76-'1'!$A76 -> -0.646 | H76: ='1'!H76-'1'!$A76 -> -0.516 | I76: ='1'!I76-'1'!$A76 -> -0.326 | ... P76: ='1'!P76-'1'!$A76 -> -0.326
A77: ='1'!A77 -> 31.004 | B77: ='1'!B77-'1'!$A77 -> 0.056 | C77: ='1'!C77-'1'!$A77 -> -0.004 | D77: ='1'!D77-'1'!$A77 -> -0.134 | E77: ='1'!E77-'1'!$A77 -> 0.246 | F77: ='1'!F77-'1'!$A77 -> -1.004 | G77: ='1'!G77-'1'!$A77 -> -0.634 | H77: ='1'!H77-'1'!$A77 -> -0.564 | I77: ='1'!I77-'1'!$A77 -> -0.314 | ... P77: ='1'!P77-'1'!$A77 -> -0.314
... A95: ='1'!A95 -> 30.97 | B95: ='1'!B95-'1'!$A95 -> 0.03 | C95: ='1'!C95-'1'!$A95 -> -0.1 | D95: ='1'!D95-'1'!$A95 -> -0.16 | E95: ='1'!E95-'1'!$A95 -> 0.15 | F95: ='1'!F95-'1'!$A95 -> -1.03 | G95: ='1'!G95-'1'!$A95 -> -0.6 | H95: ='1'!H95-'1'!$A95 -> -0.53 | I95: ='1'!I95-'1'!$A95 -> -0.28 | ... P95: ='1'!P95-'1'!$A95 -> -0.35
A98: Referenz [°C] | B98: dT in [K] | C98: dT in [K] | D98: dT in [K] | E98: dT in [K] | F98: dT in [K] | G98: dT in [K] | H98: dT in [K] | I98: dT in [K] | J98: dT in [K] | K98: dT in [K] | L98: dT in [K] | M98: dT in [K] | N98: dT in [K] | O98: dT in [K] | P98: dT in [K]
A99: ='1'!A99 -> 35.071 | B99: ='1'!B99-'1'!$A99 -> -0.011 | C99: ='1'!C99-'1'!$A99 -> -0.131 | D99: ='1'!D99-'1'!$A99 -> -0.191 | E99: ='1'!E99-'1'!$A99 -> 0.119 | F99: ='1'!F99-'1'!$A99 -> -1.131 | G99: ='1'!G99-'1'!$A99 -> -0.691 | H99: ='1'!H99-'1'!$A99 -> -0.691 | I99: ='1'!I99-'1'!$A99 -> -0.441 | ... P99: ='1'!P99-'1'!$A99 -> -0.381
A100: ='1'!A100 -> 35.046 | B100: ='1'!B100-'1'!$A100 -> 0.014 | C100: ='1'!C100-'1'!$A100 -> -0.106 | D100: ='1'!D100-'1'!$A100 -> -0.236 | E100: ='1'!E100-'1'!$A100 -> 0.144 | F100: ='1'!F100-'1'!$A100 -> -1.106 | G100: ='1'!G100-'1'!$A100 -> -0.736 | H100: ='1'!H100-'1'!$A100 -> -0.606 | I100: ='1'!I100-'1'!$A100 -> -0.356 | ... P100: ='1'!P100-'1'!$A100 -> -0.356
A101: ='1'!A101 -> 35.043 | B101: ='1'!B101-'1'!$A101 -> 0.017 | C101: ='1'!C101-'1'!$A101 -> -0.043 | D101: ='1'!D101-'1'!$A101 -> -0.233 | E101: ='1'!E101-'1'!$A101 -> 0.147 | F101: ='1'!F101-'1'!$A101 -> -1.163 | G101: ='1'!G101-'1'!$A101 -> -0.733 | H101: ='1'!H101-'1'!$A101 -> -0.603 | I101: ='1'!I101-'1'!$A101 -> -0.413 | ... P101: ='1'!P101-'1'!$A101 -> -0.413
A102: ='1'!A102 -> 35.036 | B102: ='1'!B102-'1'!$A102 -> 0.024 | C102: ='1'!C102-'1'!$A102 -> -0.096 | D102: ='1'!D102-'1'!$A102 -> -0.156 | E102: ='1'!E102-'1'!$A102 -> 0.154 | F102: ='1'!F102-'1'!$A102 -> -1.156 | G102: ='1'!G102-'1'!$A102 -> -0.726 | H102: ='1'!H102-'1'!$A102 -> -0.596 | I102: ='1'!I102-'1'!$A102 -> -0.346 | ... P102: ='1'!P102-'1'!$A102 -> -0.406
A103: ='1'!A103 -> 35.031 | B103: ='1'!B103-'1'!$A103 -> 0.029 | C103: ='1'!C103-'1'!$A103 -> -0.091 | D103: ='1'!D103-'1'!$A103 -> -0.221 | E103: ='1'!E103-'1'!$A103 -> 0.099 | F103: ='1'!F103-'1'!$A103 -> -1.151 | G103: ='1'!G103-'1'!$A103 -> -0.721 | H103: ='1'!H103-'1'!$A103 -> -0.591 | I103: ='1'!I103-'1'!$A103 -> -0.341 | ... P103: ='1'!P103-'1'!$A103 -> -0.341
A104: ='1'!A104 -> 35.012 | B104: ='1'!B104-'1'!$A104 -> 0.048 | C104: ='1'!C104-'1'!$A104 -> -0.072 | D104: ='1'!D104-'1'!$A104 -> -0.202 | E104: ='1'!E104-'1'!$A104 -> 0.178 | F104: ='1'!F104-'1'!$A104 -> -1.132 | G104: ='1'!G104-'1'!$A104 -> -0.702 | H104: ='1'!H104-'1'!$A104 -> -0.572 | I104: ='1'!I104-'1'!$A104 -> -0.322 | ... P104: ='1'!P104-'1'!$A104 -> -0.322
A105: ='1'!A105 -> 35.039 | B105: ='1'!B105-'1'!$A105 -> 0.021 | C105: ='1'!C105-'1'!$A105 -> -0.099 | D105: ='1'!D105-'1'!$A105 -> -0.229 | E105: ='1'!E105-'1'!$A105 -> 0.151 | F105: ='1'!F105-'1'!$A105 -> -1.229 | G105: ='1'!G105-'1'!$A105 -> -0.729 | H105: ='1'!H105-'1'!$A105 -> -0.539 | I105: ='1'!I105-'1'!$A105 -> -0.349 | ... P105: ='1'!P105-'1'!$A105 -> -0.349
A106: ='1'!A106 -> 34.997 | B106: ='1'!B106-'1'!$A106 -> 0.063 | C106: ='1'!C106-'1'!$A106 -> -0.057 | D106: ='1'!D106-'1'!$A106 -> -0.187 | E106: ='1'!E106-'1'!$A106 -> 0.133 | F106: ='1'!F106-'1'!$A106 -> -1.187 | G106: ='1'!G106-'1'!$A106 -> -0.687 | H106: ='1'!H106-'1'!$A106 -> -0.557 | I106: ='1'!I106-'1'!$A106 -> -0.307 | ... P106: ='1'!P106-'1'!$A106 -> -0.367
A107: ='1'!A107 -> 35 | B107: ='1'!B107-'1'!$A107 -> 0 | C107: ='1'!C107-'1'!$A107 -> -0.12 | D107: ='1'!D107-'1'!$A107 -> -0.19 | E107: ='1'!E107-'1'!$A107 -> 0.13 | F107: ='1'!F107-'1'!$A107 -> -1.19 | G107: ='1'!G107-'1'!$A107 -> -0.69 | H107: ='1'!H107-'1'!$A107 -> -0.5 | I107: ='1'!I107-'1'!$A107 -> -0.31 | ... P107: ='1'!P107-'1'!$A107 -> -0.37
A108: ='1'!A108 -> 34.995 | B108: ='1'!B108-'1'!$A108 -> 0.065 | C108: ='1'!C108-'1'!$A108 -> -0.055 | D108: ='1'!D108-'1'!$A108 -> -0.185 | E108: ='1'!E108-'1'!$A108 -> 0.135 | F108: ='1'!F108-'1'!$A108 -> -1.115 | G108: ='1'!G108-'1'!$A108 -> -0.685 | H108: ='1'!H108-'1'!$A108 -> -0.495 | I108: ='1'!I108-'1'!$A108 -> -0.305 | ... P108: ='1'!P108-'1'!$A108 -> -0.365
A109: ='1'!A109 -> 34.994 | B109: ='1'!B109-'1'!$A109 -> 0.006 | C109: ='1'!C109-'1'!$A109 -> -0.114 | D109: ='1'!D109-'1'!$A109 -> -0.184 | E109: ='1'!E109-'1'!$A109 -> 0.136 | F109: ='1'!F109-'1'!$A109 -> -1.114 | G109: ='1'!G109-'1'!$A109 -> -0.684 | H109: ='1'!H109-'1'!$A109 -> -0.494 | I109: ='1'!I109-'1'!$A109 -> -0.304 | ... P109: ='1'!P109-'1'!$A109 -> -0.364
A110: ='1'!A110 -> 34.972 | B110: ='1'!B110-'1'!$A110 -> 0.028 | C110: ='1'!C110-'1'!$A110 -> -0.092 | D110: ='1'!D110-'1'!$A110 -> -0.162 | E110: ='1'!E110-'1'!$A110 -> 0.158 | F110: ='1'!F110-'1'!$A110 -> -1.162 | G110: ='1'!G110-'1'!$A110 -> -0.662 | H110: ='1'!H110-'1'!$A110 -> -0.472 | I110: ='1'!I110-'1'!$A110 -> -0.282 | ... P110: ='1'!P110-'1'!$A110 -> -0.342
... A130: ='1'!A130 -> 34.878 | B130: ='1'!B130-'1'!$A130 -> 0.002 | C130: ='1'!C130-'1'!$A130 -> 0.002 | D130: ='1'!D130-'1'!$A130 -> -0.188 | E130: ='1'!E130-'1'!$A130 -> 0.182 | F130: ='1'!F130-'1'!$A130 -> -1.068 | G130: ='1'!G130-'1'!$A130 -> -0.628 | H130: ='1'!H130-'1'!$A130 -> -0.628 | I130: ='1'!I130-'1'!$A130 -> -0.318 | ... P130: ='1'!P130-'1'!$A130 -> -0.318
A133: Referenz [°C] | B133: dT in [K] | C133: dT in [K] | D133: dT in [K] | E133: dT in [K] | F133: dT in [K] | G133: dT in [K] | H133: dT in [K] | I133: dT in [K] | J133: dT in [K] | K133: dT in [K] | L133: dT in [K] | M133: dT in [K] | N133: dT in [K] | O133: dT in [K] | P133: dT in [K]
A134: ='1'!A134 -> 40.029 | B134: ='1'!B134-'1'!$A134 -> -0.029 | C134: ='1'!C134-'1'!$A134 -> -0.089 | D134: ='1'!D134-'1'!$A134 -> -0.219 | E134: ='1'!E134-'1'!$A134 -> 0.101 | F134: ='1'!F134-'1'!$A134 -> -1.089 | G134: ='1'!G134-'1'!$A134 -> -0.719 | H134: ='1'!H134-'1'!$A134 -> -0.589 | I134: ='1'!I134-'1'!$A134 -> -0.339 | ... P134: ='1'!P134-'1'!$A134 -> -0.469
A135: ='1'!A135 -> 40.02 | B135: ='1'!B135-'1'!$A135 -> -0.02 | C135: ='1'!C135-'1'!$A135 -> -0.08 | D135: ='1'!D135-'1'!$A135 -> -0.14 | E135: ='1'!E135-'1'!$A135 -> 0.11 | F135: ='1'!F135-'1'!$A135 -> -1.08 | G135: ='1'!G135-'1'!$A135 -> -0.64 | H135: ='1'!H135-'1'!$A135 -> -0.64 | I135: ='1'!I135-'1'!$A135 -> -0.33 | ... P135: ='1'!P135-'1'!$A135 -> -0.39
A136: ='1'!A136 -> 40.013 | B136: ='1'!B136-'1'!$A136 -> -0.073 | C136: ='1'!C136-'1'!$A136 -> -0.073 | D136: ='1'!D136-'1'!$A136 -> -0.203 | E136: ='1'!E136-'1'!$A136 -> 0.117 | F136: ='1'!F136-'1'!$A136 -> -1.073 | G136: ='1'!G136-'1'!$A136 -> -0.703 | H136: ='1'!H136-'1'!$A136 -> -0.633 | I136: ='1'!I136-'1'!$A136 -> -0.263 | ... P136: ='1'!P136-'1'!$A136 -> -0.453
A137: ='1'!A137 -> 40.018 | B137: ='1'!B137-'1'!$A137 -> -0.018 | C137: ='1'!C137-'1'!$A137 -> -0.078 | D137: ='1'!D137-'1'!$A137 -> -0.268 | E137: ='1'!E137-'1'!$A137 -> 0.042 | F137: ='1'!F137-'1'!$A137 -> -1.138 | G137: ='1'!G137-'1'!$A137 -> -0.708 | H137: ='1'!H137-'1'!$A137 -> -0.638 | I137: ='1'!I137-'1'!$A137 -> -0.268 | ... P137: ='1'!P137-'1'!$A137 -> -0.388
A138: ='1'!A138 -> 40.015 | B138: ='1'!B138-'1'!$A138 -> -0.015 | C138: ='1'!C138-'1'!$A138 -> -0.075 | D138: ='1'!D138-'1'!$A138 -> -0.265 | E138: ='1'!E138-'1'!$A138 -> 0.045 | F138: ='1'!F138-'1'!$A138 -> -1.135 | G138: ='1'!G138-'1'!$A138 -> -0.705 | H138: ='1'!H138-'1'!$A138 -> -0.635 | I138: ='1'!I138-'1'!$A138 -> -0.265 | ... P138: ='1'!P138-'1'!$A138 -> -0.455
A139: ='1'!A139 -> 39.998 | B139: ='1'!B139-'1'!$A139 -> 0.002 | C139: ='1'!C139-'1'!$A139 -> -0.058 | D139: ='1'!D139-'1'!$A139 -> -0.188 | E139: ='1'!E139-'1'!$A139 -> 0.132 | F139: ='1'!F139-'1'!$A139 -> -1.118 | G139: ='1'!G139-'1'!$A139 -> -0.748 | H139: ='1'!H139-'1'!$A139 -> -0.618 | I139: ='1'!I139-'1'!$A139 -> -0.248 | ... P139: ='1'!P139-'1'!$A139 -> -0.368
A140: ='1'!A140 -> 39.994 | B140: ='1'!B140-'1'!$A140 -> 0.006 | C140: ='1'!C140-'1'!$A140 -> -0.114 | D140: ='1'!D140-'1'!$A140 -> -0.244 | E140: ='1'!E140-'1'!$A140 -> 0.066 | F140: ='1'!F140-'1'!$A140 -> -1.114 | G140: ='1'!G140-'1'!$A140 -> -0.744 | H140: ='1'!H140-'1'!$A140 -> -0.684 | I140: ='1'!I140-'1'!$A140 -> -0.244 | ... P140: ='1'!P140-'1'!$A140 -> -0.434
A141: ='1'!A141 -> 39.983 | B141: ='1'!B141-'1'!$A141 -> -0.043 | C141: ='1'!C141-'1'!$A141 -> -0.103 | D141: ='1'!D141-'1'!$A141 -> -0.173 | E141: ='1'!E141-'1'!$A141 -> 0.147 | F141: ='1'!F141-'1'!$A141 -> -1.103 | G141: ='1'!G141-'1'!$A141 -> -0.793 | H141: ='1'!H141-'1'!$A141 -> -0.673 | I141: ='1'!I141-'1'!$A141 -> -0.293 | ... P141: ='1'!P141-'1'!$A141 -> -0.483
A142: ='1'!A142 -> 39.965 | B142: ='1'!B142-'1'!$A142 -> 0.035 | C142: ='1'!C142-'1'!$A142 -> -0.085 | D142: ='1'!D142-'1'!$A142 -> -0.155 | E142: ='1'!E142-'1'!$A142 -> 0.095 | F142: ='1'!F142-'1'!$A142 -> -1.085 | G142: ='1'!G142-'1'!$A142 -> -0.775 | H142: ='1'!H142-'1'!$A142 -> -0.655 | I142: ='1'!I142-'1'!$A142 -> -0.215 | ... P142: ='1'!P142-'1'!$A142 -> -0.405
A143: ='1'!A143 -> 39.964 | B143: ='1'!B143-'1'!$A143 -> -0.024 | C143: ='1'!C143-'1'!$A143 -> -0.084 | D143: ='1'!D143-'1'!$A143 -> -0.214 | E143: ='1'!E143-'1'!$A143 -> 0.096 | F143: ='1'!F143-'1'!$A143 -> -1.084 | G143: ='1'!G143-'1'!$A143 -> -0.714 | H143: ='1'!H143-'1'!$A143 -> -0.654 | I143: ='1'!I143-'1'!$A143 -> -0.274 | ... P143: ='1'!P143-'1'!$A143 -> -0.464
A144: ='1'!A144 -> 39.962 | B144: ='1'!B144-'1'!$A144 -> -0.022 | C144: ='1'!C144-'1'!$A144 -> -0.152 | D144: ='1'!D144-'1'!$A144 -> -0.212 | E144: ='1'!E144-'1'!$A144 -> 0.098 | F144: ='1'!F144-'1'!$A144 -> -1.082 | G144: ='1'!G144-'1'!$A144 -> -0.712 | H144: ='1'!H144-'1'!$A144 -> -0.652 | I144: ='1'!I144-'1'!$A144 -> -0.212 | ... P144: ='1'!P144-'1'!$A144 -> -0.402
A145: ='1'!A145 -> 39.956 | B145: ='1'!B145-'1'!$A145 -> -0.016 | C145: ='1'!C145-'1'!$A145 -> -0.146 | D145: ='1'!D145-'1'!$A145 -> -0.206 | E145: ='1'!E145-'1'!$A145 -> 0.104 | F145: ='1'!F145-'1'!$A145 -> -1.146 | G145: ='1'!G145-'1'!$A145 -> -0.766 | H145: ='1'!H145-'1'!$A145 -> -0.646 | I145: ='1'!I145-'1'!$A145 -> -0.326 | ... P145: ='1'!P145-'1'!$A145 -> -0.396
... A167: ='1'!A167 -> 39.817 | B167: ='1'!B167-'1'!$A167 -> -0.067 | C167: ='1'!C167-'1'!$A167 -> -0.127 | D167: ='1'!D167-'1'!$A167 -> -0.187 | E167: ='1'!E167-'1'!$A167 -> 0.063 | F167: ='1'!F167-'1'!$A167 -> -1.187 | G167: ='1'!G167-'1'!$A167 -> -0.757 | H167: ='1'!H167-'1'!$A167 -> -0.687 | I167: ='1'!I167-'1'!$A167 -> -0.317 | ... P167: ='1'!P167-'1'!$A167 -> -0.507
A171: Referenz [°C] | B171: dT in [K] | C171: dT in [K] | D171: dT in [K] | E171: dT in [K] | F171: dT in [K] | G171: dT in [K] | H171: dT in [K] | I171: dT in [K] | J171: dT in [K] | K171: dT in [K] | L171: dT in [K] | M171: dT in [K] | N171: dT in [K] | O171: dT in [K] | P171: dT in [K]
A172: =AVERAGE(A2:A16) -> 5.1372 | B172: =AVERAGE(B2:B16) -> 0.3708 | C172: =AVERAGE(C2:C16) -> 0.1728 | D172: =AVERAGE(D2:D16) -> 0.0081333333 | E172: =AVERAGE(E2:E16) -> 0.8308 | F172: =AVERAGE(F2:F16) -> -0.9112 | G172: =AVERAGE(G2:G16) -> -0.3472 | H172: =AVERAGE(H2:H16) -> -0.2492 | ... P172: =AVERAGE(P2:P16) -> 0.0848
A173: =AVERAGE(A20:A62) -> 22.904 | B173: =AVERAGE(B20:B62) -> 0.28972093 | C173: =AVERAGE(C20:C62) -> 0.079255814 | D173: =AVERAGE(D20:D62) -> -0.036325581 | E173: =AVERAGE(E20:E62) -> 0.46088372 | F173: =AVERAGE(F20:F62) -> -0.9012093 | G173: =AVERAGE(G20:G62) -> -0.36213953 | H173: =AVERAGE(H20:H62) -> -0.26772093 | ... P173: =AVERAGE(P20:P62) -> -0.11493023
A174: =AVERAGE(A66:A95) -> 31.009833 | B174: =AVERAGE(B66:B95) -> 0.042166667 | C174: =AVERAGE(C66:C95) -> -0.026166667 | D174: =AVERAGE(D66:D95) -> -0.14683333 | E174: =AVERAGE(E66:E95) -> 0.2175 | F174: =AVERAGE(F66:F95) -> -1.0098333 | G174: =AVERAGE(G66:G95) -> -0.63416667 | H174: =AVERAGE(H66:H95) -> -0.54383333 | ... P174: =AVERAGE(P66:P95) -> -0.32683333
A175: =AVERAGE(A99:A130) -> 34.959625 | B175: =AVERAGE(B99:B130) -> 0.02725 | C175: =AVERAGE(C99:C130) -> -0.0718125 | D175: =AVERAGE(D99:D130) -> -0.180875 | E175: =AVERAGE(E99:E130) -> 0.1488125 | F175: =AVERAGE(F99:F130) -> -1.08525 | G175: =AVERAGE(G99:G130) -> -0.6643125 | H175: =AVERAGE(H99:H130) -> -0.5899375 | ... P175: =AVERAGE(P99:P130) -> -0.35525
A176: =AVERAGE(A134:A167) -> 39.915294 | B176: =AVERAGE(B134:B167) -> -0.03 | C176: =AVERAGE(C134:C167) -> -0.10411765 | D176: =AVERAGE(D134:D167) -> -0.20205882 | E176: =AVERAGE(E134:E167) -> 0.080882353 | F176: =AVERAGE(F134:F167) -> -1.1320588 | G176: =AVERAGE(G134:G167) -> -0.71529412 | H176: =AVERAGE(H134:H167) -> -0.63 | ... P176: =AVERAGE(P134:P167) -> -0.43235294
A178: =A173-A172 -> 17.7668 | B178: =B172-B173 -> 0.08107907 | C178: =C172-C173 -> 0.093544186 | D178: =D172-D173 -> 0.044458915 | E178: =E172-E173 -> 0.36991628 | F178: =F172-F173 -> -0.0099906977 | G178: =G172-G173 -> 0.014939535 | H178: =H172-H173 -> 0.01852093 | I178: =I172-I173 -> -0.18324651 | ... P178: =P172-P173 -> 0.19973023
A179: =A174-A173 -> 8.1058333 | B179: =B173-B174 -> 0.24755426 | C179: =C173-C174 -> 0.10542248 | D179: =D173-D174 -> 0.11050775 | E179: =E173-E174 -> 0.24338372 | F179: =F173-F174 -> 0.10862403 | G179: =G173-G174 -> 0.27202713 | H179: =H173-H174 -> 0.2761124 | I179: =I173-I174 -> 0.15754651 | ... P179: =P173-P174 -> 0.2119031
A180: =A175-A174 -> 3.9497917 | B180: =B174-B175 -> 0.014916667 | C180: =C174-C175 -> 0.045645833 | D180: =D174-D175 -> 0.034041667 | E180: =E174-E175 -> 0.0686875 | F180: =F174-F175 -> 0.075416667 | G180: =G174-G175 -> 0.030145833 | H180: =H174-H175 -> 0.046104167 | I180: =I174-I175 -> -0.0005625 | ... P180: =P174-P175 -> 0.028416667
A181: =A176-A175 -> 4.9556691 | B181: =B175-B176 -> 0.05725 | C181: =C175-C176 -> 0.032305147 | D181: =D175-D176 -> 0.021183824 | E181: =E175-E176 -> 0.067930147 | F181: =F175-F176 -> 0.046808824 | G181: =G175-G176 -> 0.050981618 | H181: =H175-H176 -> 0.0400625 | I181: =I175-I176 -> -0.035231618 | ... P181: =P175-P176 -> 0.077102941
A183: =A176-A174 -> 8.9054608 | B183: =B174-B176 -> 0.072166667 | C183: =C174-C176 -> 0.07795098 | D183: =D174-D176 -> 0.05522549 | E183: =E174-E176 -> 0.13661765 | F183: =F174-F176 -> 0.12222549 | G183: =G174-G176 -> 0.081127451 | H183: =H174-H176 -> 0.086166667 | I183: =I174-I176 -> -0.035794118 | ... P183: =P174-P176 -> 0.10551961

Sheet 2
A1: Referenz [°C] | B1: T K-Type [°C] | C1: T DS18B20 in [°C] | D1: T DS18B20 in [°C] | E1: T DS18B20 in [°C] | F1: T DS18B20 in [°C] | G1: T DS18B20 in [°C] | H1: T DS18B20 in [°C] | I1: T DS18B20 in [°C] | J1: T DS18B20 in [°C] | K1: T DS18B20 in [°C] | L1: T DS18B20 in [°C] | M1: T DS18B20 in [°C] | N1: T DS18B20 in [°C] | O1: T DS18B20 in [°C] | P1: T DS18B20 in [°C] | Q1: T DS18B20 in [°C]
A2: 5.135 | C2: 5.5 | D2: 5.31 | E2: 5.13 | F2: 5.94 | G2: 4.19 | H2: 4.75 | I2: 4.88 | J2: 4.75 | K2: 5.31 | L2: 5.63 | M2: 5.5 | N2: 5.31 | O2: 5.13 | P2: 5.06 | Q2: 5.19
A3: 5.134 | C3: 5.5 | D3: 5.31 | E3: 5.13 | F3: 5.94 | G3: 4.19 | H3: 4.81 | I3: 4.88 | J3: 4.75 | K3: 5.31 | L3: 5.69 | M3: 5.44 | N3: 5.25 | O3: 5.13 | P3: 5.13 | Q3: 5.19
A4: 5.133 | C4: 5.5 | D4: 5.31 | E4: 5.13 | F4: 5.94 | G4: 4.19 | H4: 4.81 | I4: 4.94 | J4: 4.81 | K4: 5.31 | L4: 5.75 | M4: 5.5 | N4: 5.31 | O4: 5.13 | P4: 5.06 | Q4: 5.19
A5: 5.138 | C5: 5.5 | D5: 5.31 | E5: 5.19 | F5: 6 | G5: 4.19 | H5: 4.81 | I5: 4.88 | J5: 4.81 | K5: 5.31 | L5: 5.69 | M5: 5.5 | N5: 5.31 | O5: 5.13 | P5: 5.06 | Q5: 5.19
A6: 5.138 | C6: 5.5 | D6: 5.31 | E6: 5.19 | F6: 5.94 | G6: 4.19 | H6: 4.81 | I6: 4.88 | J6: 4.81 | K6: 5.31 | L6: 5.69 | M6: 5.5 | N6: 5.31 | O6: 5.19 | P6: 5.06 | Q6: 5.25
A7: 5.138 | C7: 5.5 | D7: 5.31 | E7: 5.06 | F7: 5.94 | G7: 4.25 | H7: 4.75 | I7: 4.88 | J7: 4.81 | K7: 5.31 | L7: 5.69 | M7: 5.44 | N7: 5.25 | O7: 5.13 | P7: 5.06 | Q7: 5.25
A8: 5.138 | C8: 5.56 | D8: 5.31 | E8: 5.13 | F8: 6 | G8: 4.19 | H8: 4.81 | I8: 4.88 | J8: 4.81 | K8: 5.38 | L8: 5.69 | M8: 5.44 | N8: 5.25 | O8: 5.19 | P8: 5.13 | Q8: 5.19
A9: 5.138 | C9: 5.5 | D9: 5.31 | E9: 5.13 | F9: 6 | G9: 4.25 | H9: 4.75 | I9: 4.88 | J9: 4.81 | K9: 5.38 | L9: 5.69 | M9: 5.44 | N9: 5.31 | O9: 5.13 | P9: 5.06 | Q9: 5.25
A10: 5.138 | C10: 5.56 | D10: 5.31 | E10: 5.13 | F10: 6 | G10: 4.25 | H10: 4.81 | I10: 4.88 | J10: 4.75 | K10: 5.31 | L10: 5.69 | M10: 5.5 | N10: 5.31 | O10: 5.19 | P10: 5.13 | Q10: 5.25
A11: 5.138 | C11: 5.5 | D11: 5.31 | E11: 5.13 | F11: 5.94 | G11: 4.25 | H11: 4.75 | I11: 4.88 | J11: 4.81 | K11: 5.31 | L11: 5.63 | M11: 5.44 | N11: 5.31 | O11: 5.19 | P11: 5.13 | Q11: 5.25
A12: 5.138 | C12: 5.5 | D12: 5.31 | E12: 5.19 | F12: 6 | G12: 4.25 | H12: 4.81 | I12: 4.88 | J12: 4.75 | K12: 5.31 | L12: 5.69 | M12: 5.5 | N12: 5.31 | O12: 5.19 | P12: 5.06 | Q12: 5.19
A13: 5.138 | C13: 5.56 | D13: 5.31 | E13: 5.13 | F13: 5.94 | G13: 4.25 | H13: 4.81 | I13: 4.94 | J13: 4.75 | K13: 5.31 | L13: 5.69 | M13: 5.5 | N13: 5.31 | O13: 5.13 | P13: 5.13 | Q13: 5.25
... A16: 5.138 | C16: 5.44 | D16: 5.31 | E16: 5.19 | F16: 6 | G16: 4.25 | H16: 4.81 | I16: 4.88 | J16: 4.81 | K16: 5.31 | L16: 5.69 | M16: 5.5 | N16: 5.38 | O16: 5.13 | P16: 5.13 | Q16: 5.19
A20: Referenz [°C] | B20: T K-Type [°C] | C20: T DS18B20 in [°C] | D20: T DS18B20 in [°C] | E20: T DS18B20 in [°C] | F20: T DS18B20 in [°C] | G20: T DS18B20 in [°C] | H20: T DS18B20 in [°C] | I20: T DS18B20 in [°C] | J20: T DS18B20 in [°C] | K20: T DS18B20 in [°C] | L20: T DS18B20 in [°C] | M20: T DS18B20 in [°C] | N20: T DS18B20 in [°C] | O20: T DS18B20 in [°C] | P20: T DS18B20 in [°C] | Q20: T DS18B20 in [°C]
A21: 8.749 | B21: 9 | C21: 9.13 | D21: 8.88 | E21: 8.88 | F21: 9.56 | G21: 8.06 | H21: 8.56 | I21: 8.5 | J21: 8.44 | K21: 8.94 | L21: 9.19 | M21: 8.88 | N21: 8.94 | O21: 8.81 | P21: 8.56 | Q21: 8.75
A22: 8.742 | B22: =(B$60-B$21)/39+B21 -> 9.0025641 | C22: 9.19 | D22: 8.94 | E22: 8.88 | F22: 9.56 | G22: 8.06 | H22: 8.63 | I22: 8.56 | J22: 8.44 | K22: 8.94 | L22: 9.25 | M22: 8.94 | N22: 8.88 | O22: 8.81 | P22: 8.56 | Q22: 8.75
A23: 8.75 | B23: =(B$60-B$21)/39+B22 -> 9.0051282 | C23: 9.19 | D23: 8.88 | E23: 8.88 | F23: 9.63 | G23: 8.06 | H23: 8.56 | I23: 8.56 | J23: 8.44 | K23: 8.94 | L23: 9.19 | M23: 8.94 | N23: 8.94 | O23: 8.81 | P23: 8.5 | Q23: 8.75
A24: 8.758 | B24: =(B$60-B$21)/39+B23 -> 9.0076923 | C24: 9.19 | D24: 8.88 | E24: 8.88 | F24: 9.63 | G24: 8.06 | H24: 8.63 | I24: 8.5 | J24: 8.44 | K24: 8.94 | L24: 9.25 | M24: 8.94 | N24: 8.94 | O24: 8.81 | P24: 8.5 | Q24: 8.75
A25: 8.762 | B25: =(B$60-B$21)/39+B24 -> 9.0102564 | C25: 9.19 | D25: 8.88 | E25: 8.88 | F25: 9.63 | G25: 8.06 | H25: 8.56 | I25: 8.5 | J25: 8.5 | K25: 8.94 | L25: 9.25 | M25: 8.94 | N25: 8.94 | O25: 8.88 | P25: 8.56 | Q25: 8.75
A26: 8.766 | B26: =(B$60-B$21)/39+B25 -> 9.0128205 | C26: 9.13 | D26: 8.88 | E26: 8.88 | F26: 9.63 | G26: 8.06 | H26: 8.56 | I26: 8.56 | J26: 8.44 | K26: 9 | L26: 9.19 | M26: 8.94 | N26: 8.94 | O26: 8.88 | P26: 8.56 | Q26: 8.75
A27: 8.767 | B27: =(B$60-B$21)/39+B26 -> 9.0153846 | C27: 9.19 | D27: 8.88 | E27: 8.94 | F27: 9.69 | G27: 8.06 | H27: 8.56 | I27: 8.56 | J27: 8.44 | K27: 8.94 | L27: 9.25 | M27: 8.94 | N27: 8.94 | O27: 8.88 | P27: 8.56 | Q27: 8.75
A28: 8.766 | B28: =(B$60-B$21)/39+B27 -> 9.0179487 | C28: 9.19 | D28: 8.94 | E28: 8.88 | F28: 9.56 | G28: 8.06 | H28: 8.56 | I28: 8.5 | J28: 8.44 | K28: 9.06 | L28: 9.25 | M28: 9 | N28: 8.94 | O28: 8.81 | P28: 8.56 | Q28: 8.75
A29: 8.768 | B29: =(B$60-B$21)/39+B28 -> 9.0205128 | C29: 9.19 | D29: 8.88 | E29: 8.88 | F29: 9.56 | G29: 8.06 | H29: 8.63 | I29: 8.56 | J29: 8.5 | K29: 9 | L29: 9.25 | M29: 8.94 | N29: 8.94 | O29: 8.81 | P29: 8.56 | Q29: 8.75
A30: 8.777 | B30: =(B$60-B$21)/39+B29 -> 9.0230769 | C30: 9.25 | D30: 8.88 | E30: 8.88 | F30: 9.63 | G30: 8.13 | H30: 8.56 | I30: 8.56 | J30: 8.5 | K30: 9 | L30: 9.25 | M30: 9 | N30: 8.94 | O30: 8.88 | P30: 8.56 | Q30: 8.75
A31: 8.776 | B31: =(B$60-B$21)/39+B30 -> 9.025641 | C31: 9.19 | D31: 8.88 | E31: 8.94 | F31: 9.63 | G31: 8.13 | H31: 8.63 | I31: 8.5 | J31: 8.5 | K31: 9 | L31: 9.25 | M31: 9 | N31: 8.94 | O31: 8.88 | P31: 8.56 | Q31: 8.75
A32: 8.779 | B32: =(B$60-B$21)/39+B31 -> 9.0282051 | C32: 9.25 | D32: 8.88 | E32: 8.94 | F32: 9.56 | G32: 8.13 | H32: 8.63 | I32: 8.56 | J32: 8.5 | K32: 9 | L32: 9.25 | M32: 9 | N32: 8.94 | O32: 8.88 | P32: 8.56 | Q32: 8.81
A33: 8.777 | B33: =(B$60-B$21)/39+B32 -> 9.0307692 | C33: 9.19 | D33: 8.94 | E33: 9 | F33: 9.63 | G33: 8.13 | H33: 8.63 | I33: 8.56 | J33: 8.56 | K33: 9 | L33: 9.25 | M33: 9 | N33: 8.94 | O33: 8.88 | P33: 8.56 | Q33: 8.75
... A59: 8.822 | B59: =(B$60-B$21)/39+B58 -> 9.0974359 | C59: 9.25 | D59: 8.94 | E59: 8.94 | F59: 9.69 | G59: 8.13 | H59: 8.69 | I59: 8.63 | J59: 8.56 | K59: 9 | L59: 9.31 | M59: 9 | N59: 9 | O59: 8.94 | P59: 8.63 | Q59: 8.81
A60: 8.83 | B60: 9.1 | C60: 9.25 | D60: 8.94 | E60: 8.94 | F60: 9.69 | G60: 8.19 | H60: 8.69 | I60: 8.63 | J60: 8.56 | K60: 9.06 | L60: 9.31 | M60: 9 | N60: 9 | O60: 8.88 | P60: 8.63 | Q60: 8.88
A64: Referenz [°C] | B64: T K-Type [°C] | C64: T DS18B20 in [°C] | D64: T DS18B20 in [°C] | E64: T DS18B20 in [°C] | F64: T DS18B20 in [°C] | G64: T DS18B20 in [°C] | H64: T DS18B20 in [°C] | I64: T DS18B20 in [°C] | J64: T DS18B20 in [°C] | K64: T DS18B20 in [°C] | L64: T DS18B20 in [°C] | M64: T DS18B20 in [°C] | N64: T DS18B20 in [°C] | O64: T DS18B20 in [°C] | P64: T DS18B20 in [°C] | Q64: T DS18B20 in [°C]
A65: 22.904 | B65: 23.5 | C65: 23.19 | D65: 23 | E65: 22.87 | F65: 23.37 | G65: 22 | H65: 22.56 | I65: 22.62 | J65: 22.75 | K65: 22.75 | L65: 23.06 | M65: 23.19 | N65: 22.81 | O65: 22.94 | P65: 23 | Q65: 22.75
A66: 22.904 | B66: 23.5 | C66: 23.12 | D66: 23 | E66: 22.87 | F66: 23.37 | G66: 22 | H66: 22.56 | I66: 22.62 | J66: 22.75 | K66: 22.75 | L66: 23.06 | M66: 23.19 | N66: 22.81 | O66: 22.94 | P66: 23 | Q66: 22.75
A67: 22.904 | B67: 23.5 | C67: 23.12 | D67: 23 | E67: 22.87 | F67: 23.31 | G67: 21.94 | H67: 22.5 | I67: 22.69 | J67: 22.75 | K67: 22.75 | L67: 23.06 | M67: 23.19 | N67: 22.81 | O67: 22.94 | P67: 23 | Q67: 22.81
A68: 22.904 | B68: 23.5 | C68: 23.19 | D68: 23 | E68: 22.94 | F68: 23.37 | G68: 22 | H68: 22.56 | I68: 22.62 | J68: 22.69 | K68: 22.75 | L68: 23.06 | M68: 23.19 | N68: 22.81 | O68: 22.94 | P68: 22.94 | Q68: 22.75
A69: 22.904 | B69: 23.5 | C69: 23.19 | D69: 23 | E69: 22.81 | F69: 23.31 | G69: 22 | H69: 22.56 | I69: 22.62 | J69: 22.75 | K69: 22.75 | L69: 23.06 | M69: 23.19 | N69: 22.81 | O69: 22.94 | P69: 22.94 | Q69: 22.81
A70: 22.904 | B70: 23.5 | C70: 23.19 | D70: 23 | E70: 22.81 | F70: 23.37 | G70: 22 | H70: 22.56 | I70: 22.62 | J70: 22.69 | K70: 22.81 | L70: 23.06 | M70: 23.19 | N70: 22.81 | O70: 22.94 | P70: 23 | Q70: 22.81
A71: 22.904 | B71: 23.5 | C71: 23.19 | D71: 22.94 | E71: 22.87 | F71: 23.37 | G71: 22 | H71: 22.56 | I71: 22.62 | J71: 22.69 | K71: 22.75 | L71: 23.12 | M71: 23.19 | N71: 22.81 | O71: 23 | P71: 22.94 | Q71: 22.81
A72: 22.904 | B72: 23.5 | C72: 23.19 | D72: 23 | E72: 22.81 | F72: 23.37 | G72: 22 | H72: 22.56 | I72: 22.69 | J72: 22.75 | K72: 22.75 | L72: 23.12 | M72: 23.12 | N72: 22.81 | O72: 23 | P72: 22.94 | Q72: 22.75
A73: 22.904 | B73: 23.5 | C73: 23.19 | D73: 22.94 | E73: 22.87 | F73: 23.37 | G73: 22.06 | H73: 22.56 | I73: 22.62 | J73: 22.69 | K73: 22.75 | L73: 23.06 | M73: 23.19 | N73: 22.81 | O73: 23 | P73: 23 | Q73: 22.81
A74: 22.904 | B74: 23.5 | C74: 23.19 | D74: 23 | E74: 22.87 | F74: 23.31 | G74: 22 | H74: 22.56 | I74: 22.62 | J74: 22.75 | K74: 22.75 | L74: 23.12 | M74: 23.19 | N74: 22.81 | O74: 22.94 | P74: 22.94 | Q74: 22.81
A75: 22.904 | B75: 23.5 | C75: 23.19 | D75: 23 | E75: 22.87 | F75: 23.37 | G75: 22 | H75: 22.5 | I75: 22.62 | J75: 22.69 | K75: 22.75 | L75: 23.06 | M75: 23.19 | N75: 22.81 | O75: 23 | P75: 22.94 | Q75: 22.81
A76: 22.904 | B76: 23.5 | C76: 23.19 | D76: 23 | E76: 22.87 | F76: 23.37 | G76: 22 | H76: 22.56 | I76: 22.69 | J76: 22.69 | K76: 22.75 | L76: 23.12 | M76: 23.19 | N76: 22.81 | O76: 23 | P76: 23 | Q76: 22.75
... A107: 22.904 | B107: 23.5 | C107: 23.19 | D107: 22.94 | E107: 22.87 | F107: 23.37 | G107: 22 | H107: 22.56 | I107: 22.69 | J107: 22.81 | K107: 22.75 | L107: 23.06 | M107: 23.19 | N107: 22.81 | O107: 22.94 | P107: 22.94 | Q107: 22.81
A111: Referenz [°C] | B111: T K-Type [°C] | C111: T DS18B20 in [°C] | D111: T DS18B20 in [°C] | E111: T DS18B20 in [°C] | F111: T DS18B20 in [°C] | G111: T DS18B20 in [°C] | H111: T DS18B20 in [°C] | I111: T DS18B20 in [°C] | J111: T DS18B20 in [°C] | K111: T DS18B20 in [°C] | L111: T DS18B20 in [°C] | M111: T DS18B20 in [°C] | N111: T DS18B20 in [°C] | O111: T DS18B20 in [°C] | P111: T DS18B20 in [°C] | Q111: T DS18B20 in [°C]
A112: 27.073 | B112: 27.6 | C112: 27.12 | D112: 27.12 | E112: 26.94 | F112: 27.37 | G112: 26.19 | H112: 26.62 | I112: 26.81 | J112: 26.81 | K112: 26.87 | L112: 27.19 | M112: 27.37 | N112: 27 | O112: 26.94 | P112: 27.12 | Q112: 26.81
A113: 27.045 | B113: 27.6 | C113: 27.12 | D113: 27.12 | E113: 26.94 | F113: 27.37 | G113: 26.19 | H113: 26.62 | I113: 26.75 | J113: 26.87 | K113: 26.87 | L113: 27.19 | M113: 27.37 | N113: 27 | O113: 26.94 | P113: 27.12 | Q113: 26.81
A114: 27.06 | B114: 27.6 | C114: 27.06 | D114: 27.12 | E114: 26.94 | F114: 27.37 | G114: 26.19 | H114: 26.62 | I114: 26.75 | J114: 26.81 | K114: 26.87 | L114: 27.19 | M114: 27.37 | N114: 27 | O114: 26.94 | P114: 27.06 | Q114: 26.81
A115: 27.064 | B115: 27.6 | C115: 27.06 | D115: 27.12 | E115: 26.94 | F115: 27.44 | G115: 26.19 | H115: 26.62 | I115: 26.69 | J115: 26.81 | K115: 26.87 | L115: 27.19 | M115: 27.37 | N115: 27 | O115: 26.94 | P115: 27.06 | Q115: 26.81
A116: 27.067 | B116: 27.6 | C116: 27.06 | D116: 27.12 | E116: 26.94 | F116: 27.44 | G116: 26.12 | H116: 26.69 | I116: 26.75 | J116: 26.87 | K116: 26.87 | L116: 27.19 | M116: 27.37 | N116: 27 | O116: 26.94 | P116: 27.12 | Q116: 26.81
A117: 27.072 | B117: 27.6 | C117: 27.06 | D117: 27.12 | E117: 26.87 | F117: 27.44 | G117: 26.12 | H117: 26.62 | I117: 26.75 | J117: 26.81 | K117: 26.87 | L117: 27.19 | M117: 27.37 | N117: 27 | O117: 26.94 | P117: 27.12 | Q117: 26.75
A118: 27.063 | B118: 27.6 | C118: 27.06 | D118: 27.12 | E118: 26.94 | F118: 27.37 | G118: 26.19 | H118: 26.62 | I118: 26.75 | J118: 26.81 | K118: 26.87 | L118: 27.19 | M118: 27.31 | N118: 27 | O118: 26.94 | P118: 27.06 | Q118: 26.75
A119: 27.057 | B119: 27.6 | C119: 27.12 | D119: 27.06 | E119: 26.94 | F119: 27.37 | G119: 26.19 | H119: 26.62 | I119: 26.69 | J119: 26.81 | K119: 26.87 | L119: 27.19 | M119: 27.37 | N119: 27 | O119: 26.94 | P119: 27.12 | Q119: 26.75
A120: 27.056 | B120: 27.6 | C120: 27.12 | D120: 27.06 | E120: 26.94 | F120: 27.44 | G120: 26.12 | H120: 26.62 | I120: 26.69 | J120: 26.81 | K120: 26.87 | L120: 27.12 | M120: 27.31 | N120: 27 | O120: 26.94 | P120: 27.12 | Q120: 26.81
A121: 27.052 | B121: 27.6 | C121: 27.06 | D121: 27.12 | E121: 26.94 | F121: 27.44 | G121: 26.19 | H121: 26.62 | I121: 26.75 | J121: 26.81 | K121: 26.87 | L121: 27.12 | M121: 27.31 | N121: 27 | O121: 26.94 | P121: 27.12 | Q121: 26.81
A122: 27.051 | B122: 27.6 | C122: 27.06 | D122: 27.12 | E122: 26.94 | F122: 27.44 | G122: 26.12 | H122: 26.62 | I122: 26.69 | J122: 26.87 | K122: 26.87 | L122: 27.19 | M122: 27.37 | N122: 26.94 | O122: 26.94 | P122: 27.06 | Q122: 26.75
A123: 27.048 | B123: 27.6 | C123: 27.06 | D123: 27.06 | E123: 26.94 | F123: 27.44 | G123: 26.12 | H123: 26.62 | I123: 26.69 | J123: 26.87 | K123: 26.87 | L123: 27.19 | M123: 27.31 | N123: 26.94 | O123: 26.94 | P123: 27.06 | Q123: 26.81
... A151: 27.016 | B151: 27.6 | C151: 27 | D151: 27.06 | E151: 26.87 | F151: 27.31 | G151: 26.06 | H151: 26.56 | I151: 26.69 | J151: 26.75 | K151: 26.81 | L151: 27.06 | M151: 27.31 | N151: 26.94 | O151: 26.87 | P151: 27 | Q151: 26.75
A155: Referenz [°C] | B155: T K-Type [°C] | C155: T DS18B20 in [°C] | D155: T DS18B20 in [°C] | E155: T DS18B20 in [°C] | F155: T DS18B20 in [°C] | G155: T DS18B20 in [°C] | H155: T DS18B20 in [°C] | I155: T DS18B20 in [°C] | J155: T DS18B20 in [°C] | K155: T DS18B20 in [°C] | L155: T DS18B20 in [°C] | M155: T DS18B20 in [°C] | N155: T DS18B20 in [°C] | O155: T DS18B20 in [°C] | P155: T DS18B20 in [°C] | Q155: T DS18B20 in [°C]
A156: 31.106 | B156: 31.8 | C156: 31.06 | D156: 31.06 | E156: 30.87 | F156: 31.31 | G156: 30.06 | H156: 30.5 | I156: 30.69 | J156: 30.69 | K156: 30.75 | L156: 31.06 | M156: 31.31 | N156: 30.87 | O156: 31 | P156: 31.06 | Q156: 30.75
A157: 31.095 | B157: =(B$189-B$156)/33+B156 -> 31.79697 | C157: 31.12 | D157: 31.06 | E157: 30.87 | F157: 31.31 | G157: 30.12 | H157: 30.5 | I157: 30.69 | J157: 30.75 | K157: 30.81 | L157: 31.12 | M157: 31.25 | N157: 30.87 | O157: 31 | P157: 31.06 | Q157: 30.75
A158: 31.086 | B158: =(B$189-B$156)/33+B157 -> 31.793939 | C158: 31.06 | D158: 31.06 | E158: 30.87 | F158: 31.31 | G158: 30.06 | H158: 30.5 | I158: 30.69 | J158: 30.69 | K158: 30.81 | L158: 31.06 | M158: 31.31 | N158: 30.87 | O158: 31 | P158: 31.06 | Q158: 30.75
A159: 31.077 | B159: =(B$189-B$156)/33+B158 -> 31.790909 | C159: 31.06 | D159: 31.06 | E159: 30.87 | F159: 31.31 | G159: 30.06 | H159: 30.5 | I159: 30.69 | J159: 30.69 | K159: 30.81 | L159: 31.12 | M159: 31.25 | N159: 30.87 | O159: 30.94 | P159: 31.06 | Q159: 30.75
A160: 31.053 | B160: =(B$189-B$156)/33+B159 -> 31.787879 | C160: 31.06 | D160: 31.06 | E160: 30.87 | F160: 31.31 | G160: 30.06 | H160: 30.5 | I160: 30.69 | J160: 30.69 | K160: 30.81 | L160: 31.06 | M160: 31.31 | N160: 30.87 | O160: 30.94 | P160: 31.06 | Q160: 30.75
A161: 31.062 | B161: =(B$189-B$156)/33+B160 -> 31.784848 | C161: 31.06 | D161: 31.06 | E161: 30.87 | F161: 31.31 | G161: 30 | H161: 30.5 | I161: 30.69 | J161: 30.69 | K161: 30.75 | L161: 31.06 | M161: 31.31 | N161: 30.87 | O161: 30.94 | P161: 31.12 | Q161: 30.75
A162: 31.068 | B162: =(B$189-B$156)/33+B161 -> 31.781818 | C162: 31.06 | D162: 31.06 | E162: 30.87 | F162: 31.31 | G162: 30.06 | H162: 30.5 | I162: 30.69 | J162: 30.62 | K162: 30.81 | L162: 31.06 | M162: 31.31 | N162: 30.87 | O162: 30.94 | P162: 31.06 | Q162: 30.69
A163: 31.068 | B163: =(B$189-B$156)/33+B162 -> 31.778788 | C163: 31.12 | D163: 31.06 | E163: 30.81 | F163: 31.31 | G163: 30 | H163: 30.5 | I163: 30.69 | J163: 30.69 | K163: 30.75 | L163: 31.06 | M163: 31.31 | N163: 30.94 | O163: 30.94 | P163: 31.06 | Q163: 30.75
A164: 31.068 | B164: =(B$189-B$156)/33+B163 -> 31.775758 | C164: 31.06 | D164: 31.06 | E164: 30.81 | F164: 31.31 | G164: 30 | H164: 30.5 | I164: 30.69 | J164: 30.69 | K164: 30.75 | L164: 31.06 | M164: 31.31 | N164: 30.81 | O164: 30.94 | P164: 31.06 | Q164: 30.75
A165: 31.069 | B165: =(B$189-B$156)/33+B164 -> 31.772727 | C165: 31.06 | D165: 31 | E165: 30.87 | F165: 31.25 | G165: 30 | H165: 30.44 | I165: 30.69 | J165: 30.69 | K165: 30.75 | L165: 31.06 | M165: 31.25 | N165: 30.87 | O165: 30.94 | P165: 31.06 | Q165: 30.69
A166: 31.067 | B166: =(B$189-B$156)/33+B165 -> 31.769697 | C166: 31.06 | D166: 31 | E166: 30.81 | F166: 31.25 | G166: 30.06 | H166: 30.5 | I166: 30.69 | J166: 30.69 | K166: 30.75 | L166: 31.06 | M166: 31.25 | N166: 30.87 | O166: 30.94 | P166: 31.06 | Q166: 30.75
A167: 31.065 | B167: =(B$189-B$156)/33+B166 -> 31.766667 | C167: 31.06 | D167: 31 | E167: 30.81 | F167: 31.25 | G167: 30 | H167: 30.5 | I167: 30.69 | J167: 30.62 | K167: 30.75 | L167: 31.06 | M167: 31.25 | N167: 30.87 | O167: 30.94 | P167: 31.06 | Q167: 30.69
A168: 31.047 | B168: =(B$189-B$156)/33+B167 -> 31.763636 | C168: 31.06 | D168: 31.06 | E168: 30.81 | F168: 31.25 | G168: 30 | H168: 30.44 | I168: 30.62 | J168: 30.69 | K168: 30.75 | L168: 31.06 | M168: 31.25 | N168: 30.87 | O168: 30.94 | P168: 31.06 | Q168: 30.69
... A188: 30.969 | B188: =(B$189-B$156)/33+B187 -> 31.70303 | C188: 31 | D188: 30.94 | E188: 30.75 | F188: 31.19 | G188: 29.94 | H188: 30.44 | I188: 30.56 | J188: 30.62 | K188: 30.69 | L188: 31 | M188: 31.19 | N188: 30.75 | O188: 30.87 | P188: 30.94 | Q188: 30.62
A189: 30.975 | B189: 31.7 | C189: 31 | D189: 30.94 | E189: 30.75 | F189: 31.19 | G189: 29.94 | H189: 30.44 | I189: 30.56 | J189: 30.62 | K189: 30.69 | L189: 31 | M189: 31.19 | N189: 30.75 | O189: 30.87 | P189: 31 | Q189: 30.62
A193: Referenz [°C] | B193: T K-Type [°C] | C193: T DS18B20 in [°C] | D193: T DS18B20 in [°C] | E193: T DS18B20 in [°C] | F193: T DS18B20 in [°C] | G193: T DS18B20 in [°C] | H193: T DS18B20 in [°C] | I193: T DS18B20 in [°C] | J193: T DS18B20 in [°C] | K193: T DS18B20 in [°C] | L193: T DS18B20 in [°C] | M193: T DS18B20 in [°C] | N193: T DS18B20 in [°C] | O193: T DS18B20 in [°C] | P193: T DS18B20 in [°C] | Q193: T DS18B20 in [°C]
A194: 35.075 | B194: 35.8 | C194: 35.06 | D194: 35 | E194: 34.81 | F194: 35.31 | G194: 34.06 | H194: 34.44 | I194: 34.63 | J194: 34.69 | K194: 34.75 | L194: 35 | M194: 35.25 | N194: 34.88 | O194: 35 | P194: 35.06 | Q194: 34.69
A195: 35.084 | B195: =(B$213-B$194)/19+B194 -> 35.794737 | C195: 35.06 | D195: 35 | E195: 34.81 | F195: 35.25 | G195: 34 | H195: 34.44 | I195: 34.63 | J195: 34.69 | K195: 34.75 | L195: 35 | M195: 35.25 | N195: 34.81 | O195: 35 | P195: 35.13 | Q195: 34.63
A196: 35.084 | B196: =(B$213-B$194)/19+B195 -> 35.789474 | C196: 35.06 | D196: 35 | E196: 34.88 | F196: 35.25 | G196: 34.06 | H196: 34.44 | I196: 34.63 | J196: 34.69 | K196: 34.75 | L196: 35 | M196: 35.25 | N196: 34.81 | O196: 34.94 | P196: 35.06 | Q196: 34.69
A197: 35.042 | B197: =(B$213-B$194)/19+B196 -> 35.784211 | C197: 35.06 | D197: 35 | E197: 34.88 | F197: 35.25 | G197: 34.06 | H197: 34.44 | I197: 34.69 | J197: 34.69 | K197: 34.75 | L197: 35 | M197: 35.25 | N197: 34.81 | O197: 34.94 | P197: 35.06 | Q197: 34.69
A198: 35.037 | B198: =(B$213-B$194)/19+B197 -> 35.778947 | C198: 35 | D198: 35 | E198: 34.81 | F198: 35.25 | G198: 34.06 | H198: 34.38 | I198: 34.63 | J198: 34.75 | K198: 34.69 | L198: 35 | M198: 35.19 | N198: 34.81 | O198: 34.94 | P198: 35.06 | Q198: 34.69
A199: 35.045 | B199: =(B$213-B$194)/19+B198 -> 35.773684 | C199: 35.06 | D199: 35 | E199: 34.81 | F199: 35.19 | G199: 34.06 | H199: 34.38 | I199: 34.63 | J199: 34.69 | K199: 34.75 | L199: 35 | M199: 35.25 | N199: 34.81 | O199: 34.94 | P199: 35.06 | Q199: 34.63
A200: 35.048 | B200: =(B$213-B$194)/19+B199 -> 35.768421 | C200: 35 | D200: 35 | E200: 34.81 | F200: 35.25 | G200: 34 | H200: 34.38 | I200: 34.56 | J200: 34.69 | K200: 34.69 | L200: 35 | M200: 35.25 | N200: 34.81 | O200: 34.94 | P200: 35.06 | Q200: 34.69
A201: 35.052 | B201: =(B$213-B$194)/19+B200 -> 35.763158 | C201: 35.06 | D201: 35 | E201: 34.88 | F201: 35.19 | G201: 34 | H201: 34.38 | I201: 34.63 | J201: 34.69 | K201: 34.69 | L201: 35 | M201: 35.25 | N201: 34.81 | O201: 34.94 | P201: 35.06 | Q201: 34.63
A202: 35.045 | B202: =(B$213-B$194)/19+B201 -> 35.757895 | C202: 35.06 | D202: 35 | E202: 34.81 | F202: 35.19 | G202: 34 | H202: 34.38 | I202: 34.63 | J202: 34.69 | K202: 34.69 | L202: 35 | M202: 35.19 | N202: 34.81 | O202: 34.94 | P202: 35.06 | Q202: 34.69
A203: 35.053 | B203: =(B$213-B$194)/19+B202 -> 35.752632 | C203: 35.06 | D203: 35 | E203: 34.88 | F203: 35.19 | G203: 34 | H203: 34.38 | I203: 34.56 | J203: 34.69 | K203: 34.69 | L203: 35 | M203: 35.25 | N203: 34.81 | O203: 34.94 | P203: 35.06 | Q203: 34.63
A204: 35.032 | B204: =(B$213-B$194)/19+B203 -> 35.747368 | C204: 35 | D204: 35 | E204: 34.81 | F204: 35.19 | G204: 34 | H204: 34.38 | I204: 34.63 | J204: 34.63 | K204: 34.69 | L204: 34.94 | M204: 35.25 | N204: 34.81 | O204: 34.88 | P204: 35.06 | Q204: 34.63
A205: 35.027 | B205: =(B$213-B$194)/19+B204 -> 35.742105 | C205: 35 | D205: 34.94 | E205: 34.81 | F205: 35.19 | G205: 34 | H205: 34.44 | I205: 34.56 | J205: 34.63 | K205: 34.69 | L205: 34.94 | M205: 35.25 | N205: 34.75 | O205: 34.88 | P205: 35 | Q205: 34.63
A206: 35.03 | B206: =(B$213-B$194)/19+B205 -> 35.736842 | C206: 35 | D206: 34.94 | E206: 34.81 | F206: 35.19 | G206: 34 | H206: 34.38 | I206: 34.63 | J206: 34.63 | K206: 34.69 | L206: 34.94 | M206: 35.19 | N206: 34.75 | O206: 34.88 | P206: 35 | Q206: 34.63
... A212: 34.989 | B212: =(B$213-B$194)/19+B211 -> 35.705263 | C212: 35 | D212: 34.94 | E212: 34.81 | F212: 35.19 | G212: 33.94 | H212: 34.38 | I212: 34.56 | J212: 34.63 | K212: 34.63 | L212: 34.94 | M212: 35.13 | N212: 34.75 | O212: 34.88 | P212: 35 | Q212: 34.63
A213: 34.976 | B213: 35.7 | C213: 34.94 | D213: 34.88 | E213: 34.75 | F213: 35.13 | G213: 33.94 | H213: 34.38 | I213: 34.56 | J213: 34.56 | K213: 34.63 | L213: 34.88 | M213: 35.19 | N213: 34.69 | O213: 34.88 | P213: 35 | Q213: 34.63
A217: Referenz [°C] | B217: T K-Type [°C] | C217: T DS18B20 in [°C] | D217: T DS18B20 in [°C] | E217: T DS18B20 in [°C] | F217: T DS18B20 in [°C] | G217: T DS18B20 in [°C] | H217: T DS18B20 in [°C] | I217: T DS18B20 in [°C] | J217: T DS18B20 in [°C] | K217: T DS18B20 in [°C] | L217: T DS18B20 in [°C] | M217: T DS18B20 in [°C] | N217: T DS18B20 in [°C] | O217: T DS18B20 in [°C] | P217: T DS18B20 in [°C] | Q217: T DS18B20 in [°C]
A218: 40.161 | B218: 41 | C218: 40.13 | D218: 40.13 | E218: 39.94 | F218: 40.25 | G218: 39.06 | H218: 39.5 | I218: 39.75 | J218: 39.88 | K218: 39.75 | L218: 40 | M218: 40.38 | N218: 39.88 | O218: 40 | P218: 40.19 | Q218: 39.69
A219: 40.152 | B219: =(B$246-B$218)/28+B218 -> 40.992857 | C219: 40.06 | D219: 40.06 | E219: 39.88 | F219: 40.19 | G219: 39.06 | H219: 39.5 | I219: 39.69 | J219: 39.81 | K219: 39.75 | L219: 40 | M219: 40.31 | N219: 39.88 | O219: 40 | P219: 40.19 | Q219: 39.69
A220: 40.148 | B220: =(B$246-B$218)/28+B219 -> 40.985714 | C220: 40.06 | D220: 40.06 | E220: 39.88 | F220: 40.25 | G220: 39.06 | H220: 39.5 | I220: 39.69 | J220: 39.88 | K220: 39.75 | L220: 40 | M220: 40.31 | N220: 39.88 | O220: 40 | P220: 40.19 | Q220: 39.69
A221: 40.117 | B221: =(B$246-B$218)/28+B220 -> 40.978571 | C221: 40.06 | D221: 40.06 | E221: 39.88 | F221: 40.19 | G221: 39.13 | H221: 39.56 | I221: 39.69 | J221: 39.88 | K221: 39.75 | L221: 39.94 | M221: 40.31 | N221: 39.88 | O221: 40 | P221: 40.19 | Q221: 39.69
A222: 40.137 | B222: =(B$246-B$218)/28+B221 -> 40.971429 | C222: 40.13 | D222: 40.06 | E222: 39.88 | F222: 40.19 | G222: 39.06 | H222: 39.5 | I222: 39.69 | J222: 39.81 | K222: 39.69 | L222: 39.94 | M222: 40.31 | N222: 39.88 | O222: 40 | P222: 40.19 | Q222: 39.69
A223: 40.105 | B223: =(B$246-B$218)/28+B222 -> 40.964286 | C223: 40 | D223: 40.06 | E223: 39.81 | F223: 40.19 | G223: 39.06 | H223: 39.5 | I223: 39.69 | J223: 39.75 | K223: 39.69 | L223: 39.94 | M223: 40.31 | N223: 39.88 | O223: 40 | P223: 40.13 | Q223: 39.63
A224: 40.1 | B224: =(B$246-B$218)/28+B223 -> 40.957143 | C224: 40.06 | D224: 40.06 | E224: 39.81 | F224: 40.19 | G224: 39.06 | H224: 39.5 | I224: 39.69 | J224: 39.81 | K224: 39.69 | L224: 39.94 | M224: 40.31 | N224: 39.88 | O224: 40 | P224: 40.13 | Q224: 39.63
A225: 40.105 | B225: =(B$246-B$218)/28+B224 -> 40.95 | C225: 40.06 | D225: 40.06 | E225: 39.81 | F225: 40.19 | G225: 39.06 | H225: 39.5 | I225: 39.69 | J225: 39.81 | K225: 39.69 | L225: 39.94 | M225: 40.31 | N225: 39.81 | O225: 40 | P225: 40.13 | Q225: 39.63
A226: 40.092 | B226: =(B$246-B$218)/28+B225 -> 40.942857 | C226: 40 | D226: 40.06 | E226: 39.81 | F226: 40.19 | G226: 39.06 | H226: 39.5 | I226: 39.69 | J226: 39.75 | K226: 39.69 | L226: 39.94 | M226: 40.31 | N226: 39.81 | O226: 39.94 | P226: 40.13 | Q226: 39.63
...

Sheet 2dt
A1: Referenz [°C] | B1: dT K-Type [K] | C1: dT DS18B20 in [K] | D1: dT DS18B20 in [K] | E1: dT DS18B20 in [K] | F1: dT DS18B20 in [K] | G1: dT DS18B20 in [K] | H1: dT DS18B20 in [K] | I1: dT DS18B20 in [K] | J1: dT DS18B20 in [K] | K1: dT DS18B20 in [K] | L1: dT DS18B20 in [K] | M1: dT DS18B20 in [K] | N1: dT DS18B20 in [K] | O1: dT DS18B20 in [K] | P1: dT DS18B20 in [K] | Q1: dT DS18B20 in [K]
A2: 5.135 | C2: ='2'!C2-'2'!$A2 -> 0.365 | D2: ='2'!D2-'2'!$A2 -> 0.175 | E2: ='2'!E2-'2'!$A2 -> -0.005 | F2: ='2'!F2-'2'!$A2 -> 0.805 | G2: ='2'!G2-'2'!$A2 -> -0.945 | H2: ='2'!H2-'2'!$A2 -> -0.385 | I2: ='2'!I2-'2'!$A2 -> -0.255 | J2: ='2'!J2-'2'!$A2 -> -0.385 | ... Q2: ='2'!Q2-'2'!$A2 -> 0.055
A3: 5.134 | C3: ='2'!C3-'2'!$A3 -> 0.366 | D3: ='2'!D3-'2'!$A3 -> 0.176 | E3: ='2'!E3-'2'!$A3 -> -0.004 | F3: ='2'!F3-'2'!$A3 -> 0.806 | G3: ='2'!G3-'2'!$A3 -> -0.944 | H3: ='2'!H3-'2'!$A3 -> -0.324 | I3: ='2'!I3-'2'!$A3 -> -0.254 | J3: ='2'!J3-'2'!$A3 -> -0.384 | ... Q3: ='2'!Q3-'2'!$A3 -> 0.056
A4: 5.133 | C4: ='2'!C4-'2'!$A4 -> 0.367 | D4: ='2'!D4-'2'!$A4 -> 0.177 | E4: ='2'!E4-'2'!$A4 -> -0.003 | F4: ='2'!F4-'2'!$A4 -> 0.807 | G4: ='2'!G4-'2'!$A4 -> -0.943 | H4: ='2'!H4-'2'!$A4 -> -0.323 | I4: ='2'!I4-'2'!$A4 -> -0.193 | J4: ='2'!J4-'2'!$A4 -> -0.323 | ... Q4: ='2'!Q4-'2'!$A4 -> 0.057
A5: 5.138 | C5: ='2'!C5-'2'!$A5 -> 0.362 | D5: ='2'!D5-'2'!$A5 -> 0.172 | E5: ='2'!E5-'2'!$A5 -> 0.052 | F5: ='2'!F5-'2'!$A5 -> 0.862 | G5: ='2'!G5-'2'!$A5 -> -0.948 | H5: ='2'!H5-'2'!$A5 -> -0.328 | I5: ='2'!I5-'2'!$A5 -> -0.258 | J5: ='2'!J5-'2'!$A5 -> -0.328 | ... Q5: ='2'!Q5-'2'!$A5 -> 0.052
A6: 5.138 | C6: ='2'!C6-'2'!$A6 -> 0.362 | D6: ='2'!D6-'2'!$A6 -> 0.172 | E6: ='2'!E6-'2'!$A6 -> 0.052 | F6: ='2'!F6-'2'!$A6 -> 0.802 | G6: ='2'!G6-'2'!$A6 -> -0.948 | H6: ='2'!H6-'2'!$A6 -> -0.328 | I6: ='2'!I6-'2'!$A6 -> -0.258 | J6: ='2'!J6-'2'!$A6 -> -0.328 | ... Q6: ='2'!Q6-'2'!$A6 -> 0.112
A7: 5.138 | C7: ='2'!C7-'2'!$A7 -> 0.362 | D7: ='2'!D7-'2'!$A7 -> 0.172 | E7: ='2'!E7-'2'!$A7 -> -0.078 | F7: ='2'!F7-'2'!$A7 -> 0.802 | G7: ='2'!G7-'2'!$A7 -> -0.888 | H7: ='2'!H7-'2'!$A7 -> -0.388 | I7: ='2'!I7-'2'!$A7 -> -0.258 | J7: ='2'!J7-'2'!$A7 -> -0.328 | ... Q7: ='2'!Q7-'2'!$A7 -> 0.112
A8: 5.138 | C8: ='2'!C8-'2'!$A8 -> 0.422 | D8: ='2'!D8-'2'!$A8 -> 0.172 | E8: ='2'!E8-'2'!$A8 -> -0.008 | F8: ='2'!F8-'2'!$A8 -> 0.862 | G8: ='2'!G8-'2'!$A8 -> -0.948 | H8: ='2'!H8-'2'!$A8 -> -0.328 | I8: ='2'!I8-'2'!$A8 -> -0.258 | J8: ='2'!J8-'2'!$A8 -> -0.328 | ... Q8: ='2'!Q8-'2'!$A8 -> 0.052
A9: 5.138 | C9: ='2'!C9-'2'!$A9 -> 0.362 | D9: ='2'!D9-'2'!$A9 -> 0.172 | E9: ='2'!E9-'2'!$A9 -> -0.008 | F9: ='2'!F9-'2'!$A9 -> 0.862 | G9: ='2'!G9-'2'!$A9 -> -0.888 | H9: ='2'!H9-'2'!$A9 -> -0.388 | I9: ='2'!I9-'2'!$A9 -> -0.258 | J9: ='2'!J9-'2'!$A9 -> -0.328 | ... Q9: ='2'!Q9-'2'!$A9 -> 0.112
A10: 5.138 | C10: ='2'!C10-'2'!$A10 -> 0.422 | D10: ='2'!D10-'2'!$A10 -> 0.172 | E10: ='2'!E10-'2'!$A10 -> -0.008 | F10: ='2'!F10-'2'!$A10 -> 0.862 | G10: ='2'!G10-'2'!$A10 -> -0.888 | H10: ='2'!H10-'2'!$A10 -> -0.328 | I10: ='2'!I10-'2'!$A10 -> -0.258 | J10: ='2'!J10-'2'!$A10 -> -0.388 | ... Q10: ='2'!Q10-'2'!$A10 -> 0.112
A11: 5.138 | C11: ='2'!C11-'2'!$A11 -> 0.362 | D11: ='2'!D11-'2'!$A11 -> 0.172 | E11: ='2'!E11-'2'!$A11 -> -0.008 | F11: ='2'!F11-'2'!$A11 -> 0.802 | G11: ='2'!G11-'2'!$A11 -> -0.888 | H11: ='2'!H11-'2'!$A11 -> -0.388 | I11: ='2'!I11-'2'!$A11 -> -0.258 | J11: ='2'!J11-'2'!$A11 -> -0.328 | ... Q11: ='2'!Q11-'2'!$A11 -> 0.112
A12: 5.138 | C12: ='2'!C12-'2'!$A12 -> 0.362 | D12: ='2'!D12-'2'!$A12 -> 0.172 | E12: ='2'!E12-'2'!$A12 -> 0.052 | F12: ='2'!F12-'2'!$A12 -> 0.862 | G12: ='2'!G12-'2'!$A12 -> -0.888 | H12: ='2'!H12-'2'!$A12 -> -0.328 | I12: ='2'!I12-'2'!$A12 -> -0.258 | J12: ='2'!J12-'2'!$A12 -> -0.388 | ... Q12: ='2'!Q12-'2'!$A12 -> 0.052
A13: 5.138 | C13: ='2'!C13-'2'!$A13 -> 0.422 | D13: ='2'!D13-'2'!$A13 -> 0.172 | E13: ='2'!E13-'2'!$A13 -> -0.008 | F13: ='2'!F13-'2'!$A13 -> 0.802 | G13: ='2'!G13-'2'!$A13 -> -0.888 | H13: ='2'!H13-'2'!$A13 -> -0.328 | I13: ='2'!I13-'2'!$A13 -> -0.198 | J13: ='2'!J13-'2'!$A13 -> -0.388 | ... Q13: ='2'!Q13-'2'!$A13 -> 0.112
... A16: 5.138 | C16: ='2'!C16-'2'!$A16 -> 0.302 | D16: ='2'!D16-'2'!$A16 -> 0.172 | E16: ='2'!E16-'2'!$A16 -> 0.052 | F16: ='2'!F16-'2'!$A16 -> 0.862 | G16: ='2'!G16-'2'!$A16 -> -0.888 | H16: ='2'!H16-'2'!$A16 -> -0.328 | I16: ='2'!I16-'2'!$A16 -> -0.258 | J16: ='2'!J16-'2'!$A16 -> -0.328 | ... Q16: ='2'!Q16-'2'!$A16 -> 0.052
A17: =AVERAGE(A2:A16) -> 5.1372 | C17: =AVERAGE(C2:C16) -> 0.3708 | D17: =AVERAGE(D2:D16) -> 0.1728 | E17: =AVERAGE(E2:E16) -> 0.0081333333 | F17: =AVERAGE(F2:F16) -> 0.8308 | G17: =AVERAGE(G2:G16) -> -0.9112 | H17: =AVERAGE(H2:H16) -> -0.3472 | I17: =AVERAGE(I2:I16) -> -0.2492 | J17: =AVERAGE(J2:J16) -> -0.3512 | ... Q17: =AVERAGE(Q2:Q16) -> 0.0848
A21: Referenz [°C] | B21: dT K-Type [K] | C21: dT DS18B20 in [K] | D21: dT DS18B20 in [K] | E21: dT DS18B20 in [K] | F21: dT DS18B20 in [K] | G21: dT DS18B20 in [K] | H21: dT DS18B20 in [K] | I21: dT DS18B20 in [K] | J21: dT DS18B20 in [K] | K21: dT DS18B20 in [K] | L21: dT DS18B20 in [K] | M21: dT DS18B20 in [K] | N21: dT DS18B20 in [K] | O21: dT DS18B20 in [K] | P21: dT DS18B20 in [K] | Q21: dT DS18B20 in [K]
A22: 8.749 | B22: ='2'!B21-'2'!$A21 -> 0.251 | C22: ='2'!C21-'2'!$A21 -> 0.381 | D22: ='2'!D21-'2'!$A21 -> 0.131 | E22: ='2'!E21-'2'!$A21 -> 0.131 | F22: ='2'!F21-'2'!$A21 -> 0.811 | G22: ='2'!G21-'2'!$A21 -> -0.689 | H22: ='2'!H21-'2'!$A21 -> -0.189 | I22: ='2'!I21-'2'!$A21 -> -0.249 | ... Q22: ='2'!Q21-'2'!$A21 -> 0.001
A23: 8.742 | B23: ='2'!B22-'2'!$A22 -> 0.2605641 | C23: ='2'!C22-'2'!$A22 -> 0.448 | D23: ='2'!D22-'2'!$A22 -> 0.198 | E23: ='2'!E22-'2'!$A22 -> 0.138 | F23: ='2'!F22-'2'!$A22 -> 0.818 | G23: ='2'!G22-'2'!$A22 -> -0.682 | H23: ='2'!H22-'2'!$A22 -> -0.112 | I23: ='2'!I22-'2'!$A22 -> -0.182 | ... Q23: ='2'!Q22-'2'!$A22 -> 0.008
A24: 8.75 | B24: ='2'!B23-'2'!$A23 -> 0.25512821 | C24: ='2'!C23-'2'!$A23 -> 0.44 | D24: ='2'!D23-'2'!$A23 -> 0.13 | E24: ='2'!E23-'2'!$A23 -> 0.13 | F24: ='2'!F23-'2'!$A23 -> 0.88 | G24: ='2'!G23-'2'!$A23 -> -0.69 | H24: ='2'!H23-'2'!$A23 -> -0.19 | I24: ='2'!I23-'2'!$A23 -> -0.19 | ... Q24: ='2'!Q23-'2'!$A23 -> 0
A25: 8.758 | B25: ='2'!B24-'2'!$A24 -> 0.24969231 | C25: ='2'!C24-'2'!$A24 -> 0.432 | D25: ='2'!D24-'2'!$A24 -> 0.122 | E25: ='2'!E24-'2'!$A24 -> 0.122 | F25: ='2'!F24-'2'!$A24 -> 0.872 | G25: ='2'!G24-'2'!$A24 -> -0.698 | H25: ='2'!H24-'2'!$A24 -> -0.128 | I25: ='2'!I24-'2'!$A24 -> -0.258 | ... Q25: ='2'!Q24-'2'!$A24 -> -0.008
A26: 8.762 | B26: ='2'!B25-'2'!$A25 -> 0.24825641 | C26: ='2'!C25-'2'!$A25 -> 0.428 | D26: ='2'!D25-'2'!$A25 -> 0.118 | E26: ='2'!E25-'2'!$A25 -> 0.118 | F26: ='2'!F25-'2'!$A25 -> 0.868 | G26: ='2'!G25-'2'!$A25 -> -0.702 | H26: ='2'!H25-'2'!$A25 -> -0.202 | I26: ='2'!I25-'2'!$A25 -> -0.262 | ... Q26: ='2'!Q25-'2'!$A25 -> -0.012
A27: 8.766 | B27: ='2'!B26-'2'!$A26 -> 0.24682051 | C27: ='2'!C26-'2'!$A26 -> 0.364 | D27: ='2'!D26-'2'!$A26 -> 0.114 | E27: ='2'!E26-'2'!$A26 -> 0.114 | F27: ='2'!F26-'2'!$A26 -> 0.864 | G27: ='2'!G26-'2'!$A26 -> -0.706 | H27: ='2'!H26-'2'!$A26 -> -0.206 | I27: ='2'!I26-'2'!$A26 -> -0.206 | ... Q27: ='2'!Q26-'2'!$A26 -> -0.016
A28: 8.767 | B28: ='2'!B27-'2'!$A27 -> 0.24838462 | C28: ='2'!C27-'2'!$A27 -> 0.423 | D28: ='2'!D27-'2'!$A27 -> 0.113 | E28: ='2'!E27-'2'!$A27 -> 0.173 | F28: ='2'!F27-'2'!$A27 -> 0.923 | G28: ='2'!G27-'2'!$A27 -> -0.707 | H28: ='2'!H27-'2'!$A27 -> -0.207 | I28: ='2'!I27-'2'!$A27 -> -0.207 | ... Q28: ='2'!Q27-'2'!$A27 -> -0.017
A29: 8.766 | B29: ='2'!B28-'2'!$A28 -> 0.25194872 | C29: ='2'!C28-'2'!$A28 -> 0.424 | D29: ='2'!D28-'2'!$A28 -> 0.174 | E29: ='2'!E28-'2'!$A28 -> 0.114 | F29: ='2'!F28-'2'!$A28 -> 0.794 | G29: ='2'!G28-'2'!$A28 -> -0.706 | H29: ='2'!H28-'2'!$A28 -> -0.206 | I29: ='2'!I28-'2'!$A28 -> -0.266 | ... Q29: ='2'!Q28-'2'!$A28 -> -0.016
A30: 8.768 | B30: ='2'!B29-'2'!$A29 -> 0.25251282 | C30: ='2'!C29-'2'!$A29 -> 0.422 | D30: ='2'!D29-'2'!$A29 -> 0.112 | E30: ='2'!E29-'2'!$A29 -> 0.112 | F30: ='2'!F29-'2'!$A29 -> 0.792 | G30: ='2'!G29-'2'!$A29 -> -0.708 | H30: ='2'!H29-'2'!$A29 -> -0.138 | I30: ='2'!I29-'2'!$A29 -> -0.208 | ... Q30: ='2'!Q29-'2'!$A29 -> -0.018
A31: 8.777 | B31: ='2'!B30-'2'!$A30 -> 0.24607692 | C31: ='2'!C30-'2'!$A30 -> 0.473 | D31: ='2'!D30-'2'!$A30 -> 0.103 | E31: ='2'!E30-'2'!$A30 -> 0.103 | F31: ='2'!F30-'2'!$A30 -> 0.853 | G31: ='2'!G30-'2'!$A30 -> -0.647 | H31: ='2'!H30-'2'!$A30 -> -0.217 | I31: ='2'!I30-'2'!$A30 -> -0.217 | ... Q31: ='2'!Q30-'2'!$A30 -> -0.027
A32: 8.776 | B32: ='2'!B31-'2'!$A31 -> 0.24964103 | C32: ='2'!C31-'2'!$A31 -> 0.414 | D32: ='2'!D31-'2'!$A31 -> 0.104 | E32: ='2'!E31-'2'!$A31 -> 0.164 | F32: ='2'!F31-'2'!$A31 -> 0.854 | G32: ='2'!G31-'2'!$A31 -> -0.646 | H32: ='2'!H31-'2'!$A31 -> -0.146 | I32: ='2'!I31-'2'!$A31 -> -0.276 | ... Q32: ='2'!Q31-'2'!$A31 -> -0.026
A33: 8.779 | B33: ='2'!B32-'2'!$A32 -> 0.24920513 | C33: ='2'!C32-'2'!$A32 -> 0.471 | D33: ='2'!D32-'2'!$A32 -> 0.101 | E33: ='2'!E32-'2'!$A32 -> 0.161 | F33: ='2'!F32-'2'!$A32 -> 0.781 | G33: ='2'!G32-'2'!$A32 -> -0.649 | H33: ='2'!H32-'2'!$A32 -> -0.149 | I33: ='2'!I32-'2'!$A32 -> -0.219 | ... Q33: ='2'!Q32-'2'!$A32 -> 0.031
... A61: 8.83 | B61: ='2'!B60-'2'!$A60 -> 0.27 | C61: ='2'!C60-'2'!$A60 -> 0.42 | D61: ='2'!D60-'2'!$A60 -> 0.11 | E61: ='2'!E60-'2'!$A60 -> 0.11 | F61: ='2'!F60-'2'!$A60 -> 0.86 | G61: ='2'!G60-'2'!$A60 -> -0.64 | H61: ='2'!H60-'2'!$A60 -> -0.14 | I61: ='2'!I60-'2'!$A60 -> -0.2 | ... Q61: ='2'!Q60-'2'!$A60 -> 0.05
A62: =AVERAGE(A22:A61) -> 8.787275 | B62: =AVERAGE(B22:B61) -> 0.262725 | C62: =AVERAGE(C22:C61) -> 0.434225 | D62: =AVERAGE(D22:D61) -> 0.134725 | E62: =AVERAGE(E22:E61) -> 0.133225 | F62: =AVERAGE(F22:F61) -> 0.860975 | G62: =AVERAGE(G22:G61) -> -0.670775 | H62: =AVERAGE(H22:H61) -> -0.165775 | ... Q62: =AVERAGE(Q22:Q61) -> 0.003975
A65: Referenz [°C] | B65: dT K-Type [K] | C65: dT DS18B20 in [K] | D65: dT DS18B20 in [K] | E65: dT DS18B20 in [K] | F65: dT DS18B20 in [K] | G65: dT DS18B20 in [K] | H65: dT DS18B20 in [K] | I65: dT DS18B20 in [K] | J65: dT DS18B20 in [K] | K65: dT DS18B20 in [K] | L65: dT DS18B20 in [K] | M65: dT DS18B20 in [K] | N65: dT DS18B20 in [K] | O65: dT DS18B20 in [K] | P65: dT DS18B20 in [K] | Q65: dT DS18B20 in [K]
A66: 22.904 | B66: ='2'!B65-'2'!$A65 -> 0.596 | C66: ='2'!C65-'2'!$A65 -> 0.286 | D66: ='2'!D65-'2'!$A65 -> 0.096 | E66: ='2'!E65-'2'!$A65 -> -0.034 | F66: ='2'!F65-'2'!$A65 -> 0.466 | G66: ='2'!G65-'2'!$A65 -> -0.904 | H66: ='2'!H65-'2'!$A65 -> -0.344 | I66: ='2'!I65-'2'!$A65 -> -0.284 | ... Q66: ='2'!Q65-'2'!$A65 -> -0.154
A67: 22.904 | B67: ='2'!B66-'2'!$A66 -> 0.596 | C67: ='2'!C66-'2'!$A66 -> 0.216 | D67: ='2'!D66-'2'!$A66 -> 0.096 | E67: ='2'!E66-'2'!$A66 -> -0.034 | F67: ='2'!F66-'2'!$A66 -> 0.466 | G67: ='2'!G66-'2'!$A66 -> -0.904 | H67: ='2'!H66-'2'!$A66 -> -0.344 | I67: ='2'!I66-'2'!$A66 -> -0.284 | ... Q67: ='2'!Q66-'2'!$A66 -> -0.154
A68: 22.904 | B68: ='2'!B67-'2'!$A67 -> 0.596 | C68: ='2'!C67-'2'!$A67 -> 0.216 | D68: ='2'!D67-'2'!$A67 -> 0.096 | E68: ='2'!E67-'2'!$A67 -> -0.034 | F68: ='2'!F67-'2'!$A67 -> 0.406 | G68: ='2'!G67-'2'!$A67 -> -0.964 | H68: ='2'!H67-'2'!$A67 -> -0.404 | I68: ='2'!I67-'2'!$A67 -> -0.214 | ... Q68: ='2'!Q67-'2'!$A67 -> -0.094
A69: 22.904 | B69: ='2'!B68-'2'!$A68 -> 0.596 | C69: ='2'!C68-'2'!$A68 -> 0.286 | D69: ='2'!D68-'2'!$A68 -> 0.096 | E69: ='2'!E68-'2'!$A68 -> 0.036 | F69: ='2'!F68-'2'!$A68 -> 0.466 | G69: ='2'!G68-'2'!$A68 -> -0.904 | H69: ='2'!H68-'2'!$A68 -> -0.344 | I69: ='2'!I68-'2'!$A68 -> -0.284 | ... Q69: ='2'!Q68-'2'!$A68 -> -0.154
A70: 22.904 | B70: ='2'!B69-'2'!$A69 -> 0.596 | C70: ='2'!C69-'2'!$A69 -> 0.286 | D70: ='2'!D69-'2'!$A69 -> 0.096 | E70: ='2'!E69-'2'!$A69 -> -0.094 | F70: ='2'!F69-'2'!$A69 -> 0.406 | G70: ='2'!G69-'2'!$A69 -> -0.904 | H70: ='2'!H69-'2'!$A69 -> -0.344 | I70: ='2'!I69-'2'!$A69 -> -0.284 | ... Q70: ='2'!Q69-'2'!$A69 -> -0.094
A71: 22.904 | B71: ='2'!B70-'2'!$A70 -> 0.596 | C71: ='2'!C70-'2'!$A70 -> 0.286 | D71: ='2'!D70-'2'!$A70 -> 0.096 | E71: ='2'!E70-'2'!$A70 -> -0.094 | F71: ='2'!F70-'2'!$A70 -> 0.466 | G71: ='2'!G70-'2'!$A70 -> -0.904 | H71: ='2'!H70-'2'!$A70 -> -0.344 | I71: ='2'!I70-'2'!$A70 -> -0.284 | ... Q71: ='2'!Q70-'2'!$A70 -> -0.094
A72: 22.904 | B72: ='2'!B71-'2'!$A71 -> 0.596 | C72: ='2'!C71-'2'!$A71 -> 0.286 | D72: ='2'!D71-'2'!$A71 -> 0.036 | E72: ='2'!E71-'2'!$A71 -> -0.034 | F72: ='2'!F71-'2'!$A71 -> 0.466 | G72: ='2'!G71-'2'!$A71 -> -0.904 | H72: ='2'!H71-'2'!$A71 -> -0.344 | I72: ='2'!I71-'2'!$A71 -> -0.284 | ... Q72: ='2'!Q71-'2'!$A71 -> -0.094
A73: 22.904 | B73: ='2'!B72-'2'!$A72 -> 0.596 | C73: ='2'!C72-'2'!$A72 -> 0.286 | D73: ='2'!D72-'2'!$A72 -> 0.096 | E73: ='2'!E72-'2'!$A72 -> -0.094 | F73: ='2'!F72-'2'!$A72 -> 0.466 | G73: ='2'!G72-'2'!$A72 -> -0.904 | H73: ='2'!H72-'2'!$A72 -> -0.344 | I73: ='2'!I72-'2'!$A72 -> -0.214 | ... Q73: ='2'!Q72-'2'!$A72 -> -0.154
A74: 22.904 | B74: ='2'!B73-'2'!$A73 -> 0.596 | C74: ='2'!C73-'2'!$A73 -> 0.286 | D74: ='2'!D73-'2'!$A73 -> 0.036 | E74: ='2'!E73-'2'!$A73 -> -0.034 | F74: ='2'!F73-'2'!$A73 -> 0.466 | G74: ='2'!G73-'2'!$A73 -> -0.844 | H74: ='2'!H73-'2'!$A73 -> -0.344 | I74: ='2'!I73-'2'!$A73 -> -0.284 | ... Q74: ='2'!Q73-'2'!$A73 -> -0.094
A75: 22.904 | B75: ='2'!B74-'2'!$A74 -> 0.596 | C75: ='2'!C74-'2'!$A74 -> 0.286 | D75: ='2'!D74-'2'!$A74 -> 0.096 | E75: ='2'!E74-'2'!$A74 -> -0.034 | F75: ='2'!F74-'2'!$A74 -> 0.406 | G75: ='2'!G74-'2'!$A74 -> -0.904 | H75: ='2'!H74-'2'!$A74 -> -0.344 | I75: ='2'!I74-'2'!$A74 -> -0.284 | ... Q75: ='2'!Q74-'2'!$A74 -> -0.094
A76: 22.904 | B76: ='2'!B75-'2'!$A75 -> 0.596 | C76: ='2'!C75-'2'!$A75 -> 0.286 | D76: ='2'!D75-'2'!$A75 -> 0.096 | E76: ='2'!E75-'2'!$A75 -> -0.034 | F76: ='2'!F75-'2'!$A75 -> 0.466 | G76: ='2'!G75-'2'!$A75 -> -0.904 | H76: ='2'!H75-'2'!$A75 -> -0.404 | I76: ='2'!I75-'2'!$A75 -> -0.284 | ... Q76: ='2'!Q75-'2'!$A75 -> -0.094
A77: 22.904 | B77: ='2'!B76-'2'!$A76 -> 0.596 | C77: ='2'!C76-'2'!$A76 -> 0.286 | D77: ='2'!D76-'2'!$A76 -> 0.096 | E77: ='2'!E76-'2'!$A76 -> -0.034 | F77: ='2'!F76-'2'!$A76 -> 0.466 | G77: ='2'!G76-'2'!$A76 -> -0.904 | H77: ='2'!H76-'2'!$A76 -> -0.344 | I77: ='2'!I76-'2'!$A76 -> -0.214 | ... Q77: ='2'!Q76-'2'!$A76 -> -0.154
... A108: 22.904 | B108: ='2'!B107-'2'!$A107 -> 0.596 | C108: ='2'!C107-'2'!$A107 -> 0.286 | D108: ='2'!D107-'2'!$A107 -> 0.036 | E108: ='2'!E107-'2'!$A107 -> -0.034 | F108: ='2'!F107-'2'!$A107 -> 0.466 | G108: ='2'!G107-'2'!$A107 -> -0.904 | H108: ='2'!H107-'2'!$A107 -> -0.344 | I108: ='2'!I107-'2'!$A107 -> -0.214 | ... Q108: ='2'!Q107-'2'!$A107 -> -0.094
A109: =AVERAGE(A66:A108) -> 22.904 | B109: =AVERAGE(B66:B108) -> 0.596 | C109: =AVERAGE(C66:C108) -> 0.28972093 | D109: =AVERAGE(D66:D108) -> 0.079255814 | E109: =AVERAGE(E66:E108) -> -0.036325581 | F109: =AVERAGE(F66:F108) -> 0.46088372 | G109: =AVERAGE(G66:G108) -> -0.9012093 | H109: =AVERAGE(H66:H108) -> -0.36213953 | ... Q109: =AVERAGE(Q66:Q108) -> -0.11493023
A112: Referenz [°C] | B112: dT K-Type [K] | C112: dT DS18B20 in [K] | D112: dT DS18B20 in [K] | E112: dT DS18B20 in [K] | F112: dT DS18B20 in [K] | G112: dT DS18B20 in [K] | H112: dT DS18B20 in [K] | I112: dT DS18B20 in [K] | J112: dT DS18B20 in [K] | K112: dT DS18B20 in [K] | L112: dT DS18B20 in [K] | M112: dT DS18B20 in [K] | N112: dT DS18B20 in [K] | O112: dT DS18B20 in [K] | P112: dT DS18B20 in [K] | Q112: dT DS18B20 in [K]
A113: 27.073 | B113: ='2'!B112-'2'!$A112 -> 0.527 | C113: ='2'!C112-'2'!$A112 -> 0.047 | D113: ='2'!D112-'2'!$A112 -> 0.047 | E113: ='2'!E112-'2'!$A112 -> -0.133 | F113: ='2'!F112-'2'!$A112 -> 0.297 | G113: ='2'!G112-'2'!$A112 -> -0.883 | H113: ='2'!H112-'2'!$A112 -> -0.453 | I113: ='2'!I112-'2'!$A112 -> -0.263 | ... Q113: ='2'!Q112-'2'!$A112 -> -0.263
A114: 27.045 | B114: ='2'!B113-'2'!$A113 -> 0.555 | C114: ='2'!C113-'2'!$A113 -> 0.075 | D114: ='2'!D113-'2'!$A113 -> 0.075 | E114: ='2'!E113-'2'!$A113 -> -0.105 | F114: ='2'!F113-'2'!$A113 -> 0.325 | G114: ='2'!G113-'2'!$A113 -> -0.855 | H114: ='2'!H113-'2'!$A113 -> -0.425 | I114: ='2'!I113-'2'!$A113 -> -0.295 | ... Q114: ='2'!Q113-'2'!$A113 -> -0.235
A115: 27.06 | B115: ='2'!B114-'2'!$A114 -> 0.54 | C115: ='2'!C114-'2'!$A114 -> 0 | D115: ='2'!D114-'2'!$A114 -> 0.06 | E115: ='2'!E114-'2'!$A114 -> -0.12 | F115: ='2'!F114-'2'!$A114 -> 0.31 | G115: ='2'!G114-'2'!$A114 -> -0.87 | H115: ='2'!H114-'2'!$A114 -> -0.44 | I115: ='2'!I114-'2'!$A114 -> -0.31 | ... Q115: ='2'!Q114-'2'!$A114 -> -0.25
A116: 27.064 | B116: ='2'!B115-'2'!$A115 -> 0.536 | C116: ='2'!C115-'2'!$A115 -> -0.004 | D116: ='2'!D115-'2'!$A115 -> 0.056 | E116: ='2'!E115-'2'!$A115 -> -0.124 | F116: ='2'!F115-'2'!$A115 -> 0.376 | G116: ='2'!G115-'2'!$A115 -> -0.874 | H116: ='2'!H115-'2'!$A115 -> -0.444 | I116: ='2'!I115-'2'!$A115 -> -0.374 | ... Q116: ='2'!Q115-'2'!$A115 -> -0.254
A117: 27.067 | B117: ='2'!B116-'2'!$A116 -> 0.533 | C117: ='2'!C116-'2'!$A116 -> -0.007 | D117: ='2'!D116-'2'!$A116 -> 0.053 | E117: ='2'!E116-'2'!$A116 -> -0.127 | F117: ='2'!F116-'2'!$A116 -> 0.373 | G117: ='2'!G116-'2'!$A116 -> -0.947 | H117: ='2'!H116-'2'!$A116 -> -0.377 | I117: ='2'!I116-'2'!$A116 -> -0.317 | ... Q117: ='2'!Q116-'2'!$A116 -> -0.257
A118: 27.072 | B118: ='2'!B117-'2'!$A117 -> 0.528 | C118: ='2'!C117-'2'!$A117 -> -0.012 | D118: ='2'!D117-'2'!$A117 -> 0.048 | E118: ='2'!E117-'2'!$A117 -> -0.202 | F118: ='2'!F117-'2'!$A117 -> 0.368 | G118: ='2'!G117-'2'!$A117 -> -0.952 | H118: ='2'!H117-'2'!$A117 -> -0.452 | I118: ='2'!I117-'2'!$A117 -> -0.322 | ... Q118: ='2'!Q117-'2'!$A117 -> -0.322
A119: 27.063 | B119: ='2'!B118-'2'!$A118 -> 0.537 | C119: ='2'!C118-'2'!$A118 -> -0.003 | D119: ='2'!D118-'2'!$A118 -> 0.057 | E119: ='2'!E118-'2'!$A118 -> -0.123 | F119: ='2'!F118-'2'!$A118 -> 0.307 | G119: ='2'!G118-'2'!$A118 -> -0.873 | H119: ='2'!H118-'2'!$A118 -> -0.443 | I119: ='2'!I118-'2'!$A118 -> -0.313 | ... Q119: ='2'!Q118-'2'!$A118 -> -0.313
A120: 27.057 | B120: ='2'!B119-'2'!$A119 -> 0.543 | C120: ='2'!C119-'2'!$A119 -> 0.063 | D120: ='2'!D119-'2'!$A119 -> 0.003 | E120: ='2'!E119-'2'!$A119 -> -0.117 | F120: ='2'!F119-'2'!$A119 -> 0.313 | G120: ='2'!G119-'2'!$A119 -> -0.867 | H120: ='2'!H119-'2'!$A119 -> -0.437 | I120: ='2'!I119-'2'!$A119 -> -0.367 | ... Q120: ='2'!Q119-'2'!$A119 -> -0.307
A121: 27.056 | B121: ='2'!B120-'2'!$A120 -> 0.544 | C121: ='2'!C120-'2'!$A120 -> 0.064 | D121: ='2'!D120-'2'!$A120 -> 0.004 | E121: ='2'!E120-'2'!$A120 -> -0.116 | F121: ='2'!F120-'2'!$A120 -> 0.384 | G121: ='2'!G120-'2'!$A120 -> -0.936 | H121: ='2'!H120-'2'!$A120 -> -0.436 | I121: ='2'!I120-'2'!$A120 -> -0.366 | ... Q121: ='2'!Q120-'2'!$A120 -> -0.246
A122: 27.052 | B122: ='2'!B121-'2'!$A121 -> 0.548 | C122: ='2'!C121-'2'!$A121 -> 0.008 | D122: ='2'!D121-'2'!$A121 -> 0.068 | E122: ='2'!E121-'2'!$A121 -> -0.112 | F122: ='2'!F121-'2'!$A121 -> 0.388 | G122: ='2'!G121-'2'!$A121 -> -0.862 | H122: ='2'!H121-'2'!$A121 -> -0.432 | I122: ='2'!I121-'2'!$A121 -> -0.302 | ... Q122: ='2'!Q121-'2'!$A121 -> -0.242
A123: 27.051 | B123: ='2'!B122-'2'!$A122 -> 0.549 | C123: ='2'!C122-'2'!$A122 -> 0.009 | D123: ='2'!D122-'2'!$A122 -> 0.069 | E123: ='2'!E122-'2'!$A122 -> -0.111 | F123: ='2'!F122-'2'!$A122 -> 0.389 | G123: ='2'!G122-'2'!$A122 -> -0.931 | H123: ='2'!H122-'2'!$A122 -> -0.431 | I123: ='2'!I122-'2'!$A122 -> -0.361 | ... Q123: ='2'!Q122-'2'!$A122 -> -0.301
A124: 27.048 | B124: ='2'!B123-'2'!$A123 -> 0.552 | C124: ='2'!C123-'2'!$A123 -> 0.012 | D124: ='2'!D123-'2'!$A123 -> 0.012 | E124: ='2'!E123-'2'!$A123 -> -0.108 | F124: ='2'!F123-'2'!$A123 -> 0.392 | G124: ='2'!G123-'2'!$A123 -> -0.928 | H124: ='2'!H123-'2'!$A123 -> -0.428 | I124: ='2'!I123-'2'!$A123 -> -0.358 | ... Q124: ='2'!Q123-'2'!$A123 -> -0.238
... A152: 27.016 | B152: ='2'!B151-'2'!$A151 -> 0.584 | C152: ='2'!C151-'2'!$A151 -> -0.016 | D152: ='2'!D151-'2'!$A151 -> 0.044 | E152: ='2'!E151-'2'!$A151 -> -0.146 | F152: ='2'!F151-'2'!$A151 -> 0.294 | G152: ='2'!G151-'2'!$A151 -> -0.956 | H152: ='2'!H151-'2'!$A151 -> -0.456 | I152: ='2'!I151-'2'!$A151 -> -0.326 | ... Q152: ='2'!Q151-'2'!$A151 -> -0.266
A153: =AVERAGE(A113:A152) -> 27.02885 | B153: =AVERAGE(B113:B152) -> 0.57115 | C153: =AVERAGE(C113:C152) -> 0.02065 | D153: =AVERAGE(D113:D152) -> 0.04765 | E153: =AVERAGE(E113:E152) -> -0.11335 | F153: =AVERAGE(F113:F152) -> 0.34265 | G153: =AVERAGE(G113:G152) -> -0.89085 | H153: =AVERAGE(H113:H152) -> -0.4326 | ... Q153: =AVERAGE(Q113:Q152) -> -0.27135
A156: Referenz [°C] | B156: dT K-Type [K] | C156: dT DS18B20 in [K] | D156: dT DS18B20 in [K] | E156: dT DS18B20 in [K] | F156: dT DS18B20 in [K] | G156: dT DS18B20 in [K] | H156: dT DS18B20 in [K] | I156: dT DS18B20 in [K] | J156: dT DS18B20 in [K] | K156: dT DS18B20 in [K] | L156: dT DS18B20 in [K] | M156: dT DS18B20 in [K] | N156: dT DS18B20 in [K] | O156: dT DS18B20 in [K] | P156: dT DS18B20 in [K] | Q156: dT DS18B20 in [K]
A157: 31.106 | B157: ='2'!B156-'2'!$A156 -> 0.694 | C157: ='2'!C156-'2'!$A156 -> -0.046 | D157: ='2'!D156-'2'!$A156 -> -0.046 | E157: ='2'!E156-'2'!$A156 -> -0.236 | F157: ='2'!F156-'2'!$A156 -> 0.204 | G157: ='2'!G156-'2'!$A156 -> -1.046 | H157: ='2'!H156-'2'!$A156 -> -0.606 | I157: ='2'!I156-'2'!$A156 -> -0.416 | ... Q157: ='2'!Q156-'2'!$A156 -> -0.356
A158: 31.095 | B158: ='2'!B157-'2'!$A157 -> 0.7019697 | C158: ='2'!C157-'2'!$A157 -> 0.025 | D158: ='2'!D157-'2'!$A157 -> -0.035 | E158: ='2'!E157-'2'!$A157 -> -0.225 | F158: ='2'!F157-'2'!$A157 -> 0.215 | G158: ='2'!G157-'2'!$A157 -> -0.975 | H158: ='2'!H157-'2'!$A157 -> -0.595 | I158: ='2'!I157-'2'!$A157 -> -0.405 | ... Q158: ='2'!Q157-'2'!$A157 -> -0.345
A159: 31.086 | B159: ='2'!B158-'2'!$A158 -> 0.70793939 | C159: ='2'!C158-'2'!$A158 -> -0.026 | D159: ='2'!D158-'2'!$A158 -> -0.026 | E159: ='2'!E158-'2'!$A158 -> -0.216 | F159: ='2'!F158-'2'!$A158 -> 0.224 | G159: ='2'!G158-'2'!$A158 -> -1.026 | H159: ='2'!H158-'2'!$A158 -> -0.586 | I159: ='2'!I158-'2'!$A158 -> -0.396 | ... Q159: ='2'!Q158-'2'!$A158 -> -0.336
A160: 31.077 | B160: ='2'!B159-'2'!$A159 -> 0.71390909 | C160: ='2'!C159-'2'!$A159 -> -0.017 | D160: ='2'!D159-'2'!$A159 -> -0.017 | E160: ='2'!E159-'2'!$A159 -> -0.207 | F160: ='2'!F159-'2'!$A159 -> 0.233 | G160: ='2'!G159-'2'!$A159 -> -1.017 | H160: ='2'!H159-'2'!$A159 -> -0.577 | I160: ='2'!I159-'2'!$A159 -> -0.387 | ... Q160: ='2'!Q159-'2'!$A159 -> -0.327
A161: 31.053 | B161: ='2'!B160-'2'!$A160 -> 0.73487879 | C161: ='2'!C160-'2'!$A160 -> 0.007 | D161: ='2'!D160-'2'!$A160 -> 0.007 | E161: ='2'!E160-'2'!$A160 -> -0.183 | F161: ='2'!F160-'2'!$A160 -> 0.257 | G161: ='2'!G160-'2'!$A160 -> -0.993 | H161: ='2'!H160-'2'!$A160 -> -0.553 | I161: ='2'!I160-'2'!$A160 -> -0.363 | ... Q161: ='2'!Q160-'2'!$A160 -> -0.303
A162: 31.062 | B162: ='2'!B161-'2'!$A161 -> 0.72284848 | C162: ='2'!C161-'2'!$A161 -> -0.002 | D162: ='2'!D161-'2'!$A161 -> -0.002 | E162: ='2'!E161-'2'!$A161 -> -0.192 | F162: ='2'!F161-'2'!$A161 -> 0.248 | G162: ='2'!G161-'2'!$A161 -> -1.062 | H162: ='2'!H161-'2'!$A161 -> -0.562 | I162: ='2'!I161-'2'!$A161 -> -0.372 | ... Q162: ='2'!Q161-'2'!$A161 -> -0.312
A163: 31.068 | B163: ='2'!B162-'2'!$A162 -> 0.71381818 | C163: ='2'!C162-'2'!$A162 -> -0.008 | D163: ='2'!D162-'2'!$A162 -> -0.008 | E163: ='2'!E162-'2'!$A162 -> -0.198 | F163: ='2'!F162-'2'!$A162 -> 0.242 | G163: ='2'!G162-'2'!$A162 -> -1.008 | H163: ='2'!H162-'2'!$A162 -> -0.568 | I163: ='2'!I162-'2'!$A162 -> -0.378 | ... Q163: ='2'!Q162-'2'!$A162 -> -0.378
A164: 31.068 | B164: ='2'!B163-'2'!$A163 -> 0.71078788 | C164: ='2'!C163-'2'!$A163 -> 0.052 | D164: ='2'!D163-'2'!$A163 -> -0.008 | E164: ='2'!E163-'2'!$A163 -> -0.258 | F164: ='2'!F163-'2'!$A163 -> 0.242 | G164: ='2'!G163-'2'!$A163 -> -1.068 | H164: ='2'!H163-'2'!$A163 -> -0.568 | I164: ='2'!I163-'2'!$A163 -> -0.378 | ... Q164: ='2'!Q163-'2'!$A163 -> -0.318
A165: 31.068 | B165: ='2'!B164-'2'!$A164 -> 0.70775758 | C165: ='2'!C164-'2'!$A164 -> -0.008 | D165: ='2'!D164-'2'!$A164 -> -0.008 | E165: ='2'!E164-'2'!$A164 -> -0.258 | F165: ='2'!F164-'2'!$A164 -> 0.242 | G165: ='2'!G164-'2'!$A164 -> -1.068 | H165: ='2'!H164-'2'!$A164 -> -0.568 | I165: ='2'!I164-'2'!$A164 -> -0.378 | ... Q165: ='2'!Q164-'2'!$A164 -> -0.318
A166: 31.069 | B166: ='2'!B165-'2'!$A165 -> 0.70372727 | C166: ='2'!C165-'2'!$A165 -> -0.009 | D166: ='2'!D165-'2'!$A165 -> -0.069 | E166: ='2'!E165-'2'!$A165 -> -0.199 | F166: ='2'!F165-'2'!$A165 -> 0.181 | G166: ='2'!G165-'2'!$A165 -> -1.069 | H166: ='2'!H165-'2'!$A165 -> -0.629 | I166: ='2'!I165-'2'!$A165 -> -0.379 | ... Q166: ='2'!Q165-'2'!$A165 -> -0.379
A167: 31.067 | B167: ='2'!B166-'2'!$A166 -> 0.70269697 | C167: ='2'!C166-'2'!$A166 -> -0.007 | D167: ='2'!D166-'2'!$A166 -> -0.067 | E167: ='2'!E166-'2'!$A166 -> -0.257 | F167: ='2'!F166-'2'!$A166 -> 0.183 | G167: ='2'!G166-'2'!$A166 -> -1.007 | H167: ='2'!H166-'2'!$A166 -> -0.567 | I167: ='2'!I166-'2'!$A166 -> -0.377 | ... Q167: ='2'!Q166-'2'!$A166 -> -0.317
A168: 31.065 | B168: ='2'!B167-'2'!$A167 -> 0.70166667 | C168: ='2'!C167-'2'!$A167 -> -0.005 | D168: ='2'!D167-'2'!$A167 -> -0.065 | E168: ='2'!E167-'2'!$A167 -> -0.255 | F168: ='2'!F167-'2'!$A167 -> 0.185 | G168: ='2'!G167-'2'!$A167 -> -1.065 | H168: ='2'!H167-'2'!$A167 -> -0.565 | I168: ='2'!I167-'2'!$A167 -> -0.375 | ... Q168: ='2'!Q167-'2'!$A167 -> -0.375
... A190: 30.975 | B190: ='2'!B189-'2'!$A189 -> 0.725 | C190: ='2'!C189-'2'!$A189 -> 0.025 | D190: ='2'!D189-'2'!$A189 -> -0.035 | E190: ='2'!E189-'2'!$A189 -> -0.225 | F190: ='2'!F189-'2'!$A189 -> 0.215 | G190: ='2'!G189-'2'!$A189 -> -1.035 | H190: ='2'!H189-'2'!$A189 -> -0.535 | I190: ='2'!I189-'2'!$A189 -> -0.415 | ... Q190: ='2'!Q189-'2'!$A189 -> -0.355
A191: =AVERAGE(A157:A190) -> 31.0345 | B191: =AVERAGE(B157:B190) -> 0.7155 | C191: =AVERAGE(C157:C190) -> 0.0060882353 | D191: =AVERAGE(D157:D190) -> -0.023911765 | E191: =AVERAGE(E157:E190) -> -0.21567647 | F191: =AVERAGE(F157:F190) -> 0.22961765 | G191: =AVERAGE(G157:G190) -> -1.0559706 | H191: =AVERAGE(H157:H190) -> -0.57714706 | ... Q191: =AVERAGE(Q157:Q190) -> -0.33920588
A194: Referenz [°C] | B194: dT K-Type [K] | C194: dT DS18B20 in [K] | D194: dT DS18B20 in [K] | E194: dT DS18B20 in [K] | F194: dT DS18B20 in [K] | G194: dT DS18B20 in [K] | H194: dT DS18B20 in [K] | I194: dT DS18B20 in [K] | J194: dT DS18B20 in [K] | K194: dT DS18B20 in [K] | L194: dT DS18B20 in [K] | M194: dT DS18B20 in [K] | N194: dT DS18B20 in [K] | O194: dT DS18B20 in [K] | P194: dT DS18B20 in [K] | Q194: dT DS18B20 in [K]
A195: 35.075 | B195: ='2'!B194-'2'!$A194 -> 0.725 | C195: ='2'!C194-'2'!$A194 -> -0.015 | D195: ='2'!D194-'2'!$A194 -> -0.075 | E195: ='2'!E194-'2'!$A194 -> -0.265 | F195: ='2'!F194-'2'!$A194 -> 0.235 | G195: ='2'!G194-'2'!$A194 -> -1.015 | H195: ='2'!H194-'2'!$A194 -> -0.635 | I195: ='2'!I194-'2'!$A194 -> -0.445 | ... Q195: ='2'!Q194-'2'!$A194 -> -0.385
A196: 35.084 | B196: ='2'!B195-'2'!$A195 -> 0.71073684 | C196: ='2'!C195-'2'!$A195 -> -0.024 | D196: ='2'!D195-'2'!$A195 -> -0.084 | E196: ='2'!E195-'2'!$A195 -> -0.274 | F196: ='2'!F195-'2'!$A195 -> 0.166 | G196: ='2'!G195-'2'!$A195 -> -1.084 | H196: ='2'!H195-'2'!$A195 -> -0.644 | I196: ='2'!I195-'2'!$A195 -> -0.454 | ... Q196: ='2'!Q195-'2'!$A195 -> -0.454
A197: 35.084 | B197: ='2'!B196-'2'!$A196 -> 0.70547368 | C197: ='2'!C196-'2'!$A196 -> -0.024 | D197: ='2'!D196-'2'!$A196 -> -0.084 | E197: ='2'!E196-'2'!$A196 -> -0.204 | F197: ='2'!F196-'2'!$A196 -> 0.166 | G197: ='2'!G196-'2'!$A196 -> -1.024 | H197: ='2'!H196-'2'!$A196 -> -0.644 | I197: ='2'!I196-'2'!$A196 -> -0.454 | ... Q197: ='2'!Q196-'2'!$A196 -> -0.394
A198: 35.042 | B198: ='2'!B197-'2'!$A197 -> 0.74221053 | C198: ='2'!C197-'2'!$A197 -> 0.018 | D198: ='2'!D197-'2'!$A197 -> -0.042 | E198: ='2'!E197-'2'!$A197 -> -0.162 | F198: ='2'!F197-'2'!$A197 -> 0.208 | G198: ='2'!G197-'2'!$A197 -> -0.982 | H198: ='2'!H197-'2'!$A197 -> -0.602 | I198: ='2'!I197-'2'!$A197 -> -0.352 | ... Q198: ='2'!Q197-'2'!$A197 -> -0.352
A199: 35.037 | B199: ='2'!B198-'2'!$A198 -> 0.74194737 | C199: ='2'!C198-'2'!$A198 -> -0.037 | D199: ='2'!D198-'2'!$A198 -> -0.037 | E199: ='2'!E198-'2'!$A198 -> -0.227 | F199: ='2'!F198-'2'!$A198 -> 0.213 | G199: ='2'!G198-'2'!$A198 -> -0.977 | H199: ='2'!H198-'2'!$A198 -> -0.657 | I199: ='2'!I198-'2'!$A198 -> -0.407 | ... Q199: ='2'!Q198-'2'!$A198 -> -0.347
A200: 35.045 | B200: ='2'!B199-'2'!$A199 -> 0.72868421 | C200: ='2'!C199-'2'!$A199 -> 0.015 | D200: ='2'!D199-'2'!$A199 -> -0.045 | E200: ='2'!E199-'2'!$A199 -> -0.235 | F200: ='2'!F199-'2'!$A199 -> 0.145 | G200: ='2'!G199-'2'!$A199 -> -0.985 | H200: ='2'!H199-'2'!$A199 -> -0.665 | I200: ='2'!I199-'2'!$A199 -> -0.415 | ... Q200: ='2'!Q199-'2'!$A199 -> -0.415
A201: 35.048 | B201: ='2'!B200-'2'!$A200 -> 0.72042105 | C201: ='2'!C200-'2'!$A200 -> -0.048 | D201: ='2'!D200-'2'!$A200 -> -0.048 | E201: ='2'!E200-'2'!$A200 -> -0.238 | F201: ='2'!F200-'2'!$A200 -> 0.202 | G201: ='2'!G200-'2'!$A200 -> -1.048 | H201: ='2'!H200-'2'!$A200 -> -0.668 | I201: ='2'!I200-'2'!$A200 -> -0.488 | ... Q201: ='2'!Q200-'2'!$A200 -> -0.358
A202: 35.052 | B202: ='2'!B201-'2'!$A201 -> 0.71115789 | C202: ='2'!C201-'2'!$A201 -> 0.008 | D202: ='2'!D201-'2'!$A201 -> -0.052 | E202: ='2'!E201-'2'!$A201 -> -0.172 | F202: ='2'!F201-'2'!$A201 -> 0.138 | G202: ='2'!G201-'2'!$A201 -> -1.052 | H202: ='2'!H201-'2'!$A201 -> -0.672 | I202: ='2'!I201-'2'!$A201 -> -0.422 | ... Q202: ='2'!Q201-'2'!$A201 -> -0.422
A203: 35.045 | B203: ='2'!B202-'2'!$A202 -> 0.71289474 | C203: ='2'!C202-'2'!$A202 -> 0.015 | D203: ='2'!D202-'2'!$A202 -> -0.045 | E203: ='2'!E202-'2'!$A202 -> -0.235 | F203: ='2'!F202-'2'!$A202 -> 0.145 | G203: ='2'!G202-'2'!$A202 -> -1.045 | H203: ='2'!H202-'2'!$A202 -> -0.665 | I203: ='2'!I202-'2'!$A202 -> -0.415 | ... Q203: ='2'!Q202-'2'!$A202 -> -0.355
A204: 35.053 | B204: ='2'!B203-'2'!$A203 -> 0.69963158 | C204: ='2'!C203-'2'!$A203 -> 0.007 | D204: ='2'!D203-'2'!$A203 -> -0.053 | E204: ='2'!E203-'2'!$A203 -> -0.173 | F204: ='2'!F203-'2'!$A203 -> 0.137 | G204: ='2'!G203-'2'!$A203 -> -1.053 | H204: ='2'!H203-'2'!$A203 -> -0.673 | I204: ='2'!I203-'2'!$A203 -> -0.493 | ... Q204: ='2'!Q203-'2'!$A203 -> -0.423
A205: 35.032 | B205: ='2'!B204-'2'!$A204 -> 0.71536842 | C205: ='2'!C204-'2'!$A204 -> -0.032 | D205: ='2'!D204-'2'!$A204 -> -0.032 | E205: ='2'!E204-'2'!$A204 -> -0.222 | F205: ='2'!F204-'2'!$A204 -> 0.158 | G205: ='2'!G204-'2'!$A204 -> -1.032 | H205: ='2'!H204-'2'!$A204 -> -0.652 | I205: ='2'!I204-'2'!$A204 -> -0.402 | ... Q205: ='2'!Q204-'2'!$A204 -> -0.402
A206: 35.027 | B206: ='2'!B205-'2'!$A205 -> 0.71510526 | C206: ='2'!C205-'2'!$A205 -> -0.027 | D206: ='2'!D205-'2'!$A205 -> -0.087 | E206: ='2'!E205-'2'!$A205 -> -0.217 | F206: ='2'!F205-'2'!$A205 -> 0.163 | G206: ='2'!G205-'2'!$A205 -> -1.027 | H206: ='2'!H205-'2'!$A205 -> -0.587 | I206: ='2'!I205-'2'!$A205 -> -0.467 | ... Q206: ='2'!Q205-'2'!$A205 -> -0.397
... A214: 34.976 | B214: ='2'!B213-'2'!$A213 -> 0.724 | C214: ='2'!C213-'2'!$A213 -> -0.036 | D214: ='2'!D213-'2'!$A213 -> -0.096 | E214: ='2'!E213-'2'!$A213 -> -0.226 | F214: ='2'!F213-'2'!$A213 -> 0.154 | G214: ='2'!G213-'2'!$A213 -> -1.036 | H214: ='2'!H213-'2'!$A213 -> -0.596 | I214: ='2'!I213-'2'!$A213 -> -0.416 | ... Q214: ='2'!Q213-'2'!$A213 -> -0.346
A215: =AVERAGE(A195:A214) -> 35.0324 | B215: =AVERAGE(B195:B214) -> 0.7176 | C215: =AVERAGE(C195:C214) -> -0.0114 | D215: =AVERAGE(D195:D214) -> -0.0594 | E215: =AVERAGE(E195:E214) -> -0.2144 | F215: =AVERAGE(F195:F214) -> 0.1756 | G215: =AVERAGE(G195:G214) -> -1.0234 | H215: =AVERAGE(H195:H214) -> -0.6344 | ... Q215: =AVERAGE(Q195:Q214) -> -0.3844
A218: Referenz [°C] | B218: dT K-Type [K] | C218: dT DS18B20 in [K] | D218: dT DS18B20 in [K] | E218: dT DS18B20 in [K] | F218: dT DS18B20 in [K] | G218: dT DS18B20 in [K] | H218: dT DS18B20 in [K] | I218: dT DS18B20 in [K] | J218: dT DS18B20 in [K] | K218: dT DS18B20 in [K] | L218: dT DS18B20 in [K] | M218: dT DS18B20 in [K] | N218: dT DS18B20 in [K] | O218: dT DS18B20 in [K] | P218: dT DS18B20 in [K] | Q218: dT DS18B20 in [K]
A219: 40.161 | B219: ='2'!B218-'2'!$A218 -> 0.839 | C219: ='2'!C218-'2'!$A218 -> -0.031 | D219: ='2'!D218-'2'!$A218 -> -0.031 | E219: ='2'!E218-'2'!$A218 -> -0.221 | F219: ='2'!F218-'2'!$A218 -> 0.089 | G219: ='2'!G218-'2'!$A218 -> -1.101 | H219: ='2'!H218-'2'!$A218 -> -0.661 | I219: ='2'!I218-'2'!$A218 -> -0.411 | ... Q219: ='2'!Q218-'2'!$A218 -> -0.471
A220: 40.152 | B220: ='2'!B219-'2'!$A219 -> 0.84085714 | C220: ='2'!C219-'2'!$A219 -> -0.092 | D220: ='2'!D219-'2'!$A219 -> -0.092 | E220: ='2'!E219-'2'!$A219 -> -0.272 | F220: ='2'!F219-'2'!$A219 -> 0.038 | G220: ='2'!G219-'2'!$A219 -> -1.092 | H220: ='2'!H219-'2'!$A219 -> -0.652 | I220: ='2'!I219-'2'!$A219 -> -0.462 | ... Q220: ='2'!Q219-'2'!$A219 -> -0.462
A221: 40.148 | B221: ='2'!B220-'2'!$A220 -> 0.83771429 | C221: ='2'!C220-'2'!$A220 -> -0.088 | D221: ='2'!D220-'2'!$A220 -> -0.088 | E221: ='2'!E220-'2'!$A220 -> -0.268 | F221: ='2'!F220-'2'!$A220 -> 0.102 | G221: ='2'!G220-'2'!$A220 -> -1.088 | H221: ='2'!H220-'2'!$A220 -> -0.648 | I221: ='2'!I220-'2'!$A220 -> -0.458 | ... Q221: ='2'!Q220-'2'!$A220 -> -0.458
A222: 40.117 | B222: ='2'!B221-'2'!$A221 -> 0.86157143 | C222: ='2'!C221-'2'!$A221 -> -0.057 | D222: ='2'!D221-'2'!$A221 -> -0.057 | E222: ='2'!E221-'2'!$A221 -> -0.237 | F222: ='2'!F221-'2'!$A221 -> 0.073 | G222: ='2'!G221-'2'!$A221 -> -0.987 | H222: ='2'!H221-'2'!$A221 -> -0.557 | I222: ='2'!I221-'2'!$A221 -> -0.427 | ... Q222: ='2'!Q221-'2'!$A221 -> -0.427
A223: 40.137 | B223: ='2'!B222-'2'!$A222 -> 0.83442857 | C223: ='2'!C222-'2'!$A222 -> -0.007 | D223: ='2'!D222-'2'!$A222 -> -0.077 | E223: ='2'!E222-'2'!$A222 -> -0.257 | F223: ='2'!F222-'2'!$A222 -> 0.053 | G223: ='2'!G222-'2'!$A222 -> -1.077 | H223: ='2'!H222-'2'!$A222 -> -0.637 | I223: ='2'!I222-'2'!$A222 -> -0.447 | ... Q223: ='2'!Q222-'2'!$A222 -> -0.447
A224: 40.105 | B224: ='2'!B223-'2'!$A223 -> 0.85928571 | C224: ='2'!C223-'2'!$A223 -> -0.105 | D224: ='2'!D223-'2'!$A223 -> -0.045 | E224: ='2'!E223-'2'!$A223 -> -0.295 | F224: ='2'!F223-'2'!$A223 -> 0.085 | G224: ='2'!G223-'2'!$A223 -> -1.045 | H224: ='2'!H223-'2'!$A223 -> -0.605 | I224: ='2'!I223-'2'!$A223 -> -0.415 | ... Q224: ='2'!Q223-'2'!$A223 -> -0.475
A225: 40.1 | B225: ='2'!B224-'2'!$A224 -> 0.85714286 | C225: ='2'!C224-'2'!$A224 -> -0.04 | D225: ='2'!D224-'2'!$A224 -> -0.04 | E225: ='2'!E224-'2'!$A224 -> -0.29 | F225: ='2'!F224-'2'!$A224 -> 0.09 | G225: ='2'!G224-'2'!$A224 -> -1.04 | H225: ='2'!H224-'2'!$A224 -> -0.6 | I225: ='2'!I224-'2'!$A224 -> -0.41 | ... Q225: ='2'!Q224-'2'!$A224 -> -0.47
A226: 40.105 | B226: ='2'!B225-'2'!$A225 -> 0.845 | C226: ='2'!C225-'2'!$A225 -> -0.045 | D226: ='2'!D225-'2'!$A225 -> -0.045 | E226: ='2'!E225-'2'!$A225 -> -0.295 | F226: ='2'!F225-'2'!$A225 -> 0.085 | G226: ='2'!G225-'2'!$A225 -> -1.045 | H226: ='2'!H225-'2'!$A225 -> -0.605 | I226: ='2'!I225-'2'!$A225 -> -0.415 | ... Q226: ='2'!Q225-'2'!$A225 -> -0.475
A227: 40.092 | B227: ='2'!B226-'2'!$A226 -> 0.85085714 | C227: ='2'!C226-'2'!$A226 -> -0.092 | D227: ='2'!D226-'2'!$A226 -> -0.032 | E227: ='2'!E226-'2'!$A226 -> -0.282 | F227: ='2'!F226-'2'!$A226 -> 0.098 | G227: ='2'!G226-'2'!$A226 -> -1.032 | H227: ='2'!H226-'2'!$A226 -> -0.592 | I227: ='2'!I226-'2'!$A226 -> -0.402 | ... Q227: ='2'!Q226-'2'!$A226 -> -0.462
...

Sheet Graph 2
A1: Referenz [°C] | B1: dT K-Type [K] | C1: dT DS18B20 in [K] | D1: dT DS18B20 in [K] | E1: dT DS18B20 in [K] | F1: dT DS18B20 in [K] | G1: dT DS18B20 in [K] | H1: dT DS18B20 in [K] | I1: dT DS18B20 in [K] | J1: dT DS18B20 in [K] | K1: dT DS18B20 in [K] | L1: dT DS18B20 in [K] | M1: dT DS18B20 in [K] | N1: dT DS18B20 in [K] | O1: dT DS18B20 in [K] | P1: dT DS18B20 in [K] | Q1: dT DS18B20 in [K]
A2: ='Bad dT'!A23 -> 0.20209524 | B2: ='Bad dT'!B23 -> 0.39790476 | C2: ='Bad dT'!C23 -> 0.7107619 | D2: ='Bad dT'!D23 -> 0.39171429 | E2: ='Bad dT'!E23 -> 0.29504762 | F2: ='Bad dT'!F23 -> 1.0850476 | G2: ='Bad dT'!G23 -> -0.36209524 | H2: ='Bad dT'!H23 -> 0.63838095 | ... Q2: ='Bad dT'!Q23 -> 0.43219048
A3: ='2dt'!A17 -> 5.1372 | B3: 0.4 | C3: ='2dt'!C17 -> 0.3708 | D3: ='2dt'!D17 -> 0.1728 | E3: ='2dt'!E17 -> 0.0081333333 | F3: ='2dt'!F17 -> 0.8308 | G3: ='2dt'!G17 -> -0.9112 | H3: ='2dt'!H17 -> -0.3472 | I3: ='2dt'!I17 -> -0.2492 | J3: ='2dt'!J17 -> -0.3512 | ... Q3: ='2dt'!Q17 -> 0.0848
A4: ='2dt'!A62 -> 8.787275 | B4: ='2dt'!B62 -> 0.262725 | C4: ='2dt'!C62 -> 0.434225 | D4: ='2dt'!D62 -> 0.134725 | E4: ='2dt'!E62 -> 0.133225 | F4: ='2dt'!F62 -> 0.860975 | G4: ='2dt'!G62 -> -0.670775 | H4: ='2dt'!H62 -> -0.165775 | ... Q4: ='2dt'!Q62 -> 0.003975
A5: ='2dt'!A109 -> 22.904 | B5: ='2dt'!B109 -> 0.596 | C5: ='2dt'!C109 -> 0.28972093 | D5: ='2dt'!D109 -> 0.079255814 | E5: ='2dt'!E109 -> -0.036325581 | F5: ='2dt'!F109 -> 0.46088372 | G5: ='2dt'!G109 -> -0.9012093 | H5: ='2dt'!H109 -> -0.36213953 | ... Q5: ='2dt'!Q109 -> -0.11493023
A6: ='2dt'!A153 -> 27.02885 | B6: ='2dt'!B153 -> 0.57115 | C6: ='2dt'!C153 -> 0.02065 | D6: ='2dt'!D153 -> 0.04765 | E6: ='2dt'!E153 -> -0.11335 | F6: ='2dt'!F153 -> 0.34265 | G6: ='2dt'!G153 -> -0.89085 | H6: ='2dt'!H153 -> -0.4326 | ... Q6: ='2dt'!Q153 -> -0.27135
A7: ='2dt'!A191 -> 31.0345 | B7: ='2dt'!B191 -> 0.7155 | C7: ='2dt'!C191 -> 0.0060882353 | D7: ='2dt'!D191 -> -0.023911765 | E7: ='2dt'!E191 -> -0.21567647 | F7: ='2dt'!F191 -> 0.22961765 | G7: ='2dt'!G191 -> -1.0559706 | H7: ='2dt'!H191 -> -0.57714706 | ... Q7: ='2dt'!Q191 -> -0.33920588
A8: ='2dt'!A215 -> 35.0324 | B8: ='2dt'!B215 -> 0.7176 | C8: ='2dt'!C215 -> -0.0114 | D8: ='2dt'!D215 -> -0.0594 | E8: ='2dt'!E215 -> -0.2144 | F8: ='2dt'!F215 -> 0.1756 | G8: ='2dt'!G215 -> -1.0234 | H8: ='2dt'!H215 -> -0.6344 | ... Q8: ='2dt'!Q215 -> -0.3844
A9: ='2dt'!A248 -> 40.04331 | B9: ='2dt'!B248 -> 0.85668966 | C9: ='2dt'!C248 -> -0.04262069 | D9: ='2dt'!D248 -> -0.057448276 | E9: ='2dt'!E248 -> -0.2502069 | F9: ='2dt'!F248 -> 0.085310345 | G9: ='2dt'!G248 -> -1.0326207 | H9: ='2dt'!H248 -> -0.58882759 | ... Q9: ='2dt'!Q248 -> -0.44055172
A10: ='2dt'!A269 -> 49.935471 | B10: ='2dt'!B269 -> 0.76452941 | C10: ='2dt'!C269 -> -0.084882353 | D10: ='2dt'!D269 -> -0.091941176 | E10: ='2dt'!E269 -> -0.29429412 | F10: ='2dt'!F269 -> -0.036647059 | G10: ='2dt'!G269 -> -1.0848824 | H10: ='2dt'!H269 -> -0.60311765 | ... Q10: ='2dt'!Q269 -> -0.519
A11: ='Bad dT'!A33 -> 98.834 | B11: ='Bad dT'!B33 -> 1.366 | C11: ='Bad dT'!C33 -> -0.544 | D11: ='Bad dT'!D33 -> -0.284 | E11: ='Bad dT'!E33 -> -0.534 | F11: ='Bad dT'!F33 -> -0.65733333 | G11: ='Bad dT'!G33 -> -1.6573333 | H11: ='Bad dT'!H33 -> -0.314 | ... Q11: ='Bad dT'!Q33 -> -0.784

Sheet Bad
A1: Referenz [°C] | B1: Theoretisch [°C] | C1: T K-Type [°C] | D1: T DS18B20 in [°C] | E1: T DS18B20 in [°C] | F1: T DS18B20 in [°C] | G1: T DS18B20 in [°C] | H1: T DS18B20 in [°C] | I1: T DS18B20 in [°C] | J1: T DS18B20 in [°C] | K1: T DS18B20 in [°C] | L1: T DS18B20 in [°C] | M1: T DS18B20 in [°C] | N1: T DS18B20 in [°C] | O1: T DS18B20 in [°C] | P1: T DS18B20 in [°C] | Q1: T DS18B20 in [°C] | R1: T DS18B20 in [°C]
A2: 0.198 | B2: 0 | C2: 0.6 | D2: 0.81 | E2: 0.56 | F2: 0.44 | G2: 1.31 | H2: -0.25 | I2: 0.75 | J2: 0.25 | K2: 0 | L2: 1 | M2: 1 | N2: 0.69 | O2: 1.06 | P2: 0.37 | Q2: 0.25 | R2: 0.56
A3: 0.196 | B3: 0 | C3: 0.6 | D3: 0.88 | E3: 0.56 | F3: 0.44 | G3: 1.31 | H3: -0.31 | I3: 0.75 | J3: 0.25 | K3: -0.06 | L3: 1 | M3: 1 | N3: 0.75 | O3: 1.06 | P3: 0.37 | Q3: 0.19 | R3: 0.56
A4: 0.196 | B4: 0 | C4: 0.6 | D4: 0.81 | E4: 0.56 | F4: 0.44 | G4: 1.25 | H4: -0.25 | I4: 0.75 | J4: 0.25 | K4: -0.06 | L4: 1 | M4: 1 | N4: 0.75 | O4: 1.06 | P4: 0.37 | Q4: 0.25 | R4: 0.63
A5: 0.196 | B5: 0 | C5: 0.6 | D5: 0.88 | E5: 0.5 | F5: 0.44 | G5: 1.25 | H5: -0.25 | I5: 0.75 | J5: 0.31 | K5: 0 | L5: 1 | M5: 1 | N5: 0.75 | O5: 1.06 | P5: 0.37 | Q5: 0.19 | R5: 0.63
A6: 0.196 | B6: 0 | C6: 0.6 | D6: 0.81 | E6: 0.56 | F6: 0.5 | G6: 1.25 | H6: -0.19 | I6: 0.81 | J6: 0.31 | K6: -0.06 | L6: 1 | M6: 1 | N6: 0.75 | O6: 1.06 | P6: 0.44 | Q6: 0.25 | R6: 0.63
A7: 0.197 | B7: 0 | C7: 0.6 | D7: 0.88 | E7: 0.56 | F7: 0.44 | G7: 1.25 | H7: -0.19 | I7: 0.81 | J7: 0.31 | K7: -0.06 | L7: 1.06 | M7: 1 | N7: 0.75 | O7: 1.06 | P7: 0.44 | Q7: 0.25 | R7: 0.56
A8: 0.198 | B8: 0 | C8: 0.6 | D8: 0.94 | E8: 0.56 | F8: 0.5 | G8: 1.25 | H8: -0.19 | I8: 0.81 | J8: 0.37 | K8: 0 | L8: 1 | M8: 1 | N8: 0.69 | O8: 1.12 | P8: 0.44 | Q8: 0.25 | R8: 0.63
A9: 0.199 | B9: 0 | C9: 0.6 | D9: 0.94 | E9: 0.63 | F9: 0.44 | G9: 1.25 | H9: -0.19 | I9: 0.81 | J9: 0.31 | K9: -0.06 | L9: 1 | M9: 1 | N9: 0.69 | O9: 1.12 | P9: 0.44 | Q9: 0.25 | R9: 0.63
A10: 0.2 | B10: 0 | C10: 0.6 | D10: 0.94 | E10: 0.63 | F10: 0.44 | G10: 1.31 | H10: -0.19 | I10: 0.81 | J10: 0.31 | K10: 0 | L10: 1 | M10: 1 | N10: 0.75 | O10: 1.12 | P10: 0.44 | Q10: 0.25 | R10: 0.63
A11: 0.201 | B11: 0 | C11: 0.6 | D11: 0.88 | E11: 0.56 | F11: 0.5 | G11: 1.25 | H11: -0.19 | I11: 0.81 | J11: 0.31 | K11: -0.06 | L11: 1 | M11: 1 | N11: 0.69 | O11: 1.19 | P11: 0.44 | Q11: 0.31 | R11: 0.63
A12: 0.202 | B12: 0 | C12: 0.6 | D12: 0.94 | E12: 0.56 | F12: 0.5 | G12: 1.31 | H12: -0.19 | I12: 0.81 | J12: 0.31 | K12: 0 | L12: 1.06 | M12: 1 | N12: 0.69 | O12: 1.19 | P12: 0.44 | Q12: 0.31 | R12: 0.63
A13: 0.203 | B13: 0 | C13: 0.6 | D13: 0.94 | E13: 0.56 | F13: 0.5 | G13: 1.31 | H13: -0.19 | I13: 0.88 | J13: 0.37 | K13: 0 | L13: 1.06 | M13: 1 | N13: 0.75 | O13: 1.19 | P13: 0.44 | Q13: 0.31 | R13: 0.63
... A22: 0.211 | B22: 0 | C22: 0.6 | D22: 0.94 | E22: 0.63 | F22: 0.56 | G22: 1.37 | H22: -0.06 | I22: 0.94 | J22: 0.37 | K22: 0.06 | L22: 1.12 | M22: 1.06 | N22: 0.75 | O22: 1.25 | P22: 0.5 | Q22: 0.25 | R22: 0.69
A26: Referenz [°C] | B26: Theoretisch [°C] | C26: T K-Type [°C] | D26: T DS18B20 in [°C] | E26: T DS18B20 in [°C] | F26: T DS18B20 in [°C] | G26: T DS18B20 in [°C] | H26: T DS18B20 in [°C] | I26: T DS18B20 in [°C] | J26: T DS18B20 in [°C] | K26: T DS18B20 in [°C] | L26: T DS18B20 in [°C] | M26: T DS18B20 in [°C] | N26: T DS18B20 in [°C] | O26: T DS18B20 in [°C] | P26: T DS18B20 in [°C] | Q26: T DS18B20 in [°C] | R26: T DS18B20 in [°C]
A27: 98.828 | B27: 99.06 | C27: 100.2 | D27: 98.19 | E27: 98.5 | F27: 98.25 | G27: 98.12 | H27: 97.12 | I27: 98.44 | J27: 98.12 | K27: 97.69 | L27: 98.12 | M27: 98.75 | N27: 98.81 | O27: 98.5 | P27: 99.12 | Q27: 97.87 | R27: 98
A28: 98.833 | B28: 99.06 | C28: 100.2 | D28: 98.25 | E28: 98.56 | F28: 98.31 | G28: 98.12 | H28: 97.12 | I28: 98.5 | J28: 98.19 | K28: 97.69 | L28: 98.19 | M28: 98.75 | N28: 98.87 | O28: 98.5 | P28: 99.19 | Q28: 97.87 | R28: 98.06
A29: 98.834 | B29: 99.06 | C29: 100.2 | D29: 98.31 | E29: 98.56 | F29: 98.31 | G29: 98.19 | H29: 97.19 | I29: 98.5 | J29: 98.19 | K29: 97.75 | L29: 98.25 | M29: 98.81 | N29: 98.87 | O29: 98.5 | P29: 99.19 | Q29: 97.87 | R29: 98.06
A30: 98.834 | B30: 99.06 | C30: 100.2 | D30: 98.31 | E30: 98.56 | F30: 98.31 | G30: 98.19 | H30: 97.19 | I30: 98.5 | J30: 98.19 | K30: 97.75 | L30: 98.25 | M30: 98.81 | N30: 98.87 | O30: 98.5 | P30: 99.19 | Q30: 97.87 | R30: 98.06
A31: 98.837 | B31: 99.06 | C31: 100.2 | D31: 98.31 | E31: 98.56 | F31: 98.31 | G31: 98.19 | H31: 97.19 | I31: 98.56 | J31: 98.19 | K31: 97.75 | L31: 98.25 | M31: 98.81 | N31: 98.87 | O31: 98.56 | P31: 99.19 | Q31: 97.94 | R31: 98.06
A32: 98.838 | B32: 99.06 | C32: 100.2 | D32: 98.37 | E32: 98.56 | F32: 98.31 | G32: 98.25 | H32: 97.25 | I32: 98.62 | J32: 98.19 | K32: 97.75 | L32: 98.31 | M32: 98.81 | N32: 98.87 | O32: 98.56 | P32: 99.25 | Q32: 97.94 | R32: 98.06

Sheet Bad dT
A1: Referenz [°C] | B1: dT K-Type [K] | C1: dT DS18B20 in [K] | D1: dT DS18B20 in [K] | E1: dT DS18B20 in [K] | F1: dT DS18B20 in [K] | G1: dT DS18B20 in [K] | H1: dT DS18B20 in [K] | I1: dT DS18B20 in [K] | J1: dT DS18B20 in [K] | K1: dT DS18B20 in [K] | L1: dT DS18B20 in [K] | M1: dT DS18B20 in [K] | N1: dT DS18B20 in [K] | O1: dT DS18B20 in [K] | P1: dT DS18B20 in [K] | Q1: dT DS18B20 in [K]
A2: =Bad!A2 -> 0.198 | B2: =Bad!C2-Bad!$A2 -> 0.402 | C2: =Bad!D2-Bad!$A2 -> 0.612 | D2: =Bad!E2-Bad!$A2 -> 0.362 | E2: =Bad!F2-Bad!$A2 -> 0.242 | F2: =Bad!G2-Bad!$A2 -> 1.112 | G2: =Bad!H2-Bad!$A2 -> -0.448 | H2: =Bad!I2-Bad!$A2 -> 0.552 | I2: =Bad!J2-Bad!$A2 -> 0.052 | ... Q2: =Bad!R2-Bad!$A2 -> 0.362
A3: =Bad!A3 -> 0.196 | B3: =Bad!C3-Bad!$A3 -> 0.404 | C3: =Bad!D3-Bad!$A3 -> 0.684 | D3: =Bad!E3-Bad!$A3 -> 0.364 | E3: =Bad!F3-Bad!$A3 -> 0.244 | F3: =Bad!G3-Bad!$A3 -> 1.114 | G3: =Bad!H3-Bad!$A3 -> -0.506 | H3: =Bad!I3-Bad!$A3 -> 0.554 | I3: =Bad!J3-Bad!$A3 -> 0.054 | ... Q3: =Bad!R3-Bad!$A3 -> 0.364
A4: =Bad!A4 -> 0.196 | B4: =Bad!C4-Bad!$A4 -> 0.404 | C4: =Bad!D4-Bad!$A4 -> 0.614 | D4: =Bad!E4-Bad!$A4 -> 0.364 | E4: =Bad!F4-Bad!$A4 -> 0.244 | F4: =Bad!G4-Bad!$A4 -> 1.054 | G4: =Bad!H4-Bad!$A4 -> -0.446 | H4: =Bad!I4-Bad!$A4 -> 0.554 | I4: =Bad!J4-Bad!$A4 -> 0.054 | ... Q4: =Bad!R4-Bad!$A4 -> 0.434
A5: =Bad!A5 -> 0.196 | B5: =Bad!C5-Bad!$A5 -> 0.404 | C5: =Bad!D5-Bad!$A5 -> 0.684 | D5: =Bad!E5-Bad!$A5 -> 0.304 | E5: =Bad!F5-Bad!$A5 -> 0.244 | F5: =Bad!G5-Bad!$A5 -> 1.054 | G5: =Bad!H5-Bad!$A5 -> -0.446 | H5: =Bad!I5-Bad!$A5 -> 0.554 | I5: =Bad!J5-Bad!$A5 -> 0.114 | ... Q5: =Bad!R5-Bad!$A5 -> 0.434
A6: =Bad!A6 -> 0.196 | B6: =Bad!C6-Bad!$A6 -> 0.404 | C6: =Bad!D6-Bad!$A6 -> 0.614 | D6: =Bad!E6-Bad!$A6 -> 0.364 | E6: =Bad!F6-Bad!$A6 -> 0.304 | F6: =Bad!G6-Bad!$A6 -> 1.054 | G6: =Bad!H6-Bad!$A6 -> -0.386 | H6: =Bad!I6-Bad!$A6 -> 0.614 | I6: =Bad!J6-Bad!$A6 -> 0.114 | ... Q6: =Bad!R6-Bad!$A6 -> 0.434
A7: =Bad!A7 -> 0.197 | B7: =Bad!C7-Bad!$A7 -> 0.403 | C7: =Bad!D7-Bad!$A7 -> 0.683 | D7: =Bad!E7-Bad!$A7 -> 0.363 | E7: =Bad!F7-Bad!$A7 -> 0.243 | F7: =Bad!G7-Bad!$A7 -> 1.053 | G7: =Bad!H7-Bad!$A7 -> -0.387 | H7: =Bad!I7-Bad!$A7 -> 0.613 | I7: =Bad!J7-Bad!$A7 -> 0.113 | ... Q7: =Bad!R7-Bad!$A7 -> 0.363
A8: =Bad!A8 -> 0.198 | B8: =Bad!C8-Bad!$A8 -> 0.402 | C8: =Bad!D8-Bad!$A8 -> 0.742 | D8: =Bad!E8-Bad!$A8 -> 0.362 | E8: =Bad!F8-Bad!$A8 -> 0.302 | F8: =Bad!G8-Bad!$A8 -> 1.052 | G8: =Bad!H8-Bad!$A8 -> -0.388 | H8: =Bad!I8-Bad!$A8 -> 0.612 | I8: =Bad!J8-Bad!$A8 -> 0.172 | ... Q8: =Bad!R8-Bad!$A8 -> 0.432
A9: =Bad!A9 -> 0.199 | B9: =Bad!C9-Bad!$A9 -> 0.401 | C9: =Bad!D9-Bad!$A9 -> 0.741 | D9: =Bad!E9-Bad!$A9 -> 0.431 | E9: =Bad!F9-Bad!$A9 -> 0.241 | F9: =Bad!G9-Bad!$A9 -> 1.051 | G9: =Bad!H9-Bad!$A9 -> -0.389 | H9: =Bad!I9-Bad!$A9 -> 0.611 | I9: =Bad!J9-Bad!$A9 -> 0.111 | ... Q9: =Bad!R9-Bad!$A9 -> 0.431
A10: =Bad!A10 -> 0.2 | B10: =Bad!C10-Bad!$A10 -> 0.4 | C10: =Bad!D10-Bad!$A10 -> 0.74 | D10: =Bad!E10-Bad!$A10 -> 0.43 | E10: =Bad!F10-Bad!$A10 -> 0.24 | F10: =Bad!G10-Bad!$A10 -> 1.11 | G10: =Bad!H10-Bad!$A10 -> -0.39 | H10: =Bad!I10-Bad!$A10 -> 0.61 | I10: =Bad!J10-Bad!$A10 -> 0.11 | ... Q10: =Bad!R10-Bad!$A10 -> 0.43
A11: =Bad!A11 -> 0.201 | B11: =Bad!C11-Bad!$A11 -> 0.399 | C11: =Bad!D11-Bad!$A11 -> 0.679 | D11: =Bad!E11-Bad!$A11 -> 0.359 | E11: =Bad!F11-Bad!$A11 -> 0.299 | F11: =Bad!G11-Bad!$A11 -> 1.049 | G11: =Bad!H11-Bad!$A11 -> -0.391 | H11: =Bad!I11-Bad!$A11 -> 0.609 | I11: =Bad!J11-Bad!$A11 -> 0.109 | ... Q11: =Bad!R11-Bad!$A11 -> 0.429
A12: =Bad!A12 -> 0.202 | B12: =Bad!C12-Bad!$A12 -> 0.398 | C12: =Bad!D12-Bad!$A12 -> 0.738 | D12: =Bad!E12-Bad!$A12 -> 0.358 | E12: =Bad!F12-Bad!$A12 -> 0.298 | F12: =Bad!G12-Bad!$A12 -> 1.108 | G12: =Bad!H12-Bad!$A12 -> -0.392 | H12: =Bad!I12-Bad!$A12 -> 0.608 | I12: =Bad!J12-Bad!$A12 -> 0.108 | ... Q12: =Bad!R12-Bad!$A12 -> 0.428
A13: =Bad!A13 -> 0.203 | B13: =Bad!C13-Bad!$A13 -> 0.397 | C13: =Bad!D13-Bad!$A13 -> 0.737 | D13: =Bad!E13-Bad!$A13 -> 0.357 | E13: =Bad!F13-Bad!$A13 -> 0.297 | F13: =Bad!G13-Bad!$A13 -> 1.107 | G13: =Bad!H13-Bad!$A13 -> -0.393 | H13: =Bad!I13-Bad!$A13 -> 0.677 | I13: =Bad!J13-Bad!$A13 -> 0.167 | ... Q13: =Bad!R13-Bad!$A13 -> 0.427
... A22: =Bad!A22 -> 0.211 | B22: =Bad!C22-Bad!$A22 -> 0.389 | C22: =Bad!D22-Bad!$A22 -> 0.729 | D22: =Bad!E22-Bad!$A22 -> 0.419 | E22: =Bad!F22-Bad!$A22 -> 0.349 | F22: =Bad!G22-Bad!$A22 -> 1.159 | G22: =Bad!H22-Bad!$A22 -> -0.271 | H22: =Bad!I22-Bad!$A22 -> 0.729 | I22: =Bad!J22-Bad!$A22 -> 0.159 | ... Q22: =Bad!R22-Bad!$A22 -> 0.479
A23: =AVERAGE(A2:A22) -> 0.20209524 | B23: =AVERAGE(B2:B22) -> 0.39790476 | C23: =AVERAGE(C2:C22) -> 0.7107619 | D23: =AVERAGE(D2:D22) -> 0.39171429 | E23: =AVERAGE(E2:E22) -> 0.29504762 | F23: =AVERAGE(F2:F22) -> 1.0850476 | G23: =AVERAGE(G2:G22) -> -0.36209524 | H23: =AVERAGE(H2:H22) -> 0.63838095 | ... Q23: =AVERAGE(Q2:Q22) -> 0.43219048
A26: =Bad!A26 -> Referenz [°C] | B26: dT K-Type [K] | C26: dT DS18B20 in [K] | D26: dT DS18B20 in [K] | E26: dT DS18B20 in [K] | F26: dT DS18B20 in [K] | G26: dT DS18B20 in [K] | H26: dT DS18B20 in [K] | I26: dT DS18B20 in [K] | J26: dT DS18B20 in [K] | K26: dT DS18B20 in [K] | L26: dT DS18B20 in [K] | M26: dT DS18B20 in [K] | N26: dT DS18B20 in [K] | O26: dT DS18B20 in [K] | P26: dT DS18B20 in [K] | Q26: dT DS18B20 in [K]
A27: =Bad!A27 -> 98.828 | B27: =Bad!C27-Bad!$A27 -> 1.372 | C27: =Bad!D27-Bad!$A27 -> -0.638 | D27: =Bad!E27-Bad!$A27 -> -0.328 | E27: =Bad!F27-Bad!$A27 -> -0.578 | F27: =Bad!G27-Bad!$A27 -> -0.708 | G27: =Bad!H27-Bad!$A27 -> -1.708 | H27: =Bad!I27-Bad!$A27 -> -0.388 | I27: =Bad!J27-Bad!$A27 -> -0.708 | ... Q27: =Bad!R27-Bad!$A27 -> -0.828
A28: =Bad!A28 -> 98.833 | B28: =Bad!C28-Bad!$A28 -> 1.367 | C28: =Bad!D28-Bad!$A28 -> -0.583 | D28: =Bad!E28-Bad!$A28 -> -0.273 | E28: =Bad!F28-Bad!$A28 -> -0.523 | F28: =Bad!G28-Bad!$A28 -> -0.713 | G28: =Bad!H28-Bad!$A28 -> -1.713 | H28: =Bad!I28-Bad!$A28 -> -0.333 | I28: =Bad!J28-Bad!$A28 -> -0.643 | ... Q28: =Bad!R28-Bad!$A28 -> -0.773
A29: =Bad!A29 -> 98.834 | B29: =Bad!C29-Bad!$A29 -> 1.366 | C29: =Bad!D29-Bad!$A29 -> -0.524 | D29: =Bad!E29-Bad!$A29 -> -0.274 | E29: =Bad!F29-Bad!$A29 -> -0.524 | F29: =Bad!G29-Bad!$A29 -> -0.644 | G29: =Bad!H29-Bad!$A29 -> -1.644 | H29: =Bad!I29-Bad!$A29 -> -0.334 | I29: =Bad!J29-Bad!$A29 -> -0.644 | ... Q29: =Bad!R29-Bad!$A29 -> -0.774
A30: =Bad!A30 -> 98.834 | B30: =Bad!C30-Bad!$A30 -> 1.366 | C30: =Bad!D30-Bad!$A30 -> -0.524 | D30: =Bad!E30-Bad!$A30 -> -0.274 | E30: =Bad!F30-Bad!$A30 -> -0.524 | F30: =Bad!G30-Bad!$A30 -> -0.644 | G30: =Bad!H30-Bad!$A30 -> -1.644 | H30: =Bad!I30-Bad!$A30 -> -0.334 | I30: =Bad!J30-Bad!$A30 -> -0.644 | ... Q30: =Bad!R30-Bad!$A30 -> -0.774
A31: =Bad!A31 -> 98.837 | B31: =Bad!C31-Bad!$A31 -> 1.363 | C31: =Bad!D31-Bad!$A31 -> -0.527 | D31: =Bad!E31-Bad!$A31 -> -0.277 | E31: =Bad!F31-Bad!$A31 -> -0.527 | F31: =Bad!G31-Bad!$A31 -> -0.647 | G31: =Bad!H31-Bad!$A31 -> -1.647 | H31: =Bad!I31-Bad!$A31 -> -0.277 | I31: =Bad!J31-Bad!$A31 -> -0.647 | ... Q31: =Bad!R31-Bad!$A31 -> -0.777
A32: =Bad!A32 -> 98.838 | B32: =Bad!C32-Bad!$A32 -> 1.362 | C32: =Bad!D32-Bad!$A32 -> -0.468 | D32: =Bad!E32-Bad!$A32 -> -0.278 | E32: =Bad!F32-Bad!$A32 -> -0.528 | F32: =Bad!G32-Bad!$A32 -> -0.588 | G32: =Bad!H32-Bad!$A32 -> -1.588 | H32: =Bad!I32-Bad!$A32 -> -0.218 | I32: =Bad!J32-Bad!$A32 -> -0.648 | ... Q32: =Bad!R32-Bad!$A32 -> -0.778
A33: =AVERAGE(A27:A32) -> 98.834 | B33: =AVERAGE(B27:B32) -> 1.366 | C33: =AVERAGE(C27:C32) -> -0.544 | D33: =AVERAGE(D27:D32) -> -0.284 | E33: =AVERAGE(E27:E32) -> -0.534 | F33: =AVERAGE(F27:F32) -> -0.65733333 | G33: =AVERAGE(G27:G32) -> -1.6573333 | H33: =AVERAGE(H27:H32) -> -0.314 | ... Q33: =AVERAGE(Q27:Q32) -> -0.784
