Workbook

Sheet Messaufbau

Sheet 1
A1: Referenz [°C] | B1: T in [°C] | C1: T in [°C] | D1: T in [°C] | E1: T in [°C] | F1: T in [°C] | G1: T in [°C] | H1: T in [°C] | I1: T in [°C] | J1: T in [°C] | K1: T in [°C] | L1: T in [°C] | M1: T in [°C] | N1: T in [°C] | O1: T in [°C] | P1: T in [°C]
A2: 5.135 | B2: 5.5 | C2: 5.31 | D2: 5.13 | E2: 5.94 | F2: 4.19 | G2: 4.75 | H2: 4.88 | I2: 4.75 | J2: 5.31 | K2: 5.63 | L2: 5.5 | M2: 5.31 | N2: 5.13 | O2: 5.06 | P2: 5.19
A3: 5.134 | B3: 5.5 | C3: 5.31 | D3: 5.13 | E3: 5.94 | F3: 4.19 | G3: 4.81 | H3: 4.88 | I3: 4.75 | J3: 5.31 | K3: 5.69 | L3: 5.44 | M3: 5.25 | N3: 5.13 | O3: 5.13 | P3: 5.19
A4: 5.133 | B4: 5.5 | C4: 5.31 | D4: 5.13 | E4: 5.94 | F4: 4.19 | G4: 4.81 | H4: 4.94 | I4: 4.81 | J4: 5.31 | K4: 5.75 | L4: 5.5 | M4: 5.31 | N4: 5.13 | O4: 5.06 | P4: 5.19
A5: 5.138 | B5: 5.5 | C5: 5.31 | D5: 5.19 | E5: 6 | F5: 4.19 | G5: 4.81 | H5: 4.88 | I5: 4.81 | J5: 5.31 | K5: 5.69 | L5: 5.5 | M5: 5.31 | N5: 5.13 | O5: 5.06 | P5: 5.19
A6: 5.138 | B6: 5.5 | C6: 5.31 | D6: 5.19 | E6: 5.94 | F6: 4.19 | G6: 4.81 | H6: 4.88 | I6: 4.81 | J6: 5.31 | K6: 5.69 | L6: 5.5 | M6: 5.31 | N6: 5.19 | O6: 5.06 | P6: 5.25
A7: 5.138 | B7: 5.5 | C7: 5.31 | D7: 5.06 | E7: 5.94 | F7: 4.25 | G7: 4.75 | H7: 4.88 | I7: 4.81 | J7: 5.31 | K7: 5.69 | L7: 5.44 | M7: 5.25 | N7: 5.13 | O7: 5.06 | P7: 5.25
A8: 5.138 | B8: 5.56 | C8: 5.31 | D8: 5.13 | E8: 6 | F8: 4.19 | G8: 4.81 | H8: 4.88 | I8: 4.81 | J8: 5.38 | K8: 5.69 | L8: 5.44 | M8: 5.25 | N8: 5.19 | O8: 5.13 | P8: 5.19
A9: 5.138 | B9: 5.5 | C9: 5.31 | D9: 5.13 | E9: 6 | F9: 4.25 | G9: 4.75 | H9: 4.88 | I9: 4.81 | J9: 5.38 | K9: 5.69 | L9: 5.44 | M9: 5.31 | N9: 5.13 | O9: 5.06 | P9: 5.25
A10: 5.138 | B10: 5.56 | C10: 5.31 | D10: 5.13 | E10: 6 | F10: 4.25 | G10: 4.81 | H10: 4.88 | I10: 4.75 | J10: 5.31 | K10: 5.69 | L10: 5.5 | M10: 5.31 | N10: 5.19 | O10: 5.13 | P10: 5.25
A11: 5.138 | B11: 5.5 | C11: 5.31 | D11: 5.13 | E11: 5.94 | F11: 4.25 | G11: 4.75 | H11: 4.88 | I11: 4.81 | J11: 5.31 | K11: 5.63 | L11: 5.44 | M11: 5.31 | N11: 5.19 | O11: 5.13 | P11: 5.25
A12: 5.138 | B12: 5.5 | C12: 5.31 | D12: 5.19 | E12: 6 | F12: 4.25 | G12: 4.81 | H12: 4.88 | I12: 4.75 | J12: 5.31 | K12: 5.69 | L12: 5.5 | M12: 5.31 | N12: 5.19 | O12: 5.06 | P12: 5.19
A13: 5.138 | B13: 5.56 | C13: 5.31 | D13: 5.13 | E13: 5.94 | F13: 4.25 | G13: 4.81 | H13: 4.94 | I13: 4.75 | J13: 5.31 | K13: 5.69 | L13: 5.5 | M13: 5.31 | N13: 5.13 | O13: 5.13 | P13: 5.25
... A16: 5.138 | B16: 5.44 | C16: 5.31 | D16: 5.19 | E16: 6 | F16: 4.25 | G16: 4.81 | H16: 4.88 | I16: 4.81 | J16: 5.31 | K16: 5.69 | L16: 5.5 | M16: 5.38 | N16: 5.13 | O16: 5.13 | P16: 5.19
A19: Referenz [°C] | B19: T in [°C] | C19: T in [°C] | D19: T in [°C] | E19: T in [°C] | F19: T in [°C] | G19: T in [°C] | H19: T in [°C] | I19: T in [°C] | J19: T in [°C] | K19: T in [°C] | L19: T in [°C] | M19: T in [°C] | N19: T in [°C] | O19: T in [°C] | P19: T in [°C]
A20: 22.904 | B20: 23.19 | C20: 23 | D20: 22.87 | E20: 23.37 | F20: 22 | G20: 22.56 | H20: 22.62 | I20: 22.75 | J20: 22.75 | K20: 23.06 | L20: 23.19 | M20: 22.81 | N20: 22.94 | O20: 23 | P20: 22.75
A21: 22.904 | B21: 23.12 | C21: 23 | D21: 22.87 | E21: 23.37 | F21: 22 | G21: 22.56 | H21: 22.62 | I21: 22.75 | J21: 22.75 | K21: 23.06 | L21: 23.19 | M21: 22.81 | N21: 22.94 | O21: 23 | P21: 22.75
A22: 22.904 | B22: 23.12 | C22: 23 | D22: 22.87 | E22: 23.31 | F22: 21.94 | G22: 22.5 | H22: 22.69 | I22: 22.75 | J22: 22.75 | K22: 23.06 | L22: 23.19 | M22: 22.81 | N22: 22.94 | O22: 23 | P22: 22.81
A23: 22.904 | B23: 23.19 | C23: 23 | D23: 22.94 | E23: 23.37 | F23: 22 | G23: 22.56 | H23: 22.62 | I23: 22.69 | J23: 22.75 | K23: 23.06 | L23: 23.19 | M23: 22.81 | N23: 22.94 | O23: 22.94 | P23: 22.75
A24: 22.904 | B24: 23.19 | C24: 23 | D24: 22.81 | E24: 23.31 | F24: 22 | G24: 22.56 | H24: 22.62 | I24: 22.75 | J24: 22.75 | K24: 23.06 | L24: 23.19 | M24: 22.81 | N24: 22.94 | O24: 22.94 | P24: 22.81
A25: 22.904 | B25: 23.19 | C25: 23 | D25: 22.81 | E25: 23.37 | F25: 22 | G25: 22.56 | H25: 22.62 | I25: 22.69 | J25: 22.81 | K25: 23.06 | L25: 23.19 | M25: 22.81 | N25: 22.94 | O25: 23 | P25: 22.81
A26: 22.904 | B26: 23.19 | C26: 22.94 | D26: 22.87 | E26: 23.37 | F26: 22 | G26: 22.56 | H26: 22.62 | I26: 22.69 | J26: 22.75 | K26: 23.12 | L26: 23.19 | M26: 22.81 | N26: 23 | O26: 22.94 | P26: 22.81
A27: 22.904 | B27: 23.19 | C27: 23 | D27: 22.81 | E27: 23.37 | F27: 22 | G27: 22.56 | H27: 22.69 | I27: 22.75 | J27: 22.75 | K27: 23.12 | L27: 23.12 | M27: 22.81 | N27: 23 | O27: 22.94 | P27: 22.75
A28: 22.904 | B28: 23.19 | C28: 22.94 | D28: 22.87 | E28: 23.37 | F28: 22.06 | G28: 22.56 | H28: 22.62 | I28: 22.69 | J28: 22.75 | K28: 23.06 | L28: 23.19 | M28: 22.81 | N28: 23 | O28: 23 | P28: 22.81
A29: 22.904 | B29: 23.19 | C29: 23 | D29: 22.87 | E29: 23.31 | F29: 22 | G29: 22.56 | H29: 22.62 | I29: 22.75 | J29: 22.75 | K29: 23.12 | L29: 23.19 | M29: 22.81 | N29: 22.94 | O29: 22.94 | P29: 22.81
A30: 22.904 | B30: 23.19 | C30: 23 | D30: 22.87 | E30: 23.37 | F30: 22 | G30: 22.5 | H30: 22.62 | I30: 22.69 | J30: 22.75 | K30: 23.06 | L30: 23.19 | M30: 22.81 | N30: 23 | O30: 22.94 | P30: 22.81
A31: 22.904 | B31: 23.19 | C31: 23 | D31: 22.87 | E31: 23.37 | F31: 22 | G31: 22.56 | H31: 22.69 | I31: 22.69 | J31: 22.75 | K31: 23.12 | L31: 23.19 | M31: 22.81 | N31: 23 | O31: 23 | P31: 22.75
... A62: 22.904 | B62: 23.19 | C62: 22.94 | D62: 22.87 | E62: 23.37 | F62: 22 | G62: 22.56 | H62: 22.69 | I62: 22.81 | J62: 22.75 | K62: 23.06 | L62: 23.19 | M62: 22.81 | N62: 22.94 | O62: 22.94 | P62: 22.81
A65: Referenz [°C] | B65: T in [°C] | C65: T in [°C] | D65: T in [°C] | E65: T in [°C] | F65: T in [°C] | G65: T in [°C] | H65: T in [°C] | I65: T in [°C] | J65: T in [°C] | K65: T in [°C] | L65: T in [°C] | M65: T in [°C] | N65: T in [°C] | O65: T in [°C] | P65: T in [°C]
A66: 31.071 | B66: 31.12 | C66: 31.06 | D66: 30.87 | E66: 31.31 | F66: 30 | G66: 30.44 | H66: 30.44 | I66: 30.75 | J66: 30.62 | K66: 31.06 | L66: 31.25 | M66: 30.87 | N66: 30.94 | O66: 31.06 | P66: 30.75
A67: 31.067 | B67: 31.12 | C67: 31.06 | D67: 30.87 | E67: 31.31 | F67: 30.06 | G67: 30.44 | H67: 30.44 | I67: 30.75 | J67: 30.62 | K67: 31.06 | L67: 31.19 | M67: 30.87 | N67: 30.94 | O67: 31.06 | P67: 30.75
A68: 31.062 | B68: 31.12 | C68: 31.06 | D68: 30.94 | E68: 31.31 | F68: 30 | G68: 30.5 | H68: 30.5 | I68: 30.69 | J68: 30.62 | K68: 31.06 | L68: 31.25 | M68: 30.87 | N68: 30.94 | O68: 31.06 | P68: 30.75
A69: 30.992 | B69: 31.06 | C69: 31.06 | D69: 30.87 | E69: 31.25 | F69: 30 | G69: 30.44 | H69: 30.5 | I69: 30.69 | J69: 30.62 | K69: 31.06 | L69: 31.19 | M69: 30.81 | N69: 30.94 | O69: 31.06 | P69: 30.75
A70: 31.015 | B70: 31.12 | C70: 31.06 | D70: 30.94 | E70: 31.25 | F70: 30 | G70: 30.44 | H70: 30.44 | I70: 30.69 | J70: 30.62 | K70: 31.06 | L70: 31.19 | M70: 30.81 | N70: 30.94 | O70: 31.06 | P70: 30.75
A71: 31.016 | B71: 31.06 | C71: 31 | D71: 30.94 | E71: 31.25 | F71: 30 | G71: 30.37 | H71: 30.5 | I71: 30.69 | J71: 30.62 | K71: 31.06 | L71: 31.19 | M71: 30.87 | N71: 30.87 | O71: 31.06 | P71: 30.75
A72: 30.958 | B72: 31.06 | C72: 31 | D72: 30.87 | E72: 31.25 | F72: 30.06 | G72: 30.37 | H72: 30.5 | I72: 30.69 | J72: 30.62 | K72: 31.06 | L72: 31.19 | M72: 30.81 | N72: 30.94 | O72: 31.06 | P72: 30.69
A73: 31.024 | B73: 31.06 | C73: 31.06 | D73: 30.87 | E73: 31.25 | F73: 30.06 | G73: 30.37 | H73: 30.5 | I73: 30.69 | J73: 30.62 | K73: 31.06 | L73: 31.25 | M73: 30.75 | N73: 30.94 | O73: 31.06 | P73: 30.75
A74: 31.02 | B74: 31.06 | C74: 31 | D74: 30.87 | E74: 31.25 | F74: 30 | G74: 30.37 | H74: 30.5 | I74: 30.69 | J74: 30.62 | K74: 31.06 | L74: 31.19 | M74: 30.75 | N74: 30.94 | O74: 31.06 | P74: 30.69
A75: 31.023 | B75: 31.06 | C75: 31 | D75: 30.87 | E75: 31.25 | F75: 30 | G75: 30.37 | H75: 30.5 | I75: 30.69 | J75: 30.62 | K75: 31.06 | L75: 31.19 | M75: 30.75 | N75: 30.94 | O75: 31 | P75: 30.69
A76: 31.016 | B76: 31.06 | C76: 30.94 | D76: 30.87 | E76: 31.25 | F76: 30 | G76: 30.37 | H76: 30.5 | I76: 30.69 | J76: 30.69 | K76: 31.06 | L76: 31.19 | M76: 30.75 | N76: 30.94 | O76: 31 | P76: 30.69
...

Sheet  1dt
A1: Referenz [°C] | B1: dT in [K] | C1: dT in [K] | D1: dT in [K] | E1: dT in [K] | F1: dT in [K] | G1: dT in [K] | H1: dT in [K] | I1: dT in [K] | J1: dT in [K] | K1: dT in [K] | L1: dT in [K] | M1: dT in [K] | N1: dT in [K] | O1: dT in [K] | P1: dT in [K]
A2: ='1'!A2 -> 5.135 | B2: ='1'!B2-'1'!$A2 -> 0.365 | C2: ='1'!C2-'1'!$A2 -> 0.175 | D2: ='1'!D2-'1'!$A2 -> -0.005 | E2: ='1'!E2-'1'!$A2 -> 0.805 | F2: ='1'!F2-'1'!$A2 -> -0.945 | G2: ='1'!G2-'1'!$A2 -> -0.385 | H2: ='1'!H2-'1'!$A2 -> -0.255 | I2: ='1'!I2-'1'!$A2 -> -0.385 | ... P2: ='1'!P2-'1'!$A2 -> 0.055
A3: ='1'!A3 -> 5.134 | B3: ='1'!B3-'1'!$A3 -> 0.366 | C3: ='1'!C3-'1'!$A3 -> 0.176 | D3: ='1'!D3-'1'!$A3 -> -0.004 | E3: ='1'!E3-'1'!$A3 -> 0.806 | F3: ='1'!F3-'1'!$A3 -> -0.944 | G3: ='1'!G3-'1'!$A3 -> -0.324 | H3: ='1'!H3-'1'!$A3 -> -0.254 | I3: ='1'!I3-'1'!$A3 -> -0.384 | ... P3: ='1'!P3-'1'!$A3 -> 0.056
A4: ='1'!A4 -> 5.133 | B4: ='1'!B4-'1'!$A4 -> 0.367 | C4: ='1'!C4-'1'!$A4 -> 0.177 | D4: ='1'!D4-'1'!$A4 -> -0.003 | E4: ='1'!E4-'1'!$A4 -> 0.807 | F4: ='1'!F4-'1'!$A4 -> -0.943 | G4: ='1'!G4-'1'!$A4 -> -0.323 | H4: ='1'!H4-'1'!$A4 -> -0.193 | I4: ='1'!I4-'1'!$A4 -> -0.323 | ... P4: ='1'!P4-'1'!$A4 -> 0.057
A5: ='1'!A5 -> 5.138 | B5: ='1'!B5-'1'!$A5 -> 0.362 | C5: ='1'!C5-'1'!$A5 -> 0.172 | D5: ='1'!D5-'1'!$A5 -> 0.052 | E5: ='1'!E5-'1'!$A5 -> 0.862 | F5: ='1'!F5-'1'!$A5 -> -0.948 | G5: ='1'!G5-'1'!$A5 -> -0.328 | H5: ='1'!H5-'1'!$A5 -> -0.258 | I5: ='1'!I5-'1'!$A5 -> -0.328 | ... P5: ='1'!P5-'1'!$A5 -> 0.052
A6: ='1'!A6 -> 5.138 | B6: ='1'!B6-'1'!$A6 -> 0.362 | C6: ='1'!C6-'1'!$A6 -> 0.172 | D6: ='1'!D6-'1'!$A6 -> 0.052 | E6: ='1'!E6-'1'!$A6 -> 0.802 | F6: ='1'!F6-'1'!$A6 -> -0.948 | G6: ='1'!G6-'1'!$A6 -> -0.328 | H6: ='1'!H6-'1'!$A6 -> -0.258 | I6: ='1'!I6-'1'!$A6 -> -0.328 | ... P6: ='1'!P6-'1'!$A6 -> 0.112
A7: ='1'!A7 -> 5.138 | B7: ='1'!B7-'1'!$A7 -> 0.362 | C7: ='1'!C7-'1'!$A7 -> 0.172 | D7: ='1'!D7-'1'!$A7 -> -0.078 | E7: ='1'!E7-'1'!$A7 -> 0.802 | F7: ='1'!F7-'1'!$A7 -> -0.888 | G7: ='1'!G7-'1'!$A7 -> -0.388 | H7: ='1'!H7-'1'!$A7 -> -0.258 | I7: ='1'!I7-'1'!$A7 -> -0.328 | ... P7: ='1'!P7-'1'!$A7 -> 0.112
A8: ='1'!A8 -> 5.138 | B8: ='1'!B8-'1'!$A8 -> 0.422 | C8: ='1'!C8-'1'!$A8 -> 0.172 | D8: ='1'!D8-'1'!$A8 -> -0.008 | E8: ='1'!E8-'1'!$A8 -> 0.862 | F8: ='1'!F8-'1'!$A8 -> -0.948 | G8: ='1'!G8-'1'!$A8 -> -0.328 | H8: ='1'!H8-'1'!$A8 -> -0.258 | I8: ='1'!I8-'1'!$A8 -> -0.328 | ... P8: ='1'!P8-'1'!$A8 -> 0.052
A9: ='1'!A9 -> 5.138 | B9: ='1'!B9-'1'!$A9 -> 0.362 | C9: ='1'!C9-'1'!$A9 -> 0.172 | D9: ='1'!D9-'1'!$A9 -> -0.008 | E9: ='1'!E9-'1'!$A9 -> 0.862 | F9: ='1'!F9-'1'!$A9 -> -0.888 | G9: ='1'!G9-'1'!$A9 -> -0.388 | H9: ='1'!H9-'1'!$A9 -> -0.258 | I9: ='1'!I9-'1'!$A9 -> -0.328 | ... P9: ='1'!P9-'1'!$A9 -> 0.112
A10: ='1'!A10 -> 5.138 | B10: ='1'!B10-'1'!$A10 -> 0.422 | C10: ='1'!C10-'1'!$A10 -> 0.172 | D10: ='1'!D10-'1'!$A10 -> -0.008 | E10: ='1'!E10-'1'!$A10 -> 0.862 | F10: ='1'!F10-'1'!$A10 -> -0.888 | G10: ='1'!G10-'1'!$A10 -> -0.328 | H10: ='1'!H10-'1'!$A10 -> -0.258 | I10: ='1'!I10-'1'!$A10 -> -0.388 | ... P10: ='1'!P10-'1'!$A10 -> 0.112
A11: ='1'!A11 -> 5.138 | B11: ='1'!B11-'1'!$A11 -> 0.362 | C11: ='1'!C11-'1'!$A11 -> 0.172 | D11: ='1'!D11-'1'!$A11 -> -0.008 | E11: ='1'!E11-'1'!$A11 -> 0.802 | F11: ='1'!F11-'1'!$A11 -> -0.888 | G11: ='1'!G11-'1'!$A11 -> -0.388 | H11: ='1'!H11-'1'!$A11 -> -0.258 | I11: ='1'!I11-'1'!$A11 -> -0.328 | ... P11: ='1'!P11-'1'!$A11 -> 0.112
A12: ='1'!A12 -> 5.138 | B12: ='1'!B12-'1'!$A12 -> 0.362 | C12: ='1'!C12-'1'!$A12 -> 0.172 | D12: ='1'!D12-'1'!$A12 -> 0.052 | E12: ='1'!E12-'1'!$A12 -> 0.862 | F12: ='1'!F12-'1'!$A12 -> -0.888 | G12: ='1'!G12-'1'!$A12 -> -0.328 | H12: ='1'!H12-'1'!$A12 -> -0.258 | I12: ='1'!I12-'1'!$A12 -> -0.388 | ... P12: ='1'!P12-'1'!$A12 -> 0.052
A13: ='1'!A13 -> 5.138 | B13: ='1'!B13-'1'!$A13 -> 0.422 | C13: ='1'!C13-'1'!$A13 -> 0.172 | D13: ='1'!D13-'1'!$A13 -> -0.008 | E13: ='1'!E13-'1'!$A13 -> 0.802 | F13: ='1'!F13-'1'!$A13 -> -0.888 | G13: ='1'!G13-'1'!$A13 -> -0.328 | H13: ='1'!H13-'1'!$A13 -> -0.198 | I13: ='1'!I13-'1'!$A13 -> -0.388 | ... P13: ='1'!P13-'1'!$A13 -> 0.112
... A16: ='1'!A16 -> 5.138 | B16: ='1'!B16-'1'!$A16 -> 0.302 | C16: ='1'!C16-'1'!$A16 -> 0.172 | D16: ='1'!D16-'1'!$A16 -> 0.052 | E16: ='1'!E16-'1'!$A16 -> 0.862 | F16: ='1'!F16-'1'!$A16 -> -0.888 | G16: ='1'!G16-'1'!$A16 -> -0.328 | H16: ='1'!H16-'1'!$A16 -> -0.258 | I16: ='1'!I16-'1'!$A16 -> -0.328 | ... P16: ='1'!P16-'1'!$A16 -> 0.052
A19: Referenz [°C] | B19: dT in [K] | C19: dT in [K] | D19: dT in [K] | E19: dT in [K] | F19: dT in [K] | G19: dT in [K] | H19: dT in [K] | I19: dT in [K] | J19: dT in [K] | K19: dT in [K] | L19: dT in [K] | M19: dT in [K] | N19: dT in [K] | O19: dT in [K] | P19: dT in [K]
A20: ='1'!A20 -> 22.904 | B20: ='1'!B20-'1'!$A20 -> 0.286 | C20: ='1'!C20-'1'!$A20 -> 0.096 | D20: ='1'!D20-'1'!$A20 -> -0.034 | E20: ='1'!E20-'1'!$A20 -> 0.466 | F20: ='1'!F20-'1'!$A20 -> -0.904 | G20: ='1'!G20-'1'!$A20 -> -0.344 | H20: ='1'!H20-'1'!$A20 -> -0.284 | I20: ='1'!I20-'1'!$A20 -> -0.154 | ... P20: ='1'!P20-'1'!$A20 -> -0.154
A21: ='1'!A21 -> 22.904 | B21: ='1'!B21-'1'!$A21 -> 0.216 | C21: ='1'!C21-'1'!$A21 -> 0.096 | D21: ='1'!D21-'1'!$A21 -> -0.034 | E21: ='1'!E21-'1'!$A21 -> 0.466 | F21: ='1'!F21-'1'!$A21 -> -0.904 | G21: ='1'!G21-'1'!$A21 -> -0.344 | H21: ='1'!H21-'1'!$A21 -> -0.284 | I21: ='1'!I21-'1'!$A21 -> -0.154 | ... P21: ='1'!P21-'1'!$A21 -> -0.154
A22: ='1'!A22 -> 22.904 | B22: ='1'!B22-'1'!$A22 -> 0.216 | C22: ='1'!C22-'1'!$A22 -> 0.096 | D22: ='1'!D22-'1'!$A22 -> -0.034 | E22: ='1'!E22-'1'!$A22 -> 0.406 | F22: ='1'!F22-'1'!$A22 -> -0.964 | G22: ='1'!G22-'1'!$A22 -> -0.404 | H22: ='1'!H22-'1'!$A22 -> -0.214 | I22: ='1'!I22-'1'!$A22 -> -0.154 | ... P22: ='1'!P22-'1'!$A22 -> -0.094
A23: ='1'!A23 -> 22.904 | B23: ='1'!B23-'1'!$A23 -> 0.286 | C23: ='1'!C23-'1'!$A23 -> 0.096 | D23: ='1'!D23-'1'!$A23 -> 0.036 | E23: ='1'!E23-'1'!$A23 -> 0.466 | F23: ='1'!F23-'1'!$A23 -> -0.904 | G23: ='1'!G23-'1'!$A23 -> -0.344 | H23: ='1'!H23-'1'!$A23 -> -0.284 | I23: ='1'!I23-'1'!$A23 -> -0.214 | ... P23: ='1'!P23-'1'!$A23 -> -0.154
A24: ='1'!A24 -> 22.904 | B24: ='1'!B24-'1'!$A24 -> 0.286 | C24: ='1'!C24-'1'!$A24 -> 0.096 | D24: ='1'!D24-'1'!$A24 -> -0.094 | E24: ='1'!E24-'1'!$A24 -> 0.406 | F24: ='1'!F24-'1'!$A24 -> -0.904 | G24: ='1'!G24-'1'!$A24 -> -0.344 | H24: ='1'!H24-'1'!$A24 -> -0.284 | I24: ='1'!I24-'1'!$A24 -> -0.154 | ... P24: ='1'!P24-'1'!$A24 -> -0.094
A25: ='1'!A25 -> 22.904 | B25: ='1'!B25-'1'!$A25 -> 0.286 | C25: ='1'!C25-'1'!$A25 -> 0.096 | D25: ='1'!D25-'1'!$A25 -> -0.094 | E25: ='1'!E25-'1'!$A25 -> 0.466 | F25: ='1'!F25-'1'!$A25 -> -0.904 | G25: ='1'!G25-'1'!$A25 -> -0.344 | H25: ='1'!H25-'1'!$A25 -> -0.284 | I25: ='1'!I25-'1'!$A25 -> -0.214 | ... P25: ='1'!P25-'1'!$A25 -> -0.094
A26: ='1'!A26 -> 22.904 | B26: ='1'!B26-'1'!$A26 -> 0.286 | C26: ='1'!C26-'1'!$A26 -> 0.036 | D26: ='1'!D26-'1'!$A26 -> -0.034 | E26: ='1'!E26-'1'!$A26 -> 0.466 | F26: ='1'!F26-'1'!$A26 -> -0.904 | G26: ='1'!G26-'1'!$A26 -> -0.344 | H26: ='1'!H26-'1'!$A26 -> -0.284 | I26: ='1'!I26-'1'!$A26 -> -0.214 | ... P26: ='1'!P26-'1'!$A26 -> -0.094
A27: ='1'!A27 -> 22.904 | B27: ='1'!B27-'1'!$A27 -> 0.286 | C27: ='1'!C27-'1'!$A27 -> 0.096 | D27: ='1'!D27-'1'!$A27 -> -0.094 | E27: ='1'!E27-'1'!$A27 -> 0.466 | F27: ='1'!F27-'1'!$A27 -> -0.904 | G27: ='1'!G27-'1'!$A27 -> -0.344 | H27: ='1'!H27-'1'!$A27 -> -0.214 | I27: ='1'!I27-'1'!$A27 -> -0.154 | ... P27: ='1'!P27-'1'!$A27 -> -0.154
A28: ='1'!A28 -> 22.904 | B28: ='1'!B28-'1'!$A28 -> 0.286 | C28: ='1'!C28-'1'!$A28 -> 0.036 | D28: ='1'!D28-'1'!$A28 -> -0.034 | E28: ='1'!E28-'1'!$A28 -> 0.466 | F28: ='1'!F28-'1'!$A28 -> -0.844 | G28: ='1'!G28-'1'!$A28 -> -0.344 | H28: ='1'!H28-'1'!$A28 -> -0.284 | I28: ='1'!I28-'1'!$A28 -> -0.214 | ... P28: ='1'!P28-'1'!$A28 -> -0.094
A29: ='1'!A29 -> 22.904 | B29: ='1'!B29-'1'!$A29 -> 0.286 | C29: ='1'!C29-'1'!$A29 -> 0.096 | D29: ='1'!D29-'1'!$A29 -> -0.034 | E29: ='1'!E29-'1'!$A29 -> 0.406 | F29: ='1'!F29-'1'!$A29 -> -0.904 | G29: ='1'!G29-'1'!$A29 -> -0.344 | H29: ='1'!H29-'1'!$A29 -> -0.284 | I29: ='1'!I29-'1'!$A29 -> -0.154 | ... P29: ='1'!P29-'1'!$A29 -> -0.094
A30: ='1'!A30 -> 22.904 | B30: ='1'!B30-'1'!$A30 -> 0.286 | C30: ='1'!C30-'1'!$A30 -> 0.096 | D30: ='1'!D30-'1'!$A30 -> -0.034 | E30: ='1'!E30-'1'!$A30 -> 0.466 | F30: ='1'!F30-'1'!$A30 -> -0.904 | G30: ='1'!G30-'1'!$A30 -> -0.404 | H30: ='1'!H30-'1'!$A30 -> -0.284 | I30: ='1'!I30-'1'!$A30 -> -0.214 | ... P30: ='1'!P30-'1'!$A30 -> -0.094
A31: ='1'!A31 -> 22.904 | B31: ='1'!B31-'1'!$A31 -> 0.286 | C31: ='1'!C31-'1'!$A31 -> 0.096 | D31: ='1'!D31-'1'!$A31 -> -0.034 | E31: ='1'!E31-'1'!$A31 -> 0.466 | F31: ='1'!F31-'1'!$A31 -> -0.904 | G31: ='1'!G31-'1'!$A31 -> -0.344 | H31: ='1'!H31-'1'!$A31 -> -0.214 | I31: ='1'!I31-'1'!$A31 -> -0.214 | ... P31: ='1'!P31-'1'!$A31 -> -0.154
... A62: ='1'!A62 -> 22.904 | B62: ='1'!B62-'1'!$A62 -> 0.286 | C62: ='1'!C62-'1'!$A62 -> 0.036 | D62: ='1'!D62-'1'!$A62 -> -0.034 | E62: ='1'!E62-'1'!$A62 -> 0.466 | F62: ='1'!F62-'1'!$A62 -> -0.904 | G62: ='1'!G62-'1'!$A62 -> -0.344 | H62: ='1'!H62-'1'!$A62 -> -0.214 | I62: ='1'!I62-'1'!$A62 -> -0.094 | ... P62: ='1'!P62-'1'!$A62 -> -0.094
A65: Referenz [°C] | B65: dT in [K] | C65: dT in [K] | D65: dT in [K] | E65: dT in [K] | F65: dT in [K] | G65: dT in [K] | H65: dT in [K] | I65: dT in [K] | J65: dT in [K] | K65: dT in [K] | L65: dT in [K] | M65: dT in [K] | N65: dT in [K] | O65: dT in [K] | P65: dT in [K]
A66: ='1'!A66 -> 31.071 | B66: ='1'!B66-'1'!$A66 -> 0.049 | C66: ='1'!C66-'1'!$A66 -> -0.011 | D66: ='1'!D66-'1'!$A66 -> -0.201 | E66: ='1'!E66-'1'!$A66 -> 0.239 | F66: ='1'!F66-'1'!$A66 -> -1.071 | G66: ='1'!G66-'1'!$A66 -> -0.631 | H66: ='1'!H66-'1'!$A66 -> -0.631 | I66: ='1'!I66-'1'!$A66 -> -0.321 | ... P66: ='1'!P66-'1'!$A66 -> -0.321
A67: ='1'!A67 -> 31.067 | B67: ='1'!B67-'1'!$A67 -> 0.053 | C67: ='1'!C67-'1'!$A67 -> -0.007 | D67: ='1'!D67-'1'!$A67 -> -0.197 | E67: ='1'!E67-'1'!$A67 -> 0.243 | F67: ='1'!F67-'1'!$A67 -> -1.007 | G67: ='1'!G67-'1'!$A67 -> -0.627 | H67: ='1'!H67-'1'!$A67 -> -0.627 | I67: ='1'!I67-'1'!$A67 -> -0.317 | ... P67: ='1'!P67-'1'!$A67 -> -0.317
A68: ='1'!A68 -> 31.062 | B68: ='1'!B68-'1'!$A68 -> 0.058 | C68: ='1'!C68-'1'!$A68 -> -0.002 | D68: ='1'!D68-'1'!$A68 -> -0.122 | E68: ='1'!E68-'1'!$A68 -> 0.248 | F68: ='1'!F68-'1'!$A68 -> -1.062 | G68: ='1'!G68-'1'!$A68 -> -0.562 | H68: ='1'!H68-'1'!$A68 -> -0.562 | I68: ='1'!I68-'1'!$A68 -> -0.372 | ... P68: ='1'!P68-'1'!$A68 -> -0.312
A69: ='1'!A69 -> 30.992 | B69: ='1'!B69-'1'!$A69 -> 0.068 | C69: ='1'!C69-'1'!$A69 -> 0.068 | D69: ='1'!D69-'1'!$A69 -> -0.122 | E69: ='1'!E69-'1'!$A69 -> 0.258 | F69: ='1'!F69-'1'!$A69 -> -0.992 | G69: ='1'!G69-'1'!$A69 -> -0.552 | H69: ='1'!H69-'1'!$A69 -> -0.492 | I69: ='1'!I69-'1'!$A69 -> -0.302 | ... P69: ='1'!P69-'1'!$A69 -> -0.242
A70: ='1'!A70 -> 31.015 | B70: ='1'!B70-'1'!$A70 -> 0.105 | C70: ='1'!C70-'1'!$A70 -> 0.045 | D70: ='1'!D70-'1'!$A70 -> -0.075 | E70: ='1'!E70-'1'!$A70 -> 0.235 | F70: ='1'!F70-'1'!$A70 -> -1.015 | G70: ='1'!G70-'1'!$A70 -> -0.575 | H70: ='1'!H70-'1'!$A70 -> -0.575 | I70: ='1'!I70-'1'!$A70 -> -0.325 | ... P70: ='1'!P70-'1'!$A70 -> -0.265
A71: ='1'!A71 -> 31.016 | B71: ='1'!B71-'1'!$A71 -> 0.044 | C71: ='1'!C71-'1'!$A71 -> -0.016 | D71: ='1'!D71-'1'!$A71 -> -0.076 | E71: ='1'!E71-'1'!$A71 -> 0.234 | F71: ='1'!F71-'1'!$A71 -> -1.016 | G71: ='1'!G71-'1'!$A71 -> -0.646 | H71: ='1'!H71-'1'!$A71 -> -0.516 | I71: ='1'!I71-'1'!$A71 -> -0.326 | ... P71: ='1'!P71-'1'!$A71 -> -0.266
A72: ='1'!A72 -> 30.958 | B72: ='1'!B72-'1'!$A72 -> 0.102 | C72: ='1'!C72-'1'!$A72 -> 0.042 | D72: ='1'!D72-'1'!$A72 -> -0.088 | E72: ='1'!E72-'1'!$A72 -> 0.292 | F72: ='1'!F72-'1'!$A72 -> -0.898 | G72: ='1'!G72-'1'!$A72 -> -0.588 | H72: ='1'!H72-'1'!$A72 -> -0.458 | I72: ='1'!I72-'1'!$A72 -> -0.268 | ... P72: ='1'!P72-'1'!$A72 -> -0.268
A73: ='1'!A73 -> 31.024 | B73: ='1'!B73-'1'!$A73 -> 0.036 | C73: ='1'!C73-'1'!$A73 -> 0.036 | D73: ='1'!D73-'1'!$A73 -> -0.154 | E73: ='1'!E73-'1'!$A73 -> 0.226 | F73: ='1'!F73-'1'!$A73 -> -0.964 | G73: ='1'!G73-'1'!$A73 -> -0.654 | H73: ='1'!H73-'1'!$A73 -> -0.524 | I73: ='1'!I73-'1'!$A73 -> -0.334 | ... P73: ='1'!P73-'1'!$A73 -> -0.274
A74: ='1'!A74 -> 31.02 | B74: ='1'!B74-'1'!$A74 -> 0.04 | C74: ='1'!C74-'1'!$A74 -> -0.02 | D74: ='1'!D74-'1'!$A74 -> -0.15 | E74: ='1'!E74-'1'!$A74 -> 0.23 | F74: ='1'!F74-'1'!$A74 -> -1.02 | G74: ='1'!G74-'1'!$A74 -> -0.65 | H74: ='1'!H74-'1'!$A74 -> -0.52 | I74: ='1'!I74-'1'!$A74 -> -0.33 | ... P74: ='1'!P74-'1'!$A74 -> -0.33
A75: ='1'!A75 -> 31.023 | B75: ='1'!B75-'1'!$A75 -> 0.037 | C75: ='1'!C75-'1'!$A75 -> -0.023 | D75: ='1'!D75-'1'!$A75 -> -0.153 | E75: ='1'!E75-'1'!$A75 -> 0.227 | F75: ='1'!F75-'1'!$A75 -> -1.023 | G75: ='1'!G75-'1'!$A75 -> -0.653 | H75: ='1'!H75-'1'!$A75 -> -0.523 | I75: ='1'!I75-'1'!$A75 -> -0.333 | ... P75: ='1'!P75-'1'!$A75 -> -0.333
A76: ='1'!A76 -> 31.016 | B76: ='1'!B76-'1'!$A76 -> 0.044 | C76: ='1'!C76-'1'!$A76 -> -0.076 | D76: ='1'!D76-'1'!$A76 -> -0.146 | E76: ='1'!E76-'1'!$A76 -> 0.234 | F76: ='1'!F76-'1'!$A76 -> -1.016 | G76: ='1'!G76-'1'!$A76 -> -0.646 | H76: ='1'!H76-'1'!$A76 -> -0.516 | I76: ='1'!I76-'1'!$A76 -> -0.326 | ... P76: ='1'!P76-'1'!$A76 -> -0.326
...

Sheet 2
A1: Referenz [°C] | B1: T K-Type [°C] | C1: T DS18B20 in [°C] | D1: T DS18B20 in [°C] | E1: T DS18B20 in [°C] | F1: T DS18B20 in [°C] | G1: T DS18B20 in [°C] | H1: T DS18B20 in [°C] | I1: T DS18B20 in [°C] | J1: T DS18B20 in [°C] | K1: T DS18B20 in [°C] | L1: T DS18B20 in [°C] | M1: T DS18B20 in [°C] | N1: T DS18B20 in [°C] | O1: T DS18B20 in [°C] | P1: T DS18B20 in [°C] | Q1: T DS18B20 in [°C]
A2: 5.135 | C2: 5.5 | D2: 5.31 | E2: 5.13 | F2: 5.94 | G2: 4.19 | H2: 4.75 | I2: 4.88 | J2: 4.75 | K2: 5.31 | L2: 5.63 | M2: 5.5 | N2: 5.31 | O2: 5.13 | P2: 5.06 | Q2: 5.19
A3: 5.134 | C3: 5.5 | D3: 5.31 | E3: 5.13 | F3: 5.94 | G3: 4.19 | H3: 4.81 | I3: 4.88 | J3: 4.75 | K3: 5.31 | L3: 5.69 | M3: 5.44 | N3: 5.25 | O3: 5.13 | P3: 5.13 | Q3: 5.19
A4: 5.133 | C4: 5.5 | D4: 5.31 | E4: 5.13 | F4: 5.94 | G4: 4.19 | H4: 4.81 | I4: 4.94 | J4: 4.81 | K4: 5.31 | L4: 5.75 | M4: 5.5 | N4: 5.31 | O4: 5.13 | P4: 5.06 | Q4: 5.19
A5: 5.138 | C5: 5.5 | D5: 5.31 | E5: 5.19 | F5: 6 | G5: 4.19 | H5: 4.81 | I5: 4.88 | J5: 4.81 | K5: 5.31 | L5: 5.69 | M5: 5.5 | N5: 5.31 | O5: 5.13 | P5: 5.06 | Q5: 5.19
A6: 5.138 | C6: 5.5 | D6: 5.31 | E6: 5.19 | F6: 5.94 | G6: 4.19 | H6: 4.81 | I6: 4.88 | J6: 4.81 | K6: 5.31 | L6: 5.69 | M6: 5.5 | N6: 5.31 | O6: 5.19 | P6: 5.06 | Q6: 5.25
A7: 5.138 | C7: 5.5 | D7: 5.31 | E7: 5.06 | F7: 5.94 | G7: 4.25 | H7: 4.75 | I7: 4.88 | J7: 4.81 | K7: 5.31 | L7: 5.69 | M7: 5.44 | N7: 5.25 | O7: 5.13 | P7: 5.06 | Q7: 5.25
A8: 5.138 | C8: 5.56 | D8: 5.31 | E8: 5.13 | F8: 6 | G8: 4.19 | H8: 4.81 | I8: 4.88 | J8: 4.81 | K8: 5.38 | L8: 5.69 | M8: 5.44 | N8: 5.25 | O8: 5.19 | P8: 5.13 | Q8: 5.19
A9: 5.138 | C9: 5.5 | D9: 5.31 | E9: 5.13 | F9: 6 | G9: 4.25 | H9: 4.75 | I9: 4.88 | J9: 4.81 | K9: 5.38 | L9: 5.69 | M9: 5.44 | N9: 5.31 | O9: 5.13 | P9: 5.06 | Q9: 5.25
A10: 5.138 | C10: 5.56 | D10: 5.31 | E10: 5.13 | F10: 6 | G10: 4.25 | H10: 4.81 | I10: 4.88 | J10: 4.75 | K10: 5.31 | L10: 5.69 | M10: 5.5 | N10: 5.31 | O10: 5.19 | P10: 5.13 | Q10: 5.25
A11: 5.138 | C11: 5.5 | D11: 5.31 | E11: 5.13 | F11: 5.94 | G11: 4.25 | H11: 4.75 | I11: 4.88 | J11: 4.81 | K11: 5.31 | L11: 5.63 | M11: 5.44 | N11: 5.31 | O11: 5.19 | P11: 5.13 | Q11: 5.25
A12: 5.138 | C12: 5.5 | D12: 5.31 | E12: 5.19 | F12: 6 | G12: 4.25 | H12: 4.81 | I12: 4.88 | J12: 4.75 | K12: 5.31 | L12: 5.69 | M12: 5.5 | N12: 5.31 | O12: 5.19 | P12: 5.06 | Q12: 5.19
A13: 5.138 | C13: 5.56 | D13: 5.31 | E13: 5.13 | F13: 5.94 | G13: 4.25 | H13: 4.81 | I13: 4.94 | J13: 4.75 | K13: 5.31 | L13: 5.69 | M13: 5.5 | N13: 5.31 | O13: 5.13 | P13: 5.13 | Q13: 5.25
... A16: 5.138 | C16: 5.44 | D16: 5.31 | E16: 5.19 | F16: 6 | G16: 4.25 | H16: 4.81 | I16: 4.88 | J16: 4.81 | K16: 5.31 | L16: 5.69 | M16: 5.5 | N16: 5.38 | O16: 5.13 | P16: 5.13 | Q16: 5.19
A20: Referenz [°C] | B20: T K-Type [°C] | C20: T DS18B20 in [°C] | D20: T DS18B20 in [°C] | E20: T DS18B20 in [°C] | F20: T DS18B20 in [°C] | G20: T DS18B20 in [°C] | H20: T DS18B20 in [°C] | I20: T DS18B20 in [°C] | J20: T DS18B20 in [°C] | K20: T DS18B20 in [°C] | L20: T DS18B20 in [°C] | M20: T DS18B20 in [°C] | N20: T DS18B20 in [°C] | O20: T DS18B20 in [°C] | P20: T DS18B20 in [°C] | Q20: T DS18B20 in [°C]
A21: 8.749 | B21: 9 | C21: 9.13 | D21: 8.88 | E21: 8.88 | F21: 9.56 | G21: 8.06 | H21: 8.56 | I21: 8.5 | J21: 8.44 | K21: 8.94 | L21: 9.19 | M21: 8.88 | N21: 8.94 | O21: 8.81 | P21: 8.56 | Q21: 8.75
A22: 8.742 | B22: =(B$60-B$21)/39+B21 -> 9.0025641 | C22: 9.19 | D22: 8.94 | E22: 8.88 | F22: 9.56 | G22: 8.06 | H22: 8.63 | I22: 8.56 | J22: 8.44 | K22: 8.94 | L22: 9.25 | M22: 8.94 | N22: 8.88 | O22: 8.81 | P22: 8.56 | Q22: 8.75
A23: 8.75 | B23: =(B$60-B$21)/39+B22 -> 9.0051282 | C23: 9.19 | D23: 8.88 | E23: 8.88 | F23: 9.63 | G23: 8.06 | H23: 8.56 | I23: 8.56 | J23: 8.44 | K23: 8.94 | L23: 9.19 | M23: 8.94 | N23: 8.94 | O23: 8.81 | P23: 8.5 | Q23: 8.75
A24: 8.758 | B24: =(B$60-B$21)/39+B23 -> 9.0076923 | C24: 9.19 | D24: 8.88 | E24: 8.88 | F24: 9.63 | G24: 8.06 | H24: 8.63 | I24: 8.5 | J24: 8.44 | K24: 8.94 | L24: 9.25 | M24: 8.94 | N24: 8.94 | O24: 8.81 | P24: 8.5 | Q24: 8.75
A25: 8.762 | B25: =(B$60-B$21)/39+B24 -> 9.0102564 | C25: 9.19 | D25: 8.88 | E25: 8.88 | F25: 9.63 | G25: 8.06 | H25: 8.56 | I25: 8.5 | J25: 8.5 | K25: 8.94 | L25: 9.25 | M25: 8.94 | N25: 8.94 | O25: 8.88 | P25: 8.56 | Q25: 8.75
A26: 8.766 | B26: =(B$60-B$21)/39+B25 -> 9.0128205 | C26: 9.13 | D26: 8.88 | E26: 8.88 | F26: 9.63 | G26: 8.06 | H26: 8.56 | I26: 8.56 | J26: 8.44 | K26: 9 | L26: 9.19 | M26: 8.94 | N26: 8.94 | O26: 8.88 | P26: 8.56 | Q26: 8.75
A27: 8.767 | B27: =(B$60-B$21)/39+B26 -> 9.0153846 | C27: 9.19 | D27: 8.88 | E27: 8.94 | F27: 9.69 | G27: 8.06 | H27: 8.56 | I27: 8.56 | J27: 8.44 | K27: 8.94 | L27: 9.25 | M27: 8.94 | N27: 8.94 | O27: 8.88 | P27: 8.56 | Q27: 8.75
A28: 8.766 | B28: =(B$60-B$21)/39+B27 -> 9.0179487 | C28: 9.19 | D28: 8.94 | E28: 8.88 | F28: 9.56 | G28: 8.06 | H28: 8.56 | I28: 8.5 | J28: 8.44 | K28: 9.06 | L28: 9.25 | M28: 9 | N28: 8.94 | O28: 8.81 | P28: 8.56 | Q28: 8.75
A29: 8.768 | B29: =(B$60-B$21)/39+B28 -> 9.0205128 | C29: 9.19 | D29: 8.88 | E29: 8.88 | F29: 9.56 | G29: 8.06 | H29: 8.63 | I29: 8.56 | J29: 8.5 | K29: 9 | L29: 9.25 | M29: 8.94 | N29: 8.94 | O29: 8.81 | P29: 8.56 | Q29: 8.75
A30: 8.777 | B30: =(B$60-B$21)/39+B29 -> 9.0230769 | C30: 9.25 | D30: 8.88 | E30: 8.88 | F30: 9.63 | G30: 8.13 | H30: 8.56 | I30: 8.56 | J30: 8.5 | K30: 9 | L30: 9.25 | M30: 9 | N30: 8.94 | O30: 8.88 | P30: 8.56 | Q30: 8.75
A31: 8.776 | B31: =(B$60-B$21)/39+B30 -> 9.025641 | C31: 9.19 | D31: 8.88 | E31: 8.94 | F31: 9.63 | G31: 8.13 | H31: 8.63 | I31: 8.5 | J31: 8.5 | K31: 9 | L31: 9.25 | M31: 9 | N31: 8.94 | O31: 8.88 | P31: 8.56 | Q31: 8.75
A32: 8.779 | B32: =(B$60-B$21)/39+B31 -> 9.0282051 | C32: 9.25 | D32: 8.88 | E32: 8.94 | F32: 9.56 | G32: 8.13 | H32: 8.63 | I32: 8.56 | J32: 8.5 | K32: 9 | L32: 9.25 | M32: 9 | N32: 8.94 | O32: 8.88 | P32: 8.56 | Q32: 8.81
A33: 8.777 | B33: =(B$60-B$21)/39+B32 -> 9.0307692 | C33: 9.19 | D33: 8.94 | E33: 9 | F33: 9.63 | G33: 8.13 | H33: 8.63 | I33: 8.56 | J33: 8.56 | K33: 9 | L33: 9.25 | M33: 9 | N33: 8.94 | O33: 8.88 | P33: 8.56 | Q33: 8.75
... A59: 8.822 | B59: =(B$60-B$21)/39+B58 -> 9.0974359 | C59: 9.25 | D59: 8.94 | E59: 8.94 | F59: 9.69 | G59: 8.13 | H59: 8.69 | I59: 8.63 | J59: 8.56 | K59: 9 | L59: 9.31 | M59: 9 | N59: 9 | O59: 8.94 | P59: 8.63 | Q59: 8.81
A60: 8.83 | B60: 9.1 | C60: 9.25 | D60: 8.94 | E60: 8.94 | F60: 9.69 | G60: 8.19 | H60: 8.69 | I60: 8.63 | J60: 8.56 | K60: 9.06 | L60: 9.31 | M60: 9 | N60: 9 | O60: 8.88 | P60: 8.63 | Q60: 8.88
A64: Referenz [°C] | B64: T K-Type [°C] | C64: T DS18B20 in [°C] | D64: T DS18B20 in [°C] | E64: T DS18B20 in [°C] | F64: T DS18B20 in [°C] | G64: T DS18B20 in [°C] | H64: T DS18B20 in [°C] | I64: T DS18B20 in [°C] | J64: T DS18B20 in [°C] | K64: T DS18B20 in [°C] | L64: T DS18B20 in [°C] | M64: T DS18B20 in [°C] | N64: T DS18B20 in [°C] | O64: T DS18B20 in [°C] | P64: T DS18B20 in [°C] | Q64: T DS18B20 in [°C]
A65: 22.904 | B65: 23.5 | C65: 23.19 | D65: 23 | E65: 22.87 | F65: 23.37 | G65: 22 | H65: 22.56 | I65: 22.62 | J65: 22.75 | K65: 22.75 | L65: 23.06 | M65: 23.19 | N65: 22.81 | O65: 22.94 | P65: 23 | Q65: 22.75
A66: 22.904 | B66: 23.5 | C66: 23.12 | D66: 23 | E66: 22.87 | F66: 23.37 | G66: 22 | H66: 22.56 | I66: 22.62 | J66: 22.75 | K66: 22.75 | L66: 23.06 | M66: 23.19 | N66: 22.81 | O66: 22.94 | P66: 23 | Q66: 22.75
A67: 22.904 | B67: 23.5 | C67: 23.12 | D67: 23 | E67: 22.87 | F67: 23.31 | G67: 21.94 | H67: 22.5 | I67: 22.69 | J67: 22.75 | K67: 22.75 | L67: 23.06 | M67: 23.19 | N67: 22.81 | O67: 22.94 | P67: 23 | Q67: 22.81
A68: 22.904 | B68: 23.5 | C68: 23.19 | D68: 23 | E68: 22.94 | F68: 23.37 | G68: 22 | H68: 22.56 | I68: 22.62 | J68: 22.69 | K68: 22.75 | L68: 23.06 | M68: 23.19 | N68: 22.81 | O68: 22.94 | P68: 22.94 | Q68: 22.75
A69: 22.904 | B69: 23.5 | C69: 23.19 | D69: 23 | E69: 22.81 | F69: 23.31 | G69: 22 | H69: 22.56 | I69: 22.62 | J69: 22.75 | K69: 22.75 | L69: 23.06 | M69: 23.19 | N69: 22.81 | O69: 22.94 | P69: 22.94 | Q69: 22.81
A70: 22.904 | B70: 23.5 | C70: 23.19 | D70: 23 | E70: 22.81 | F70: 23.37 | G70: 22 | H70: 22.56 | I70: 22.62 | J70: 22.69 | K70: 22.81 | L70: 23.06 | M70: 23.19 | N70: 22.81 | O70: 22.94 | P70: 23 | Q70: 22.81
A71: 22.904 | B71: 23.5 | C71: 23.19 | D71: 22.94 | E71: 22.87 | F71: 23.37 | G71: 22 | H71: 22.56 | I71: 22.62 | J71: 22.69 | K71: 22.75 | L71: 23.12 | M71: 23.19 | N71: 22.81 | O71: 23 | P71: 22.94 | Q71: 22.81
A72: 22.904 | B72: 23.5 | C72: 23.19 | D72: 23 | E72: 22.81 | F72: 23.37 | G72: 22 | H72: 22.56 | I72: 22.69 | J72: 22.75 | K72: 22.75 | L72: 23.12 | M72: 23.12 | N72: 22.81 | O72: 23 | P72: 22.94 | Q72: 22.75
A73: 22.904 | B73: 23.5 | C73: 23.19 | D73: 22.94 | E73: 22.87 | F73: 23.37 | G73: 22.06 | H73: 22.56 | I73: 22.62 | J73: 22.69 | K73: 22.75 | L73: 23.06 | M73: 23.19 | N73: 22.81 | O73: 23 | P73: 23 | Q73: 22.81
...

Sheet 2dt
A1: Referenz [°C] | B1: dT K-Type [K] | C1: dT DS18B20 in [K] | D1: dT DS18B20 in [K] | E1: dT DS18B20 in [K] | F1: dT DS18B20 in [K] | G1: dT DS18B20 in [K] | H1: dT DS18B20 in [K] | I1: dT DS18B20 in [K] | J1: dT DS18B20 in [K] | K1: dT DS18B20 in [K] | L1: dT DS18B20 in [K] | M1: dT DS18B20 in [K] | N1: dT DS18B20 in [K] | O1: dT DS18B20 in [K] | P1: dT DS18B20 in [K] | Q1: dT DS18B20 in [K]
A2: 5.135 | C2: ='2'!C2-'2'!$A2 -> 0.365 | D2: ='2'!D2-'2'!$A2 -> 0.175 | E2: ='2'!E2-'2'!$A2 -> -0.005 | F2: ='2'!F2-'2'!$A2 -> 0.805 | G2: ='2'!G2-'2'!$A2 -> -0.945 | H2: ='2'!H2-'2'!$A2 -> -0.385 | I2: ='2'!I2-'2'!$A2 -> -0.255 | J2: ='2'!J2-'2'!$A2 -> -0.385 | ... Q2: ='2'!Q2-'2'!$A2 -> 0.055
A3: 5.134 | C3: ='2'!C3-'2'!$A3 -> 0.366 | D3: ='2'!D3-'2'!$A3 -> 0.176 | E3: ='2'!E3-'2'!$A3 -> -0.004 | F3: ='2'!F3-'2'!$A3 -> 0.806 | G3: ='2'!G3-'2'!$A3 -> -0.944 | H3: ='2'!H3-'2'!$A3 -> -0.324 | I3: ='2'!I3-'2'!$A3 -> -0.254 | J3: ='2'!J3-'2'!$A3 -> -0.384 | ... Q3: ='2'!Q3-'2'!$A3 -> 0.056
A4: 5.133 | C4: ='2'!C4-'2'!$A4 -> 0.367 | D4: ='2'!D4-'2'!$A4 -> 0.177 | E4: ='2'!E4-'2'!$A4 -> -0.003 | F4: ='2'!F4-'2'!$A4 -> 0.807 | G4: ='2'!G4-'2'!$A4 -> -0.943 | H4: ='2'!H4-'2'!$A4 -> -0.323 | I4: ='2'!I4-'2'!$A4 -> -0.193 | J4: ='2'!J4-'2'!$A4 -> -0.323 | ... Q4: ='2'!Q4-'2'!$A4 -> 0.057
A5: 5.138 | C5: ='2'!C5-'2'!$A5 -> 0.362 | D5: ='2'!D5-'2'!$A5 -> 0.172 | E5: ='2'!E5-'2'!$A5 -> 0.052 | F5: ='2'!F5-'2'!$A5 -> 0.862 | G5: ='2'!G5-'2'!$A5 -> -0.948 | H5: ='2'!H5-'2'!$A5 -> -0.328 | I5: ='2'!I5-'2'!$A5 -> -0.258 | J5: ='2'!J5-'2'!$A5 -> -0.328 | ... Q5: ='2'!Q5-'2'!$A5 -> 0.052
A6: 5.138 | C6: ='2'!C6-'2'!$A6 -> 0.362 | D6: ='2'!D6-'2'!$A6 -> 0.172 | E6: ='2'!E6-'2'!$A6 -> 0.052 | F6: ='2'!F6-'2'!$A6 -> 0.802 | G6: ='2'!G6-'2'!$A6 -> -0.948 | H6: ='2'!H6-'2'!$A6 -> -0.328 | I6: ='2'!I6-'2'!$A6 -> -0.258 | J6: ='2'!J6-'2'!$A6 -> -0.328 | ... Q6: ='2'!Q6-'2'!$A6 -> 0.112
A7: 5.138 | C7: ='2'!C7-'2'!$A7 -> 0.362 | D7: ='2'!D7-'2'!$A7 -> 0.172 | E7: ='2'!E7-'2'!$A7 -> -0.078 | F7: ='2'!F7-'2'!$A7 -> 0.802 | G7: ='2'!G7-'2'!$A7 -> -0.888 | H7: ='2'!H7-'2'!$A7 -> -0.388 | I7: ='2'!I7-'2'!$A7 -> -0.258 | J7: ='2'!J7-'2'!$A7 -> -0.328 | ... Q7: ='2'!Q7-'2'!$A7 -> 0.112
A8: 5.138 | C8: ='2'!C8-'2'!$A8 -> 0.422 | D8: ='2'!D8-'2'!$A8 -> 0.172 | E8: ='2'!E8-'2'!$A8 -> -0.008 | F8: ='2'!F8-'2'!$A8 -> 0.862 | G8: ='2'!G8-'2'!$A8 -> -0.948 | H8: ='2'!H8-'2'!$A8 -> -0.328 | I8: ='2'!I8-'2'!$A8 -> -0.258 | J8: ='2'!J8-'2'!$A8 -> -0.328 | ... Q8: ='2'!Q8-'2'!$A8 -> 0.052
A9: 5.138 | C9: ='2'!C9-'2'!$A9 -> 0.362 | D9: ='2'!D9-'2'!$A9 -> 0.172 | E9: ='2'!E9-'2'!$A9 -> -0.008 | F9: ='2'!F9-'2'!$A9 -> 0.862 | G9: ='2'!G9-'2'!$A9 -> -0.888 | H9: ='2'!H9-'2'!$A9 -> -0.388 | I9: ='2'!I9-'2'!$A9 -> -0.258 | J9: ='2'!J9-'2'!$A9 -> -0.328 | ... Q9: ='2'!Q9-'2'!$A9 -> 0.112
A10: 5.138 | C10: ='2'!C10-'2'!$A10 -> 0.422 | D10: ='2'!D10-'2'!$A10 -> 0.172 | E10: ='2'!E10-'2'!$A10 -> -0.008 | F10: ='2'!F10-'2'!$A10 -> 0.862 | G10: ='2'!G10-'2'!$A10 -> -0.888 | H10: ='2'!H10-'2'!$A10 -> -0.328 | I10: ='2'!I10-'2'!$A10 -> -0.258 | J10: ='2'!J10-'2'!$A10 -> -0.388 | ... Q10: ='2'!Q10-'2'!$A10 -> 0.112
A11: 5.138 | C11: ='2'!C11-'2'!$A11 -> 0.362 | D11: ='2'!D11-'2'!$A11 -> 0.172 | E11: ='2'!E11-'2'!$A11 -> -0.008 | F11: ='2'!F11-'2'!$A11 -> 0.802 | G11: ='2'!G11-'2'!$A11 -> -0.888 | H11: ='2'!H11-'2'!$A11 -> -0.388 | I11: ='2'!I11-'2'!$A11 -> -0.258 | J11: ='2'!J11-'2'!$A11 -> -0.328 | ... Q11: ='2'!Q11-'2'!$A11 -> 0.112
A12: 5.138 | C12: ='2'!C12-'2'!$A12 -> 0.362 | D12: ='2'!D12-'2'!$A12 -> 0.172 | E12: ='2'!E12-'2'!$A12 -> 0.052 | F12: ='2'!F12-'2'!$A12 -> 0.862 | G12: ='2'!G12-'2'!$A12 -> -0.888 | H12: ='2'!H12-'2'!$A12 -> -0.328 | I12: ='2'!I12-'2'!$A12 -> -0.258 | J12: ='2'!J12-'2'!$A12 -> -0.388 | ... Q12: ='2'!Q12-'2'!$A12 -> 0.052
A13: 5.138 | C13: ='2'!C13-'2'!$A13 -> 0.422 | D13: ='2'!D13-'2'!$A13 -> 0.172 | E13: ='2'!E13-'2'!$A13 -> -0.008 | F13: ='2'!F13-'2'!$A13 -> 0.802 | G13: ='2'!G13-'2'!$A13 -> -0.888 | H13: ='2'!H13-'2'!$A13 -> -0.328 | I13: ='2'!I13-'2'!$A13 -> -0.198 | J13: ='2'!J13-'2'!$A13 -> -0.388 | ... Q13: ='2'!Q13-'2'!$A13 -> 0.112
... A16: 5.138 | C16: ='2'!C16-'2'!$A16 -> 0.302 | D16: ='2'!D16-'2'!$A16 -> 0.172 | E16: ='2'!E16-'2'!$A16 -> 0.052 | F16: ='2'!F16-'2'!$A16 -> 0.862 | G16: ='2'!G16-'2'!$A16 -> -0.888 | H16: ='2'!H16-'2'!$A16 -> -0.328 | I16: ='2'!I16-'2'!$A16 -> -0.258 | J16: ='2'!J16-'2'!$A16 -> -0.328 | ... Q16: ='2'!Q16-'2'!$A16 -> 0.052
A17: =AVERAGE(A2:A16) -> 5.1372 | C17: =AVERAGE(C2:C16) -> 0.3708 | D17: =AVERAGE(D2:D16) -> 0.1728 | E17: =AVERAGE(E2:E16) -> 0.0081333333 | F17: =AVERAGE(F2:F16) -> 0.8308 | G17: =AVERAGE(G2:G16) -> -0.9112 | H17: =AVERAGE(H2:H16) -> -0.3472 | I17: =AVERAGE(I2:I16) -> -0.2492 | J17: =AVERAGE(J2:J16) -> -0.3512 | ... Q17: =AVERAGE(Q2:Q16) -> 0.0848
A21: Referenz [°C] | B21: dT K-Type [K] | C21: dT DS18B20 in [K] | D21: dT DS18B20 in [K] | E21: dT DS18B20 in [K] | F21: dT DS18B20 in [K] | G21: dT DS18B20 in [K] | H21: dT DS18B20 in [K] | I21: dT DS18B20 in [K] | J21: dT DS18B20 in [K] | K21: dT DS18B20 in [K] | L21: dT DS18B20 in [K] | M21: dT DS18B20 in [K] | N21: dT DS18B20 in [K] | O21: dT DS18B20 in [K] | P21: dT DS18B20 in [K] | Q21: dT DS18B20 in [K]
A22: 8.749 | B22: ='2'!B21-'2'!$A21 -> 0.251 | C22: ='2'!C21-'2'!$A21 -> 0.381 | D22: ='2'!D21-'2'!$A21 -> 0.131 | E22: ='2'!E21-'2'!$A21 -> 0.131 | F22: ='2'!F21-'2'!$A21 -> 0.811 | G22: ='2'!G21-'2'!$A21 -> -0.689 | H22: ='2'!H21-'2'!$A21 -> -0.189 | I22: ='2'!I21-'2'!$A21 -> -0.249 | ... Q22: ='2'!Q21-'2'!$A21 -> 0.001
A23: 8.742 | B23: ='2'!B22-'2'!$A22 -> 0.2605641 | C23: ='2'!C22-'2'!$A22 -> 0.448 | D23: ='2'!D22-'2'!$A22 -> 0.198 | E23: ='2'!E22-'2'!$A22 -> 0.138 | F23: ='2'!F22-'2'!$A22 -> 0.818 | G23: ='2'!G22-'2'!$A22 -> -0.682 | H23: ='2'!H22-'2'!$A22 -> -0.112 | I23: ='2'!I22-'2'!$A22 -> -0.182 | ... Q23: ='2'!Q22-'2'!$A22 -> 0.008
A24: 8.75 | B24: ='2'!B23-'2'!$A23 -> 0.25512821 | C24: ='2'!C23-'2'!$A23 -> 0.44 | D24: ='2'!D23-'2'!$A23 -> 0.13 | E24: ='2'!E23-'2'!$A23 -> 0.13 | F24: ='2'!F23-'2'!$A23 -> 0.88 | G24: ='2'!G23-'2'!$A23 -> -0.69 | H24: ='2'!H23-'2'!$A23 -> -0.19 | I24: ='2'!I23-'2'!$A23 -> -0.19 | ... Q24: ='2'!Q23-'2'!$A23 -> 0
A25: 8.758 | B25: ='2'!B24-'2'!$A24 -> 0.24969231 | C25: ='2'!C24-'2'!$A24 -> 0.432 | D25: ='2'!D24-'2'!$A24 -> 0.122 | E25: ='2'!E24-'2'!$A24 -> 0.122 | F25: ='2'!F24-'2'!$A24 -> 0.872 | G25: ='2'!G24-'2'!$A24 -> -0.698 | H25: ='2'!H24-'2'!$A24 -> -0.128 | I25: ='2'!I24-'2'!$A24 -> -0.258 | ... Q25: ='2'!Q24-'2'!$A24 -> -0.008
A26: 8.762 | B26: ='2'!B25-'2'!$A25 -> 0.24825641 | C26: ='2'!C25-'2'!$A25 -> 0.428 | D26: ='2'!D25-'2'!$A25 -> 0.118 | E26: ='2'!E25-'2'!$A25 -> 0.118 | F26: ='2'!F25-'2'!$A25 -> 0.868 | G26: ='2'!G25-'2'!$A25 -> -0.702 | H26: ='2'!H25-'2'!$A25 -> -0.202 | I26: ='2'!I25-'2'!$A25 -> -0.262 | ... Q26: ='2'!Q25-'2'!$A25 -> -0.012
A27: 8.766 | B27: ='2'!B26-'2'!$A26 -> 0.24682051 | C27: ='2'!C26-'2'!$A26 -> 0.364 | D27: ='2'!D26-'2'!$A26 -> 0.114 | E27: ='2'!E26-'2'!$A26 -> 0.114 | F27: ='2'!F26-'2'!$A26 -> 0.864 | G27: ='2'!G26-'2'!$A26 -> -0.706 | H27: ='2'!H26-'2'!$A26 -> -0.206 | I27: ='2'!I26-'2'!$A26 -> -0.206 | ... Q27: ='2'!Q26-'2'!$A26 -> -0.016
A28: 8.767 | B28: ='2'!B27-'2'!$A27 -> 0.24838462 | C28: ='2'!C27-'2'!$A27 -> 0.423 | D28: ='2'!D27-'2'!$A27 -> 0.113 | E28: ='2'!E27-'2'!$A27 -> 0.173 | F28: ='2'!F27-'2'!$A27 -> 0.923 | G28: ='2'!G27-'2'!$A27 -> -0.707 | H28: ='2'!H27-'2'!$A27 -> -0.207 | I28: ='2'!I27-'2'!$A27 -> -0.207 | ... Q28: ='2'!Q27-'2'!$A27 -> -0.017
A29: 8.766 | B29: ='2'!B28-'2'!$A28 -> 0.25194872 | C29: ='2'!C28-'2'!$A28 -> 0.424 | D29: ='2'!D28-'2'!$A28 -> 0.174 | E29: ='2'!E28-'2'!$A28 -> 0.114 | F29: ='2'!F28-'2'!$A28 -> 0.794 | G29: ='2'!G28-'2'!$A28 -> -0.706 | H29: ='2'!H28-'2'!$A28 -> -0.206 | I29: ='2'!I28-'2'!$A28 -> -0.266 | ... Q29: ='2'!Q28-'2'!$A28 -> -0.016
A30: 8.768 | B30: ='2'!B29-'2'!$A29 -> 0.25251282 | C30: ='2'!C29-'2'!$A29 -> 0.422 | D30: ='2'!D29-'2'!$A29 -> 0.112 | E30: ='2'!E29-'2'!$A29 -> 0.112 | F30: ='2'!F29-'2'!$A29 -> 0.792 | G30: ='2'!G29-'2'!$A29 -> -0.708 | H30: ='2'!H29-'2'!$A29 -> -0.138 | I30: ='2'!I29-'2'!$A29 -> -0.208 | ... Q30: ='2'!Q29-'2'!$A29 -> -0.018
A31: 8.777 | B31: ='2'!B30-'2'!$A30 -> 0.24607692 | C31: ='2'!C30-'2'!$A30 -> 0.473 | D31: ='2'!D30-'2'!$A30 -> 0.103 | E31: ='2'!E30-'2'!$A30 -> 0.103 | F31: ='2'!F30-'2'!$A30 -> 0.853 | G31: ='2'!G30-'2'!$A30 -> -0.647 | H31: ='2'!H30-'2'!$A30 -> -0.217 | I31: ='2'!I30-'2'!$A30 -> -0.217 | ... Q31: ='2'!Q30-'2'!$A30 -> -0.027
A32: 8.776 | B32: ='2'!B31-'2'!$A31 -> 0.24964103 | C32: ='2'!C31-'2'!$A31 -> 0.414 | D32: ='2'!D31-'2'!$A31 -> 0.104 | E32: ='2'!E31-'2'!$A31 -> 0.164 | F32: ='2'!F31-'2'!$A31 -> 0.854 | G32: ='2'!G31-'2'!$A31 -> -0.646 | H32: ='2'!H31-'2'!$A31 -> -0.146 | I32: ='2'!I31-'2'!$A31 -> -0.276 | ... Q32: ='2'!Q31-'2'!$A31 -> -0.026
A33: 8.779 | B33: ='2'!B32-'2'!$A32 -> 0.24920513 | C33: ='2'!C32-'2'!$A32 -> 0.471 | D33: ='2'!D32-'2'!$A32 -> 0.101 | E33: ='2'!E32-'2'!$A32 -> 0.161 | F33: ='2'!F32-'2'!$A32 -> 0.781 | G33: ='2'!G32-'2'!$A32 -> -0.649 | H33: ='2'!H32-'2'!$A32 -> -0.149 | I33: ='2'!I32-'2'!$A32 -> -0.219 | ... Q33: ='2'!Q32-'2'!$A32 -> 0.031
... A61: 8.83 | B61: ='2'!B60-'2'!$A60 -> 0.27 | C61: ='2'!C60-'2'!$A60 -> 0.42 | D61: ='2'!D60-'2'!$A60 -> 0.11 | E61: ='2'!E60-'2'!$A60 -> 0.11 | F61: ='2'!F60-'2'!$A60 -> 0.86 | G61: ='2'!G60-'2'!$A60 -> -0.64 | H61: ='2'!H60-'2'!$A60 -> -0.14 | I61: ='2'!I60-'2'!$A60 -> -0.2 | ... Q61: ='2'!Q60-'2'!$A60 -> 0.05
A62: =AVERAGE(A22:A61) -> 8.787275 | B62: =AVERAGE(B22:B61) -> 0.262725 | C62: =AVERAGE(C22:C61) -> 0.434225 | D62: =AVERAGE(D22:D61) -> 0.134725 | E62: =AVERAGE(E22:E61) -> 0.133225 | F62: =AVERAGE(F22:F61) -> 0.860975 | G62: =AVERAGE(G22:G61) -> -0.670775 | H62: =AVERAGE(H22:H61) -> -0.165775 | ... Q62: =AVERAGE(Q22:Q61) -> 0.003975
A65: Referenz [°C] | B65: dT K-Type [K] | C65: dT DS18B20 in [K] | D65: dT DS18B20 in [K] | E65: dT DS18B20 in [K] | F65: dT DS18B20 in [K] | G65: dT DS18B20 in [K] | H65: dT DS18B20 in [K] | I65: dT DS18B20 in [K] | J65: dT DS18B20 in [K] | K65: dT DS18B20 in [K] | L65: dT DS18B20 in [K] | M65: dT DS18B20 in [K] | N65: dT DS18B20 in [K] | O65: dT DS18B20 in [K] | P65: dT DS18B20 in [K] | Q65: dT DS18B20 in [K]
A66: 22.904 | B66: ='2'!B65-'2'!$A65 -> 0.596 | C66: ='2'!C65-'2'!$A65 -> 0.286 | D66: ='2'!D65-'2'!$A65 -> 0.096 | E66: ='2'!E65-'2'!$A65 -> -0.034 | F66: ='2'!F65-'2'!$A65 -> 0.466 | G66: ='2'!G65-'2'!$A65 -> -0.904 | H66: ='2'!H65-'2'!$A65 -> -0.344 | I66: ='2'!I65-'2'!$A65 -> -0.284 | ... Q66: ='2'!Q65-'2'!$A65 -> -0.154
A67: 22.904 | B67: ='2'!B66-'2'!$A66 -> 0.596 | C67: ='2'!C66-'2'!$A66 -> 0.216 | D67: ='2'!D66-'2'!$A66 -> 0.096 | E67: ='2'!E66-'2'!$A66 -> -0.034 | F67: ='2'!F66-'2'!$A66 -> 0.466 | G67: ='2'!G66-'2'!$A66 -> -0.904 | H67: ='2'!H66-'2'!$A66 -> -0.344 | I67: ='2'!I66-'2'!$A66 -> -0.284 | ... Q67: ='2'!Q66-'2'!$A66 -> -0.154
A68: 22.904 | B68: ='2'!B67-'2'!$A67 -> 0.596 | C68: ='2'!C67-'2'!$A67 -> 0.216 | D68: ='2'!D67-'2'!$A67 -> 0.096 | E68: ='2'!E67-'2'!$A67 -> -0.034 | F68: ='2'!F67-'2'!$A67 -> 0.406 | G68: ='2'!G67-'2'!$A67 -> -0.964 | H68: ='2'!H67-'2'!$A67 -> -0.404 | I68: ='2'!I67-'2'!$A67 -> -0.214 | ... Q68: ='2'!Q67-'2'!$A67 -> -0.094
A69: 22.904 | B69: ='2'!B68-'2'!$A68 -> 0.596 | C69: ='2'!C68-'2'!$A68 -> 0.286 | D69: ='2'!D68-'2'!$A68 -> 0.096 | E69: ='2'!E68-'2'!$A68 -> 0.036 | F69: ='2'!F68-'2'!$A68 -> 0.466 | G69: ='2'!G68-'2'!$A68 -> -0.904 | H69: ='2'!H68-'2'!$A68 -> -0.344 | I69: ='2'!I68-'2'!$A68 -> -0.284 | ... Q69: ='2'!Q68-'2'!$A68 -> -0.154
A70: 22.904 | B70: ='2'!B69-'2'!$A69 -> 0.596 | C70: ='2'!C69-'2'!$A69 -> 0.286 | D70: ='2'!D69-'2'!$A69 -> 0.096 | E70: ='2'!E69-'2'!$A69 -> -0.094 | F70: ='2'!F69-'2'!$A69 -> 0.406 | G70: ='2'!G69-'2'!$A69 -> -0.904 | H70: ='2'!H69-'2'!$A69 -> -0.344 | I70: ='2'!I69-'2'!$A69 -> -0.284 | ... Q70: ='2'!Q69-'2'!$A69 -> -0.094
A71: 22.904 | B71: ='2'!B70-'2'!$A70 -> 0.596 | C71: ='2'!C70-'2'!$A70 -> 0.286 | D71: ='2'!D70-'2'!$A70 -> 0.096 | E71: ='2'!E70-'2'!$A70 -> -0.094 | F71: ='2'!F70-'2'!$A70 -> 0.466 | G71: ='2'!G70-'2'!$A70 -> -0.904 | H71: ='2'!H70-'2'!$A70 -> -0.344 | I71: ='2'!I70-'2'!$A70 -> -0.284 | ... Q71: ='2'!Q70-'2'!$A70 -> -0.094
A72: 22.904 | B72: ='2'!B71-'2'!$A71 -> 0.596 | C72: ='2'!C71-'2'!$A71 -> 0.286 | D72: ='2'!D71-'2'!$A71 -> 0.036 | E72: ='2'!E71-'2'!$A71 -> -0.034 | F72: ='2'!F71-'2'!$A71 -> 0.466 | G72: ='2'!G71-'2'!$A71 -> -0.904 | H72: ='2'!H71-'2'!$A71 -> -0.344 | I72: ='2'!I71-'2'!$A71 -> -0.284 | ... Q72: ='2'!Q71-'2'!$A71 -> -0.094
A73: 22.904 | B73: ='2'!B72-'2'!$A72 -> 0.596 | C73: ='2'!C72-'2'!$A72 -> 0.286 | D73: ='2'!D72-'2'!$A72 -> 0.096 | E73: ='2'!E72-'2'!$A72 -> -0.094 | F73: ='2'!F72-'2'!$A72 -> 0.466 | G73: ='2'!G72-'2'!$A72 -> -0.904 | H73: ='2'!H72-'2'!$A72 -> -0.344 | I73: ='2'!I72-'2'!$A72 -> -0.214 | ... Q73: ='2'!Q72-'2'!$A72 -> -0.154
A74: 22.904 | B74: ='2'!B73-'2'!$A73 -> 0.596 | C74: ='2'!C73-'2'!$A73 -> 0.286 | D74: ='2'!D73-'2'!$A73 -> 0.036 | E74: ='2'!E73-'2'!$A73 -> -0.034 | F74: ='2'!F73-'2'!$A73 -> 0.466 | G74: ='2'!G73-'2'!$A73 -> -0.844 | H74: ='2'!H73-'2'!$A73 -> -0.344 | I74: ='2'!I73-'2'!$A73 -> -0.284 | ... Q74: ='2'!Q73-'2'!$A73 -> -0.094
...

Sheet Graph 2
A1: Referenz [°C] | B1: dT K-Type [K] | C1: dT DS18B20 in [K] | D1: dT DS18B20 in [K] | E1: dT DS18B20 in [K] | F1: dT DS18B20 in [K] | G1: dT DS18B20 in [K] | H1: dT DS18B20 in [K] | I1: dT DS18B20 in [K] | J1: dT DS18B20 in [K] | K1: dT DS18B20 in [K] | L1: dT DS18B20 in [K] | M1: dT DS18B20 in [K] | N1: dT DS18B20 in [K] | O1: dT DS18B20 in [K] | P1: dT DS18B20 in [K] | Q1: dT DS18B20 in [K]
A2: ='Bad dT'!A23 -> 0.20209524 | B2: ='Bad dT'!B23 -> 0.39790476 | C2: ='Bad dT'!C23 -> 0.7107619 | D2: ='Bad dT'!D23 -> 0.39171429 | E2: ='Bad dT'!E23 -> 0.29504762 | F2: ='Bad dT'!F23 -> 1.0850476 | G2: ='Bad dT'!G23 -> -0.36209524 | H2: ='Bad dT'!H23 -> 0.63838095 | ... Q2: ='Bad dT'!Q23 -> 0.43219048
A3: ='2dt'!A17 -> 5.1372 | B3: 0.4 | C3: ='2dt'!C17 -> 0.3708 | D3: ='2dt'!D17 -> 0.1728 | E3: ='2dt'!E17 -> 0.0081333333 | F3: ='2dt'!F17 -> 0.8308 | G3: ='2dt'!G17 -> -0.9112 | H3: ='2dt'!H17 -> -0.3472 | I3: ='2dt'!I17 -> -0.2492 | J3: ='2dt'!J17 -> -0.3512 | ... Q3: ='2dt'!Q17 -> 0.0848
A4: ='2dt'!A62 -> 8.787275 | B4: ='2dt'!B62 -> 0.262725 | C4: ='2dt'!C62 -> 0.434225 | D4: ='2dt'!D62 -> 0.134725 | E4: ='2dt'!E62 -> 0.133225 | F4: ='2dt'!F62 -> 0.860975 | G4: ='2dt'!G62 -> -0.670775 | H4: ='2dt'!H62 -> -0.165775 | ... Q4: ='2dt'!Q62 -> 0.003975
A5: ='2dt'!A109 -> 22.904 | B5: ='2dt'!B109 -> 0.596 | C5: ='2dt'!C109 -> 0.28972093 | D5: ='2dt'!D109 -> 0.079255814 | E5: ='2dt'!E109 -> -0.036325581 | F5: ='2dt'!F109 -> 0.46088372 | G5: ='2dt'!G109 -> -0.9012093 | H5: ='2dt'!H109 -> -0.36213953 | ... Q5: ='2dt'!Q109 -> -0.11493023
A6: ='2dt'!A153 -> 27.02885 | B6: ='2dt'!B153 -> 0.57115 | C6: ='2dt'!C153 -> 0.02065 | D6: ='2dt'!D153 -> 0.04765 | E6: ='2dt'!E153 -> -0.11335 | F6: ='2dt'!F153 -> 0.34265 | G6: ='2dt'!G153 -> -0.89085 | H6: ='2dt'!H153 -> -0.4326 | ... Q6: ='2dt'!Q153 -> -0.27135
A7: ='2dt'!A191 -> 31.0345 | B7: ='2dt'!B191 -> 0.7155 | C7: ='2dt'!C191 -> 0.0060882353 | D7: ='2dt'!D191 -> -0.023911765 | E7: ='2dt'!E191 -> -0.21567647 | F7: ='2dt'!F191 -> 0.22961765 | G7: ='2dt'!G191 -> -1.0559706 | H7: ='2dt'!H191 -> -0.57714706 | ... Q7: ='2dt'!Q191 -> -0.33920588
A8: ='2dt'!A215 -> 35.0324 | B8: ='2dt'!B215 -> 0.7176 | C8: ='2dt'!C215 -> -0.0114 | D8: ='2dt'!D215 -> -0.0594 | E8: ='2dt'!E215 -> -0.2144 | F8: ='2dt'!F215 -> 0.1756 | G8: ='2dt'!G215 -> -1.0234 | H8: ='2dt'!H215 -> -0.6344 | ... Q8: ='2dt'!Q215 -> -0.3844
A9: ='2dt'!A248 -> 40.04331 | B9: ='2dt'!B248 -> 0.85668966 | C9: ='2dt'!C248 -> -0.04262069 | D9: ='2dt'!D248 -> -0.057448276 | E9: ='2dt'!E248 -> -0.2502069 | F9: ='2dt'!F248 -> 0.085310345 | G9: ='2dt'!G248 -> -1.0326207 | H9: ='2dt'!H248 -> -0.58882759 | ... Q9: ='2dt'!Q248 -> -0.44055172
A10: ='2dt'!A269 -> 49.935471 | B10: ='2dt'!B269 -> 0.76452941 | C10: ='2dt'!C269 -> -0.084882353 | D10: ='2dt'!D269 -> -0.091941176 | E10: ='2dt'!E269 -> -0.29429412 | F10: ='2dt'!F269 -> -0.036647059 | G10: ='2dt'!G269 -> -1.0848824 | H10: ='2dt'!H269 -> -0.60311765 | ... Q10: ='2dt'!Q269 -> -0.519
A11: ='Bad dT'!A33 -> 98.834 | B11: ='Bad dT'!B33 -> 1.366 | C11: ='Bad dT'!C33 -> -0.544 | D11: ='Bad dT'!D33 -> -0.284 | E11: ='Bad dT'!E33 -> -0.534 | F11: ='Bad dT'!F33 -> -0.65733333 | G11: ='Bad dT'!G33 -> -1.6573333 | H11: ='Bad dT'!H33 -> -0.314 | ... Q11: ='Bad dT'!Q33 -> -0.784

Sheet Bad
A1: Referenz [°C] | B1: Theoretisch [°C] | C1: T K-Type [°C] | D1: T DS18B20 in [°C] | E1: T DS18B20 in [°C] | F1: T DS18B20 in [°C] | G1: T DS18B20 in [°C] | H1: T DS18B20 in [°C] | I1: T DS18B20 in [°C] | J1: T DS18B20 in [°C] | K1: T DS18B20 in [°C] | L1: T DS18B20 in [°C] | M1: T DS18B20 in [°C] | N1: T DS18B20 in [°C] | O1: T DS18B20 in [°C] | P1: T DS18B20 in [°C] | Q1: T DS18B20 in [°C] | R1: T DS18B20 in [°C]
A2: 0.198 | B2: 0 | C2: 0.6 | D2: 0.81 | E2: 0.56 | F2: 0.44 | G2: 1.31 | H2: -0.25 | I2: 0.75 | J2: 0.25 | K2: 0 | L2: 1 | M2: 1 | N2: 0.69 | O2: 1.06 | P2: 0.37 | Q2: 0.25 | R2: 0.56
A3: 0.196 | B3: 0 | C3: 0.6 | D3: 0.88 | E3: 0.56 | F3: 0.44 | G3: 1.31 | H3: -0.31 | I3: 0.75 | J3: 0.25 | K3: -0.06 | L3: 1 | M3: 1 | N3: 0.75 | O3: 1.06 | P3: 0.37 | Q3: 0.19 | R3: 0.56
A4: 0.196 | B4: 0 | C4: 0.6 | D4: 0.81 | E4: 0.56 | F4: 0.44 | G4: 1.25 | H4: -0.25 | I4: 0.75 | J4: 0.25 | K4: -0.06 | L4: 1 | M4: 1 | N4: 0.75 | O4: 1.06 | P4: 0.37 | Q4: 0.25 | R4: 0.63
A5: 0.196 | B5: 0 | C5: 0.6 | D5: 0.88 | E5: 0.5 | F5: 0.44 | G5: 1.25 | H5: -0.25 | I5: 0.75 | J5: 0.31 | K5: 0 | L5: 1 | M5: 1 | N5: 0.75 | O5: 1.06 | P5: 0.37 | Q5: 0.19 | R5: 0.63
A6: 0.196 | B6: 0 | C6: 0.6 | D6: 0.81 | E6: 0.56 | F6: 0.5 | G6: 1.25 | H6: -0.19 | I6: 0.81 | J6: 0.31 | K6: -0.06 | L6: 1 | M6: 1 | N6: 0.75 | O6: 1.06 | P6: 0.44 | Q6: 0.25 | R6: 0.63
A7: 0.197 | B7: 0 | C7: 0.6 | D7: 0.88 | E7: 0.56 | F7: 0.44 | G7: 1.25 | H7: -0.19 | I7: 0.81 | J7: 0.31 | K7: -0.06 | L7: 1.06 | M7: 1 | N7: 0.75 | O7: 1.06 | P7: 0.44 | Q7: 0.25 | R7: 0.56
A8: 0.198 | B8: 0 | C8: 0.6 | D8: 0.94 | E8: 0.56 | F8: 0.5 | G8: 1.25 | H8: -0.19 | I8: 0.81 | J8: 0.37 | K8: 0 | L8: 1 | M8: 1 | N8: 0.69 | O8: 1.12 | P8: 0.44 | Q8: 0.25 | R8: 0.63
A9: 0.199 | B9: 0 | C9: 0.6 | D9: 0.94 | E9: 0.63 | F9: 0.44 | G9: 1.25 | H9: -0.19 | I9: 0.81 | J9: 0.31 | K9: -0.06 | L9: 1 | M9: 1 | N9: 0.69 | O9: 1.12 | P9: 0.44 | Q9: 0.25 | R9: 0.63
A10: 0.2 | B10: 0 | C10: 0.6 | D10: 0.94 | E10: 0.63 | F10: 0.44 | G10: 1.31 | H10: -0.19 | I10: 0.81 | J10: 0.31 | K10: 0 | L10: 1 | M10: 1 | N10: 0.75 | O10: 1.12 | P10: 0.44 | Q10: 0.25 | R10: 0.63
A11: 0.201 | B11: 0 | C11: 0.6 | D11: 0.88 | E11: 0.56 | F11: 0.5 | G11: 1.25 | H11: -0.19 | I11: 0.81 | J11: 0.31 | K11: -0.06 | L11: 1 | M11: 1 | N11: 0.69 | O11: 1.19 | P11: 0.44 | Q11: 0.31 | R11: 0.63
A12: 0.202 | B12: 0 | C12: 0.6 | D12: 0.94 | E12: 0.56 | F12: 0.5 | G12: 1.31 | H12: -0.19 | I12: 0.81 | J12: 0.31 | K12: 0 | L12: 1.06 | M12: 1 | N12: 0.69 | O12: 1.19 | P12: 0.44 | Q12: 0.31 | R12: 0.63
A13: 0.203 | B13: 0 | C13: 0.6 | D13: 0.94 | E13: 0.56 | F13: 0.5 | G13: 1.31 | H13: -0.19 | I13: 0.88 | J13: 0.37 | K13: 0 | L13: 1.06 | M13: 1 | N13: 0.75 | O13: 1.19 | P13: 0.44 | Q13: 0.31 | R13: 0.63
... A22: 0.211 | B22: 0 | C22: 0.6 | D22: 0.94 | E22: 0.63 | F22: 0.56 | G22: 1.37 | H22: -0.06 | I22: 0.94 | J22: 0.37 | K22: 0.06 | L22: 1.12 | M22: 1.06 | N22: 0.75 | O22: 1.25 | P22: 0.5 | Q22: 0.25 | R22: 0.69
A26: Referenz [°C] | B26: Theoretisch [°C] | C26: T K-Type [°C] | D26: T DS18B20 in [°C] | E26: T DS18B20 in [°C] | F26: T DS18B20 in [°C] | G26: T DS18B20 in [°C] | H26: T DS18B20 in [°C] | I26: T DS18B20 in [°C] | J26: T DS18B20 in [°C] | K26: T DS18B20 in [°C] | L26: T DS18B20 in [°C] | M26: T DS18B20 in [°C] | N26: T DS18B20 in [°C] | O26: T DS18B20 in [°C] | P26: T DS18B20 in [°C] | Q26: T DS18B20 in [°C] | R26: T DS18B20 in [°C]
A27: 98.828 | B27: 99.06 | C27: 100.2 | D27: 98.19 | E27: 98.5 | F27: 98.25 | G27: 98.12 | H27: 97.12 | I27: 98.44 | J27: 98.12 | K27: 97.69 | L27: 98.12 | M27: 98.75 | N27: 98.81 | O27: 98.5 | P27: 99.12 | Q27: 97.87 | R27: 98
A28: 98.833 | B28: 99.06 | C28: 100.2 | D28: 98.25 | E28: 98.56 | F28: 98.31 | G28: 98.12 | H28: 97.12 | I28: 98.5 | J28: 98.19 | K28: 97.69 | L28: 98.19 | M28: 98.75 | N28: 98.87 | O28: 98.5 | P28: 99.19 | Q28: 97.87 | R28: 98.06
A29: 98.834 | B29: 99.06 | C29: 100.2 | D29: 98.31 | E29: 98.56 | F29: 98.31 | G29: 98.19 | H29: 97.19 | I29: 98.5 | J29: 98.19 | K29: 97.75 | L29: 98.25 | M29: 98.81 | N29: 98.87 | O29: 98.5 | P29: 99.19 | Q29: 97.87 | R29: 98.06
A30: 98.834 | B30: 99.06 | C30: 100.2 | D30: 98.31 | E30: 98.56 | F30: 98.31 | G30: 98.19 | H30: 97.19 | I30: 98.5 | J30: 98.19 | K30: 97.75 | L30: 98.25 | M30: 98.81 | N30: 98.87 | O30: 98.5 | P30: 99.19 | Q30: 97.87 | R30: 98.06
A31: 98.837 | B31: 99.06 | C31: 100.2 | D31: 98.31 | E31: 98.56 | F31: 98.31 | G31: 98.19 | H31: 97.19 | I31: 98.56 | J31: 98.19 | K31: 97.75 | L31: 98.25 | M31: 98.81 | N31: 98.87 | O31: 98.56 | P31: 99.19 | Q31: 97.94 | R31: 98.06
A32: 98.838 | B32: 99.06 | C32: 100.2 | D32: 98.37 | E32: 98.56 | F32: 98.31 | G32: 98.25 | H32: 97.25 | I32: 98.62 | J32: 98.19 | K32: 97.75 | L32: 98.31 | M32: 98.81 | N32: 98.87 | O32: 98.56 | P32: 99.25 | Q32: 97.94 | R32: 98.06

Sheet Bad dT
A1: Referenz [°C] | B1: dT K-Type [K] | C1: dT DS18B20 in [K] | D1: dT DS18B20 in [K] | E1: dT DS18B20 in [K] | F1: dT DS18B20 in [K] | G1: dT DS18B20 in [K] | H1: dT DS18B20 in [K] | I1: dT DS18B20 in [K] | J1: dT DS18B20 in [K] | K1: dT DS18B20 in [K] | L1: dT DS18B20 in [K] | M1: dT DS18B20 in [K] | N1: dT DS18B20 in [K] | O1: dT DS18B20 in [K] | P1: dT DS18B20 in [K] | Q1: dT DS18B20 in [K]
A2: =Bad!A2 -> 0.198 | B2: =Bad!C2-Bad!$A2 -> 0.402 | C2: =Bad!D2-Bad!$A2 -> 0.612 | D2: =Bad!E2-Bad!$A2 -> 0.362 | E2: =Bad!F2-Bad!$A2 -> 0.242 | F2: =Bad!G2-Bad!$A2 -> 1.112 | G2: =Bad!H2-Bad!$A2 -> -0.448 | H2: =Bad!I2-Bad!$A2 -> 0.552 | I2: =Bad!J2-Bad!$A2 -> 0.052 | ... Q2: =Bad!R2-Bad!$A2 -> 0.362
A3: =Bad!A3 -> 0.196 | B3: =Bad!C3-Bad!$A3 -> 0.404 | C3: =Bad!D3-Bad!$A3 -> 0.684 | D3: =Bad!E3-Bad!$A3 -> 0.364 | E3: =Bad!F3-Bad!$A3 -> 0.244 | F3: =Bad!G3-Bad!$A3 -> 1.114 | G3: =Bad!H3-Bad!$A3 -> -0.506 | H3: =Bad!I3-Bad!$A3 -> 0.554 | I3: =Bad!J3-Bad!$A3 -> 0.054 | ... Q3: =Bad!R3-Bad!$A3 -> 0.364
A4: =Bad!A4 -> 0.196 | B4: =Bad!C4-Bad!$A4 -> 0.404 | C4: =Bad!D4-Bad!$A4 -> 0.614 | D4: =Bad!E4-Bad!$A4 -> 0.364 | E4: =Bad!F4-Bad!$A4 -> 0.244 | F4: =Bad!G4-Bad!$A4 -> 1.054 | G4: =Bad!H4-Bad!$A4 -> -0.446 | H4: =Bad!I4-Bad!$A4 -> 0.554 | I4: =Bad!J4-Bad!$A4 -> 0.054 | ... Q4: =Bad!R4-Bad!$A4 -> 0.434
A5: =Bad!A5 -> 0.196 | B5: =Bad!C5-Bad!$A5 -> 0.404 | C5: =Bad!D5-Bad!$A5 -> 0.684 | D5: =Bad!E5-Bad!$A5 -> 0.304 | E5: =Bad!F5-Bad!$A5 -> 0.244 | F5: =Bad!G5-Bad!$A5 -> 1.054 | G5: =Bad!H5-Bad!$A5 -> -0.446 | H5: =Bad!I5-Bad!$A5 -> 0.554 | I5: =Bad!J5-Bad!$A5 -> 0.114 | ... Q5: =Bad!R5-Bad!$A5 -> 0.434
A6: =Bad!A6 -> 0.196 | B6: =Bad!C6-Bad!$A6 -> 0.404 | C6: =Bad!D6-Bad!$A6 -> 0.614 | D6: =Bad!E6-Bad!$A6 -> 0.364 | E6: =Bad!F6-Bad!$A6 -> 0.304 | F6: =Bad!G6-Bad!$A6 -> 1.054 | G6: =Bad!H6-Bad!$A6 -> -0.386 | H6: =Bad!I6-Bad!$A6 -> 0.614 | I6: =Bad!J6-Bad!$A6 -> 0.114 | ... Q6: =Bad!R6-Bad!$A6 -> 0.434
A7: =Bad!A7 -> 0.197 | B7: =Bad!C7-Bad!$A7 -> 0.403 | C7: =Bad!D7-Bad!$A7 -> 0.683 | D7: =Bad!E7-Bad!$A7 -> 0.363 | E7: =Bad!F7-Bad!$A7 -> 0.243 | F7: =Bad!G7-Bad!$A7 -> 1.053 | G7: =Bad!H7-Bad!$A7 -> -0.387 | H7: =Bad!I7-Bad!$A7 -> 0.613 | I7: =Bad!J7-Bad!$A7 -> 0.113 | ... Q7: =Bad!R7-Bad!$A7 -> 0.363
A8: =Bad!A8 -> 0.198 | B8: =Bad!C8-Bad!$A8 -> 0.402 | C8: =Bad!D8-Bad!$A8 -> 0.742 | D8: =Bad!E8-Bad!$A8 -> 0.362 | E8: =Bad!F8-Bad!$A8 -> 0.302 | F8: =Bad!G8-Bad!$A8 -> 1.052 | G8: =Bad!H8-Bad!$A8 -> -0.388 | H8: =Bad!I8-Bad!$A8 -> 0.612 | I8: =Bad!J8-Bad!$A8 -> 0.172 | ... Q8: =Bad!R8-Bad!$A8 -> 0.432
A9: =Bad!A9 -> 0.199 | B9: =Bad!C9-Bad!$A9 -> 0.401 | C9: =Bad!D9-Bad!$A9 -> 0.741 | D9: =Bad!E9-Bad!$A9 -> 0.431 | E9: =Bad!F9-Bad!$A9 -> 0.241 | F9: =Bad!G9-Bad!$A9 -> 1.051 | G9: =Bad!H9-Bad!$A9 -> -0.389 | H9: =Bad!I9-Bad!$A9 -> 0.611 | I9: =Bad!J9-Bad!$A9 -> 0.111 | ... Q9: =Bad!R9-Bad!$A9 -> 0.431
A10: =Bad!A10 -> 0.2 | B10: =Bad!C10-Bad!$A10 -> 0.4 | C10: =Bad!D10-Bad!$A10 -> 0.74 | D10: =Bad!E10-Bad!$A10 -> 0.43 | E10: =Bad!F10-Bad!$A10 -> 0.24 | F10: =Bad!G10-Bad!$A10 -> 1.11 | G10: =Bad!H10-Bad!$A10 -> -0.39 | H10: =Bad!I10-Bad!$A10 -> 0.61 | I10: =Bad!J10-Bad!$A10 -> 0.11 | ... Q10: =Bad!R10-Bad!$A10 -> 0.43
A11: =Bad!A11 -> 0.201 | B11: =Bad!C11-Bad!$A11 -> 0.399 | C11: =Bad!D11-Bad!$A11 -> 0.679 | D11: =Bad!E11-Bad!$A11 -> 0.359 | E11: =Bad!F11-Bad!$A11 -> 0.299 | F11: =Bad!G11-Bad!$A11 -> 1.049 | G11: =Bad!H11-Bad!$A11 -> -0.391 | H11: =Bad!I11-Bad!$A11 -> 0.609 | I11: =Bad!J11-Bad!$A11 -> 0.109 | ... Q11: =Bad!R11-Bad!$A11 -> 0.429
A12: =Bad!A12 -> 0.202 | B12: =Bad!C12-Bad!$A12 -> 0.398 | C12: =Bad!D12-Bad!$A12 -> 0.738 | D12: =Bad!E12-Bad!$A12 -> 0.358 | E12: =Bad!F12-Bad!$A12 -> 0.298 | F12: =Bad!G12-Bad!$A12 -> 1.108 | G12: =Bad!H12-Bad!$A12 -> -0.392 | H12: =Bad!I12-Bad!$A12 -> 0.608 | I12: =Bad!J12-Bad!$A12 -> 0.108 | ... Q12: =Bad!R12-Bad!$A12 -> 0.428
A13: =Bad!A13 -> 0.203 | B13: =Bad!C13-Bad!$A13 -> 0.397 | C13: =Bad!D13-Bad!$A13 -> 0.737 | D13: =Bad!E13-Bad!$A13 -> 0.357 | E13: =Bad!F13-Bad!$A13 -> 0.297 | F13: =Bad!G13-Bad!$A13 -> 1.107 | G13: =Bad!H13-Bad!$A13 -> -0.393 | H13: =Bad!I13-Bad!$A13 -> 0.677 | I13: =Bad!J13-Bad!$A13 -> 0.167 | ... Q13: =Bad!R13-Bad!$A13 -> 0.427
... A22: =Bad!A22 -> 0.211 | B22: =Bad!C22-Bad!$A22 -> 0.389 | C22: =Bad!D22-Bad!$A22 -> 0.729 | D22: =Bad!E22-Bad!$A22 -> 0.419 | E22: =Bad!F22-Bad!$A22 -> 0.349 | F22: =Bad!G22-Bad!$A22 -> 1.159 | G22: =Bad!H22-Bad!$A22 -> -0.271 | H22: =Bad!I22-Bad!$A22 -> 0.729 | I22: =Bad!J22-Bad!$A22 -> 0.159 | ... Q22: =Bad!R22-Bad!$A22 -> 0.479
A23: =AVERAGE(A2:A22) -> 0.20209524 | B23: =AVERAGE(B2:B22) -> 0.39790476 | C23: =AVERAGE(C2:C22) -> 0.7107619 | D23: =AVERAGE(D2:D22) -> 0.39171429 | E23: =AVERAGE(E2:E22) -> 0.29504762 | F23: =AVERAGE(F2:F22) -> 1.0850476 | G23: =AVERAGE(G2:G22) -> -0.36209524 | H23: =AVERAGE(H2:H22) -> 0.63838095 | ... Q23: =AVERAGE(Q2:Q22) -> 0.43219048
A26: =Bad!A26 -> Referenz [°C] | B26: dT K-Type [K] | C26: dT DS18B20 in [K] | D26: dT DS18B20 in [K] | E26: dT DS18B20 in [K] | F26: dT DS18B20 in [K] | G26: dT DS18B20 in [K] | H26: dT DS18B20 in [K] | I26: dT DS18B20 in [K] | J26: dT DS18B20 in [K] | K26: dT DS18B20 in [K] | L26: dT DS18B20 in [K] | M26: dT DS18B20 in [K] | N26: dT DS18B20 in [K] | O26: dT DS18B20 in [K] | P26: dT DS18B20 in [K] | Q26: dT DS18B20 in [K]
A27: =Bad!A27 -> 98.828 | B27: =Bad!C27-Bad!$A27 -> 1.372 | C27: =Bad!D27-Bad!$A27 -> -0.638 | D27: =Bad!E27-Bad!$A27 -> -0.328 | E27: =Bad!F27-Bad!$A27 -> -0.578 | F27: =Bad!G27-Bad!$A27 -> -0.708 | G27: =Bad!H27-Bad!$A27 -> -1.708 | H27: =Bad!I27-Bad!$A27 -> -0.388 | I27: =Bad!J27-Bad!$A27 -> -0.708 | ... Q27: =Bad!R27-Bad!$A27 -> -0.828
A28: =Bad!A28 -> 98.833 | B28: =Bad!C28-Bad!$A28 -> 1.367 | C28: =Bad!D28-Bad!$A28 -> -0.583 | D28: =Bad!E28-Bad!$A28 -> -0.273 | E28: =Bad!F28-Bad!$A28 -> -0.523 | F28: =Bad!G28-Bad!$A28 -> -0.713 | G28: =Bad!H28-Bad!$A28 -> -1.713 | H28: =Bad!I28-Bad!$A28 -> -0.333 | I28: =Bad!J28-Bad!$A28 -> -0.643 | ... Q28: =Bad!R28-Bad!$A28 -> -0.773
A29: =Bad!A29 -> 98.834 | B29: =Bad!C29-Bad!$A29 -> 1.366 | C29: =Bad!D29-Bad!$A29 -> -0.524 | D29: =Bad!E29-Bad!$A29 -> -0.274 | E29: =Bad!F29-Bad!$A29 -> -0.524 | F29: =Bad!G29-Bad!$A29 -> -0.644 | G29: =Bad!H29-Bad!$A29 -> -1.644 | H29: =Bad!I29-Bad!$A29 -> -0.334 | I29: =Bad!J29-Bad!$A29 -> -0.644 | ... Q29: =Bad!R29-Bad!$A29 -> -0.774
A30: =Bad!A30 -> 98.834 | B30: =Bad!C30-Bad!$A30 -> 1.366 | C30: =Bad!D30-Bad!$A30 -> -0.524 | D30: =Bad!E30-Bad!$A30 -> -0.274 | E30: =Bad!F30-Bad!$A30 -> -0.524 | F30: =Bad!G30-Bad!$A30 -> -0.644 | G30: =Bad!H30-Bad!$A30 -> -1.644 | H30: =Bad!I30-Bad!$A30 -> -0.334 | I30: =Bad!J30-Bad!$A30 -> -0.644 | ... Q30: =Bad!R30-Bad!$A30 -> -0.774
A31: =Bad!A31 -> 98.837 | B31: =Bad!C31-Bad!$A31 -> 1.363 | C31: =Bad!D31-Bad!$A31 -> -0.527 | D31: =Bad!E31-Bad!$A31 -> -0.277 | E31: =Bad!F31-Bad!$A31 -> -0.527 | F31: =Bad!G31-Bad!$A31 -> -0.647 | G31: =Bad!H31-Bad!$A31 -> -1.647 | H31: =Bad!I31-Bad!$A31 -> -0.277 | I31: =Bad!J31-Bad!$A31 -> -0.647 | ... Q31: =Bad!R31-Bad!$A31 -> -0.777
A32: =Bad!A32 -> 98.838 | B32: =Bad!C32-Bad!$A32 -> 1.362 | C32: =Bad!D32-Bad!$A32 -> -0.468 | D32: =Bad!E32-Bad!$A32 -> -0.278 | E32: =Bad!F32-Bad!$A32 -> -0.528 | F32: =Bad!G32-Bad!$A32 -> -0.588 | G32: =Bad!H32-Bad!$A32 -> -1.588 | H32: =Bad!I32-Bad!$A32 -> -0.218 | I32: =Bad!J32-Bad!$A32 -> -0.648 | ... Q32: =Bad!R32-Bad!$A32 -> -0.778
A33: =AVERAGE(A27:A32) -> 98.834 | B33: =AVERAGE(B27:B32) -> 1.366 | C33: =AVERAGE(C27:C32) -> -0.544 | D33: =AVERAGE(D27:D32) -> -0.284 | E33: =AVERAGE(E27:E32) -> -0.534 | F33: =AVERAGE(F27:F32) -> -0.65733333 | G33: =AVERAGE(G27:G32) -> -1.6573333 | H33: =AVERAGE(H27:H32) -> -0.314 | ... Q33: =AVERAGE(Q27:Q32) -> -0.784
