Workbook
Name Einheit: 'Börse Verkauf besser'!#REF!
Name Einheit: #REF!
Name mitoderohnedividende: 'Börse Verkauf besser'!#REF!
Name mitoderohnedividende: #REF!
Name watchlist: Kurse!$B$2:$X$23

Sheet Börse Verkauf besser
B2: ISIN | C2: Name | D2: Branche | E2: Art | F2: Datum | G2: Investiert 2020 | H2: Investiert 2021 | I2: Investiert herausgenommen | J2: Investiert | K2: Anzahl | L2: Noch vorhanden | M2: Kurs | N2: Wert 2019 | O2: Wert 2020 | P2: Aktueller Wert | Q2: Umsätze
B3: DE0000000000 | C3: testetf | D3: Immobilien | E3: Aktie | F3: 44160 | G3: =IF(Broker210[[#This Row],[Umsätze]]="","",SUMIFS(Broker210[Investiert],Broker210[Name],">=0",Broker210[ISIN],Broker210[[#This Row],[ISIN]],Broker210[Datum],">=01.01.2020",Broker210[Datum],"<=31.12.2020")) -> 80 | H3: =IF(Broker210[[#This Row],[Umsätze]]="","",SUMIFS(Broker210[Investiert],Broker210[Name],">=0",Broker210[ISIN],Broker210[[#This Row],[ISIN]],Broker210[Datum],">=01.01.2021",Broker210[Datum],"<=31.12.2021")) -> 0 | I3: =IF(Broker210[[#This Row],[Anzahl]]>0,Broker210[[#This Row],[Noch vorhanden]]*Broker210[[#This Row],[Kurs]],SUMIFS(Broker210[Investiert],Broker210[Name],">0",Broker210[Anzahl],">0")-SUMIFS(Broker210[Investiert herausgenommen],Broker210[Name],"<"&Broker210[[#This Row],[Name]])) -> 40 | J3: =IF(Broker210[[#This Row],[Umsätze]]="","",SUMIFS(Broker210[Investiert],Broker210[Name],">=0",Broker210[ISIN],Broker210[[#This Row],[ISIN]])) -> 80 | K3: =IF(Broker210[Umsätze]="","",SUMIFS(Broker210[Anzahl],Broker210[Name],">=0",Broker210[ISIN],Broker210[[#This Row],[ISIN]])) -> 4 | L3: =IF(Broker210[[#This Row],[Umsätze]]="",IF(Broker210[[#This Row],[Anzahl]]<0,"",IF(IF(Broker210[[#This Row],[Name]]>0,IF(Broker210[Anzahl]<0,0,SUM(SUMIFS(Broker210[Anzahl],Broker210[Name],">0",Broker210[Name],"<="&Broker210[[#This Row],[Name]],Broker210[Anzahl],">=0",Broker210[ISIN],Broker210[[#This Row],[ISIN]]),SUMIFS(Broker210[Anzahl],Broker210[Name],">0",Broker210[Anzahl],"<0",Broker210[ISIN],Broker210[[#This Row],[ISIN]]))),Broker210[[#This Row],[Anzahl]])<0,0,IF(Broker210[[#This Row],[Name]]>0,IF(Broker210[Anzahl]<0,0,SUM(SUMIFS(Broker210[Anzahl],Broker210[Name],">0",Broker210[Name],"<="&Broker210[[#This Row],[Name]],Broker210[Anzahl],">=0",Broker210[ISIN],Broker210[[#This Row],[ISIN]]),SUMIFS(Broker210[Anzahl],Broker210[Name],">0",Broker210[Anzahl],"<0",Broker210[ISIN],Broker210[[#This Row],[ISIN]]))),Broker210[[#This Row],[Investiert]])-SUMIFS(Broker210[Noch vorhanden],Broker210[Name],">0",Broker210[Name],"<"&Broker210[[#This Row],[Name]],Broker210[ISIN],Broker210[[#This Row],[ISIN]]))),Broker210[[#This Row],[Anzahl]]) -> 4 | M3: =IF(Broker210[Umsätze]="",Broker210[[#This Row],[Investiert]]/Broker210[[#This Row],[Anzahl]],IFERROR(VLOOKUP(Broker210[[#This Row],[ISIN]],Kurse!C$9:N$1012,12,FALSE),"")) -> 10 | O3: 10 | P3: =IF(Broker210[Umsätze]="",IFERROR(Broker210[[#This Row],[Noch vorhanden]]*VLOOKUP(Broker210[[#This Row],[ISIN]],Kurse!C$9:N$1012,12,FALSE),""),IFERROR(Broker210[[#This Row],[Noch vorhanden]]*Broker210[[#This Row],[Kurs]],"")) -> 40 | Q3: Ausblenden
B4: DE0000000000 | C4: 4 | F4: 44163 | G4: =IF(Broker210[[#This Row],[Umsätze]]="","",SUMIFS(Broker210[Investiert],Broker210[Name],">=0",Broker210[ISIN],Broker210[[#This Row],[ISIN]],Broker210[Datum],">=01.01.2020",Broker210[Datum],"<=31.12.2020")) | H4: =IF(Broker210[[#This Row],[Umsätze]]="","",SUMIFS(Broker210[Investiert],Broker210[Name],">=0",Broker210[ISIN],Broker210[[#This Row],[ISIN]],Broker210[Datum],">=01.01.2021",Broker210[Datum],"<=31.12.2021")) | I4: =IF(Broker210[[#This Row],[Anzahl]]>0,Broker210[[#This Row],[Noch vorhanden]]*Broker210[[#This Row],[Kurs]],SUMIFS(Broker210[Investiert],Broker210[Name],">0",Broker210[Anzahl],">0")-SUMIFS(Broker210[Investiert herausgenommen],Broker210[Name],"<"&Broker210[[#This Row],[Name]])) -> 0 | J4: =IF(Broker210[[#This Row],[Umsätze]]="","",SUMIFS(Broker210[Investiert],Broker210[Name],">=0",Broker210[ISIN],Broker210[[#This Row],[ISIN]])) | K4: -1 | L4: =IF(Broker210[[#This Row],[Umsätze]]="",IF(Broker210[[#This Row],[Anzahl]]<0,"",IF(IF(Broker210[[#This Row],[Name]]>0,IF(Broker210[Anzahl]<0,0,SUM(SUMIFS(Broker210[Anzahl],Broker210[Name],">0",Broker210[Name],"<="&Broker210[[#This Row],[Name]],Broker210[Anzahl],">=0",Broker210[ISIN],Broker210[[#This Row],[ISIN]]),SUMIFS(Broker210[Anzahl],Broker210[Name],">0",Broker210[Anzahl],"<0",Broker210[ISIN],Broker210[[#This Row],[ISIN]]))),Broker210[[#This Row],[Anzahl]])<0,0,IF(Broker210[[#This Row],[Name]]>0,IF(Broker210[Anzahl]<0,0,SUM(SUMIFS(Broker210[Anzahl],Broker210[Name],">0",Broker210[Name],"<="&Broker210[[#This Row],[Name]],Broker210[Anzahl],">=0",Broker210[ISIN],Broker210[[#This Row],[ISIN]]),SUMIFS(Broker210[Anzahl],Broker210[Name],">0",Broker210[Anzahl],"<0",Broker210[ISIN],Broker210[[#This Row],[ISIN]]))),Broker210[[#This Row],[Investiert]])-SUMIFS(Broker210[Noch vorhanden],Broker210[Name],">0",Broker210[Name],"<"&Broker210[[#This Row],[Name]],Broker210[ISIN],Broker210[[#This Row],[ISIN]]))),Broker210[[#This Row],[Anzahl]]) | M4: =IF(Broker210[Umsätze]="",Broker210[[#This Row],[Investiert]]/Broker210[[#This Row],[Anzahl]],IFERROR(VLOOKUP(Broker210[[#This Row],[ISIN]],Kurse!C$9:N$1012,12,FALSE),"")) -> #VALUE! | P4: =IF(Broker210[Umsätze]="",IFERROR(Broker210[[#This Row],[Noch vorhanden]]*VLOOKUP(Broker210[[#This Row],[ISIN]],Kurse!C$9:N$1012,12,FALSE),""),IFERROR(Broker210[[#This Row],[Noch vorhanden]]*Broker210[[#This Row],[Kurs]],""))
B5: DE0000000000 | C5: 3 | F5: 44162 | G5: =IF(Broker210[[#This Row],[Umsätze]]="","",SUMIFS(Broker210[Investiert],Broker210[Name],">=0",Broker210[ISIN],Broker210[[#This Row],[ISIN]],Broker210[Datum],">=01.01.2020",Broker210[Datum],"<=31.12.2020")) | H5: =IF(Broker210[[#This Row],[Umsätze]]="","",SUMIFS(Broker210[Investiert],Broker210[Name],">=0",Broker210[ISIN],Broker210[[#This Row],[ISIN]],Broker210[Datum],">=01.01.2021",Broker210[Datum],"<=31.12.2021")) | I5: =IF(Broker210[[#This Row],[Anzahl]]>0,Broker210[[#This Row],[Noch vorhanden]]*Broker210[[#This Row],[Kurs]],SUMIFS(Broker210[Investiert],Broker210[Name],">0",Broker210[Anzahl],">0")-SUMIFS(Broker210[Investiert herausgenommen],Broker210[Name],"<"&Broker210[[#This Row],[Name]])) -> 20 | J5: 20 | K5: -1 | L5: =IF(Broker210[[#This Row],[Umsätze]]="",IF(Broker210[[#This Row],[Anzahl]]<0,"",IF(IF(Broker210[[#This Row],[Name]]>0,IF(Broker210[Anzahl]<0,0,SUM(SUMIFS(Broker210[Anzahl],Broker210[Name],">0",Broker210[Name],"<="&Broker210[[#This Row],[Name]],Broker210[Anzahl],">=0",Broker210[ISIN],Broker210[[#This Row],[ISIN]]),SUMIFS(Broker210[Anzahl],Broker210[Name],">0",Broker210[Anzahl],"<0",Broker210[ISIN],Broker210[[#This Row],[ISIN]]))),Broker210[[#This Row],[Anzahl]])<0,0,IF(Broker210[[#This Row],[Name]]>0,IF(Broker210[Anzahl]<0,0,SUM(SUMIFS(Broker210[Anzahl],Broker210[Name],">0",Broker210[Name],"<="&Broker210[[#This Row],[Name]],Broker210[Anzahl],">=0",Broker210[ISIN],Broker210[[#This Row],[ISIN]]),SUMIFS(Broker210[Anzahl],Broker210[Name],">0",Broker210[Anzahl],"<0",Broker210[ISIN],Broker210[[#This Row],[ISIN]]))),Broker210[[#This Row],[Investiert]])-SUMIFS(Broker210[Noch vorhanden],Broker210[Name],">0",Broker210[Name],"<"&Broker210[[#This Row],[Name]],Broker210[ISIN],Broker210[[#This Row],[ISIN]]))),Broker210[[#This Row],[Anzahl]]) | M5: =IF(Broker210[Umsätze]="",Broker210[[#This Row],[Investiert]]/Broker210[[#This Row],[Anzahl]],IFERROR(VLOOKUP(Broker210[[#This Row],[ISIN]],Kurse!C$9:N$1012,12,FALSE),"")) -> -20 | P5: =IF(Broker210[Umsätze]="",IFERROR(Broker210[[#This Row],[Noch vorhanden]]*VLOOKUP(Broker210[[#This Row],[ISIN]],Kurse!C$9:N$1012,12,FALSE),""),IFERROR(Broker210[[#This Row],[Noch vorhanden]]*Broker210[[#This Row],[Kurs]],""))
B6: DE0000000000 | C6: 2 | F6: 44161 | G6: =IF(Broker210[[#This Row],[Umsätze]]="","",SUMIFS(Broker210[Investiert],Broker210[Name],">=0",Broker210[ISIN],Broker210[[#This Row],[ISIN]],Broker210[Datum],">=01.01.2020",Broker210[Datum],"<=31.12.2020")) | H6: =IF(Broker210[[#This Row],[Umsätze]]="","",SUMIFS(Broker210[Investiert],Broker210[Name],">=0",Broker210[ISIN],Broker210[[#This Row],[ISIN]],Broker210[Datum],">=01.01.2021",Broker210[Datum],"<=31.12.2021")) | I6: =IF(Broker210[[#This Row],[Anzahl]]>0,Broker210[[#This Row],[Noch vorhanden]]*Broker210[[#This Row],[Kurs]],SUMIFS(Broker210[Investiert],Broker210[Name],">0",Broker210[Anzahl],">0")-SUMIFS(Broker210[Investiert herausgenommen],Broker210[Name],"<"&Broker210[[#This Row],[Name]])) -> 40 | J6: 50 | K6: 5 | L6: =IF(Broker210[[#This Row],[Umsätze]]="",IF(Broker210[[#This Row],[Anzahl]]<0,"",IF(IF(Broker210[[#This Row],[Name]]>0,IF(Broker210[Anzahl]<0,0,SUM(SUMIFS(Broker210[Anzahl],Broker210[Name],">0",Broker210[Name],"<="&Broker210[[#This Row],[Name]],Broker210[Anzahl],">=0",Broker210[ISIN],Broker210[[#This Row],[ISIN]]),SUMIFS(Broker210[Anzahl],Broker210[Name],">0",Broker210[Anzahl],"<0",Broker210[ISIN],Broker210[[#This Row],[ISIN]]))),Broker210[[#This Row],[Anzahl]])<0,0,IF(Broker210[[#This Row],[Name]]>0,IF(Broker210[Anzahl]<0,0,SUM(SUMIFS(Broker210[Anzahl],Broker210[Name],">0",Broker210[Name],"<="&Broker210[[#This Row],[Name]],Broker210[Anzahl],">=0",Broker210[ISIN],Broker210[[#This Row],[ISIN]]),SUMIFS(Broker210[Anzahl],Broker210[Name],">0",Broker210[Anzahl],"<0",Broker210[ISIN],Broker210[[#This Row],[ISIN]]))),Broker210[[#This Row],[Investiert]])-SUMIFS(Broker210[Noch vorhanden],Broker210[Name],">0",Broker210[Name],"<"&Broker210[[#This Row],[Name]],Broker210[ISIN],Broker210[[#This Row],[ISIN]]))),Broker210[[#This Row],[Anzahl]]) -> 4 | M6: =IF(Broker210[Umsätze]="",Broker210[[#This Row],[Investiert]]/Broker210[[#This Row],[Anzahl]],IFERROR(VLOOKUP(Broker210[[#This Row],[ISIN]],Kurse!C$9:N$1012,12,FALSE),"")) -> 10 | P6: =IF(Broker210[Umsätze]="",IFERROR(Broker210[[#This Row],[Noch vorhanden]]*VLOOKUP(Broker210[[#This Row],[ISIN]],Kurse!C$9:N$1012,12,FALSE),""),IFERROR(Broker210[[#This Row],[Noch vorhanden]]*Broker210[[#This Row],[Kurs]],"")) -> 40
B7: DE0000000000 | C7: 1 | F7: 44160 | G7: =IF(Broker210[[#This Row],[Umsätze]]="","",SUMIFS(Broker210[Investiert],Broker210[Name],">=0",Broker210[ISIN],Broker210[[#This Row],[ISIN]],Broker210[Datum],">=01.01.2020",Broker210[Datum],"<=31.12.2020")) | H7: =IF(Broker210[[#This Row],[Umsätze]]="","",SUMIFS(Broker210[Investiert],Broker210[Name],">=0",Broker210[ISIN],Broker210[[#This Row],[ISIN]],Broker210[Datum],">=01.01.2021",Broker210[Datum],"<=31.12.2021")) | I7: =IF(Broker210[[#This Row],[Anzahl]]>0,Broker210[[#This Row],[Noch vorhanden]]*Broker210[[#This Row],[Kurs]],SUMIFS(Broker210[Investiert],Broker210[Name],">0",Broker210[Anzahl],">0")-SUMIFS(Broker210[Investiert herausgenommen],Broker210[Name],"<"&Broker210[[#This Row],[Name]])) -> 0 | J7: 10 | K7: 1 | L7: =IF(Broker210[[#This Row],[Umsätze]]="",IF(Broker210[[#This Row],[Anzahl]]<0,"",IF(IF(Broker210[[#This Row],[Name]]>0,IF(Broker210[Anzahl]<0,0,SUM(SUMIFS(Broker210[Anzahl],Broker210[Name],">0",Broker210[Name],"<="&Broker210[[#This Row],[Name]],Broker210[Anzahl],">=0",Broker210[ISIN],Broker210[[#This Row],[ISIN]]),SUMIFS(Broker210[Anzahl],Broker210[Name],">0",Broker210[Anzahl],"<0",Broker210[ISIN],Broker210[[#This Row],[ISIN]]))),Broker210[[#This Row],[Anzahl]])<0,0,IF(Broker210[[#This Row],[Name]]>0,IF(Broker210[Anzahl]<0,0,SUM(SUMIFS(Broker210[Anzahl],Broker210[Name],">0",Broker210[Name],"<="&Broker210[[#This Row],[Name]],Broker210[Anzahl],">=0",Broker210[ISIN],Broker210[[#This Row],[ISIN]]),SUMIFS(Broker210[Anzahl],Broker210[Name],">0",Broker210[Anzahl],"<0",Broker210[ISIN],Broker210[[#This Row],[ISIN]]))),Broker210[[#This Row],[Investiert]])-SUMIFS(Broker210[Noch vorhanden],Broker210[Name],">0",Broker210[Name],"<"&Broker210[[#This Row],[Name]],Broker210[ISIN],Broker210[[#This Row],[ISIN]]))),Broker210[[#This Row],[Anzahl]]) -> 0 | M7: =IF(Broker210[Umsätze]="",Broker210[[#This Row],[Investiert]]/Broker210[[#This Row],[Anzahl]],IFERROR(VLOOKUP(Broker210[[#This Row],[ISIN]],Kurse!C$9:N$1012,12,FALSE),"")) -> 10 | P7: =IF(Broker210[Umsätze]="",IFERROR(Broker210[[#This Row],[Noch vorhanden]]*VLOOKUP(Broker210[[#This Row],[ISIN]],Kurse!C$9:N$1012,12,FALSE),""),IFERROR(Broker210[[#This Row],[Noch vorhanden]]*Broker210[[#This Row],[Kurs]],"")) -> 0
B8: Nicht investierter Betrag: | C8: 0 | G8: =SUMIF(Broker210[Umsätze],"<>"&"",Broker210[Investiert 2020]) -> 80 | H8: =SUMIF(Broker210[Umsätze],"<>"&"",Broker210[Investiert 2021]) -> 0 | I8: =SUMIF(Broker210[Umsätze],"<>"&"",Broker210[Investiert]) -> 80 | M8: =SUMIF(Broker210[Umsätze],"<>"&"",Broker210[Wert 2019]) -> 0 | N8: =SUMIF(Broker210[Umsätze],"<>"&"",Broker210[Wert 2020]) -> 10 | O8: =SUMIF(Broker210[Umsätze],"<>"&"",Broker210[Aktueller Wert]) -> 40 | P8: =SUMIF(Broker210[Umsätze],"<>"&"",#REF!) -> #REF!
T13: =IFERROR(IF(#REF!="ETF",#REF!,""),"")

Sheet Kurse
B8: WP-Art | C8: ISIN | D8: Wertpapiername | E8: Anzahl | F8: Einheitskennung | G8: Beobachtungskurs | H8: Währung | I8: Beobachtungswert | J8: Währung | K8: Beobachtungsdatum | L8: Aktueller Preis | M8: Währung | N8: Aktueller Wert | O8: Währung | P8: Vortagsveränderung | Q8: Währung | R8: Vortagsveränderung (%) | S8: Wertentwicklung | T8: Währung | U8: Wertentwicklung (%) | V8: Limitalarm unten | W8: Limitalarm oben
B9: ETF | C9: DE0000000000 | D9: testetf | E9: 1 | F9: Stück | G9: 1 | H9: EUR | I9: 1 | J9: EUR | K9: 43907 | L9: 10 | M9: EUR | N9: 10 | O9: EUR | P9: -0.65 | Q9: EUR | R9: -0.0048 | S9: 0 | T9: EUR | U9: 0
