Workbook

Sheet  1
I18: =IFERROR(INDEX(Farblagerbestand!E$3:E$511,SMALL(IF(Farblagerbestand!$C$3:$C$511=Farbsuche!$F$4,ROW(Farblagerbestand!$1:$344)),ROW(Farblagerbestand!D1))),"") -> 0 | J18: =IFERROR(INDEX(Farblagerbestand!F$3:F$511,SMALL(IF(Farblagerbestand!$C$3:$C$511=Farbsuche!$F$4,ROW(Farblagerbestand!$1:$344)),ROW(Farblagerbestand!E1))),"") -> 0 | K18: =IFERROR(INDEX(Farblagerbestand!G$3:G$511,SMALL(IF(Farblagerbestand!$C$3:$C$511=Farbsuche!$F$4,ROW(Farblagerbestand!$1:$344)),ROW(Farblagerbestand!F1))),"") -> 0
I19: =IFERROR(INDEX(Farblagerbestand!E$3:E$511,SMALL(IF(Farblagerbestand!$C$3:$C$511=Farbsuche!$F$4,ROW(Farblagerbestand!$1:$344)),ROW(Farblagerbestand!D2))),"") | J19: =IFERROR(INDEX(Farblagerbestand!F$3:F$511,SMALL(IF(Farblagerbestand!$C$3:$C$511=Farbsuche!$F$4,ROW(Farblagerbestand!$1:$344)),ROW(Farblagerbestand!E2))),"") | K19: =IFERROR(INDEX(Farblagerbestand!G$3:G$511,SMALL(IF(Farblagerbestand!$C$3:$C$511=Farbsuche!$F$4,ROW(Farblagerbestand!$1:$344)),ROW(Farblagerbestand!F2))),"")
I20: =IFERROR(INDEX(Farblagerbestand!E$3:E$511,SMALL(IF(Farblagerbestand!$C$3:$C$511=Farbsuche!$F$4,ROW(Farblagerbestand!$1:$344)),ROW(Farblagerbestand!D3))),"") | J20: =IFERROR(INDEX(Farblagerbestand!F$3:F$511,SMALL(IF(Farblagerbestand!$C$3:$C$511=Farbsuche!$F$4,ROW(Farblagerbestand!$1:$344)),ROW(Farblagerbestand!E3))),"") | K20: =IFERROR(INDEX(Farblagerbestand!G$3:G$511,SMALL(IF(Farblagerbestand!$C$3:$C$511=Farbsuche!$F$4,ROW(Farblagerbestand!$1:$344)),ROW(Farblagerbestand!F3))),"")
I21: =IFERROR(INDEX(Farblagerbestand!E$3:E$511,SMALL(IF(Farblagerbestand!$C$3:$C$511=Farbsuche!$F$4,ROW(Farblagerbestand!$1:$344)),ROW(Farblagerbestand!D4))),"") | J21: =IFERROR(INDEX(Farblagerbestand!F$3:F$511,SMALL(IF(Farblagerbestand!$C$3:$C$511=Farbsuche!$F$4,ROW(Farblagerbestand!$1:$344)),ROW(Farblagerbestand!E4))),"") | K21: =IFERROR(INDEX(Farblagerbestand!G$3:G$511,SMALL(IF(Farblagerbestand!$C$3:$C$511=Farbsuche!$F$4,ROW(Farblagerbestand!$1:$344)),ROW(Farblagerbestand!F4))),"")
I22: =IFERROR(INDEX(Farblagerbestand!E$3:E$511,SMALL(IF(Farblagerbestand!$C$3:$C$511=Farbsuche!$F$4,ROW(Farblagerbestand!$1:$344)),ROW(Farblagerbestand!D5))),"") | J22: =IFERROR(INDEX(Farblagerbestand!F$3:F$511,SMALL(IF(Farblagerbestand!$C$3:$C$511=Farbsuche!$F$4,ROW(Farblagerbestand!$1:$344)),ROW(Farblagerbestand!E5))),"") | K22: =IFERROR(INDEX(Farblagerbestand!G$3:G$511,SMALL(IF(Farblagerbestand!$C$3:$C$511=Farbsuche!$F$4,ROW(Farblagerbestand!$1:$344)),ROW(Farblagerbestand!F5))),"")
I23: =IFERROR(INDEX(Farblagerbestand!E$3:E$511,SMALL(IF(Farblagerbestand!$C$3:$C$511=Farbsuche!$F$4,ROW(Farblagerbestand!$1:$344)),ROW(Farblagerbestand!D6))),"") | J23: =IFERROR(INDEX(Farblagerbestand!F$3:F$511,SMALL(IF(Farblagerbestand!$C$3:$C$511=Farbsuche!$F$4,ROW(Farblagerbestand!$1:$344)),ROW(Farblagerbestand!E6))),"") | K23: =IFERROR(INDEX(Farblagerbestand!G$3:G$511,SMALL(IF(Farblagerbestand!$C$3:$C$511=Farbsuche!$F$4,ROW(Farblagerbestand!$1:$344)),ROW(Farblagerbestand!F6))),"")
I24: =IFERROR(INDEX(Farblagerbestand!E$3:E$511,SMALL(IF(Farblagerbestand!$C$3:$C$511=Farbsuche!$F$4,ROW(Farblagerbestand!$1:$344)),ROW(Farblagerbestand!D7))),"") | J24: =IFERROR(INDEX(Farblagerbestand!F$3:F$511,SMALL(IF(Farblagerbestand!$C$3:$C$511=Farbsuche!$F$4,ROW(Farblagerbestand!$1:$344)),ROW(Farblagerbestand!E7))),"") | K24: =IFERROR(INDEX(Farblagerbestand!G$3:G$511,SMALL(IF(Farblagerbestand!$C$3:$C$511=Farbsuche!$F$4,ROW(Farblagerbestand!$1:$344)),ROW(Farblagerbestand!F7))),"")
I25: =IFERROR(INDEX(Farblagerbestand!E$3:E$511,SMALL(IF(Farblagerbestand!$C$3:$C$511=Farbsuche!$F$4,ROW(Farblagerbestand!$1:$344)),ROW(Farblagerbestand!D8))),"") | J25: =IFERROR(INDEX(Farblagerbestand!F$3:F$511,SMALL(IF(Farblagerbestand!$C$3:$C$511=Farbsuche!$F$4,ROW(Farblagerbestand!$1:$344)),ROW(Farblagerbestand!E8))),"") | K25: =IFERROR(INDEX(Farblagerbestand!G$3:G$511,SMALL(IF(Farblagerbestand!$C$3:$C$511=Farbsuche!$F$4,ROW(Farblagerbestand!$1:$344)),ROW(Farblagerbestand!F8))),"")
I26: =IFERROR(INDEX(Farblagerbestand!E$3:E$511,SMALL(IF(Farblagerbestand!$C$3:$C$511=Farbsuche!$F$4,ROW(Farblagerbestand!$1:$344)),ROW(Farblagerbestand!D9))),"") | J26: =IFERROR(INDEX(Farblagerbestand!F$3:F$511,SMALL(IF(Farblagerbestand!$C$3:$C$511=Farbsuche!$F$4,ROW(Farblagerbestand!$1:$344)),ROW(Farblagerbestand!E9))),"") | K26: =IFERROR(INDEX(Farblagerbestand!G$3:G$511,SMALL(IF(Farblagerbestand!$C$3:$C$511=Farbsuche!$F$4,ROW(Farblagerbestand!$1:$344)),ROW(Farblagerbestand!F9))),"")
I27: =IFERROR(INDEX(Farblagerbestand!E$3:E$511,SMALL(IF(Farblagerbestand!$C$3:$C$511=Farbsuche!$F$4,ROW(Farblagerbestand!$1:$344)),ROW(Farblagerbestand!D10))),"") | J27: =IFERROR(INDEX(Farblagerbestand!F$3:F$511,SMALL(IF(Farblagerbestand!$C$3:$C$511=Farbsuche!$F$4,ROW(Farblagerbestand!$1:$344)),ROW(Farblagerbestand!E10))),"") | K27: =IFERROR(INDEX(Farblagerbestand!G$3:G$511,SMALL(IF(Farblagerbestand!$C$3:$C$511=Farbsuche!$F$4,ROW(Farblagerbestand!$1:$344)),ROW(Farblagerbestand!F10))),"")
I28: =IFERROR(INDEX(Farblagerbestand!E$3:E$511,SMALL(IF(Farblagerbestand!$C$3:$C$511=Farbsuche!$F$4,ROW(Farblagerbestand!$1:$344)),ROW(Farblagerbestand!D11))),"") | J28: =IFERROR(INDEX(Farblagerbestand!F$3:F$511,SMALL(IF(Farblagerbestand!$C$3:$C$511=Farbsuche!$F$4,ROW(Farblagerbestand!$1:$344)),ROW(Farblagerbestand!E11))),"") | K28: =IFERROR(INDEX(Farblagerbestand!G$3:G$511,SMALL(IF(Farblagerbestand!$C$3:$C$511=Farbsuche!$F$4,ROW(Farblagerbestand!$1:$344)),ROW(Farblagerbestand!F11))),"")
I29: =IFERROR(INDEX(Farblagerbestand!E$3:E$511,SMALL(IF(Farblagerbestand!$C$3:$C$511=Farbsuche!$F$4,ROW(Farblagerbestand!$1:$344)),ROW(Farblagerbestand!D12))),"") | J29: =IFERROR(INDEX(Farblagerbestand!F$3:F$511,SMALL(IF(Farblagerbestand!$C$3:$C$511=Farbsuche!$F$4,ROW(Farblagerbestand!$1:$344)),ROW(Farblagerbestand!E12))),"") | K29: =IFERROR(INDEX(Farblagerbestand!G$3:G$511,SMALL(IF(Farblagerbestand!$C$3:$C$511=Farbsuche!$F$4,ROW(Farblagerbestand!$1:$344)),ROW(Farblagerbestand!F12))),"")
... I32: =IFERROR(INDEX(Farblagerbestand!E$3:E$511,SMALL(IF(Farblagerbestand!$C$3:$C$511=Farbsuche!$F$4,ROW(Farblagerbestand!$1:$344)),ROW(Farblagerbestand!D15))),"") | J32: =IFERROR(INDEX(Farblagerbestand!F$3:F$511,SMALL(IF(Farblagerbestand!$C$3:$C$511=Farbsuche!$F$4,ROW(Farblagerbestand!$1:$344)),ROW(Farblagerbestand!E15))),"") | K32: =IFERROR(INDEX(Farblagerbestand!G$3:G$511,SMALL(IF(Farblagerbestand!$C$3:$C$511=Farbsuche!$F$4,ROW(Farblagerbestand!$1:$344)),ROW(Farblagerbestand!F15))),"")

Sheet Farbsuche
C3: Suche | D3: entnommen | E3: datum | F3: Lagerplatz | G3: Farbe | H3: kg
C4: inksgreen007 | E4: =IFERROR(INDEX(INDIRECT("Farblagerbestand!e"&Farblagerbestand!T2&":e535"),MATCH("*"&Farbsuche!$C$4&"*",INDIRECT("Farblagerbestand!f"&Farblagerbestand!T2&":f$531"),0)),"") -> 41887 | F4: =IFERROR(INDEX(INDIRECT("Farblagerbestand!c"&Farblagerbestand!T2&":c535"),MATCH("*"&Farbsuche!$C$4&"*",INDIRECT("Farblagerbestand!f"&Farblagerbestand!T2&":f$531"),0)),"") -> Boden | G4: =IFERROR(INDEX(INDIRECT("Farblagerbestand!F"&Farblagerbestand!U2&":F535"),MATCH("*"&Farbsuche!$C$4&"*",INDIRECT("Farblagerbestand!F"&Farblagerbestand!U2&":F$531"),0)),"") -> inksgreen007 | H4: =IFERROR(INDEX(INDIRECT("Farblagerbestand!g"&Farblagerbestand!V2&":g535"),MATCH("*"&Farbsuche!$C$4&"*",INDIRECT("Farblagerbestand!f"&Farblagerbestand!V2&":f$531"),0)),"") -> 25
E5: =IFERROR(INDEX(INDIRECT("Farblagerbestand!e"&Farblagerbestand!T3&":e535"),MATCH("*"&Farbsuche!$C$4&"*",INDIRECT("Farblagerbestand!f"&Farblagerbestand!T3&":f$531"),0)),"") -> 41990 | F5: =IFERROR(INDEX(INDIRECT("Farblagerbestand!c"&Farblagerbestand!T3&":c535"),MATCH("*"&Farbsuche!$C$4&"*",INDIRECT("Farblagerbestand!f"&Farblagerbestand!T3&":f$531"),0)),"") -> 1 | G5: =IFERROR(INDEX(INDIRECT("Farblagerbestand!F"&Farblagerbestand!U3&":F535"),MATCH("*"&Farbsuche!$C$4&"*",INDIRECT("Farblagerbestand!F"&Farblagerbestand!U3&":F$531"),0)),"") -> inksgreen007/Umlauf | H5: =IFERROR(INDEX(INDIRECT("Farblagerbestand!g"&Farblagerbestand!V3&":g535"),MATCH("*"&Farbsuche!$C$4&"*",INDIRECT("Farblagerbestand!f"&Farblagerbestand!V3&":f$531"),0)),"") -> 17
E6: =IFERROR(INDEX(INDIRECT("Farblagerbestand!e"&Farblagerbestand!T4&":e535"),MATCH("*"&Farbsuche!$C$4&"*",INDIRECT("Farblagerbestand!f"&Farblagerbestand!T4&":f$531"),0)),"") -> 42160 | F6: =IFERROR(INDEX(INDIRECT("Farblagerbestand!c"&Farblagerbestand!T4&":c535"),MATCH("*"&Farbsuche!$C$4&"*",INDIRECT("Farblagerbestand!f"&Farblagerbestand!T4&":f$531"),0)),"") -> 7 | G6: =IFERROR(INDEX(INDIRECT("Farblagerbestand!F"&Farblagerbestand!U4&":F535"),MATCH("*"&Farbsuche!$C$4&"*",INDIRECT("Farblagerbestand!F"&Farblagerbestand!U4&":F$531"),0)),"") -> inksgreen007 | H6: =IFERROR(INDEX(INDIRECT("Farblagerbestand!g"&Farblagerbestand!V4&":g535"),MATCH("*"&Farbsuche!$C$4&"*",INDIRECT("Farblagerbestand!f"&Farblagerbestand!V4&":f$531"),0)),"") -> 20
E7: =IFERROR(INDEX(INDIRECT("Farblagerbestand!e"&Farblagerbestand!T5&":e535"),MATCH("*"&Farbsuche!$C$4&"*",INDIRECT("Farblagerbestand!f"&Farblagerbestand!T5&":f$531"),0)),"") | F7: =IFERROR(INDEX(INDIRECT("Farblagerbestand!c"&Farblagerbestand!T5&":c535"),MATCH("*"&Farbsuche!$C$4&"*",INDIRECT("Farblagerbestand!f"&Farblagerbestand!T5&":f$531"),0)),"") | G7: =IFERROR(INDEX(INDIRECT("Farblagerbestand!F"&Farblagerbestand!U5&":F535"),MATCH("*"&Farbsuche!$C$4&"*",INDIRECT("Farblagerbestand!F"&Farblagerbestand!U5&":F$531"),0)),"") | H7: =IFERROR(INDEX(INDIRECT("Farblagerbestand!g"&Farblagerbestand!V5&":g535"),MATCH("*"&Farbsuche!$C$4&"*",INDIRECT("Farblagerbestand!f"&Farblagerbestand!V5&":f$531"),0)),"")
E8: =IFERROR(INDEX(INDIRECT("Farblagerbestand!e"&Farblagerbestand!T6&":e535"),MATCH("*"&Farbsuche!$C$4&"*",INDIRECT("Farblagerbestand!f"&Farblagerbestand!T6&":f$531"),0)),"") | F8: =IFERROR(INDEX(INDIRECT("Farblagerbestand!c"&Farblagerbestand!T6&":c535"),MATCH("*"&Farbsuche!$C$4&"*",INDIRECT("Farblagerbestand!f"&Farblagerbestand!T6&":f$531"),0)),"") | G8: =IFERROR(INDEX(INDIRECT("Farblagerbestand!F"&Farblagerbestand!U6&":F535"),MATCH("*"&Farbsuche!$C$4&"*",INDIRECT("Farblagerbestand!F"&Farblagerbestand!U6&":F$531"),0)),"") | H8: =IFERROR(INDEX(INDIRECT("Farblagerbestand!g"&Farblagerbestand!V6&":g535"),MATCH("*"&Farbsuche!$C$4&"*",INDIRECT("Farblagerbestand!f"&Farblagerbestand!V6&":f$531"),0)),"")
E9: =IFERROR(INDEX(INDIRECT("Farblagerbestand!e"&Farblagerbestand!T7&":e535"),MATCH("*"&Farbsuche!$C$4&"*",INDIRECT("Farblagerbestand!f"&Farblagerbestand!T7&":f$531"),0)),"") | F9: =IFERROR(INDEX(INDIRECT("Farblagerbestand!c"&Farblagerbestand!T7&":c535"),MATCH("*"&Farbsuche!$C$4&"*",INDIRECT("Farblagerbestand!f"&Farblagerbestand!T7&":f$531"),0)),"") | G9: =IFERROR(INDEX(INDIRECT("Farblagerbestand!F"&Farblagerbestand!U7&":F535"),MATCH("*"&Farbsuche!$C$4&"*",INDIRECT("Farblagerbestand!F"&Farblagerbestand!U7&":F$531"),0)),"") | H9: =IFERROR(INDEX(INDIRECT("Farblagerbestand!g"&Farblagerbestand!V7&":g535"),MATCH("*"&Farbsuche!$C$4&"*",INDIRECT("Farblagerbestand!f"&Farblagerbestand!V7&":f$531"),0)),"")
E10: =IFERROR(INDEX(INDIRECT("Farblagerbestand!e"&Farblagerbestand!T8&":e535"),MATCH("*"&Farbsuche!$C$4&"*",INDIRECT("Farblagerbestand!f"&Farblagerbestand!T8&":f$531"),0)),"") | F10: =IFERROR(INDEX(INDIRECT("Farblagerbestand!c"&Farblagerbestand!T8&":c535"),MATCH("*"&Farbsuche!$C$4&"*",INDIRECT("Farblagerbestand!f"&Farblagerbestand!T8&":f$531"),0)),"") | G10: =IFERROR(INDEX(INDIRECT("Farblagerbestand!F"&Farblagerbestand!U8&":F535"),MATCH("*"&Farbsuche!$C$4&"*",INDIRECT("Farblagerbestand!F"&Farblagerbestand!U8&":F$531"),0)),"") | H10: =IFERROR(INDEX(INDIRECT("Farblagerbestand!g"&Farblagerbestand!V8&":g535"),MATCH("*"&Farbsuche!$C$4&"*",INDIRECT("Farblagerbestand!f"&Farblagerbestand!V8&":f$531"),0)),"")
E11: =IFERROR(INDEX(INDIRECT("Farblagerbestand!e"&Farblagerbestand!T9&":e535"),MATCH("*"&Farbsuche!$C$4&"*",INDIRECT("Farblagerbestand!f"&Farblagerbestand!T9&":f$531"),0)),"") | F11: =IFERROR(INDEX(INDIRECT("Farblagerbestand!c"&Farblagerbestand!T9&":c535"),MATCH("*"&Farbsuche!$C$4&"*",INDIRECT("Farblagerbestand!f"&Farblagerbestand!T9&":f$531"),0)),"") | G11: =IFERROR(INDEX(INDIRECT("Farblagerbestand!F"&Farblagerbestand!U9&":F535"),MATCH("*"&Farbsuche!$C$4&"*",INDIRECT("Farblagerbestand!F"&Farblagerbestand!U9&":F$531"),0)),"") | H11: =IFERROR(INDEX(INDIRECT("Farblagerbestand!g"&Farblagerbestand!V9&":g535"),MATCH("*"&Farbsuche!$C$4&"*",INDIRECT("Farblagerbestand!f"&Farblagerbestand!V9&":f$531"),0)),"")
E12: =IFERROR(INDEX(INDIRECT("Farblagerbestand!e"&Farblagerbestand!T10&":e535"),MATCH("*"&Farbsuche!$C$4&"*",INDIRECT("Farblagerbestand!f"&Farblagerbestand!T10&":f$531"),0)),"") | F12: =IFERROR(INDEX(INDIRECT("Farblagerbestand!c"&Farblagerbestand!T10&":c535"),MATCH("*"&Farbsuche!$C$4&"*",INDIRECT("Farblagerbestand!f"&Farblagerbestand!T10&":f$531"),0)),"") | G12: =IFERROR(INDEX(INDIRECT("Farblagerbestand!F"&Farblagerbestand!U10&":F535"),MATCH("*"&Farbsuche!$C$4&"*",INDIRECT("Farblagerbestand!F"&Farblagerbestand!U10&":F$531"),0)),"") | H12: =IFERROR(INDEX(INDIRECT("Farblagerbestand!g"&Farblagerbestand!V10&":g535"),MATCH("*"&Farbsuche!$C$4&"*",INDIRECT("Farblagerbestand!f"&Farblagerbestand!V10&":f$531"),0)),"")
E13: =IFERROR(INDEX(INDIRECT("Farblagerbestand!e"&Farblagerbestand!T11&":e535"),MATCH("*"&Farbsuche!$C$4&"*",INDIRECT("Farblagerbestand!f"&Farblagerbestand!T11&":f$531"),0)),"") | F13: =IFERROR(INDEX(INDIRECT("Farblagerbestand!c"&Farblagerbestand!T11&":c535"),MATCH("*"&Farbsuche!$C$4&"*",INDIRECT("Farblagerbestand!f"&Farblagerbestand!T11&":f$531"),0)),"") | G13: =IFERROR(INDEX(INDIRECT("Farblagerbestand!F"&Farblagerbestand!U11&":F535"),MATCH("*"&Farbsuche!$C$4&"*",INDIRECT("Farblagerbestand!F"&Farblagerbestand!U11&":F$531"),0)),"") | H13: =IFERROR(INDEX(INDIRECT("Farblagerbestand!g"&Farblagerbestand!V11&":g535"),MATCH("*"&Farbsuche!$C$4&"*",INDIRECT("Farblagerbestand!f"&Farblagerbestand!V11&":f$531"),0)),"")
E14: =IFERROR(INDEX(INDIRECT("Farblagerbestand!e"&Farblagerbestand!T12&":e535"),MATCH("*"&Farbsuche!$C$4&"*",INDIRECT("Farblagerbestand!f"&Farblagerbestand!T12&":f$531"),0)),"") | F14: =IFERROR(INDEX(INDIRECT("Farblagerbestand!c"&Farblagerbestand!T12&":c535"),MATCH("*"&Farbsuche!$C$4&"*",INDIRECT("Farblagerbestand!f"&Farblagerbestand!T12&":f$531"),0)),"") | G14: =IFERROR(INDEX(INDIRECT("Farblagerbestand!F"&Farblagerbestand!U12&":F535"),MATCH("*"&Farbsuche!$C$4&"*",INDIRECT("Farblagerbestand!F"&Farblagerbestand!U12&":F$531"),0)),"") | H14: =IFERROR(INDEX(INDIRECT("Farblagerbestand!g"&Farblagerbestand!V12&":g535"),MATCH("*"&Farbsuche!$C$4&"*",INDIRECT("Farblagerbestand!f"&Farblagerbestand!V12&":f$531"),0)),"")
E15: =IFERROR(INDEX(INDIRECT("Farblagerbestand!e"&Farblagerbestand!T13&":e535"),MATCH("*"&Farbsuche!$C$4&"*",INDIRECT("Farblagerbestand!f"&Farblagerbestand!T13&":f$531"),0)),"") | F15: =IFERROR(INDEX(INDIRECT("Farblagerbestand!c"&Farblagerbestand!T13&":c535"),MATCH("*"&Farbsuche!$C$4&"*",INDIRECT("Farblagerbestand!f"&Farblagerbestand!T13&":f$531"),0)),"") | G15: =IFERROR(INDEX(INDIRECT("Farblagerbestand!F"&Farblagerbestand!U13&":F535"),MATCH("*"&Farbsuche!$C$4&"*",INDIRECT("Farblagerbestand!F"&Farblagerbestand!U13&":F$531"),0)),"") | H15: =IFERROR(INDEX(INDIRECT("Farblagerbestand!g"&Farblagerbestand!V13&":g535"),MATCH("*"&Farbsuche!$C$4&"*",INDIRECT("Farblagerbestand!f"&Farblagerbestand!V13&":f$531"),0)),"")
E16: =IFERROR(INDEX(INDIRECT("Farblagerbestand!e"&Farblagerbestand!T14&":e535"),MATCH("*"&Farbsuche!$C$4&"*",INDIRECT("Farblagerbestand!f"&Farblagerbestand!T14&":f$531"),0)),"") | F16: =IFERROR(INDEX(INDIRECT("Farblagerbestand!c"&Farblagerbestand!T14&":c535"),MATCH("*"&Farbsuche!$C$4&"*",INDIRECT("Farblagerbestand!f"&Farblagerbestand!T14&":f$531"),0)),"") | G16: =IFERROR(INDEX(INDIRECT("Farblagerbestand!F"&Farblagerbestand!U14&":F535"),MATCH("*"&Farbsuche!$C$4&"*",INDIRECT("Farblagerbestand!F"&Farblagerbestand!U14&":F$531"),0)),"") | H16: =IFERROR(INDEX(INDIRECT("Farblagerbestand!g"&Farblagerbestand!V14&":g535"),MATCH("*"&Farbsuche!$C$4&"*",INDIRECT("Farblagerbestand!f"&Farblagerbestand!V14&":f$531"),0)),"") | U16: lagerplatz | V16: datum | W16: farbe | X16: kg
E17: =IFERROR(INDEX(INDIRECT("Farblagerbestand!e"&Farblagerbestand!T15&":e535"),MATCH("*"&Farbsuche!$C$4&"*",INDIRECT("Farblagerbestand!f"&Farblagerbestand!T15&":f$531"),0)),"") | F17: =IFERROR(INDEX(INDIRECT("Farblagerbestand!c"&Farblagerbestand!T15&":c535"),MATCH("*"&Farbsuche!$C$4&"*",INDIRECT("Farblagerbestand!f"&Farblagerbestand!T15&":f$531"),0)),"") | G17: =IFERROR(INDEX(INDIRECT("Farblagerbestand!F"&Farblagerbestand!U15&":F535"),MATCH("*"&Farbsuche!$C$4&"*",INDIRECT("Farblagerbestand!F"&Farblagerbestand!U15&":F$531"),0)),"") | H17: =IFERROR(INDEX(INDIRECT("Farblagerbestand!g"&Farblagerbestand!V15&":g535"),MATCH("*"&Farbsuche!$C$4&"*",INDIRECT("Farblagerbestand!f"&Farblagerbestand!V15&":f$531"),0)),"") | U17: =($F$4) -> Boden | V17: {=IFERROR(INDEX(Farblagerbestand!E$3:E$511,SMALL(IF(Farblagerbestand!$C$3:$C$511=$F$4,ROW(Farblagerbestand!$1:$509)),ROW(Farblagerbestand!D1))),"")} -> 0 | W17: {=IFERROR(INDEX(Farblagerbestand!F$3:F$511,SMALL(IF(Farblagerbestand!$C$3:$C$511=$F$4,ROW(Farblagerbestand!$1:$509)),ROW(Farblagerbestand!E1))),"")} -> inksgreen015 | X17: {=IFERROR(INDEX(Farblagerbestand!G$3:G$511,SMALL(IF(Farblagerbestand!$C$3:$C$511=$F$4,ROW(Farblagerbestand!$1:$509)),ROW(Farblagerbestand!F1))),"")} -> 30
E18: =IFERROR(INDEX(INDIRECT("Farblagerbestand!e"&Farblagerbestand!T16&":e535"),MATCH("*"&Farbsuche!$C$4&"*",INDIRECT("Farblagerbestand!f"&Farblagerbestand!T16&":f$531"),0)),"") | F18: =IFERROR(INDEX(INDIRECT("Farblagerbestand!c"&Farblagerbestand!T16&":c535"),MATCH("*"&Farbsuche!$C$4&"*",INDIRECT("Farblagerbestand!f"&Farblagerbestand!T16&":f$531"),0)),"") | G18: =IFERROR(INDEX(INDIRECT("Farblagerbestand!F"&Farblagerbestand!U16&":F535"),MATCH("*"&Farbsuche!$C$4&"*",INDIRECT("Farblagerbestand!F"&Farblagerbestand!U16&":F$531"),0)),"") | H18: =IFERROR(INDEX(INDIRECT("Farblagerbestand!g"&Farblagerbestand!V16&":g535"),MATCH("*"&Farbsuche!$C$4&"*",INDIRECT("Farblagerbestand!f"&Farblagerbestand!V16&":f$531"),0)),"") | U18: =($F$4) -> Boden | V18: {=IFERROR(INDEX(Farblagerbestand!E$3:E$511,SMALL(IF(Farblagerbestand!$C$3:$C$511=$F$4,ROW(Farblagerbestand!$1:$509)),ROW(Farblagerbestand!D2))),"")} -> 0 | W18: {=IFERROR(INDEX(Farblagerbestand!F$3:F$511,SMALL(IF(Farblagerbestand!$C$3:$C$511=$F$4,ROW(Farblagerbestand!$1:$509)),ROW(Farblagerbestand!E2))),"")} -> inksgreen020 | X18: {=IFERROR(INDEX(Farblagerbestand!G$3:G$511,SMALL(IF(Farblagerbestand!$C$3:$C$511=$F$4,ROW(Farblagerbestand!$1:$509)),ROW(Farblagerbestand!F2))),"")} -> 25
G19: =IFERROR(INDEX(INDIRECT("Farblagerbestand!F"&Farblagerbestand!U17&":F535"),MATCH("*"&Farbsuche!$C$4&"*",INDIRECT("Farblagerbestand!F"&Farblagerbestand!U17&":F$531"),0)),"") | H19: =IFERROR(INDEX(INDIRECT("Farblagerbestand!g"&Farblagerbestand!V17&":g535"),MATCH("*"&Farbsuche!$C$4&"*",INDIRECT("Farblagerbestand!f"&Farblagerbestand!V17&":f$531"),0)),"") | U19: =($F$4) -> Boden | V19: {=IFERROR(INDEX(Farblagerbestand!E$3:E$511,SMALL(IF(Farblagerbestand!$C$3:$C$511=$F$4,ROW(Farblagerbestand!$1:$509)),ROW(Farblagerbestand!D3))),"")} -> 0 | W19: {=IFERROR(INDEX(Farblagerbestand!F$3:F$511,SMALL(IF(Farblagerbestand!$C$3:$C$511=$F$4,ROW(Farblagerbestand!$1:$509)),ROW(Farblagerbestand!E3))),"")} -> inksgreen025 | X19: {=IFERROR(INDEX(Farblagerbestand!G$3:G$511,SMALL(IF(Farblagerbestand!$C$3:$C$511=$F$4,ROW(Farblagerbestand!$1:$509)),ROW(Farblagerbestand!F3))),"")} -> 18
G20: =IFERROR(INDEX(INDIRECT("Farblagerbestand!F"&Farblagerbestand!U18&":F535"),MATCH("*"&Farbsuche!$C$4&"*",INDIRECT("Farblagerbestand!F"&Farblagerbestand!U18&":F$531"),0)),"") | U20: =($F$4) -> Boden | V20: {=IFERROR(INDEX(Farblagerbestand!E$3:E$511,SMALL(IF(Farblagerbestand!$C$3:$C$511=$F$4,ROW(Farblagerbestand!$1:$509)),ROW(Farblagerbestand!D4))),"")} -> 0 | W20: {=IFERROR(INDEX(Farblagerbestand!F$3:F$511,SMALL(IF(Farblagerbestand!$C$3:$C$511=$F$4,ROW(Farblagerbestand!$1:$509)),ROW(Farblagerbestand!E4))),"")} -> inksgreen015 | X20: {=IFERROR(INDEX(Farblagerbestand!G$3:G$511,SMALL(IF(Farblagerbestand!$C$3:$C$511=$F$4,ROW(Farblagerbestand!$1:$509)),ROW(Farblagerbestand!F4))),"")} -> 15
U21: =($F$4) -> Boden | V21: {=IFERROR(INDEX(Farblagerbestand!E$3:E$511,SMALL(IF(Farblagerbestand!$C$3:$C$511=$F$4,ROW(Farblagerbestand!$1:$509)),ROW(Farblagerbestand!D5))),"")} -> 41887 | W21: {=IFERROR(INDEX(Farblagerbestand!F$3:F$511,SMALL(IF(Farblagerbestand!$C$3:$C$511=$F$4,ROW(Farblagerbestand!$1:$509)),ROW(Farblagerbestand!E5))),"")} -> inksgreen007 | X21: {=IFERROR(INDEX(Farblagerbestand!G$3:G$511,SMALL(IF(Farblagerbestand!$C$3:$C$511=$F$4,ROW(Farblagerbestand!$1:$509)),ROW(Farblagerbestand!F5))),"")} -> 25
U22: =($F$4) -> Boden | V22: {=IFERROR(INDEX(Farblagerbestand!E$3:E$511,SMALL(IF(Farblagerbestand!$C$3:$C$511=$F$4,ROW(Farblagerbestand!$1:$509)),ROW(Farblagerbestand!D6))),"")} -> 0 | W22: {=IFERROR(INDEX(Farblagerbestand!F$3:F$511,SMALL(IF(Farblagerbestand!$C$3:$C$511=$F$4,ROW(Farblagerbestand!$1:$509)),ROW(Farblagerbestand!E6))),"")} -> inksgreen014 | X22: {=IFERROR(INDEX(Farblagerbestand!G$3:G$511,SMALL(IF(Farblagerbestand!$C$3:$C$511=$F$4,ROW(Farblagerbestand!$1:$509)),ROW(Farblagerbestand!F6))),"")} -> 25
U23: =($F$4) -> Boden | V23: {=IFERROR(INDEX(Farblagerbestand!E$3:E$511,SMALL(IF(Farblagerbestand!$C$3:$C$511=$F$4,ROW(Farblagerbestand!$1:$509)),ROW(Farblagerbestand!D7))),"")} -> 0 | W23: {=IFERROR(INDEX(Farblagerbestand!F$3:F$511,SMALL(IF(Farblagerbestand!$C$3:$C$511=$F$4,ROW(Farblagerbestand!$1:$509)),ROW(Farblagerbestand!E7))),"")} -> inksgreen020 | X23: {=IFERROR(INDEX(Farblagerbestand!G$3:G$511,SMALL(IF(Farblagerbestand!$C$3:$C$511=$F$4,ROW(Farblagerbestand!$1:$509)),ROW(Farblagerbestand!F7))),"")} -> 25
U24: =($F$4) -> Boden | V24: {=IFERROR(INDEX(Farblagerbestand!E$3:E$511,SMALL(IF(Farblagerbestand!$C$3:$C$511=$F$4,ROW(Farblagerbestand!$1:$509)),ROW(Farblagerbestand!D8))),"")} -> 0 | W24: {=IFERROR(INDEX(Farblagerbestand!F$3:F$511,SMALL(IF(Farblagerbestand!$C$3:$C$511=$F$4,ROW(Farblagerbestand!$1:$509)),ROW(Farblagerbestand!E8))),"")} -> inksgreen020 | X24: {=IFERROR(INDEX(Farblagerbestand!G$3:G$511,SMALL(IF(Farblagerbestand!$C$3:$C$511=$F$4,ROW(Farblagerbestand!$1:$509)),ROW(Farblagerbestand!F8))),"")} -> 25
U25: =($F$4) -> Boden | V25: {=IFERROR(INDEX(Farblagerbestand!E$3:E$511,SMALL(IF(Farblagerbestand!$C$3:$C$511=$F$4,ROW(Farblagerbestand!$1:$509)),ROW(Farblagerbestand!D9))),"")} -> 0 | W25: {=IFERROR(INDEX(Farblagerbestand!F$3:F$511,SMALL(IF(Farblagerbestand!$C$3:$C$511=$F$4,ROW(Farblagerbestand!$1:$509)),ROW(Farblagerbestand!E9))),"")} -> inksgreen050 | X25: {=IFERROR(INDEX(Farblagerbestand!G$3:G$511,SMALL(IF(Farblagerbestand!$C$3:$C$511=$F$4,ROW(Farblagerbestand!$1:$509)),ROW(Farblagerbestand!F9))),"")} -> 16
U26: =($F$4) -> Boden | V26: {=IFERROR(INDEX(Farblagerbestand!E$3:E$511,SMALL(IF(Farblagerbestand!$C$3:$C$511=$F$4,ROW(Farblagerbestand!$1:$509)),ROW(Farblagerbestand!D10))),"")} -> 0 | W26: {=IFERROR(INDEX(Farblagerbestand!F$3:F$511,SMALL(IF(Farblagerbestand!$C$3:$C$511=$F$4,ROW(Farblagerbestand!$1:$509)),ROW(Farblagerbestand!E10))),"")} -> inksgreen010 | X26: {=IFERROR(INDEX(Farblagerbestand!G$3:G$511,SMALL(IF(Farblagerbestand!$C$3:$C$511=$F$4,ROW(Farblagerbestand!$1:$509)),ROW(Farblagerbestand!F10))),"")} -> 19
U27: =($F$4) -> Boden | V27: {=IFERROR(INDEX(Farblagerbestand!E$3:E$511,SMALL(IF(Farblagerbestand!$C$3:$C$511=$F$4,ROW(Farblagerbestand!$1:$509)),ROW(Farblagerbestand!D11))),"")} -> 0 | W27: {=IFERROR(INDEX(Farblagerbestand!F$3:F$511,SMALL(IF(Farblagerbestand!$C$3:$C$511=$F$4,ROW(Farblagerbestand!$1:$509)),ROW(Farblagerbestand!E11))),"")} -> 0 | X27: {=IFERROR(INDEX(Farblagerbestand!G$3:G$511,SMALL(IF(Farblagerbestand!$C$3:$C$511=$F$4,ROW(Farblagerbestand!$1:$509)),ROW(Farblagerbestand!F11))),"")} -> 0
U28: =($F$4) -> Boden | V28: {=IFERROR(INDEX(Farblagerbestand!E$3:E$511,SMALL(IF(Farblagerbestand!$C$3:$C$511=$F$4,ROW(Farblagerbestand!$1:$509)),ROW(Farblagerbestand!D12))),"")} -> 0 | W28: {=IFERROR(INDEX(Farblagerbestand!F$3:F$511,SMALL(IF(Farblagerbestand!$C$3:$C$511=$F$4,ROW(Farblagerbestand!$1:$509)),ROW(Farblagerbestand!E12))),"")} -> 0 | X28: {=IFERROR(INDEX(Farblagerbestand!G$3:G$511,SMALL(IF(Farblagerbestand!$C$3:$C$511=$F$4,ROW(Farblagerbestand!$1:$509)),ROW(Farblagerbestand!F12))),"")} -> 0
U29: =($F$4) -> Boden | V29: {=IFERROR(INDEX(Farblagerbestand!E$3:E$511,SMALL(IF(Farblagerbestand!$C$3:$C$511=$F$4,ROW(Farblagerbestand!$1:$509)),ROW(Farblagerbestand!D13))),"")} -> 0 | W29: {=IFERROR(INDEX(Farblagerbestand!F$3:F$511,SMALL(IF(Farblagerbestand!$C$3:$C$511=$F$4,ROW(Farblagerbestand!$1:$509)),ROW(Farblagerbestand!E13))),"")} -> 0 | X29: {=IFERROR(INDEX(Farblagerbestand!G$3:G$511,SMALL(IF(Farblagerbestand!$C$3:$C$511=$F$4,ROW(Farblagerbestand!$1:$509)),ROW(Farblagerbestand!F13))),"")} -> 0
U30: =($F$4) -> Boden | V30: {=IFERROR(INDEX(Farblagerbestand!E$3:E$511,SMALL(IF(Farblagerbestand!$C$3:$C$511=$F$4,ROW(Farblagerbestand!$1:$509)),ROW(Farblagerbestand!D14))),"")} -> 0 | W30: {=IFERROR(INDEX(Farblagerbestand!F$3:F$511,SMALL(IF(Farblagerbestand!$C$3:$C$511=$F$4,ROW(Farblagerbestand!$1:$509)),ROW(Farblagerbestand!E14))),"")} -> 0 | X30: {=IFERROR(INDEX(Farblagerbestand!G$3:G$511,SMALL(IF(Farblagerbestand!$C$3:$C$511=$F$4,ROW(Farblagerbestand!$1:$509)),ROW(Farblagerbestand!F14))),"")} -> 0

Sheet Tabelle2
A1: Aus- und Einlagerungsformular Farblager Innowo1
D3: Auslagerung | G3: Einlagerung
B4: Farbbezeichnung | C4: datum | D4: Lagerplatz | E4: kg | F4: datum | G4: Lagerplatz | H4: kg

Sheet Farblagerbestand
B2: Entnommen | E2: Datum | F2: Farbbezeichnung | G2: kg | T2: 1 | U2: 1 | V2: 1
B3: Lagerplatz | C3: Boden | D3: =IFERROR(LOOKUP(2,1/(' 1'!$J$18:$J$31&' 1'!$L$18:$L$31=E3&F3),' 1'!$I$18:$I$31),"") | F3: inksgreen015 | G3: 30 | T3: =IFERROR(ROW(INDEX(INDIRECT("C"&T2&":C$531"),MATCH("*"&Farbsuche!$C$4&"*",INDIRECT("F"&T2&":F$531"),0)))+1,"") -> 8 | U3: =IFERROR(ROW(INDEX(INDIRECT("C"&U2&":C$531"),MATCH("*"&Farbsuche!$C$4&"*",INDIRECT("F"&U2&":F$531"),0)))+1,"") -> 8 | V3: =IFERROR(ROW(INDEX(INDIRECT("g"&U2&":g$531"),MATCH("*"&Farbsuche!$C$4&"*",INDIRECT("F"&U2&":F$531"),0)))+1,"") -> 8
C4: Boden | F4: inksgreen020 | G4: 25 | T4: =IFERROR(ROW(INDEX(INDIRECT("C"&T3&":C$531"),MATCH("*"&Farbsuche!$C$4&"*",INDIRECT("F"&T3&":F$531"),0)))+1,"") -> 26 | U4: =IFERROR(ROW(INDEX(INDIRECT("C"&U3&":C$531"),MATCH("*"&Farbsuche!$C$4&"*",INDIRECT("F"&U3&":F$531"),0)))+1,"") -> 26 | V4: =IFERROR(ROW(INDEX(INDIRECT("g"&U3&":g$531"),MATCH("*"&Farbsuche!$C$4&"*",INDIRECT("F"&U3&":F$531"),0)))+1,"") -> 26
C5: Boden | F5: inksgreen025 | G5: 18 | T5: =IFERROR(ROW(INDEX(INDIRECT("C"&T4&":C$531"),MATCH("*"&Farbsuche!$C$4&"*",INDIRECT("F"&T4&":F$531"),0)))+1,"") -> 115 | U5: =IFERROR(ROW(INDEX(INDIRECT("C"&U4&":C$531"),MATCH("*"&Farbsuche!$C$4&"*",INDIRECT("F"&U4&":F$531"),0)))+1,"") -> 115 | V5: =IFERROR(ROW(INDEX(INDIRECT("g"&U4&":g$531"),MATCH("*"&Farbsuche!$C$4&"*",INDIRECT("F"&U4&":F$531"),0)))+1,"") -> 115
C6: Boden | F6: inksgreen015 | G6: 15 | T6: =IFERROR(ROW(INDEX(INDIRECT("C"&T5&":C$531"),MATCH("*"&Farbsuche!$C$4&"*",INDIRECT("F"&T5&":F$531"),0)))+1,"") | U6: =IFERROR(ROW(INDEX(INDIRECT("C"&U5&":C$531"),MATCH("*"&Farbsuche!$C$4&"*",INDIRECT("F"&U5&":F$531"),0)))+1,"") | V6: =IFERROR(ROW(INDEX(INDIRECT("g"&U5&":g$531"),MATCH("*"&Farbsuche!$C$4&"*",INDIRECT("F"&U5&":F$531"),0)))+1,"")
C7: Boden | E7: 41887 | F7: inksgreen007 | G7: 25 | T7: =IFERROR(ROW(INDEX(INDIRECT("C"&T6&":C$531"),MATCH("*"&Farbsuche!$C$4&"*",INDIRECT("F"&T6&":F$531"),0)))+1,"") | U7: =IFERROR(ROW(INDEX(INDIRECT("C"&U6&":C$531"),MATCH("*"&Farbsuche!$C$4&"*",INDIRECT("F"&U6&":F$531"),0)))+1,"") | V7: =IFERROR(ROW(INDEX(INDIRECT("g"&U6&":g$531"),MATCH("*"&Farbsuche!$C$4&"*",INDIRECT("F"&U6&":F$531"),0)))+1,"")
C8: Boden | F8: inksgreen014 | G8: 25 | T8: =IFERROR(ROW(INDEX(INDIRECT("C"&T7&":C$531"),MATCH("*"&Farbsuche!$C$4&"*",INDIRECT("F"&T7&":F$531"),0)))+1,"") | U8: =IFERROR(ROW(INDEX(INDIRECT("C"&U7&":C$531"),MATCH("*"&Farbsuche!$C$4&"*",INDIRECT("F"&U7&":F$531"),0)))+1,"") | V8: =IFERROR(ROW(INDEX(INDIRECT("g"&U7&":g$531"),MATCH("*"&Farbsuche!$C$4&"*",INDIRECT("F"&U7&":F$531"),0)))+1,"")
C9: Boden | F9: inksgreen020 | G9: 25 | T9: =IFERROR(ROW(INDEX(INDIRECT("C"&T8&":C$531"),MATCH("*"&Farbsuche!$C$4&"*",INDIRECT("F"&T8&":F$531"),0)))+1,"") | U9: =IFERROR(ROW(INDEX(INDIRECT("C"&U8&":C$531"),MATCH("*"&Farbsuche!$C$4&"*",INDIRECT("F"&U8&":F$531"),0)))+1,"") | V9: =IFERROR(ROW(INDEX(INDIRECT("g"&U8&":g$531"),MATCH("*"&Farbsuche!$C$4&"*",INDIRECT("F"&U8&":F$531"),0)))+1,"")
C10: Boden | F10: inksgreen020 | G10: 25 | T10: =IFERROR(ROW(INDEX(INDIRECT("C"&T9&":C$531"),MATCH("*"&Farbsuche!$C$4&"*",INDIRECT("F"&T9&":F$531"),0)))+1,"") | U10: =IFERROR(ROW(INDEX(INDIRECT("C"&U9&":C$531"),MATCH("*"&Farbsuche!$C$4&"*",INDIRECT("F"&U9&":F$531"),0)))+1,"") | V10: =IFERROR(ROW(INDEX(INDIRECT("g"&U9&":g$531"),MATCH("*"&Farbsuche!$C$4&"*",INDIRECT("F"&U9&":F$531"),0)))+1,"")
C11: Boden | F11: inksgreen050 | G11: 16 | T11: =IFERROR(ROW(INDEX(INDIRECT("C"&T10&":C$531"),MATCH("*"&Farbsuche!$C$4&"*",INDIRECT("F"&T10&":F$531"),0)))+1,"") | U11: =IFERROR(ROW(INDEX(INDIRECT("C"&U10&":C$531"),MATCH("*"&Farbsuche!$C$4&"*",INDIRECT("F"&U10&":F$531"),0)))+1,"") | V11: =IFERROR(ROW(INDEX(INDIRECT("g"&U10&":g$531"),MATCH("*"&Farbsuche!$C$4&"*",INDIRECT("F"&U10&":F$531"),0)))+1,"")
C12: Boden | F12: inksgreen010 | G12: 19 | T12: =IFERROR(ROW(INDEX(INDIRECT("C"&T11&":C$531"),MATCH("*"&Farbsuche!$C$4&"*",INDIRECT("F"&T11&":F$531"),0)))+1,"") | U12: =IFERROR(ROW(INDEX(INDIRECT("C"&U11&":C$531"),MATCH("*"&Farbsuche!$C$4&"*",INDIRECT("F"&U11&":F$531"),0)))+1,"") | V12: =IFERROR(ROW(INDEX(INDIRECT("g"&U11&":g$531"),MATCH("*"&Farbsuche!$C$4&"*",INDIRECT("F"&U11&":F$531"),0)))+1,"")
C13: Boden | T13: =IFERROR(ROW(INDEX(INDIRECT("C"&T12&":C$531"),MATCH("*"&Farbsuche!$C$4&"*",INDIRECT("F"&T12&":F$531"),0)))+1,"") | U13: =IFERROR(ROW(INDEX(INDIRECT("C"&U12&":C$531"),MATCH("*"&Farbsuche!$C$4&"*",INDIRECT("F"&U12&":F$531"),0)))+1,"") | V13: =IFERROR(ROW(INDEX(INDIRECT("g"&U12&":g$531"),MATCH("*"&Farbsuche!$C$4&"*",INDIRECT("F"&U12&":F$531"),0)))+1,"")
C14: Boden | T14: =IFERROR(ROW(INDEX(INDIRECT("C"&T13&":C$531"),MATCH("*"&Farbsuche!$C$4&"*",INDIRECT("F"&T13&":F$531"),0)))+1,"") | U14: =IFERROR(ROW(INDEX(INDIRECT("C"&U13&":C$531"),MATCH("*"&Farbsuche!$C$4&"*",INDIRECT("F"&U13&":F$531"),0)))+1,"") | V14: =IFERROR(ROW(INDEX(INDIRECT("g"&U13&":g$531"),MATCH("*"&Farbsuche!$C$4&"*",INDIRECT("F"&U13&":F$531"),0)))+1,"")
C15: Boden | T15: =IFERROR(ROW(INDEX(INDIRECT("C"&T14&":C$531"),MATCH("*"&Farbsuche!$C$4&"*",INDIRECT("F"&T14&":F$531"),0)))+1,"") | U15: =IFERROR(ROW(INDEX(INDIRECT("C"&U14&":C$531"),MATCH("*"&Farbsuche!$C$4&"*",INDIRECT("F"&U14&":F$531"),0)))+1,"") | V15: =IFERROR(ROW(INDEX(INDIRECT("g"&U14&":g$531"),MATCH("*"&Farbsuche!$C$4&"*",INDIRECT("F"&U14&":F$531"),0)))+1,"")
C16: Boden | T16: =IFERROR(ROW(INDEX(INDIRECT("C"&T15&":C$531"),MATCH("*"&Farbsuche!$C$4&"*",INDIRECT("F"&T15&":F$531"),0)))+1,"") | U16: =IFERROR(ROW(INDEX(INDIRECT("C"&U15&":C$531"),MATCH("*"&Farbsuche!$C$4&"*",INDIRECT("F"&U15&":F$531"),0)))+1,"") | V16: =IFERROR(ROW(INDEX(INDIRECT("g"&U15&":g$531"),MATCH("*"&Farbsuche!$C$4&"*",INDIRECT("F"&U15&":F$531"),0)))+1,"")
B17: Entnommen | E17: Datum | F17: Farbbezeichnung | G17: kg | T17: =IFERROR(ROW(INDEX(INDIRECT("C"&T16&":C$531"),MATCH("*"&Farbsuche!$C$4&"*",INDIRECT("F"&T16&":F$531"),0)))+1,"") | U17: =IFERROR(ROW(INDEX(INDIRECT("C"&U16&":C$531"),MATCH("*"&Farbsuche!$C$4&"*",INDIRECT("F"&U16&":F$531"),0)))+1,"") | V17: =IFERROR(ROW(INDEX(INDIRECT("g"&U16&":g$531"),MATCH("*"&Farbsuche!$C$4&"*",INDIRECT("F"&U16&":F$531"),0)))+1,"")
B18: Lagerplatz | C18: 1 | T18: =IFERROR(ROW(INDEX(INDIRECT("C"&T17&":C$531"),MATCH("*"&Farbsuche!$C$4&"*",INDIRECT("F"&T17&":F$531"),0)))+1,"") | U18: =IFERROR(ROW(INDEX(INDIRECT("C"&U17&":C$531"),MATCH("*"&Farbsuche!$C$4&"*",INDIRECT("F"&U17&":F$531"),0)))+1,"") | V18: =IFERROR(ROW(INDEX(INDIRECT("g"&U17&":g$531"),MATCH("*"&Farbsuche!$C$4&"*",INDIRECT("F"&U17&":F$531"),0)))+1,"")
C19: 1 | T19: =IFERROR(ROW(INDEX(INDIRECT("C"&T18&":C$531"),MATCH("*"&Farbsuche!$C$4&"*",INDIRECT("F"&T18&":F$531"),0)))+1,"") | U19: =IFERROR(ROW(INDEX(INDIRECT("C"&U18&":C$531"),MATCH("*"&Farbsuche!$C$4&"*",INDIRECT("F"&U18&":F$531"),0)))+1,"") | V19: =IFERROR(ROW(INDEX(INDIRECT("g"&U18&":g$531"),MATCH("*"&Farbsuche!$C$4&"*",INDIRECT("F"&U18&":F$531"),0)))+1,"")
C20: 1 | T20: =IFERROR(ROW(INDEX(INDIRECT("C"&T19&":C$531"),MATCH("*"&Farbsuche!$C$4&"*",INDIRECT("F"&T19&":F$531"),0)))+1,"") | U20: =IFERROR(ROW(INDEX(INDIRECT("C"&U19&":C$531"),MATCH("*"&Farbsuche!$C$4&"*",INDIRECT("F"&U19&":F$531"),0)))+1,"") | V20: =IFERROR(ROW(INDEX(INDIRECT("g"&U19&":g$531"),MATCH("*"&Farbsuche!$C$4&"*",INDIRECT("F"&U19&":F$531"),0)))+1,"")
C21: 1 | T21: =IFERROR(ROW(INDEX(INDIRECT("C"&T20&":C$531"),MATCH("*"&Farbsuche!$C$4&"*",INDIRECT("F"&T20&":F$531"),0)))+1,"") | U21: =IFERROR(ROW(INDEX(INDIRECT("C"&U20&":C$531"),MATCH("*"&Farbsuche!$C$4&"*",INDIRECT("F"&U20&":F$531"),0)))+1,"") | V21: =IFERROR(ROW(INDEX(INDIRECT("g"&U20&":g$531"),MATCH("*"&Farbsuche!$C$4&"*",INDIRECT("F"&U20&":F$531"),0)))+1,"")
C22: 1 | T22: =IFERROR(ROW(INDEX(INDIRECT("C"&T21&":C$531"),MATCH("*"&Farbsuche!$C$4&"*",INDIRECT("F"&T21&":F$531"),0)))+1,"") | U22: =IFERROR(ROW(INDEX(INDIRECT("C"&U21&":C$531"),MATCH("*"&Farbsuche!$C$4&"*",INDIRECT("F"&U21&":F$531"),0)))+1,"") | V22: =IFERROR(ROW(INDEX(INDIRECT("g"&U21&":g$531"),MATCH("*"&Farbsuche!$C$4&"*",INDIRECT("F"&U21&":F$531"),0)))+1,"")
C23: 1 | T23: =IFERROR(ROW(INDEX(INDIRECT("C"&T22&":C$531"),MATCH("*"&Farbsuche!$C$4&"*",INDIRECT("F"&T22&":F$531"),0)))+1,"") | U23: =IFERROR(ROW(INDEX(INDIRECT("C"&U22&":C$531"),MATCH("*"&Farbsuche!$C$4&"*",INDIRECT("F"&U22&":F$531"),0)))+1,"") | V23: =IFERROR(ROW(INDEX(INDIRECT("g"&U22&":g$531"),MATCH("*"&Farbsuche!$C$4&"*",INDIRECT("F"&U22&":F$531"),0)))+1,"")
C24: 1 | T24: =IFERROR(ROW(INDEX(INDIRECT("C"&T23&":C$531"),MATCH("*"&Farbsuche!$C$4&"*",INDIRECT("F"&T23&":F$531"),0)))+1,"") | U24: =IFERROR(ROW(INDEX(INDIRECT("C"&U23&":C$531"),MATCH("*"&Farbsuche!$C$4&"*",INDIRECT("F"&U23&":F$531"),0)))+1,"") | V24: =IFERROR(ROW(INDEX(INDIRECT("g"&U23&":g$531"),MATCH("*"&Farbsuche!$C$4&"*",INDIRECT("F"&U23&":F$531"),0)))+1,"")
C25: 1 | E25: 41990 | F25: inksgreen007/Umlauf | G25: 17 | T25: =IFERROR(ROW(INDEX(INDIRECT("C"&T24&":C$531"),MATCH("*"&Farbsuche!$C$4&"*",INDIRECT("F"&T24&":F$531"),0)))+1,"") | U25: =IFERROR(ROW(INDEX(INDIRECT("C"&U24&":C$531"),MATCH("*"&Farbsuche!$C$4&"*",INDIRECT("F"&U24&":F$531"),0)))+1,"") | V25: =IFERROR(ROW(INDEX(INDIRECT("g"&U24&":g$531"),MATCH("*"&Farbsuche!$C$4&"*",INDIRECT("F"&U24&":F$531"),0)))+1,"")
C26: 1 | T26: =IFERROR(ROW(INDEX(INDIRECT("C"&T25&":C$531"),MATCH("*"&Farbsuche!$C$4&"*",INDIRECT("F"&T25&":F$531"),0)))+1,"") | U26: =IFERROR(ROW(INDEX(INDIRECT("C"&U25&":C$531"),MATCH("*"&Farbsuche!$C$4&"*",INDIRECT("F"&U25&":F$531"),0)))+1,"") | V26: =IFERROR(ROW(INDEX(INDIRECT("g"&U25&":g$531"),MATCH("*"&Farbsuche!$C$4&"*",INDIRECT("F"&U25&":F$531"),0)))+1,"")
C27: 1 | T27: =IFERROR(ROW(INDEX(INDIRECT("C"&T26&":C$531"),MATCH("*"&Farbsuche!$C$4&"*",INDIRECT("F"&T26&":F$531"),0)))+1,"") | U27: =IFERROR(ROW(INDEX(INDIRECT("C"&U26&":C$531"),MATCH("*"&Farbsuche!$C$4&"*",INDIRECT("F"&U26&":F$531"),0)))+1,"") | V27: =IFERROR(ROW(INDEX(INDIRECT("g"&U26&":g$531"),MATCH("*"&Farbsuche!$C$4&"*",INDIRECT("F"&U26&":F$531"),0)))+1,"")
C28: 1 | T28: =IFERROR(ROW(INDEX(INDIRECT("C"&T27&":C$531"),MATCH("*"&Farbsuche!$C$4&"*",INDIRECT("F"&T27&":F$531"),0)))+1,"") | U28: =IFERROR(ROW(INDEX(INDIRECT("C"&U27&":C$531"),MATCH("*"&Farbsuche!$C$4&"*",INDIRECT("F"&U27&":F$531"),0)))+1,"") | V28: =IFERROR(ROW(INDEX(INDIRECT("g"&U27&":g$531"),MATCH("*"&Farbsuche!$C$4&"*",INDIRECT("F"&U27&":F$531"),0)))+1,"")
C29: 1 | T29: =IFERROR(ROW(INDEX(INDIRECT("C"&T28&":C$531"),MATCH("*"&Farbsuche!$C$4&"*",INDIRECT("F"&T28&":F$531"),0)))+1,"") | U29: =IFERROR(ROW(INDEX(INDIRECT("C"&U28&":C$531"),MATCH("*"&Farbsuche!$C$4&"*",INDIRECT("F"&U28&":F$531"),0)))+1,"") | V29: =IFERROR(ROW(INDEX(INDIRECT("g"&U28&":g$531"),MATCH("*"&Farbsuche!$C$4&"*",INDIRECT("F"&U28&":F$531"),0)))+1,"")
C30: 1 | T30: =IFERROR(ROW(INDEX(INDIRECT("C"&T29&":C$531"),MATCH("*"&Farbsuche!$C$4&"*",INDIRECT("F"&T29&":F$531"),0)))+1,"") | U30: =IFERROR(ROW(INDEX(INDIRECT("C"&U29&":C$531"),MATCH("*"&Farbsuche!$C$4&"*",INDIRECT("F"&U29&":F$531"),0)))+1,"") | V30: =IFERROR(ROW(INDEX(INDIRECT("g"&U29&":g$531"),MATCH("*"&Farbsuche!$C$4&"*",INDIRECT("F"&U29&":F$531"),0)))+1,"")
C31: 1 | U31: =IFERROR(ROW(INDEX(INDIRECT("C"&U30&":C$531"),MATCH("*"&Farbsuche!$C$4&"*",INDIRECT("F"&U30&":F$531"),0)))+1,"") | V31: =IFERROR(ROW(INDEX(INDIRECT("g"&U30&":g$531"),MATCH("*"&Farbsuche!$C$4&"*",INDIRECT("F"&U30&":F$531"),0)))+1,"")
B32: Entnommen | E32: Datum | F32: Farbbezeichnung | G32: kg | U32: =IFERROR(ROW(INDEX(INDIRECT("C"&U31&":C$531"),MATCH("*"&Farbsuche!$C$4&"*",INDIRECT("F"&U31&":F$531"),0)))+1,"") | V32: =IFERROR(ROW(INDEX(INDIRECT("g"&U31&":g$531"),MATCH("*"&Farbsuche!$C$4&"*",INDIRECT("F"&U31&":F$531"),0)))+1,"")
B33: Lagerplatz | C33: 2 | U33: =IFERROR(ROW(INDEX(INDIRECT("C"&U32&":C$531"),MATCH("*"&Farbsuche!$C$4&"*",INDIRECT("F"&U32&":F$531"),0)))+1,"") | V33: =IFERROR(ROW(INDEX(INDIRECT("g"&U32&":g$531"),MATCH("*"&Farbsuche!$C$4&"*",INDIRECT("F"&U32&":F$531"),0)))+1,"")
C34: 2 | U34: =IFERROR(ROW(INDEX(INDIRECT("C"&U33&":C$531"),MATCH("*"&Farbsuche!$C$4&"*",INDIRECT("F"&U33&":F$531"),0)))+1,"") | V34: =IFERROR(ROW(INDEX(INDIRECT("g"&U33&":g$531"),MATCH("*"&Farbsuche!$C$4&"*",INDIRECT("F"&U33&":F$531"),0)))+1,"")
C35: 2 | U35: =IFERROR(ROW(INDEX(INDIRECT("C"&U34&":C$531"),MATCH("*"&Farbsuche!$C$4&"*",INDIRECT("F"&U34&":F$531"),0)))+1,"") | V35: =IFERROR(ROW(INDEX(INDIRECT("g"&U34&":g$531"),MATCH("*"&Farbsuche!$C$4&"*",INDIRECT("F"&U34&":F$531"),0)))+1,"")
C36: 2 | U36: =IFERROR(ROW(INDEX(INDIRECT("C"&U35&":C$531"),MATCH("*"&Farbsuche!$C$4&"*",INDIRECT("F"&U35&":F$531"),0)))+1,"")
C37: 2 | U37: =IFERROR(ROW(INDEX(INDIRECT("C"&U36&":C$531"),MATCH("*"&Farbsuche!$C$4&"*",INDIRECT("F"&U36&":F$531"),0)))+1,"")
C38: 2 | U38: =IFERROR(ROW(INDEX(INDIRECT("C"&U37&":C$531"),MATCH("*"&Farbsuche!$C$4&"*",INDIRECT("F"&U37&":F$531"),0)))+1,"")
C39: 2 | F39: inkscyan001 | G39: 13
C40: 2
C41: 2
...
