Workbook

Sheet v0.2
C4: Grundwerte | H4: Reifen | M4: Spur | R4: Stabilisatoren | W4: Federn | AB4: Dämpfer | AG4: Bremse | AL4: Differenzial
C6: Gewicht | H6: Reifendruck | M6: Radsturz | R6: Stabilisatoren | W6: Federn | AB6: Zugstufe | AG6: Bremskraft | AL6: Front
C7: Gewicht in KG | D7: 1500 | H7: Front | I7: =IF(D15="Straße",Calculator!Q4,IF(D15="Sport",Calculator!Q5,IF(D15="Semi-Slick",Calculator!Q6,IF(D15="Slick",Calculator!Q7,IF(D15="Drift",Calculator!Q8,IF(D15="Rally",Calculator!Q9,IF(D15="Offroad",Calculator!Q10,IF(D15="Winter",Calculator!Q11,Calculator!Q12)))))))) -> V Straße | M7: Front | N7: =IF(D27="Rally",Calculator!C24*0.8,IF(D27="Querfeldein",Calculator!C24*0.67,Calculator!C24)) -> -1.2 | R7: Front | S7: =IF(D27="Asphalt",Calculator!N33,Calculator!N33*0.33) -> 20.434524 | W7: Front | X7: =IF(D27="Asphalt",Calculator!L43,Calculator!L43*0.78) -> 90.923342 | AB7: Front | AC7: =IF(D27="Rally",Calculator!L51*0.8,IF(D27="Querfeldein",Calculator!L51*0.67,Calculator!L51)) -> 11.315415 | AG7: Balance | AH7: =IF(D30="Default",Calculator!C54,Calculator!D54) -> 51 | AL7: Beschleunigung | AM7: =IF(D24="RWD",Calculator!L59,IF(D24="AWD",Calculator!Q59,Calculator!U59)) -> •
C8: Front % | D8: 50 | H8: Heck | I8: =IF(D15="Straße",Calculator!R4,IF(D15="Sport",Calculator!R5,IF(D15="Semi-Slick",Calculator!R6,IF(D15="Slick",Calculator!R7,IF(D15="Drift",Calculator!R8,IF(D15="Rally",Calculator!R9,IF(D15="Offroad",Calculator!R10,IF(D15="Winter",Calculator!R11,Calculator!R12)))))))) -> Straße | M8: Heck | N8: =IF(D27="Rally",Calculator!F24*0.8,IF(D27="Querfeldein",Calculator!F24*0.67,Calculator!F24)) -> -0.96 | R8: Heck | S8: =IF(D27="Asphalt",Calculator!O33,Calculator!O33*0.33) -> 40.226206 | W8: Heck | X8: =IF(D27="Asphalt",Calculator!M43,Calculator!M43*0.78) -> 99.062261 | AB8: Heck | AC8: =IF(D27="Rally",Calculator!M51*0.8,IF(D27="Querfeldein",Calculator!M51*0.67,Calculator!M51)) -> 12.146112 | AL8: Abbremsen | AM8: =IF(D24="RWD",Calculator!L60,IF(D24="AWD",Calculator!Q60,Calculator!U60)) -> •
C10: Reifen | M10: Spur | W10: Fahrhöhe | AB10: Druckstufe | AG10: Bremskraft | AL10: Heck
C11: Breite Front | D11: 215 | M11: Front | N11: =Calculator!C25 -> 0.11764706 | W11: Front | X11: =Calculator!Q43 -> Default | AB11: Front | AC11: =AC7*0.33 -> 3.7340869 | AG11: Druck | AH11: =Calculator!C55 -> 104 | AL11: Beschleunigung | AM11: =IF(D24="RWD",Calculator!M59,IF(D24="AWD",Calculator!R59,Calculator!V59)) -> 65.416667
C12: Breite Heck | D12: 215 | M12: Heck | N12: =IF(D24="AWD",Calculator!E25,Calculator!D25) -> -0.1 | W12: Heck | X12: =Calculator!R43 -> Default | AB12: Heck | AC12: =AC8*0.33 -> 4.008217 | AL12: Abbremsen | AM12: =IF(D24="RWD",Calculator!M60,IF(D24="AWD",Calculator!R60,Calculator!V60)) -> 23
C14: Reifen | M14: Nachlauf vorn | AL14: Mitte
C15: Reifenmischung | D15: Straße | M15: Winkel | N15: =IF(D27="Rally",Calculator!C26*0.85,IF(D27="Querfeldein",Calculator!C26*0.73,Calculator!C26)) -> 6.5 | W15: =IF(D27="Asphalt",""," ! Rally Fahrwerk verbauen !") | AL15: Balance | AM15: =IF(D24="AWD",Calculator!R61,"•") -> •
C17: Aerodynamik
C18: Balance | D18: 0.35
C20: Grip-Level
C21: Laterale G-Kräfte | D21: 2
C23: Antriebsart
C24: Auswahl: | D24: RWD
C26: Untergrund
C27: Auswahl: | D27: Asphalt
C29: Preset
C30: Auswahl: | D30: Default

Sheet Calculator
B3: Werte | K3: Untergrund | P3: Reifenmischung | Q3: Front | R3: Heck | S3: Druck
K4: Asphalt | P4: Straße | Q4: V Straße | R4: Straße
B5: Koeffizient Stabilisatoren | C5: 32.5 | K5: Rally | P5: Sport | Q5: V Sport | R5: Sport
B6: Koeffizient Federn | C6: =0.245/4.3 -> 0.056976744 | K6: Querfeldein | P6: Semi-Slick | Q6: V Semi-Slick | R6: Semi-Slick
B7: Federrate Min | C7: =55.5/1360 -> 0.040808824 | P7: Slick | Q7: V Slick | R7: Slick
B8: Federrate Max | C8: =(277.3/1360)*D8 -> 0.13049412 | D8: 0.64 | P8: Drift | Q8: V Drift | R8: Drift
B9: Federn RWD Offset | C9: 0.9 | P9: Rally | Q9: V Rally | R9: Rally
B10: Stabilistaor | C10: 80 | P10: Offroad | Q10: V Offroad | R10: Offroad
B11: Dämpfer | C11: 4 | D11: 10 | P11: Winter | Q11: V Winter | R11: Winter
B12: Querbeschleunigung | C12: ='v0.2'!D21 -> 2 | D12: =(100-C12*10)/100 -> 0.8 | E12: =C12/10+1 -> 1.2 | F12: =C12/100+1 -> 1.02 | P12: Drag | Q12: V Drag | R12: Drag
B13: Reifen | C13: ='v0.2'!D11/('v0.2'!D11+'v0.2'!D12) -> 0.5 | D13: ='v0.2'!D12/('v0.2'!D11+'v0.2'!D12) -> 0.5 | E13: =1-('v0.2'!D11/('v0.2'!D11+'v0.2'!D12))/10 -> 0.95 | F13: =1+('v0.2'!D12/('v0.2'!D11+'v0.2'!D12))/10 -> 1.05
B14: Differenzial | C14: 40
B16: Balance | C16: Vorne | D16: Hinten | K16: Presets | L16: Federhärte | M16: Federn | N16: Stabilisator | O16: Dämpfung
B17: Gewicht% | C17: =('v0.2'!D8)/100+1 -> 1.5 | D17: =(100-'v0.2'!D8)/100+1 -> 1.5 | E17: =1-C17/10 -> 0.85 | F17: =D17/10+1 -> 1.15 | G17: =('v0.2'!D8)/100 -> 0.5 | H17: =(100-'v0.2'!D8)/100 -> 0.5 | K17: Default | L17: 1 | M17: 4 | N17: 7 | O17: =E12 -> 1.2
B18: Reifenbreite% | C18: ='v0.2'!D11/('v0.2'!D11+'v0.2'!D12)+1 -> 1.5 | D18: ='v0.2'!D12/('v0.2'!D11+'v0.2'!D12)+1 -> 1.5 | E18: =1-C18/10 -> 0.85 | F18: =D18/10+1 -> 1.15 | G18: ='v0.2'!D11/('v0.2'!D11+'v0.2'!D12) -> 0.5 | H18: ='v0.2'!D12/('v0.2'!D11+'v0.2'!D12) -> 0.5 | K18: Aggressiv | L18: 2 | M18: 5 | N18: 8 | O18: =O17*1.015 -> 1.218
B19: Aero% | C19: ='v0.2'!D18+1 -> 1.35 | D19: =1-'v0.2'!D18+1 -> 1.65 | E19: =1-C19/10 -> 0.865 | F19: =D19/10+1 -> 1.165 | G19: ='v0.2'!D18 -> 0.35 | H19: =1-'v0.2'!D18 -> 0.65 | K19: Extrem | L19: 3 | M19: 6 | N19: 9 | O19: =O17*1.033 -> 1.2396
K20: Selected | L20: =IF('v0.2'!D30="Default",Calculator!L17,IF('v0.2'!D30="Aggressiv",Calculator!L18,Calculator!L19)) -> 1 | M20: =IF('v0.2'!D30="Default",Calculator!M17,IF('v0.2'!D30="Aggressiv",Calculator!M18,Calculator!M19)) -> 4 | N20: =IF('v0.2'!D30="Default",Calculator!N17,IF('v0.2'!D30="Aggressiv",Calculator!N18,Calculator!N19)) -> 7 | O20: =IF('v0.2'!D30="Default",Calculator!O17,IF('v0.2'!D30="Aggressiv",Calculator!O18,Calculator!O19)) -> 1.2
B23: Spur | C23: Vorne | D23: RWD | E23: AWD
B24: Sturz | C24: =ROUNDDOWN(E12*F12,1)*-1 -> -1.2 | D24: =D12*E12*-1 -> -0.96 | E24: =D12*-1 -> -0.8 | F24: =IF('v0.2'!D24="AWD",Calculator!E24,Calculator!D24) -> -0.96
B25: Spur | C25: =C12/17 -> 0.11764706 | D25: =(C12/20)*-1 -> -0.1 | E25: =(C12/20)*-1 -> -0.1
B26: Nachlauf | C26: =6+C12/4 -> 6.5
B29: Stabilisatoren | C29: Front | D29: Back | K29: Stabilisator | L29: Front | M29: Heck
B30: Verteilung Gewicht, Aero, Reifen | C30: =(C10*G17*G18*G19*3) -> 21 | D30: =(C10*H17*H18*H19*3) -> 39 | K30: RWD | L30: =C36 -> 20.434524 | M30: =D36 -> 40.226206
B31: Verteilung Querbeschleunigung | C31: =C30*D12 -> 16.8 | D31: =D30*E12 -> 46.8 | K31: AWD | L31: =C34 -> 18.08365 | M31: =D34 -> 46.237018
B32: Federn Mittelwert | C32: ='v0.2'!D7*Calculator!C8/2 -> 97.870588 | D32: ='v0.2'!D7*Calculator!C8/2 -> 97.870588 | K32: FWD | L32: P.Holder | M32: P.Holder
B33: Federn Offset | C33: =C32/C44 -> 1.0764077 | D33: =D32/D44 -> 0.98797047 | K33: Selected | L33: =IF('v0.2'!D24="RWD",Calculator!L30,IF('v0.2'!D24="AWD",Calculator!L31,Calculator!L32)) -> 20.434524 | M33: =IF('v0.2'!D24="RWD",Calculator!M30,IF('v0.2'!D24="AWD",Calculator!M31,Calculator!M32)) -> 40.226206 | N33: =IF('v0.2'!D30="Aggressiv",Calculator!L34,IF('v0.2'!D30="Extrem",Calculator!L35,Calculator!L33)) -> 20.434524 | O33: =IF('v0.2'!D30="Aggressiv",Calculator!M34,IF('v0.2'!D30="Extrem",Calculator!M35,Calculator!M33)) -> 40.226206
B34: Stabilisator Final AWD | C34: =C31*C33 -> 18.08365 | D34: =D31*D33 -> 46.237018 | K34: Aggressiv | L34: =L33*0.9 -> 18.391072 | M34: =M33*1.05 -> 42.237516
B35: RWD Offset | C35: 13 | K35: Extrem | L35: =L33*0.8 -> 16.347619 | M35: =M33*1.1 -> 44.248826
B36: Stabilisator Final RWD | C36: =C34*((100+C35)/100) -> 20.434524 | D36: =D34*((100-C35)/100) -> 40.226206
B39: Federn | C39: Vorne | D39: RWD | K39: Federn | L39: Front | M39: Heck | P39: Fahrhöhe | Q39: Front | R39: Heck
B40: Gewicht% | C40: =G17 -> 0.5 | D40: =H17 -> 0.5 | K40: Default | L40: =C44 -> 90.923342 | M40: =D44 -> 99.062261 | P40: Asphalt | Q40: Default | R40: Default
B41: Aero | C41: ='v0.2'!D18/10+1 -> 1.035 | D41: =(1-'v0.2'!D18)/10+1 -> 1.065 | K41: Aggressiv | L41: =L40*0.95 -> 86.377175 | M41: =M40*1.05 -> 104.01537 | P41: Rally | Q41: Max | R41: Max
B42: Querbeschleunigung | C42: =1+'v0.2'!D21/100 -> 1.02 | D42: =(1-'v0.2'!D21/10)/10+1 -> 1.08 | K42: Extrem | L42: =L40*0.905 -> 82.285625 | M42: =M40*1.09 -> 107.97786 | P42: Querfeldein | Q42: Max | R42: Max
B43: Härte Offset | C43: 0.88 | K43: Selected | L43: =IF('v0.2'!D30="Default",Calculator!L40,IF('v0.2'!D30="Aggressiv",Calculator!L41,Calculator!L42)) -> 90.923342 | M43: =IF('v0.2'!D30="Default",Calculator!M40,IF('v0.2'!D30="Aggressiv",Calculator!M41,Calculator!M42)) -> 99.062261 | P43: Selected | Q43: =IF('v0.2'!D27="Asphalt",Calculator!Q40,IF('v0.2'!D27="Rally",Calculator!Q41,Calculator!Q42)) -> Default | R43: =IF('v0.2'!D27="Asphalt",Calculator!R40,IF('v0.2'!D27="Rally",Calculator!R41,Calculator!R42)) -> Default
B44: Verteilung | C44: =('v0.2'!D7*C8*C40*C41*C42)*C43 -> 90.923342 | D44: =('v0.2'!D7*C8*D40*D41*D42)*C43 -> 99.062261
B47: Dämpfung | C47: Vorne | D47: Hinten | K47: Zugstufe | L47: Front | M47: Heck | P47: Druckstufe | Q47: Front | R47: Heck
B48: Verteilung Zug | C48: =(C44/D50)*20*O20 -> 11.148192 | D48: =(D44/D50)*20*O20 -> 12.146112 | K48: Default | L48: =C48*1.015 -> 11.315415 | M48: =D48 -> 12.146112 | P48: Selected | Q48: =L51*0.33 -> 3.7340869 | R48: =M51*0.33 -> 4.008217
B49: Verteilung Druck | C49: =C48*0.33 -> 3.6789034 | D49: =D48*0.33 -> 4.008217 | K49: Aggressiv | L49: =C48*1.05 -> 11.705602 | M49: =M48*1.05 -> 12.753418
B50: Federrate Min | Max | C50: ='v0.2'!D7*Calculator!C7 -> 61.213235 | D50: ='v0.2'!D7*Calculator!C8 -> 195.74118 | K50: Extrem | L50: =C48*1.09 -> 12.151529 | M50: =M48*1.09 -> 13.239262
K51: Selected | L51: =IF('v0.2'!D30="Default",Calculator!L48,IF('v0.2'!D30="Aggressiv",Calculator!L49,Calculator!L50)) -> 11.315415 | M51: =IF('v0.2'!D30="Default",Calculator!M48,IF('v0.2'!D30="Aggressiv",Calculator!M49,Calculator!M50)) -> 12.146112
K52: =L48*1.1 -> 12.446956 | L52: =IF('v0.2'!D30="Default",Calculator!L48,IF('v0.2'!D30="Aggressiv",Calculator!L49,Calculator!L50)) -> 11.315415
B53: Bremsen | C53: Default | D53: Preset | K53: =K52*0.33 -> 4.1074956
B54: Verhältnis | C54: =(ROUNDUP(C13,2)+0.01)*100 -> 51 | D54: =(ROUNDDOWN(C13+0.0139,2))*100 -> 51
B55: Druck | C55: =100+C12^2 -> 104
B58: Differenzial | C58: Front | D58: Heck | K58: Differenzial RWD | L58: Front | M58: Heck | P58: Differenzial AWD | Q58: Front | R58: Heck | T58: Differenzial FWD | U58: Front | V58: Heck | X58: Diff Multi | Y58: Rally | Z58: Querfeldein
B59: Beschleunigung | C59: =(100-'v0.2'!D11/10)/E12 -> 65.416667 | D59: =(100-'v0.2'!D12/10)/E12 -> 65.416667 | K59: Beschleunigung | L59: • | M59: =IF('v0.2'!D27="Asphalt",D59,IF('v0.2'!D27="Rally",D59*Y59,D59*Z59)) -> 65.416667 | P59: Beschleunigung | Q59: =IF('v0.2'!D27="Asphalt",C59,IF('v0.2'!D27="Rally",C59*Y59,C59*Z59)) -> 65.416667 | R59: =IF('v0.2'!D27="Asphalt",D59,IF('v0.2'!D27="Rally",D59*Y59,D59*Z59)) -> 65.416667 | T59: Beschleunigung | U59: P.Holder | V59: • | X59: Beschleunigung | Y59: 1.2 | Z59: 1.33
B60: Abbremsen | C60: =22-C12^2 -> 18 | D60: =27-C12^2 -> 23 | K60: Abbremsen | L60: • | M60: =IF('v0.2'!D27="Asphalt",D60,IF('v0.2'!D27="Rally",D60*Y60,D60*Z60)) -> 23 | P60: Abbremsen | Q60: =IF('v0.2'!D27="Asphalt",C60,IF('v0.2'!D27="Rally",C60*Y60,C60*Z60)) -> 18 | R60: =IF('v0.2'!D27="Asphalt",D60,IF('v0.2'!D27="Rally",D60*Y60,D60*Z60)) -> 23 | T60: Abbremsen | U60: P.Holder | V60: • | X60: Abbremsen | Y60: 1.25 | Z60: 1.4
B61: Verteilung | C61: =(('v0.2'!D12/('v0.2'!D11+'v0.2'!D12)*100)/2)+C14+C12^3 -> 73 | K61: Verteilung | L61: • | M61: • | P61: Verteilung | Q61: • | R61: =C61 -> 73 | T61: Verteilung | U61: • | V61: •
B65: Mech 0,63
B66: Aero 0,43
