Workbook
Name Bezeichnung: #REF!
Name Bezeichnung1: Tabelle5[Bezeichnung]
Name Typ: Tabelle5[Typ]

Sheet Ynab
D1: Start
B2: Sparkasse | D2: 42278 | F2: ="Nicht genutzt: "&TEXT(D2-DAY(D2),"MMMM") -> Nicht genutzt: September | H2: =DATE(YEAR(D2),MONTH(D2)+1,DAY(D2)) -> 42309 | I2: =IF(E9>0,E9,0) -> 0 | J2: ="Nicht genutzt: "&TEXT(H2-DAY(H2),"MMMM") -> Nicht genutzt: Oktober | L2: =DATE(YEAR(H2),MONTH(H2)+1,DAY(H2)) -> 42339 | M2: =IF(I9>0,I9,0) -> 0 | N2: ="Nicht genutzt: "&TEXT(L2-DAY(L2),"MMMM") -> Nicht genutzt: November | P2: =DATE(YEAR(L2),MONTH(L2)+1,DAY(L2)) -> 42370 | Q2: =IF(M9>0,M9,0) -> 0 | R2: ="Nicht genutzt: "&TEXT(P2-DAY(P2),"MMMM") -> Nicht genutzt: Dezember | T2: =DATE(YEAR(P2),MONTH(P2)+1,DAY(P2)) -> 42401 | U2: =IF(Q9>0,Q9,0) -> 0 | V2: ="Nicht genutzt: "&TEXT(T2-DAY(T2),"MMMM") -> Nicht genutzt: Januar | X2: =DATE(YEAR(T2),MONTH(T2)+1,DAY(T2)) -> 42430 | Y2: =IF(U9>0,U9,0) -> 0 | Z2: ="Nicht genutzt: "&TEXT(X2-DAY(X2),"MMMM") -> Nicht genutzt: Februar | AB2: =DATE(YEAR(X2),MONTH(X2)+1,DAY(X2)) -> 42461 | AC2: =IF(Y9>0,Y9,0) -> 0 | AD2: ="Nicht genutzt: "&TEXT(AB2-DAY(AB2),"MMMM") -> Nicht genutzt: März | AF2: =DATE(YEAR(AB2),MONTH(AB2)+1,DAY(AB2)) -> 42491 | AG2: =IF(AC9>0,AC9,0) -> 0 | AH2: ="Nicht genutzt: "&TEXT(AF2-DAY(AF2),"MMMM") -> Nicht genutzt: April | AJ2: =DATE(YEAR(AF2),MONTH(AF2)+1,DAY(AF2)) -> 42522 | AK2: =IF(AG9>0,AG9,0) -> 0 | AL2: ="Nicht genutzt: "&TEXT(AJ2-DAY(AJ2),"MMMM") -> Nicht genutzt: Mai | AN2: =DATE(YEAR(AJ2),MONTH(AJ2)+1,DAY(AJ2)) -> 42552 | AO2: =IF(AK9>0,AK9,0) -> 0 | AP2: ="Nicht genutzt: "&TEXT(AN2-DAY(AN2),"MMMM") -> Nicht genutzt: Juni | AR2: =DATE(YEAR(AN2),MONTH(AN2)+1,DAY(AN2)) -> 42583 | AS2: =IF(AO9>0,AO9,0) -> 0 | AT2: ="Nicht genutzt: "&TEXT(AR2-DAY(AR2),"MMMM") -> Nicht genutzt: Juli | AV2: =DATE(YEAR(AR2),MONTH(AR2)+1,DAY(AR2)) -> 42614 | AW2: =IF(AS9>0,AS9,0) -> 0 | AX2: ="Nicht genutzt: "&TEXT(AV2-DAY(AV2),"MMMM") -> Nicht genutzt: August | AZ2: =DATE(YEAR(AV2),MONTH(AV2)+1,DAY(AV2)) -> 42644 | BA2: =IF(AW9>0,AW9,0) -> 0 | BB2: ="Nicht genutzt: "&TEXT(AZ2-DAY(AZ2),"MMMM") -> Nicht genutzt: September | BD2: =DATE(YEAR(AZ2),MONTH(AZ2)+1,DAY(AZ2)) -> 42675 | BE2: =IF(BA9>0,BA9,0) -> 0 | BF2: ="Nicht genutzt: "&TEXT(BD2-DAY(BD2),"MMMM") -> Nicht genutzt: Oktober | BH2: =DATE(YEAR(BD2),MONTH(BD2)+1,DAY(BD2)) -> 42705 | BI2: =IF(BE9>0,BE9,0) -> 0 | BJ2: ="Nicht genutzt: "&TEXT(BH2-DAY(BH2),"MMMM") -> Nicht genutzt: November | BL2: =DATE(YEAR(BH2),MONTH(BH2)+1,DAY(BH2)) -> 42736 | BM2: =IF(BI9>0,BI9,0) -> 0 | BN2: ="Nicht genutzt: "&TEXT(BL2-DAY(BL2),"MMMM") -> Nicht genutzt: Dezember | BP2: =DATE(YEAR(BL2),MONTH(BL2)+1,DAY(BL2)) -> 42767 | BQ2: =IF(BM9>0,BM9,0) -> 0 | BR2: ="Nicht genutzt: "&TEXT(BP2-DAY(BP2),"MMMM") -> Nicht genutzt: Januar
B3: =SUMIF(Daten[Konto],Ynab!B2,Daten[Betrag]) -> 0 | F3: ="Zu viel genutzt: "&TEXT(D2-DAY(D2),"MMMM") -> Zu viel genutzt: September | I3: =IF(E9<0,E9,0) -> 0 | J3: ="Zu viel genutzt: "&TEXT(H2-DAY(H2),"MMMM") -> Zu viel genutzt: Oktober | M3: =IF(I9<0,I9,0) -> 0 | N3: ="Zu viel genutzt: "&TEXT(L2-DAY(L2),"MMMM") -> Zu viel genutzt: November | Q3: =IF(M9<0,M9,0) -> 0 | R3: ="Zu viel genutzt: "&TEXT(P2-DAY(P2),"MMMM") -> Zu viel genutzt: Dezember | U3: =IF(Q9<0,Q9,0) -> 0 | V3: ="Zu viel genutzt: "&TEXT(T2-DAY(T2),"MMMM") -> Zu viel genutzt: Januar | Y3: =IF(U9<0,U9,0) -> 0 | Z3: ="Zu viel genutzt: "&TEXT(X2-DAY(X2),"MMMM") -> Zu viel genutzt: Februar | AC3: =IF(Y9<0,Y9,0) -> 0 | AD3: ="Zu viel genutzt: "&TEXT(AB2-DAY(AB2),"MMMM") -> Zu viel genutzt: März | AG3: =IF(AC9<0,AC9,0) -> 0 | AH3: ="Zu viel genutzt: "&TEXT(AF2-DAY(AF2),"MMMM") -> Zu viel genutzt: April | AK3: =IF(AG9<0,AG9,0) -> 0 | AL3: ="Zu viel genutzt: "&TEXT(AJ2-DAY(AJ2),"MMMM") -> Zu viel genutzt: Mai | AO3: =IF(AK9<0,AK9,0) -> 0 | AP3: ="Zu viel genutzt: "&TEXT(AN2-DAY(AN2),"MMMM") -> Zu viel genutzt: Juni | AS3: =IF(AO9<0,AO9,0) -> 0 | AT3: ="Zu viel genutzt: "&TEXT(AR2-DAY(AR2),"MMMM") -> Zu viel genutzt: Juli | AW3: =IF(AS9<0,AS9,0) -> 0 | AX3: ="Zu viel genutzt: "&TEXT(AV2-DAY(AV2),"MMMM") -> Zu viel genutzt: August | BA3: =IF(AW9<0,AW9,0) -> 0 | BB3: ="Zu viel genutzt: "&TEXT(AZ2-DAY(AZ2),"MMMM") -> Zu viel genutzt: September | BE3: =IF(BA9<0,BA9,0) -> 0 | BF3: ="Zu viel genutzt: "&TEXT(BD2-DAY(BD2),"MMMM") -> Zu viel genutzt: Oktober | BI3: =IF(BE9<0,BE9,0) -> 0 | BJ3: ="Zu viel genutzt: "&TEXT(BH2-DAY(BH2),"MMMM") -> Zu viel genutzt: November | BM3: =IF(BI9<0,BI9,0) -> 0 | BN3: ="Zu viel genutzt: "&TEXT(BL2-DAY(BL2),"MMMM") -> Zu viel genutzt: Dezember | BQ3: =IF(BM9<0,BM9,0) -> 0 | BR3: ="Zu viel genutzt: "&TEXT(BP2-DAY(BP2),"MMMM") -> Zu viel genutzt: Januar
B4: Hypovereinsbank | E4: 0 | F4: ="Eingang: "&TEXT(D2, "MMMM") -> Eingang: Oktober | I4: =SUMPRODUCT((Daten[Betrag])*(Daten[Art]="Einnahme")*(Daten[Monat]=TEXT(Ynab!H2,"MMMM"))*(Daten[Jahr]=TEXT(Ynab!H2,"JJJJ"))) -> 500 | J4: ="Eingang: "&TEXT(H2, "MMMM") -> Eingang: November | M4: =SUMPRODUCT((Daten[Betrag])*(Daten[Art]="Einnahme")*(Daten[Monat]=TEXT(Ynab!L2,"MMMM"))*(Daten[Jahr]=TEXT(Ynab!L2,"JJJJ"))) -> 0 | N4: ="Eingang: "&TEXT(L2, "MMMM") -> Eingang: Dezember | Q4: =SUMPRODUCT((Daten[Betrag])*(Daten[Art]="Einnahme")*(Daten[Monat]=TEXT(Ynab!P2,"MMMM"))*(Daten[Jahr]=TEXT(Ynab!P2,"JJJJ"))) -> 0 | R4: ="Eingang: "&TEXT(P2, "MMMM") -> Eingang: Januar | U4: =SUMPRODUCT((Daten[Betrag])*(Daten[Art]="Einnahme")*(Daten[Monat]=TEXT(Ynab!T2,"MMMM"))*(Daten[Jahr]=TEXT(Ynab!T2,"JJJJ"))) -> 0 | V4: ="Eingang: "&TEXT(T2, "MMMM") -> Eingang: Februar | Y4: =SUMPRODUCT((Daten[Betrag])*(Daten[Art]="Einnahme")*(Daten[Monat]=TEXT(Ynab!X2,"MMMM"))*(Daten[Jahr]=TEXT(Ynab!X2,"JJJJ"))) -> 0 | Z4: ="Eingang: "&TEXT(X2, "MMMM") -> Eingang: März | AC4: =SUMPRODUCT((Daten[Betrag])*(Daten[Art]="Einnahme")*(Daten[Monat]=TEXT(Ynab!AB2,"MMMM"))*(Daten[Jahr]=TEXT(Ynab!AB2,"JJJJ"))) -> 0 | AD4: ="Eingang: "&TEXT(AB2, "MMMM") -> Eingang: April | AG4: =SUMPRODUCT((Daten[Betrag])*(Daten[Art]="Einnahme")*(Daten[Monat]=TEXT(Ynab!AF2,"MMMM"))*(Daten[Jahr]=TEXT(Ynab!AF2,"JJJJ"))) -> 0 | AH4: ="Eingang: "&TEXT(AF2, "MMMM") -> Eingang: Mai | AK4: =SUMPRODUCT((Daten[Betrag])*(Daten[Art]="Einnahme")*(Daten[Monat]=TEXT(Ynab!AJ2,"MMMM"))*(Daten[Jahr]=TEXT(Ynab!AJ2,"JJJJ"))) -> 0 | AL4: ="Eingang: "&TEXT(AJ2, "MMMM") -> Eingang: Juni | AO4: =SUMPRODUCT((Daten[Betrag])*(Daten[Art]="Einnahme")*(Daten[Monat]=TEXT(Ynab!AN2,"MMMM"))*(Daten[Jahr]=TEXT(Ynab!AN2,"JJJJ"))) -> 0 | AP4: ="Eingang: "&TEXT(AN2, "MMMM") -> Eingang: Juli | AS4: =SUMPRODUCT((Daten[Betrag])*(Daten[Art]="Einnahme")*(Daten[Monat]=TEXT(Ynab!AR2,"MMMM"))*(Daten[Jahr]=TEXT(Ynab!AR2,"JJJJ"))) -> 0 | AT4: ="Eingang: "&TEXT(AR2, "MMMM") -> Eingang: August | AW4: =SUMPRODUCT((Daten[Betrag])*(Daten[Art]="Einnahme")*(Daten[Monat]=TEXT(Ynab!AV2,"MMMM"))*(Daten[Jahr]=TEXT(Ynab!AV2,"JJJJ"))) -> 0 | AX4: ="Eingang: "&TEXT(AV2, "MMMM") -> Eingang: September | BA4: =SUMPRODUCT((Daten[Betrag])*(Daten[Art]="Einnahme")*(Daten[Monat]=TEXT(Ynab!AZ2,"MMMM"))*(Daten[Jahr]=TEXT(Ynab!AZ2,"JJJJ"))) -> 0 | BB4: ="Eingang: "&TEXT(AZ2, "MMMM") -> Eingang: Oktober | BE4: =SUMPRODUCT((Daten[Betrag])*(Daten[Art]="Einnahme")*(Daten[Monat]=TEXT(Ynab!BD2,"MMMM"))*(Daten[Jahr]=TEXT(Ynab!BD2,"JJJJ"))) -> 0 | BF4: ="Eingang: "&TEXT(BD2, "MMMM") -> Eingang: November | BI4: =SUMPRODUCT((Daten[Betrag])*(Daten[Art]="Einnahme")*(Daten[Monat]=TEXT(Ynab!BH2,"MMMM"))*(Daten[Jahr]=TEXT(Ynab!BH2,"JJJJ"))) -> 0 | BJ4: ="Eingang: "&TEXT(BH2, "MMMM") -> Eingang: Dezember | BM4: =SUMPRODUCT((Daten[Betrag])*(Daten[Art]="Einnahme")*(Daten[Monat]=TEXT(Ynab!BL2,"MMMM"))*(Daten[Jahr]=TEXT(Ynab!BL2,"JJJJ"))) -> 0 | BN4: ="Eingang: "&TEXT(BL2, "MMMM") -> Eingang: Januar | BQ4: =SUMPRODUCT((Daten[Betrag])*(Daten[Art]="Einnahme")*(Daten[Monat]=TEXT(Ynab!BP2,"MMMM"))*(Daten[Jahr]=TEXT(Ynab!BP2,"JJJJ"))) -> 0 | BR4: ="Eingang: "&TEXT(BP2, "MMMM") -> Eingang: Februar
B5: =SUMIF(Daten[Konto],Ynab!B4,Daten[Betrag]) -> 0 | E5: =E12 -> 0 | F5: ="Geplant "&TEXT(D2, "MMMM") -> Geplant Oktober | I5: =I12 -> 500 | J5: ="Geplant "&TEXT(H2, "MMMM") -> Geplant November | M5: =M12 -> 0 | N5: ="Geplant "&TEXT(L2, "MMMM") -> Geplant Dezember | Q5: =Q12 -> 0 | R5: ="Geplant "&TEXT(P2, "MMMM") -> Geplant Januar | U5: =U12 -> 0 | V5: ="Geplant "&TEXT(T2, "MMMM") -> Geplant Februar | Y5: =Y12 -> 0 | Z5: ="Geplant "&TEXT(X2, "MMMM") -> Geplant März | AC5: =AC12 -> 0 | AD5: ="Geplant "&TEXT(AB2, "MMMM") -> Geplant April | AG5: =AG12 -> 0 | AH5: ="Geplant "&TEXT(AF2, "MMMM") -> Geplant Mai | AK5: =AK12 -> 0 | AL5: ="Geplant "&TEXT(AJ2, "MMMM") -> Geplant Juni | AO5: =AO12 -> 0 | AP5: ="Geplant "&TEXT(AN2, "MMMM") -> Geplant Juli | AS5: =AS12 -> 0 | AT5: ="Geplant "&TEXT(AR2, "MMMM") -> Geplant August | AW5: =AW12 -> 0 | AX5: ="Geplant "&TEXT(AV2, "MMMM") -> Geplant September | BA5: =BA12 -> 0 | BB5: ="Geplant "&TEXT(AZ2, "MMMM") -> Geplant Oktober | BE5: =BE12 -> 0 | BF5: ="Geplant "&TEXT(BD2, "MMMM") -> Geplant November | BI5: =BI12 -> 0 | BJ5: ="Geplant "&TEXT(BH2, "MMMM") -> Geplant Dezember | BM5: =BM12 -> 0 | BN5: ="Geplant "&TEXT(BL2, "MMMM") -> Geplant Januar | BQ5: =BQ12 -> 0 | BR5: ="Geplant "&TEXT(BP2, "MMMM") -> Geplant Februar
B7: Letzte Aktualisierung | E7: Verfügbar | I7: Verfügbar | M7: Verfügbar | Q7: Verfügbar | U7: Verfügbar | Y7: Verfügbar | AC7: Verfügbar | AG7: Verfügbar | AK7: Verfügbar | AO7: Verfügbar | AS7: Verfügbar | AW7: Verfügbar | BA7: Verfügbar | BE7: Verfügbar | BI7: Verfügbar | BM7: Verfügbar | BQ7: Verfügbar
B8: 42310
E9: =E2-E3+E4-E5 -> 0 | I9: =SUM(I2:I4)-I5 -> 0 | M9: =SUM(M2:M4)-M5 -> 0 | Q9: =SUM(Q2:Q4)-Q5 -> 0 | U9: =SUM(U2:U4)-U5 -> 0 | Y9: =SUM(Y2:Y4)-Y5 -> 0 | AC9: =SUM(AC2:AC4)-AC5 -> 0 | AG9: =SUM(AG2:AG4)-AG5 -> 0 | AK9: =SUM(AK2:AK4)-AK5 -> 0 | AO9: =SUM(AO2:AO4)-AO5 -> 0 | AS9: =SUM(AS2:AS4)-AS5 -> 0 | AW9: =SUM(AW2:AW4)-AW5 -> 0 | BA9: =SUM(BA2:BA4)-BA5 -> 0 | BE9: =SUM(BE2:BE4)-BE5 -> 0 | BI9: =SUM(BI2:BI4)-BI5 -> 0 | BM9: =SUM(BM2:BM4)-BM5 -> 0 | BQ9: =SUM(BQ2:BQ4)-BQ5 -> 0
E11: Budget | F11: Ausgang | G11: Balance | I11: Budget | J11: Ausgang | K11: Balance | M11: Budget | N11: Ausgang | O11: Balance | Q11: Budget | R11: Ausgang | S11: Balance | U11: Budget | V11: Ausgang | W11: Balance | Y11: Budget | Z11: Ausgang | AA11: Balance | AC11: Budget | AD11: Ausgang | AE11: Balance | AG11: Budget | AH11: Ausgang | AI11: Balance | AK11: Budget | AL11: Ausgang | AM11: Balance | AO11: Budget | AP11: Ausgang | AQ11: Balance | AS11: Budget | AT11: Ausgang | AU11: Balance | AW11: Budget | AX11: Ausgang | AY11: Balance | BA11: Budget | BB11: Ausgang | BC11: Balance | BE11: Budget | BF11: Ausgang | BG11: Balance | BI11: Budget | BJ11: Ausgang | BK11: Balance | BM11: Budget | BN11: Ausgang | BO11: Balance | BQ11: Budget | BR11: Ausgang | BS11: Balance
E12: =SUM(E13,E17,E22,E26) -> 0 | F12: =SUM(F13,F17,F22,F26) -> 0 | G12: =SUM(G13,G17,G22,G26) -> 0 | I12: =SUM(I13,I17,I22,I26) -> 500 | J12: =SUM(J13,J17,J22,J26) -> -500 | K12: =SUM(K13,K17,K22,K26) -> 0 | M12: =SUM(M13,M17,M22,M26) -> 0 | N12: =SUM(N13,N17,N22,N26) -> 0 | O12: =SUM(O13,O17,O22,O26) -> 0 | Q12: =SUM(Q13,Q17,Q22,Q26) -> 0 | R12: =SUM(R13,R17,R22,R26) -> 0 | S12: =SUM(S13,S17,S22,S26) -> 0 | U12: =SUM(U13,U17,U22,U26) -> 0 | V12: =SUM(V13,V17,V22,V26) -> 0 | W12: =SUM(W13,W17,W22,W26) -> 0 | Y12: =SUM(Y13,Y17,Y22,Y26) -> 0 | Z12: =SUM(Z13,Z17,Z22,Z26) -> 0 | AA12: =SUM(AA13,AA17,AA22,AA26) -> 0 | AC12: =SUM(AC13,AC17,AC22,AC26) -> 0 | AD12: =SUM(AD13,AD17,AD22,AD26) -> 0 | AE12: =SUM(AE13,AE17,AE22,AE26) -> 0 | AG12: =SUM(AG13,AG17,AG22,AG26) -> 0 | AH12: =SUM(AH13,AH17,AH22,AH26) -> 0 | AI12: =SUM(AI13,AI17,AI22,AI26) -> 0 | AK12: =SUM(AK13,AK17,AK22,AK26) -> 0 | AL12: =SUM(AL13,AL17,AL22,AL26) -> 0 | AM12: =SUM(AM13,AM17,AM22,AM26) -> 0 | AO12: =SUM(AO13,AO17,AO22,AO26) -> 0 | AP12: =SUM(AP13,AP17,AP22,AP26) -> 0 | AQ12: =SUM(AQ13,AQ17,AQ22,AQ26) -> 0 | AS12: =SUM(AS13,AS17,AS22,AS26) -> 0 | AT12: =SUM(AT13,AT17,AT22,AT26) -> 0 | AU12: =SUM(AU13,AU17,AU22,AU26) -> 0 | AW12: =SUM(AW13,AW17,AW22,AW26) -> 0 | AX12: =SUM(AX13,AX17,AX22,AX26) -> 0 | AY12: =SUM(AY13,AY17,AY22,AY26) -> 0 | BA12: =SUM(BA13,BA17,BA22,BA26) -> 0 | BB12: =SUM(BB13,BB17,BB22,BB26) -> 0 | BC12: =SUM(BC13,BC17,BC22,BC26) -> 0 | BE12: =SUM(BE13,BE17,BE22,BE26) -> 0 | BF12: =SUM(BF13,BF17,BF22,BF26) -> 0 | BG12: =SUM(BG13,BG17,BG22,BG26) -> 0 | BI12: =SUM(BI13,BI17,BI22,BI26) -> 0 | BJ12: =SUM(BJ13,BJ17,BJ22,BJ26) -> 0 | BK12: =SUM(BK13,BK17,BK22,BK26) -> 0 | BM12: =SUM(BM13,BM17,BM22,BM26) -> 0 | BN12: =SUM(BN13,BN17,BN22,BN26) -> 0 | BO12: =SUM(BO13,BO17,BO22,BO26) -> 0 | BQ12: =SUM(BQ13,BQ17,BQ22,BQ26) -> 0 | BR12: =SUM(BR13,BR17,BR22,BR26) -> 0 | BS12: =SUM(BS13,BS17,BS22,BS26) -> 0
B13: Fixkosten | E13: =SUM(E14:E16) -> 0 | F13: =SUM(F14:F16) -> 0 | G13: =E13-F13 -> 0 | I13: =SUM(I14:I16) -> 0 | J13: =SUM(J14:J16) -> 0 | K13: =(I13+J13)+G13 -> 0 | M13: =SUM(M14:M16) -> 0 | N13: =SUM(N14:N16) -> 0 | O13: =(M13+N13)+K13 -> 0 | Q13: =SUM(Q14:Q16) -> 0 | R13: =SUM(R14:R16) -> 0 | S13: =(Q13+R13)+O13 -> 0 | U13: =SUM(U14:U16) -> 0 | V13: =SUM(V14:V16) -> 0 | W13: =(U13+V13)+S13 -> 0 | Y13: =SUM(Y14:Y16) -> 0 | Z13: =SUM(Z14:Z16) -> 0 | AA13: =(Y13+Z13)+W13 -> 0 | AC13: =SUM(AC14:AC16) -> 0 | AD13: =SUM(AD14:AD16) -> 0 | AE13: =(AC13+AD13)+AA13 -> 0 | AG13: =SUM(AG14:AG16) -> 0 | AH13: =SUM(AH14:AH16) -> 0 | AI13: =(AG13+AH13)+AE13 -> 0 | AK13: =SUM(AK14:AK16) -> 0 | AL13: =SUM(AL14:AL16) -> 0 | AM13: =(AK13+AL13)+AI13 -> 0 | AO13: =SUM(AO14:AO16) -> 0 | AP13: =SUM(AP14:AP16) -> 0 | AQ13: =(AO13+AP13)+AM13 -> 0 | AS13: =SUM(AS14:AS16) -> 0 | AT13: =SUM(AT14:AT16) -> 0 | AU13: =(AS13+AT13)+AQ13 -> 0 | AW13: =SUM(AW14:AW16) -> 0 | AX13: =SUM(AX14:AX16) -> 0 | AY13: =(AW13+AX13)+AU13 -> 0 | BA13: =SUM(BA14:BA16) -> 0 | BB13: =SUM(BB14:BB16) -> 0 | BC13: =(BA13+BB13)+AY13 -> 0 | BE13: =SUM(BE14:BE16) -> 0 | BF13: =SUM(BF14:BF16) -> 0 | BG13: =(BE13+BF13)+BC13 -> 0 | BI13: =SUM(BI14:BI16) -> 0 | BJ13: =SUM(BJ14:BJ16) -> 0 | BK13: =(BI13+BJ13)+BG13 -> 0 | BM13: =SUM(BM14:BM16) -> 0 | BN13: =SUM(BN14:BN16) -> 0 | BO13: =(BM13+BN13)+BK13 -> 0 | BQ13: =SUM(BQ14:BQ16) -> 0 | BR13: =SUM(BR14:BR16) -> 0 | BS13: =(BQ13+BR13)+BO13 -> 0
B14: Haus | E14: 0 | G14: =E14-F14 -> 0 | J14: =SUMPRODUCT((Daten[Betrag])*(Daten[Typ]=$B14)*(Daten[Monat]=TEXT(Ynab!H$2,"MMMM"))*(Daten[Jahr]=TEXT(H$2,"JJJJ"))) -> 0 | K14: =(I14+J14)+G14 -> 0 | N14: =SUMPRODUCT((Daten[Betrag])*(Daten[Typ]=$B14)*(Daten[Monat]=TEXT(Ynab!L$2,"MMMM"))*(Daten[Jahr]=TEXT(L$2,"JJJJ"))) -> 0 | O14: =(M14+N14)+K14 -> 0 | R14: =SUMPRODUCT((Daten[Betrag])*(Daten[Typ]=$B14)*(Daten[Monat]=TEXT(Ynab!P$2,"MMMM"))*(Daten[Jahr]=TEXT(P$2,"JJJJ"))) -> 0 | S14: =(Q14+R14)+O14 -> 0 | V14: =SUMPRODUCT((Daten[Betrag])*(Daten[Typ]=$B14)*(Daten[Monat]=TEXT(Ynab!T$2,"MMMM"))*(Daten[Jahr]=TEXT(T$2,"JJJJ"))) -> 0 | W14: =(U14+V14)+S14 -> 0 | Z14: =SUMPRODUCT((Daten[Betrag])*(Daten[Typ]=$B14)*(Daten[Monat]=TEXT(Ynab!X$2,"MMMM"))*(Daten[Jahr]=TEXT(X$2,"JJJJ"))) -> 0 | AA14: =(Y14+Z14)+W14 -> 0 | AD14: =SUMPRODUCT((Daten[Betrag])*(Daten[Typ]=$B14)*(Daten[Monat]=TEXT(Ynab!AB$2,"MMMM"))*(Daten[Jahr]=TEXT(AB$2,"JJJJ"))) -> 0 | AE14: =(AC14+AD14)+AA14 -> 0 | AH14: =SUMPRODUCT((Daten[Betrag])*(Daten[Typ]=$B14)*(Daten[Monat]=TEXT(Ynab!AF$2,"MMMM"))*(Daten[Jahr]=TEXT(AF$2,"JJJJ"))) -> 0 | AI14: =(AG14+AH14)+AE14 -> 0 | AL14: =SUMPRODUCT((Daten[Betrag])*(Daten[Typ]=$B14)*(Daten[Monat]=TEXT(Ynab!AJ$2,"MMMM"))*(Daten[Jahr]=TEXT(AJ$2,"JJJJ"))) -> 0 | AM14: =(AK14+AL14)+AI14 -> 0 | AP14: =SUMPRODUCT((Daten[Betrag])*(Daten[Typ]=$B14)*(Daten[Monat]=TEXT(Ynab!AN$2,"MMMM"))*(Daten[Jahr]=TEXT(AN$2,"JJJJ"))) -> 0 | AQ14: =(AO14+AP14)+AM14 -> 0 | AT14: =SUMPRODUCT((Daten[Betrag])*(Daten[Typ]=$B14)*(Daten[Monat]=TEXT(Ynab!AR$2,"MMMM"))*(Daten[Jahr]=TEXT(AR$2,"JJJJ"))) -> 0 | AU14: =(AS14+AT14)+AQ14 -> 0 | AX14: =SUMPRODUCT((Daten[Betrag])*(Daten[Typ]=$B14)*(Daten[Monat]=TEXT(Ynab!AV$2,"MMMM"))*(Daten[Jahr]=TEXT(AV$2,"JJJJ"))) -> 0 | AY14: =(AW14+AX14)+AU14 -> 0 | BB14: =SUMPRODUCT((Daten[Betrag])*(Daten[Typ]=$B14)*(Daten[Monat]=TEXT(Ynab!AZ$2,"MMMM"))*(Daten[Jahr]=TEXT(AZ$2,"JJJJ"))) -> 0 | BC14: =(BA14+BB14)+AY14 -> 0 | BF14: =SUMPRODUCT((Daten[Betrag])*(Daten[Typ]=$B14)*(Daten[Monat]=TEXT(Ynab!BD$2,"MMMM"))*(Daten[Jahr]=TEXT(BD$2,"JJJJ"))) -> 0 | BG14: =(BE14+BF14)+BC14 -> 0 | BJ14: =SUMPRODUCT((Daten[Betrag])*(Daten[Typ]=$B14)*(Daten[Monat]=TEXT(Ynab!BH$2,"MMMM"))*(Daten[Jahr]=TEXT(BH$2,"JJJJ"))) -> 0 | BK14: =(BI14+BJ14)+BG14 -> 0 | BN14: =SUMPRODUCT((Daten[Betrag])*(Daten[Typ]=$B14)*(Daten[Monat]=TEXT(Ynab!BL$2,"MMMM"))*(Daten[Jahr]=TEXT(BL$2,"JJJJ"))) -> 0 | BO14: =(BM14+BN14)+BK14 -> 0 | BR14: =SUMPRODUCT((Daten[Betrag])*(Daten[Typ]=$B14)*(Daten[Monat]=TEXT(Ynab!BP$2,"MMMM"))*(Daten[Jahr]=TEXT(BP$2,"JJJJ"))) -> 0 | BS14: =(BQ14+BR14)+BO14 -> 0
B15: Haus Kredit | E15: 0 | G15: =E15-F15 -> 0 | J15: =SUMPRODUCT((Daten[Betrag])*(Daten[Typ]=$B15)*(Daten[Monat]=TEXT(Ynab!H$2,"MMMM"))*(Daten[Jahr]=TEXT(H$2,"JJJJ"))) -> 0 | K15: =(I15+J15)+G15 -> 0 | N15: =SUMPRODUCT((Daten[Betrag])*(Daten[Typ]=$B15)*(Daten[Monat]=TEXT(Ynab!L$2,"MMMM"))*(Daten[Jahr]=TEXT(L$2,"JJJJ"))) -> 0 | O15: =(M15+N15)+K15 -> 0 | R15: =SUMPRODUCT((Daten[Betrag])*(Daten[Typ]=$B15)*(Daten[Monat]=TEXT(Ynab!P$2,"MMMM"))*(Daten[Jahr]=TEXT(P$2,"JJJJ"))) -> 0 | S15: =(Q15+R15)+O15 -> 0 | V15: =SUMPRODUCT((Daten[Betrag])*(Daten[Typ]=$B15)*(Daten[Monat]=TEXT(Ynab!T$2,"MMMM"))*(Daten[Jahr]=TEXT(T$2,"JJJJ"))) -> 0 | W15: =(U15+V15)+S15 -> 0 | Z15: =SUMPRODUCT((Daten[Betrag])*(Daten[Typ]=$B15)*(Daten[Monat]=TEXT(Ynab!X$2,"MMMM"))*(Daten[Jahr]=TEXT(X$2,"JJJJ"))) -> 0 | AA15: =(Y15+Z15)+W15 -> 0 | AD15: =SUMPRODUCT((Daten[Betrag])*(Daten[Typ]=$B15)*(Daten[Monat]=TEXT(Ynab!AB$2,"MMMM"))*(Daten[Jahr]=TEXT(AB$2,"JJJJ"))) -> 0 | AE15: =(AC15+AD15)+AA15 -> 0 | AH15: =SUMPRODUCT((Daten[Betrag])*(Daten[Typ]=$B15)*(Daten[Monat]=TEXT(Ynab!AF$2,"MMMM"))*(Daten[Jahr]=TEXT(AF$2,"JJJJ"))) -> 0 | AI15: =(AG15+AH15)+AE15 -> 0 | AL15: =SUMPRODUCT((Daten[Betrag])*(Daten[Typ]=$B15)*(Daten[Monat]=TEXT(Ynab!AJ$2,"MMMM"))*(Daten[Jahr]=TEXT(AJ$2,"JJJJ"))) -> 0 | AM15: =(AK15+AL15)+AI15 -> 0 | AP15: =SUMPRODUCT((Daten[Betrag])*(Daten[Typ]=$B15)*(Daten[Monat]=TEXT(Ynab!AN$2,"MMMM"))*(Daten[Jahr]=TEXT(AN$2,"JJJJ"))) -> 0 | AQ15: =(AO15+AP15)+AM15 -> 0 | AT15: =SUMPRODUCT((Daten[Betrag])*(Daten[Typ]=$B15)*(Daten[Monat]=TEXT(Ynab!AR$2,"MMMM"))*(Daten[Jahr]=TEXT(AR$2,"JJJJ"))) -> 0 | AU15: =(AS15+AT15)+AQ15 -> 0 | AX15: =SUMPRODUCT((Daten[Betrag])*(Daten[Typ]=$B15)*(Daten[Monat]=TEXT(Ynab!AV$2,"MMMM"))*(Daten[Jahr]=TEXT(AV$2,"JJJJ"))) -> 0 | AY15: =(AW15+AX15)+AU15 -> 0 | BB15: =SUMPRODUCT((Daten[Betrag])*(Daten[Typ]=$B15)*(Daten[Monat]=TEXT(Ynab!AZ$2,"MMMM"))*(Daten[Jahr]=TEXT(AZ$2,"JJJJ"))) -> 0 | BC15: =(BA15+BB15)+AY15 -> 0 | BF15: =SUMPRODUCT((Daten[Betrag])*(Daten[Typ]=$B15)*(Daten[Monat]=TEXT(Ynab!BD$2,"MMMM"))*(Daten[Jahr]=TEXT(BD$2,"JJJJ"))) -> 0 | BG15: =(BE15+BF15)+BC15 -> 0 | BJ15: =SUMPRODUCT((Daten[Betrag])*(Daten[Typ]=$B15)*(Daten[Monat]=TEXT(Ynab!BH$2,"MMMM"))*(Daten[Jahr]=TEXT(BH$2,"JJJJ"))) -> 0 | BK15: =(BI15+BJ15)+BG15 -> 0 | BN15: =SUMPRODUCT((Daten[Betrag])*(Daten[Typ]=$B15)*(Daten[Monat]=TEXT(Ynab!BL$2,"MMMM"))*(Daten[Jahr]=TEXT(BL$2,"JJJJ"))) -> 0 | BO15: =(BM15+BN15)+BK15 -> 0 | BR15: =SUMPRODUCT((Daten[Betrag])*(Daten[Typ]=$B15)*(Daten[Monat]=TEXT(Ynab!BP$2,"MMMM"))*(Daten[Jahr]=TEXT(BP$2,"JJJJ"))) -> 0 | BS15: =(BQ15+BR15)+BO15 -> 0
B16: Versicherung | E16: 0 | G16: =E16-F16 -> 0 | J16: =SUMPRODUCT((Daten[Betrag])*(Daten[Typ]=$B16)*(Daten[Monat]=TEXT(Ynab!H$2,"MMMM"))*(Daten[Jahr]=TEXT(H$2,"JJJJ"))) -> 0 | K16: =(I16+J16)+G16 -> 0 | N16: =SUMPRODUCT((Daten[Betrag])*(Daten[Typ]=$B16)*(Daten[Monat]=TEXT(Ynab!L$2,"MMMM"))*(Daten[Jahr]=TEXT(L$2,"JJJJ"))) -> 0 | O16: =(M16+N16)+K16 -> 0 | R16: =SUMPRODUCT((Daten[Betrag])*(Daten[Typ]=$B16)*(Daten[Monat]=TEXT(Ynab!P$2,"MMMM"))*(Daten[Jahr]=TEXT(P$2,"JJJJ"))) -> 0 | S16: =(Q16+R16)+O16 -> 0 | V16: =SUMPRODUCT((Daten[Betrag])*(Daten[Typ]=$B16)*(Daten[Monat]=TEXT(Ynab!T$2,"MMMM"))*(Daten[Jahr]=TEXT(T$2,"JJJJ"))) -> 0 | W16: =(U16+V16)+S16 -> 0 | Z16: =SUMPRODUCT((Daten[Betrag])*(Daten[Typ]=$B16)*(Daten[Monat]=TEXT(Ynab!X$2,"MMMM"))*(Daten[Jahr]=TEXT(X$2,"JJJJ"))) -> 0 | AA16: =(Y16+Z16)+W16 -> 0 | AD16: =SUMPRODUCT((Daten[Betrag])*(Daten[Typ]=$B16)*(Daten[Monat]=TEXT(Ynab!AB$2,"MMMM"))*(Daten[Jahr]=TEXT(AB$2,"JJJJ"))) -> 0 | AE16: =(AC16+AD16)+AA16 -> 0 | AH16: =SUMPRODUCT((Daten[Betrag])*(Daten[Typ]=$B16)*(Daten[Monat]=TEXT(Ynab!AF$2,"MMMM"))*(Daten[Jahr]=TEXT(AF$2,"JJJJ"))) -> 0 | AI16: =(AG16+AH16)+AE16 -> 0 | AL16: =SUMPRODUCT((Daten[Betrag])*(Daten[Typ]=$B16)*(Daten[Monat]=TEXT(Ynab!AJ$2,"MMMM"))*(Daten[Jahr]=TEXT(AJ$2,"JJJJ"))) -> 0 | AM16: =(AK16+AL16)+AI16 -> 0 | AP16: =SUMPRODUCT((Daten[Betrag])*(Daten[Typ]=$B16)*(Daten[Monat]=TEXT(Ynab!AN$2,"MMMM"))*(Daten[Jahr]=TEXT(AN$2,"JJJJ"))) -> 0 | AQ16: =(AO16+AP16)+AM16 -> 0 | AT16: =SUMPRODUCT((Daten[Betrag])*(Daten[Typ]=$B16)*(Daten[Monat]=TEXT(Ynab!AR$2,"MMMM"))*(Daten[Jahr]=TEXT(AR$2,"JJJJ"))) -> 0 | AU16: =(AS16+AT16)+AQ16 -> 0 | AX16: =SUMPRODUCT((Daten[Betrag])*(Daten[Typ]=$B16)*(Daten[Monat]=TEXT(Ynab!AV$2,"MMMM"))*(Daten[Jahr]=TEXT(AV$2,"JJJJ"))) -> 0 | AY16: =(AW16+AX16)+AU16 -> 0 | BB16: =SUMPRODUCT((Daten[Betrag])*(Daten[Typ]=$B16)*(Daten[Monat]=TEXT(Ynab!AZ$2,"MMMM"))*(Daten[Jahr]=TEXT(AZ$2,"JJJJ"))) -> 0 | BC16: =(BA16+BB16)+AY16 -> 0 | BF16: =SUMPRODUCT((Daten[Betrag])*(Daten[Typ]=$B16)*(Daten[Monat]=TEXT(Ynab!BD$2,"MMMM"))*(Daten[Jahr]=TEXT(BD$2,"JJJJ"))) -> 0 | BG16: =(BE16+BF16)+BC16 -> 0 | BJ16: =SUMPRODUCT((Daten[Betrag])*(Daten[Typ]=$B16)*(Daten[Monat]=TEXT(Ynab!BH$2,"MMMM"))*(Daten[Jahr]=TEXT(BH$2,"JJJJ"))) -> 0 | BK16: =(BI16+BJ16)+BG16 -> 0 | BN16: =SUMPRODUCT((Daten[Betrag])*(Daten[Typ]=$B16)*(Daten[Monat]=TEXT(Ynab!BL$2,"MMMM"))*(Daten[Jahr]=TEXT(BL$2,"JJJJ"))) -> 0 | BO16: =(BM16+BN16)+BK16 -> 0 | BR16: =SUMPRODUCT((Daten[Betrag])*(Daten[Typ]=$B16)*(Daten[Monat]=TEXT(Ynab!BP$2,"MMMM"))*(Daten[Jahr]=TEXT(BP$2,"JJJJ"))) -> 0 | BS16: =(BQ16+BR16)+BO16 -> 0
B17: Alltag | E17: =SUM(E18:E21) -> 0 | F17: =SUM(F18:F21) -> 0 | G17: =E17-F17 -> 0 | I17: =SUM(I18:I21) -> 500 | J17: =SUM(J18:J21) -> -500 | K17: =(I17+J17)+G17 -> 0 | M17: =SUM(M18:M21) -> 0 | N17: =SUM(N18:N21) -> 0 | O17: =(M17+N17)+K17 -> 0 | Q17: =SUM(Q18:Q21) -> 0 | R17: =SUM(R18:R21) -> 0 | S17: =(Q17+R17)+O17 -> 0 | U17: =SUM(U18:U21) -> 0 | V17: =SUM(V18:V21) -> 0 | W17: =(U17+V17)+S17 -> 0 | Y17: =SUM(Y18:Y21) -> 0 | Z17: =SUM(Z18:Z21) -> 0 | AA17: =(Y17+Z17)+W17 -> 0 | AC17: =SUM(AC18:AC21) -> 0 | AD17: =SUM(AD18:AD21) -> 0 | AE17: =(AC17+AD17)+AA17 -> 0 | AG17: =SUM(AG18:AG21) -> 0 | AH17: =SUM(AH18:AH21) -> 0 | AI17: =(AG17+AH17)+AE17 -> 0 | AK17: =SUM(AK18:AK21) -> 0 | AL17: =SUM(AL18:AL21) -> 0 | AM17: =(AK17+AL17)+AI17 -> 0 | AO17: =SUM(AO18:AO21) -> 0 | AP17: =SUM(AP18:AP21) -> 0 | AQ17: =(AO17+AP17)+AM17 -> 0 | AS17: =SUM(AS18:AS21) -> 0 | AT17: =SUM(AT18:AT21) -> 0 | AU17: =(AS17+AT17)+AQ17 -> 0 | AW17: =SUM(AW18:AW21) -> 0 | AX17: =SUM(AX18:AX21) -> 0 | AY17: =(AW17+AX17)+AU17 -> 0 | BA17: =SUM(BA18:BA21) -> 0 | BB17: =SUM(BB18:BB21) -> 0 | BC17: =(BA17+BB17)+AY17 -> 0 | BE17: =SUM(BE18:BE21) -> 0 | BF17: =SUM(BF18:BF21) -> 0 | BG17: =(BE17+BF17)+BC17 -> 0 | BI17: =SUM(BI18:BI21) -> 0 | BJ17: =SUM(BJ18:BJ21) -> 0 | BK17: =(BI17+BJ17)+BG17 -> 0 | BM17: =SUM(BM18:BM21) -> 0 | BN17: =SUM(BN18:BN21) -> 0 | BO17: =(BM17+BN17)+BK17 -> 0 | BQ17: =SUM(BQ18:BQ21) -> 0 | BR17: =SUM(BR18:BR21) -> 0 | BS17: =(BQ17+BR17)+BO17 -> 0
B18: Lebensmittel | E18: 0 | G18: =E18-F18 -> 0 | J18: =SUMPRODUCT((Daten[Betrag])*(Daten[Typ]=$B18)*(Daten[Monat]=TEXT(Ynab!H$2,"MMMM"))*(Daten[Jahr]=TEXT(H$2,"JJJJ"))) -> 0 | K18: =(I18+J18)+G18 -> 0 | N18: =SUMPRODUCT((Daten[Betrag])*(Daten[Typ]=$B18)*(Daten[Monat]=TEXT(Ynab!L$2,"MMMM"))*(Daten[Jahr]=TEXT(L$2,"JJJJ"))) -> 0 | O18: =(M18+N18)+K18 -> 0 | R18: =SUMPRODUCT((Daten[Betrag])*(Daten[Typ]=$B18)*(Daten[Monat]=TEXT(Ynab!P$2,"MMMM"))*(Daten[Jahr]=TEXT(P$2,"JJJJ"))) -> 0 | S18: =(Q18+R18)+O18 -> 0 | V18: =SUMPRODUCT((Daten[Betrag])*(Daten[Typ]=$B18)*(Daten[Monat]=TEXT(Ynab!T$2,"MMMM"))*(Daten[Jahr]=TEXT(T$2,"JJJJ"))) -> 0 | W18: =(U18+V18)+S18 -> 0 | Z18: =SUMPRODUCT((Daten[Betrag])*(Daten[Typ]=$B18)*(Daten[Monat]=TEXT(Ynab!X$2,"MMMM"))*(Daten[Jahr]=TEXT(X$2,"JJJJ"))) -> 0 | AA18: =(Y18+Z18)+W18 -> 0 | AD18: =SUMPRODUCT((Daten[Betrag])*(Daten[Typ]=$B18)*(Daten[Monat]=TEXT(Ynab!AB$2,"MMMM"))*(Daten[Jahr]=TEXT(AB$2,"JJJJ"))) -> 0 | AE18: =(AC18+AD18)+AA18 -> 0 | AH18: =SUMPRODUCT((Daten[Betrag])*(Daten[Typ]=$B18)*(Daten[Monat]=TEXT(Ynab!AF$2,"MMMM"))*(Daten[Jahr]=TEXT(AF$2,"JJJJ"))) -> 0 | AI18: =(AG18+AH18)+AE18 -> 0 | AL18: =SUMPRODUCT((Daten[Betrag])*(Daten[Typ]=$B18)*(Daten[Monat]=TEXT(Ynab!AJ$2,"MMMM"))*(Daten[Jahr]=TEXT(AJ$2,"JJJJ"))) -> 0 | AM18: =(AK18+AL18)+AI18 -> 0 | AP18: =SUMPRODUCT((Daten[Betrag])*(Daten[Typ]=$B18)*(Daten[Monat]=TEXT(Ynab!AN$2,"MMMM"))*(Daten[Jahr]=TEXT(AN$2,"JJJJ"))) -> 0 | AQ18: =(AO18+AP18)+AM18 -> 0 | AT18: =SUMPRODUCT((Daten[Betrag])*(Daten[Typ]=$B18)*(Daten[Monat]=TEXT(Ynab!AR$2,"MMMM"))*(Daten[Jahr]=TEXT(AR$2,"JJJJ"))) -> 0 | AU18: =(AS18+AT18)+AQ18 -> 0 | AX18: =SUMPRODUCT((Daten[Betrag])*(Daten[Typ]=$B18)*(Daten[Monat]=TEXT(Ynab!AV$2,"MMMM"))*(Daten[Jahr]=TEXT(AV$2,"JJJJ"))) -> 0 | AY18: =(AW18+AX18)+AU18 -> 0 | BB18: =SUMPRODUCT((Daten[Betrag])*(Daten[Typ]=$B18)*(Daten[Monat]=TEXT(Ynab!AZ$2,"MMMM"))*(Daten[Jahr]=TEXT(AZ$2,"JJJJ"))) -> 0 | BC18: =(BA18+BB18)+AY18 -> 0 | BF18: =SUMPRODUCT((Daten[Betrag])*(Daten[Typ]=$B18)*(Daten[Monat]=TEXT(Ynab!BD$2,"MMMM"))*(Daten[Jahr]=TEXT(BD$2,"JJJJ"))) -> 0 | BG18: =(BE18+BF18)+BC18 -> 0 | BJ18: =SUMPRODUCT((Daten[Betrag])*(Daten[Typ]=$B18)*(Daten[Monat]=TEXT(Ynab!BH$2,"MMMM"))*(Daten[Jahr]=TEXT(BH$2,"JJJJ"))) -> 0 | BK18: =(BI18+BJ18)+BG18 -> 0 | BN18: =SUMPRODUCT((Daten[Betrag])*(Daten[Typ]=$B18)*(Daten[Monat]=TEXT(Ynab!BL$2,"MMMM"))*(Daten[Jahr]=TEXT(BL$2,"JJJJ"))) -> 0 | BO18: =(BM18+BN18)+BK18 -> 0 | BR18: =SUMPRODUCT((Daten[Betrag])*(Daten[Typ]=$B18)*(Daten[Monat]=TEXT(Ynab!BP$2,"MMMM"))*(Daten[Jahr]=TEXT(BP$2,"JJJJ"))) -> 0 | BS18: =(BQ18+BR18)+BO18 -> 0
B19: Bar | E19: 0 | G19: =E19-F19 -> 0 | J19: =SUMPRODUCT((Daten[Betrag])*(Daten[Typ]=$B19)*(Daten[Monat]=TEXT(Ynab!H$2,"MMMM"))*(Daten[Jahr]=TEXT(H$2,"JJJJ"))) -> 0 | K19: =(I19+J19)+G19 -> 0 | N19: =SUMPRODUCT((Daten[Betrag])*(Daten[Typ]=$B19)*(Daten[Monat]=TEXT(Ynab!L$2,"MMMM"))*(Daten[Jahr]=TEXT(L$2,"JJJJ"))) -> 0 | O19: =(M19+N19)+K19 -> 0 | R19: =SUMPRODUCT((Daten[Betrag])*(Daten[Typ]=$B19)*(Daten[Monat]=TEXT(Ynab!P$2,"MMMM"))*(Daten[Jahr]=TEXT(P$2,"JJJJ"))) -> 0 | S19: =(Q19+R19)+O19 -> 0 | V19: =SUMPRODUCT((Daten[Betrag])*(Daten[Typ]=$B19)*(Daten[Monat]=TEXT(Ynab!T$2,"MMMM"))*(Daten[Jahr]=TEXT(T$2,"JJJJ"))) -> 0 | W19: =(U19+V19)+S19 -> 0 | Z19: =SUMPRODUCT((Daten[Betrag])*(Daten[Typ]=$B19)*(Daten[Monat]=TEXT(Ynab!X$2,"MMMM"))*(Daten[Jahr]=TEXT(X$2,"JJJJ"))) -> 0 | AA19: =(Y19+Z19)+W19 -> 0 | AD19: =SUMPRODUCT((Daten[Betrag])*(Daten[Typ]=$B19)*(Daten[Monat]=TEXT(Ynab!AB$2,"MMMM"))*(Daten[Jahr]=TEXT(AB$2,"JJJJ"))) -> 0 | AE19: =(AC19+AD19)+AA19 -> 0 | AH19: =SUMPRODUCT((Daten[Betrag])*(Daten[Typ]=$B19)*(Daten[Monat]=TEXT(Ynab!AF$2,"MMMM"))*(Daten[Jahr]=TEXT(AF$2,"JJJJ"))) -> 0 | AI19: =(AG19+AH19)+AE19 -> 0 | AL19: =SUMPRODUCT((Daten[Betrag])*(Daten[Typ]=$B19)*(Daten[Monat]=TEXT(Ynab!AJ$2,"MMMM"))*(Daten[Jahr]=TEXT(AJ$2,"JJJJ"))) -> 0 | AM19: =(AK19+AL19)+AI19 -> 0 | AP19: =SUMPRODUCT((Daten[Betrag])*(Daten[Typ]=$B19)*(Daten[Monat]=TEXT(Ynab!AN$2,"MMMM"))*(Daten[Jahr]=TEXT(AN$2,"JJJJ"))) -> 0 | AQ19: =(AO19+AP19)+AM19 -> 0 | AT19: =SUMPRODUCT((Daten[Betrag])*(Daten[Typ]=$B19)*(Daten[Monat]=TEXT(Ynab!AR$2,"MMMM"))*(Daten[Jahr]=TEXT(AR$2,"JJJJ"))) -> 0 | AU19: =(AS19+AT19)+AQ19 -> 0 | AX19: =SUMPRODUCT((Daten[Betrag])*(Daten[Typ]=$B19)*(Daten[Monat]=TEXT(Ynab!AV$2,"MMMM"))*(Daten[Jahr]=TEXT(AV$2,"JJJJ"))) -> 0 | AY19: =(AW19+AX19)+AU19 -> 0 | BB19: =SUMPRODUCT((Daten[Betrag])*(Daten[Typ]=$B19)*(Daten[Monat]=TEXT(Ynab!AZ$2,"MMMM"))*(Daten[Jahr]=TEXT(AZ$2,"JJJJ"))) -> 0 | BC19: =(BA19+BB19)+AY19 -> 0 | BF19: =SUMPRODUCT((Daten[Betrag])*(Daten[Typ]=$B19)*(Daten[Monat]=TEXT(Ynab!BD$2,"MMMM"))*(Daten[Jahr]=TEXT(BD$2,"JJJJ"))) -> 0 | BG19: =(BE19+BF19)+BC19 -> 0 | BJ19: =SUMPRODUCT((Daten[Betrag])*(Daten[Typ]=$B19)*(Daten[Monat]=TEXT(Ynab!BH$2,"MMMM"))*(Daten[Jahr]=TEXT(BH$2,"JJJJ"))) -> 0 | BK19: =(BI19+BJ19)+BG19 -> 0 | BN19: =SUMPRODUCT((Daten[Betrag])*(Daten[Typ]=$B19)*(Daten[Monat]=TEXT(Ynab!BL$2,"MMMM"))*(Daten[Jahr]=TEXT(BL$2,"JJJJ"))) -> 0 | BO19: =(BM19+BN19)+BK19 -> 0 | BR19: =SUMPRODUCT((Daten[Betrag])*(Daten[Typ]=$B19)*(Daten[Monat]=TEXT(Ynab!BP$2,"MMMM"))*(Daten[Jahr]=TEXT(BP$2,"JJJJ"))) -> 0 | BS19: =(BQ19+BR19)+BO19 -> 0
B20: Sonstiges | E20: 0 | G20: =E20-F20 -> 0 | J20: =SUMPRODUCT((Daten[Betrag])*(Daten[Typ]=$B20)*(Daten[Monat]=TEXT(Ynab!H$2,"MMMM"))*(Daten[Jahr]=TEXT(H$2,"JJJJ"))) -> 0 | K20: =(I20+J20)+G20 -> 0 | N20: =SUMPRODUCT((Daten[Betrag])*(Daten[Typ]=$B20)*(Daten[Monat]=TEXT(Ynab!L$2,"MMMM"))*(Daten[Jahr]=TEXT(L$2,"JJJJ"))) -> 0 | O20: =(M20+N20)+K20 -> 0 | R20: =SUMPRODUCT((Daten[Betrag])*(Daten[Typ]=$B20)*(Daten[Monat]=TEXT(Ynab!P$2,"MMMM"))*(Daten[Jahr]=TEXT(P$2,"JJJJ"))) -> 0 | S20: =(Q20+R20)+O20 -> 0 | V20: =SUMPRODUCT((Daten[Betrag])*(Daten[Typ]=$B20)*(Daten[Monat]=TEXT(Ynab!T$2,"MMMM"))*(Daten[Jahr]=TEXT(T$2,"JJJJ"))) -> 0 | W20: =(U20+V20)+S20 -> 0 | Z20: =SUMPRODUCT((Daten[Betrag])*(Daten[Typ]=$B20)*(Daten[Monat]=TEXT(Ynab!X$2,"MMMM"))*(Daten[Jahr]=TEXT(X$2,"JJJJ"))) -> 0 | AA20: =(Y20+Z20)+W20 -> 0 | AD20: =SUMPRODUCT((Daten[Betrag])*(Daten[Typ]=$B20)*(Daten[Monat]=TEXT(Ynab!AB$2,"MMMM"))*(Daten[Jahr]=TEXT(AB$2,"JJJJ"))) -> 0 | AE20: =(AC20+AD20)+AA20 -> 0 | AH20: =SUMPRODUCT((Daten[Betrag])*(Daten[Typ]=$B20)*(Daten[Monat]=TEXT(Ynab!AF$2,"MMMM"))*(Daten[Jahr]=TEXT(AF$2,"JJJJ"))) -> 0 | AI20: =(AG20+AH20)+AE20 -> 0 | AL20: =SUMPRODUCT((Daten[Betrag])*(Daten[Typ]=$B20)*(Daten[Monat]=TEXT(Ynab!AJ$2,"MMMM"))*(Daten[Jahr]=TEXT(AJ$2,"JJJJ"))) -> 0 | AM20: =(AK20+AL20)+AI20 -> 0 | AP20: =SUMPRODUCT((Daten[Betrag])*(Daten[Typ]=$B20)*(Daten[Monat]=TEXT(Ynab!AN$2,"MMMM"))*(Daten[Jahr]=TEXT(AN$2,"JJJJ"))) -> 0 | AQ20: =(AO20+AP20)+AM20 -> 0 | AT20: =SUMPRODUCT((Daten[Betrag])*(Daten[Typ]=$B20)*(Daten[Monat]=TEXT(Ynab!AR$2,"MMMM"))*(Daten[Jahr]=TEXT(AR$2,"JJJJ"))) -> 0 | AU20: =(AS20+AT20)+AQ20 -> 0 | AX20: =SUMPRODUCT((Daten[Betrag])*(Daten[Typ]=$B20)*(Daten[Monat]=TEXT(Ynab!AV$2,"MMMM"))*(Daten[Jahr]=TEXT(AV$2,"JJJJ"))) -> 0 | AY20: =(AW20+AX20)+AU20 -> 0 | BB20: =SUMPRODUCT((Daten[Betrag])*(Daten[Typ]=$B20)*(Daten[Monat]=TEXT(Ynab!AZ$2,"MMMM"))*(Daten[Jahr]=TEXT(AZ$2,"JJJJ"))) -> 0 | BC20: =(BA20+BB20)+AY20 -> 0 | BF20: =SUMPRODUCT((Daten[Betrag])*(Daten[Typ]=$B20)*(Daten[Monat]=TEXT(Ynab!BD$2,"MMMM"))*(Daten[Jahr]=TEXT(BD$2,"JJJJ"))) -> 0 | BG20: =(BE20+BF20)+BC20 -> 0 | BJ20: =SUMPRODUCT((Daten[Betrag])*(Daten[Typ]=$B20)*(Daten[Monat]=TEXT(Ynab!BH$2,"MMMM"))*(Daten[Jahr]=TEXT(BH$2,"JJJJ"))) -> 0 | BK20: =(BI20+BJ20)+BG20 -> 0 | BN20: =SUMPRODUCT((Daten[Betrag])*(Daten[Typ]=$B20)*(Daten[Monat]=TEXT(Ynab!BL$2,"MMMM"))*(Daten[Jahr]=TEXT(BL$2,"JJJJ"))) -> 0 | BO20: =(BM20+BN20)+BK20 -> 0 | BR20: =SUMPRODUCT((Daten[Betrag])*(Daten[Typ]=$B20)*(Daten[Monat]=TEXT(Ynab!BP$2,"MMMM"))*(Daten[Jahr]=TEXT(BP$2,"JJJJ"))) -> 0 | BS20: =(BQ20+BR20)+BO20 -> 0
B21: Hobby | E21: 0 | G21: =E21-F21 -> 0 | I21: 500 | J21: =SUMPRODUCT((Daten[Betrag])*(Daten[Typ]=$B21)*(Daten[Monat]=TEXT(Ynab!H$2,"MMMM"))*(Daten[Jahr]=TEXT(H$2,"JJJJ"))) -> -500 | K21: =(I21+J21)+G21 -> 0 | N21: =SUMPRODUCT((Daten[Betrag])*(Daten[Typ]=$B21)*(Daten[Monat]=TEXT(Ynab!L$2,"MMMM"))*(Daten[Jahr]=TEXT(L$2,"JJJJ"))) -> 0 | O21: =(M21+N21)+K21 -> 0 | R21: =SUMPRODUCT((Daten[Betrag])*(Daten[Typ]=$B21)*(Daten[Monat]=TEXT(Ynab!P$2,"MMMM"))*(Daten[Jahr]=TEXT(P$2,"JJJJ"))) -> 0 | S21: =(Q21+R21)+O21 -> 0 | V21: =SUMPRODUCT((Daten[Betrag])*(Daten[Typ]=$B21)*(Daten[Monat]=TEXT(Ynab!T$2,"MMMM"))*(Daten[Jahr]=TEXT(T$2,"JJJJ"))) -> 0 | W21: =(U21+V21)+S21 -> 0 | Z21: =SUMPRODUCT((Daten[Betrag])*(Daten[Typ]=$B21)*(Daten[Monat]=TEXT(Ynab!X$2,"MMMM"))*(Daten[Jahr]=TEXT(X$2,"JJJJ"))) -> 0 | AA21: =(Y21+Z21)+W21 -> 0 | AD21: =SUMPRODUCT((Daten[Betrag])*(Daten[Typ]=$B21)*(Daten[Monat]=TEXT(Ynab!AB$2,"MMMM"))*(Daten[Jahr]=TEXT(AB$2,"JJJJ"))) -> 0 | AE21: =(AC21+AD21)+AA21 -> 0 | AH21: =SUMPRODUCT((Daten[Betrag])*(Daten[Typ]=$B21)*(Daten[Monat]=TEXT(Ynab!AF$2,"MMMM"))*(Daten[Jahr]=TEXT(AF$2,"JJJJ"))) -> 0 | AI21: =(AG21+AH21)+AE21 -> 0 | AL21: =SUMPRODUCT((Daten[Betrag])*(Daten[Typ]=$B21)*(Daten[Monat]=TEXT(Ynab!AJ$2,"MMMM"))*(Daten[Jahr]=TEXT(AJ$2,"JJJJ"))) -> 0 | AM21: =(AK21+AL21)+AI21 -> 0 | AP21: =SUMPRODUCT((Daten[Betrag])*(Daten[Typ]=$B21)*(Daten[Monat]=TEXT(Ynab!AN$2,"MMMM"))*(Daten[Jahr]=TEXT(AN$2,"JJJJ"))) -> 0 | AQ21: =(AO21+AP21)+AM21 -> 0 | AT21: =SUMPRODUCT((Daten[Betrag])*(Daten[Typ]=$B21)*(Daten[Monat]=TEXT(Ynab!AR$2,"MMMM"))*(Daten[Jahr]=TEXT(AR$2,"JJJJ"))) -> 0 | AU21: =(AS21+AT21)+AQ21 -> 0 | AX21: =SUMPRODUCT((Daten[Betrag])*(Daten[Typ]=$B21)*(Daten[Monat]=TEXT(Ynab!AV$2,"MMMM"))*(Daten[Jahr]=TEXT(AV$2,"JJJJ"))) -> 0 | AY21: =(AW21+AX21)+AU21 -> 0 | BB21: =SUMPRODUCT((Daten[Betrag])*(Daten[Typ]=$B21)*(Daten[Monat]=TEXT(Ynab!AZ$2,"MMMM"))*(Daten[Jahr]=TEXT(AZ$2,"JJJJ"))) -> 0 | BC21: =(BA21+BB21)+AY21 -> 0 | BF21: =SUMPRODUCT((Daten[Betrag])*(Daten[Typ]=$B21)*(Daten[Monat]=TEXT(Ynab!BD$2,"MMMM"))*(Daten[Jahr]=TEXT(BD$2,"JJJJ"))) -> 0 | BG21: =(BE21+BF21)+BC21 -> 0 | BJ21: =SUMPRODUCT((Daten[Betrag])*(Daten[Typ]=$B21)*(Daten[Monat]=TEXT(Ynab!BH$2,"MMMM"))*(Daten[Jahr]=TEXT(BH$2,"JJJJ"))) -> 0 | BK21: =(BI21+BJ21)+BG21 -> 0 | BN21: =SUMPRODUCT((Daten[Betrag])*(Daten[Typ]=$B21)*(Daten[Monat]=TEXT(Ynab!BL$2,"MMMM"))*(Daten[Jahr]=TEXT(BL$2,"JJJJ"))) -> 0 | BO21: =(BM21+BN21)+BK21 -> 0 | BR21: =SUMPRODUCT((Daten[Betrag])*(Daten[Typ]=$B21)*(Daten[Monat]=TEXT(Ynab!BP$2,"MMMM"))*(Daten[Jahr]=TEXT(BP$2,"JJJJ"))) -> 0 | BS21: =(BQ21+BR21)+BO21 -> 0
B22: Mobilität | E22: =SUM(E23:E25) -> 0 | F22: =SUM(F23:F25) -> 0 | G22: =E22-F22 -> 0 | I22: =SUM(I23:I25) -> 0 | J22: =SUM(J23:J25) -> 0 | K22: =(I22+J22)+G22 -> 0 | M22: =SUM(M23:M25) -> 0 | N22: =SUM(N23:N25) -> 0 | O22: =(M22+N22)+K22 -> 0 | Q22: =SUM(Q23:Q25) -> 0 | R22: =SUM(R23:R25) -> 0 | S22: =(Q22+R22)+O22 -> 0 | U22: =SUM(U23:U25) -> 0 | V22: =SUM(V23:V25) -> 0 | W22: =(U22+V22)+S22 -> 0 | Y22: =SUM(Y23:Y25) -> 0 | Z22: =SUM(Z23:Z25) -> 0 | AA22: =(Y22+Z22)+W22 -> 0 | AC22: =SUM(AC23:AC25) -> 0 | AD22: =SUM(AD23:AD25) -> 0 | AE22: =(AC22+AD22)+AA22 -> 0 | AG22: =SUM(AG23:AG25) -> 0 | AH22: =SUM(AH23:AH25) -> 0 | AI22: =(AG22+AH22)+AE22 -> 0 | AK22: =SUM(AK23:AK25) -> 0 | AL22: =SUM(AL23:AL25) -> 0 | AM22: =(AK22+AL22)+AI22 -> 0 | AO22: =SUM(AO23:AO25) -> 0 | AP22: =SUM(AP23:AP25) -> 0 | AQ22: =(AO22+AP22)+AM22 -> 0 | AS22: =SUM(AS23:AS25) -> 0 | AT22: =SUM(AT23:AT25) -> 0 | AU22: =(AS22+AT22)+AQ22 -> 0 | AW22: =SUM(AW23:AW25) -> 0 | AX22: =SUM(AX23:AX25) -> 0 | AY22: =(AW22+AX22)+AU22 -> 0 | BA22: =SUM(BA23:BA25) -> 0 | BB22: =SUM(BB23:BB25) -> 0 | BC22: =(BA22+BB22)+AY22 -> 0 | BE22: =SUM(BE23:BE25) -> 0 | BF22: =SUM(BF23:BF25) -> 0 | BG22: =(BE22+BF22)+BC22 -> 0 | BI22: =SUM(BI23:BI25) -> 0 | BJ22: =SUM(BJ23:BJ25) -> 0 | BK22: =(BI22+BJ22)+BG22 -> 0 | BM22: =SUM(BM23:BM25) -> 0 | BN22: =SUM(BN23:BN25) -> 0 | BO22: =(BM22+BN22)+BK22 -> 0 | BQ22: =SUM(BQ23:BQ25) -> 0 | BR22: =SUM(BR23:BR25) -> 0 | BS22: =(BQ22+BR22)+BO22 -> 0
B23: Benzin | E23: 0 | G23: =E23-F23 -> 0 | J23: =SUMPRODUCT((Daten[Betrag])*(Daten[Typ]=$B23)*(Daten[Monat]=TEXT(Ynab!H$2,"MMMM"))*(Daten[Jahr]=TEXT(H$2,"JJJJ"))) -> 0 | K23: =(I23+J23)+G23 -> 0 | N23: =SUMPRODUCT((Daten[Betrag])*(Daten[Typ]=$B23)*(Daten[Monat]=TEXT(Ynab!L$2,"MMMM"))*(Daten[Jahr]=TEXT(L$2,"JJJJ"))) -> 0 | O23: =(M23+N23)+K23 -> 0 | R23: =SUMPRODUCT((Daten[Betrag])*(Daten[Typ]=$B23)*(Daten[Monat]=TEXT(Ynab!P$2,"MMMM"))*(Daten[Jahr]=TEXT(P$2,"JJJJ"))) -> 0 | S23: =(Q23+R23)+O23 -> 0 | V23: =SUMPRODUCT((Daten[Betrag])*(Daten[Typ]=$B23)*(Daten[Monat]=TEXT(Ynab!T$2,"MMMM"))*(Daten[Jahr]=TEXT(T$2,"JJJJ"))) -> 0 | W23: =(U23+V23)+S23 -> 0 | Z23: =SUMPRODUCT((Daten[Betrag])*(Daten[Typ]=$B23)*(Daten[Monat]=TEXT(Ynab!X$2,"MMMM"))*(Daten[Jahr]=TEXT(X$2,"JJJJ"))) -> 0 | AA23: =(Y23+Z23)+W23 -> 0 | AD23: =SUMPRODUCT((Daten[Betrag])*(Daten[Typ]=$B23)*(Daten[Monat]=TEXT(Ynab!AB$2,"MMMM"))*(Daten[Jahr]=TEXT(AB$2,"JJJJ"))) -> 0 | AE23: =(AC23+AD23)+AA23 -> 0 | AH23: =SUMPRODUCT((Daten[Betrag])*(Daten[Typ]=$B23)*(Daten[Monat]=TEXT(Ynab!AF$2,"MMMM"))*(Daten[Jahr]=TEXT(AF$2,"JJJJ"))) -> 0 | AI23: =(AG23+AH23)+AE23 -> 0 | AL23: =SUMPRODUCT((Daten[Betrag])*(Daten[Typ]=$B23)*(Daten[Monat]=TEXT(Ynab!AJ$2,"MMMM"))*(Daten[Jahr]=TEXT(AJ$2,"JJJJ"))) -> 0 | AM23: =(AK23+AL23)+AI23 -> 0 | AP23: =SUMPRODUCT((Daten[Betrag])*(Daten[Typ]=$B23)*(Daten[Monat]=TEXT(Ynab!AN$2,"MMMM"))*(Daten[Jahr]=TEXT(AN$2,"JJJJ"))) -> 0 | AQ23: =(AO23+AP23)+AM23 -> 0 | AT23: =SUMPRODUCT((Daten[Betrag])*(Daten[Typ]=$B23)*(Daten[Monat]=TEXT(Ynab!AR$2,"MMMM"))*(Daten[Jahr]=TEXT(AR$2,"JJJJ"))) -> 0 | AU23: =(AS23+AT23)+AQ23 -> 0 | AX23: =SUMPRODUCT((Daten[Betrag])*(Daten[Typ]=$B23)*(Daten[Monat]=TEXT(Ynab!AV$2,"MMMM"))*(Daten[Jahr]=TEXT(AV$2,"JJJJ"))) -> 0 | AY23: =(AW23+AX23)+AU23 -> 0 | BB23: =SUMPRODUCT((Daten[Betrag])*(Daten[Typ]=$B23)*(Daten[Monat]=TEXT(Ynab!AZ$2,"MMMM"))*(Daten[Jahr]=TEXT(AZ$2,"JJJJ"))) -> 0 | BC23: =(BA23+BB23)+AY23 -> 0 | BF23: =SUMPRODUCT((Daten[Betrag])*(Daten[Typ]=$B23)*(Daten[Monat]=TEXT(Ynab!BD$2,"MMMM"))*(Daten[Jahr]=TEXT(BD$2,"JJJJ"))) -> 0 | BG23: =(BE23+BF23)+BC23 -> 0 | BJ23: =SUMPRODUCT((Daten[Betrag])*(Daten[Typ]=$B23)*(Daten[Monat]=TEXT(Ynab!BH$2,"MMMM"))*(Daten[Jahr]=TEXT(BH$2,"JJJJ"))) -> 0 | BK23: =(BI23+BJ23)+BG23 -> 0 | BN23: =SUMPRODUCT((Daten[Betrag])*(Daten[Typ]=$B23)*(Daten[Monat]=TEXT(Ynab!BL$2,"MMMM"))*(Daten[Jahr]=TEXT(BL$2,"JJJJ"))) -> 0 | BO23: =(BM23+BN23)+BK23 -> 0 | BR23: =SUMPRODUCT((Daten[Betrag])*(Daten[Typ]=$B23)*(Daten[Monat]=TEXT(Ynab!BP$2,"MMMM"))*(Daten[Jahr]=TEXT(BP$2,"JJJJ"))) -> 0 | BS23: =(BQ23+BR23)+BO23 -> 0
B24: Autoversicherung | E24: 0 | G24: =E24-F24 -> 0 | J24: =SUMPRODUCT((Daten[Betrag])*(Daten[Typ]=$B24)*(Daten[Monat]=TEXT(Ynab!H$2,"MMMM"))*(Daten[Jahr]=TEXT(H$2,"JJJJ"))) -> 0 | K24: =(I24+J24)+G24 -> 0 | N24: =SUMPRODUCT((Daten[Betrag])*(Daten[Typ]=$B24)*(Daten[Monat]=TEXT(Ynab!L$2,"MMMM"))*(Daten[Jahr]=TEXT(L$2,"JJJJ"))) -> 0 | O24: =(M24+N24)+K24 -> 0 | R24: =SUMPRODUCT((Daten[Betrag])*(Daten[Typ]=$B24)*(Daten[Monat]=TEXT(Ynab!P$2,"MMMM"))*(Daten[Jahr]=TEXT(P$2,"JJJJ"))) -> 0 | S24: =(Q24+R24)+O24 -> 0 | V24: =SUMPRODUCT((Daten[Betrag])*(Daten[Typ]=$B24)*(Daten[Monat]=TEXT(Ynab!T$2,"MMMM"))*(Daten[Jahr]=TEXT(T$2,"JJJJ"))) -> 0 | W24: =(U24+V24)+S24 -> 0 | Z24: =SUMPRODUCT((Daten[Betrag])*(Daten[Typ]=$B24)*(Daten[Monat]=TEXT(Ynab!X$2,"MMMM"))*(Daten[Jahr]=TEXT(X$2,"JJJJ"))) -> 0 | AA24: =(Y24+Z24)+W24 -> 0 | AD24: =SUMPRODUCT((Daten[Betrag])*(Daten[Typ]=$B24)*(Daten[Monat]=TEXT(Ynab!AB$2,"MMMM"))*(Daten[Jahr]=TEXT(AB$2,"JJJJ"))) -> 0 | AE24: =(AC24+AD24)+AA24 -> 0 | AH24: =SUMPRODUCT((Daten[Betrag])*(Daten[Typ]=$B24)*(Daten[Monat]=TEXT(Ynab!AF$2,"MMMM"))*(Daten[Jahr]=TEXT(AF$2,"JJJJ"))) -> 0 | AI24: =(AG24+AH24)+AE24 -> 0 | AL24: =SUMPRODUCT((Daten[Betrag])*(Daten[Typ]=$B24)*(Daten[Monat]=TEXT(Ynab!AJ$2,"MMMM"))*(Daten[Jahr]=TEXT(AJ$2,"JJJJ"))) -> 0 | AM24: =(AK24+AL24)+AI24 -> 0 | AP24: =SUMPRODUCT((Daten[Betrag])*(Daten[Typ]=$B24)*(Daten[Monat]=TEXT(Ynab!AN$2,"MMMM"))*(Daten[Jahr]=TEXT(AN$2,"JJJJ"))) -> 0 | AQ24: =(AO24+AP24)+AM24 -> 0 | AT24: =SUMPRODUCT((Daten[Betrag])*(Daten[Typ]=$B24)*(Daten[Monat]=TEXT(Ynab!AR$2,"MMMM"))*(Daten[Jahr]=TEXT(AR$2,"JJJJ"))) -> 0 | AU24: =(AS24+AT24)+AQ24 -> 0 | AX24: =SUMPRODUCT((Daten[Betrag])*(Daten[Typ]=$B24)*(Daten[Monat]=TEXT(Ynab!AV$2,"MMMM"))*(Daten[Jahr]=TEXT(AV$2,"JJJJ"))) -> 0 | AY24: =(AW24+AX24)+AU24 -> 0 | BB24: =SUMPRODUCT((Daten[Betrag])*(Daten[Typ]=$B24)*(Daten[Monat]=TEXT(Ynab!AZ$2,"MMMM"))*(Daten[Jahr]=TEXT(AZ$2,"JJJJ"))) -> 0 | BC24: =(BA24+BB24)+AY24 -> 0 | BF24: =SUMPRODUCT((Daten[Betrag])*(Daten[Typ]=$B24)*(Daten[Monat]=TEXT(Ynab!BD$2,"MMMM"))*(Daten[Jahr]=TEXT(BD$2,"JJJJ"))) -> 0 | BG24: =(BE24+BF24)+BC24 -> 0 | BJ24: =SUMPRODUCT((Daten[Betrag])*(Daten[Typ]=$B24)*(Daten[Monat]=TEXT(Ynab!BH$2,"MMMM"))*(Daten[Jahr]=TEXT(BH$2,"JJJJ"))) -> 0 | BK24: =(BI24+BJ24)+BG24 -> 0 | BN24: =SUMPRODUCT((Daten[Betrag])*(Daten[Typ]=$B24)*(Daten[Monat]=TEXT(Ynab!BL$2,"MMMM"))*(Daten[Jahr]=TEXT(BL$2,"JJJJ"))) -> 0 | BO24: =(BM24+BN24)+BK24 -> 0 | BR24: =SUMPRODUCT((Daten[Betrag])*(Daten[Typ]=$B24)*(Daten[Monat]=TEXT(Ynab!BP$2,"MMMM"))*(Daten[Jahr]=TEXT(BP$2,"JJJJ"))) -> 0 | BS24: =(BQ24+BR24)+BO24 -> 0
B25: Autoreperatur | E25: 0 | G25: =E25-F25 -> 0 | J25: =SUMPRODUCT((Daten[Betrag])*(Daten[Typ]=$B25)*(Daten[Monat]=TEXT(Ynab!H$2,"MMMM"))*(Daten[Jahr]=TEXT(H$2,"JJJJ"))) -> 0 | K25: =(I25+J25)+G25 -> 0 | N25: =SUMPRODUCT((Daten[Betrag])*(Daten[Typ]=$B25)*(Daten[Monat]=TEXT(Ynab!L$2,"MMMM"))*(Daten[Jahr]=TEXT(L$2,"JJJJ"))) -> 0 | O25: =(M25+N25)+K25 -> 0 | R25: =SUMPRODUCT((Daten[Betrag])*(Daten[Typ]=$B25)*(Daten[Monat]=TEXT(Ynab!P$2,"MMMM"))*(Daten[Jahr]=TEXT(P$2,"JJJJ"))) -> 0 | S25: =(Q25+R25)+O25 -> 0 | V25: =SUMPRODUCT((Daten[Betrag])*(Daten[Typ]=$B25)*(Daten[Monat]=TEXT(Ynab!T$2,"MMMM"))*(Daten[Jahr]=TEXT(T$2,"JJJJ"))) -> 0 | W25: =(U25+V25)+S25 -> 0 | Z25: =SUMPRODUCT((Daten[Betrag])*(Daten[Typ]=$B25)*(Daten[Monat]=TEXT(Ynab!X$2,"MMMM"))*(Daten[Jahr]=TEXT(X$2,"JJJJ"))) -> 0 | AA25: =(Y25+Z25)+W25 -> 0 | AD25: =SUMPRODUCT((Daten[Betrag])*(Daten[Typ]=$B25)*(Daten[Monat]=TEXT(Ynab!AB$2,"MMMM"))*(Daten[Jahr]=TEXT(AB$2,"JJJJ"))) -> 0 | AE25: =(AC25+AD25)+AA25 -> 0 | AH25: =SUMPRODUCT((Daten[Betrag])*(Daten[Typ]=$B25)*(Daten[Monat]=TEXT(Ynab!AF$2,"MMMM"))*(Daten[Jahr]=TEXT(AF$2,"JJJJ"))) -> 0 | AI25: =(AG25+AH25)+AE25 -> 0 | AL25: =SUMPRODUCT((Daten[Betrag])*(Daten[Typ]=$B25)*(Daten[Monat]=TEXT(Ynab!AJ$2,"MMMM"))*(Daten[Jahr]=TEXT(AJ$2,"JJJJ"))) -> 0 | AM25: =(AK25+AL25)+AI25 -> 0 | AP25: =SUMPRODUCT((Daten[Betrag])*(Daten[Typ]=$B25)*(Daten[Monat]=TEXT(Ynab!AN$2,"MMMM"))*(Daten[Jahr]=TEXT(AN$2,"JJJJ"))) -> 0 | AQ25: =(AO25+AP25)+AM25 -> 0 | AT25: =SUMPRODUCT((Daten[Betrag])*(Daten[Typ]=$B25)*(Daten[Monat]=TEXT(Ynab!AR$2,"MMMM"))*(Daten[Jahr]=TEXT(AR$2,"JJJJ"))) -> 0 | AU25: =(AS25+AT25)+AQ25 -> 0 | AX25: =SUMPRODUCT((Daten[Betrag])*(Daten[Typ]=$B25)*(Daten[Monat]=TEXT(Ynab!AV$2,"MMMM"))*(Daten[Jahr]=TEXT(AV$2,"JJJJ"))) -> 0 | AY25: =(AW25+AX25)+AU25 -> 0 | BB25: =SUMPRODUCT((Daten[Betrag])*(Daten[Typ]=$B25)*(Daten[Monat]=TEXT(Ynab!AZ$2,"MMMM"))*(Daten[Jahr]=TEXT(AZ$2,"JJJJ"))) -> 0 | BC25: =(BA25+BB25)+AY25 -> 0 | BF25: =SUMPRODUCT((Daten[Betrag])*(Daten[Typ]=$B25)*(Daten[Monat]=TEXT(Ynab!BD$2,"MMMM"))*(Daten[Jahr]=TEXT(BD$2,"JJJJ"))) -> 0 | BG25: =(BE25+BF25)+BC25 -> 0 | BJ25: =SUMPRODUCT((Daten[Betrag])*(Daten[Typ]=$B25)*(Daten[Monat]=TEXT(Ynab!BH$2,"MMMM"))*(Daten[Jahr]=TEXT(BH$2,"JJJJ"))) -> 0 | BK25: =(BI25+BJ25)+BG25 -> 0 | BN25: =SUMPRODUCT((Daten[Betrag])*(Daten[Typ]=$B25)*(Daten[Monat]=TEXT(Ynab!BL$2,"MMMM"))*(Daten[Jahr]=TEXT(BL$2,"JJJJ"))) -> 0 | BO25: =(BM25+BN25)+BK25 -> 0 | BR25: =SUMPRODUCT((Daten[Betrag])*(Daten[Typ]=$B25)*(Daten[Monat]=TEXT(Ynab!BP$2,"MMMM"))*(Daten[Jahr]=TEXT(BP$2,"JJJJ"))) -> 0 | BS25: =(BQ25+BR25)+BO25 -> 0
B26: Sparziele | E26: =SUM(E27:E31) -> 0 | F26: =SUM(F27:F31) -> 0 | G26: =E26-F26 -> 0 | I26: =SUM(I27:I31) -> 0 | J26: =SUM(J27:J31) -> 0 | K26: =(I26+J26)+G26 -> 0 | M26: =SUM(M27:M31) -> 0 | N26: =SUM(N27:N31) -> 0 | O26: =(M26+N26)+K26 -> 0 | Q26: =SUM(Q27:Q31) -> 0 | R26: =SUM(R27:R31) -> 0 | S26: =(Q26+R26)+O26 -> 0 | U26: =SUM(U27:U31) -> 0 | V26: =SUM(V27:V31) -> 0 | W26: =(U26+V26)+S26 -> 0 | Y26: =SUM(Y27:Y31) -> 0 | Z26: =SUM(Z27:Z31) -> 0 | AA26: =(Y26+Z26)+W26 -> 0 | AC26: =SUM(AC27:AC31) -> 0 | AD26: =SUM(AD27:AD31) -> 0 | AE26: =(AC26+AD26)+AA26 -> 0 | AG26: =SUM(AG27:AG31) -> 0 | AH26: =SUM(AH27:AH31) -> 0 | AI26: =(AG26+AH26)+AE26 -> 0 | AK26: =SUM(AK27:AK31) -> 0 | AL26: =SUM(AL27:AL31) -> 0 | AM26: =(AK26+AL26)+AI26 -> 0 | AO26: =SUM(AO27:AO31) -> 0 | AP26: =SUM(AP27:AP31) -> 0 | AQ26: =(AO26+AP26)+AM26 -> 0 | AS26: =SUM(AS27:AS31) -> 0 | AT26: =SUM(AT27:AT31) -> 0 | AU26: =(AS26+AT26)+AQ26 -> 0 | AW26: =SUM(AW27:AW31) -> 0 | AX26: =SUM(AX27:AX31) -> 0 | AY26: =(AW26+AX26)+AU26 -> 0 | BA26: =SUM(BA27:BA31) -> 0 | BB26: =SUM(BB27:BB31) -> 0 | BC26: =(BA26+BB26)+AY26 -> 0 | BE26: =SUM(BE27:BE31) -> 0 | BF26: =SUM(BF27:BF31) -> 0 | BG26: =(BE26+BF26)+BC26 -> 0 | BI26: =SUM(BI27:BI31) -> 0 | BJ26: =SUM(BJ27:BJ31) -> 0 | BK26: =(BI26+BJ26)+BG26 -> 0 | BM26: =SUM(BM27:BM31) -> 0 | BN26: =SUM(BN27:BN31) -> 0 | BO26: =(BM26+BN26)+BK26 -> 0 | BQ26: =SUM(BQ27:BQ31) -> 0 | BR26: =SUM(BR27:BR31) -> 0 | BS26: =(BQ26+BR26)+BO26 -> 0
B27: Geschenk | E27: 0 | G27: =E27-F27 -> 0 | J27: =SUMPRODUCT((Daten[Betrag])*(Daten[Typ]=$B27)*(Daten[Monat]=TEXT(Ynab!H$2,"MMMM"))*(Daten[Jahr]=TEXT(H$2,"JJJJ"))) -> 0 | K27: =(I27+J27)+G27 -> 0 | N27: =SUMPRODUCT((Daten[Betrag])*(Daten[Typ]=$B27)*(Daten[Monat]=TEXT(Ynab!L$2,"MMMM"))*(Daten[Jahr]=TEXT(L$2,"JJJJ"))) -> 0 | O27: =(M27+N27)+K27 -> 0 | R27: =SUMPRODUCT((Daten[Betrag])*(Daten[Typ]=$B27)*(Daten[Monat]=TEXT(Ynab!P$2,"MMMM"))*(Daten[Jahr]=TEXT(P$2,"JJJJ"))) -> 0 | S27: =(Q27+R27)+O27 -> 0 | V27: =SUMPRODUCT((Daten[Betrag])*(Daten[Typ]=$B27)*(Daten[Monat]=TEXT(Ynab!T$2,"MMMM"))*(Daten[Jahr]=TEXT(T$2,"JJJJ"))) -> 0 | W27: =(U27+V27)+S27 -> 0 | Z27: =SUMPRODUCT((Daten[Betrag])*(Daten[Typ]=$B27)*(Daten[Monat]=TEXT(Ynab!X$2,"MMMM"))*(Daten[Jahr]=TEXT(X$2,"JJJJ"))) -> 0 | AA27: =(Y27+Z27)+W27 -> 0 | AD27: =SUMPRODUCT((Daten[Betrag])*(Daten[Typ]=$B27)*(Daten[Monat]=TEXT(Ynab!AB$2,"MMMM"))*(Daten[Jahr]=TEXT(AB$2,"JJJJ"))) -> 0 | AE27: =(AC27+AD27)+AA27 -> 0 | AH27: =SUMPRODUCT((Daten[Betrag])*(Daten[Typ]=$B27)*(Daten[Monat]=TEXT(Ynab!AF$2,"MMMM"))*(Daten[Jahr]=TEXT(AF$2,"JJJJ"))) -> 0 | AI27: =(AG27+AH27)+AE27 -> 0 | AL27: =SUMPRODUCT((Daten[Betrag])*(Daten[Typ]=$B27)*(Daten[Monat]=TEXT(Ynab!AJ$2,"MMMM"))*(Daten[Jahr]=TEXT(AJ$2,"JJJJ"))) -> 0 | AM27: =(AK27+AL27)+AI27 -> 0 | AP27: =SUMPRODUCT((Daten[Betrag])*(Daten[Typ]=$B27)*(Daten[Monat]=TEXT(Ynab!AN$2,"MMMM"))*(Daten[Jahr]=TEXT(AN$2,"JJJJ"))) -> 0 | AQ27: =(AO27+AP27)+AM27 -> 0 | AT27: =SUMPRODUCT((Daten[Betrag])*(Daten[Typ]=$B27)*(Daten[Monat]=TEXT(Ynab!AR$2,"MMMM"))*(Daten[Jahr]=TEXT(AR$2,"JJJJ"))) -> 0 | AU27: =(AS27+AT27)+AQ27 -> 0 | AX27: =SUMPRODUCT((Daten[Betrag])*(Daten[Typ]=$B27)*(Daten[Monat]=TEXT(Ynab!AV$2,"MMMM"))*(Daten[Jahr]=TEXT(AV$2,"JJJJ"))) -> 0 | AY27: =(AW27+AX27)+AU27 -> 0 | BB27: =SUMPRODUCT((Daten[Betrag])*(Daten[Typ]=$B27)*(Daten[Monat]=TEXT(Ynab!AZ$2,"MMMM"))*(Daten[Jahr]=TEXT(AZ$2,"JJJJ"))) -> 0 | BC27: =(BA27+BB27)+AY27 -> 0 | BF27: =SUMPRODUCT((Daten[Betrag])*(Daten[Typ]=$B27)*(Daten[Monat]=TEXT(Ynab!BD$2,"MMMM"))*(Daten[Jahr]=TEXT(BD$2,"JJJJ"))) -> 0 | BG27: =(BE27+BF27)+BC27 -> 0 | BJ27: =SUMPRODUCT((Daten[Betrag])*(Daten[Typ]=$B27)*(Daten[Monat]=TEXT(Ynab!BH$2,"MMMM"))*(Daten[Jahr]=TEXT(BH$2,"JJJJ"))) -> 0 | BK27: =(BI27+BJ27)+BG27 -> 0 | BN27: =SUMPRODUCT((Daten[Betrag])*(Daten[Typ]=$B27)*(Daten[Monat]=TEXT(Ynab!BL$2,"MMMM"))*(Daten[Jahr]=TEXT(BL$2,"JJJJ"))) -> 0 | BO27: =(BM27+BN27)+BK27 -> 0 | BR27: =SUMPRODUCT((Daten[Betrag])*(Daten[Typ]=$B27)*(Daten[Monat]=TEXT(Ynab!BP$2,"MMMM"))*(Daten[Jahr]=TEXT(BP$2,"JJJJ"))) -> 0 | BS27: =(BQ27+BR27)+BO27 -> 0
B28: Weihnachten | E28: 0 | G28: =E28-F28 -> 0 | J28: =SUMPRODUCT((Daten[Betrag])*(Daten[Typ]=$B28)*(Daten[Monat]=TEXT(Ynab!H$2,"MMMM"))*(Daten[Jahr]=TEXT(H$2,"JJJJ"))) -> 0 | K28: =(I28+J28)+G28 -> 0 | N28: =SUMPRODUCT((Daten[Betrag])*(Daten[Typ]=$B28)*(Daten[Monat]=TEXT(Ynab!L$2,"MMMM"))*(Daten[Jahr]=TEXT(L$2,"JJJJ"))) -> 0 | O28: =(M28+N28)+K28 -> 0 | R28: =SUMPRODUCT((Daten[Betrag])*(Daten[Typ]=$B28)*(Daten[Monat]=TEXT(Ynab!P$2,"MMMM"))*(Daten[Jahr]=TEXT(P$2,"JJJJ"))) -> 0 | S28: =(Q28+R28)+O28 -> 0 | V28: =SUMPRODUCT((Daten[Betrag])*(Daten[Typ]=$B28)*(Daten[Monat]=TEXT(Ynab!T$2,"MMMM"))*(Daten[Jahr]=TEXT(T$2,"JJJJ"))) -> 0 | W28: =(U28+V28)+S28 -> 0 | Z28: =SUMPRODUCT((Daten[Betrag])*(Daten[Typ]=$B28)*(Daten[Monat]=TEXT(Ynab!X$2,"MMMM"))*(Daten[Jahr]=TEXT(X$2,"JJJJ"))) -> 0 | AA28: =(Y28+Z28)+W28 -> 0 | AD28: =SUMPRODUCT((Daten[Betrag])*(Daten[Typ]=$B28)*(Daten[Monat]=TEXT(Ynab!AB$2,"MMMM"))*(Daten[Jahr]=TEXT(AB$2,"JJJJ"))) -> 0 | AE28: =(AC28+AD28)+AA28 -> 0 | AH28: =SUMPRODUCT((Daten[Betrag])*(Daten[Typ]=$B28)*(Daten[Monat]=TEXT(Ynab!AF$2,"MMMM"))*(Daten[Jahr]=TEXT(AF$2,"JJJJ"))) -> 0 | AI28: =(AG28+AH28)+AE28 -> 0 | AL28: =SUMPRODUCT((Daten[Betrag])*(Daten[Typ]=$B28)*(Daten[Monat]=TEXT(Ynab!AJ$2,"MMMM"))*(Daten[Jahr]=TEXT(AJ$2,"JJJJ"))) -> 0 | AM28: =(AK28+AL28)+AI28 -> 0 | AP28: =SUMPRODUCT((Daten[Betrag])*(Daten[Typ]=$B28)*(Daten[Monat]=TEXT(Ynab!AN$2,"MMMM"))*(Daten[Jahr]=TEXT(AN$2,"JJJJ"))) -> 0 | AQ28: =(AO28+AP28)+AM28 -> 0 | AT28: =SUMPRODUCT((Daten[Betrag])*(Daten[Typ]=$B28)*(Daten[Monat]=TEXT(Ynab!AR$2,"MMMM"))*(Daten[Jahr]=TEXT(AR$2,"JJJJ"))) -> 0 | AU28: =(AS28+AT28)+AQ28 -> 0 | AX28: =SUMPRODUCT((Daten[Betrag])*(Daten[Typ]=$B28)*(Daten[Monat]=TEXT(Ynab!AV$2,"MMMM"))*(Daten[Jahr]=TEXT(AV$2,"JJJJ"))) -> 0 | AY28: =(AW28+AX28)+AU28 -> 0 | BB28: =SUMPRODUCT((Daten[Betrag])*(Daten[Typ]=$B28)*(Daten[Monat]=TEXT(Ynab!AZ$2,"MMMM"))*(Daten[Jahr]=TEXT(AZ$2,"JJJJ"))) -> 0 | BC28: =(BA28+BB28)+AY28 -> 0 | BF28: =SUMPRODUCT((Daten[Betrag])*(Daten[Typ]=$B28)*(Daten[Monat]=TEXT(Ynab!BD$2,"MMMM"))*(Daten[Jahr]=TEXT(BD$2,"JJJJ"))) -> 0 | BG28: =(BE28+BF28)+BC28 -> 0 | BJ28: =SUMPRODUCT((Daten[Betrag])*(Daten[Typ]=$B28)*(Daten[Monat]=TEXT(Ynab!BH$2,"MMMM"))*(Daten[Jahr]=TEXT(BH$2,"JJJJ"))) -> 0 | BK28: =(BI28+BJ28)+BG28 -> 0 | BN28: =SUMPRODUCT((Daten[Betrag])*(Daten[Typ]=$B28)*(Daten[Monat]=TEXT(Ynab!BL$2,"MMMM"))*(Daten[Jahr]=TEXT(BL$2,"JJJJ"))) -> 0 | BO28: =(BM28+BN28)+BK28 -> 0 | BR28: =SUMPRODUCT((Daten[Betrag])*(Daten[Typ]=$B28)*(Daten[Monat]=TEXT(Ynab!BP$2,"MMMM"))*(Daten[Jahr]=TEXT(BP$2,"JJJJ"))) -> 0 | BS28: =(BQ28+BR28)+BO28 -> 0
B29: Urlaub | E29: 0 | G29: =E29-F29 -> 0 | J29: =SUMPRODUCT((Daten[Betrag])*(Daten[Typ]=$B29)*(Daten[Monat]=TEXT(Ynab!H$2,"MMMM"))*(Daten[Jahr]=TEXT(H$2,"JJJJ"))) -> 0 | K29: =(I29+J29)+G29 -> 0 | N29: =SUMPRODUCT((Daten[Betrag])*(Daten[Typ]=$B29)*(Daten[Monat]=TEXT(Ynab!L$2,"MMMM"))*(Daten[Jahr]=TEXT(L$2,"JJJJ"))) -> 0 | O29: =(M29+N29)+K29 -> 0 | R29: =SUMPRODUCT((Daten[Betrag])*(Daten[Typ]=$B29)*(Daten[Monat]=TEXT(Ynab!P$2,"MMMM"))*(Daten[Jahr]=TEXT(P$2,"JJJJ"))) -> 0 | S29: =(Q29+R29)+O29 -> 0 | V29: =SUMPRODUCT((Daten[Betrag])*(Daten[Typ]=$B29)*(Daten[Monat]=TEXT(Ynab!T$2,"MMMM"))*(Daten[Jahr]=TEXT(T$2,"JJJJ"))) -> 0 | W29: =(U29+V29)+S29 -> 0 | Z29: =SUMPRODUCT((Daten[Betrag])*(Daten[Typ]=$B29)*(Daten[Monat]=TEXT(Ynab!X$2,"MMMM"))*(Daten[Jahr]=TEXT(X$2,"JJJJ"))) -> 0 | AA29: =(Y29+Z29)+W29 -> 0 | AD29: =SUMPRODUCT((Daten[Betrag])*(Daten[Typ]=$B29)*(Daten[Monat]=TEXT(Ynab!AB$2,"MMMM"))*(Daten[Jahr]=TEXT(AB$2,"JJJJ"))) -> 0 | AE29: =(AC29+AD29)+AA29 -> 0 | AH29: =SUMPRODUCT((Daten[Betrag])*(Daten[Typ]=$B29)*(Daten[Monat]=TEXT(Ynab!AF$2,"MMMM"))*(Daten[Jahr]=TEXT(AF$2,"JJJJ"))) -> 0 | AI29: =(AG29+AH29)+AE29 -> 0 | AL29: =SUMPRODUCT((Daten[Betrag])*(Daten[Typ]=$B29)*(Daten[Monat]=TEXT(Ynab!AJ$2,"MMMM"))*(Daten[Jahr]=TEXT(AJ$2,"JJJJ"))) -> 0 | AM29: =(AK29+AL29)+AI29 -> 0 | AP29: =SUMPRODUCT((Daten[Betrag])*(Daten[Typ]=$B29)*(Daten[Monat]=TEXT(Ynab!AN$2,"MMMM"))*(Daten[Jahr]=TEXT(AN$2,"JJJJ"))) -> 0 | AQ29: =(AO29+AP29)+AM29 -> 0 | AT29: =SUMPRODUCT((Daten[Betrag])*(Daten[Typ]=$B29)*(Daten[Monat]=TEXT(Ynab!AR$2,"MMMM"))*(Daten[Jahr]=TEXT(AR$2,"JJJJ"))) -> 0 | AU29: =(AS29+AT29)+AQ29 -> 0 | AX29: =SUMPRODUCT((Daten[Betrag])*(Daten[Typ]=$B29)*(Daten[Monat]=TEXT(Ynab!AV$2,"MMMM"))*(Daten[Jahr]=TEXT(AV$2,"JJJJ"))) -> 0 | AY29: =(AW29+AX29)+AU29 -> 0 | BB29: =SUMPRODUCT((Daten[Betrag])*(Daten[Typ]=$B29)*(Daten[Monat]=TEXT(Ynab!AZ$2,"MMMM"))*(Daten[Jahr]=TEXT(AZ$2,"JJJJ"))) -> 0 | BC29: =(BA29+BB29)+AY29 -> 0 | BF29: =SUMPRODUCT((Daten[Betrag])*(Daten[Typ]=$B29)*(Daten[Monat]=TEXT(Ynab!BD$2,"MMMM"))*(Daten[Jahr]=TEXT(BD$2,"JJJJ"))) -> 0 | BG29: =(BE29+BF29)+BC29 -> 0 | BJ29: =SUMPRODUCT((Daten[Betrag])*(Daten[Typ]=$B29)*(Daten[Monat]=TEXT(Ynab!BH$2,"MMMM"))*(Daten[Jahr]=TEXT(BH$2,"JJJJ"))) -> 0 | BK29: =(BI29+BJ29)+BG29 -> 0 | BN29: =SUMPRODUCT((Daten[Betrag])*(Daten[Typ]=$B29)*(Daten[Monat]=TEXT(Ynab!BL$2,"MMMM"))*(Daten[Jahr]=TEXT(BL$2,"JJJJ"))) -> 0 | BO29: =(BM29+BN29)+BK29 -> 0 | BR29: =SUMPRODUCT((Daten[Betrag])*(Daten[Typ]=$B29)*(Daten[Monat]=TEXT(Ynab!BP$2,"MMMM"))*(Daten[Jahr]=TEXT(BP$2,"JJJJ"))) -> 0 | BS29: =(BQ29+BR29)+BO29 -> 0
B30: Kredit | E30: 0 | G30: =E30-F30 -> 0 | J30: =SUMPRODUCT((Daten[Betrag])*(Daten[Typ]=$B30)*(Daten[Monat]=TEXT(Ynab!H$2,"MMMM"))*(Daten[Jahr]=TEXT(H$2,"JJJJ"))) -> 0 | K30: =(I30+J30)+G30 -> 0 | N30: =SUMPRODUCT((Daten[Betrag])*(Daten[Typ]=$B30)*(Daten[Monat]=TEXT(Ynab!L$2,"MMMM"))*(Daten[Jahr]=TEXT(L$2,"JJJJ"))) -> 0 | O30: =(M30+N30)+K30 -> 0 | R30: =SUMPRODUCT((Daten[Betrag])*(Daten[Typ]=$B30)*(Daten[Monat]=TEXT(Ynab!P$2,"MMMM"))*(Daten[Jahr]=TEXT(P$2,"JJJJ"))) -> 0 | S30: =(Q30+R30)+O30 -> 0 | V30: =SUMPRODUCT((Daten[Betrag])*(Daten[Typ]=$B30)*(Daten[Monat]=TEXT(Ynab!T$2,"MMMM"))*(Daten[Jahr]=TEXT(T$2,"JJJJ"))) -> 0 | W30: =(U30+V30)+S30 -> 0 | Z30: =SUMPRODUCT((Daten[Betrag])*(Daten[Typ]=$B30)*(Daten[Monat]=TEXT(Ynab!X$2,"MMMM"))*(Daten[Jahr]=TEXT(X$2,"JJJJ"))) -> 0 | AA30: =(Y30+Z30)+W30 -> 0 | AD30: =SUMPRODUCT((Daten[Betrag])*(Daten[Typ]=$B30)*(Daten[Monat]=TEXT(Ynab!AB$2,"MMMM"))*(Daten[Jahr]=TEXT(AB$2,"JJJJ"))) -> 0 | AE30: =(AC30+AD30)+AA30 -> 0 | AH30: =SUMPRODUCT((Daten[Betrag])*(Daten[Typ]=$B30)*(Daten[Monat]=TEXT(Ynab!AF$2,"MMMM"))*(Daten[Jahr]=TEXT(AF$2,"JJJJ"))) -> 0 | AI30: =(AG30+AH30)+AE30 -> 0 | AL30: =SUMPRODUCT((Daten[Betrag])*(Daten[Typ]=$B30)*(Daten[Monat]=TEXT(Ynab!AJ$2,"MMMM"))*(Daten[Jahr]=TEXT(AJ$2,"JJJJ"))) -> 0 | AM30: =(AK30+AL30)+AI30 -> 0 | AP30: =SUMPRODUCT((Daten[Betrag])*(Daten[Typ]=$B30)*(Daten[Monat]=TEXT(Ynab!AN$2,"MMMM"))*(Daten[Jahr]=TEXT(AN$2,"JJJJ"))) -> 0 | AQ30: =(AO30+AP30)+AM30 -> 0 | AT30: =SUMPRODUCT((Daten[Betrag])*(Daten[Typ]=$B30)*(Daten[Monat]=TEXT(Ynab!AR$2,"MMMM"))*(Daten[Jahr]=TEXT(AR$2,"JJJJ"))) -> 0 | AU30: =(AS30+AT30)+AQ30 -> 0 | AX30: =SUMPRODUCT((Daten[Betrag])*(Daten[Typ]=$B30)*(Daten[Monat]=TEXT(Ynab!AV$2,"MMMM"))*(Daten[Jahr]=TEXT(AV$2,"JJJJ"))) -> 0 | AY30: =(AW30+AX30)+AU30 -> 0 | BB30: =SUMPRODUCT((Daten[Betrag])*(Daten[Typ]=$B30)*(Daten[Monat]=TEXT(Ynab!AZ$2,"MMMM"))*(Daten[Jahr]=TEXT(AZ$2,"JJJJ"))) -> 0 | BC30: =(BA30+BB30)+AY30 -> 0 | BF30: =SUMPRODUCT((Daten[Betrag])*(Daten[Typ]=$B30)*(Daten[Monat]=TEXT(Ynab!BD$2,"MMMM"))*(Daten[Jahr]=TEXT(BD$2,"JJJJ"))) -> 0 | BG30: =(BE30+BF30)+BC30 -> 0 | BJ30: =SUMPRODUCT((Daten[Betrag])*(Daten[Typ]=$B30)*(Daten[Monat]=TEXT(Ynab!BH$2,"MMMM"))*(Daten[Jahr]=TEXT(BH$2,"JJJJ"))) -> 0 | BK30: =(BI30+BJ30)+BG30 -> 0 | BN30: =SUMPRODUCT((Daten[Betrag])*(Daten[Typ]=$B30)*(Daten[Monat]=TEXT(Ynab!BL$2,"MMMM"))*(Daten[Jahr]=TEXT(BL$2,"JJJJ"))) -> 0 | BO30: =(BM30+BN30)+BK30 -> 0 | BR30: =SUMPRODUCT((Daten[Betrag])*(Daten[Typ]=$B30)*(Daten[Monat]=TEXT(Ynab!BP$2,"MMMM"))*(Daten[Jahr]=TEXT(BP$2,"JJJJ"))) -> 0 | BS30: =(BQ30+BR30)+BO30 -> 0
B31: Unerwartete Ausgaben | E31: 0 | G31: =E31-F31 -> 0 | J31: =SUMPRODUCT((Daten[Betrag])*(Daten[Typ]=$B31)*(Daten[Monat]=TEXT(Ynab!H$2,"MMMM"))*(Daten[Jahr]=TEXT(H$2,"JJJJ"))) -> 0 | K31: =(I31+J31)+G31 -> 0 | N31: =SUMPRODUCT((Daten[Betrag])*(Daten[Typ]=$B31)*(Daten[Monat]=TEXT(Ynab!L$2,"MMMM"))*(Daten[Jahr]=TEXT(L$2,"JJJJ"))) -> 0 | O31: =(M31+N31)+K31 -> 0 | R31: =SUMPRODUCT((Daten[Betrag])*(Daten[Typ]=$B31)*(Daten[Monat]=TEXT(Ynab!P$2,"MMMM"))*(Daten[Jahr]=TEXT(P$2,"JJJJ"))) -> 0 | S31: =(Q31+R31)+O31 -> 0 | V31: =SUMPRODUCT((Daten[Betrag])*(Daten[Typ]=$B31)*(Daten[Monat]=TEXT(Ynab!T$2,"MMMM"))*(Daten[Jahr]=TEXT(T$2,"JJJJ"))) -> 0 | W31: =(U31+V31)+S31 -> 0 | Z31: =SUMPRODUCT((Daten[Betrag])*(Daten[Typ]=$B31)*(Daten[Monat]=TEXT(Ynab!X$2,"MMMM"))*(Daten[Jahr]=TEXT(X$2,"JJJJ"))) -> 0 | AA31: =(Y31+Z31)+W31 -> 0 | AD31: =SUMPRODUCT((Daten[Betrag])*(Daten[Typ]=$B31)*(Daten[Monat]=TEXT(Ynab!AB$2,"MMMM"))*(Daten[Jahr]=TEXT(AB$2,"JJJJ"))) -> 0 | AE31: =(AC31+AD31)+AA31 -> 0 | AH31: =SUMPRODUCT((Daten[Betrag])*(Daten[Typ]=$B31)*(Daten[Monat]=TEXT(Ynab!AF$2,"MMMM"))*(Daten[Jahr]=TEXT(AF$2,"JJJJ"))) -> 0 | AI31: =(AG31+AH31)+AE31 -> 0 | AL31: =SUMPRODUCT((Daten[Betrag])*(Daten[Typ]=$B31)*(Daten[Monat]=TEXT(Ynab!AJ$2,"MMMM"))*(Daten[Jahr]=TEXT(AJ$2,"JJJJ"))) -> 0 | AM31: =(AK31+AL31)+AI31 -> 0 | AP31: =SUMPRODUCT((Daten[Betrag])*(Daten[Typ]=$B31)*(Daten[Monat]=TEXT(Ynab!AN$2,"MMMM"))*(Daten[Jahr]=TEXT(AN$2,"JJJJ"))) -> 0 | AQ31: =(AO31+AP31)+AM31 -> 0 | AT31: =SUMPRODUCT((Daten[Betrag])*(Daten[Typ]=$B31)*(Daten[Monat]=TEXT(Ynab!AR$2,"MMMM"))*(Daten[Jahr]=TEXT(AR$2,"JJJJ"))) -> 0 | AU31: =(AS31+AT31)+AQ31 -> 0 | AX31: =SUMPRODUCT((Daten[Betrag])*(Daten[Typ]=$B31)*(Daten[Monat]=TEXT(Ynab!AV$2,"MMMM"))*(Daten[Jahr]=TEXT(AV$2,"JJJJ"))) -> 0 | AY31: =(AW31+AX31)+AU31 -> 0 | BB31: =SUMPRODUCT((Daten[Betrag])*(Daten[Typ]=$B31)*(Daten[Monat]=TEXT(Ynab!AZ$2,"MMMM"))*(Daten[Jahr]=TEXT(AZ$2,"JJJJ"))) -> 0 | BC31: =(BA31+BB31)+AY31 -> 0 | BF31: =SUMPRODUCT((Daten[Betrag])*(Daten[Typ]=$B31)*(Daten[Monat]=TEXT(Ynab!BD$2,"MMMM"))*(Daten[Jahr]=TEXT(BD$2,"JJJJ"))) -> 0 | BG31: =(BE31+BF31)+BC31 -> 0 | BJ31: =SUMPRODUCT((Daten[Betrag])*(Daten[Typ]=$B31)*(Daten[Monat]=TEXT(Ynab!BH$2,"MMMM"))*(Daten[Jahr]=TEXT(BH$2,"JJJJ"))) -> 0 | BK31: =(BI31+BJ31)+BG31 -> 0 | BN31: =SUMPRODUCT((Daten[Betrag])*(Daten[Typ]=$B31)*(Daten[Monat]=TEXT(Ynab!BL$2,"MMMM"))*(Daten[Jahr]=TEXT(BL$2,"JJJJ"))) -> 0 | BO31: =(BM31+BN31)+BK31 -> 0 | BR31: =SUMPRODUCT((Daten[Betrag])*(Daten[Typ]=$B31)*(Daten[Monat]=TEXT(Ynab!BP$2,"MMMM"))*(Daten[Jahr]=TEXT(BP$2,"JJJJ"))) -> 0 | BS31: =(BQ31+BR31)+BO31 -> 0
B33: Erwartete Ausgaben | E33: =SUMIFS(Daten[Ausgaben Betrag],Daten[Jahr],YEAR($B$8),Daten[Tag],">"&DAY($B$8),Daten[Typ],"<>"&$B$31)/MONTH($B$8) -> 0 | I33: =SUMIFS(Daten[Ausgaben Betrag],Daten[Jahr],YEAR($B$8),Daten[Tag],">"&DAY($B$8),Daten[Typ],"<>"&$B$31)/MONTH($B$8) -> 0 | M33: =SUMIFS(Daten[Ausgaben Betrag],Daten[Jahr],YEAR($B$8),Daten[Tag],">"&DAY($B$8),Daten[Typ],"<>"&$B$31)/MONTH($B$8) -> 0 | Q33: =SUMIFS(Daten[Ausgaben Betrag],Daten[Jahr],YEAR($B$8),Daten[Tag],">"&DAY($B$8),Daten[Typ],"<>"&$B$31)/MONTH($B$8) -> 0 | U33: =SUMIFS(Daten[Ausgaben Betrag],Daten[Jahr],YEAR($B$8),Daten[Tag],">"&DAY($B$8),Daten[Typ],"<>"&$B$31)/MONTH($B$8) -> 0 | Y33: =SUMIFS(Daten[Ausgaben Betrag],Daten[Jahr],YEAR($B$8),Daten[Tag],">"&DAY($B$8),Daten[Typ],"<>"&$B$31)/MONTH($B$8) -> 0 | AC33: =SUMIFS(Daten[Ausgaben Betrag],Daten[Jahr],YEAR($B$8),Daten[Tag],">"&DAY($B$8),Daten[Typ],"<>"&$B$31)/MONTH($B$8) -> 0 | AG33: =SUMIFS(Daten[Ausgaben Betrag],Daten[Jahr],YEAR($B$8),Daten[Tag],">"&DAY($B$8),Daten[Typ],"<>"&$B$31)/MONTH($B$8) -> 0 | AK33: =SUMIFS(Daten[Ausgaben Betrag],Daten[Jahr],YEAR($B$8),Daten[Tag],">"&DAY($B$8),Daten[Typ],"<>"&$B$31)/MONTH($B$8) -> 0 | AO33: =SUMIFS(Daten[Ausgaben Betrag],Daten[Jahr],YEAR($B$8),Daten[Tag],">"&DAY($B$8),Daten[Typ],"<>"&$B$31)/MONTH($B$8) -> 0 | AS33: =SUMIFS(Daten[Ausgaben Betrag],Daten[Jahr],YEAR($B$8),Daten[Tag],">"&DAY($B$8),Daten[Typ],"<>"&$B$31)/MONTH($B$8) -> 0 | AW33: =SUMIFS(Daten[Ausgaben Betrag],Daten[Jahr],YEAR($B$8),Daten[Tag],">"&DAY($B$8),Daten[Typ],"<>"&$B$31)/MONTH($B$8) -> 0 | BA33: =SUMIFS(Daten[Ausgaben Betrag],Daten[Jahr],YEAR($B$8),Daten[Tag],">"&DAY($B$8),Daten[Typ],"<>"&$B$31)/MONTH($B$8) -> 0 | BE33: =SUMIFS(Daten[Ausgaben Betrag],Daten[Jahr],YEAR($B$8),Daten[Tag],">"&DAY($B$8),Daten[Typ],"<>"&$B$31)/MONTH($B$8) -> 0 | BI33: =SUMIFS(Daten[Ausgaben Betrag],Daten[Jahr],YEAR($B$8),Daten[Tag],">"&DAY($B$8),Daten[Typ],"<>"&$B$31)/MONTH($B$8) -> 0 | BM33: =SUMIFS(Daten[Ausgaben Betrag],Daten[Jahr],YEAR($B$8),Daten[Tag],">"&DAY($B$8),Daten[Typ],"<>"&$B$31)/MONTH($B$8) -> 0 | BQ33: =SUMIFS(Daten[Ausgaben Betrag],Daten[Jahr],YEAR($B$8),Daten[Tag],">"&DAY($B$8),Daten[Typ],"<>"&$B$31)/MONTH($B$8) -> 0

Sheet Saldo
A1: Saldo | B1: Sparkasse | C1: =SUMIF(Daten[Konto],Ynab!B2,Daten[Betrag]) -> 0
A2: Saldo | B2: Hypovereinsbank | C2: =SUMIF(Daten[Konto],Saldo!B2,Daten[Betrag]) -> 0
A3: Schnellsuche | B3: Sonstiges | C3: =SUMIF(Daten[Typ],Saldo!B3,Daten[Ausgaben Betrag]) -> 0
F6: Werte
A7: Jahr | B7: Monat | C7: Art | D7: Typ | E7: Bezeichnung | F7: Summe von Einnahmen Betrag | G7: Summe von Ausgaben Betrag | H7: Summe von Saldo
A8: 2015 | B8: November | C8: Ausgabe | D8: Hobby | E8: Test | F8: 0 | G8: 500 | H8: -500
D9: Hobby Ergebnis | F9: 0 | G9: 500 | H9: -500
