Workbook
Name Anz_DE: #REF!

Sheet Stat.
A1: lfd. Nr. | B1: Datum | C1: Nummer | D1: Name | E1: Jahr | F1: Erl.. | G1: Aus. | H1: Dat. Erl.
B2: 42358 | E2: 2011 | F2: x | G2: =IF(Tabelle3[[#This Row],[Erl..]]="x","x","") -> x
B3: 42359 | E3: 2011 | F3: x | G3: =IF(Tabelle3[[#This Row],[Erl..]]="x","x","") -> x | H3: 42368
B4: 42360 | E4: 2010 | F4: x | G4: =IF(Tabelle3[[#This Row],[Erl..]]="x","x","") -> x | H4: 42363
B5: 42361 | E5: 2011 | F5: x | G5: =IF(Tabelle3[[#This Row],[Erl..]]="x","x","") -> x
B6: 42362 | E6: 2012 | F6: x | G6: =IF(Tabelle3[[#This Row],[Erl..]]="x","x","") -> x | H6: 42368
B7: 42363 | E7: 2011 | F7: x | G7: =IF(Tabelle3[[#This Row],[Erl..]]="x","x","") -> x | H7: 42381
B8: 42364 | E8: 2012 | F8: x | G8: =IF(Tabelle3[[#This Row],[Erl..]]="x","x","") -> x | H8: 42381
B9: 42365 | E9: 2013 | F9: x | G9: =IF(Tabelle3[[#This Row],[Erl..]]="x","x","") -> x | H9: 42367
B10: 42366 | E10: 2010 | F10: x | G10: =IF(Tabelle3[[#This Row],[Erl..]]="x","x","") -> x | H10: 42368
B11: 42367 | E11: 2012 | F11: x | G11: =IF(Tabelle3[[#This Row],[Erl..]]="x","x","") -> x | H11: 38718
B12: 42368 | E12: 2015 | F12: x | G12: =IF(Tabelle3[[#This Row],[Erl..]]="x","x","") -> x | H12: 42368

Sheet Diagramm
A1: =TODAY() -> 42385 | B1: =COUNTIFS(Stat.!$B$2:$B$12,"<="&A1,Stat.!$H$2:$H$12,">"&A1) -> 0
A2: =TODAY()-ROW(A1) -> 42384 | B2: =COUNTIFS(Stat.!$B$2:$B$12,"<="&A2,Stat.!$H$2:$H$12,">"&A2) -> 0
A3: =TODAY()-ROW(A2) -> 42383 | B3: =COUNTIFS(Stat.!$B$2:$B$12,"<="&A3,Stat.!$H$2:$H$12,">"&A3) -> 0
A4: =TODAY()-ROW(A3) -> 42382 | B4: =COUNTIFS(Stat.!$B$2:$B$12,"<="&A4,Stat.!$H$2:$H$12,">"&A4) -> 0
A5: =TODAY()-ROW(A4) -> 42381 | B5: =COUNTIFS(Stat.!$B$2:$B$12,"<="&A5,Stat.!$H$2:$H$12,">"&A5) -> 0
A6: =TODAY()-ROW(A5) -> 42380 | B6: =COUNTIFS(Stat.!$B$2:$B$12,"<="&A6,Stat.!$H$2:$H$12,">"&A6) -> 2
A7: =TODAY()-ROW(A6) -> 42379 | B7: =COUNTIFS(Stat.!$B$2:$B$12,"<="&A7,Stat.!$H$2:$H$12,">"&A7) -> 2
A8: =TODAY()-ROW(A7) -> 42378 | B8: =COUNTIFS(Stat.!$B$2:$B$12,"<="&A8,Stat.!$H$2:$H$12,">"&A8) -> 2
A9: =TODAY()-ROW(A8) -> 42377 | B9: =COUNTIFS(Stat.!$B$2:$B$12,"<="&A9,Stat.!$H$2:$H$12,">"&A9) -> 2
A10: =TODAY()-ROW(A9) -> 42376 | B10: =COUNTIFS(Stat.!$B$2:$B$12,"<="&A10,Stat.!$H$2:$H$12,">"&A10) -> 2
A11: =TODAY()-ROW(A10) -> 42375 | B11: =COUNTIFS(Stat.!$B$2:$B$12,"<="&A11,Stat.!$H$2:$H$12,">"&A11) -> 2
A12: =TODAY()-ROW(A11) -> 42374 | B12: =COUNTIFS(Stat.!$B$2:$B$12,"<="&A12,Stat.!$H$2:$H$12,">"&A12) -> 2
A13: =TODAY()-ROW(A12) -> 42373 | B13: =COUNTIFS(Stat.!$B$2:$B$12,"<="&A13,Stat.!$H$2:$H$12,">"&A13) -> 2
... A30: =TODAY()-ROW(A29) -> 42356 | B30: =COUNTIFS(Stat.!$B$2:$B$12,"<="&A30,Stat.!$H$2:$H$12,">"&A30) -> 0
