Workbook
Name Firma_Kostenfortschr.: [1]Kostenfortschr.!$D$10:$D$50

Sheet Baukosten
B1: 1. Kostenschätzung nach DIN 276 6.93 | AC1: Formel | AD1: Formel | AE1: formel
B3: Bauvorhaben:
B4: Bauort:
B5: Bauherr:
B7: Projekt-Nr.:
C8: Stand: | D8: 43874 | N8: Nachtragf abzgl. Nachlass | O8: ohne Nachlass | P8: abzgl. Nachlass
A9: NR. | B9: KGR. | D9: Gewerk | E9: Schätzung | F9: Firma | G9: Angebot | H9: Nachlass (NL) | J9: Auftragsumme | K9: Nachträge | L9: Nachlass | N9: Nachtrags- summe | O9: Nachtrag + Angebot | P9: Nachtrag + Angebot | Q9: freigegeben | R9: noch zu zahlen | S9: abgerechnet* | T9: Skonto | W9: Bemerkung
B10: 100 | C10: Grundstück
A11: =IF(F11="","",1+MAX(A$10:A10)) | C11: 110 | D11: Grundstückswert | H11: 0 | I11: =-SUM(G11*H11) -> 0 | J11: =SUM(G11+I11) -> 0 | K11: =IF(ISERROR(VLOOKUP(AC11,Nachträge!$A$2:$Y$646,25,FALSE)),"",VLOOKUP(AC11,Nachträge!$A$2:$Y$646,25,FALSE)) | L11: 0 | M11: =-SUM(K11*L11) -> #VALUE! | N11: =SUM(K11+M11) -> #VALUE! | O11: =SUM(G11+K11) -> #VALUE! | P11: =SUM(J11+N11) -> #VALUE! | Q11: =SUMIFS(Zahlungsfreigabe!$I$12:$I$1000,Zahlungsfreigabe!$C$12:$C$1000,Baukosten!F11,Zahlungsfreigabe!$E$12:$E$1000,D11) -> 0 | R11: =(J11+K11)-Q11 -> #VALUE! | S11: =SUM(J11+K11) -> #VALUE! | T11: 0 | U11: =-SUM(J11+K11)*T11 -> #VALUE! | AC11: =IFERROR(A11,"") | AD11: =J11+K11 -> #VALUE! | AE11: =(AD11/100)*80 -> #VALUE!
A12: =IF(F12="","",1+MAX(A$10:A11)) | C12: 120 | D12: Grundstücksnebenkosten | H12: 0 | I12: =-SUM(G12*H12) -> 0 | J12: =SUM(G12+I12) -> 0 | K12: =IF(ISERROR(VLOOKUP(AC12,Nachträge!$A$2:$Y$646,25,FALSE)),"",VLOOKUP(AC12,Nachträge!$A$2:$Y$646,25,FALSE)) | L12: 0 | M12: =-SUM(K12*L12) -> #VALUE! | N12: =SUM(K12+M12) -> #VALUE! | O12: =SUM(G12+K12) -> #VALUE! | P12: =SUM(J12+N12) -> #VALUE! | Q12: =SUMIFS(Zahlungsfreigabe!$I$12:$I$1000,Zahlungsfreigabe!$C$12:$C$1000,Baukosten!F12,Zahlungsfreigabe!$E$12:$E$1000,D12) -> 0 | R12: =(J12+K12)-Q12 -> #VALUE! | S12: =SUM(J12+K12) -> #VALUE! | T12: 0 | U12: =-SUM(J12+K12)*T12 -> #VALUE! | AC12: =IFERROR(A12,"") | AD12: =J12+K12 -> #VALUE! | AE12: =(AD12/100)*80 -> #VALUE!
A13: =IF(F13="","",1+MAX(A$10:A12)) | C13: 121 | D13: Vermessungsgebühren | H13: 0 | I13: =-SUM(G13*H13) -> 0 | J13: =SUM(G13+I13) -> 0 | K13: =IF(ISERROR(VLOOKUP(AC13,Nachträge!$A$2:$Y$646,25,FALSE)),"",VLOOKUP(AC13,Nachträge!$A$2:$Y$646,25,FALSE)) | L13: 0 | M13: =-SUM(K13*L13) -> #VALUE! | N13: =SUM(K13+M13) -> #VALUE! | O13: =SUM(G13+K13) -> #VALUE! | P13: =SUM(J13+N13) -> #VALUE! | Q13: =SUMIFS(Zahlungsfreigabe!$I$12:$I$1000,Zahlungsfreigabe!$C$12:$C$1000,Baukosten!F13,Zahlungsfreigabe!$E$12:$E$1000,D13) -> 0 | R13: =(J13+K13)-Q13 -> #VALUE! | S13: =SUM(J13+K13) -> #VALUE! | T13: 0 | U13: =-SUM(J13+K13)*T13 -> #VALUE! | AC13: =IFERROR(A13,"") | AD13: =J13+K13 -> #VALUE! | AE13: =(AD13/100)*80 -> #VALUE!
A14: =IF(F14="","",1+MAX(A$10:A13)) | C14: 122 | D14: Gerichtsgebühren | H14: 0 | I14: =-SUM(G14*H14) -> 0 | J14: =SUM(G14+I14) -> 0 | K14: =IF(ISERROR(VLOOKUP(AC14,Nachträge!$A$2:$Y$646,25,FALSE)),"",VLOOKUP(AC14,Nachträge!$A$2:$Y$646,25,FALSE)) | L14: 0 | M14: =-SUM(K14*L14) -> #VALUE! | N14: =SUM(K14+M14) -> #VALUE! | O14: =SUM(G14+K14) -> #VALUE! | P14: =SUM(J14+N14) -> #VALUE! | Q14: =SUMIFS(Zahlungsfreigabe!$I$12:$I$1000,Zahlungsfreigabe!$C$12:$C$1000,Baukosten!F14,Zahlungsfreigabe!$E$12:$E$1000,D14) -> 0 | R14: =(J14+K14)-Q14 -> #VALUE! | S14: =SUM(J14+K14) -> #VALUE! | T14: 0 | U14: =-SUM(J14+K14)*T14 -> #VALUE! | AC14: =IFERROR(A14,"") | AD14: =J14+K14 -> #VALUE! | AE14: =(AD14/100)*80 -> #VALUE!
A15: =IF(F15="","",1+MAX(A$10:A14)) | C15: 123 | D15: Notargebühren | H15: 0 | I15: =-SUM(G15*H15) -> 0 | J15: =SUM(G15+I15) -> 0 | K15: =IF(ISERROR(VLOOKUP(AC15,Nachträge!$A$2:$Y$646,25,FALSE)),"",VLOOKUP(AC15,Nachträge!$A$2:$Y$646,25,FALSE)) | L15: 0 | M15: =-SUM(K15*L15) -> #VALUE! | N15: =SUM(K15+M15) -> #VALUE! | O15: =SUM(G15+K15) -> #VALUE! | P15: =SUM(J15+N15) -> #VALUE! | Q15: =SUMIFS(Zahlungsfreigabe!$I$12:$I$1000,Zahlungsfreigabe!$C$12:$C$1000,Baukosten!F15,Zahlungsfreigabe!$E$12:$E$1000,D15) -> 0 | R15: =(J15+K15)-Q15 -> #VALUE! | S15: =SUM(J15+K15) -> #VALUE! | T15: 0 | U15: =-SUM(J15+K15)*T15 -> #VALUE! | AC15: =IFERROR(A15,"") | AD15: =J15+K15 -> #VALUE! | AE15: =(AD15/100)*80 -> #VALUE!
A16: =IF(F16="","",1+MAX(A$10:A15)) | C16: 124 | D16: Grunderwerbssteuer | H16: 0 | I16: =-SUM(G16*H16) -> 0 | J16: =SUM(G16+I16) -> 0 | K16: =IF(ISERROR(VLOOKUP(AC16,Nachträge!$A$2:$Y$646,25,FALSE)),"",VLOOKUP(AC16,Nachträge!$A$2:$Y$646,25,FALSE)) | L16: 0 | M16: =-SUM(K16*L16) -> #VALUE! | N16: =SUM(K16+M16) -> #VALUE! | O16: =SUM(G16+K16) -> #VALUE! | P16: =SUM(J16+N16) -> #VALUE! | Q16: =SUMIFS(Zahlungsfreigabe!$I$12:$I$1000,Zahlungsfreigabe!$C$12:$C$1000,Baukosten!F16,Zahlungsfreigabe!$E$12:$E$1000,D16) -> 0 | R16: =(J16+K16)-Q16 -> #VALUE! | S16: =SUM(J16+K16) -> #VALUE! | T16: 0 | U16: =-SUM(J16+K16)*T16 -> #VALUE! | AC16: =IFERROR(A16,"") | AD16: =J16+K16 -> #VALUE! | AE16: =(AD16/100)*80 -> #VALUE!
A17: =IF(F17="","",1+MAX(A$10:A16)) | C17: 125 | D17: Untersuchungen | H17: 0 | I17: =-SUM(G17*H17) -> 0 | J17: =SUM(G17+I17) -> 0 | K17: =IF(ISERROR(VLOOKUP(AC17,Nachträge!$A$2:$Y$646,25,FALSE)),"",VLOOKUP(AC17,Nachträge!$A$2:$Y$646,25,FALSE)) | L17: 0 | M17: =-SUM(K17*L17) -> #VALUE! | N17: =SUM(K17+M17) -> #VALUE! | O17: =SUM(G17+K17) -> #VALUE! | P17: =SUM(J17+N17) -> #VALUE! | Q17: =SUMIFS(Zahlungsfreigabe!$I$12:$I$1000,Zahlungsfreigabe!$C$12:$C$1000,Baukosten!F17,Zahlungsfreigabe!$E$12:$E$1000,D17) -> 0 | R17: =(J17+K17)-Q17 -> #VALUE! | S17: =SUM(J17+K17) -> #VALUE! | T17: 0 | U17: =-SUM(J17+K17)*T17 -> #VALUE! | AC17: =IFERROR(A17,"") | AD17: =J17+K17 -> #VALUE! | AE17: =(AD17/100)*80 -> #VALUE!
A18: =IF(F18="","",1+MAX(A$10:A17)) | C18: 126 | D18: Wertermittlungen | H18: 0 | I18: =-SUM(G18*H18) -> 0 | J18: =SUM(G18+I18) -> 0 | K18: =IF(ISERROR(VLOOKUP(AC18,Nachträge!$A$2:$Y$646,25,FALSE)),"",VLOOKUP(AC18,Nachträge!$A$2:$Y$646,25,FALSE)) | L18: 0 | M18: =-SUM(K18*L18) -> #VALUE! | N18: =SUM(K18+M18) -> #VALUE! | O18: =SUM(G18+K18) -> #VALUE! | P18: =SUM(J18+N18) -> #VALUE! | Q18: =SUMIFS(Zahlungsfreigabe!$I$12:$I$1000,Zahlungsfreigabe!$C$12:$C$1000,Baukosten!F18,Zahlungsfreigabe!$E$12:$E$1000,D18) -> 0 | R18: =(J18+K18)-Q18 -> #VALUE! | S18: =SUM(J18+K18) -> #VALUE! | T18: 0 | U18: =-SUM(J18+K18)*T18 -> #VALUE! | AC18: =IFERROR(A18,"") | AD18: =J18+K18 -> #VALUE! | AE18: =(AD18/100)*80 -> #VALUE!
A19: =IF(F19="","",1+MAX(A$10:A18)) | C19: 127 | D19: Genehmigungsgebühren | H19: 0 | I19: =-SUM(G19*H19) -> 0 | J19: =SUM(G19+I19) -> 0 | K19: =IF(ISERROR(VLOOKUP(AC19,Nachträge!$A$2:$Y$646,25,FALSE)),"",VLOOKUP(AC19,Nachträge!$A$2:$Y$646,25,FALSE)) | L19: 0 | M19: =-SUM(K19*L19) -> #VALUE! | N19: =SUM(K19+M19) -> #VALUE! | O19: =SUM(G19+K19) -> #VALUE! | P19: =SUM(J19+N19) -> #VALUE! | Q19: =SUMIFS(Zahlungsfreigabe!$I$12:$I$1000,Zahlungsfreigabe!$C$12:$C$1000,Baukosten!F19,Zahlungsfreigabe!$E$12:$E$1000,D19) -> 0 | R19: =(J19+K19)-Q19 -> #VALUE! | S19: =SUM(J19+K19) -> #VALUE! | T19: 0 | U19: =-SUM(J19+K19)*T19 -> #VALUE! | AC19: =IFERROR(A19,"") | AD19: =J19+K19 -> #VALUE! | AE19: =(AD19/100)*80 -> #VALUE!
A20: =IF(F20="","",1+MAX(A$10:A19)) | C20: 128 | D20: Bodenordnung | H20: 0 | I20: =-SUM(G20*H20) -> 0 | J20: =SUM(G20+I20) -> 0 | K20: =IF(ISERROR(VLOOKUP(AC20,Nachträge!$A$2:$Y$646,25,FALSE)),"",VLOOKUP(AC20,Nachträge!$A$2:$Y$646,25,FALSE)) | L20: 0 | M20: =-SUM(K20*L20) -> #VALUE! | N20: =SUM(K20+M20) -> #VALUE! | O20: =SUM(G20+K20) -> #VALUE! | P20: =SUM(J20+N20) -> #VALUE! | Q20: =SUMIFS(Zahlungsfreigabe!$I$12:$I$1000,Zahlungsfreigabe!$C$12:$C$1000,Baukosten!F20,Zahlungsfreigabe!$E$12:$E$1000,D20) -> 0 | R20: =(J20+K20)-Q20 -> #VALUE! | S20: =SUM(J20+K20) -> #VALUE! | T20: 0 | U20: =-SUM(J20+K20)*T20 -> #VALUE! | AC20: =IFERROR(A20,"") | AD20: =J20+K20 -> #VALUE! | AE20: =(AD20/100)*80 -> #VALUE!
A21: =IF(F21="","",1+MAX(A$10:A20)) | C21: 129 | D21: Sonstige zur KG 120 | H21: 0 | I21: =-SUM(G21*H21) -> 0 | J21: =SUM(G21+I21) -> 0 | K21: =IF(ISERROR(VLOOKUP(AC21,Nachträge!$A$2:$Y$646,25,FALSE)),"",VLOOKUP(AC21,Nachträge!$A$2:$Y$646,25,FALSE)) | L21: 0 | M21: =-SUM(K21*L21) -> #VALUE! | N21: =SUM(K21+M21) -> #VALUE! | O21: =SUM(G21+K21) -> #VALUE! | P21: =SUM(J21+N21) -> #VALUE! | Q21: =SUMIFS(Zahlungsfreigabe!$I$12:$I$1000,Zahlungsfreigabe!$C$12:$C$1000,Baukosten!F21,Zahlungsfreigabe!$E$12:$E$1000,D21) -> 0 | R21: =(J21+K21)-Q21 -> #VALUE! | S21: =SUM(J21+K21) -> #VALUE! | T21: 0 | U21: =-SUM(J21+K21)*T21 -> #VALUE! | AC21: =IFERROR(A21,"") | AD21: =J21+K21 -> #VALUE! | AE21: =(AD21/100)*80 -> #VALUE!
A22: =IF(F22="","",1+MAX(A$10:A21)) | C22: 130 | D22: Rechte Dritter | H22: 0 | I22: =-SUM(G22*H22) -> 0 | J22: =SUM(G22+I22) -> 0 | K22: =IF(ISERROR(VLOOKUP(AC22,Nachträge!$A$2:$Y$646,25,FALSE)),"",VLOOKUP(AC22,Nachträge!$A$2:$Y$646,25,FALSE)) | L22: 0 | M22: =-SUM(K22*L22) -> #VALUE! | N22: =SUM(K22+M22) -> #VALUE! | O22: =SUM(G22+K22) -> #VALUE! | P22: =SUM(J22+N22) -> #VALUE! | Q22: =SUMIFS(Zahlungsfreigabe!$I$12:$I$1000,Zahlungsfreigabe!$C$12:$C$1000,Baukosten!F22,Zahlungsfreigabe!$E$12:$E$1000,D22) -> 0 | R22: =(J22+K22)-Q22 -> #VALUE! | S22: =SUM(J22+K22) -> #VALUE! | T22: 0 | U22: =-SUM(J22+K22)*T22 -> #VALUE! | AC22: =IFERROR(A22,"") | AD22: =J22+K22 -> #VALUE! | AE22: =(AD22/100)*80 -> #VALUE!
... A25: =IF(F25="","",1+MAX(A$10:A24)) | C25: 139 | D25: Sonstige zur KG 120 | H25: 0 | I25: =-SUM(G25*H25) -> 0 | J25: =SUM(G25+I25) -> 0 | K25: =IF(ISERROR(VLOOKUP(AC25,Nachträge!$A$2:$Y$646,25,FALSE)),"",VLOOKUP(AC25,Nachträge!$A$2:$Y$646,25,FALSE)) | L25: 0 | M25: =-SUM(K25*L25) -> #VALUE! | N25: =SUM(K25+M25) -> #VALUE! | O25: =SUM(G25+K25) -> #VALUE! | P25: =SUM(J25+N25) -> #VALUE! | Q25: =SUMIFS(Zahlungsfreigabe!$I$12:$I$1000,Zahlungsfreigabe!$C$12:$C$1000,Baukosten!F25,Zahlungsfreigabe!$E$12:$E$1000,D25) -> 0 | R25: =(J25+K25)-Q25 -> #VALUE! | S25: =SUM(J25+K25) -> #VALUE! | T25: 0 | U25: =-SUM(J25+K25)*T25 -> #VALUE! | AC25: =IFERROR(A25,"") | AD25: =J25+K25 -> #VALUE! | AE25: =(AD25/100)*80 -> #VALUE!
A26: =IF(F26="","",1+MAX(A$10:A25)) | C26: Summe | E26: =SUM(E11:E25) -> 0 | G26: =SUM(G11:G25) -> 0 | I26: =-SUM(I11:I25) -> 0 | J26: =SUM(J11:J25) -> 0 | K26: =SUM(K11:K25) -> 0 | M26: =-SUM(M11:M25) -> #VALUE! | N26: =SUM(N11:N25) -> #VALUE! | O26: =SUM(O11:O25) -> #VALUE! | P26: =SUM(P11:P25) -> #VALUE! | Q26: =SUM(Q11:Q25) -> 0 | R26: =SUM(R11:R25) -> #VALUE! | S26: =SUM(S11:S25) -> #VALUE! | U26: =SUM(U11:U25) -> #VALUE! | AC26: =IFERROR(A26,"") | AD26: =J26+K26 -> 0 | AE26: =(AD26/100)*80 -> 0
A27: =IF(F27="","",1+MAX(A$10:A26)) | B27: 200 | C27: Herrichten und Erschließen | AC27: =IFERROR(A27,"") | AD27: =J27+K27 -> 0 | AE27: =(AD27/100)*80 -> 0
A28: =IF(F28="","",1+MAX(A$10:A27)) | C28: 210 | D28: Herrichten Gelände | H28: 0 | I28: =-SUM(G28*H28) -> 0 | J28: =SUM(G28+I28) -> 0 | K28: =IF(ISERROR(VLOOKUP(AC28,Nachträge!$A$2:$Y$646,25,FALSE)),"",VLOOKUP(AC28,Nachträge!$A$2:$Y$646,25,FALSE)) | L28: 0 | M28: =-SUM(K28*L28) -> #VALUE! | N28: =SUM(K28+M28) -> #VALUE! | O28: =SUM(G28+K28) -> #VALUE! | P28: =SUM(J28+N28) -> #VALUE! | Q28: =SUMIFS(Zahlungsfreigabe!$J$12:$J$1000,Zahlungsfreigabe!$C$12:$C$1000,Baukosten!F28,Zahlungsfreigabe!$E$12:$E$1000,D28) -> 0 | R28: =(J28+K28)-Q28 -> #VALUE! | S28: =SUM(J28+K28) -> #VALUE! | T28: 0 | U28: =-SUM(J28+K28)*T28 -> #VALUE! | AC28: =IFERROR(A28,"") | AD28: =J28+K28 -> #VALUE! | AE28: =(AD28/100)*80 -> #VALUE!
A29: =IF(F29="","",1+MAX(A$10:A28)) | C29: 210 | D29: Herrichten Gelände | H29: 0 | I29: =-SUM(G29*H29) -> 0 | J29: =SUM(G29+I29) -> 0 | K29: =IF(ISERROR(VLOOKUP(AC29,Nachträge!$A$2:$Y$646,25,FALSE)),"",VLOOKUP(AC29,Nachträge!$A$2:$Y$646,25,FALSE)) | L29: 0 | M29: =-SUM(K29*L29) -> #VALUE! | N29: =SUM(K29+M29) -> #VALUE! | O29: =SUM(G29+K29) -> #VALUE! | P29: =SUM(J29+N29) -> #VALUE! | Q29: =SUMIFS(Zahlungsfreigabe!$J$12:$J$1000,Zahlungsfreigabe!$C$12:$C$1000,Baukosten!F29,Zahlungsfreigabe!$E$12:$E$1000,D29) -> 0 | R29: =(J29+K29)-Q29 -> #VALUE! | S29: =SUM(J29+K29) -> #VALUE! | T29: 0 | U29: =-SUM(J29+K29)*T29 -> #VALUE! | AC29: =IFERROR(A29,"") | AD29: =J29+K29 -> #VALUE! | AE29: =(AD29/100)*80 -> #VALUE!
A30: =IF(F30="","",1+MAX(A$10:A29)) | C30: 210 | D30: Herrichten Gelände | H30: 0 | I30: =-SUM(G30*H30) -> 0 | J30: =SUM(G30+I30) -> 0 | K30: =IF(ISERROR(VLOOKUP(AC30,Nachträge!$A$2:$Y$646,25,FALSE)),"",VLOOKUP(AC30,Nachträge!$A$2:$Y$646,25,FALSE)) | L30: 0 | M30: =-SUM(K30*L30) -> #VALUE! | N30: =SUM(K30+M30) -> #VALUE! | O30: =SUM(G30+K30) -> #VALUE! | P30: =SUM(J30+N30) -> #VALUE! | Q30: =SUMIFS(Zahlungsfreigabe!$J$12:$J$1000,Zahlungsfreigabe!$C$12:$C$1000,Baukosten!F30,Zahlungsfreigabe!$E$12:$E$1000,D30) -> 0 | R30: =(J30+K30)-Q30 -> #VALUE! | S30: =SUM(J30+K30) -> #VALUE! | T30: 0 | U30: =-SUM(J30+K30)*T30 -> #VALUE! | AC30: =IFERROR(A30,"") | AD30: =J30+K30 -> #VALUE! | AE30: =(AD30/100)*80 -> #VALUE!
A31: =IF(F31="","",1+MAX(A$10:A30)) | C31: 210 | D31: Herrichten Gelände | H31: 0 | I31: =-SUM(G31*H31) -> 0 | J31: =SUM(G31+I31) -> 0 | K31: =IF(ISERROR(VLOOKUP(AC31,Nachträge!$A$2:$Y$646,25,FALSE)),"",VLOOKUP(AC31,Nachträge!$A$2:$Y$646,25,FALSE)) | L31: 0 | M31: =-SUM(K31*L31) -> #VALUE! | N31: =SUM(K31+M31) -> #VALUE! | O31: =SUM(G31+K31) -> #VALUE! | P31: =SUM(J31+N31) -> #VALUE! | Q31: =SUMIFS(Zahlungsfreigabe!$J$12:$J$1000,Zahlungsfreigabe!$C$12:$C$1000,Baukosten!F31,Zahlungsfreigabe!$E$12:$E$1000,D31) -> 0 | R31: =(J31+K31)-Q31 -> #VALUE! | S31: =SUM(J31+K31) -> #VALUE! | T31: 0 | U31: =-SUM(J31+K31)*T31 -> #VALUE! | AC31: =IFERROR(A31,"") | AD31: =J31+K31 -> #VALUE! | AE31: =(AD31/100)*80 -> #VALUE!
A32: =IF(F32="","",1+MAX(A$10:A31)) | C32: 210 | D32: Herrichten Gelände | H32: 0 | I32: =-SUM(G32*H32) -> 0 | J32: =SUM(G32+I32) -> 0 | K32: =IF(ISERROR(VLOOKUP(AC32,Nachträge!$A$2:$Y$646,25,FALSE)),"",VLOOKUP(AC32,Nachträge!$A$2:$Y$646,25,FALSE)) | L32: 0 | M32: =-SUM(K32*L32) -> #VALUE! | N32: =SUM(K32+M32) -> #VALUE! | O32: =SUM(G32+K32) -> #VALUE! | P32: =SUM(J32+N32) -> #VALUE! | Q32: =SUMIFS(Zahlungsfreigabe!$J$12:$J$1000,Zahlungsfreigabe!$C$12:$C$1000,Baukosten!F32,Zahlungsfreigabe!$E$12:$E$1000,D32) -> 0 | R32: =(J32+K32)-Q32 -> #VALUE! | S32: =SUM(J32+K32) -> #VALUE! | T32: 0 | U32: =-SUM(J32+K32)*T32 -> #VALUE! | AC32: =IFERROR(A32,"") | AD32: =J32+K32 -> #VALUE! | AE32: =(AD32/100)*80 -> #VALUE!
A33: =IF(F33="","",1+MAX(A$10:A32)) | C33: 210 | D33: Herrichten Gelände | H33: 0 | I33: =-SUM(G33*H33) -> 0 | J33: =SUM(G33+I33) -> 0 | K33: =IF(ISERROR(VLOOKUP(AC33,Nachträge!$A$2:$Y$646,25,FALSE)),"",VLOOKUP(AC33,Nachträge!$A$2:$Y$646,25,FALSE)) | L33: 0 | M33: =-SUM(K33*L33) -> #VALUE! | N33: =SUM(K33+M33) -> #VALUE! | O33: =SUM(G33+K33) -> #VALUE! | P33: =SUM(J33+N33) -> #VALUE! | Q33: =SUMIFS(Zahlungsfreigabe!$J$12:$J$1000,Zahlungsfreigabe!$C$12:$C$1000,Baukosten!F33,Zahlungsfreigabe!$E$12:$E$1000,D33) -> 0 | R33: =(J33+K33)-Q33 -> #VALUE! | S33: =SUM(J33+K33) -> #VALUE! | T33: 0 | U33: =-SUM(J33+K33)*T33 -> #VALUE! | AC33: =IFERROR(A33,"") | AD33: =J33+K33 -> #VALUE! | AE33: =(AD33/100)*80 -> #VALUE!
A34: =IF(F34="","",1+MAX(A$10:A33)) | C34: 210 | D34: Herrichten Gelände | H34: 0 | I34: =-SUM(G34*H34) -> 0 | J34: =SUM(G34+I34) -> 0 | K34: =IF(ISERROR(VLOOKUP(AC34,Nachträge!$A$2:$Y$646,25,FALSE)),"",VLOOKUP(AC34,Nachträge!$A$2:$Y$646,25,FALSE)) | L34: 0 | M34: =-SUM(K34*L34) -> #VALUE! | N34: =SUM(K34+M34) -> #VALUE! | O34: =SUM(G34+K34) -> #VALUE! | P34: =SUM(J34+N34) -> #VALUE! | Q34: =SUMIFS(Zahlungsfreigabe!$J$12:$J$1000,Zahlungsfreigabe!$C$12:$C$1000,Baukosten!F34,Zahlungsfreigabe!$E$12:$E$1000,D34) -> 0 | R34: =(J34+K34)-Q34 -> #VALUE! | S34: =SUM(J34+K34) -> #VALUE! | T34: 0 | U34: =-SUM(J34+K34)*T34 -> #VALUE! | AC34: =IFERROR(A34,"") | AD34: =J34+K34 -> #VALUE! | AE34: =(AD34/100)*80 -> #VALUE!
A35: =IF(F35="","",1+MAX(A$10:A34)) | C35: 210 | D35: Herrichten Gelände | H35: 0 | I35: =-SUM(G35*H35) -> 0 | J35: =SUM(G35+I35) -> 0 | K35: =IF(ISERROR(VLOOKUP(AC35,Nachträge!$A$2:$Y$646,25,FALSE)),"",VLOOKUP(AC35,Nachträge!$A$2:$Y$646,25,FALSE)) | L35: 0 | M35: =-SUM(K35*L35) -> #VALUE! | N35: =SUM(K35+M35) -> #VALUE! | O35: =SUM(G35+K35) -> #VALUE! | P35: =SUM(J35+N35) -> #VALUE! | Q35: =SUMIFS(Zahlungsfreigabe!$J$12:$J$1000,Zahlungsfreigabe!$C$12:$C$1000,Baukosten!F35,Zahlungsfreigabe!$E$12:$E$1000,D35) -> 0 | R35: =(J35+K35)-Q35 -> #VALUE! | S35: =SUM(J35+K35) -> #VALUE! | T35: 0 | U35: =-SUM(J35+K35)*T35 -> #VALUE! | AC35: =IFERROR(A35,"") | AD35: =J35+K35 -> #VALUE! | AE35: =(AD35/100)*80 -> #VALUE!
A36: =IF(F36="","",1+MAX(A$10:A35)) | C36: 210 | D36: Herrichten Gelände | H36: 0 | I36: =-SUM(G36*H36) -> 0 | J36: =SUM(G36+I36) -> 0 | K36: =IF(ISERROR(VLOOKUP(AC36,Nachträge!$A$2:$Y$646,25,FALSE)),"",VLOOKUP(AC36,Nachträge!$A$2:$Y$646,25,FALSE)) | L36: 0 | M36: =-SUM(K36*L36) -> #VALUE! | N36: =SUM(K36+M36) -> #VALUE! | O36: =SUM(G36+K36) -> #VALUE! | P36: =SUM(J36+N36) -> #VALUE! | Q36: =SUMIFS(Zahlungsfreigabe!$J$12:$J$1000,Zahlungsfreigabe!$C$12:$C$1000,Baukosten!F36,Zahlungsfreigabe!$E$12:$E$1000,D36) -> 0 | R36: =(J36+K36)-Q36 -> #VALUE! | S36: =SUM(J36+K36) -> #VALUE! | T36: 0 | U36: =-SUM(J36+K36)*T36 -> #VALUE! | AC36: =IFERROR(A36,"") | AD36: =J36+K36 -> #VALUE! | AE36: =(AD36/100)*80 -> #VALUE!
A37: =IF(F37="","",1+MAX(A$10:A36)) | C37: 210 | D37: Herrichten Gelände | H37: 0 | I37: =-SUM(G37*H37) -> 0 | J37: =SUM(G37+I37) -> 0 | K37: =IF(ISERROR(VLOOKUP(AC37,Nachträge!$A$2:$Y$646,25,FALSE)),"",VLOOKUP(AC37,Nachträge!$A$2:$Y$646,25,FALSE)) | L37: 0 | M37: =-SUM(K37*L37) -> #VALUE! | N37: =SUM(K37+M37) -> #VALUE! | O37: =SUM(G37+K37) -> #VALUE! | P37: =SUM(J37+N37) -> #VALUE! | Q37: =SUMIFS(Zahlungsfreigabe!$J$12:$J$1000,Zahlungsfreigabe!$C$12:$C$1000,Baukosten!F37,Zahlungsfreigabe!$E$12:$E$1000,D37) -> 0 | R37: =(J37+K37)-Q37 -> #VALUE! | S37: =SUM(J37+K37) -> #VALUE! | T37: 0 | U37: =-SUM(J37+K37)*T37 -> #VALUE! | AC37: =IFERROR(A37,"") | AD37: =J37+K37 -> #VALUE! | AE37: =(AD37/100)*80 -> #VALUE!
A38: =IF(F38="","",1+MAX(A$10:A37)) | C38: 210 | D38: Herrichten Gelände | H38: 0 | I38: =-SUM(G38*H38) -> 0 | J38: =SUM(G38+I38) -> 0 | K38: =IF(ISERROR(VLOOKUP(AC38,Nachträge!$A$2:$Y$646,25,FALSE)),"",VLOOKUP(AC38,Nachträge!$A$2:$Y$646,25,FALSE)) | L38: 0 | M38: =-SUM(K38*L38) -> #VALUE! | N38: =SUM(K38+M38) -> #VALUE! | O38: =SUM(G38+K38) -> #VALUE! | P38: =SUM(J38+N38) -> #VALUE! | Q38: =SUMIFS(Zahlungsfreigabe!$J$12:$J$1000,Zahlungsfreigabe!$C$12:$C$1000,Baukosten!F38,Zahlungsfreigabe!$E$12:$E$1000,D38) -> 0 | R38: =(J38+K38)-Q38 -> #VALUE! | S38: =SUM(J38+K38) -> #VALUE! | T38: 0 | U38: =-SUM(J38+K38)*T38 -> #VALUE! | AC38: =IFERROR(A38,"") | AD38: =J38+K38 -> #VALUE! | AE38: =(AD38/100)*80 -> #VALUE!
A39: =IF(F39="","",1+MAX(A$10:A38)) | C39: 210 | D39: Herrichten Gelände | H39: 0 | I39: =-SUM(G39*H39) -> 0 | J39: =SUM(G39+I39) -> 0 | K39: =IF(ISERROR(VLOOKUP(AC39,Nachträge!$A$2:$Y$646,25,FALSE)),"",VLOOKUP(AC39,Nachträge!$A$2:$Y$646,25,FALSE)) | L39: 0 | M39: =-SUM(K39*L39) -> #VALUE! | N39: =SUM(K39+M39) -> #VALUE! | O39: =SUM(G39+K39) -> #VALUE! | P39: =SUM(J39+N39) -> #VALUE! | Q39: =SUMIFS(Zahlungsfreigabe!$J$12:$J$1000,Zahlungsfreigabe!$C$12:$C$1000,Baukosten!F39,Zahlungsfreigabe!$E$12:$E$1000,D39) -> 0 | R39: =(J39+K39)-Q39 -> #VALUE! | S39: =SUM(J39+K39) -> #VALUE! | T39: 0 | U39: =-SUM(J39+K39)*T39 -> #VALUE! | AC39: =IFERROR(A39,"") | AD39: =J39+K39 -> #VALUE! | AE39: =(AD39/100)*80 -> #VALUE!
... A349: =IF(F349="","",1+MAX(A$10:A348)) | C349: 259 | D349: Sonstiges zur KG 250 | H349: 0 | I349: =-SUM(G349*H349) -> 0 | J349: =SUM(G349+I349) -> 0 | K349: =IF(ISERROR(VLOOKUP(AC349,Nachträge!$A$2:$Y$646,25,FALSE)),"",VLOOKUP(AC349,Nachträge!$A$2:$Y$646,25,FALSE)) | L349: 0 | M349: =-SUM(K349*L349) -> #VALUE! | N349: =SUM(K349+M349) -> #VALUE! | O349: =SUM(G349+K349) -> #VALUE! | P349: =SUM(J349+N349) -> #VALUE! | Q349: =SUMIFS(Zahlungsfreigabe!$J$12:$J$1000,Zahlungsfreigabe!$C$12:$C$1000,Baukosten!F349,Zahlungsfreigabe!$E$12:$E$1000,D349) -> 0 | R349: =(J349+K349)-Q349 -> #VALUE! | S349: =SUM(J349+K349) -> #VALUE! | T349: 0 | U349: =-SUM(J349+K349)*T349 -> #VALUE! | AC349: =IFERROR(A349,"") | AD349: =J349+K349 -> #VALUE! | AE349: =(AD349/100)*80 -> #VALUE!
A350: =IF(F350="","",1+MAX(A$10:A349)) | C350: Summe | E350: =SUM(E28:E349) -> 0 | G350: =SUM(G28:G349) -> 0 | I350: =-SUM(I28:I349) -> 0 | J350: =SUM(J28:J349) -> 0 | K350: =SUM(K28:K349) -> 0 | M350: =-SUM(M28:M349) -> #VALUE! | N350: =SUM(N28:N349) -> #VALUE! | O350: =SUM(O28:O349) -> #VALUE! | P350: =SUM(P28:P349) -> #VALUE! | Q350: =SUM(Q28:Q349) -> 0 | R350: =SUM(R28:R349) -> #VALUE! | S350: =SUM(S28:S349) -> #VALUE! | U350: =-SUM(U28:U349) -> #VALUE! | AC350: =IFERROR(A350,"") | AD350: =J350+K350 -> 0 | AE350: =(AD350/100)*80 -> 0
A351: =IF(F351="","",1+MAX(A$10:A350)) | B351: 300 | C351: Bauwerk Konstruktion | AC351: =IFERROR(A351,"") | AD351: =J351+K351 -> 0 | AE351: =(AD351/100)*80 -> 0
A352: =IF(F352="","",1+MAX(A$10:A351)) | C352: 300 | D352: Baustelleneinrichtung | H352: 0 | I352: =-SUM(G352*H352) -> 0 | J352: =SUM(G352+I352) -> 0 | K352: =IF(ISERROR(VLOOKUP(AC352,Nachträge!$A$2:$Y$646,25,FALSE)),"",VLOOKUP(AC352,Nachträge!$A$2:$Y$646,25,FALSE)) | L352: 0 | M352: =-SUM(K352*L352) -> #VALUE! | N352: =SUM(K352+M352) -> #VALUE! | O352: =SUM(G352+K352) -> #VALUE! | P352: =SUM(J352+N352) -> #VALUE! | Q352: =SUMIFS(Zahlungsfreigabe!$K$12:$K$1000,Zahlungsfreigabe!$C$12:$C$1000,Baukosten!F352,Zahlungsfreigabe!$E$12:$E$1000,D352) -> 0 | R352: =(J352+K352)-Q352 -> #VALUE! | S352: =SUM(J352+K352) -> #VALUE! | T352: 0 | U352: =-SUM(J352+K352)*T352 -> #VALUE! | AC352: =IFERROR(A352,"") | AD352: =J352+K352 -> #VALUE! | AE352: =(AD352/100)*80 -> #VALUE!
A353: =IF(F353="","",1+MAX(A$10:A352)) | C353: 300 | D353: Baustelleneinrichtung | H353: 0 | I353: =-SUM(G353*H353) -> 0 | J353: =SUM(G353+I353) -> 0 | K353: =IF(ISERROR(VLOOKUP(AC353,Nachträge!$A$2:$Y$646,25,FALSE)),"",VLOOKUP(AC353,Nachträge!$A$2:$Y$646,25,FALSE)) | L353: 0 | M353: =-SUM(K353*L353) -> #VALUE! | N353: =SUM(K353+M353) -> #VALUE! | O353: =SUM(G353+K353) -> #VALUE! | P353: =SUM(J353+N353) -> #VALUE! | Q353: =SUMIFS(Zahlungsfreigabe!$K$12:$K$1000,Zahlungsfreigabe!$C$12:$C$1000,Baukosten!F353,Zahlungsfreigabe!$E$12:$E$1000,D353) -> 0 | R353: =(J353+K353)-Q353 -> #VALUE! | S353: =SUM(J353+K353) -> #VALUE! | T353: 0 | U353: =-SUM(J353+K353)*T353 -> #VALUE! | AC353: =IFERROR(A353,"") | AD353: =J353+K353 -> #VALUE! | AE353: =(AD353/100)*80 -> #VALUE!
...

Sheet Zahlungsfreigabe
C3: Bauvorhaben: | E3: Bauherr: | H3: Projekt: | I3: =Baukosten!E7 -> 0 | O3: entwurf und bauleitung:
C4: =Baukosten!E3 -> 0 | E4: =Baukosten!E5 -> 0
C5: =Baukosten!E6 -> 0
C7: Liste aller Zahlungsfreigaben
B9: Stand: | C9: 43881
B10: Aufteilung der Schluss- und Einzelzahlungen gemäß DIN 276 neu
B11: Nr. | C11: Auftragnehmer | D11: AR / SR | E11: wofür | F11: Datum Freigabe | G11: heute freigegebene Abschlags-, Schluss- und Einzelzahlungen Brutto | H11: MwSt. | I11: 100 - 199 Grundstück netto | J11: 200 - 299 Herrichten und Erschließen netto | K11: 300 - 399 Bauwerk - Baukonstruktion netto | L11: 400 - 499 Bauwerk - Technische Anlagen netto | M11: 500 - 599 Außenanlagen netto | N11: 600 - 699 Ausstattung und Kunstwerke netto | O11: 700 - 799 Baunebenkosten netto | P11: Bemerkung
C12: franz | E12: Prüfungen, Genehmigungen, Abnahmen | G12: 50 | H12: 0.19 | O12: 100
H13: 0.19
H14: 0.19
H15: 0.19
H16: 0.19
H17: 0.19
H18: 0.19
H19: 0.19
H20: 0.19
H21: 0.19
H22: 0.19
H23: 0.19
H24: 0.19
... H978: 0.19

Sheet Nachträge
A1: Pos. | B1: Firma | C1: Gewerk | D1: Nachtrag 1 | E1: Nachtrag 2 | F1: Nachtrag 3 | G1: Nachtrag 4 | H1: Nachtrag 5 | I1: Nachtrag 6 | J1: Nachtrag 7 | K1: Nachtrag 8 | L1: Nachtrag 9 | M1: Nachtrag 10 | N1: Nachtrag 11 | O1: Nachtrag 12 | P1: Nachtrag 13 | Q1: Nachtrag 14 | R1: Nachtrag 15 | S1: Nachtrag 16 | T1: Nachtrag 17 | U1: Nachtrag 18 | V1: Nachtrag 19 | W1: Nachtrag 20 | X1: Nachtrag 21 | Y1: Nachtrag Summe | Z1: Bemerkung
A2: 1 | B2: =IF(ISERROR(VLOOKUP(A2,Baukosten!$A$10:$F$1164,6,FALSE)),"",VLOOKUP(A2,Baukosten!$A$10:$F$1164,6,FALSE)) | C2: =IF(ISERROR(VLOOKUP(A2,Baukosten!$A$10:$F$1164,4,FALSE)),"",VLOOKUP(A2,Baukosten!$A$10:$F$1164,4,FALSE)) | Y2: =SUM(D2:X2) -> 0 | Z2: moin
A3: 2 | B3: =IF(ISERROR(VLOOKUP(A3,Baukosten!$A$10:$F$1164,6,FALSE)),"",VLOOKUP(A3,Baukosten!$A$10:$F$1164,6,FALSE)) | C3: =IF(ISERROR(VLOOKUP(A3,Baukosten!$A$10:$F$1164,4,FALSE)),"",VLOOKUP(A3,Baukosten!$A$10:$F$1164,4,FALSE)) | Y3: =SUM(D3:X3) -> 0
A4: 3 | B4: =IF(ISERROR(VLOOKUP(A4,Baukosten!$A$10:$F$1164,6,FALSE)),"",VLOOKUP(A4,Baukosten!$A$10:$F$1164,6,FALSE)) | C4: =IF(ISERROR(VLOOKUP(A4,Baukosten!$A$10:$F$1164,4,FALSE)),"",VLOOKUP(A4,Baukosten!$A$10:$F$1164,4,FALSE)) | Y4: =SUM(D4:X4) -> 0
A5: 4 | B5: =IF(ISERROR(VLOOKUP(A5,Baukosten!$A$10:$F$1164,6,FALSE)),"",VLOOKUP(A5,Baukosten!$A$10:$F$1164,6,FALSE)) | C5: =IF(ISERROR(VLOOKUP(A5,Baukosten!$A$10:$F$1164,4,FALSE)),"",VLOOKUP(A5,Baukosten!$A$10:$F$1164,4,FALSE)) | Y5: =SUM(D5:X5) -> 0
A6: 5 | B6: =IF(ISERROR(VLOOKUP(A6,Baukosten!$A$10:$F$1164,6,FALSE)),"",VLOOKUP(A6,Baukosten!$A$10:$F$1164,6,FALSE)) | C6: =IF(ISERROR(VLOOKUP(A6,Baukosten!$A$10:$F$1164,4,FALSE)),"",VLOOKUP(A6,Baukosten!$A$10:$F$1164,4,FALSE)) | Y6: =SUM(D6:X6) -> 0
A7: 6 | B7: =IF(ISERROR(VLOOKUP(A7,Baukosten!$A$10:$F$1164,6,FALSE)),"",VLOOKUP(A7,Baukosten!$A$10:$F$1164,6,FALSE)) | C7: =IF(ISERROR(VLOOKUP(A7,Baukosten!$A$10:$F$1164,4,FALSE)),"",VLOOKUP(A7,Baukosten!$A$10:$F$1164,4,FALSE)) | Y7: =SUM(D7:X7) -> 0
A8: 7 | B8: =IF(ISERROR(VLOOKUP(A8,Baukosten!$A$10:$F$1164,6,FALSE)),"",VLOOKUP(A8,Baukosten!$A$10:$F$1164,6,FALSE)) | C8: =IF(ISERROR(VLOOKUP(A8,Baukosten!$A$10:$F$1164,4,FALSE)),"",VLOOKUP(A8,Baukosten!$A$10:$F$1164,4,FALSE)) | Y8: =SUM(D8:X8) -> 0
A9: 8 | B9: =IF(ISERROR(VLOOKUP(A9,Baukosten!$A$10:$F$1164,6,FALSE)),"",VLOOKUP(A9,Baukosten!$A$10:$F$1164,6,FALSE)) | C9: =IF(ISERROR(VLOOKUP(A9,Baukosten!$A$10:$F$1164,4,FALSE)),"",VLOOKUP(A9,Baukosten!$A$10:$F$1164,4,FALSE)) | Y9: =SUM(D9:X9) -> 0
A10: 9 | B10: =IF(ISERROR(VLOOKUP(A10,Baukosten!$A$10:$F$1164,6,FALSE)),"",VLOOKUP(A10,Baukosten!$A$10:$F$1164,6,FALSE)) | C10: =IF(ISERROR(VLOOKUP(A10,Baukosten!$A$10:$F$1164,4,FALSE)),"",VLOOKUP(A10,Baukosten!$A$10:$F$1164,4,FALSE)) | Y10: =SUM(D10:X10) -> 0
A11: 10 | B11: =IF(ISERROR(VLOOKUP(A11,Baukosten!$A$10:$F$1164,6,FALSE)),"",VLOOKUP(A11,Baukosten!$A$10:$F$1164,6,FALSE)) | C11: =IF(ISERROR(VLOOKUP(A11,Baukosten!$A$10:$F$1164,4,FALSE)),"",VLOOKUP(A11,Baukosten!$A$10:$F$1164,4,FALSE)) | Y11: =SUM(D11:X11) -> 0
A12: 11 | B12: =IF(ISERROR(VLOOKUP(A12,Baukosten!$A$10:$F$1164,6,FALSE)),"",VLOOKUP(A12,Baukosten!$A$10:$F$1164,6,FALSE)) | C12: =IF(ISERROR(VLOOKUP(A12,Baukosten!$A$10:$F$1164,4,FALSE)),"",VLOOKUP(A12,Baukosten!$A$10:$F$1164,4,FALSE)) | Y12: =SUM(D12:X12) -> 0
A13: 12 | B13: =IF(ISERROR(VLOOKUP(A13,Baukosten!$A$10:$F$1164,6,FALSE)),"",VLOOKUP(A13,Baukosten!$A$10:$F$1164,6,FALSE)) | C13: =IF(ISERROR(VLOOKUP(A13,Baukosten!$A$10:$F$1164,4,FALSE)),"",VLOOKUP(A13,Baukosten!$A$10:$F$1164,4,FALSE)) | Y13: =SUM(D13:X13) -> 0
A14: 13 | B14: =IF(ISERROR(VLOOKUP(A14,Baukosten!$A$10:$F$1164,6,FALSE)),"",VLOOKUP(A14,Baukosten!$A$10:$F$1164,6,FALSE)) | C14: =IF(ISERROR(VLOOKUP(A14,Baukosten!$A$10:$F$1164,4,FALSE)),"",VLOOKUP(A14,Baukosten!$A$10:$F$1164,4,FALSE)) | Y14: =SUM(D14:X14) -> 0
... A648: 647 | B648: =IF(ISERROR(VLOOKUP(A648,Baukosten!$A$10:$F$1164,6,FALSE)),"",VLOOKUP(A648,Baukosten!$A$10:$F$1164,6,FALSE)) | C648: =IF(ISERROR(VLOOKUP(A648,Baukosten!$A$10:$F$1164,4,FALSE)),"",VLOOKUP(A648,Baukosten!$A$10:$F$1164,4,FALSE)) | Y648: =SUM(D648:X648) -> 0

Sheet !Formeln!
A1: Wenn Firma vorhanden dann zähle fortlaufen
A2: ZÄHLENWENN(Baukosten!$F$11:F11;"*") | L2: =IF(M2="","",MAX(INDEX(L:L,1):INDEX(L:L,ROW()-1))+1) -> 1 | M2: f
A3: ZÄHLENWENN(Baukosten!$F$11:F12;"*") | L3: =IF(M3="","",MAX(INDEX(L:L,1):INDEX(L:L,ROW()-1))+1)
K4: f | L4: =IF(M4="","",MAX(INDEX(L:L,1):INDEX(L:L,ROW()-1))+1) -> 2 | M4: g
L5: =IF(M5="","",MAX(INDEX(L:L,1):INDEX(L:L,ROW()-1))+1) -> 3 | M5: f
K6: f | L6: =IF(M6="","",MAX(INDEX(L:L,1):INDEX(L:L,ROW()-1))+1)
L7: =IF(M7="","",MAX(INDEX(L:L,1):INDEX(L:L,ROW()-1))+1) -> 4 | M7: b
K8: f | L8: =IF(M8="","",MAX(INDEX(L:L,1):INDEX(L:L,ROW()-1))+1)
L9: =IF(M9="","",MAX(INDEX(L:L,1):INDEX(L:L,ROW()-1))+1)
L10: =IF(M10="","",MAX(INDEX(L:L,1):INDEX(L:L,ROW()-1))+1)
L11: =IF(M11="","",MAX(INDEX(L:L,1):INDEX(L:L,ROW()-1))+1)
L12: =IF(M12="","",MAX(INDEX(L:L,1):INDEX(L:L,ROW()-1))+1)
C13: WENN(B19="";"";1+MAX(A$18:A18)) | L13: =IF(M13="","",MAX(INDEX(L:L,1):INDEX(L:L,ROW()-1))+1)
C14: WENN(B20="";"";1+MAX(A$18:A19)) | L14: =IF(M14="","",MAX(INDEX(L:L,1):INDEX(L:L,ROW()-1))+1)
C15: (zählen für firmeneinträge) | L15: =IF(M15="","",MAX(INDEX(L:L,1):INDEX(L:L,ROW()-1))+1)
L16: =IF(M16="","",MAX(INDEX(L:L,1):INDEX(L:L,ROW()-1))+1)
L17: =IF(M17="","",MAX(INDEX(L:L,1):INDEX(L:L,ROW()-1))+1)
L18: =IF(M18="","",MAX(INDEX(L:L,1):INDEX(L:L,ROW()-1))+1)
C19: WENN(ISTLEER($J$11);"";SVERWEIS($J$11;TABELLE1!$D$5:$BP$100;SPALTEN(TABELLE1!$D:$AV);FALSCH)) | L19: =IF(M19="","",MAX(INDEX(L:L,1):INDEX(L:L,ROW()-1))+1)
C20: wenn(istleer(A2);"";SVERWEIS(A2;Baukosten!A10:F1164;4;FALSCH) | L20: =IF(M20="","",MAX(INDEX(L:L,1):INDEX(L:L,ROW()-1))+1)
L21: =IF(M21="","",MAX(INDEX(L:L,1):INDEX(L:L,ROW()-1))+1)
L22: =IF(M22="","",MAX(INDEX(L:L,1):INDEX(L:L,ROW()-1))+1)
C23: WENN(ISTFEHLER(SVERWEIS(AC11;Nachträge!$A$2:$Y$646;25;FALSCH));"";SVERWEIS(AC11;Nachträge!$A$2:$Y$646;25;FALSCH)) | L23: =IF(M23="","",MAX(INDEX(K:K,1):INDEX(K:K,ROW()-1))+1)
C24: (Nachtragssumme) | L24: =IF(M24="","",MAX(INDEX(K:K,1):INDEX(K:K,ROW()-1))+1)
L25: =IF(M25="","",MAX(INDEX(K:K,1):INDEX(K:K,ROW()-1))+1)

Sheet Pivot
