Workbook
Name Firma_Kostenfortschr.: [1]Kostenfortschr.!$D$10:$D$50

Sheet Baukosten
B1: 1. Kostenschätzung nach DIN 276 6.93 | AC1: Formel | AD1: Formel | AE1: formel
B3: Bauvorhaben:
B4: Bauort:
B5: Bauherr:
B7: Projekt-Nr.:
C8: Stand: | D8: 43874 | N8: Nachtragf abzgl. Nachlass | O8: ohne Nachlass | P8: abzgl. Nachlass
A9: NR. | B9: KGR. | D9: Gewerk | E9: Schätzung | F9: Firma | G9: Angebot | H9: Nachlass (NL) | J9: Auftragsumme | K9: Nachträge | L9: Nachlass | N9: Nachtrags- summe | O9: Nachtrag + Angebot | P9: Nachtrag + Angebot | Q9: freigegeben | R9: noch zu zahlen | S9: abgerechnet* | T9: Skonto | W9: Bemerkung
B10: 100 | C10: Grundstück
A11: =IF(F11="","",1+MAX(A$10:A10)) | C11: 110 | D11: Grundstückswert | H11: 0 | I11: =-SUM(G11*H11) -> 0 | J11: =SUM(G11+I11) -> 0 | K11: =IF(ISERROR(VLOOKUP(AC11,Nachträge!$A$2:$Y$646,25,FALSE)),"",VLOOKUP(AC11,Nachträge!$A$2:$Y$646,25,FALSE)) | L11: 0 | M11: =-SUM(K11*L11) -> #VALUE! | N11: =SUM(K11+M11) -> #VALUE! | O11: =SUM(G11+K11) -> #VALUE! | P11: =SUM(J11+N11) -> #VALUE! | Q11: =SUMIFS(Zahlungsfreigabe!$I$12:$I$1000,Zahlungsfreigabe!$C$12:$C$1000,Baukosten!F11,Zahlungsfreigabe!$E$12:$E$1000,D11) -> 0 | R11: =(J11+K11)-Q11 -> #VALUE! | S11: =SUM(J11+K11) -> #VALUE! | T11: 0 | U11: =-SUM(J11+K11)*T11 -> #VALUE! | AC11: =IFERROR(A11,"") | AD11: =J11+K11 -> #VALUE! | AE11: =(AD11/100)*80 -> #VALUE!
A12: =IF(F12="","",1+MAX(A$10:A11)) | C12: 120 | D12: Grundstücksnebenkosten | H12: 0 | I12: =-SUM(G12*H12) -> 0 | J12: =SUM(G12+I12) -> 0 | K12: =IF(ISERROR(VLOOKUP(AC12,Nachträge!$A$2:$Y$646,25,FALSE)),"",VLOOKUP(AC12,Nachträge!$A$2:$Y$646,25,FALSE)) | L12: 0 | M12: =-SUM(K12*L12) -> #VALUE! | N12: =SUM(K12+M12) -> #VALUE! | O12: =SUM(G12+K12) -> #VALUE! | P12: =SUM(J12+N12) -> #VALUE! | Q12: =SUMIFS(Zahlungsfreigabe!$I$12:$I$1000,Zahlungsfreigabe!$C$12:$C$1000,Baukosten!F12,Zahlungsfreigabe!$E$12:$E$1000,D12) -> 0 | R12: =(J12+K12)-Q12 -> #VALUE! | S12: =SUM(J12+K12) -> #VALUE! | T12: 0 | U12: =-SUM(J12+K12)*T12 -> #VALUE! | AC12: =IFERROR(A12,"") | AD12: =J12+K12 -> #VALUE! | AE12: =(AD12/100)*80 -> #VALUE!
A13: =IF(F13="","",1+MAX(A$10:A12)) | C13: 121 | D13: Vermessungsgebühren | H13: 0 | I13: =-SUM(G13*H13) -> 0 | J13: =SUM(G13+I13) -> 0 | K13: =IF(ISERROR(VLOOKUP(AC13,Nachträge!$A$2:$Y$646,25,FALSE)),"",VLOOKUP(AC13,Nachträge!$A$2:$Y$646,25,FALSE)) | L13: 0 | M13: =-SUM(K13*L13) -> #VALUE! | N13: =SUM(K13+M13) -> #VALUE! | O13: =SUM(G13+K13) -> #VALUE! | P13: =SUM(J13+N13) -> #VALUE! | Q13: =SUMIFS(Zahlungsfreigabe!$I$12:$I$1000,Zahlungsfreigabe!$C$12:$C$1000,Baukosten!F13,Zahlungsfreigabe!$E$12:$E$1000,D13) -> 0 | R13: =(J13+K13)-Q13 -> #VALUE! | S13: =SUM(J13+K13) -> #VALUE! | T13: 0 | U13: =-SUM(J13+K13)*T13 -> #VALUE! | AC13: =IFERROR(A13,"") | AD13: =J13+K13 -> #VALUE! | AE13: =(AD13/100)*80 -> #VALUE!
A14: =IF(F14="","",1+MAX(A$10:A13)) | C14: 122 | D14: Gerichtsgebühren | H14: 0 | I14: =-SUM(G14*H14) -> 0 | J14: =SUM(G14+I14) -> 0 | K14: =IF(ISERROR(VLOOKUP(AC14,Nachträge!$A$2:$Y$646,25,FALSE)),"",VLOOKUP(AC14,Nachträge!$A$2:$Y$646,25,FALSE)) | L14: 0 | M14: =-SUM(K14*L14) -> #VALUE! | N14: =SUM(K14+M14) -> #VALUE! | O14: =SUM(G14+K14) -> #VALUE! | P14: =SUM(J14+N14) -> #VALUE! | Q14: =SUMIFS(Zahlungsfreigabe!$I$12:$I$1000,Zahlungsfreigabe!$C$12:$C$1000,Baukosten!F14,Zahlungsfreigabe!$E$12:$E$1000,D14) -> 0 | R14: =(J14+K14)-Q14 -> #VALUE! | S14: =SUM(J14+K14) -> #VALUE! | T14: 0 | U14: =-SUM(J14+K14)*T14 -> #VALUE! | AC14: =IFERROR(A14,"") | AD14: =J14+K14 -> #VALUE! | AE14: =(AD14/100)*80 -> #VALUE!
A15: =IF(F15="","",1+MAX(A$10:A14)) | C15: 123 | D15: Notargebühren | H15: 0 | I15: =-SUM(G15*H15) -> 0 | J15: =SUM(G15+I15) -> 0 | K15: =IF(ISERROR(VLOOKUP(AC15,Nachträge!$A$2:$Y$646,25,FALSE)),"",VLOOKUP(AC15,Nachträge!$A$2:$Y$646,25,FALSE)) | L15: 0 | M15: =-SUM(K15*L15) -> #VALUE! | N15: =SUM(K15+M15) -> #VALUE! | O15: =SUM(G15+K15) -> #VALUE! | P15: =SUM(J15+N15) -> #VALUE! | Q15: =SUMIFS(Zahlungsfreigabe!$I$12:$I$1000,Zahlungsfreigabe!$C$12:$C$1000,Baukosten!F15,Zahlungsfreigabe!$E$12:$E$1000,D15) -> 0 | R15: =(J15+K15)-Q15 -> #VALUE! | S15: =SUM(J15+K15) -> #VALUE! | T15: 0 | U15: =-SUM(J15+K15)*T15 -> #VALUE! | AC15: =IFERROR(A15,"") | AD15: =J15+K15 -> #VALUE! | AE15: =(AD15/100)*80 -> #VALUE!
A16: =IF(F16="","",1+MAX(A$10:A15)) | C16: 124 | D16: Grunderwerbssteuer | H16: 0 | I16: =-SUM(G16*H16) -> 0 | J16: =SUM(G16+I16) -> 0 | K16: =IF(ISERROR(VLOOKUP(AC16,Nachträge!$A$2:$Y$646,25,FALSE)),"",VLOOKUP(AC16,Nachträge!$A$2:$Y$646,25,FALSE)) | L16: 0 | M16: =-SUM(K16*L16) -> #VALUE! | N16: =SUM(K16+M16) -> #VALUE! | O16: =SUM(G16+K16) -> #VALUE! | P16: =SUM(J16+N16) -> #VALUE! | Q16: =SUMIFS(Zahlungsfreigabe!$I$12:$I$1000,Zahlungsfreigabe!$C$12:$C$1000,Baukosten!F16,Zahlungsfreigabe!$E$12:$E$1000,D16) -> 0 | R16: =(J16+K16)-Q16 -> #VALUE! | S16: =SUM(J16+K16) -> #VALUE! | T16: 0 | U16: =-SUM(J16+K16)*T16 -> #VALUE! | AC16: =IFERROR(A16,"") | AD16: =J16+K16 -> #VALUE! | AE16: =(AD16/100)*80 -> #VALUE!
A17: =IF(F17="","",1+MAX(A$10:A16)) | C17: 125 | D17: Untersuchungen | H17: 0 | I17: =-SUM(G17*H17) -> 0 | J17: =SUM(G17+I17) -> 0 | K17: =IF(ISERROR(VLOOKUP(AC17,Nachträge!$A$2:$Y$646,25,FALSE)),"",VLOOKUP(AC17,Nachträge!$A$2:$Y$646,25,FALSE)) | L17: 0 | M17: =-SUM(K17*L17) -> #VALUE! | N17: =SUM(K17+M17) -> #VALUE! | O17: =SUM(G17+K17) -> #VALUE! | P17: =SUM(J17+N17) -> #VALUE! | Q17: =SUMIFS(Zahlungsfreigabe!$I$12:$I$1000,Zahlungsfreigabe!$C$12:$C$1000,Baukosten!F17,Zahlungsfreigabe!$E$12:$E$1000,D17) -> 0 | R17: =(J17+K17)-Q17 -> #VALUE! | S17: =SUM(J17+K17) -> #VALUE! | T17: 0 | U17: =-SUM(J17+K17)*T17 -> #VALUE! | AC17: =IFERROR(A17,"") | AD17: =J17+K17 -> #VALUE! | AE17: =(AD17/100)*80 -> #VALUE!
A18: =IF(F18="","",1+MAX(A$10:A17)) | C18: 126 | D18: Wertermittlungen | H18: 0 | I18: =-SUM(G18*H18) -> 0 | J18: =SUM(G18+I18) -> 0 | K18: =IF(ISERROR(VLOOKUP(AC18,Nachträge!$A$2:$Y$646,25,FALSE)),"",VLOOKUP(AC18,Nachträge!$A$2:$Y$646,25,FALSE)) | L18: 0 | M18: =-SUM(K18*L18) -> #VALUE! | N18: =SUM(K18+M18) -> #VALUE! | O18: =SUM(G18+K18) -> #VALUE! | P18: =SUM(J18+N18) -> #VALUE! | Q18: =SUMIFS(Zahlungsfreigabe!$I$12:$I$1000,Zahlungsfreigabe!$C$12:$C$1000,Baukosten!F18,Zahlungsfreigabe!$E$12:$E$1000,D18) -> 0 | R18: =(J18+K18)-Q18 -> #VALUE! | S18: =SUM(J18+K18) -> #VALUE! | T18: 0 | U18: =-SUM(J18+K18)*T18 -> #VALUE! | AC18: =IFERROR(A18,"") | AD18: =J18+K18 -> #VALUE! | AE18: =(AD18/100)*80 -> #VALUE!
A19: =IF(F19="","",1+MAX(A$10:A18)) | C19: 127 | D19: Genehmigungsgebühren | H19: 0 | I19: =-SUM(G19*H19) -> 0 | J19: =SUM(G19+I19) -> 0 | K19: =IF(ISERROR(VLOOKUP(AC19,Nachträge!$A$2:$Y$646,25,FALSE)),"",VLOOKUP(AC19,Nachträge!$A$2:$Y$646,25,FALSE)) | L19: 0 | M19: =-SUM(K19*L19) -> #VALUE! | N19: =SUM(K19+M19) -> #VALUE! | O19: =SUM(G19+K19) -> #VALUE! | P19: =SUM(J19+N19) -> #VALUE! | Q19: =SUMIFS(Zahlungsfreigabe!$I$12:$I$1000,Zahlungsfreigabe!$C$12:$C$1000,Baukosten!F19,Zahlungsfreigabe!$E$12:$E$1000,D19) -> 0 | R19: =(J19+K19)-Q19 -> #VALUE! | S19: =SUM(J19+K19) -> #VALUE! | T19: 0 | U19: =-SUM(J19+K19)*T19 -> #VALUE! | AC19: =IFERROR(A19,"") | AD19: =J19+K19 -> #VALUE! | AE19: =(AD19/100)*80 -> #VALUE!
A20: =IF(F20="","",1+MAX(A$10:A19)) | C20: 128 | D20: Bodenordnung | H20: 0 | I20: =-SUM(G20*H20) -> 0 | J20: =SUM(G20+I20) -> 0 | K20: =IF(ISERROR(VLOOKUP(AC20,Nachträge!$A$2:$Y$646,25,FALSE)),"",VLOOKUP(AC20,Nachträge!$A$2:$Y$646,25,FALSE)) | L20: 0 | M20: =-SUM(K20*L20) -> #VALUE! | N20: =SUM(K20+M20) -> #VALUE! | O20: =SUM(G20+K20) -> #VALUE! | P20: =SUM(J20+N20) -> #VALUE! | Q20: =SUMIFS(Zahlungsfreigabe!$I$12:$I$1000,Zahlungsfreigabe!$C$12:$C$1000,Baukosten!F20,Zahlungsfreigabe!$E$12:$E$1000,D20) -> 0 | R20: =(J20+K20)-Q20 -> #VALUE! | S20: =SUM(J20+K20) -> #VALUE! | T20: 0 | U20: =-SUM(J20+K20)*T20 -> #VALUE! | AC20: =IFERROR(A20,"") | AD20: =J20+K20 -> #VALUE! | AE20: =(AD20/100)*80 -> #VALUE!
A21: =IF(F21="","",1+MAX(A$10:A20)) | C21: 129 | D21: Sonstige zur KG 120 | H21: 0 | I21: =-SUM(G21*H21) -> 0 | J21: =SUM(G21+I21) -> 0 | K21: =IF(ISERROR(VLOOKUP(AC21,Nachträge!$A$2:$Y$646,25,FALSE)),"",VLOOKUP(AC21,Nachträge!$A$2:$Y$646,25,FALSE)) | L21: 0 | M21: =-SUM(K21*L21) -> #VALUE! | N21: =SUM(K21+M21) -> #VALUE! | O21: =SUM(G21+K21) -> #VALUE! | P21: =SUM(J21+N21) -> #VALUE! | Q21: =SUMIFS(Zahlungsfreigabe!$I$12:$I$1000,Zahlungsfreigabe!$C$12:$C$1000,Baukosten!F21,Zahlungsfreigabe!$E$12:$E$1000,D21) -> 0 | R21: =(J21+K21)-Q21 -> #VALUE! | S21: =SUM(J21+K21) -> #VALUE! | T21: 0 | U21: =-SUM(J21+K21)*T21 -> #VALUE! | AC21: =IFERROR(A21,"") | AD21: =J21+K21 -> #VALUE! | AE21: =(AD21/100)*80 -> #VALUE!
A22: =IF(F22="","",1+MAX(A$10:A21)) | C22: 130 | D22: Rechte Dritter | H22: 0 | I22: =-SUM(G22*H22) -> 0 | J22: =SUM(G22+I22) -> 0 | K22: =IF(ISERROR(VLOOKUP(AC22,Nachträge!$A$2:$Y$646,25,FALSE)),"",VLOOKUP(AC22,Nachträge!$A$2:$Y$646,25,FALSE)) | L22: 0 | M22: =-SUM(K22*L22) -> #VALUE! | N22: =SUM(K22+M22) -> #VALUE! | O22: =SUM(G22+K22) -> #VALUE! | P22: =SUM(J22+N22) -> #VALUE! | Q22: =SUMIFS(Zahlungsfreigabe!$I$12:$I$1000,Zahlungsfreigabe!$C$12:$C$1000,Baukosten!F22,Zahlungsfreigabe!$E$12:$E$1000,D22) -> 0 | R22: =(J22+K22)-Q22 -> #VALUE! | S22: =SUM(J22+K22) -> #VALUE! | T22: 0 | U22: =-SUM(J22+K22)*T22 -> #VALUE! | AC22: =IFERROR(A22,"") | AD22: =J22+K22 -> #VALUE! | AE22: =(AD22/100)*80 -> #VALUE!
... A25: =IF(F25="","",1+MAX(A$10:A24)) | C25: 139 | D25: Sonstige zur KG 120 | H25: 0 | I25: =-SUM(G25*H25) -> 0 | J25: =SUM(G25+I25) -> 0 | K25: =IF(ISERROR(VLOOKUP(AC25,Nachträge!$A$2:$Y$646,25,FALSE)),"",VLOOKUP(AC25,Nachträge!$A$2:$Y$646,25,FALSE)) | L25: 0 | M25: =-SUM(K25*L25) -> #VALUE! | N25: =SUM(K25+M25) -> #VALUE! | O25: =SUM(G25+K25) -> #VALUE! | P25: =SUM(J25+N25) -> #VALUE! | Q25: =SUMIFS(Zahlungsfreigabe!$I$12:$I$1000,Zahlungsfreigabe!$C$12:$C$1000,Baukosten!F25,Zahlungsfreigabe!$E$12:$E$1000,D25) -> 0 | R25: =(J25+K25)-Q25 -> #VALUE! | S25: =SUM(J25+K25) -> #VALUE! | T25: 0 | U25: =-SUM(J25+K25)*T25 -> #VALUE! | AC25: =IFERROR(A25,"") | AD25: =J25+K25 -> #VALUE! | AE25: =(AD25/100)*80 -> #VALUE!
A26: =IF(F26="","",1+MAX(A$10:A25)) | C26: Summe | E26: =SUM(E11:E25) -> 0 | G26: =SUM(G11:G25) -> 0 | I26: =-SUM(I11:I25) -> 0 | J26: =SUM(J11:J25) -> 0 | K26: =SUM(K11:K25) -> 0 | M26: =-SUM(M11:M25) -> #VALUE! | N26: =SUM(N11:N25) -> #VALUE! | O26: =SUM(O11:O25) -> #VALUE! | P26: =SUM(P11:P25) -> #VALUE! | Q26: =SUM(Q11:Q25) -> 0 | R26: =SUM(R11:R25) -> #VALUE! | S26: =SUM(S11:S25) -> #VALUE! | U26: =SUM(U11:U25) -> #VALUE! | AC26: =IFERROR(A26,"") | AD26: =J26+K26 -> 0 | AE26: =(AD26/100)*80 -> 0
A27: =IF(F27="","",1+MAX(A$10:A26)) | B27: 200 | C27: Herrichten und Erschließen | AC27: =IFERROR(A27,"") | AD27: =J27+K27 -> 0 | AE27: =(AD27/100)*80 -> 0
A28: =IF(F28="","",1+MAX(A$10:A27)) | C28: 210 | D28: Herrichten Gelände | H28: 0 | I28: =-SUM(G28*H28) -> 0 | J28: =SUM(G28+I28) -> 0 | K28: =IF(ISERROR(VLOOKUP(AC28,Nachträge!$A$2:$Y$646,25,FALSE)),"",VLOOKUP(AC28,Nachträge!$A$2:$Y$646,25,FALSE)) | L28: 0 | M28: =-SUM(K28*L28) -> #VALUE! | N28: =SUM(K28+M28) -> #VALUE! | O28: =SUM(G28+K28) -> #VALUE! | P28: =SUM(J28+N28) -> #VALUE! | Q28: =SUMIFS(Zahlungsfreigabe!$J$12:$J$1000,Zahlungsfreigabe!$C$12:$C$1000,Baukosten!F28,Zahlungsfreigabe!$E$12:$E$1000,D28) -> 0 | R28: =(J28+K28)-Q28 -> #VALUE! | S28: =SUM(J28+K28) -> #VALUE! | T28: 0 | U28: =-SUM(J28+K28)*T28 -> #VALUE! | AC28: =IFERROR(A28,"") | AD28: =J28+K28 -> #VALUE! | AE28: =(AD28/100)*80 -> #VALUE!
A29: =IF(F29="","",1+MAX(A$10:A28)) | C29: 210 | D29: Herrichten Gelände | H29: 0 | I29: =-SUM(G29*H29) -> 0 | J29: =SUM(G29+I29) -> 0 | K29: =IF(ISERROR(VLOOKUP(AC29,Nachträge!$A$2:$Y$646,25,FALSE)),"",VLOOKUP(AC29,Nachträge!$A$2:$Y$646,25,FALSE)) | L29: 0 | M29: =-SUM(K29*L29) -> #VALUE! | N29: =SUM(K29+M29) -> #VALUE! | O29: =SUM(G29+K29) -> #VALUE! | P29: =SUM(J29+N29) -> #VALUE! | Q29: =SUMIFS(Zahlungsfreigabe!$J$12:$J$1000,Zahlungsfreigabe!$C$12:$C$1000,Baukosten!F29,Zahlungsfreigabe!$E$12:$E$1000,D29) -> 0 | R29: =(J29+K29)-Q29 -> #VALUE! | S29: =SUM(J29+K29) -> #VALUE! | T29: 0 | U29: =-SUM(J29+K29)*T29 -> #VALUE! | AC29: =IFERROR(A29,"") | AD29: =J29+K29 -> #VALUE! | AE29: =(AD29/100)*80 -> #VALUE!
A30: =IF(F30="","",1+MAX(A$10:A29)) | C30: 210 | D30: Herrichten Gelände | H30: 0 | I30: =-SUM(G30*H30) -> 0 | J30: =SUM(G30+I30) -> 0 | K30: =IF(ISERROR(VLOOKUP(AC30,Nachträge!$A$2:$Y$646,25,FALSE)),"",VLOOKUP(AC30,Nachträge!$A$2:$Y$646,25,FALSE)) | L30: 0 | M30: =-SUM(K30*L30) -> #VALUE! | N30: =SUM(K30+M30) -> #VALUE! | O30: =SUM(G30+K30) -> #VALUE! | P30: =SUM(J30+N30) -> #VALUE! | Q30: =SUMIFS(Zahlungsfreigabe!$J$12:$J$1000,Zahlungsfreigabe!$C$12:$C$1000,Baukosten!F30,Zahlungsfreigabe!$E$12:$E$1000,D30) -> 0 | R30: =(J30+K30)-Q30 -> #VALUE! | S30: =SUM(J30+K30) -> #VALUE! | T30: 0 | U30: =-SUM(J30+K30)*T30 -> #VALUE! | AC30: =IFERROR(A30,"") | AD30: =J30+K30 -> #VALUE! | AE30: =(AD30/100)*80 -> #VALUE!
A31: =IF(F31="","",1+MAX(A$10:A30)) | C31: 210 | D31: Herrichten Gelände | H31: 0 | I31: =-SUM(G31*H31) -> 0 | J31: =SUM(G31+I31) -> 0 | K31: =IF(ISERROR(VLOOKUP(AC31,Nachträge!$A$2:$Y$646,25,FALSE)),"",VLOOKUP(AC31,Nachträge!$A$2:$Y$646,25,FALSE)) | L31: 0 | M31: =-SUM(K31*L31) -> #VALUE! | N31: =SUM(K31+M31) -> #VALUE! | O31: =SUM(G31+K31) -> #VALUE! | P31: =SUM(J31+N31) -> #VALUE! | Q31: =SUMIFS(Zahlungsfreigabe!$J$12:$J$1000,Zahlungsfreigabe!$C$12:$C$1000,Baukosten!F31,Zahlungsfreigabe!$E$12:$E$1000,D31) -> 0 | R31: =(J31+K31)-Q31 -> #VALUE! | S31: =SUM(J31+K31) -> #VALUE! | T31: 0 | U31: =-SUM(J31+K31)*T31 -> #VALUE! | AC31: =IFERROR(A31,"") | AD31: =J31+K31 -> #VALUE! | AE31: =(AD31/100)*80 -> #VALUE!
A32: =IF(F32="","",1+MAX(A$10:A31)) | C32: 210 | D32: Herrichten Gelände | H32: 0 | I32: =-SUM(G32*H32) -> 0 | J32: =SUM(G32+I32) -> 0 | K32: =IF(ISERROR(VLOOKUP(AC32,Nachträge!$A$2:$Y$646,25,FALSE)),"",VLOOKUP(AC32,Nachträge!$A$2:$Y$646,25,FALSE)) | L32: 0 | M32: =-SUM(K32*L32) -> #VALUE! | N32: =SUM(K32+M32) -> #VALUE! | O32: =SUM(G32+K32) -> #VALUE! | P32: =SUM(J32+N32) -> #VALUE! | Q32: =SUMIFS(Zahlungsfreigabe!$J$12:$J$1000,Zahlungsfreigabe!$C$12:$C$1000,Baukosten!F32,Zahlungsfreigabe!$E$12:$E$1000,D32) -> 0 | R32: =(J32+K32)-Q32 -> #VALUE! | S32: =SUM(J32+K32) -> #VALUE! | T32: 0 | U32: =-SUM(J32+K32)*T32 -> #VALUE! | AC32: =IFERROR(A32,"") | AD32: =J32+K32 -> #VALUE! | AE32: =(AD32/100)*80 -> #VALUE!
A33: =IF(F33="","",1+MAX(A$10:A32)) | C33: 210 | D33: Herrichten Gelände | H33: 0 | I33: =-SUM(G33*H33) -> 0 | J33: =SUM(G33+I33) -> 0 | K33: =IF(ISERROR(VLOOKUP(AC33,Nachträge!$A$2:$Y$646,25,FALSE)),"",VLOOKUP(AC33,Nachträge!$A$2:$Y$646,25,FALSE)) | L33: 0 | M33: =-SUM(K33*L33) -> #VALUE! | N33: =SUM(K33+M33) -> #VALUE! | O33: =SUM(G33+K33) -> #VALUE! | P33: =SUM(J33+N33) -> #VALUE! | Q33: =SUMIFS(Zahlungsfreigabe!$J$12:$J$1000,Zahlungsfreigabe!$C$12:$C$1000,Baukosten!F33,Zahlungsfreigabe!$E$12:$E$1000,D33) -> 0 | R33: =(J33+K33)-Q33 -> #VALUE! | S33: =SUM(J33+K33) -> #VALUE! | T33: 0 | U33: =-SUM(J33+K33)*T33 -> #VALUE! | AC33: =IFERROR(A33,"") | AD33: =J33+K33 -> #VALUE! | AE33: =(AD33/100)*80 -> #VALUE!
A34: =IF(F34="","",1+MAX(A$10:A33)) | C34: 210 | D34: Herrichten Gelände | H34: 0 | I34: =-SUM(G34*H34) -> 0 | J34: =SUM(G34+I34) -> 0 | K34: =IF(ISERROR(VLOOKUP(AC34,Nachträge!$A$2:$Y$646,25,FALSE)),"",VLOOKUP(AC34,Nachträge!$A$2:$Y$646,25,FALSE)) | L34: 0 | M34: =-SUM(K34*L34) -> #VALUE! | N34: =SUM(K34+M34) -> #VALUE! | O34: =SUM(G34+K34) -> #VALUE! | P34: =SUM(J34+N34) -> #VALUE! | Q34: =SUMIFS(Zahlungsfreigabe!$J$12:$J$1000,Zahlungsfreigabe!$C$12:$C$1000,Baukosten!F34,Zahlungsfreigabe!$E$12:$E$1000,D34) -> 0 | R34: =(J34+K34)-Q34 -> #VALUE! | S34: =SUM(J34+K34) -> #VALUE! | T34: 0 | U34: =-SUM(J34+K34)*T34 -> #VALUE! | AC34: =IFERROR(A34,"") | AD34: =J34+K34 -> #VALUE! | AE34: =(AD34/100)*80 -> #VALUE!
A35: =IF(F35="","",1+MAX(A$10:A34)) | C35: 210 | D35: Herrichten Gelände | H35: 0 | I35: =-SUM(G35*H35) -> 0 | J35: =SUM(G35+I35) -> 0 | K35: =IF(ISERROR(VLOOKUP(AC35,Nachträge!$A$2:$Y$646,25,FALSE)),"",VLOOKUP(AC35,Nachträge!$A$2:$Y$646,25,FALSE)) | L35: 0 | M35: =-SUM(K35*L35) -> #VALUE! | N35: =SUM(K35+M35) -> #VALUE! | O35: =SUM(G35+K35) -> #VALUE! | P35: =SUM(J35+N35) -> #VALUE! | Q35: =SUMIFS(Zahlungsfreigabe!$J$12:$J$1000,Zahlungsfreigabe!$C$12:$C$1000,Baukosten!F35,Zahlungsfreigabe!$E$12:$E$1000,D35) -> 0 | R35: =(J35+K35)-Q35 -> #VALUE! | S35: =SUM(J35+K35) -> #VALUE! | T35: 0 | U35: =-SUM(J35+K35)*T35 -> #VALUE! | AC35: =IFERROR(A35,"") | AD35: =J35+K35 -> #VALUE! | AE35: =(AD35/100)*80 -> #VALUE!
A36: =IF(F36="","",1+MAX(A$10:A35)) | C36: 210 | D36: Herrichten Gelände | H36: 0 | I36: =-SUM(G36*H36) -> 0 | J36: =SUM(G36+I36) -> 0 | K36: =IF(ISERROR(VLOOKUP(AC36,Nachträge!$A$2:$Y$646,25,FALSE)),"",VLOOKUP(AC36,Nachträge!$A$2:$Y$646,25,FALSE)) | L36: 0 | M36: =-SUM(K36*L36) -> #VALUE! | N36: =SUM(K36+M36) -> #VALUE! | O36: =SUM(G36+K36) -> #VALUE! | P36: =SUM(J36+N36) -> #VALUE! | Q36: =SUMIFS(Zahlungsfreigabe!$J$12:$J$1000,Zahlungsfreigabe!$C$12:$C$1000,Baukosten!F36,Zahlungsfreigabe!$E$12:$E$1000,D36) -> 0 | R36: =(J36+K36)-Q36 -> #VALUE! | S36: =SUM(J36+K36) -> #VALUE! | T36: 0 | U36: =-SUM(J36+K36)*T36 -> #VALUE! | AC36: =IFERROR(A36,"") | AD36: =J36+K36 -> #VALUE! | AE36: =(AD36/100)*80 -> #VALUE!
A37: =IF(F37="","",1+MAX(A$10:A36)) | C37: 210 | D37: Herrichten Gelände | H37: 0 | I37: =-SUM(G37*H37) -> 0 | J37: =SUM(G37+I37) -> 0 | K37: =IF(ISERROR(VLOOKUP(AC37,Nachträge!$A$2:$Y$646,25,FALSE)),"",VLOOKUP(AC37,Nachträge!$A$2:$Y$646,25,FALSE)) | L37: 0 | M37: =-SUM(K37*L37) -> #VALUE! | N37: =SUM(K37+M37) -> #VALUE! | O37: =SUM(G37+K37) -> #VALUE! | P37: =SUM(J37+N37) -> #VALUE! | Q37: =SUMIFS(Zahlungsfreigabe!$J$12:$J$1000,Zahlungsfreigabe!$C$12:$C$1000,Baukosten!F37,Zahlungsfreigabe!$E$12:$E$1000,D37) -> 0 | R37: =(J37+K37)-Q37 -> #VALUE! | S37: =SUM(J37+K37) -> #VALUE! | T37: 0 | U37: =-SUM(J37+K37)*T37 -> #VALUE! | AC37: =IFERROR(A37,"") | AD37: =J37+K37 -> #VALUE! | AE37: =(AD37/100)*80 -> #VALUE!
A38: =IF(F38="","",1+MAX(A$10:A37)) | C38: 210 | D38: Herrichten Gelände | H38: 0 | I38: =-SUM(G38*H38) -> 0 | J38: =SUM(G38+I38) -> 0 | K38: =IF(ISERROR(VLOOKUP(AC38,Nachträge!$A$2:$Y$646,25,FALSE)),"",VLOOKUP(AC38,Nachträge!$A$2:$Y$646,25,FALSE)) | L38: 0 | M38: =-SUM(K38*L38) -> #VALUE! | N38: =SUM(K38+M38) -> #VALUE! | O38: =SUM(G38+K38) -> #VALUE! | P38: =SUM(J38+N38) -> #VALUE! | Q38: =SUMIFS(Zahlungsfreigabe!$J$12:$J$1000,Zahlungsfreigabe!$C$12:$C$1000,Baukosten!F38,Zahlungsfreigabe!$E$12:$E$1000,D38) -> 0 | R38: =(J38+K38)-Q38 -> #VALUE! | S38: =SUM(J38+K38) -> #VALUE! | T38: 0 | U38: =-SUM(J38+K38)*T38 -> #VALUE! | AC38: =IFERROR(A38,"") | AD38: =J38+K38 -> #VALUE! | AE38: =(AD38/100)*80 -> #VALUE!
A39: =IF(F39="","",1+MAX(A$10:A38)) | C39: 210 | D39: Herrichten Gelände | H39: 0 | I39: =-SUM(G39*H39) -> 0 | J39: =SUM(G39+I39) -> 0 | K39: =IF(ISERROR(VLOOKUP(AC39,Nachträge!$A$2:$Y$646,25,FALSE)),"",VLOOKUP(AC39,Nachträge!$A$2:$Y$646,25,FALSE)) | L39: 0 | M39: =-SUM(K39*L39) -> #VALUE! | N39: =SUM(K39+M39) -> #VALUE! | O39: =SUM(G39+K39) -> #VALUE! | P39: =SUM(J39+N39) -> #VALUE! | Q39: =SUMIFS(Zahlungsfreigabe!$J$12:$J$1000,Zahlungsfreigabe!$C$12:$C$1000,Baukosten!F39,Zahlungsfreigabe!$E$12:$E$1000,D39) -> 0 | R39: =(J39+K39)-Q39 -> #VALUE! | S39: =SUM(J39+K39) -> #VALUE! | T39: 0 | U39: =-SUM(J39+K39)*T39 -> #VALUE! | AC39: =IFERROR(A39,"") | AD39: =J39+K39 -> #VALUE! | AE39: =(AD39/100)*80 -> #VALUE!
... A349: =IF(F349="","",1+MAX(A$10:A348)) | C349: 259 | D349: Sonstiges zur KG 250 | H349: 0 | I349: =-SUM(G349*H349) -> 0 | J349: =SUM(G349+I349) -> 0 | K349: =IF(ISERROR(VLOOKUP(AC349,Nachträge!$A$2:$Y$646,25,FALSE)),"",VLOOKUP(AC349,Nachträge!$A$2:$Y$646,25,FALSE)) | L349: 0 | M349: =-SUM(K349*L349) -> #VALUE! | N349: =SUM(K349+M349) -> #VALUE! | O349: =SUM(G349+K349) -> #VALUE! | P349: =SUM(J349+N349) -> #VALUE! | Q349: =SUMIFS(Zahlungsfreigabe!$J$12:$J$1000,Zahlungsfreigabe!$C$12:$C$1000,Baukosten!F349,Zahlungsfreigabe!$E$12:$E$1000,D349) -> 0 | R349: =(J349+K349)-Q349 -> #VALUE! | S349: =SUM(J349+K349) -> #VALUE! | T349: 0 | U349: =-SUM(J349+K349)*T349 -> #VALUE! | AC349: =IFERROR(A349,"") | AD349: =J349+K349 -> #VALUE! | AE349: =(AD349/100)*80 -> #VALUE!
A350: =IF(F350="","",1+MAX(A$10:A349)) | C350: Summe | E350: =SUM(E28:E349) -> 0 | G350: =SUM(G28:G349) -> 0 | I350: =-SUM(I28:I349) -> 0 | J350: =SUM(J28:J349) -> 0 | K350: =SUM(K28:K349) -> 0 | M350: =-SUM(M28:M349) -> #VALUE! | N350: =SUM(N28:N349) -> #VALUE! | O350: =SUM(O28:O349) -> #VALUE! | P350: =SUM(P28:P349) -> #VALUE! | Q350: =SUM(Q28:Q349) -> 0 | R350: =SUM(R28:R349) -> #VALUE! | S350: =SUM(S28:S349) -> #VALUE! | U350: =-SUM(U28:U349) -> #VALUE! | AC350: =IFERROR(A350,"") | AD350: =J350+K350 -> 0 | AE350: =(AD350/100)*80 -> 0
A351: =IF(F351="","",1+MAX(A$10:A350)) | B351: 300 | C351: Bauwerk Konstruktion | AC351: =IFERROR(A351,"") | AD351: =J351+K351 -> 0 | AE351: =(AD351/100)*80 -> 0
A352: =IF(F352="","",1+MAX(A$10:A351)) | C352: 300 | D352: Baustelleneinrichtung | H352: 0 | I352: =-SUM(G352*H352) -> 0 | J352: =SUM(G352+I352) -> 0 | K352: =IF(ISERROR(VLOOKUP(AC352,Nachträge!$A$2:$Y$646,25,FALSE)),"",VLOOKUP(AC352,Nachträge!$A$2:$Y$646,25,FALSE)) | L352: 0 | M352: =-SUM(K352*L352) -> #VALUE! | N352: =SUM(K352+M352) -> #VALUE! | O352: =SUM(G352+K352) -> #VALUE! | P352: =SUM(J352+N352) -> #VALUE! | Q352: =SUMIFS(Zahlungsfreigabe!$K$12:$K$1000,Zahlungsfreigabe!$C$12:$C$1000,Baukosten!F352,Zahlungsfreigabe!$E$12:$E$1000,D352) -> 0 | R352: =(J352+K352)-Q352 -> #VALUE! | S352: =SUM(J352+K352) -> #VALUE! | T352: 0 | U352: =-SUM(J352+K352)*T352 -> #VALUE! | AC352: =IFERROR(A352,"") | AD352: =J352+K352 -> #VALUE! | AE352: =(AD352/100)*80 -> #VALUE!
A353: =IF(F353="","",1+MAX(A$10:A352)) | C353: 300 | D353: Baustelleneinrichtung | H353: 0 | I353: =-SUM(G353*H353) -> 0 | J353: =SUM(G353+I353) -> 0 | K353: =IF(ISERROR(VLOOKUP(AC353,Nachträge!$A$2:$Y$646,25,FALSE)),"",VLOOKUP(AC353,Nachträge!$A$2:$Y$646,25,FALSE)) | L353: 0 | M353: =-SUM(K353*L353) -> #VALUE! | N353: =SUM(K353+M353) -> #VALUE! | O353: =SUM(G353+K353) -> #VALUE! | P353: =SUM(J353+N353) -> #VALUE! | Q353: =SUMIFS(Zahlungsfreigabe!$K$12:$K$1000,Zahlungsfreigabe!$C$12:$C$1000,Baukosten!F353,Zahlungsfreigabe!$E$12:$E$1000,D353) -> 0 | R353: =(J353+K353)-Q353 -> #VALUE! | S353: =SUM(J353+K353) -> #VALUE! | T353: 0 | U353: =-SUM(J353+K353)*T353 -> #VALUE! | AC353: =IFERROR(A353,"") | AD353: =J353+K353 -> #VALUE! | AE353: =(AD353/100)*80 -> #VALUE!
A354: =IF(F354="","",1+MAX(A$10:A353)) | C354: 300 | D354: Baustelleneinrichtung | H354: 0 | I354: =-SUM(G354*H354) -> 0 | J354: =SUM(G354+I354) -> 0 | K354: =IF(ISERROR(VLOOKUP(AC354,Nachträge!$A$2:$Y$646,25,FALSE)),"",VLOOKUP(AC354,Nachträge!$A$2:$Y$646,25,FALSE)) | L354: 0 | M354: =-SUM(K354*L354) -> #VALUE! | N354: =SUM(K354+M354) -> #VALUE! | O354: =SUM(G354+K354) -> #VALUE! | P354: =SUM(J354+N354) -> #VALUE! | Q354: =SUMIFS(Zahlungsfreigabe!$K$12:$K$1000,Zahlungsfreigabe!$C$12:$C$1000,Baukosten!F354,Zahlungsfreigabe!$E$12:$E$1000,D354) -> 0 | R354: =(J354+K354)-Q354 -> #VALUE! | S354: =SUM(J354+K354) -> #VALUE! | T354: 0 | U354: =-SUM(J354+K354)*T354 -> #VALUE! | AC354: =IFERROR(A354,"") | AD354: =J354+K354 -> #VALUE! | AE354: =(AD354/100)*80 -> #VALUE!
A355: =IF(F355="","",1+MAX(A$10:A354)) | C355: 300 | D355: Baustelleneinrichtung | H355: 0 | I355: =-SUM(G355*H355) -> 0 | J355: =SUM(G355+I355) -> 0 | K355: =IF(ISERROR(VLOOKUP(AC355,Nachträge!$A$2:$Y$646,25,FALSE)),"",VLOOKUP(AC355,Nachträge!$A$2:$Y$646,25,FALSE)) | L355: 0 | M355: =-SUM(K355*L355) -> #VALUE! | N355: =SUM(K355+M355) -> #VALUE! | O355: =SUM(G355+K355) -> #VALUE! | P355: =SUM(J355+N355) -> #VALUE! | Q355: =SUMIFS(Zahlungsfreigabe!$K$12:$K$1000,Zahlungsfreigabe!$C$12:$C$1000,Baukosten!F355,Zahlungsfreigabe!$E$12:$E$1000,D355) -> 0 | R355: =(J355+K355)-Q355 -> #VALUE! | S355: =SUM(J355+K355) -> #VALUE! | T355: 0 | U355: =-SUM(J355+K355)*T355 -> #VALUE! | AC355: =IFERROR(A355,"") | AD355: =J355+K355 -> #VALUE! | AE355: =(AD355/100)*80 -> #VALUE!
A356: =IF(F356="","",1+MAX(A$10:A355)) | C356: 300 | D356: Baustelleneinrichtung | H356: 0 | I356: =-SUM(G356*H356) -> 0 | J356: =SUM(G356+I356) -> 0 | K356: =IF(ISERROR(VLOOKUP(AC356,Nachträge!$A$2:$Y$646,25,FALSE)),"",VLOOKUP(AC356,Nachträge!$A$2:$Y$646,25,FALSE)) | L356: 0 | M356: =-SUM(K356*L356) -> #VALUE! | N356: =SUM(K356+M356) -> #VALUE! | O356: =SUM(G356+K356) -> #VALUE! | P356: =SUM(J356+N356) -> #VALUE! | Q356: =SUMIFS(Zahlungsfreigabe!$K$12:$K$1000,Zahlungsfreigabe!$C$12:$C$1000,Baukosten!F356,Zahlungsfreigabe!$E$12:$E$1000,D356) -> 0 | R356: =(J356+K356)-Q356 -> #VALUE! | S356: =SUM(J356+K356) -> #VALUE! | T356: 0 | U356: =-SUM(J356+K356)*T356 -> #VALUE! | AC356: =IFERROR(A356,"") | AD356: =J356+K356 -> #VALUE! | AE356: =(AD356/100)*80 -> #VALUE!
A357: =IF(F357="","",1+MAX(A$10:A356)) | C357: 300 | D357: Baustelleneinrichtung | H357: 0 | I357: =-SUM(G357*H357) -> 0 | J357: =SUM(G357+I357) -> 0 | K357: =IF(ISERROR(VLOOKUP(AC357,Nachträge!$A$2:$Y$646,25,FALSE)),"",VLOOKUP(AC357,Nachträge!$A$2:$Y$646,25,FALSE)) | L357: 0 | M357: =-SUM(K357*L357) -> #VALUE! | N357: =SUM(K357+M357) -> #VALUE! | O357: =SUM(G357+K357) -> #VALUE! | P357: =SUM(J357+N357) -> #VALUE! | Q357: =SUMIFS(Zahlungsfreigabe!$K$12:$K$1000,Zahlungsfreigabe!$C$12:$C$1000,Baukosten!F357,Zahlungsfreigabe!$E$12:$E$1000,D357) -> 0 | R357: =(J357+K357)-Q357 -> #VALUE! | S357: =SUM(J357+K357) -> #VALUE! | T357: 0 | U357: =-SUM(J357+K357)*T357 -> #VALUE! | AC357: =IFERROR(A357,"") | AD357: =J357+K357 -> #VALUE! | AE357: =(AD357/100)*80 -> #VALUE!
A358: =IF(F358="","",1+MAX(A$10:A357)) | C358: 300 | D358: Baustelleneinrichtung | H358: 0 | I358: =-SUM(G358*H358) -> 0 | J358: =SUM(G358+I358) -> 0 | K358: =IF(ISERROR(VLOOKUP(AC358,Nachträge!$A$2:$Y$646,25,FALSE)),"",VLOOKUP(AC358,Nachträge!$A$2:$Y$646,25,FALSE)) | L358: 0 | M358: =-SUM(K358*L358) -> #VALUE! | N358: =SUM(K358+M358) -> #VALUE! | O358: =SUM(G358+K358) -> #VALUE! | P358: =SUM(J358+N358) -> #VALUE! | Q358: =SUMIFS(Zahlungsfreigabe!$K$12:$K$1000,Zahlungsfreigabe!$C$12:$C$1000,Baukosten!F358,Zahlungsfreigabe!$E$12:$E$1000,D358) -> 0 | R358: =(J358+K358)-Q358 -> #VALUE! | S358: =SUM(J358+K358) -> #VALUE! | T358: 0 | U358: =-SUM(J358+K358)*T358 -> #VALUE! | AC358: =IFERROR(A358,"") | AD358: =J358+K358 -> #VALUE! | AE358: =(AD358/100)*80 -> #VALUE!
A359: =IF(F359="","",1+MAX(A$10:A358)) | C359: 300 | D359: Baustelleneinrichtung | H359: 0 | I359: =-SUM(G359*H359) -> 0 | J359: =SUM(G359+I359) -> 0 | K359: =IF(ISERROR(VLOOKUP(AC359,Nachträge!$A$2:$Y$646,25,FALSE)),"",VLOOKUP(AC359,Nachträge!$A$2:$Y$646,25,FALSE)) | L359: 0 | M359: =-SUM(K359*L359) -> #VALUE! | N359: =SUM(K359+M359) -> #VALUE! | O359: =SUM(G359+K359) -> #VALUE! | P359: =SUM(J359+N359) -> #VALUE! | Q359: =SUMIFS(Zahlungsfreigabe!$K$12:$K$1000,Zahlungsfreigabe!$C$12:$C$1000,Baukosten!F359,Zahlungsfreigabe!$E$12:$E$1000,D359) -> 0 | R359: =(J359+K359)-Q359 -> #VALUE! | S359: =SUM(J359+K359) -> #VALUE! | T359: 0 | U359: =-SUM(J359+K359)*T359 -> #VALUE! | AC359: =IFERROR(A359,"") | AD359: =J359+K359 -> #VALUE! | AE359: =(AD359/100)*80 -> #VALUE!
A360: =IF(F360="","",1+MAX(A$10:A359)) | C360: 300 | D360: Baustelleneinrichtung | H360: 0 | I360: =-SUM(G360*H360) -> 0 | J360: =SUM(G360+I360) -> 0 | K360: =IF(ISERROR(VLOOKUP(AC360,Nachträge!$A$2:$Y$646,25,FALSE)),"",VLOOKUP(AC360,Nachträge!$A$2:$Y$646,25,FALSE)) | L360: 0 | M360: =-SUM(K360*L360) -> #VALUE! | N360: =SUM(K360+M360) -> #VALUE! | O360: =SUM(G360+K360) -> #VALUE! | P360: =SUM(J360+N360) -> #VALUE! | Q360: =SUMIFS(Zahlungsfreigabe!$K$12:$K$1000,Zahlungsfreigabe!$C$12:$C$1000,Baukosten!F360,Zahlungsfreigabe!$E$12:$E$1000,D360) -> 0 | R360: =(J360+K360)-Q360 -> #VALUE! | S360: =SUM(J360+K360) -> #VALUE! | T360: 0 | U360: =-SUM(J360+K360)*T360 -> #VALUE! | AC360: =IFERROR(A360,"") | AD360: =J360+K360 -> #VALUE! | AE360: =(AD360/100)*80 -> #VALUE!
A361: =IF(F361="","",1+MAX(A$10:A360)) | C361: 300 | D361: Baustelleneinrichtung | H361: 0 | I361: =-SUM(G361*H361) -> 0 | J361: =SUM(G361+I361) -> 0 | K361: =IF(ISERROR(VLOOKUP(AC361,Nachträge!$A$2:$Y$646,25,FALSE)),"",VLOOKUP(AC361,Nachträge!$A$2:$Y$646,25,FALSE)) | L361: 0 | M361: =-SUM(K361*L361) -> #VALUE! | N361: =SUM(K361+M361) -> #VALUE! | O361: =SUM(G361+K361) -> #VALUE! | P361: =SUM(J361+N361) -> #VALUE! | Q361: =SUMIFS(Zahlungsfreigabe!$K$12:$K$1000,Zahlungsfreigabe!$C$12:$C$1000,Baukosten!F361,Zahlungsfreigabe!$E$12:$E$1000,D361) -> 0 | R361: =(J361+K361)-Q361 -> #VALUE! | S361: =SUM(J361+K361) -> #VALUE! | T361: 0 | U361: =-SUM(J361+K361)*T361 -> #VALUE! | AC361: =IFERROR(A361,"") | AD361: =J361+K361 -> #VALUE! | AE361: =(AD361/100)*80 -> #VALUE!
A362: =IF(F362="","",1+MAX(A$10:A361)) | C362: 300 | D362: Baustelleneinrichtung | H362: 0 | I362: =-SUM(G362*H362) -> 0 | J362: =SUM(G362+I362) -> 0 | K362: =IF(ISERROR(VLOOKUP(AC362,Nachträge!$A$2:$Y$646,25,FALSE)),"",VLOOKUP(AC362,Nachträge!$A$2:$Y$646,25,FALSE)) | L362: 0 | M362: =-SUM(K362*L362) -> #VALUE! | N362: =SUM(K362+M362) -> #VALUE! | O362: =SUM(G362+K362) -> #VALUE! | P362: =SUM(J362+N362) -> #VALUE! | Q362: =SUMIFS(Zahlungsfreigabe!$K$12:$K$1000,Zahlungsfreigabe!$C$12:$C$1000,Baukosten!F362,Zahlungsfreigabe!$E$12:$E$1000,D362) -> 0 | R362: =(J362+K362)-Q362 -> #VALUE! | S362: =SUM(J362+K362) -> #VALUE! | T362: 0 | U362: =-SUM(J362+K362)*T362 -> #VALUE! | AC362: =IFERROR(A362,"") | AD362: =J362+K362 -> #VALUE! | AE362: =(AD362/100)*80 -> #VALUE!
A363: =IF(F363="","",1+MAX(A$10:A362)) | C363: 300 | D363: Baustelleneinrichtung | H363: 0 | I363: =-SUM(G363*H363) -> 0 | J363: =SUM(G363+I363) -> 0 | K363: =IF(ISERROR(VLOOKUP(AC363,Nachträge!$A$2:$Y$646,25,FALSE)),"",VLOOKUP(AC363,Nachträge!$A$2:$Y$646,25,FALSE)) | L363: 0 | M363: =-SUM(K363*L363) -> #VALUE! | N363: =SUM(K363+M363) -> #VALUE! | O363: =SUM(G363+K363) -> #VALUE! | P363: =SUM(J363+N363) -> #VALUE! | Q363: =SUMIFS(Zahlungsfreigabe!$K$12:$K$1000,Zahlungsfreigabe!$C$12:$C$1000,Baukosten!F363,Zahlungsfreigabe!$E$12:$E$1000,D363) -> 0 | R363: =(J363+K363)-Q363 -> #VALUE! | S363: =SUM(J363+K363) -> #VALUE! | T363: 0 | U363: =-SUM(J363+K363)*T363 -> #VALUE! | AC363: =IFERROR(A363,"") | AD363: =J363+K363 -> #VALUE! | AE363: =(AD363/100)*80 -> #VALUE!
... A869: =IF(F869="","",1+MAX(A$10:A868)) | C869: 371 | D869: Allgemeine Einbauarbeiten | H869: 0 | I869: =-SUM(G869*H869) -> 0 | J869: =SUM(G869+I869) -> 0 | K869: =IF(ISERROR(VLOOKUP(AC869,Nachträge!$A$2:$Y$646,25,FALSE)),"",VLOOKUP(AC869,Nachträge!$A$2:$Y$646,25,FALSE)) | L869: 0 | M869: =-SUM(K869*L869) -> #VALUE! | N869: =SUM(K869+M869) -> #VALUE! | O869: =SUM(G869+K869) -> #VALUE! | P869: =SUM(J869+N869) -> #VALUE! | Q869: =SUMIFS(Zahlungsfreigabe!$K$12:$K$1000,Zahlungsfreigabe!$C$12:$C$1000,Baukosten!F869,Zahlungsfreigabe!$E$12:$E$1000,D869) -> 0 | R869: =(J869+K869)-Q869 -> #VALUE! | S869: =SUM(J869+K869) -> #VALUE! | T869: 0 | U869: =-SUM(J869+K869)*T869 -> #VALUE! | AC869: =IFERROR(A869,"") | AD869: =J869+K869 -> #VALUE! | AE869: =(AD869/100)*80 -> #VALUE!
A870: =IF(F870="","",1+MAX(A$10:A869)) | C870: Summe | E870: =SUM(E352:E869) -> 0 | G870: =SUM(G352:G869) -> 0 | I870: =-SUM(I352:I869) -> 0 | J870: =SUM(J352:J869) -> 0 | K870: =SUM(K352:K869) -> 0 | M870: =-SUM(M352:M869) -> #VALUE! | N870: =SUM(N352:N869) -> #VALUE! | O870: =SUM(O352:O869) -> #VALUE! | P870: =SUM(P352:P869) -> #VALUE! | Q870: =SUM(Q352:Q869) -> 0 | R870: =SUM(R352:R869) -> #VALUE! | S870: =SUM(S352:S869) -> #VALUE! | U870: =-SUM(U352:U869) -> #VALUE! | AC870: =IFERROR(A870,"") | AD870: =J870+K870 -> 0 | AE870: =(AD870/100)*80 -> 0
A871: =IF(F871="","",1+MAX(A$10:A870)) | B871: 400 | C871: Bauwerk technische Anlagen | AC871: =IFERROR(A871,"") | AD871: =J871+K871 -> 0 | AE871: =(AD871/100)*80 -> 0
A872: =IF(F872="","",1+MAX(A$10:A871)) | C872: 410 | D872: Abwasser-, Wasser, Gasanlagen | H872: 0 | I872: =-SUM(G872*H872) -> 0 | J872: =SUM(G872+I872) -> 0 | K872: =IF(ISERROR(VLOOKUP(AC872,Nachträge!$A$2:$Y$646,25,FALSE)),"",VLOOKUP(AC872,Nachträge!$A$2:$Y$646,25,FALSE)) | L872: 0 | M872: =-SUM(K872*L872) -> #VALUE! | N872: =SUM(K872+M872) -> #VALUE! | O872: =SUM(G872+K872) -> #VALUE! | P872: =SUM(J872+N872) -> #VALUE! | Q872: =SUMIFS(Zahlungsfreigabe!$L$12:$L$1000,Zahlungsfreigabe!$C$12:$C$1000,Baukosten!F872,Zahlungsfreigabe!$E$12:$E$1000,D872) -> 0 | R872: =(J872+K872)-Q872 -> #VALUE! | S872: =SUM(J872+K872) -> #VALUE! | T872: 0 | U872: =-SUM(J872+K872)*T872 -> #VALUE! | AC872: =IFERROR(A872,"") | AD872: =J872+K872 -> #VALUE! | AE872: =(AD872/100)*80 -> #VALUE!
A873: =IF(F873="","",1+MAX(A$10:A872)) | C873: 410 | D873: Abwasser-, Wasser, Gasanlagen | H873: 0 | I873: =-SUM(G873*H873) -> 0 | J873: =SUM(G873+I873) -> 0 | K873: =IF(ISERROR(VLOOKUP(AC873,Nachträge!$A$2:$Y$646,25,FALSE)),"",VLOOKUP(AC873,Nachträge!$A$2:$Y$646,25,FALSE)) | L873: 0 | M873: =-SUM(K873*L873) -> #VALUE! | N873: =SUM(K873+M873) -> #VALUE! | O873: =SUM(G873+K873) -> #VALUE! | P873: =SUM(J873+N873) -> #VALUE! | Q873: =SUMIFS(Zahlungsfreigabe!$L$12:$L$1000,Zahlungsfreigabe!$C$12:$C$1000,Baukosten!F873,Zahlungsfreigabe!$E$12:$E$1000,D873) -> 0 | R873: =(J873+K873)-Q873 -> #VALUE! | S873: =SUM(J873+K873) -> #VALUE! | T873: 0 | U873: =-SUM(J873+K873)*T873 -> #VALUE! | AC873: =IFERROR(A873,"") | AD873: =J873+K873 -> #VALUE! | AE873: =(AD873/100)*80 -> #VALUE!
A874: =IF(F874="","",1+MAX(A$10:A873)) | C874: 410 | D874: Abwasser-, Wasser, Gasanlagen | H874: 0 | I874: =-SUM(G874*H874) -> 0 | J874: =SUM(G874+I874) -> 0 | K874: =IF(ISERROR(VLOOKUP(AC874,Nachträge!$A$2:$Y$646,25,FALSE)),"",VLOOKUP(AC874,Nachträge!$A$2:$Y$646,25,FALSE)) | L874: 0 | M874: =-SUM(K874*L874) -> #VALUE! | N874: =SUM(K874+M874) -> #VALUE! | O874: =SUM(G874+K874) -> #VALUE! | P874: =SUM(J874+N874) -> #VALUE! | Q874: =SUMIFS(Zahlungsfreigabe!$L$12:$L$1000,Zahlungsfreigabe!$C$12:$C$1000,Baukosten!F874,Zahlungsfreigabe!$E$12:$E$1000,D874) -> 0 | R874: =(J874+K874)-Q874 -> #VALUE! | S874: =SUM(J874+K874) -> #VALUE! | T874: 0 | U874: =-SUM(J874+K874)*T874 -> #VALUE! | AC874: =IFERROR(A874,"") | AD874: =J874+K874 -> #VALUE! | AE874: =(AD874/100)*80 -> #VALUE!
A875: =IF(F875="","",1+MAX(A$10:A874)) | C875: 410 | D875: Abwasser-, Wasser, Gasanlagen | H875: 0 | I875: =-SUM(G875*H875) -> 0 | J875: =SUM(G875+I875) -> 0 | K875: =IF(ISERROR(VLOOKUP(AC875,Nachträge!$A$2:$Y$646,25,FALSE)),"",VLOOKUP(AC875,Nachträge!$A$2:$Y$646,25,FALSE)) | L875: 0 | M875: =-SUM(K875*L875) -> #VALUE! | N875: =SUM(K875+M875) -> #VALUE! | O875: =SUM(G875+K875) -> #VALUE! | P875: =SUM(J875+N875) -> #VALUE! | Q875: =SUMIFS(Zahlungsfreigabe!$L$12:$L$1000,Zahlungsfreigabe!$C$12:$C$1000,Baukosten!F875,Zahlungsfreigabe!$E$12:$E$1000,D875) -> 0 | R875: =(J875+K875)-Q875 -> #VALUE! | S875: =SUM(J875+K875) -> #VALUE! | T875: 0 | U875: =-SUM(J875+K875)*T875 -> #VALUE! | AC875: =IFERROR(A875,"") | AD875: =J875+K875 -> #VALUE! | AE875: =(AD875/100)*80 -> #VALUE!
A876: =IF(F876="","",1+MAX(A$10:A875)) | C876: 410 | D876: Abwasser-, Wasser, Gasanlagen | H876: 0 | I876: =-SUM(G876*H876) -> 0 | J876: =SUM(G876+I876) -> 0 | K876: =IF(ISERROR(VLOOKUP(AC876,Nachträge!$A$2:$Y$646,25,FALSE)),"",VLOOKUP(AC876,Nachträge!$A$2:$Y$646,25,FALSE)) | L876: 0 | M876: =-SUM(K876*L876) -> #VALUE! | N876: =SUM(K876+M876) -> #VALUE! | O876: =SUM(G876+K876) -> #VALUE! | P876: =SUM(J876+N876) -> #VALUE! | Q876: =SUMIFS(Zahlungsfreigabe!$L$12:$L$1000,Zahlungsfreigabe!$C$12:$C$1000,Baukosten!F876,Zahlungsfreigabe!$E$12:$E$1000,D876) -> 0 | R876: =(J876+K876)-Q876 -> #VALUE! | S876: =SUM(J876+K876) -> #VALUE! | T876: 0 | U876: =-SUM(J876+K876)*T876 -> #VALUE! | AC876: =IFERROR(A876,"") | AD876: =J876+K876 -> #VALUE! | AE876: =(AD876/100)*80 -> #VALUE!
A877: =IF(F877="","",1+MAX(A$10:A876)) | C877: 410 | D877: Abwasser-, Wasser, Gasanlagen | H877: 0 | I877: =-SUM(G877*H877) -> 0 | J877: =SUM(G877+I877) -> 0 | K877: =IF(ISERROR(VLOOKUP(AC877,Nachträge!$A$2:$Y$646,25,FALSE)),"",VLOOKUP(AC877,Nachträge!$A$2:$Y$646,25,FALSE)) | L877: 0 | M877: =-SUM(K877*L877) -> #VALUE! | N877: =SUM(K877+M877) -> #VALUE! | O877: =SUM(G877+K877) -> #VALUE! | P877: =SUM(J877+N877) -> #VALUE! | Q877: =SUMIFS(Zahlungsfreigabe!$L$12:$L$1000,Zahlungsfreigabe!$C$12:$C$1000,Baukosten!F877,Zahlungsfreigabe!$E$12:$E$1000,D877) -> 0 | R877: =(J877+K877)-Q877 -> #VALUE! | S877: =SUM(J877+K877) -> #VALUE! | T877: 0 | U877: =-SUM(J877+K877)*T877 -> #VALUE! | AC877: =IFERROR(A877,"") | AD877: =J877+K877 -> #VALUE! | AE877: =(AD877/100)*80 -> #VALUE!
A878: =IF(F878="","",1+MAX(A$10:A877)) | C878: 410 | D878: Abwasser-, Wasser, Gasanlagen | H878: 0 | I878: =-SUM(G878*H878) -> 0 | J878: =SUM(G878+I878) -> 0 | K878: =IF(ISERROR(VLOOKUP(AC878,Nachträge!$A$2:$Y$646,25,FALSE)),"",VLOOKUP(AC878,Nachträge!$A$2:$Y$646,25,FALSE)) | L878: 0 | M878: =-SUM(K878*L878) -> #VALUE! | N878: =SUM(K878+M878) -> #VALUE! | O878: =SUM(G878+K878) -> #VALUE! | P878: =SUM(J878+N878) -> #VALUE! | Q878: =SUMIFS(Zahlungsfreigabe!$L$12:$L$1000,Zahlungsfreigabe!$C$12:$C$1000,Baukosten!F878,Zahlungsfreigabe!$E$12:$E$1000,D878) -> 0 | R878: =(J878+K878)-Q878 -> #VALUE! | S878: =SUM(J878+K878) -> #VALUE! | T878: 0 | U878: =-SUM(J878+K878)*T878 -> #VALUE! | AC878: =IFERROR(A878,"") | AD878: =J878+K878 -> #VALUE! | AE878: =(AD878/100)*80 -> #VALUE!
A879: =IF(F879="","",1+MAX(A$10:A878)) | C879: 410 | D879: Abwasser-, Wasser, Gasanlagen | H879: 0 | I879: =-SUM(G879*H879) -> 0 | J879: =SUM(G879+I879) -> 0 | K879: =IF(ISERROR(VLOOKUP(AC879,Nachträge!$A$2:$Y$646,25,FALSE)),"",VLOOKUP(AC879,Nachträge!$A$2:$Y$646,25,FALSE)) | L879: 0 | M879: =-SUM(K879*L879) -> #VALUE! | N879: =SUM(K879+M879) -> #VALUE! | O879: =SUM(G879+K879) -> #VALUE! | P879: =SUM(J879+N879) -> #VALUE! | Q879: =SUMIFS(Zahlungsfreigabe!$L$12:$L$1000,Zahlungsfreigabe!$C$12:$C$1000,Baukosten!F879,Zahlungsfreigabe!$E$12:$E$1000,D879) -> 0 | R879: =(J879+K879)-Q879 -> #VALUE! | S879: =SUM(J879+K879) -> #VALUE! | T879: 0 | U879: =-SUM(J879+K879)*T879 -> #VALUE! | AC879: =IFERROR(A879,"") | AD879: =J879+K879 -> #VALUE! | AE879: =(AD879/100)*80 -> #VALUE!
A880: =IF(F880="","",1+MAX(A$10:A879)) | C880: 410 | D880: Abwasser-, Wasser, Gasanlagen | H880: 0 | I880: =-SUM(G880*H880) -> 0 | J880: =SUM(G880+I880) -> 0 | K880: =IF(ISERROR(VLOOKUP(AC880,Nachträge!$A$2:$Y$646,25,FALSE)),"",VLOOKUP(AC880,Nachträge!$A$2:$Y$646,25,FALSE)) | L880: 0 | M880: =-SUM(K880*L880) -> #VALUE! | N880: =SUM(K880+M880) -> #VALUE! | O880: =SUM(G880+K880) -> #VALUE! | P880: =SUM(J880+N880) -> #VALUE! | Q880: =SUMIFS(Zahlungsfreigabe!$L$12:$L$1000,Zahlungsfreigabe!$C$12:$C$1000,Baukosten!F880,Zahlungsfreigabe!$E$12:$E$1000,D880) -> 0 | R880: =(J880+K880)-Q880 -> #VALUE! | S880: =SUM(J880+K880) -> #VALUE! | T880: 0 | U880: =-SUM(J880+K880)*T880 -> #VALUE! | AC880: =IFERROR(A880,"") | AD880: =J880+K880 -> #VALUE! | AE880: =(AD880/100)*80 -> #VALUE!
A881: =IF(F881="","",1+MAX(A$10:A880)) | C881: 410 | D881: Abwasser-, Wasser, Gasanlagen | H881: 0 | I881: =-SUM(G881*H881) -> 0 | J881: =SUM(G881+I881) -> 0 | K881: =IF(ISERROR(VLOOKUP(AC881,Nachträge!$A$2:$Y$646,25,FALSE)),"",VLOOKUP(AC881,Nachträge!$A$2:$Y$646,25,FALSE)) | L881: 0 | M881: =-SUM(K881*L881) -> #VALUE! | N881: =SUM(K881+M881) -> #VALUE! | O881: =SUM(G881+K881) -> #VALUE! | P881: =SUM(J881+N881) -> #VALUE! | Q881: =SUMIFS(Zahlungsfreigabe!$L$12:$L$1000,Zahlungsfreigabe!$C$12:$C$1000,Baukosten!F881,Zahlungsfreigabe!$E$12:$E$1000,D881) -> 0 | R881: =(J881+K881)-Q881 -> #VALUE! | S881: =SUM(J881+K881) -> #VALUE! | T881: 0 | U881: =-SUM(J881+K881)*T881 -> #VALUE! | AC881: =IFERROR(A881,"") | AD881: =J881+K881 -> #VALUE! | AE881: =(AD881/100)*80 -> #VALUE!
A882: =IF(F882="","",1+MAX(A$10:A881)) | C882: 410 | D882: Abwasser-, Wasser, Gasanlagen | H882: 0 | I882: =-SUM(G882*H882) -> 0 | J882: =SUM(G882+I882) -> 0 | K882: =IF(ISERROR(VLOOKUP(AC882,Nachträge!$A$2:$Y$646,25,FALSE)),"",VLOOKUP(AC882,Nachträge!$A$2:$Y$646,25,FALSE)) | L882: 0 | M882: =-SUM(K882*L882) -> #VALUE! | N882: =SUM(K882+M882) -> #VALUE! | O882: =SUM(G882+K882) -> #VALUE! | P882: =SUM(J882+N882) -> #VALUE! | Q882: =SUMIFS(Zahlungsfreigabe!$L$12:$L$1000,Zahlungsfreigabe!$C$12:$C$1000,Baukosten!F882,Zahlungsfreigabe!$E$12:$E$1000,D882) -> 0 | R882: =(J882+K882)-Q882 -> #VALUE! | S882: =SUM(J882+K882) -> #VALUE! | T882: 0 | U882: =-SUM(J882+K882)*T882 -> #VALUE! | AC882: =IFERROR(A882,"") | AD882: =J882+K882 -> #VALUE! | AE882: =(AD882/100)*80 -> #VALUE!
A883: =IF(F883="","",1+MAX(A$10:A882)) | C883: 410 | D883: Abwasser-, Wasser, Gasanlagen | H883: 0 | I883: =-SUM(G883*H883) -> 0 | J883: =SUM(G883+I883) -> 0 | K883: =IF(ISERROR(VLOOKUP(AC883,Nachträge!$A$2:$Y$646,25,FALSE)),"",VLOOKUP(AC883,Nachträge!$A$2:$Y$646,25,FALSE)) | L883: 0 | M883: =-SUM(K883*L883) -> #VALUE! | N883: =SUM(K883+M883) -> #VALUE! | O883: =SUM(G883+K883) -> #VALUE! | P883: =SUM(J883+N883) -> #VALUE! | Q883: =SUMIFS(Zahlungsfreigabe!$L$12:$L$1000,Zahlungsfreigabe!$C$12:$C$1000,Baukosten!F883,Zahlungsfreigabe!$E$12:$E$1000,D883) -> 0 | R883: =(J883+K883)-Q883 -> #VALUE! | S883: =SUM(J883+K883) -> #VALUE! | T883: 0 | U883: =-SUM(J883+K883)*T883 -> #VALUE! | AC883: =IFERROR(A883,"") | AD883: =J883+K883 -> #VALUE! | AE883: =(AD883/100)*80 -> #VALUE!
... A1039: =IF(F1039="","",1+MAX(A$10:A1038)) | C1039: 461 | D1039: Aufzugsanlagen | H1039: 0 | I1039: =-SUM(G1039*H1039) -> 0 | J1039: =SUM(G1039+I1039) -> 0 | K1039: =IF(ISERROR(VLOOKUP(AC1039,Nachträge!$A$2:$Y$646,25,FALSE)),"",VLOOKUP(AC1039,Nachträge!$A$2:$Y$646,25,FALSE)) | L1039: 0 | M1039: =-SUM(K1039*L1039) -> #VALUE! | N1039: =SUM(K1039+M1039) -> #VALUE! | O1039: =SUM(G1039+K1039) -> #VALUE! | P1039: =SUM(J1039+N1039) -> #VALUE! | Q1039: =SUMIFS(Zahlungsfreigabe!$L$12:$L$1000,Zahlungsfreigabe!$C$12:$C$1000,Baukosten!F1039,Zahlungsfreigabe!$E$12:$E$1000,D1039) -> 0 | R1039: =(J1039+K1039)-Q1039 -> #VALUE! | S1039: =SUM(J1039+K1039) -> #VALUE! | T1039: 0 | U1039: =-SUM(J1039+K1039)*T1039 -> #VALUE! | AC1039: =IFERROR(A1039,"") | AD1039: =J1039+K1039 -> #VALUE! | AE1039: =(AD1039/100)*80 -> #VALUE!
A1040: =IF(F1040="","",1+MAX(A$10:A1039)) | C1040: Summe | E1040: =SUM(E872:E1039) -> 0 | G1040: =SUM(G872:G1039) -> 0 | I1040: =-SUM(I872:I1039) -> 0 | J1040: =SUM(J872:J1039) -> 0 | K1040: =SUM(K872:K1039) -> 0 | M1040: =-SUM(M872:M1039) -> #VALUE! | N1040: =SUM(N872:N1039) -> #VALUE! | O1040: =SUM(O872:O1039) -> #VALUE! | P1040: =SUM(P872:P1039) -> #VALUE! | Q1040: =SUM(Q872:Q1039) -> 0 | R1040: =SUM(R872:R1039) -> #VALUE! | S1040: =SUM(S872:S1039) -> #VALUE! | U1040: =-SUM(U872:U1039) -> #VALUE! | AC1040: =IFERROR(A1040,"") | AD1040: =J1040+K1040 -> 0 | AE1040: =(AD1040/100)*80 -> 0
A1041: =IF(F1041="","",1+MAX(A$10:A1040)) | B1041: 500 | C1041: Außenanlagen | AC1041: =IFERROR(A1041,"") | AD1041: =J1041+K1041 -> 0 | AE1041: =(AD1041/100)*80 -> 0
A1042: =IF(F1042="","",1+MAX(A$10:A1041)) | C1042: 510 | D1042: Geländeflächen | H1042: 0 | I1042: =-SUM(G1042*H1042) -> 0 | J1042: =SUM(G1042+I1042) -> 0 | K1042: =IF(ISERROR(VLOOKUP(AC1042,Nachträge!$A$2:$Y$646,25,FALSE)),"",VLOOKUP(AC1042,Nachträge!$A$2:$Y$646,25,FALSE)) | L1042: 0 | M1042: =-SUM(K1042*L1042) -> #VALUE! | N1042: =SUM(K1042+M1042) -> #VALUE! | O1042: =SUM(G1042+K1042) -> #VALUE! | P1042: =SUM(J1042+N1042) -> #VALUE! | Q1042: =SUMIFS(Zahlungsfreigabe!$M$12:$M$1000,Zahlungsfreigabe!$C$12:$C$1000,Baukosten!F1042,Zahlungsfreigabe!$E$12:$E$1000,D1042) -> 0 | R1042: =(J1042+K1042)-Q1042 -> #VALUE! | S1042: =SUM(J1042+K1042) -> #VALUE! | T1042: 0 | U1042: =-SUM(J1042+K1042)*T1042 -> #VALUE! | AC1042: =IFERROR(A1042,"") | AD1042: =J1042+K1042 -> #VALUE! | AE1042: =(AD1042/100)*80 -> #VALUE!
A1043: =IF(F1043="","",1+MAX(A$10:A1042)) | C1043: 510 | D1043: Geländeflächen | H1043: 0 | I1043: =-SUM(G1043*H1043) -> 0 | J1043: =SUM(G1043+I1043) -> 0 | K1043: =IF(ISERROR(VLOOKUP(AC1043,Nachträge!$A$2:$Y$646,25,FALSE)),"",VLOOKUP(AC1043,Nachträge!$A$2:$Y$646,25,FALSE)) | L1043: 0 | M1043: =-SUM(K1043*L1043) -> #VALUE! | N1043: =SUM(K1043+M1043) -> #VALUE! | O1043: =SUM(G1043+K1043) -> #VALUE! | P1043: =SUM(J1043+N1043) -> #VALUE! | Q1043: =SUMIFS(Zahlungsfreigabe!$M$12:$M$1000,Zahlungsfreigabe!$C$12:$C$1000,Baukosten!F1043,Zahlungsfreigabe!$E$12:$E$1000,D1043) -> 0 | R1043: =(J1043+K1043)-Q1043 -> #VALUE! | S1043: =SUM(J1043+K1043) -> #VALUE! | T1043: 0 | U1043: =-SUM(J1043+K1043)*T1043 -> #VALUE! | AC1043: =IFERROR(A1043,"") | AD1043: =J1043+K1043 -> #VALUE! | AE1043: =(AD1043/100)*80 -> #VALUE!
A1044: =IF(F1044="","",1+MAX(A$10:A1043)) | C1044: 510 | D1044: Geländeflächen | H1044: 0 | I1044: =-SUM(G1044*H1044) -> 0 | J1044: =SUM(G1044+I1044) -> 0 | K1044: =IF(ISERROR(VLOOKUP(AC1044,Nachträge!$A$2:$Y$646,25,FALSE)),"",VLOOKUP(AC1044,Nachträge!$A$2:$Y$646,25,FALSE)) | L1044: 0 | M1044: =-SUM(K1044*L1044) -> #VALUE! | N1044: =SUM(K1044+M1044) -> #VALUE! | O1044: =SUM(G1044+K1044) -> #VALUE! | P1044: =SUM(J1044+N1044) -> #VALUE! | Q1044: =SUMIFS(Zahlungsfreigabe!$M$12:$M$1000,Zahlungsfreigabe!$C$12:$C$1000,Baukosten!F1044,Zahlungsfreigabe!$E$12:$E$1000,D1044) -> 0 | R1044: =(J1044+K1044)-Q1044 -> #VALUE! | S1044: =SUM(J1044+K1044) -> #VALUE! | T1044: 0 | U1044: =-SUM(J1044+K1044)*T1044 -> #VALUE! | AC1044: =IFERROR(A1044,"") | AD1044: =J1044+K1044 -> #VALUE! | AE1044: =(AD1044/100)*80 -> #VALUE!
A1045: =IF(F1045="","",1+MAX(A$10:A1044)) | C1045: 510 | D1045: Geländeflächen | H1045: 0 | I1045: =-SUM(G1045*H1045) -> 0 | J1045: =SUM(G1045+I1045) -> 0 | K1045: =IF(ISERROR(VLOOKUP(AC1045,Nachträge!$A$2:$Y$646,25,FALSE)),"",VLOOKUP(AC1045,Nachträge!$A$2:$Y$646,25,FALSE)) | L1045: 0 | M1045: =-SUM(K1045*L1045) -> #VALUE! | N1045: =SUM(K1045+M1045) -> #VALUE! | O1045: =SUM(G1045+K1045) -> #VALUE! | P1045: =SUM(J1045+N1045) -> #VALUE! | Q1045: =SUMIFS(Zahlungsfreigabe!$M$12:$M$1000,Zahlungsfreigabe!$C$12:$C$1000,Baukosten!F1045,Zahlungsfreigabe!$E$12:$E$1000,D1045) -> 0 | R1045: =(J1045+K1045)-Q1045 -> #VALUE! | S1045: =SUM(J1045+K1045) -> #VALUE! | T1045: 0 | U1045: =-SUM(J1045+K1045)*T1045 -> #VALUE! | AC1045: =IFERROR(A1045,"") | AD1045: =J1045+K1045 -> #VALUE! | AE1045: =(AD1045/100)*80 -> #VALUE!
A1046: =IF(F1046="","",1+MAX(A$10:A1045)) | C1046: 510 | D1046: Geländeflächen | H1046: 0 | I1046: =-SUM(G1046*H1046) -> 0 | J1046: =SUM(G1046+I1046) -> 0 | K1046: =IF(ISERROR(VLOOKUP(AC1046,Nachträge!$A$2:$Y$646,25,FALSE)),"",VLOOKUP(AC1046,Nachträge!$A$2:$Y$646,25,FALSE)) | L1046: 0 | M1046: =-SUM(K1046*L1046) -> #VALUE! | N1046: =SUM(K1046+M1046) -> #VALUE! | O1046: =SUM(G1046+K1046) -> #VALUE! | P1046: =SUM(J1046+N1046) -> #VALUE! | Q1046: =SUMIFS(Zahlungsfreigabe!$M$12:$M$1000,Zahlungsfreigabe!$C$12:$C$1000,Baukosten!F1046,Zahlungsfreigabe!$E$12:$E$1000,D1046) -> 0 | R1046: =(J1046+K1046)-Q1046 -> #VALUE! | S1046: =SUM(J1046+K1046) -> #VALUE! | T1046: 0 | U1046: =-SUM(J1046+K1046)*T1046 -> #VALUE! | AC1046: =IFERROR(A1046,"") | AD1046: =J1046+K1046 -> #VALUE! | AE1046: =(AD1046/100)*80 -> #VALUE!
A1047: =IF(F1047="","",1+MAX(A$10:A1046)) | C1047: 520 | D1047: Befestigte Flächen | H1047: 0 | I1047: =-SUM(G1047*H1047) -> 0 | J1047: =SUM(G1047+I1047) -> 0 | K1047: =IF(ISERROR(VLOOKUP(AC1047,Nachträge!$A$2:$Y$646,25,FALSE)),"",VLOOKUP(AC1047,Nachträge!$A$2:$Y$646,25,FALSE)) | L1047: 0 | M1047: =-SUM(K1047*L1047) -> #VALUE! | N1047: =SUM(K1047+M1047) -> #VALUE! | O1047: =SUM(G1047+K1047) -> #VALUE! | P1047: =SUM(J1047+N1047) -> #VALUE! | Q1047: =SUMIFS(Zahlungsfreigabe!$M$12:$M$1000,Zahlungsfreigabe!$C$12:$C$1000,Baukosten!F1047,Zahlungsfreigabe!$E$12:$E$1000,D1047) -> 0 | R1047: =(J1047+K1047)-Q1047 -> #VALUE! | S1047: =SUM(J1047+K1047) -> #VALUE! | T1047: 0 | U1047: =-SUM(J1047+K1047)*T1047 -> #VALUE! | AC1047: =IFERROR(A1047,"") | AD1047: =J1047+K1047 -> #VALUE! | AE1047: =(AD1047/100)*80 -> #VALUE!
A1048: =IF(F1048="","",1+MAX(A$10:A1047)) | C1048: 520 | D1048: Befestigte Flächen | H1048: 0 | I1048: =-SUM(G1048*H1048) -> 0 | J1048: =SUM(G1048+I1048) -> 0 | K1048: =IF(ISERROR(VLOOKUP(AC1048,Nachträge!$A$2:$Y$646,25,FALSE)),"",VLOOKUP(AC1048,Nachträge!$A$2:$Y$646,25,FALSE)) | L1048: 0 | M1048: =-SUM(K1048*L1048) -> #VALUE! | N1048: =SUM(K1048+M1048) -> #VALUE! | O1048: =SUM(G1048+K1048) -> #VALUE! | P1048: =SUM(J1048+N1048) -> #VALUE! | Q1048: =SUMIFS(Zahlungsfreigabe!$M$12:$M$1000,Zahlungsfreigabe!$C$12:$C$1000,Baukosten!F1048,Zahlungsfreigabe!$E$12:$E$1000,D1048) -> 0 | R1048: =(J1048+K1048)-Q1048 -> #VALUE! | S1048: =SUM(J1048+K1048) -> #VALUE! | T1048: 0 | U1048: =-SUM(J1048+K1048)*T1048 -> #VALUE! | AC1048: =IFERROR(A1048,"") | AD1048: =J1048+K1048 -> #VALUE! | AE1048: =(AD1048/100)*80 -> #VALUE!
A1049: =IF(F1049="","",1+MAX(A$10:A1048)) | C1049: 520 | D1049: Befestigte Flächen | H1049: 0 | I1049: =-SUM(G1049*H1049) -> 0 | J1049: =SUM(G1049+I1049) -> 0 | K1049: =IF(ISERROR(VLOOKUP(AC1049,Nachträge!$A$2:$Y$646,25,FALSE)),"",VLOOKUP(AC1049,Nachträge!$A$2:$Y$646,25,FALSE)) | L1049: 0 | M1049: =-SUM(K1049*L1049) -> #VALUE! | N1049: =SUM(K1049+M1049) -> #VALUE! | O1049: =SUM(G1049+K1049) -> #VALUE! | P1049: =SUM(J1049+N1049) -> #VALUE! | Q1049: =SUMIFS(Zahlungsfreigabe!$M$12:$M$1000,Zahlungsfreigabe!$C$12:$C$1000,Baukosten!F1049,Zahlungsfreigabe!$E$12:$E$1000,D1049) -> 0 | R1049: =(J1049+K1049)-Q1049 -> #VALUE! | S1049: =SUM(J1049+K1049) -> #VALUE! | T1049: 0 | U1049: =-SUM(J1049+K1049)*T1049 -> #VALUE! | AC1049: =IFERROR(A1049,"") | AD1049: =J1049+K1049 -> #VALUE! | AE1049: =(AD1049/100)*80 -> #VALUE!
A1050: =IF(F1050="","",1+MAX(A$10:A1049)) | C1050: 520 | D1050: Befestigte Flächen | H1050: 0 | I1050: =-SUM(G1050*H1050) -> 0 | J1050: =SUM(G1050+I1050) -> 0 | K1050: =IF(ISERROR(VLOOKUP(AC1050,Nachträge!$A$2:$Y$646,25,FALSE)),"",VLOOKUP(AC1050,Nachträge!$A$2:$Y$646,25,FALSE)) | L1050: 0 | M1050: =-SUM(K1050*L1050) -> #VALUE! | N1050: =SUM(K1050+M1050) -> #VALUE! | O1050: =SUM(G1050+K1050) -> #VALUE! | P1050: =SUM(J1050+N1050) -> #VALUE! | Q1050: =SUMIFS(Zahlungsfreigabe!$M$12:$M$1000,Zahlungsfreigabe!$C$12:$C$1000,Baukosten!F1050,Zahlungsfreigabe!$E$12:$E$1000,D1050) -> 0 | R1050: =(J1050+K1050)-Q1050 -> #VALUE! | S1050: =SUM(J1050+K1050) -> #VALUE! | T1050: 0 | U1050: =-SUM(J1050+K1050)*T1050 -> #VALUE! | AC1050: =IFERROR(A1050,"") | AD1050: =J1050+K1050 -> #VALUE! | AE1050: =(AD1050/100)*80 -> #VALUE!
A1051: =IF(F1051="","",1+MAX(A$10:A1050)) | C1051: 520 | D1051: Befestigte Flächen | H1051: 0 | I1051: =-SUM(G1051*H1051) -> 0 | J1051: =SUM(G1051+I1051) -> 0 | K1051: =IF(ISERROR(VLOOKUP(AC1051,Nachträge!$A$2:$Y$646,25,FALSE)),"",VLOOKUP(AC1051,Nachträge!$A$2:$Y$646,25,FALSE)) | L1051: 0 | M1051: =-SUM(K1051*L1051) -> #VALUE! | N1051: =SUM(K1051+M1051) -> #VALUE! | O1051: =SUM(G1051+K1051) -> #VALUE! | P1051: =SUM(J1051+N1051) -> #VALUE! | Q1051: =SUMIFS(Zahlungsfreigabe!$M$12:$M$1000,Zahlungsfreigabe!$C$12:$C$1000,Baukosten!F1051,Zahlungsfreigabe!$E$12:$E$1000,D1051) -> 0 | R1051: =(J1051+K1051)-Q1051 -> #VALUE! | S1051: =SUM(J1051+K1051) -> #VALUE! | T1051: 0 | U1051: =-SUM(J1051+K1051)*T1051 -> #VALUE! | AC1051: =IFERROR(A1051,"") | AD1051: =J1051+K1051 -> #VALUE! | AE1051: =(AD1051/100)*80 -> #VALUE!
A1052: =IF(F1052="","",1+MAX(A$10:A1051)) | C1052: 530 | D1052: Baukonstruktion in Außenanlagen | H1052: 0 | I1052: =-SUM(G1052*H1052) -> 0 | J1052: =SUM(G1052+I1052) -> 0 | K1052: =IF(ISERROR(VLOOKUP(AC1052,Nachträge!$A$2:$Y$646,25,FALSE)),"",VLOOKUP(AC1052,Nachträge!$A$2:$Y$646,25,FALSE)) | L1052: 0 | M1052: =-SUM(K1052*L1052) -> #VALUE! | N1052: =SUM(K1052+M1052) -> #VALUE! | O1052: =SUM(G1052+K1052) -> #VALUE! | P1052: =SUM(J1052+N1052) -> #VALUE! | Q1052: =SUMIFS(Zahlungsfreigabe!$M$12:$M$1000,Zahlungsfreigabe!$C$12:$C$1000,Baukosten!F1052,Zahlungsfreigabe!$E$12:$E$1000,D1052) -> 0 | R1052: =(J1052+K1052)-Q1052 -> #VALUE! | S1052: =SUM(J1052+K1052) -> #VALUE! | T1052: 0 | U1052: =-SUM(J1052+K1052)*T1052 -> #VALUE! | AC1052: =IFERROR(A1052,"") | AD1052: =J1052+K1052 -> #VALUE! | AE1052: =(AD1052/100)*80 -> #VALUE!
A1053: =IF(F1053="","",1+MAX(A$10:A1052)) | C1053: 530 | D1053: Baukonstruktion in Außenanlagen | H1053: 0 | I1053: =-SUM(G1053*H1053) -> 0 | J1053: =SUM(G1053+I1053) -> 0 | K1053: =IF(ISERROR(VLOOKUP(AC1053,Nachträge!$A$2:$Y$646,25,FALSE)),"",VLOOKUP(AC1053,Nachträge!$A$2:$Y$646,25,FALSE)) | L1053: 0 | M1053: =-SUM(K1053*L1053) -> #VALUE! | N1053: =SUM(K1053+M1053) -> #VALUE! | O1053: =SUM(G1053+K1053) -> #VALUE! | P1053: =SUM(J1053+N1053) -> #VALUE! | Q1053: =SUMIFS(Zahlungsfreigabe!$M$12:$M$1000,Zahlungsfreigabe!$C$12:$C$1000,Baukosten!F1053,Zahlungsfreigabe!$E$12:$E$1000,D1053) -> 0 | R1053: =(J1053+K1053)-Q1053 -> #VALUE! | S1053: =SUM(J1053+K1053) -> #VALUE! | T1053: 0 | U1053: =-SUM(J1053+K1053)*T1053 -> #VALUE! | AC1053: =IFERROR(A1053,"") | AD1053: =J1053+K1053 -> #VALUE! | AE1053: =(AD1053/100)*80 -> #VALUE!
... A1065: =IF(F1065="","",1+MAX(A$10:A1064)) | C1065: 551 | D1065: Allgemeine Einbauten | H1065: 0 | I1065: =-SUM(G1065*H1065) -> 0 | J1065: =SUM(G1065+I1065) -> 0 | K1065: =IF(ISERROR(VLOOKUP(AC1065,Nachträge!$A$2:$Y$646,25,FALSE)),"",VLOOKUP(AC1065,Nachträge!$A$2:$Y$646,25,FALSE)) | L1065: 0 | M1065: =-SUM(K1065*L1065) -> #VALUE! | N1065: =SUM(K1065+M1065) -> #VALUE! | O1065: =SUM(G1065+K1065) -> #VALUE! | P1065: =SUM(J1065+N1065) -> #VALUE! | Q1065: =SUMIFS(Zahlungsfreigabe!$M$12:$M$1000,Zahlungsfreigabe!$C$12:$C$1000,Baukosten!F1065,Zahlungsfreigabe!$E$12:$E$1000,D1065) -> 0 | R1065: =(J1065+K1065)-Q1065 -> #VALUE! | S1065: =SUM(J1065+K1065) -> #VALUE! | T1065: 0 | U1065: =-SUM(J1065+K1065)*T1065 -> #VALUE! | AC1065: =IFERROR(A1065,"") | AD1065: =J1065+K1065 -> #VALUE! | AE1065: =(AD1065/100)*80 -> #VALUE!
A1066: =IF(F1066="","",1+MAX(A$10:A1065)) | C1066: Summe | E1066: =SUM(E1042:E1065) -> 0 | G1066: =SUM(G1042:G1065) -> 0 | I1066: =-SUM(I1042:I1065) -> 0 | J1066: =SUM(J1042:J1065) -> 0 | M1066: =-SUM(M1042:M1065) -> #VALUE! | N1066: =SUM(N1042:N1065) -> #VALUE! | O1066: =SUM(O1042:O1065) -> #VALUE! | P1066: =SUM(P1042:P1065) -> #VALUE! | Q1066: =SUM(Q1042:Q1065) -> 0 | R1066: =SUM(R1042:R1065) -> #VALUE! | S1066: =SUM(S1042:S1065) -> #VALUE! | U1066: =-SUM(U1042:U1065) -> #VALUE! | AC1066: =IFERROR(A1066,"") | AD1066: =J1066+M1068 -> #VALUE! | AE1066: =(AD1066/100)*80 -> #VALUE!
A1067: =IF(F1067="","",1+MAX(A$10:A1066)) | AC1067: =IFERROR(A1067,"") | AD1067: =J1067+K1067 -> 0 | AE1067: =(AD1067/100)*80 -> 0
A1068: =IF(F1068="","",1+MAX(A$10:A1067)) | B1068: NETTO-BAUKOSTEN | M1068: =IF(ISERROR(VLOOKUP(AC1066,Nachträge!$A$2:$Y$646,25,FALSE)),"",VLOOKUP(AC1066,Nachträge!$A$2:$Y$646,25,FALSE)) | AC1068: =IFERROR(A1068,"") | AD1068: =J1068+K1068 -> 0 | AE1068: =(AD1068/100)*80 -> 0
A1069: =IF(F1069="","",1+MAX(A$10:A1068)) | AC1069: =IFERROR(A1069,"") | AD1069: =J1069+K1069 -> 0 | AE1069: =(AD1069/100)*80 -> 0
A1070: =IF(F1070="","",1+MAX(A$10:A1069)) | C1070: Sicherheit 10% | H1070: 0 | I1070: =-SUM(G1070*H1070) -> 0 | J1070: =SUM(G1070+I1070) -> 0 | K1070: =IF(ISERROR(VLOOKUP(AC1070,Nachträge!$A$2:$Y$646,25,FALSE)),"",VLOOKUP(AC1070,Nachträge!$A$2:$Y$646,25,FALSE)) | L1070: 0 | M1070: =-SUM(K1070*L1070) -> #VALUE! | N1070: =SUM(K1070+M1070) -> #VALUE! | O1070: =SUM(G1070+K1070) -> #VALUE! | P1070: =SUM(J1070+N1070) -> #VALUE! | AC1070: =IFERROR(A1070,"") | AD1070: =J1070+K1070 -> #VALUE! | AE1070: =(AD1070/100)*80 -> #VALUE!
A1071: =IF(F1071="","",1+MAX(A$10:A1070)) | AC1071: =IFERROR(A1071,"") | AD1071: =J1071+K1071 -> 0 | AE1071: =(AD1071/100)*80 -> 0
A1072: =IF(F1072="","",1+MAX(A$10:A1071)) | B1072: 600 | C1072: Ausstattung/Kunstwerke | AC1072: =IFERROR(A1072,"") | AD1072: =J1072+K1072 -> 0 | AE1072: =(AD1072/100)*80 -> 0
A1073: =IF(F1073="","",1+MAX(A$10:A1072)) | C1073: 610 | D1073: Allgemeine Austattung | H1073: 0 | I1073: =-SUM(G1073*H1073) -> 0 | J1073: =SUM(G1073+I1073) -> 0 | K1073: =IF(ISERROR(VLOOKUP(AC1073,Nachträge!$A$2:$Y$646,25,FALSE)),"",VLOOKUP(AC1073,Nachträge!$A$2:$Y$646,25,FALSE)) | L1073: 0 | M1073: =-SUM(K1073*L1073) -> #VALUE! | N1073: =SUM(K1073+M1073) -> #VALUE! | O1073: =SUM(G1073+K1073) -> #VALUE! | P1073: =SUM(J1073+N1073) -> #VALUE! | Q1073: =SUMIFS(Zahlungsfreigabe!$N$12:$N$1000,Zahlungsfreigabe!$C$12:$C$1000,Baukosten!F1073,Zahlungsfreigabe!$E$12:$E$1000,D1073) -> 0 | R1073: =(J1073+K1073)-Q1073 -> #VALUE! | S1073: =SUM(J1073+K1073) -> #VALUE! | T1073: 0 | U1073: =-SUM(J1073+K1073)*T1073 -> #VALUE! | AC1073: =IFERROR(A1073,"") | AD1073: =J1073+K1073 -> #VALUE! | AE1073: =(AD1073/100)*80 -> #VALUE!
A1074: =IF(F1074="","",1+MAX(A$10:A1073)) | C1074: 610 | D1074: Allgemeine Austattung | H1074: 0 | I1074: =-SUM(G1074*H1074) -> 0 | J1074: =SUM(G1074+I1074) -> 0 | K1074: =IF(ISERROR(VLOOKUP(AC1074,Nachträge!$A$2:$Y$646,25,FALSE)),"",VLOOKUP(AC1074,Nachträge!$A$2:$Y$646,25,FALSE)) | L1074: 0 | M1074: =-SUM(K1074*L1074) -> #VALUE! | N1074: =SUM(K1074+M1074) -> #VALUE! | O1074: =SUM(G1074+K1074) -> #VALUE! | P1074: =SUM(J1074+N1074) -> #VALUE! | Q1074: =SUMIFS(Zahlungsfreigabe!$N$12:$N$1000,Zahlungsfreigabe!$C$12:$C$1000,Baukosten!F1074,Zahlungsfreigabe!$E$12:$E$1000,D1074) -> 0 | R1074: =(J1074+K1074)-Q1074 -> #VALUE! | S1074: =SUM(J1074+K1074) -> #VALUE! | T1074: 0 | U1074: =-SUM(J1074+K1074)*T1074 -> #VALUE! | AC1074: =IFERROR(A1074,"") | AD1074: =J1074+K1074 -> #VALUE! | AE1074: =(AD1074/100)*80 -> #VALUE!
A1075: =IF(F1075="","",1+MAX(A$10:A1074)) | C1075: 610 | D1075: Allgemeine Austattung | H1075: 0 | I1075: =-SUM(G1075*H1075) -> 0 | J1075: =SUM(G1075+I1075) -> 0 | K1075: =IF(ISERROR(VLOOKUP(AC1075,Nachträge!$A$2:$Y$646,25,FALSE)),"",VLOOKUP(AC1075,Nachträge!$A$2:$Y$646,25,FALSE)) | L1075: 0 | M1075: =-SUM(K1075*L1075) -> #VALUE! | N1075: =SUM(K1075+M1075) -> #VALUE! | O1075: =SUM(G1075+K1075) -> #VALUE! | P1075: =SUM(J1075+N1075) -> #VALUE! | Q1075: =SUMIFS(Zahlungsfreigabe!$N$12:$N$1000,Zahlungsfreigabe!$C$12:$C$1000,Baukosten!F1075,Zahlungsfreigabe!$E$12:$E$1000,D1075) -> 0 | R1075: =(J1075+K1075)-Q1075 -> #VALUE! | S1075: =SUM(J1075+K1075) -> #VALUE! | T1075: 0 | U1075: =-SUM(J1075+K1075)*T1075 -> #VALUE! | AC1075: =IFERROR(A1075,"") | AD1075: =J1075+K1075 -> #VALUE! | AE1075: =(AD1075/100)*80 -> #VALUE!
A1076: =IF(F1076="","",1+MAX(A$10:A1075)) | C1076: 610 | D1076: Allgemeine Austattung | H1076: 0 | I1076: =-SUM(G1076*H1076) -> 0 | J1076: =SUM(G1076+I1076) -> 0 | K1076: =IF(ISERROR(VLOOKUP(AC1076,Nachträge!$A$2:$Y$646,25,FALSE)),"",VLOOKUP(AC1076,Nachträge!$A$2:$Y$646,25,FALSE)) | L1076: 0 | M1076: =-SUM(K1076*L1076) -> #VALUE! | N1076: =SUM(K1076+M1076) -> #VALUE! | O1076: =SUM(G1076+K1076) -> #VALUE! | P1076: =SUM(J1076+N1076) -> #VALUE! | Q1076: =SUMIFS(Zahlungsfreigabe!$N$12:$N$1000,Zahlungsfreigabe!$C$12:$C$1000,Baukosten!F1076,Zahlungsfreigabe!$E$12:$E$1000,D1076) -> 0 | R1076: =(J1076+K1076)-Q1076 -> #VALUE! | S1076: =SUM(J1076+K1076) -> #VALUE! | T1076: 0 | U1076: =-SUM(J1076+K1076)*T1076 -> #VALUE! | AC1076: =IFERROR(A1076,"") | AD1076: =J1076+K1076 -> #VALUE! | AE1076: =(AD1076/100)*80 -> #VALUE!
A1077: =IF(F1077="","",1+MAX(A$10:A1076)) | C1077: 610 | D1077: Allgemeine Austattung | H1077: 0 | I1077: =-SUM(G1077*H1077) -> 0 | J1077: =SUM(G1077+I1077) -> 0 | K1077: =IF(ISERROR(VLOOKUP(AC1077,Nachträge!$A$2:$Y$646,25,FALSE)),"",VLOOKUP(AC1077,Nachträge!$A$2:$Y$646,25,FALSE)) | L1077: 0 | M1077: =-SUM(K1077*L1077) -> #VALUE! | N1077: =SUM(K1077+M1077) -> #VALUE! | O1077: =SUM(G1077+K1077) -> #VALUE! | P1077: =SUM(J1077+N1077) -> #VALUE! | Q1077: =SUMIFS(Zahlungsfreigabe!$N$12:$N$1000,Zahlungsfreigabe!$C$12:$C$1000,Baukosten!F1077,Zahlungsfreigabe!$E$12:$E$1000,D1077) -> 0 | R1077: =(J1077+K1077)-Q1077 -> #VALUE! | S1077: =SUM(J1077+K1077) -> #VALUE! | T1077: 0 | U1077: =-SUM(J1077+K1077)*T1077 -> #VALUE! | AC1077: =IFERROR(A1077,"") | AD1077: =J1077+K1077 -> #VALUE! | AE1077: =(AD1077/100)*80 -> #VALUE!
A1078: =IF(F1078="","",1+MAX(A$10:A1077)) | C1078: 610 | D1078: Allgemeine Austattung | H1078: 0 | I1078: =-SUM(G1078*H1078) -> 0 | J1078: =SUM(G1078+I1078) -> 0 | K1078: =IF(ISERROR(VLOOKUP(AC1078,Nachträge!$A$2:$Y$646,25,FALSE)),"",VLOOKUP(AC1078,Nachträge!$A$2:$Y$646,25,FALSE)) | L1078: 0 | M1078: =-SUM(K1078*L1078) -> #VALUE! | N1078: =SUM(K1078+M1078) -> #VALUE! | O1078: =SUM(G1078+K1078) -> #VALUE! | P1078: =SUM(J1078+N1078) -> #VALUE! | Q1078: =SUMIFS(Zahlungsfreigabe!$N$12:$N$1000,Zahlungsfreigabe!$C$12:$C$1000,Baukosten!F1078,Zahlungsfreigabe!$E$12:$E$1000,D1078) -> 0 | R1078: =(J1078+K1078)-Q1078 -> #VALUE! | S1078: =SUM(J1078+K1078) -> #VALUE! | T1078: 0 | U1078: =-SUM(J1078+K1078)*T1078 -> #VALUE! | AC1078: =IFERROR(A1078,"") | AD1078: =J1078+K1078 -> #VALUE! | AE1078: =(AD1078/100)*80 -> #VALUE!
A1079: =IF(F1079="","",1+MAX(A$10:A1078)) | C1079: 612 | D1079: Besondere Austattung | H1079: 0 | I1079: =-SUM(G1079*H1079) -> 0 | J1079: =SUM(G1079+I1079) -> 0 | K1079: =IF(ISERROR(VLOOKUP(AC1079,Nachträge!$A$2:$Y$646,25,FALSE)),"",VLOOKUP(AC1079,Nachträge!$A$2:$Y$646,25,FALSE)) | L1079: 0 | M1079: =-SUM(K1079*L1079) -> #VALUE! | N1079: =SUM(K1079+M1079) -> #VALUE! | O1079: =SUM(G1079+K1079) -> #VALUE! | P1079: =SUM(J1079+N1079) -> #VALUE! | Q1079: =SUMIFS(Zahlungsfreigabe!$N$12:$N$1000,Zahlungsfreigabe!$C$12:$C$1000,Baukosten!F1079,Zahlungsfreigabe!$E$12:$E$1000,D1079) -> 0 | R1079: =(J1079+K1079)-Q1079 -> #VALUE! | S1079: =SUM(J1079+K1079) -> #VALUE! | T1079: 0 | U1079: =-SUM(J1079+K1079)*T1079 -> #VALUE! | AC1079: =IFERROR(A1079,"") | AD1079: =J1079+K1079 -> #VALUE! | AE1079: =(AD1079/100)*80 -> #VALUE!
A1080: =IF(F1080="","",1+MAX(A$10:A1079)) | C1080: 612 | D1080: Besondere Austattung | H1080: 0 | I1080: =-SUM(G1080*H1080) -> 0 | J1080: =SUM(G1080+I1080) -> 0 | K1080: =IF(ISERROR(VLOOKUP(AC1080,Nachträge!$A$2:$Y$646,25,FALSE)),"",VLOOKUP(AC1080,Nachträge!$A$2:$Y$646,25,FALSE)) | L1080: 0 | M1080: =-SUM(K1080*L1080) -> #VALUE! | N1080: =SUM(K1080+M1080) -> #VALUE! | O1080: =SUM(G1080+K1080) -> #VALUE! | P1080: =SUM(J1080+N1080) -> #VALUE! | Q1080: =SUMIFS(Zahlungsfreigabe!$N$12:$N$1000,Zahlungsfreigabe!$C$12:$C$1000,Baukosten!F1080,Zahlungsfreigabe!$E$12:$E$1000,D1080) -> 0 | R1080: =(J1080+K1080)-Q1080 -> #VALUE! | S1080: =SUM(J1080+K1080) -> #VALUE! | T1080: 0 | U1080: =-SUM(J1080+K1080)*T1080 -> #VALUE! | AC1080: =IFERROR(A1080,"") | AD1080: =J1080+K1080 -> #VALUE! | AE1080: =(AD1080/100)*80 -> #VALUE!
A1081: =IF(F1081="","",1+MAX(A$10:A1080)) | C1081: 612 | D1081: Besondere Austattung | H1081: 0 | I1081: =-SUM(G1081*H1081) -> 0 | J1081: =SUM(G1081+I1081) -> 0 | K1081: =IF(ISERROR(VLOOKUP(AC1081,Nachträge!$A$2:$Y$646,25,FALSE)),"",VLOOKUP(AC1081,Nachträge!$A$2:$Y$646,25,FALSE)) | L1081: 0 | M1081: =-SUM(K1081*L1081) -> #VALUE! | N1081: =SUM(K1081+M1081) -> #VALUE! | O1081: =SUM(G1081+K1081) -> #VALUE! | P1081: =SUM(J1081+N1081) -> #VALUE! | Q1081: =SUMIFS(Zahlungsfreigabe!$N$12:$N$1000,Zahlungsfreigabe!$C$12:$C$1000,Baukosten!F1081,Zahlungsfreigabe!$E$12:$E$1000,D1081) -> 0 | R1081: =(J1081+K1081)-Q1081 -> #VALUE! | S1081: =SUM(J1081+K1081) -> #VALUE! | T1081: 0 | U1081: =-SUM(J1081+K1081)*T1081 -> #VALUE! | AC1081: =IFERROR(A1081,"") | AD1081: =J1081+K1081 -> #VALUE! | AE1081: =(AD1081/100)*80 -> #VALUE!
A1082: =IF(F1082="","",1+MAX(A$10:A1081)) | C1082: 612 | D1082: Besondere Austattung | H1082: 0 | I1082: =-SUM(G1082*H1082) -> 0 | J1082: =SUM(G1082+I1082) -> 0 | K1082: =IF(ISERROR(VLOOKUP(AC1082,Nachträge!$A$2:$Y$646,25,FALSE)),"",VLOOKUP(AC1082,Nachträge!$A$2:$Y$646,25,FALSE)) | L1082: 0 | M1082: =-SUM(K1082*L1082) -> #VALUE! | N1082: =SUM(K1082+M1082) -> #VALUE! | O1082: =SUM(G1082+K1082) -> #VALUE! | P1082: =SUM(J1082+N1082) -> #VALUE! | Q1082: =SUMIFS(Zahlungsfreigabe!$N$12:$N$1000,Zahlungsfreigabe!$C$12:$C$1000,Baukosten!F1082,Zahlungsfreigabe!$E$12:$E$1000,D1082) -> 0 | R1082: =(J1082+K1082)-Q1082 -> #VALUE! | S1082: =SUM(J1082+K1082) -> #VALUE! | T1082: 0 | U1082: =-SUM(J1082+K1082)*T1082 -> #VALUE! | AC1082: =IFERROR(A1082,"") | AD1082: =J1082+K1082 -> #VALUE! | AE1082: =(AD1082/100)*80 -> #VALUE!
A1083: =IF(F1083="","",1+MAX(A$10:A1082)) | C1083: 612 | D1083: Besondere Austattung | H1083: 0 | I1083: =-SUM(G1083*H1083) -> 0 | J1083: =SUM(G1083+I1083) -> 0 | K1083: =IF(ISERROR(VLOOKUP(AC1083,Nachträge!$A$2:$Y$646,25,FALSE)),"",VLOOKUP(AC1083,Nachträge!$A$2:$Y$646,25,FALSE)) | L1083: 0 | M1083: =-SUM(K1083*L1083) -> #VALUE! | N1083: =SUM(K1083+M1083) -> #VALUE! | O1083: =SUM(G1083+K1083) -> #VALUE! | P1083: =SUM(J1083+N1083) -> #VALUE! | Q1083: =SUMIFS(Zahlungsfreigabe!$N$12:$N$1000,Zahlungsfreigabe!$C$12:$C$1000,Baukosten!F1083,Zahlungsfreigabe!$E$12:$E$1000,D1083) -> 0 | R1083: =(J1083+K1083)-Q1083 -> #VALUE! | S1083: =SUM(J1083+K1083) -> #VALUE! | T1083: 0 | U1083: =-SUM(J1083+K1083)*T1083 -> #VALUE! | AC1083: =IFERROR(A1083,"") | AD1083: =J1083+K1083 -> #VALUE! | AE1083: =(AD1083/100)*80 -> #VALUE!
A1084: =IF(F1084="","",1+MAX(A$10:A1083)) | C1084: 612 | D1084: Besondere Austattung | H1084: 0 | I1084: =-SUM(G1084*H1084) -> 0 | J1084: =SUM(G1084+I1084) -> 0 | K1084: =IF(ISERROR(VLOOKUP(AC1084,Nachträge!$A$2:$Y$646,25,FALSE)),"",VLOOKUP(AC1084,Nachträge!$A$2:$Y$646,25,FALSE)) | L1084: 0 | M1084: =-SUM(K1084*L1084) -> #VALUE! | N1084: =SUM(K1084+M1084) -> #VALUE! | O1084: =SUM(G1084+K1084) -> #VALUE! | P1084: =SUM(J1084+N1084) -> #VALUE! | Q1084: =SUMIFS(Zahlungsfreigabe!$N$12:$N$1000,Zahlungsfreigabe!$C$12:$C$1000,Baukosten!F1084,Zahlungsfreigabe!$E$12:$E$1000,D1084) -> 0 | R1084: =(J1084+K1084)-Q1084 -> #VALUE! | S1084: =SUM(J1084+K1084) -> #VALUE! | T1084: 0 | U1084: =-SUM(J1084+K1084)*T1084 -> #VALUE! | AC1084: =IFERROR(A1084,"") | AD1084: =J1084+K1084 -> #VALUE! | AE1084: =(AD1084/100)*80 -> #VALUE!
...

Sheet Zahlungsfreigabe
C3: Bauvorhaben: | E3: Bauherr: | H3: Projekt: | I3: =Baukosten!E7 -> 0 | O3: entwurf und bauleitung:
C4: =Baukosten!E3 -> 0 | E4: =Baukosten!E5 -> 0
C5: =Baukosten!E6 -> 0
C7: Liste aller Zahlungsfreigaben
B9: Stand: | C9: 43881
B10: Aufteilung der Schluss- und Einzelzahlungen gemäß DIN 276 neu
B11: Nr. | C11: Auftragnehmer | D11: AR / SR | E11: wofür | F11: Datum Freigabe | G11: heute freigegebene Abschlags-, Schluss- und Einzelzahlungen Brutto | H11: MwSt. | I11: 100 - 199 Grundstück netto | J11: 200 - 299 Herrichten und Erschließen netto | K11: 300 - 399 Bauwerk - Baukonstruktion netto | L11: 400 - 499 Bauwerk - Technische Anlagen netto | M11: 500 - 599 Außenanlagen netto | N11: 600 - 699 Ausstattung und Kunstwerke netto | O11: 700 - 799 Baunebenkosten netto | P11: Bemerkung
C12: franz | E12: Prüfungen, Genehmigungen, Abnahmen | G12: 50 | H12: 0.19 | O12: 100
H13: 0.19
H14: 0.19
H15: 0.19
H16: 0.19
H17: 0.19
H18: 0.19
H19: 0.19
H20: 0.19
H21: 0.19
H22: 0.19
H23: 0.19
H24: 0.19
... H978: 0.19

Sheet Nachträge
A1: Pos. | B1: Firma | C1: Gewerk | D1: Nachtrag 1 | E1: Nachtrag 2 | F1: Nachtrag 3 | G1: Nachtrag 4 | H1: Nachtrag 5 | I1: Nachtrag 6 | J1: Nachtrag 7 | K1: Nachtrag 8 | L1: Nachtrag 9 | M1: Nachtrag 10 | N1: Nachtrag 11 | O1: Nachtrag 12 | P1: Nachtrag 13 | Q1: Nachtrag 14 | R1: Nachtrag 15 | S1: Nachtrag 16 | T1: Nachtrag 17 | U1: Nachtrag 18 | V1: Nachtrag 19 | W1: Nachtrag 20 | X1: Nachtrag 21 | Y1: Nachtrag Summe | Z1: Bemerkung
A2: 1 | B2: =IF(ISERROR(VLOOKUP(A2,Baukosten!$A$10:$F$1164,6,FALSE)),"",VLOOKUP(A2,Baukosten!$A$10:$F$1164,6,FALSE)) | C2: =IF(ISERROR(VLOOKUP(A2,Baukosten!$A$10:$F$1164,4,FALSE)),"",VLOOKUP(A2,Baukosten!$A$10:$F$1164,4,FALSE)) | Y2: =SUM(D2:X2) -> 0 | Z2: moin
A3: 2 | B3: =IF(ISERROR(VLOOKUP(A3,Baukosten!$A$10:$F$1164,6,FALSE)),"",VLOOKUP(A3,Baukosten!$A$10:$F$1164,6,FALSE)) | C3: =IF(ISERROR(VLOOKUP(A3,Baukosten!$A$10:$F$1164,4,FALSE)),"",VLOOKUP(A3,Baukosten!$A$10:$F$1164,4,FALSE)) | Y3: =SUM(D3:X3) -> 0
A4: 3 | B4: =IF(ISERROR(VLOOKUP(A4,Baukosten!$A$10:$F$1164,6,FALSE)),"",VLOOKUP(A4,Baukosten!$A$10:$F$1164,6,FALSE)) | C4: =IF(ISERROR(VLOOKUP(A4,Baukosten!$A$10:$F$1164,4,FALSE)),"",VLOOKUP(A4,Baukosten!$A$10:$F$1164,4,FALSE)) | Y4: =SUM(D4:X4) -> 0
A5: 4 | B5: =IF(ISERROR(VLOOKUP(A5,Baukosten!$A$10:$F$1164,6,FALSE)),"",VLOOKUP(A5,Baukosten!$A$10:$F$1164,6,FALSE)) | C5: =IF(ISERROR(VLOOKUP(A5,Baukosten!$A$10:$F$1164,4,FALSE)),"",VLOOKUP(A5,Baukosten!$A$10:$F$1164,4,FALSE)) | Y5: =SUM(D5:X5) -> 0
A6: 5 | B6: =IF(ISERROR(VLOOKUP(A6,Baukosten!$A$10:$F$1164,6,FALSE)),"",VLOOKUP(A6,Baukosten!$A$10:$F$1164,6,FALSE)) | C6: =IF(ISERROR(VLOOKUP(A6,Baukosten!$A$10:$F$1164,4,FALSE)),"",VLOOKUP(A6,Baukosten!$A$10:$F$1164,4,FALSE)) | Y6: =SUM(D6:X6) -> 0
A7: 6 | B7: =IF(ISERROR(VLOOKUP(A7,Baukosten!$A$10:$F$1164,6,FALSE)),"",VLOOKUP(A7,Baukosten!$A$10:$F$1164,6,FALSE)) | C7: =IF(ISERROR(VLOOKUP(A7,Baukosten!$A$10:$F$1164,4,FALSE)),"",VLOOKUP(A7,Baukosten!$A$10:$F$1164,4,FALSE)) | Y7: =SUM(D7:X7) -> 0
A8: 7 | B8: =IF(ISERROR(VLOOKUP(A8,Baukosten!$A$10:$F$1164,6,FALSE)),"",VLOOKUP(A8,Baukosten!$A$10:$F$1164,6,FALSE)) | C8: =IF(ISERROR(VLOOKUP(A8,Baukosten!$A$10:$F$1164,4,FALSE)),"",VLOOKUP(A8,Baukosten!$A$10:$F$1164,4,FALSE)) | Y8: =SUM(D8:X8) -> 0
A9: 8 | B9: =IF(ISERROR(VLOOKUP(A9,Baukosten!$A$10:$F$1164,6,FALSE)),"",VLOOKUP(A9,Baukosten!$A$10:$F$1164,6,FALSE)) | C9: =IF(ISERROR(VLOOKUP(A9,Baukosten!$A$10:$F$1164,4,FALSE)),"",VLOOKUP(A9,Baukosten!$A$10:$F$1164,4,FALSE)) | Y9: =SUM(D9:X9) -> 0
A10: 9 | B10: =IF(ISERROR(VLOOKUP(A10,Baukosten!$A$10:$F$1164,6,FALSE)),"",VLOOKUP(A10,Baukosten!$A$10:$F$1164,6,FALSE)) | C10: =IF(ISERROR(VLOOKUP(A10,Baukosten!$A$10:$F$1164,4,FALSE)),"",VLOOKUP(A10,Baukosten!$A$10:$F$1164,4,FALSE)) | Y10: =SUM(D10:X10) -> 0
A11: 10 | B11: =IF(ISERROR(VLOOKUP(A11,Baukosten!$A$10:$F$1164,6,FALSE)),"",VLOOKUP(A11,Baukosten!$A$10:$F$1164,6,FALSE)) | C11: =IF(ISERROR(VLOOKUP(A11,Baukosten!$A$10:$F$1164,4,FALSE)),"",VLOOKUP(A11,Baukosten!$A$10:$F$1164,4,FALSE)) | Y11: =SUM(D11:X11) -> 0
A12: 11 | B12: =IF(ISERROR(VLOOKUP(A12,Baukosten!$A$10:$F$1164,6,FALSE)),"",VLOOKUP(A12,Baukosten!$A$10:$F$1164,6,FALSE)) | C12: =IF(ISERROR(VLOOKUP(A12,Baukosten!$A$10:$F$1164,4,FALSE)),"",VLOOKUP(A12,Baukosten!$A$10:$F$1164,4,FALSE)) | Y12: =SUM(D12:X12) -> 0
A13: 12 | B13: =IF(ISERROR(VLOOKUP(A13,Baukosten!$A$10:$F$1164,6,FALSE)),"",VLOOKUP(A13,Baukosten!$A$10:$F$1164,6,FALSE)) | C13: =IF(ISERROR(VLOOKUP(A13,Baukosten!$A$10:$F$1164,4,FALSE)),"",VLOOKUP(A13,Baukosten!$A$10:$F$1164,4,FALSE)) | Y13: =SUM(D13:X13) -> 0
A14: 13 | B14: =IF(ISERROR(VLOOKUP(A14,Baukosten!$A$10:$F$1164,6,FALSE)),"",VLOOKUP(A14,Baukosten!$A$10:$F$1164,6,FALSE)) | C14: =IF(ISERROR(VLOOKUP(A14,Baukosten!$A$10:$F$1164,4,FALSE)),"",VLOOKUP(A14,Baukosten!$A$10:$F$1164,4,FALSE)) | Y14: =SUM(D14:X14) -> 0
... A648: 647 | B648: =IF(ISERROR(VLOOKUP(A648,Baukosten!$A$10:$F$1164,6,FALSE)),"",VLOOKUP(A648,Baukosten!$A$10:$F$1164,6,FALSE)) | C648: =IF(ISERROR(VLOOKUP(A648,Baukosten!$A$10:$F$1164,4,FALSE)),"",VLOOKUP(A648,Baukosten!$A$10:$F$1164,4,FALSE)) | Y648: =SUM(D648:X648) -> 0

Sheet !Formeln!
A1: Wenn Firma vorhanden dann zähle fortlaufen
A2: ZÄHLENWENN(Baukosten!$F$11:F11;"*") | L2: =IF(M2="","",MAX(INDEX(L:L,1):INDEX(L:L,ROW()-1))+1) -> 1 | M2: f
A3: ZÄHLENWENN(Baukosten!$F$11:F12;"*") | L3: =IF(M3="","",MAX(INDEX(L:L,1):INDEX(L:L,ROW()-1))+1)
K4: f | L4: =IF(M4="","",MAX(INDEX(L:L,1):INDEX(L:L,ROW()-1))+1) -> 2 | M4: g
L5: =IF(M5="","",MAX(INDEX(L:L,1):INDEX(L:L,ROW()-1))+1) -> 3 | M5: f
K6: f | L6: =IF(M6="","",MAX(INDEX(L:L,1):INDEX(L:L,ROW()-1))+1)
L7: =IF(M7="","",MAX(INDEX(L:L,1):INDEX(L:L,ROW()-1))+1) -> 4 | M7: b
K8: f | L8: =IF(M8="","",MAX(INDEX(L:L,1):INDEX(L:L,ROW()-1))+1)
L9: =IF(M9="","",MAX(INDEX(L:L,1):INDEX(L:L,ROW()-1))+1)
L10: =IF(M10="","",MAX(INDEX(L:L,1):INDEX(L:L,ROW()-1))+1)
L11: =IF(M11="","",MAX(INDEX(L:L,1):INDEX(L:L,ROW()-1))+1)
L12: =IF(M12="","",MAX(INDEX(L:L,1):INDEX(L:L,ROW()-1))+1)
C13: WENN(B19="";"";1+MAX(A$18:A18)) | L13: =IF(M13="","",MAX(INDEX(L:L,1):INDEX(L:L,ROW()-1))+1)
C14: WENN(B20="";"";1+MAX(A$18:A19)) | L14: =IF(M14="","",MAX(INDEX(L:L,1):INDEX(L:L,ROW()-1))+1)
C15: (zählen für firmeneinträge) | L15: =IF(M15="","",MAX(INDEX(L:L,1):INDEX(L:L,ROW()-1))+1)
L16: =IF(M16="","",MAX(INDEX(L:L,1):INDEX(L:L,ROW()-1))+1)
L17: =IF(M17="","",MAX(INDEX(L:L,1):INDEX(L:L,ROW()-1))+1)
L18: =IF(M18="","",MAX(INDEX(L:L,1):INDEX(L:L,ROW()-1))+1)
C19: WENN(ISTLEER($J$11);"";SVERWEIS($J$11;TABELLE1!$D$5:$BP$100;SPALTEN(TABELLE1!$D:$AV);FALSCH)) | L19: =IF(M19="","",MAX(INDEX(L:L,1):INDEX(L:L,ROW()-1))+1)
C20: wenn(istleer(A2);"";SVERWEIS(A2;Baukosten!A10:F1164;4;FALSCH) | L20: =IF(M20="","",MAX(INDEX(L:L,1):INDEX(L:L,ROW()-1))+1)
L21: =IF(M21="","",MAX(INDEX(L:L,1):INDEX(L:L,ROW()-1))+1)
L22: =IF(M22="","",MAX(INDEX(L:L,1):INDEX(L:L,ROW()-1))+1)
C23: WENN(ISTFEHLER(SVERWEIS(AC11;Nachträge!$A$2:$Y$646;25;FALSCH));"";SVERWEIS(AC11;Nachträge!$A$2:$Y$646;25;FALSCH)) | L23: =IF(M23="","",MAX(INDEX(K:K,1):INDEX(K:K,ROW()-1))+1)
C24: (Nachtragssumme) | L24: =IF(M24="","",MAX(INDEX(K:K,1):INDEX(K:K,ROW()-1))+1)
L25: =IF(M25="","",MAX(INDEX(K:K,1):INDEX(K:K,ROW()-1))+1)

Sheet Pivot
