Workbook

Sheet Inhalt
A2: Tipps
A5: Die jeweilige Leistung mit dem thermalen Widerstand multipliziert ergibt als Ergebnis die Temperaturdifferenz von Lufteinlass zu Wassereinlass
A7: Die Leistung verhält sich bei erzwungener Konvektion (Lüfter) linear zur Temperaturdifferenz, siehe Grafik, somit können beliebige Leistungswerte multipliziert mit der jeweiligen Temperaturdifferenz extrapoliert werden: dT 10 K zu 20 K = 0,5 * 300 W = 150 W
A10: Inhalt
A12: Abmessungen
A13: Lamellentyp 1 mit FAN Noctua F12
A14: Lamellentyp 1 mit FAN F12 push/pull
A15: Lamellentyp 2 mit FAN Noctua F12
A16: Lamellentyp 2 mit FAN F12 push/pull
A17: Lamellentyp 3 mit FAN Noctua F12
A18: Lamellentyp 3 mit FAN F12 push/pull
A20: Diagramme
... A35: Vergleich push/pull (4 FAN) vs 2 FAN Typ 3

Sheet Abmessungen
A1: Dimension | B1: 240x30 | C1: mm | E1: Dimension | F1: 240x30 | G1: mm | I1: Dimension | J1: 240x30 | K1: mm
A2: Nettotiefe | B2: 17.5 | C2: mm | E2: Nettotiefe | F2: 17.5 | G2: mm | I2: Nettotiefe | J2: 17.5 | K2: mm
A3: Lamellentyp | B3: 1 | E3: Lamellentyp | F3: 2 | I3: Lamellentyp | J3: 3
A4: Lamellenabstand | B4: 1.5 | C4: mm | E4: Lamellenabstand | F4: 1.5 | G4: mm | I4: Lamellenabstand | J4: =3.5/2 -> 1.75 | K4: mm
A5: Periodenanzahl | B5: 140 | E5: Lamellenanzahl | F5: 140 | I5: Periodenanzahl | J5: 67
A6: Lamellenanzahl | B6: 13 | E6: Rohranzahl | F6: 12 | I6: Lamellenanzahl | J6: 13
A7: Rohranzahl | B7: 12 | E7: Rohrabstand | F7: 7.4 | G7: mm | I7: Rohranzahl | J7: 12
A8: Rohrabstand | B8: 7.4 | C8: mm | I8: Rohrabstand | J8: 7.4 | K8: mm
A11: Lamellenoberfläche pro Periode | B11: =95.46*2+41.1+17.4*2 -> 266.82 | C11: mm² | E11: Lamellenoberfläche | F11: 3631.6 | G11: mm² | I11: Lamellenoberfläche pro Periode | J11: =2*260 -> 520 | K11: mm²
A12: Lamellenoberfläche | B12: =B11*B5 -> 37354.8 | C12: mm² | E12: Abzug | F12: =439.4 -> 439.4 | G12: mm² | I12: Lamellenoberfläche | J12: =J11*J5 -> 34840 | K12: mm²
A13: Rohroberfläche | B13: =(2600*2+369*4)-(141*14) -> 4702 | C13: mm² | E13: Rohroberfläche | F13: =(2600*2+369*4)-F12 -> 6236.6 | G13: mm² | I13: Rohroberfläche | J13: =(2600*2+369*4)-(67*2*0.1*17.5) -> 6441.5 | K13: mm²
A14: Gesamt Lamellenoberfläche | B14: =B12*B6 -> 485612.4 | C14: mm² | E14: Gesamt Lamellenoberfläche | F14: =F5*F11 -> 508424 | G14: mm² | I14: Gesamt Lamellenoberfläche | J14: =J12*J6 -> 452920 | K14: mm²
A15: Gesamt Rohroberfläche | B15: =B7*B13 -> 56424 | C15: mm² | E15: Gesamt Rohroberfläche | F15: =F6*F13 -> 74839.2 | G15: mm² | I15: Gesamt Rohroberfläche | J15: =J7*J13 -> 77298 | K15: mm²
A17: Gesamt Oberfläche | B17: =(B14+B15)/1000^2 -> 0.5420364 | C17: m² | E17: Gesamt Oberfläche | F17: =(F14+F15)/1000^2 -> 0.5832632 | G17: m² | I17: Gesamt Oberfläche | J17: =(J14+J15)/1000^2 -> 0.530218 | K17: m²
A18: Rohrinhalt | B18: 0.11 | C18: dm³ | E18: Rohrinhalt | F18: 0.11 | G18: dm³ | I18: Rohrinhalt | J18: 0.11 | K18: dm³

Sheet Typ1 Noctua F12
A1: kg/s | B1: L/h | C1: min^-1 | D1: m/s | E1: m³/h | F1: Gesamt [m³/h] | G1: dp [Pa] | H1: dp Fluid [Pa] | I1: Tin [K] | J1: TAmbient [K] | K1: dTAmbient | L1: TAmbient2 | M1: TAmbient2 | N1: Tout_avg | O1: Tout_avg | P1: dTFluid [K] | Q1: P [W] | R1: k [W/m²*K] | S1: dTlog | T1: cp [J/kg * K] | U1: ρ [kg/m³] | V1: cp [J/kg * K] | W1: ρ [kg/m³]
A2: 0 | B2: =A2/U2*3600*1000 -> 0 | C2: 0 | D2: 0 | G2: 0 | H2: 0 | I2: 315 | J2: 295 | T2: 4180 | U2: 991.5 | AA2: -144.24373 | AB2: 10.5287 | AC2: -0.031256926 | AD2: 2.9456116e-05 | AE2: 17554.454 | AF2: -125.69235 | AG2: 0.39362054 | AH2: -0.00041079636 | AI2: 2.306401 | AJ2: -0.0037612753 | AK2: 995.1762 | AL2: 0.039735 | AN2: -1.040899 | AO2: 4.3025437 | AP2: 1.0234654
A3: 0.008 | B3: =A3/U3*3600*1000 -> 29.040451 | C3: 0 | D3: 0 | G3: 0 | H3: 156.34022 | I3: 315 | J3: 295 | L3: 297.20729 | N3: 313.89953 | O3: =I3-Q3/(T3*A3) -> 313.89953 | P3: =I3-N3 -> 1.1004707 | Q3: 36.787103 | R3: =Q3/(Abmessungen!B$17*S3) -> 3.7004515 | S3: =((I3-L3)-(N3-J3))/LN((I3-L3)/(N3-J3)) -> 18.340553 | T3: =((AE3 + AF3*I3 +AG3*I3^2 + AH3*I3^3)+(AE3 + AF3*N3 + AG3*N3^2 + AH3*N3^3))/2 -> 4178.5646 | U3: =((AA3 + AB3*I3 + AC3*I3^2 + AD3*I3^3)+(AA3 + AB3*N3 + AC3*N3^2 + AD3*N3^3))/2 -> 991.72013 | V3: =((AK3 + AL3*J3)+(AK3 + AL3*L3))/2 -> 1006.9419 | W3: =((AI3 + AJ3*J3)+(AI3 + AJ3*L3))/2 -> 1.1926737 | AA3: -144.24373 | AB3: 10.5287 | AC3: -0.031256926 | AD3: 2.9456116e-05 | AE3: 17554.454 | AF3: -125.69235 | AG3: 0.39362054 | AH3: -0.00041079636 | AI3: 2.306401 | AJ3: -0.0037612753 | AK3: 995.1762 | AL3: 0.039735 | AN3: -1.040899 | AO3: 4.3025437 | AP3: 1.0234654
A4: 0.014 | B4: =A4/U4*3600*1000 -> 50.823476 | C4: 0 | D4: 0 | G4: 0 | H4: 326.03512 | I4: 315 | J4: 295 | L4: 297.94433 | N4: 314.16965 | O4: =I4-Q4/(T4*A4) -> 314.16965 | P4: =I4-N4 -> 0.83034724 | Q4: 48.575224 | R4: =Q4/(Abmessungen!B$17*S4) -> 4.9533369 | S4: =((I4-L4)-(N4-J4))/LN((I4-L4)/(N4-J4)) -> 18.092079 | T4: =((AE4 + AF4*I4 +AG4*I4^2 + AH4*I4^3)+(AE4 + AF4*N4 + AG4*N4^2 + AH4*N4^3))/2 -> 4178.5637 | U4: =((AA4 + AB4*I4 + AC4*I4^2 + AD4*I4^3)+(AA4 + AB4*N4 + AC4*N4^2 + AD4*N4^3))/2 -> 991.66771 | V4: =((AK4 + AL4*J4)+(AK4 + AL4*L4))/2 -> 1006.9565 | W4: =((AI4 + AJ4*J4)+(AI4 + AJ4*L4))/2 -> 1.1912876 | AA4: -144.24373 | AB4: 10.5287 | AC4: -0.031256926 | AD4: 2.9456116e-05 | AE4: 17554.454 | AF4: -125.69235 | AG4: 0.39362054 | AH4: -0.00041079636 | AI4: 2.306401 | AJ4: -0.0037612753 | AK4: 995.1762 | AL4: 0.039735 | AN4: -1.040899 | AO4: 4.3025437 | AP4: 1.0234654
A5: 0.02 | B5: =A5/U5*3600*1000 -> 72.607304 | C5: 0 | D5: 0 | G5: 0 | H5: 540.67838 | I5: 315 | J5: 295 | L5: 298.35294 | N5: 314.33359 | O5: =I5-Q5/(T5*A5) -> 314.33359 | P5: =I5-N5 -> 0.66641449 | Q5: 55.693103 | R5: =Q5/(Abmessungen!B$17*S5) -> 5.7219362 | S5: =((I5-L5)-(N5-J5))/LN((I5-L5)/(N5-J5)) -> 17.956842 | T5: =((AE5 + AF5*I5 +AG5*I5^2 + AH5*I5^3)+(AE5 + AF5*N5 + AG5*N5^2 + AH5*N5^3))/2 -> 4178.5633 | U5: =((AA5 + AB5*I5 + AC5*I5^2 + AD5*I5^3)+(AA5 + AB5*N5 + AC5*N5^2 + AD5*N5^3))/2 -> 991.63577 | V5: =((AK5 + AL5*J5)+(AK5 + AL5*L5))/2 -> 1006.9646 | W5: =((AI5 + AJ5*J5)+(AI5 + AJ5*L5))/2 -> 1.1905191 | AA5: -144.24373 | AB5: 10.5287 | AC5: -0.031256926 | AD5: 2.9456116e-05 | AE5: 17554.454 | AF5: -125.69235 | AG5: 0.39362054 | AH5: -0.00041079636 | AI5: 2.306401 | AJ5: -0.0037612753 | AK5: 995.1762 | AL5: 0.039735 | AN5: -1.040899 | AO5: 4.3025437 | AP5: 1.0234654
A6: 0.026 | B6: =A6/U6*3600*1000 -> 94.391533 | C6: 0 | D6: 0 | G6: 0 | H6: 800.27 | I6: 315 | J6: 295 | L6: 298.63722 | N6: 314.44321 | O6: =I6-Q6/(T6*A6) -> 314.44321 | P6: =I6-N6 -> 0.55679082 | Q6: 60.491227 | R6: =Q6/(Abmessungen!B$17*S6) -> 6.2490379 | S6: =((I6-L6)-(N6-J6))/LN((I6-L6)/(N6-J6)) -> 17.858739 | T6: =((AE6 + AF6*I6 +AG6*I6^2 + AH6*I6^3)+(AE6 + AF6*N6 + AG6*N6^2 + AH6*N6^3))/2 -> 4178.5632 | U6: =((AA6 + AB6*I6 + AC6*I6^2 + AD6*I6^3)+(AA6 + AB6*N6 + AC6*N6^2 + AD6*N6^3))/2 -> 991.61436 | V6: =((AK6 + AL6*J6)+(AK6 + AL6*L6))/2 -> 1006.9703 | W6: =((AI6 + AJ6*J6)+(AI6 + AJ6*L6))/2 -> 1.1899845 | AA6: -144.24373 | AB6: 10.5287 | AC6: -0.031256926 | AD6: 2.9456116e-05 | AE6: 17554.454 | AF6: -125.69235 | AG6: 0.39362054 | AH6: -0.00041079636 | AI6: 2.306401 | AJ6: -0.0037612753 | AK6: 995.1762 | AL6: 0.039735 | AN6: -1.040899 | AO6: 4.3025437 | AP6: 1.0234654
A7: 0.032 | B7: =A7/U7*3600*1000 -> 116.176 | C7: 0 | D7: 0 | G7: 0 | H7: 1104.81 | I7: 315 | J7: 295 | L7: 298.85549 | N7: 314.52189 | O7: =I7-Q7/(T7*A7) -> 314.52189 | P7: =I7-N7 -> 0.4781139 | Q7: 63.930533 | R7: =Q7/(Abmessungen!B$17*S7) -> 6.6336689 | S7: =((I7-L7)-(N7-J7))/LN((I7-L7)/(N7-J7)) -> 17.779768 | T7: =((AE7 + AF7*I7 +AG7*I7^2 + AH7*I7^3)+(AE7 + AF7*N7 + AG7*N7^2 + AH7*N7^3))/2 -> 4178.5632 | U7: =((AA7 + AB7*I7 + AC7*I7^2 + AD7*I7^3)+(AA7 + AB7*N7 + AC7*N7^2 + AD7*N7^3))/2 -> 991.59897 | V7: =((AK7 + AL7*J7)+(AK7 + AL7*L7))/2 -> 1006.9746 | W7: =((AI7 + AJ7*J7)+(AI7 + AJ7*L7))/2 -> 1.189574 | AA7: -144.24373 | AB7: 10.5287 | AC7: -0.031256926 | AD7: 2.9456116e-05 | AE7: 17554.454 | AF7: -125.69235 | AG7: 0.39362054 | AH7: -0.00041079636 | AI7: 2.306401 | AJ7: -0.0037612753 | AK7: 995.1762 | AL7: 0.039735 | AN7: -1.040899 | AO7: 4.3025437 | AP7: 1.0234654
A8: 0.038 | B8: =A8/U8*3600*1000 -> 137.96061 | C8: 0 | D8: 0 | G8: 0 | H8: 1454.2983 | I8: 315 | J8: 295 | L8: 299.03273 | N8: 314.58121 | O8: =I8-Q8/(T8*A8) -> 314.58121 | P8: =I8-N8 -> 0.41878591 | Q8: 66.497088 | R8: =Q8/(Abmessungen!B$17*S8) -> 6.9260552 | S8: =((I8-L8)-(N8-J8))/LN((I8-L8)/(N8-J8)) -> 17.712841 | T8: =((AE8 + AF8*I8 +AG8*I8^2 + AH8*I8^3)+(AE8 + AF8*N8 + AG8*N8^2 + AH8*N8^3))/2 -> 4178.5632 | U8: =((AA8 + AB8*I8 + AC8*I8^2 + AD8*I8^3)+(AA8 + AB8*N8 + AC8*N8^2 + AD8*N8^3))/2 -> 991.58735 | V8: =((AK8 + AL8*J8)+(AK8 + AL8*L8))/2 -> 1006.9781 | W8: =((AI8 + AJ8*J8)+(AI8 + AJ8*L8))/2 -> 1.1892407 | AA8: -144.24373 | AB8: 10.5287 | AC8: -0.031256926 | AD8: 2.9456116e-05 | AE8: 17554.454 | AF8: -125.69235 | AG8: 0.39362054 | AH8: -0.00041079636 | AI8: 2.306401 | AJ8: -0.0037612753 | AK8: 995.1762 | AL8: 0.039735 | AN8: -1.040899 | AO8: 4.3025437 | AP8: 1.0234654
A9: 0.044 | B9: =A9/U9*3600*1000 -> 159.74533 | C9: 0 | D9: 0 | G9: 0 | H9: 1848.735 | I9: 315 | J9: 295 | L9: 299.18196 | N9: 314.6276 | O9: =I9-Q9/(T9*A9) -> 314.6276 | P9: =I9-N9 -> 0.37240085 | Q9: 68.468421 | R9: =Q9/(Abmessungen!B$17*S9) -> 7.1549995 | S9: =((I9-L9)-(N9-J9))/LN((I9-L9)/(N9-J9)) -> 17.654371 | T9: =((AE9 + AF9*I9 +AG9*I9^2 + AH9*I9^3)+(AE9 + AF9*N9 + AG9*N9^2 + AH9*N9^3))/2 -> 4178.5632 | U9: =((AA9 + AB9*I9 + AC9*I9^2 + AD9*I9^3)+(AA9 + AB9*N9 + AC9*N9^2 + AD9*N9^3))/2 -> 991.57826 | V9: =((AK9 + AL9*J9)+(AK9 + AL9*L9))/2 -> 1006.9811 | W9: =((AI9 + AJ9*J9)+(AI9 + AJ9*L9))/2 -> 1.18896 | AA9: -144.24373 | AB9: 10.5287 | AC9: -0.031256926 | AD9: 2.9456116e-05 | AE9: 17554.454 | AF9: -125.69235 | AG9: 0.39362054 | AH9: -0.00041079636 | AI9: 2.306401 | AJ9: -0.0037612753 | AK9: 995.1762 | AL9: 0.039735 | AN9: -1.040899 | AO9: 4.3025437 | AP9: 1.0234654
A10: 0.05 | B10: =A10/U10*3600*1000 -> 181.53013 | C10: 0 | D10: 0 | G10: 0 | H10: 2288.12 | I10: 315 | J10: 295 | L10: 299.31084 | N10: 314.66488 | O10: =I10-Q10/(T10*A10) -> 314.66488 | P10: =I10-N10 -> 0.33512056 | Q10: 70.016122 | R10: =Q10/(Abmessungen!B$17*S10) -> 7.3384004 | S10: =((I10-L10)-(N10-J10))/LN((I10-L10)/(N10-J10)) -> 17.602251 | T10: =((AE10 + AF10*I10 +AG10*I10^2 + AH10*I10^3)+(AE10 + AF10*N10 + AG10*N10^2 + AH10*N10^3))/2 -> 4178.5632 | U10: =((AA10 + AB10*I10 + AC10*I10^2 + AD10*I10^3)+(AA10 + AB10*N10 + AC10*N10^2 + AD10*N10^3))/2 -> 991.57094 | V10: =((AK10 + AL10*J10)+(AK10 + AL10*L10))/2 -> 1006.9837 | W10: =((AI10 + AJ10*J10)+(AI10 + AJ10*L10))/2 -> 1.1887177 | AA10: -144.24373 | AB10: 10.5287 | AC10: -0.031256926 | AD10: 2.9456116e-05 | AE10: 17554.454 | AF10: -125.69235 | AG10: 0.39362054 | AH10: -0.00041079636 | AI10: 2.306401 | AJ10: -0.0037612753 | AK10: 995.1762 | AL10: 0.039735 | AN10: -1.040899 | AO10: 4.3025437 | AP10: 1.0234654
A11: 0.056 | B11: =A11/U11*3600*1000 -> 203.31498 | C11: 0 | D11: 0 | G11: 0 | H11: 2772.4534 | I11: 315 | J11: 295 | L11: 299.42428 | N11: 314.6955 | O11: =I11-Q11/(T11*A11) -> 314.6955 | P11: =I11-N11 -> 0.30449838 | Q11: 71.252481 | R11: =Q11/(Abmessungen!B$17*S11) -> 7.4880345 | S11: =((I11-L11)-(N11-J11))/LN((I11-L11)/(N11-J11)) -> 17.555116 | T11: =((AE11 + AF11*I11 +AG11*I11^2 + AH11*I11^3)+(AE11 + AF11*N11 + AG11*N11^2 + AH11*N11^3))/2 -> 4178.5632 | U11: =((AA11 + AB11*I11 + AC11*I11^2 + AD11*I11^3)+(AA11 + AB11*N11 + AC11*N11^2 + AD11*N11^3))/2 -> 991.56493 | V11: =((AK11 + AL11*J11)+(AK11 + AL11*L11))/2 -> 1006.9859 | W11: =((AI11 + AJ11*J11)+(AI11 + AJ11*L11))/2 -> 1.1885043 | AA11: -144.24373 | AB11: 10.5287 | AC11: -0.031256926 | AD11: 2.9456116e-05 | AE11: 17554.454 | AF11: -125.69235 | AG11: 0.39362054 | AH11: -0.00041079636 | AI11: 2.306401 | AJ11: -0.0037612753 | AK11: 995.1762 | AL11: 0.039735 | AN11: -1.040899 | AO11: 4.3025437 | AP11: 1.0234654
A12: 0.062 | B12: =A12/U12*3600*1000 -> 225.09986 | C12: 0 | D12: 0 | G12: 0 | H12: 3301.7351 | I12: 315 | J12: 295 | L12: 299.52558 | N12: 314.7211 | O12: =I12-Q12/(T12*A12) -> 314.7211 | P12: =I12-N12 -> 0.27889736 | Q12: 72.254195 | R12: =Q12/(Abmessungen!B$17*S12) -> 7.6119908 | S12: =((I12-L12)-(N12-J12))/LN((I12-L12)/(N12-J12)) -> 17.512025 | T12: =((AE12 + AF12*I12 +AG12*I12^2 + AH12*I12^3)+(AE12 + AF12*N12 + AG12*N12^2 + AH12*N12^3))/2 -> 4178.5632 | U12: =((AA12 + AB12*I12 + AC12*I12^2 + AD12*I12^3)+(AA12 + AB12*N12 + AC12*N12^2 + AD12*N12^3))/2 -> 991.5599 | V12: =((AK12 + AL12*J12)+(AK12 + AL12*L12))/2 -> 1006.9879 | W12: =((AI12 + AJ12*J12)+(AI12 + AJ12*L12))/2 -> 1.1883138 | AA12: -144.24373 | AB12: 10.5287 | AC12: -0.031256926 | AD12: 2.9456116e-05 | AE12: 17554.454 | AF12: -125.69235 | AG12: 0.39362054 | AH12: -0.00041079636 | AI12: 2.306401 | AJ12: -0.0037612753 | AK12: 995.1762 | AL12: 0.039735 | AN12: -1.040899 | AO12: 4.3025437 | AP12: 1.0234654
A13: 0.068 | B13: =A13/U13*3600*1000 -> 246.88478 | C13: 0 | D13: 0 | G13: 0 | H13: 3875.9652 | I13: 315 | J13: 295 | L13: 299.6171 | N13: 314.74282 | O13: =I13-Q13/(T13*A13) -> 314.74282 | P13: =I13-N13 -> 0.257179 | Q13: 73.075433 | R13: =Q13/(Abmessungen!B$17*S13) -> 7.7160154 | S13: =((I13-L13)-(N13-J13))/LN((I13-L13)/(N13-J13)) -> 17.472291 | T13: =((AE13 + AF13*I13 +AG13*I13^2 + AH13*I13^3)+(AE13 + AF13*N13 + AG13*N13^2 + AH13*N13^3))/2 -> 4178.5632 | U13: =((AA13 + AB13*I13 + AC13*I13^2 + AD13*I13^3)+(AA13 + AB13*N13 + AC13*N13^2 + AD13*N13^3))/2 -> 991.55564 | V13: =((AK13 + AL13*J13)+(AK13 + AL13*L13))/2 -> 1006.9898 | W13: =((AI13 + AJ13*J13)+(AI13 + AJ13*L13))/2 -> 1.1881417 | AA13: -144.24373 | AB13: 10.5287 | AC13: -0.031256926 | AD13: 2.9456116e-05 | AE13: 17554.454 | AF13: -125.69235 | AG13: 0.39362054 | AH13: -0.00041079636 | AI13: 2.306401 | AJ13: -0.0037612753 | AK13: 995.1762 | AL13: 0.039735 | AN13: -1.040899 | AO13: 4.3025437 | AP13: 1.0234654
A14: 0.074 | B14: =A14/U14*3600*1000 -> 268.66973 | C14: 0 | D14: 0 | G14: 0 | H14: 4495.1437 | I14: 315 | J14: 295 | L14: 299.70056 | N14: 314.76147 | O14: =I14-Q14/(T14*A14) -> 314.76147 | P14: =I14-N14 -> 0.23852601 | Q14: 73.755507 | R14: =Q14/(Abmessungen!B$17*S14) -> 7.8043023 | S14: =((I14-L14)-(N14-J14))/LN((I14-L14)/(N14-J14)) -> 17.4354 | T14: =((AE14 + AF14*I14 +AG14*I14^2 + AH14*I14^3)+(AE14 + AF14*N14 + AG14*N14^2 + AH14*N14^3))/2 -> 4178.5633 | U14: =((AA14 + AB14*I14 + AC14*I14^2 + AD14*I14^3)+(AA14 + AB14*N14 + AC14*N14^2 + AD14*N14^3))/2 -> 991.55197 | V14: =((AK14 + AL14*J14)+(AK14 + AL14*L14))/2 -> 1006.9914 | W14: =((AI14 + AJ14*J14)+(AI14 + AJ14*L14))/2 -> 1.1879847 | AA14: -144.24373 | AB14: 10.5287 | AC14: -0.031256926 | AD14: 2.9456116e-05 | AE14: 17554.454 | AF14: -125.69235 | AG14: 0.39362054 | AH14: -0.00041079636 | AI14: 2.306401 | AJ14: -0.0037612753 | AK14: 995.1762 | AL14: 0.039735 | AN14: -1.040899 | AO14: 4.3025437 | AP14: 1.0234654
A15: 0.008 | B15: =A15/U15*3600*1000 -> 29.013461 | C15: 600 | D15: =F15/(0.02809*3600) -> 0.52397008 | E15: 26.492975 | F15: =E15*2 -> 52.98595 | G15: =AN15 + AO15*D15 + AP15*D15^2 -> 1.4944922 | H15: =H3 -> 156.34022 | I15: 315 | J15: 295 | K15: =Q15*3600/(V15*W15*F15) -> 11.715442 | L15: 306.71544 | M15: =J15+K15 -> 306.71544 | N15: 308.89715 | O15: =I15-Q15/(T15*A15) -> 308.89715 | P15: =I15-N15 -> 6.1028546 | Q15: 204.01582 | R15: =Q15/(Abmessungen!B$17*S15) -> 34.690179 | S15: =((I15-L15)-(N15-J15))/LN((I15-L15)/(N15-J15)) -> 10.849978 | T15: =((AE15 + AF15*I15 +AG15*I15^2 + AH15*I15^3)+(AE15 + AF15*N15 + AG15*N15^2 + AH15*N15^3))/2 -> 4178.6966 | U15: =((AA15 + AB15*I15 + AC15*I15^2 + AD15*I15^3)+(AA15 + AB15*N15 + AC15*N15^2 + AD15*N15^3))/2 -> 992.64268 | V15: =((AK15 + AL15*J15)+(AK15 + AL15*L15))/2 -> 1007.1308 | W15: =((AI15 + AJ15*J15)+(AI15 + AJ15*L15))/2 -> 1.1747923 | AA15: -144.24373 | AB15: 10.5287 | AC15: -0.031256926 | AD15: 2.9456116e-05 | AE15: 17554.454 | AF15: -125.69235 | AG15: 0.39362054 | AH15: -0.00041079636 | AI15: 2.306401 | AJ15: -0.0037612753 | AK15: 995.1762 | AL15: 0.039735 | AN15: -1.040899 | AO15: 4.3025437 | AP15: 1.0234654
A16: 0.014 | B16: =A16/U16*3600*1000 -> 50.794951 | C16: 600 | D16: =F16/(0.02809*3600) -> 0.52397008 | E16: 26.492975 | F16: =E16*2 -> 52.98595 | G16: =AN16 + AO16*D16 + AP16*D16^2 -> 1.4944922 | H16: =H4 -> 326.03512 | I16: 315 | J16: 295 | K16: =Q16*3600/(V16*W16*F16) -> 12.693468 | L16: 307.69348 | M16: =J16+K16 -> 307.69347 | N16: 311.22728 | O16: =I16-Q16/(T16*A16) -> 311.22728 | P16: =I16-N16 -> 3.7727157 | Q16: 220.7056 | R16: =Q16/(Abmessungen!B$17*S16) -> 36.420504 | S16: =((I16-L16)-(N16-J16))/LN((I16-L16)/(N16-J16)) -> 11.179926 | T16: =((AE16 + AF16*I16 +AG16*I16^2 + AH16*I16^3)+(AE16 + AF16*N16 + AG16*N16^2 + AH16*N16^3))/2 -> 4178.6042 | U16: =((AA16 + AB16*I16 + AC16*I16^2 + AD16*I16^3)+(AA16 + AB16*N16 + AC16*N16^2 + AD16*N16^3))/2 -> 992.22461 | V16: =((AK16 + AL16*J16)+(AK16 + AL16*L16))/2 -> 1007.1502 | W16: =((AI16 + AJ16*J16)+(AI16 + AJ16*L16))/2 -> 1.172953 | AA16: -144.24373 | AB16: 10.5287 | AC16: -0.031256926 | AD16: 2.9456116e-05 | AE16: 17554.454 | AF16: -125.69235 | AG16: 0.39362054 | AH16: -0.00041079636 | AI16: 2.306401 | AJ16: -0.0037612753 | AK16: 995.1762 | AL16: 0.039735 | AN16: -1.040899 | AO16: 4.3025437 | AP16: 1.0234654
A17: 0.02 | B17: =A17/U17*3600*1000 -> 72.578305 | C17: 600 | D17: =F17/(0.02809*3600) -> 0.52397008 | E17: 26.492975 | F17: =E17*2 -> 52.98595 | G17: =AN17 + AO17*D17 + AP17*D17^2 -> 1.4944922 | H17: =H5 -> 540.67838 | I17: 315 | J17: 295 | K17: =Q17*3600/(V17*W17*F17) -> 13.160346 | L17: 308.16034 | M17: =J17+K17 -> 308.16035 | N17: 312.26397 | O17: =I17-Q17/(T17*A17) -> 312.26397 | P17: =I17-N17 -> 2.7360264 | Q17: 228.65419 | R17: =Q17/(Abmessungen!B$17*S17) -> 37.46793 | S17: =((I17-L17)-(N17-J17))/LN((I17-L17)/(N17-J17)) -> 11.258772 | T17: =((AE17 + AF17*I17 +AG17*I17^2 + AH17*I17^3)+(AE17 + AF17*N17 + AG17*N17^2 + AH17*N17^3))/2 -> 4178.5816 | U17: =((AA17 + AB17*I17 + AC17*I17^2 + AD17*I17^3)+(AA17 + AB17*N17 + AC17*N17^2 + AD17*N17^3))/2 -> 992.03199 | V17: =((AK17 + AL17*J17)+(AK17 + AL17*L17))/2 -> 1007.1595 | W17: =((AI17 + AJ17*J17)+(AI17 + AJ17*L17))/2 -> 1.172075 | AA17: -144.24373 | AB17: 10.5287 | AC17: -0.031256926 | AD17: 2.9456116e-05 | AE17: 17554.454 | AF17: -125.69235 | AG17: 0.39362054 | AH17: -0.00041079636 | AI17: 2.306401 | AJ17: -0.0037612753 | AK17: 995.1762 | AL17: 0.039735 | AN17: -1.040899 | AO17: 4.3025437 | AP17: 1.0234654
A18: 0.026 | B18: =A18/U18*3600*1000 -> 94.362356 | C18: 600 | D18: =F18/(0.02809*3600) -> 0.52397008 | E18: 26.492975 | F18: =E18*2 -> 52.98595 | G18: =AN18 + AO18*D18 + AP18*D18^2 -> 1.4944922 | H18: =H6 -> 800.27 | I18: 315 | J18: 295 | K18: =Q18*3600/(V18*W18*F18) -> 13.437396 | L18: 308.43737 | M18: =J18+K18 -> 308.4374 | N18: 312.852 | O18: =I18-Q18/(T18*A18) -> 312.852 | P18: =I18-N18 -> 2.1480032 | Q18: 233.3653 | R18: =Q18/(Abmessungen!B$17*S18) -> 38.163882 | S18: =((I18-L18)-(N18-J18))/LN((I18-L18)/(N18-J18)) -> 11.2812 | T18: =((AE18 + AF18*I18 +AG18*I18^2 + AH18*I18^3)+(AE18 + AF18*N18 + AG18*N18^2 + AH18*N18^3))/2 -> 4178.5731 | U18: =((AA18 + AB18*I18 + AC18*I18^2 + AD18*I18^3)+(AA18 + AB18*N18 + AC18*N18^2 + AD18*N18^3))/2 -> 991.92097 | V18: =((AK18 + AL18*J18)+(AK18 + AL18*L18))/2 -> 1007.165 | W18: =((AI18 + AJ18*J18)+(AI18 + AJ18*L18))/2 -> 1.171554 | AA18: -144.24373 | AB18: 10.5287 | AC18: -0.031256926 | AD18: 2.9456116e-05 | AE18: 17554.454 | AF18: -125.69235 | AG18: 0.39362054 | AH18: -0.00041079636 | AI18: 2.306401 | AJ18: -0.0037612753 | AK18: 995.1762 | AL18: 0.039735 | AN18: -1.040899 | AO18: 4.3025437 | AP18: 1.0234654
A19: 0.032 | B19: =A19/U19*3600*1000 -> 116.14675 | C19: 600 | D19: =F19/(0.02809*3600) -> 0.52397008 | E19: 26.492975 | F19: =E19*2 -> 52.98595 | G19: =AN19 + AO19*D19 + AP19*D19^2 -> 1.4944922 | H19: =H7 -> 1104.81 | I19: 315 | J19: 295 | K19: =Q19*3600/(V19*W19*F19) -> 13.622152 | L19: 308.62211 | M19: =J19+K19 -> 308.62215 | N19: 313.23127 | O19: =I19-Q19/(T19*A19) -> 313.23127 | P19: =I19-N19 -> 1.7687322 | Q19: 236.50462 | R19: =Q19/(Abmessungen!B$17*S19) -> 38.661869 | S19: =((I19-L19)-(N19-J19))/LN((I19-L19)/(N19-J19)) -> 11.285696 | T19: =((AE19 + AF19*I19 +AG19*I19^2 + AH19*I19^3)+(AE19 + AF19*N19 + AG19*N19^2 + AH19*N19^3))/2 -> 4178.5691 | U19: =((AA19 + AB19*I19 + AC19*I19^2 + AD19*I19^3)+(AA19 + AB19*N19 + AC19*N19^2 + AD19*N19^3))/2 -> 991.84871 | V19: =((AK19 + AL19*J19)+(AK19 + AL19*L19))/2 -> 1007.1687 | W19: =((AI19 + AJ19*J19)+(AI19 + AJ19*L19))/2 -> 1.1712065 | AA19: -144.24373 | AB19: 10.5287 | AC19: -0.031256926 | AD19: 2.9456116e-05 | AE19: 17554.454 | AF19: -125.69235 | AG19: 0.39362054 | AH19: -0.00041079636 | AI19: 2.306401 | AJ19: -0.0037612753 | AK19: 995.1762 | AL19: 0.039735 | AN19: -1.040899 | AO19: 4.3025437 | AP19: 1.0234654
A20: 0.038 | B20: =A20/U20*3600*1000 -> 137.93133 | C20: 600 | D20: =F20/(0.02809*3600) -> 0.52397008 | E20: 26.492975 | F20: =E20*2 -> 52.98595 | G20: =AN20 + AO20*D20 + AP20*D20^2 -> 1.4944922 | H20: =H8 -> 1454.2983 | I20: 315 | J20: 295 | K20: =Q20*3600/(V20*W20*F20) -> 13.754749 | L20: 308.7547 | M20: =J20+K20 -> 308.75475 | N20: 313.49636 | O20: =I20-Q20/(T20*A20) -> 313.49636 | P20: =I20-N20 -> 1.5036415 | Q20: 238.75652 | R20: =Q20/(Abmessungen!B$17*S20) -> 39.037408 | S20: =((I20-L20)-(N20-J20))/LN((I20-L20)/(N20-J20)) -> 11.283552 | T20: =((AE20 + AF20*I20 +AG20*I20^2 + AH20*I20^3)+(AE20 + AF20*N20 + AG20*N20^2 + AH20*N20^3))/2 -> 4178.5669 | U20: =((AA20 + AB20*I20 + AC20*I20^2 + AD20*I20^3)+(AA20 + AB20*N20 + AC20*N20^2 + AD20*N20^3))/2 -> 991.79789 | V20: =((AK20 + AL20*J20)+(AK20 + AL20*L20))/2 -> 1007.1713 | W20: =((AI20 + AJ20*J20)+(AI20 + AJ20*L20))/2 -> 1.1709572 | AA20: -144.24373 | AB20: 10.5287 | AC20: -0.031256926 | AD20: 2.9456116e-05 | AE20: 17554.454 | AF20: -125.69235 | AG20: 0.39362054 | AH20: -0.00041079636 | AI20: 2.306401 | AJ20: -0.0037612753 | AK20: 995.1762 | AL20: 0.039735 | AN20: -1.040899 | AO20: 4.3025437 | AP20: 1.0234654
A21: 0.044 | B21: =A21/U21*3600*1000 -> 159.71603 | C21: 600 | D21: =F21/(0.02809*3600) -> 0.52397008 | E21: 26.492975 | F21: =E21*2 -> 52.98595 | G21: =AN21 + AO21*D21 + AP21*D21^2 -> 1.4944922 | H21: =H9 -> 1848.735 | I21: 315 | J21: 295 | K21: =Q21*3600/(V21*W21*F21) -> 13.854859 | L21: 308.85481 | M21: =J21+K21 -> 308.85486 | N21: 313.69216 | O21: =I21-Q21/(T21*A21) -> 313.69216 | P21: =I21-N21 -> 1.3078436 | Q21: 240.45605 | R21: =Q21/(Abmessungen!B$17*S21) -> 39.331712 | S21: =((I21-L21)-(N21-J21))/LN((I21-L21)/(N21-J21)) -> 11.278839 | T21: =((AE21 + AF21*I21 +AG21*I21^2 + AH21*I21^3)+(AE21 + AF21*N21 + AG21*N21^2 + AH21*N21^3))/2 -> 4178.5656 | U21: =((AA21 + AB21*I21 + AC21*I21^2 + AD21*I21^3)+(AA21 + AB21*N21 + AC21*N21^2 + AD21*N21^3))/2 -> 991.7602 | V21: =((AK21 + AL21*J21)+(AK21 + AL21*L21))/2 -> 1007.1733 | W21: =((AI21 + AJ21*J21)+(AI21 + AJ21*L21))/2 -> 1.1707689 | AA21: -144.24373 | AB21: 10.5287 | AC21: -0.031256926 | AD21: 2.9456116e-05 | AE21: 17554.454 | AF21: -125.69235 | AG21: 0.39362054 | AH21: -0.00041079636 | AI21: 2.306401 | AJ21: -0.0037612753 | AK21: 995.1762 | AL21: 0.039735 | AN21: -1.040899 | AO21: 4.3025437 | AP21: 1.0234654
A22: 0.05 | B22: =A22/U22*3600*1000 -> 181.50081 | C22: 600 | D22: =F22/(0.02809*3600) -> 0.52397008 | E22: 26.492975 | F22: =E22*2 -> 52.98595 | G22: =AN22 + AO22*D22 + AP22*D22^2 -> 1.4944922 | H22: =H10 -> 2288.12 | I22: 315 | J22: 295 | K22: =Q22*3600/(V22*W22*F22) -> 13.9333 | L22: 308.93325 | M22: =J22+K22 -> 308.9333 | N22: 313.84273 | O22: =I22-Q22/(T22*A22) -> 313.84273 | P22: =I22-N22 -> 1.1572745 | Q22: 241.78732 | R22: =Q22/(Abmessungen!B$17*S22) -> 39.569205 | S22: =((I22-L22)-(N22-J22))/LN((I22-L22)/(N22-J22)) -> 11.273214 | T22: =((AE22 + AF22*I22 +AG22*I22^2 + AH22*I22^3)+(AE22 + AF22*N22 + AG22*N22^2 + AH22*N22^3))/2 -> 4178.5649 | U22: =((AA22 + AB22*I22 + AC22*I22^2 + AD22*I22^3)+(AA22 + AB22*N22 + AC22*N22^2 + AD22*N22^3))/2 -> 991.73112 | V22: =((AK22 + AL22*J22)+(AK22 + AL22*L22))/2 -> 1007.1748 | W22: =((AI22 + AJ22*J22)+(AI22 + AJ22*L22))/2 -> 1.1706214 | AA22: -144.24373 | AB22: 10.5287 | AC22: -0.031256926 | AD22: 2.9456116e-05 | AE22: 17554.454 | AF22: -125.69235 | AG22: 0.39362054 | AH22: -0.00041079636 | AI22: 2.306401 | AJ22: -0.0037612753 | AK22: 995.1762 | AL22: 0.039735 | AN22: -1.040899 | AO22: 4.3025437 | AP22: 1.0234654
A23: 0.056 | B23: =A23/U23*3600*1000 -> 203.28564 | C23: 600 | D23: =F23/(0.02809*3600) -> 0.52397008 | E23: 26.492975 | F23: =E23*2 -> 52.98595 | G23: =AN23 + AO23*D23 + AP23*D23^2 -> 1.4944922 | H23: =H11 -> 2772.4534 | I23: 315 | J23: 295 | K23: =Q23*3600/(V23*W23*F23) -> 13.996533 | L23: 308.99648 | M23: =J23+K23 -> 308.99653 | N23: 313.96213 | O23: =I23-Q23/(T23*A23) -> 313.96213 | P23: =I23-N23 -> 1.0378661 | Q23: 242.86025 | R23: =Q23/(Abmessungen!B$17*S23) -> 39.765311 | S23: =((I23-L23)-(N23-J23))/LN((I23-L23)/(N23-J23)) -> 11.267397 | T23: =((AE23 + AF23*I23 +AG23*I23^2 + AH23*I23^3)+(AE23 + AF23*N23 + AG23*N23^2 + AH23*N23^3))/2 -> 4178.5643 | U23: =((AA23 + AB23*I23 + AC23*I23^2 + AD23*I23^3)+(AA23 + AB23*N23 + AC23*N23^2 + AD23*N23^3))/2 -> 991.708 | V23: =((AK23 + AL23*J23)+(AK23 + AL23*L23))/2 -> 1007.1761 | W23: =((AI23 + AJ23*J23)+(AI23 + AJ23*L23))/2 -> 1.1705025 | AA23: -144.24373 | AB23: 10.5287 | AC23: -0.031256926 | AD23: 2.9456116e-05 | AE23: 17554.454 | AF23: -125.69235 | AG23: 0.39362054 | AH23: -0.00041079636 | AI23: 2.306401 | AJ23: -0.0037612753 | AK23: 995.1762 | AL23: 0.039735 | AN23: -1.040899 | AO23: 4.3025437 | AP23: 1.0234654
A24: 0.062 | B24: =A24/U24*3600*1000 -> 225.07052 | C24: 600 | D24: =F24/(0.02809*3600) -> 0.52397008 | E24: 26.492975 | F24: =E24*2 -> 52.98595 | G24: =AN24 + AO24*D24 + AP24*D24^2 -> 1.4944922 | H24: =H12 -> 3301.7351 | I24: 315 | J24: 295 | K24: =Q24*3600/(V24*W24*F24) -> 14.048664 | L24: 309.04862 | M24: =J24+K24 -> 309.04866 | N24: 314.05916 | O24: =I24-Q24/(T24*A24) -> 314.05916 | P24: =I24-N24 -> 0.94084117 | Q24: 243.74463 | R24: =Q24/(Abmessungen!B$17*S24) -> 39.93027 | S24: =((I24-L24)-(N24-J24))/LN((I24-L24)/(N24-J24)) -> 11.26171 | T24: =((AE24 + AF24*I24 +AG24*I24^2 + AH24*I24^3)+(AE24 + AF24*N24 + AG24*N24^2 + AH24*N24^3))/2 -> 4178.564 | U24: =((AA24 + AB24*I24 + AC24*I24^2 + AD24*I24^3)+(AA24 + AB24*N24 + AC24*N24^2 + AD24*N24^3))/2 -> 991.68918 | V24: =((AK24 + AL24*J24)+(AK24 + AL24*L24))/2 -> 1007.1771 | W24: =((AI24 + AJ24*J24)+(AI24 + AJ24*L24))/2 -> 1.1704044 | AA24: -144.24373 | AB24: 10.5287 | AC24: -0.031256926 | AD24: 2.9456116e-05 | AE24: 17554.454 | AF24: -125.69235 | AG24: 0.39362054 | AH24: -0.00041079636 | AI24: 2.306401 | AJ24: -0.0037612753 | AK24: 995.1762 | AL24: 0.039735 | AN24: -1.040899 | AO24: 4.3025437 | AP24: 1.0234654
A25: 0.068 | B25: =A25/U25*3600*1000 -> 246.85543 | C25: 600 | D25: =F25/(0.02809*3600) -> 0.52397008 | E25: 26.492975 | F25: =E25*2 -> 52.98595 | G25: =AN25 + AO25*D25 + AP25*D25^2 -> 1.4944922 | H25: =H13 -> 3875.9652 | I25: 315 | J25: 295 | K25: =Q25*3600/(V25*W25*F25) -> 14.092431 | L25: 309.09239 | M25: =J25+K25 -> 309.09243 | N25: 314.13956 | O25: =I25-Q25/(T25*A25) -> 314.13956 | P25: =I25-N25 -> 0.86043849 | Q25: 244.487 | R25: =Q25/(Abmessungen!B$17*S25) -> 40.071162 | S25: =((I25-L25)-(N25-J25))/LN((I25-L25)/(N25-J25)) -> 11.256293 | T25: =((AE25 + AF25*I25 +AG25*I25^2 + AH25*I25^3)+(AE25 + AF25*N25 + AG25*N25^2 + AH25*N25^3))/2 -> 4178.5638 | U25: =((AA25 + AB25*I25 + AC25*I25^2 + AD25*I25^3)+(AA25 + AB25*N25 + AC25*N25^2 + AD25*N25^3))/2 -> 991.67356 | V25: =((AK25 + AL25*J25)+(AK25 + AL25*L25))/2 -> 1007.178 | W25: =((AI25 + AJ25*J25)+(AI25 + AJ25*L25))/2 -> 1.1703221 | AA25: -144.24373 | AB25: 10.5287 | AC25: -0.031256926 | AD25: 2.9456116e-05 | AE25: 17554.454 | AF25: -125.69235 | AG25: 0.39362054 | AH25: -0.00041079636 | AI25: 2.306401 | AJ25: -0.0037612753 | AK25: 995.1762 | AL25: 0.039735 | AN25: -1.040899 | AO25: 4.3025437 | AP25: 1.0234654
A26: 0.074 | B26: =A26/U26*3600*1000 -> 268.64036 | C26: 600 | D26: =F26/(0.02809*3600) -> 0.52397008 | E26: 26.492975 | F26: =E26*2 -> 52.98595 | G26: =AN26 + AO26*D26 + AP26*D26^2 -> 1.4944922 | H26: =H14 -> 4495.1437 | I26: 315 | J26: 295 | K26: =Q26*3600/(V26*W26*F26) -> 14.129732 | L26: 309.1297 | M26: =J26+K26 -> 309.12973 | N26: 314.20728 | O26: =I26-Q26/(T26*A26) -> 314.20728 | P26: =I26-N26 -> 0.79271916 | Q26: 245.11963 | R26: =Q26/(Abmessungen!B$17*S26) -> 40.193045 | S26: =((I26-L26)-(N26-J26))/LN((I26-L26)/(N26-J26)) -> 11.251197 | T26: =((AE26 + AF26*I26 +AG26*I26^2 + AH26*I26^3)+(AE26 + AF26*N26 + AG26*N26^2 + AH26*N26^3))/2 -> 4178.5636 | U26: =((AA26 + AB26*I26 + AC26*I26^2 + AD26*I26^3)+(AA26 + AB26*N26 + AC26*N26^2 + AD26*N26^3))/2 -> 991.66039 | V26: =((AK26 + AL26*J26)+(AK26 + AL26*L26))/2 -> 1007.1787 | W26: =((AI26 + AJ26*J26)+(AI26 + AJ26*L26))/2 -> 1.170252 | AA26: -144.24373 | AB26: 10.5287 | AC26: -0.031256926 | AD26: 2.9456116e-05 | AE26: 17554.454 | AF26: -125.69235 | AG26: 0.39362054 | AH26: -0.00041079636 | AI26: 2.306401 | AJ26: -0.0037612753 | AK26: 995.1762 | AL26: 0.039735 | AN26: -1.040899 | AO26: 4.3025437 | AP26: 1.0234654
... A110: 0.074 | B110: =A110/U110*3600*1000 -> 268.48787 | C110: 3000 | D110: =F110/(0.02809*3600) -> 3.1443955 | E110: 158.98693 | F110: =E110*2 -> 317.97385 | G110: =AN110 + AO110*D110 + AP110*D110^2 -> 22.607231 | H110: =H98 -> 4495.1437 | I110: 315 | J110: 295 | K110: =Q110*3600/(V110*W110*F110) -> 11.136537 | L110: 306.13601 | M110: =J110+K110 -> 306.13654 | N110: 311.23278 | O110: =I110-Q110/(T110*A110) -> 311.23278 | P110: =I110-N110 -> 3.7672181 | Q110: 1164.8868 | R110: =Q110/(Abmessungen!B$17*S110) -> 176.45744 | S110: =((I110-L110)-(N110-J110))/LN((I110-L110)/(N110-J110)) -> 12.179103 | T110: =((AE110 + AF110*I110 +AG110*I110^2 + AH110*I110^3)+(AE110 + AF110*N110 + AG110*N110^2 + AH110*N110^3))/2 -> 4178.6041 | U110: =((AA110 + AB110*I110 + AC110*I110^2 + AD110*I110^3)+(AA110 + AB110*N110 + AC110*N110^2 + AD110*N110^3))/2 -> 992.2236 | V110: =((AK110 + AL110*J110)+(AK110 + AL110*L110))/2 -> 1007.1193 | W110: =((AI110 + AJ110*J110)+(AI110 + AJ110*L110))/2 -> 1.175882 | AA110: -144.24373 | AB110: 10.5287 | AC110: -0.031256926 | AD110: 2.9456116e-05 | AE110: 17554.454 | AF110: -125.69235 | AG110: 0.39362054 | AH110: -0.00041079636 | AI110: 2.306401 | AJ110: -0.0037612753 | AK110: 995.1762 | AL110: 0.039735 | AN110: -1.040899 | AO110: 4.3025437 | AP110: 1.0234654
A114: 29 | D114: 50.8 | G114: 72.5 | J114: 94.4 | M114: 116.2 | O114: 137.9 | Q114: 159.7 | S114: 181.5
A115: 0.008 | D115: 0.014 | G115: 0.02 | J115: 0.026 | M115: 0.032 | O115: 0.038 | Q115: 0.044 | S115: 0.05
A118: rpm | B118: W | C118: K/W | D118: rpm | E118: W | F118: K/W | G118: rpm | H118: W | I118: K/W | J118: rpm | K118: W | L118: K/W | M118: W | N118: K/W | O118: W | P118: K/W | Q118: W | R118: K/W | S118: W | T118: K/W
A121: 0 | B121: =$Y$195 - $Z$195*EXP(-$AA$195*A121^$AB$195) -> 36.950783 | C121: =20/B121 -> 0.54126053
A122: 5 | B122: =$Y$195 - $Z$195*EXP(-$AA$195*A122^$AB$195) -> 37.159872 | C122: =20/B122 -> 0.53821499
A123: 10 | B123: =$Y$195 - $Z$195*EXP(-$AA$195*A123^$AB$195) -> 37.518014 | C123: =20/B123 -> 0.53307726
A124: 15 | B124: =$Y$195 - $Z$195*EXP(-$AA$195*A124^$AB$195) -> 37.96746 | C124: =20/B124 -> 0.52676687
A125: 20 | B125: =$Y$195 - $Z$195*EXP(-$AA$195*A125^$AB$195) -> 38.488553 | C125: =20/B125 -> 0.51963501
A126: 25 | B126: =$Y$195 - $Z$195*EXP(-$AA$195*A126^$AB$195) -> 39.070111 | C126: =20/B126 -> 0.51190026 | D126: 0 | E126: =$AC$195 - $AD$195*EXP(-$AE$195*D126^$AF$195) -> 48.501446 | F126: =20/E126 -> 0.41235884
A127: 30 | B127: =$Y$195 - $Z$195*EXP(-$AA$195*A127^$AB$195) -> 39.704647 | C127: =20/B127 -> 0.50371938 | D127: 5 | E127: =$AC$195 - $AD$195*EXP(-$AE$195*D127^$AF$195) -> 48.642804 | F127: =20/E127 -> 0.41116051
A128: 35 | B128: =$Y$195 - $Z$195*EXP(-$AA$195*A128^$AB$195) -> 40.386686 | C128: =20/B128 -> 0.4952127 | D128: 10 | E128: =$AC$195 - $AD$195*EXP(-$AE$195*D128^$AF$195) -> 48.905612 | F128: =20/E128 -> 0.40895102 | G128: 0 | H128: =$AG$195 - $AH$195*EXP(-$AI$195*G128^$AJ$195) -> 55.744833 | I128: =20/H128 -> 0.35877764
A129: 40 | B129: =$Y$195 - $Z$195*EXP(-$AA$195*A129^$AB$195) -> 41.11199 | C129: =20/B129 -> 0.48647608 | D129: 15 | E129: =$AC$195 - $AD$195*EXP(-$AE$195*D129^$AF$195) -> 49.248542 | F129: =20/E129 -> 0.40610339 | G129: 5 | H129: =$AG$195 - $AH$195*EXP(-$AI$195*G129^$AJ$195) -> 55.848513 | I129: =20/H129 -> 0.35811159
A130: 45 | B130: =$Y$195 - $Z$195*EXP(-$AA$195*A130^$AB$195) -> 41.877147 | C130: =20/B130 -> 0.47758745 | D130: 20 | E130: =$AC$195 - $AD$195*EXP(-$AE$195*D130^$AF$195) -> 49.65657 | F130: =20/E130 -> 0.40276644 | G130: 10 | H130: =$AG$195 - $AH$195*EXP(-$AI$195*G130^$AJ$195) -> 56.053837 | I130: =20/H130 -> 0.35679984
A131: 50 | B131: =$Y$195 - $Z$195*EXP(-$AA$195*A131^$AB$195) -> 42.679325 | C131: =20/B131 -> 0.46861098 | D131: 25 | E131: =$AC$195 - $AD$195*EXP(-$AE$195*D131^$AF$195) -> 50.120914 | F131: =20/E131 -> 0.39903502 | G131: 15 | H131: =$AG$195 - $AH$195*EXP(-$AI$195*G131^$AJ$195) -> 56.330091 | I131: =20/H131 -> 0.35505002 | J131: 0 | K131: =$AK$195 - $AL$195*EXP(-$AM$195*J131^$AN$195) -> 60.628113 | L131: =20/K131 -> 0.32987997 | M131: =$AO$195 - $AP$195*EXP(-$AQ$195*J131^$AR$195) -> 64.12427 | N131: =20/M131 -> 0.31189439 | O131: =$AS$195 - $AT$195*EXP(-$AU$195*J131^$AV$195) -> 66.728771 | P131: =20/O131 -> 0.29972079 | Q131: =$AW$195 - $AX$195*EXP(-$AY$195*J131^$AZ$195) -> 68.720746 | R131: =20/Q131 -> 0.29103293 | S131: =$BA$195 - $BB$195*EXP(-$BC$195*J131^$BD$195) -> 70.271356 | T131: =20/S131 -> 0.28461099
A132: 100 | B132: =$Y$195 - $Z$195*EXP(-$AA$195*A132^$AB$195) -> 52.328563 | C132: =20/B132 -> 0.38220044 | D132: 75 | E132: =$AC$195 - $AD$195*EXP(-$AE$195*D132^$AF$195) -> 57.017115 | F132: =20/E132 -> 0.35077187 | G132: 65 | H132: =$AG$195 - $AH$195*EXP(-$AI$195*G132^$AJ$195) -> 61.622365 | I132: =20/H132 -> 0.32455749 | J132: 50 | K132: =$AK$195 - $AL$195*EXP(-$AM$195*J132^$AN$195) -> 64.211197 | L132: =20/K132 -> 0.31147216 | M132: =$AO$195 - $AP$195*EXP(-$AQ$195*J132^$AR$195) -> 67.579583 | N132: =20/M132 -> 0.29594737 | O132: =$AS$195 - $AT$195*EXP(-$AU$195*J132^$AV$195) -> 70.146341 | P132: =20/O132 -> 0.28511822 | Q132: =$AW$195 - $AX$195*EXP(-$AY$195*J132^$AZ$195) -> 72.151405 | R132: =20/Q132 -> 0.27719488 | S132: =$BA$195 - $BB$195*EXP(-$BC$195*J132^$BD$195) -> 73.747071 | T132: =20/S132 -> 0.27119721
A133: 150 | B133: =$Y$195 - $Z$195*EXP(-$AA$195*A133^$AB$195) -> 64.15214 | C133: =20/B133 -> 0.31175889 | D133: 125 | E133: =$AC$195 - $AD$195*EXP(-$AE$195*D133^$AF$195) -> 66.826052 | F133: =20/E133 -> 0.29928448 | G133: 115 | H133: =$AG$195 - $AH$195*EXP(-$AI$195*G133^$AJ$195) -> 70.101823 | I133: =20/H133 -> 0.28529929 | J133: 100 | K133: =$AK$195 - $AL$195*EXP(-$AM$195*J133^$AN$195) -> 71.457277 | L133: =20/K133 -> 0.27988752 | M133: =$AO$195 - $AP$195*EXP(-$AQ$195*J133^$AR$195) -> 74.639081 | N133: =20/M133 -> 0.26795614 | O133: =$AS$195 - $AT$195*EXP(-$AU$195*J133^$AV$195) -> 77.132364 | P133: =20/O133 -> 0.25929453 | Q133: =$AW$195 - $AX$195*EXP(-$AY$195*J133^$AZ$195) -> 79.129533 | R133: =20/Q133 -> 0.25275013 | S133: =$BA$195 - $BB$195*EXP(-$BC$195*J133^$BD$195) -> 80.758818 | T133: =20/S133 -> 0.24765097
A134: 200 | B134: =$Y$195 - $Z$195*EXP(-$AA$195*A134^$AB$195) -> 77.472466 | C134: =20/B134 -> 0.25815623 | D134: 175 | E134: =$AC$195 - $AD$195*EXP(-$AE$195*D134^$AF$195) -> 78.719129 | F134: =20/E134 -> 0.25406785 | G134: 165 | H134: =$AG$195 - $AH$195*EXP(-$AI$195*G134^$AJ$195) -> 80.910311 | I134: =20/H134 -> 0.24718728 | J134: 150 | K134: =$AK$195 - $AL$195*EXP(-$AM$195*J134^$AN$195) -> 81.236881 | L134: =20/K134 -> 0.2461936 | M134: =$AO$195 - $AP$195*EXP(-$AQ$195*J134^$AR$195) -> 84.222114 | N134: =20/M134 -> 0.23746732 | O134: =$AS$195 - $AT$195*EXP(-$AU$195*J134^$AV$195) -> 86.623174 | P134: =20/O134 -> 0.2308851 | Q134: =$AW$195 - $AX$195*EXP(-$AY$195*J134^$AZ$195) -> 88.590453 | R134: =20/Q134 -> 0.22575796 | S134: =$BA$195 - $BB$195*EXP(-$BC$195*J134^$BD$195) -> 90.230122 | T134: =20/S134 -> 0.22165547
A135: 250 | B135: =$Y$195 - $Z$195*EXP(-$AA$195*A135^$AB$195) -> 91.860613 | C135: =20/B135 -> 0.21772117 | D135: 225 | E135: =$AC$195 - $AD$195*EXP(-$AE$195*D135^$AF$195) -> 92.228816 | F135: =20/E135 -> 0.21685197 | G135: 215 | H135: =$AG$195 - $AH$195*EXP(-$AI$195*G135^$AJ$195) -> 93.589684 | I135: =20/H135 -> 0.21369877 | J135: 200 | K135: =$AK$195 - $AL$195*EXP(-$AM$195*J135^$AN$195) -> 93.059092 | L135: =20/K135 -> 0.21491721 | M135: =$AO$195 - $AP$195*EXP(-$AQ$195*J135^$AR$195) -> 95.858557 | N135: =20/M135 -> 0.20864074 | O135: =$AS$195 - $AT$195*EXP(-$AU$195*J135^$AV$195) -> 98.15929 | P135: =20/O135 -> 0.20375045 | Q135: =$AW$195 - $AX$195*EXP(-$AY$195*J135^$AZ$195) -> 100.07938 | R135: =20/Q135 -> 0.19984136 | S135: =$BA$195 - $BB$195*EXP(-$BC$195*J135^$BD$195) -> 101.70732 | T135: =20/S135 -> 0.19664268
A136: 300 | B136: =$Y$195 - $Z$195*EXP(-$AA$195*A136^$AB$195) -> 107.00323 | C136: =20/B136 -> 0.18691024 | D136: 275 | E136: =$AC$195 - $AD$195*EXP(-$AE$195*D136^$AF$195) -> 107.02367 | F136: =20/E136 -> 0.18687454 | G136: 265 | H136: =$AG$195 - $AH$195*EXP(-$AI$195*G136^$AJ$195) -> 107.81724 | I136: =20/H136 -> 0.18549909 | J136: 250 | K136: =$AK$195 - $AL$195*EXP(-$AM$195*J136^$AN$195) -> 106.5942 | L136: =20/K136 -> 0.18762747 | M136: =$AO$195 - $AP$195*EXP(-$AQ$195*J136^$AR$195) -> 109.23321 | N136: =20/M136 -> 0.18309449 | O136: =$AS$195 - $AT$195*EXP(-$AU$195*J136^$AV$195) -> 111.43459 | P136: =20/O136 -> 0.17947748 | Q136: =$AW$195 - $AX$195*EXP(-$AY$195*J136^$AZ$195) -> 113.29592 | R136: =20/Q136 -> 0.17652886 | S136: =$BA$195 - $BB$195*EXP(-$BC$195*J136^$BD$195) -> 114.89365 | T136: =20/S136 -> 0.17407402
A137: 350 | B137: =$Y$195 - $Z$195*EXP(-$AA$195*A137^$AB$195) -> 122.65516 | C137: =20/B137 -> 0.16305878 | D137: 325 | E137: =$AC$195 - $AD$195*EXP(-$AE$195*D137^$AF$195) -> 122.84398 | F137: =20/E137 -> 0.16280814 | G137: 315 | H137: =$AG$195 - $AH$195*EXP(-$AI$195*G137^$AJ$195) -> 123.33829 | I137: =20/H137 -> 0.16215564 | J137: 300 | K137: =$AK$195 - $AL$195*EXP(-$AM$195*J137^$AN$195) -> 121.58699 | L137: =20/K137 -> 0.16449128 | M137: =$AO$195 - $AP$195*EXP(-$AQ$195*J137^$AR$195) -> 124.10239 | N137: =20/M137 -> 0.16115724 | O137: =$AS$195 - $AT$195*EXP(-$AU$195*J137^$AV$195) -> 126.21365 | P137: =20/O137 -> 0.15846147 | Q137: =$AW$195 - $AX$195*EXP(-$AY$195*J137^$AZ$195) -> 128.01073 | R137: =20/Q137 -> 0.1562369 | S137: =$BA$195 - $BB$195*EXP(-$BC$195*J137^$BD$195) -> 129.56441 | T137: =20/S137 -> 0.15436337
A138: 400 | B138: =$Y$195 - $Z$195*EXP(-$AA$195*A138^$AB$195) -> 138.61738 | C138: =20/B138 -> 0.14428205 | D138: 375 | E138: =$AC$195 - $AD$195*EXP(-$AE$195*D138^$AF$195) -> 139.47496 | F138: =20/E138 -> 0.14339492 | G138: 365 | H138: =$AG$195 - $AH$195*EXP(-$AI$195*G138^$AJ$195) -> 139.93931 | I138: =20/H138 -> 0.1429191 | J138: 350 | K138: =$AK$195 - $AL$195*EXP(-$AM$195*J138^$AN$195) -> 137.82504 | L138: =20/K138 -> 0.14511151 | M138: =$AO$195 - $AP$195*EXP(-$AQ$195*J138^$AR$195) -> 140.2633 | N138: =20/M138 -> 0.14258898 | O138: =$AS$195 - $AT$195*EXP(-$AU$195*J138^$AV$195) -> 142.30132 | P138: =20/O138 -> 0.14054683 | Q138: =$AW$195 - $AX$195*EXP(-$AY$195*J138^$AZ$195) -> 144.03487 | R138: =20/Q138 -> 0.13885527 | S138: =$BA$195 - $BB$195*EXP(-$BC$195*J138^$BD$195) -> 145.5358 | T138: =20/S138 -> 0.13742323
A139: 450 | B139: =$Y$195 - $Z$195*EXP(-$AA$195*A139^$AB$195) -> 154.72503 | C139: =20/B139 -> 0.12926157 | D139: 425 | E139: =$AC$195 - $AD$195*EXP(-$AE$195*D139^$AF$195) -> 156.73332 | F139: =20/E139 -> 0.12760529 | G139: 415 | H139: =$AG$195 - $AH$195*EXP(-$AI$195*G139^$AJ$195) -> 157.4349 | I139: =20/H139 -> 0.12703664 | J139: 400 | K139: =$AK$195 - $AL$195*EXP(-$AM$195*J139^$AN$195) -> 155.124 | L139: =20/K139 -> 0.12892912 | M139: =$AO$195 - $AP$195*EXP(-$AQ$195*J139^$AR$195) -> 157.53975 | N139: =20/M139 -> 0.12695209 | O139: =$AS$195 - $AT$195*EXP(-$AU$195*J139^$AV$195) -> 159.52857 | P139: =20/O139 -> 0.12536939 | Q139: =$AW$195 - $AX$195*EXP(-$AY$195*J139^$AZ$195) -> 161.20541 | R139: =20/Q139 -> 0.12406532 | S139: =$BA$195 - $BB$195*EXP(-$BC$195*J139^$BD$195) -> 162.65024 | T139: =20/S139 -> 0.12296323
A140: 500 | B140: =$Y$195 - $Z$195*EXP(-$AA$195*A140^$AB$195) -> 170.84006 | C140: =20/B140 -> 0.11706856 | D140: 475 | E140: =$AC$195 - $AD$195*EXP(-$AE$195*D140^$AF$195) -> 174.45966 | F140: =20/E140 -> 0.11463969 | G140: 465 | H140: =$AG$195 - $AH$195*EXP(-$AI$195*G140^$AJ$195) -> 175.6606 | I140: =20/H140 -> 0.11385593 | J140: 450 | K140: =$AK$195 - $AL$195*EXP(-$AM$195*J140^$AN$195) -> 173.31976 | L140: =20/K140 -> 0.11539365 | M140: =$AO$195 - $AP$195*EXP(-$AQ$195*J140^$AR$195) -> 175.77461 | N140: =20/M140 -> 0.11378207 | O140: =$AS$195 - $AT$195*EXP(-$AU$195*J140^$AV$195) -> 177.74484 | P140: =20/O140 -> 0.11252085 | Q140: =$AW$195 - $AX$195*EXP(-$AY$195*J140^$AZ$195) -> 179.3778 | R140: =20/Q140 -> 0.11149652 | S140: =$BA$195 - $BB$195*EXP(-$BC$195*J140^$BD$195) -> 180.76858 | T140: =20/S140 -> 0.11063869
A141: 550 | B141: =$Y$195 - $Z$195*EXP(-$AA$195*A141^$AB$195) -> 186.8464 | C141: =20/B141 -> 0.10703979 | D141: 525 | E141: =$AC$195 - $AD$195*EXP(-$AE$195*D141^$AF$195) -> 192.51376 | F141: =20/E141 -> 0.10388868 | G141: 515 | H141: =$AG$195 - $AH$195*EXP(-$AI$195*G141^$AJ$195) -> 194.46864 | I141: =20/H141 -> 0.10284434 | J141: 500 | K141: =$AK$195 - $AL$195*EXP(-$AM$195*J141^$AN$195) -> 192.26392 | L141: =20/K141 -> 0.10402368 | M141: =$AO$195 - $AP$195*EXP(-$AQ$195*J141^$AR$195) -> 194.82534 | N141: =20/M141 -> 0.10265605 | O141: =$AS$195 - $AT$195*EXP(-$AU$195*J141^$AV$195) -> 196.81363 | P141: =20/O141 -> 0.10161898 | Q141: =$AW$195 - $AX$195*EXP(-$AY$195*J141^$AZ$195) -> 198.4213 | R141: =20/Q141 -> 0.10079563 | S141: =$BA$195 - $BB$195*EXP(-$BC$195*J141^$BD$195) -> 199.76542 | T141: =20/S141 -> 0.10011743
A142: 600 | B142: =$Y$195 - $Z$195*EXP(-$AA$195*A142^$AB$195) -> 202.64647 | C142: =20/B142 -> 0.098694046 | D142: 575 | E142: =$AC$195 - $AD$195*EXP(-$AE$195*D142^$AF$195) -> 210.77148 | F142: =20/E142 -> 0.094889496 | G142: 565 | H142: =$AG$195 - $AH$195*EXP(-$AI$195*G142^$AJ$195) -> 213.72521 | I142: =20/H142 -> 0.093578104 | J142: 550 | K142: =$AK$195 - $AL$195*EXP(-$AM$195*J142^$AN$195) -> 211.82094 | L142: =20/K142 -> 0.094419372 | M142: =$AO$195 - $AP$195*EXP(-$AQ$195*J142^$AR$195) -> 214.56124 | N142: =20/M142 -> 0.09321348 | O142: =$AS$195 - $AT$195*EXP(-$AU$195*J142^$AV$195) -> 216.60976 | P142: =20/O142 -> 0.092331941 | Q142: =$AW$195 - $AX$195*EXP(-$AY$195*J142^$AZ$195) -> 218.21617 | R142: =20/Q142 -> 0.091652236 | S142: =$BA$195 - $BB$195*EXP(-$BC$195*J142^$BD$195) -> 219.5262 | T142: =20/S142 -> 0.091105301
... A194: 3200 | B194: =$Y$195 - $Z$195*EXP(-$AA$195*A194^$AB$195) -> 484.07063 | C194: =20/B194 -> 0.041316284 | D194: 3175 | E194: =$AC$195 - $AD$195*EXP(-$AE$195*D194^$AF$195) -> 659.806 | F194: =20/E194 -> 0.03031194 | G194: 3165 | H194: =$AG$195 - $AH$195*EXP(-$AI$195*G194^$AJ$195) -> 764.52988 | I194: =20/H194 -> 0.026159867 | J194: 3150 | K194: =$AK$195 - $AL$195*EXP(-$AM$195*J194^$AN$195) -> 842.10566 | L194: =20/K194 -> 0.023749989 | M194: =$AO$195 - $AP$195*EXP(-$AQ$195*J194^$AR$195) -> 905.8571 | N194: =20/M194 -> 0.022078538 | O194: =$AS$195 - $AT$195*EXP(-$AU$195*J194^$AV$195) -> 960.55249 | P194: =20/O194 -> 0.02082135 | Q194: =$AW$195 - $AX$195*EXP(-$AY$195*J194^$AZ$195) -> 1008.9424 | R194: =20/Q194 -> 0.019822737 | S194: =$BA$195 - $BB$195*EXP(-$BC$195*J194^$BD$195) -> 1052.6502 | T194: =20/S194 -> 0.018999663
A195: 3250 | B195: =$Y$195 - $Z$195*EXP(-$AA$195*A195^$AB$195) -> 484.36376 | C195: =20/B195 -> 0.041291281 | D195: 3225 | E195: =$AC$195 - $AD$195*EXP(-$AE$195*D195^$AF$195) -> 660.82659 | F195: =20/E195 -> 0.030265126 | G195: 3215 | H195: =$AG$195 - $AH$195*EXP(-$AI$195*G195^$AJ$195) -> 766.11442 | I195: =20/H195 -> 0.026105761 | J195: 3200 | K195: =$AK$195 - $AL$195*EXP(-$AM$195*J195^$AN$195) -> 844.36709 | L195: =20/K195 -> 0.02368638 | M195: =$AO$195 - $AP$195*EXP(-$AQ$195*J195^$AR$195) -> 908.85765 | N195: =20/M195 -> 0.022005646 | O195: =$AS$195 - $AT$195*EXP(-$AU$195*J195^$AV$195) -> 964.38486 | P195: =20/O195 -> 0.020738609 | Q195: =$AW$195 - $AX$195*EXP(-$AY$195*J195^$AZ$195) -> 1013.6852 | R195: =20/Q195 -> 0.019729991 | S195: =$BA$195 - $BB$195*EXP(-$BC$195*J195^$BD$195) -> 1058.3687 | T195: =20/S195 -> 0.018897006 | Y195: 486.75431 | Z195: 449.80353 | AA195: 4.5774106e-05 | AB195: 1.4403913 | AC195: 670.89679 | AD195: 622.39535 | AE195: 1.9803045e-05 | AF195: 1.5159017 | AG195: 782.44831 | AH195: 726.70347 | AI195: 1.1298152e-05 | AJ195: 1.5756917 | AK195: 869.35637 | AL195: 808.72825 | AM195: 8.4216526e-06 | AN195: 1.6021595 | AO195: 944.81946 | AP195: 880.6952 | AQ195: 7.1923477e-06 | AR195: 1.6113554 | AS195: 1014.5262 | AT195: 947.79739 | AU195: 6.6082424e-06 | AV195: 1.6113882 | AW195: 1081.6079 | AX195: 1012.8872 | AY195: 6.3327957e-06 | AZ195: 1.6062423 | BA195: 1148.1044 | BB195: 1077.833 | BC195: 6.2263907e-06 | BD195: 1.598002
A196: 3300 | B196: =$Y$195 - $Z$195*EXP(-$AA$195*A196^$AB$195) -> 484.62654 | C196: =20/B196 -> 0.041268891 | D196: 3275 | E196: =$AC$195 - $AD$195*EXP(-$AE$195*D196^$AF$195) -> 661.76036 | F196: =20/E196 -> 0.030222421 | G196: 3265 | H196: =$AG$195 - $AH$195*EXP(-$AI$195*G196^$AJ$195) -> 767.57122 | I196: =20/H196 -> 0.026056214 | J196: 3250 | K196: =$AK$195 - $AL$195*EXP(-$AM$195*J196^$AN$195) -> 846.4596 | L196: =20/K196 -> 0.023627826 | M196: =$AO$195 - $AP$195*EXP(-$AQ$195*J196^$AR$195) -> 911.65264 | N196: =20/M196 -> 0.02193818 | O196: =$AS$195 - $AT$195*EXP(-$AU$195*J196^$AV$195) -> 967.97803 | P196: =20/O196 -> 0.020661626 | Q196: =$AW$195 - $AX$195*EXP(-$AY$195*J196^$AZ$195) -> 1018.1592 | R196: =20/Q196 -> 0.019643293 | S196: =$BA$195 - $BB$195*EXP(-$BC$195*J196^$BD$195) -> 1063.7935 | T196: =20/S196 -> 0.01880064
A197: 3350 | B197: =$Y$195 - $Z$195*EXP(-$AA$195*A197^$AB$195) -> 484.86191 | C197: =20/B197 -> 0.041248858 | D197: 3325 | E197: =$AC$195 - $AD$195*EXP(-$AE$195*D197^$AF$195) -> 662.61392 | F197: =20/E197 -> 0.030183489 | G197: 3315 | H197: =$AG$195 - $AH$195*EXP(-$AI$195*G197^$AJ$195) -> 768.9093 | I197: =20/H197 -> 0.02601087 | J197: 3300 | K197: =$AK$195 - $AL$195*EXP(-$AM$195*J197^$AN$195) -> 848.39397 | L197: =20/K197 -> 0.023573954 | M197: =$AO$195 - $AP$195*EXP(-$AQ$195*J197^$AR$195) -> 914.25378 | N197: =20/M197 -> 0.021875764 | O197: =$AS$195 - $AT$195*EXP(-$AU$195*J197^$AV$195) -> 971.34406 | P197: =20/O197 -> 0.020590027 | Q197: =$AW$195 - $AX$195*EXP(-$AY$195*J197^$AZ$195) -> 1022.3764 | R197: =20/Q197 -> 0.019562267 | S197: =$BA$195 - $BB$195*EXP(-$BC$195*J197^$BD$195) -> 1068.9361 | T197: =20/S197 -> 0.018710193
A198: 3400 | B198: =$Y$195 - $Z$195*EXP(-$AA$195*A198^$AB$195) -> 485.07255 | C198: =20/B198 -> 0.041230946 | D198: 3375 | E198: =$AC$195 - $AD$195*EXP(-$AE$195*D198^$AF$195) -> 663.39346 | F198: =20/E198 -> 0.030148021 | G198: 3365 | H198: =$AG$195 - $AH$195*EXP(-$AI$195*G198^$AJ$195) -> 770.13715 | I198: =20/H198 -> 0.0259694 | J198: 3350 | K198: =$AK$195 - $AL$195*EXP(-$AM$195*J198^$AN$195) -> 850.18043 | L198: =20/K198 -> 0.023524418 | M198: =$AO$195 - $AP$195*EXP(-$AQ$195*J198^$AR$195) -> 916.67233 | N198: =20/M198 -> 0.021818047 | O198: =$AS$195 - $AT$195*EXP(-$AU$195*J198^$AV$195) -> 974.49467 | P198: =20/O198 -> 0.020523458 | Q198: =$AW$195 - $AX$195*EXP(-$AY$195*J198^$AZ$195) -> 1026.3483 | R198: =20/Q198 -> 0.019486562 | S198: =$BA$195 - $BB$195*EXP(-$BC$195*J198^$BD$195) -> 1073.8075 | T198: =20/S198 -> 0.018625313
A199: 3450 | B199: =$Y$195 - $Z$195*EXP(-$AA$195*A199^$AB$195) -> 485.26088 | C199: =20/B199 -> 0.041214944 | D199: 3425 | E199: =$AC$195 - $AD$195*EXP(-$AE$195*D199^$AF$195) -> 664.1048 | F199: =20/E199 -> 0.030115729 | G199: 3415 | H199: =$AG$195 - $AH$195*EXP(-$AI$195*G199^$AJ$195) -> 771.26278 | I199: =20/H199 -> 0.025931499 | J199: 3400 | K199: =$AK$195 - $AL$195*EXP(-$AM$195*J199^$AN$195) -> 851.82875 | L199: =20/K199 -> 0.023478897 | M199: =$AO$195 - $AP$195*EXP(-$AQ$195*J199^$AR$195) -> 918.91908 | N199: =20/M199 -> 0.021764702 | O199: =$AS$195 - $AT$195*EXP(-$AU$195*J199^$AV$195) -> 977.44116 | P199: =20/O199 -> 0.02046159 | Q199: =$AW$195 - $AX$195*EXP(-$AY$195*J199^$AZ$195) -> 1030.0864 | R199: =20/Q199 -> 0.019415847 | S199: =$BA$195 - $BB$195*EXP(-$BC$195*J199^$BD$195) -> 1078.4188 | T199: =20/S199 -> 0.01854567
A200: 3500 | B200: =$Y$195 - $Z$195*EXP(-$AA$195*A200^$AB$195) -> 485.42914 | C200: =20/B200 -> 0.041200658 | D200: 3475 | E200: =$AC$195 - $AD$195*EXP(-$AE$195*D200^$AF$195) -> 664.75332 | F200: =20/E200 -> 0.030086348 | G200: 3465 | H200: =$AG$195 - $AH$195*EXP(-$AI$195*G200^$AJ$195) -> 772.29375 | I200: =20/H200 -> 0.025896882 | J200: 3450 | K200: =$AK$195 - $AL$195*EXP(-$AM$195*J200^$AN$195) -> 853.34819 | L200: =20/K200 -> 0.023437092 | M200: =$AO$195 - $AP$195*EXP(-$AQ$195*J200^$AR$195) -> 921.0044 | N200: =20/M200 -> 0.021715423 | O200: =$AS$195 - $AT$195*EXP(-$AU$195*J200^$AV$195) -> 980.1945 | P200: =20/O200 -> 0.020404114 | Q200: =$AW$195 - $AX$195*EXP(-$AY$195*J200^$AZ$195) -> 1033.6018 | R200: =20/Q200 -> 0.019349812 | S200: =$BA$195 - $BB$195*EXP(-$BC$195*J200^$BD$195) -> 1082.781 | T200: =20/S200 -> 0.018470957
A201: 3550 | B201: =$Y$195 - $Z$195*EXP(-$AA$195*A201^$AB$195) -> 485.57932 | C201: =20/B201 -> 0.041187915 | D201: 3525 | E201: =$AC$195 - $AD$195*EXP(-$AE$195*D201^$AF$195) -> 665.34408 | F201: =20/E201 -> 0.030059635 | G201: 3515 | H201: =$AG$195 - $AH$195*EXP(-$AI$195*G201^$AJ$195) -> 773.23712 | I201: =20/H201 -> 0.025865287 | J201: 3500 | K201: =$AK$195 - $AL$195*EXP(-$AM$195*J201^$AN$195) -> 854.74753 | L201: =20/K201 -> 0.023398722 | M201: =$AO$195 - $AP$195*EXP(-$AQ$195*J201^$AR$195) -> 922.93817 | N201: =20/M201 -> 0.021669924 | O201: =$AS$195 - $AT$195*EXP(-$AU$195*J201^$AV$195) -> 982.76523 | P201: =20/O201 -> 0.02035074 | Q201: =$AW$195 - $AX$195*EXP(-$AY$195*J201^$AZ$195) -> 1036.9052 | R201: =20/Q201 -> 0.019288167 | S201: =$BA$195 - $BB$195*EXP(-$BC$195*J201^$BD$195) -> 1086.9045 | T201: =20/S201 -> 0.018400881
A202: 3600 | B202: =$Y$195 - $Z$195*EXP(-$AA$195*A202^$AB$195) -> 485.71326 | C202: =20/B202 -> 0.041176557 | D202: 3575 | E202: =$AC$195 - $AD$195*EXP(-$AE$195*D202^$AF$195) -> 665.88175 | F202: =20/E202 -> 0.030035363 | G202: 3565 | H202: =$AG$195 - $AH$195*EXP(-$AI$195*G202^$AJ$195) -> 774.09955 | I202: =20/H202 -> 0.02583647 | J202: 3550 | K202: =$AK$195 - $AL$195*EXP(-$AM$195*J202^$AN$195) -> 856.03507 | L202: =20/K202 -> 0.023363529 | M202: =$AO$195 - $AP$195*EXP(-$AQ$195*J202^$AR$195) -> 924.72985 | N202: =20/M202 -> 0.021627938 | O202: =$AS$195 - $AT$195*EXP(-$AU$195*J202^$AV$195) -> 985.16352 | P202: =20/O202 -> 0.020301198 | Q202: =$AW$195 - $AX$195*EXP(-$AY$195*J202^$AZ$195) -> 1040.0071 | R202: =20/Q202 -> 0.019230639 | S202: =$BA$195 - $BB$195*EXP(-$BC$195*J202^$BD$195) -> 1090.7998 | T202: =20/S202 -> 0.018335171
A203: 3650 | B203: =$Y$195 - $Z$195*EXP(-$AA$195*A203^$AB$195) -> 485.83262 | C203: =20/B203 -> 0.041166441 | D203: 3625 | E203: =$AC$195 - $AD$195*EXP(-$AE$195*D203^$AF$195) -> 666.3707 | F203: =20/E203 -> 0.030013324 | G203: 3615 | H203: =$AG$195 - $AH$195*EXP(-$AI$195*G203^$AJ$195) -> 774.88726 | I203: =20/H203 -> 0.025810206 | J203: 3600 | K203: =$AK$195 - $AL$195*EXP(-$AM$195*J203^$AN$195) -> 857.21869 | L203: =20/K203 -> 0.023331269 | M203: =$AO$195 - $AP$195*EXP(-$AQ$195*J203^$AR$195) -> 926.38844 | N203: =20/M203 -> 0.021589216 | O203: =$AS$195 - $AT$195*EXP(-$AU$195*J203^$AV$195) -> 987.39915 | P203: =20/O203 -> 0.020255233 | Q203: =$AW$195 - $AX$195*EXP(-$AY$195*J203^$AZ$195) -> 1042.9176 | R203: =20/Q203 -> 0.019176971 | S203: =$BA$195 - $BB$195*EXP(-$BC$195*J203^$BD$195) -> 1094.477 | T203: =20/S203 -> 0.018273569
A204: 3700 | B204: =$Y$195 - $Z$195*EXP(-$AA$195*A204^$AB$195) -> 485.9389 | C204: =20/B204 -> 0.041157438 | D204: 3675 | E204: =$AC$195 - $AD$195*EXP(-$AE$195*D204^$AF$195) -> 666.81497 | F204: =20/E204 -> 0.029993328 | G204: 3665 | H204: =$AG$195 - $AH$195*EXP(-$AI$195*G204^$AJ$195) -> 775.60607 | I204: =20/H204 -> 0.025786286 | J204: 3650 | K204: =$AK$195 - $AL$195*EXP(-$AM$195*J204^$AN$195) -> 858.30577 | L204: =20/K204 -> 0.023301719 | M204: =$AO$195 - $AP$195*EXP(-$AQ$195*J204^$AR$195) -> 927.92252 | N204: =20/M204 -> 0.021553524 | O204: =$AS$195 - $AT$195*EXP(-$AU$195*J204^$AV$195) -> 989.48147 | P204: =20/O204 -> 0.020212607 | Q204: =$AW$195 - $AX$195*EXP(-$AY$195*J204^$AZ$195) -> 1045.6465 | R204: =20/Q204 -> 0.019126923 | S204: =$BA$195 - $BB$195*EXP(-$BC$195*J204^$BD$195) -> 1097.9459 | T204: =20/S204 -> 0.018215833
A205: 3750 | B205: =$Y$195 - $Z$195*EXP(-$AA$195*A205^$AB$195) -> 486.03345 | C205: =20/B205 -> 0.041149431 | D205: 3725 | E205: =$AC$195 - $AD$195*EXP(-$AE$195*D205^$AF$195) -> 667.21831 | F205: =20/E205 -> 0.029975197 | G205: 3715 | H205: =$AG$195 - $AH$195*EXP(-$AI$195*G205^$AJ$195) -> 776.26142 | I205: =20/H205 -> 0.025764516 | J205: 3700 | K205: =$AK$195 - $AL$195*EXP(-$AM$195*J205^$AN$195) -> 859.30331 | L205: =20/K205 -> 0.023274669 | M205: =$AO$195 - $AP$195*EXP(-$AQ$195*J205^$AR$195) -> 929.34024 | N205: =20/M205 -> 0.021520644 | O205: =$AS$195 - $AT$195*EXP(-$AU$195*J205^$AV$195) -> 991.41948 | P205: =20/O205 -> 0.020173096 | Q205: =$AW$195 - $AX$195*EXP(-$AY$195*J205^$AZ$195) -> 1048.2034 | R205: =20/Q205 -> 0.019080267 | S205: =$BA$195 - $BB$195*EXP(-$BC$195*J205^$BD$195) -> 1101.2163 | T205: =20/S205 -> 0.018161736
A206: 3800 | B206: =$Y$195 - $Z$195*EXP(-$AA$195*A206^$AB$195) -> 486.1175 | C206: =20/B206 -> 0.041142317 | D206: 3775 | E206: =$AC$195 - $AD$195*EXP(-$AE$195*D206^$AF$195) -> 667.58419 | F206: =20/E206 -> 0.029958768 | G206: 3765 | H206: =$AG$195 - $AH$195*EXP(-$AI$195*G206^$AJ$195) -> 776.85838 | I206: =20/H206 -> 0.025744718 | J206: 3750 | K206: =$AK$195 - $AL$195*EXP(-$AM$195*J206^$AN$195) -> 860.21787 | L206: =20/K206 -> 0.023249924 | M206: =$AO$195 - $AP$195*EXP(-$AQ$195*J206^$AR$195) -> 930.6493 | N206: =20/M206 -> 0.021490372 | O206: =$AS$195 - $AT$195*EXP(-$AU$195*J206^$AV$195) -> 993.22176 | P206: =20/O206 -> 0.02013649 | Q206: =$AW$195 - $AX$195*EXP(-$AY$195*J206^$AZ$195) -> 1050.5973 | R206: =20/Q206 -> 0.019036791 | S206: =$BA$195 - $BB$195*EXP(-$BC$195*J206^$BD$195) -> 1104.2975 | T206: =20/S206 -> 0.018111062
A207: 3850 | B207: =$Y$195 - $Z$195*EXP(-$AA$195*A207^$AB$195) -> 486.19215 | C207: =20/B207 -> 0.041136 | D207: 3825 | E207: =$AC$195 - $AD$195*EXP(-$AE$195*D207^$AF$195) -> 667.91582 | F207: =20/E207 -> 0.029943893 | G207: 3815 | H207: =$AG$195 - $AH$195*EXP(-$AI$195*G207^$AJ$195) -> 777.40167 | I207: =20/H207 -> 0.025726726 | J207: 3800 | K207: =$AK$195 - $AL$195*EXP(-$AM$195*J207^$AN$195) -> 861.05561 | L207: =20/K207 -> 0.023227304 | M207: =$AO$195 - $AP$195*EXP(-$AQ$195*J207^$AR$195) -> 931.85704 | N207: =20/M207 -> 0.02146252 | O207: =$AS$195 - $AT$195*EXP(-$AU$195*J207^$AV$195) -> 994.89652 | P207: =20/O207 -> 0.020102593 | Q207: =$AW$195 - $AX$195*EXP(-$AY$195*J207^$AZ$195) -> 1052.8369 | R207: =20/Q207 -> 0.018996294 | S207: =$BA$195 - $BB$195*EXP(-$BC$195*J207^$BD$195) -> 1107.1984 | T207: =20/S207 -> 0.01806361
... A251: 6050 | B251: =$Y$195 - $Z$195*EXP(-$AA$195*A251^$AB$195) -> 486.75309 | C251: =20/B251 -> 0.041088593 | D251: 6025 | E251: =$AC$195 - $AD$195*EXP(-$AE$195*D251^$AF$195) -> 670.88183 | F251: =20/E251 -> 0.029811509 | G251: 6015 | H251: =$AG$195 - $AH$195*EXP(-$AI$195*G251^$AJ$195) -> 782.42086 | I251: =20/H251 -> 0.025561691 | J251: 6000 | K251: =$AK$195 - $AL$195*EXP(-$AM$195*J251^$AN$195) -> 869.29698 | L251: =20/K251 -> 0.023007097 | M251: =$AO$195 - $AP$195*EXP(-$AQ$195*J251^$AR$195) -> 944.68761 | N251: =20/M251 -> 0.02117102 | O251: =$AS$195 - $AT$195*EXP(-$AU$195*J251^$AV$195) -> 1014.2367 | P251: =20/O251 -> 0.019719263 | Q251: =$AW$195 - $AX$195*EXP(-$AY$195*J251^$AZ$195) -> 1080.9992 | R251: =20/Q251 -> 0.018501402 | S251: =$BA$195 - $BB$195*EXP(-$BC$195*J251^$BD$195) -> 1146.8892 | T251: =20/S251 -> 0.017438476

Sheet Typ1 2x F12
A1: kg/s | B1: L/h | C1: min^-1 | D1: m/s | E1: m³/h | F1: Gesamt [m³/h] | G1: dp [Pa] | H1: dp Fluid [Pa] | I1: Tin [K] | J1: TAmbient [K] | K1: dTAmbient | L1: TAmbient2 | M1: TAmbient2 | N1: Tout_avg | O1: Tout_avg | P1: dTFluid [K] | Q1: P [W] | R1: k [W/m²*K] | S1: dTlog | T1: cp [J/kg * K] | U1: ρ [kg/m³] | V1: cp [J/kg * K] | W1: ρ [kg/m³]
A2: 0 | B2: =A2/U2*3600*1000 -> 0 | C2: 0 | D2: 0 | G2: 0 | H2: 0 | I2: 315 | J2: 295 | T2: 4180 | U2: 991.5 | AA2: -144.24373 | AB2: 10.5287 | AC2: -0.031256926 | AD2: 2.9456116e-05 | AE2: 17554.454 | AF2: -125.69235 | AG2: 0.39362054 | AH2: -0.00041079636 | AI2: 2.306401 | AJ2: -0.0037612753 | AK2: 995.1762 | AL2: 0.039735 | AN2: -1.040899 | AO2: 4.3025437 | AP2: 1.0234654
A3: 0.008 | B3: =A3/U3*3600*1000 -> 29.040451 | C3: 0 | D3: 0 | G3: 0 | H3: 156.34022 | I3: 315 | J3: 295 | L3: 297.20729 | N3: 313.89953 | O3: =I3-Q3/(T3*A3) -> 313.89953 | P3: =I3-N3 -> 1.1004707 | Q3: 36.787103 | R3: =Q3/(Abmessungen!B$17*S3) -> 3.7004515 | S3: =((I3-L3)-(N3-J3))/LN((I3-L3)/(N3-J3)) -> 18.340553 | T3: =((AE3 + AF3*I3 +AG3*I3^2 + AH3*I3^3)+(AE3 + AF3*N3 + AG3*N3^2 + AH3*N3^3))/2 -> 4178.5646 | U3: =((AA3 + AB3*I3 + AC3*I3^2 + AD3*I3^3)+(AA3 + AB3*N3 + AC3*N3^2 + AD3*N3^3))/2 -> 991.72013 | V3: =((AK3 + AL3*J3)+(AK3 + AL3*L3))/2 -> 1006.9419 | W3: =((AI3 + AJ3*J3)+(AI3 + AJ3*L3))/2 -> 1.1926737 | AA3: -144.24373 | AB3: 10.5287 | AC3: -0.031256926 | AD3: 2.9456116e-05 | AE3: 17554.454 | AF3: -125.69235 | AG3: 0.39362054 | AH3: -0.00041079636 | AI3: 2.306401 | AJ3: -0.0037612753 | AK3: 995.1762 | AL3: 0.039735 | AN3: -1.040899 | AO3: 4.3025437 | AP3: 1.0234654
A4: 0.014 | B4: =A4/U4*3600*1000 -> 50.823476 | C4: 0 | D4: 0 | G4: 0 | H4: 326.03512 | I4: 315 | J4: 295 | L4: 297.94433 | N4: 314.16965 | O4: =I4-Q4/(T4*A4) -> 314.16965 | P4: =I4-N4 -> 0.83034724 | Q4: 48.575224 | R4: =Q4/(Abmessungen!B$17*S4) -> 4.9533369 | S4: =((I4-L4)-(N4-J4))/LN((I4-L4)/(N4-J4)) -> 18.092079 | T4: =((AE4 + AF4*I4 +AG4*I4^2 + AH4*I4^3)+(AE4 + AF4*N4 + AG4*N4^2 + AH4*N4^3))/2 -> 4178.5637 | U4: =((AA4 + AB4*I4 + AC4*I4^2 + AD4*I4^3)+(AA4 + AB4*N4 + AC4*N4^2 + AD4*N4^3))/2 -> 991.66771 | V4: =((AK4 + AL4*J4)+(AK4 + AL4*L4))/2 -> 1006.9565 | W4: =((AI4 + AJ4*J4)+(AI4 + AJ4*L4))/2 -> 1.1912876 | AA4: -144.24373 | AB4: 10.5287 | AC4: -0.031256926 | AD4: 2.9456116e-05 | AE4: 17554.454 | AF4: -125.69235 | AG4: 0.39362054 | AH4: -0.00041079636 | AI4: 2.306401 | AJ4: -0.0037612753 | AK4: 995.1762 | AL4: 0.039735 | AN4: -1.040899 | AO4: 4.3025437 | AP4: 1.0234654
A5: 0.02 | B5: =A5/U5*3600*1000 -> 72.607304 | C5: 0 | D5: 0 | G5: 0 | H5: 540.67838 | I5: 315 | J5: 295 | L5: 298.35294 | N5: 314.33359 | O5: =I5-Q5/(T5*A5) -> 314.33359 | P5: =I5-N5 -> 0.66641449 | Q5: 55.693103 | R5: =Q5/(Abmessungen!B$17*S5) -> 5.7219362 | S5: =((I5-L5)-(N5-J5))/LN((I5-L5)/(N5-J5)) -> 17.956842 | T5: =((AE5 + AF5*I5 +AG5*I5^2 + AH5*I5^3)+(AE5 + AF5*N5 + AG5*N5^2 + AH5*N5^3))/2 -> 4178.5633 | U5: =((AA5 + AB5*I5 + AC5*I5^2 + AD5*I5^3)+(AA5 + AB5*N5 + AC5*N5^2 + AD5*N5^3))/2 -> 991.63577 | V5: =((AK5 + AL5*J5)+(AK5 + AL5*L5))/2 -> 1006.9646 | W5: =((AI5 + AJ5*J5)+(AI5 + AJ5*L5))/2 -> 1.1905191 | AA5: -144.24373 | AB5: 10.5287 | AC5: -0.031256926 | AD5: 2.9456116e-05 | AE5: 17554.454 | AF5: -125.69235 | AG5: 0.39362054 | AH5: -0.00041079636 | AI5: 2.306401 | AJ5: -0.0037612753 | AK5: 995.1762 | AL5: 0.039735 | AN5: -1.040899 | AO5: 4.3025437 | AP5: 1.0234654
A6: 0.026 | B6: =A6/U6*3600*1000 -> 94.391533 | C6: 0 | D6: 0 | G6: 0 | H6: 800.27 | I6: 315 | J6: 295 | L6: 298.63722 | N6: 314.44321 | O6: =I6-Q6/(T6*A6) -> 314.44321 | P6: =I6-N6 -> 0.55679082 | Q6: 60.491227 | R6: =Q6/(Abmessungen!B$17*S6) -> 6.2490379 | S6: =((I6-L6)-(N6-J6))/LN((I6-L6)/(N6-J6)) -> 17.858739 | T6: =((AE6 + AF6*I6 +AG6*I6^2 + AH6*I6^3)+(AE6 + AF6*N6 + AG6*N6^2 + AH6*N6^3))/2 -> 4178.5632 | U6: =((AA6 + AB6*I6 + AC6*I6^2 + AD6*I6^3)+(AA6 + AB6*N6 + AC6*N6^2 + AD6*N6^3))/2 -> 991.61436 | V6: =((AK6 + AL6*J6)+(AK6 + AL6*L6))/2 -> 1006.9703 | W6: =((AI6 + AJ6*J6)+(AI6 + AJ6*L6))/2 -> 1.1899845 | AA6: -144.24373 | AB6: 10.5287 | AC6: -0.031256926 | AD6: 2.9456116e-05 | AE6: 17554.454 | AF6: -125.69235 | AG6: 0.39362054 | AH6: -0.00041079636 | AI6: 2.306401 | AJ6: -0.0037612753 | AK6: 995.1762 | AL6: 0.039735 | AN6: -1.040899 | AO6: 4.3025437 | AP6: 1.0234654
A7: 0.032 | B7: =A7/U7*3600*1000 -> 116.176 | C7: 0 | D7: 0 | G7: 0 | H7: 1104.81 | I7: 315 | J7: 295 | L7: 298.85549 | N7: 314.52189 | O7: =I7-Q7/(T7*A7) -> 314.52189 | P7: =I7-N7 -> 0.4781139 | Q7: 63.930533 | R7: =Q7/(Abmessungen!B$17*S7) -> 6.6336689 | S7: =((I7-L7)-(N7-J7))/LN((I7-L7)/(N7-J7)) -> 17.779768 | T7: =((AE7 + AF7*I7 +AG7*I7^2 + AH7*I7^3)+(AE7 + AF7*N7 + AG7*N7^2 + AH7*N7^3))/2 -> 4178.5632 | U7: =((AA7 + AB7*I7 + AC7*I7^2 + AD7*I7^3)+(AA7 + AB7*N7 + AC7*N7^2 + AD7*N7^3))/2 -> 991.59897 | V7: =((AK7 + AL7*J7)+(AK7 + AL7*L7))/2 -> 1006.9746 | W7: =((AI7 + AJ7*J7)+(AI7 + AJ7*L7))/2 -> 1.189574 | AA7: -144.24373 | AB7: 10.5287 | AC7: -0.031256926 | AD7: 2.9456116e-05 | AE7: 17554.454 | AF7: -125.69235 | AG7: 0.39362054 | AH7: -0.00041079636 | AI7: 2.306401 | AJ7: -0.0037612753 | AK7: 995.1762 | AL7: 0.039735 | AN7: -1.040899 | AO7: 4.3025437 | AP7: 1.0234654
A8: 0.038 | B8: =A8/U8*3600*1000 -> 137.96061 | C8: 0 | D8: 0 | G8: 0 | H8: 1454.2983 | I8: 315 | J8: 295 | L8: 299.03273 | N8: 314.58121 | O8: =I8-Q8/(T8*A8) -> 314.58121 | P8: =I8-N8 -> 0.41878591 | Q8: 66.497088 | R8: =Q8/(Abmessungen!B$17*S8) -> 6.9260552 | S8: =((I8-L8)-(N8-J8))/LN((I8-L8)/(N8-J8)) -> 17.712841 | T8: =((AE8 + AF8*I8 +AG8*I8^2 + AH8*I8^3)+(AE8 + AF8*N8 + AG8*N8^2 + AH8*N8^3))/2 -> 4178.5632 | U8: =((AA8 + AB8*I8 + AC8*I8^2 + AD8*I8^3)+(AA8 + AB8*N8 + AC8*N8^2 + AD8*N8^3))/2 -> 991.58735 | V8: =((AK8 + AL8*J8)+(AK8 + AL8*L8))/2 -> 1006.9781 | W8: =((AI8 + AJ8*J8)+(AI8 + AJ8*L8))/2 -> 1.1892407 | AA8: -144.24373 | AB8: 10.5287 | AC8: -0.031256926 | AD8: 2.9456116e-05 | AE8: 17554.454 | AF8: -125.69235 | AG8: 0.39362054 | AH8: -0.00041079636 | AI8: 2.306401 | AJ8: -0.0037612753 | AK8: 995.1762 | AL8: 0.039735 | AN8: -1.040899 | AO8: 4.3025437 | AP8: 1.0234654
A9: 0.044 | B9: =A9/U9*3600*1000 -> 159.74533 | C9: 0 | D9: 0 | G9: 0 | H9: 1848.735 | I9: 315 | J9: 295 | L9: 299.18196 | N9: 314.6276 | O9: =I9-Q9/(T9*A9) -> 314.6276 | P9: =I9-N9 -> 0.37240085 | Q9: 68.468421 | R9: =Q9/(Abmessungen!B$17*S9) -> 7.1549995 | S9: =((I9-L9)-(N9-J9))/LN((I9-L9)/(N9-J9)) -> 17.654371 | T9: =((AE9 + AF9*I9 +AG9*I9^2 + AH9*I9^3)+(AE9 + AF9*N9 + AG9*N9^2 + AH9*N9^3))/2 -> 4178.5632 | U9: =((AA9 + AB9*I9 + AC9*I9^2 + AD9*I9^3)+(AA9 + AB9*N9 + AC9*N9^2 + AD9*N9^3))/2 -> 991.57826 | V9: =((AK9 + AL9*J9)+(AK9 + AL9*L9))/2 -> 1006.9811 | W9: =((AI9 + AJ9*J9)+(AI9 + AJ9*L9))/2 -> 1.18896 | AA9: -144.24373 | AB9: 10.5287 | AC9: -0.031256926 | AD9: 2.9456116e-05 | AE9: 17554.454 | AF9: -125.69235 | AG9: 0.39362054 | AH9: -0.00041079636 | AI9: 2.306401 | AJ9: -0.0037612753 | AK9: 995.1762 | AL9: 0.039735 | AN9: -1.040899 | AO9: 4.3025437 | AP9: 1.0234654
A10: 0.05 | B10: =A10/U10*3600*1000 -> 181.53013 | C10: 0 | D10: 0 | G10: 0 | H10: 2288.12 | I10: 315 | J10: 295 | L10: 299.31084 | N10: 314.66488 | O10: =I10-Q10/(T10*A10) -> 314.66488 | P10: =I10-N10 -> 0.33512056 | Q10: 70.016122 | R10: =Q10/(Abmessungen!B$17*S10) -> 7.3384004 | S10: =((I10-L10)-(N10-J10))/LN((I10-L10)/(N10-J10)) -> 17.602251 | T10: =((AE10 + AF10*I10 +AG10*I10^2 + AH10*I10^3)+(AE10 + AF10*N10 + AG10*N10^2 + AH10*N10^3))/2 -> 4178.5632 | U10: =((AA10 + AB10*I10 + AC10*I10^2 + AD10*I10^3)+(AA10 + AB10*N10 + AC10*N10^2 + AD10*N10^3))/2 -> 991.57094 | V10: =((AK10 + AL10*J10)+(AK10 + AL10*L10))/2 -> 1006.9837 | W10: =((AI10 + AJ10*J10)+(AI10 + AJ10*L10))/2 -> 1.1887177 | AA10: -144.24373 | AB10: 10.5287 | AC10: -0.031256926 | AD10: 2.9456116e-05 | AE10: 17554.454 | AF10: -125.69235 | AG10: 0.39362054 | AH10: -0.00041079636 | AI10: 2.306401 | AJ10: -0.0037612753 | AK10: 995.1762 | AL10: 0.039735 | AN10: -1.040899 | AO10: 4.3025437 | AP10: 1.0234654
A11: 0.056 | B11: =A11/U11*3600*1000 -> 203.31498 | C11: 0 | D11: 0 | G11: 0 | H11: 2772.4534 | I11: 315 | J11: 295 | L11: 299.42428 | N11: 314.6955 | O11: =I11-Q11/(T11*A11) -> 314.6955 | P11: =I11-N11 -> 0.30449838 | Q11: 71.252481 | R11: =Q11/(Abmessungen!B$17*S11) -> 7.4880345 | S11: =((I11-L11)-(N11-J11))/LN((I11-L11)/(N11-J11)) -> 17.555116 | T11: =((AE11 + AF11*I11 +AG11*I11^2 + AH11*I11^3)+(AE11 + AF11*N11 + AG11*N11^2 + AH11*N11^3))/2 -> 4178.5632 | U11: =((AA11 + AB11*I11 + AC11*I11^2 + AD11*I11^3)+(AA11 + AB11*N11 + AC11*N11^2 + AD11*N11^3))/2 -> 991.56493 | V11: =((AK11 + AL11*J11)+(AK11 + AL11*L11))/2 -> 1006.9859 | W11: =((AI11 + AJ11*J11)+(AI11 + AJ11*L11))/2 -> 1.1885043 | AA11: -144.24373 | AB11: 10.5287 | AC11: -0.031256926 | AD11: 2.9456116e-05 | AE11: 17554.454 | AF11: -125.69235 | AG11: 0.39362054 | AH11: -0.00041079636 | AI11: 2.306401 | AJ11: -0.0037612753 | AK11: 995.1762 | AL11: 0.039735 | AN11: -1.040899 | AO11: 4.3025437 | AP11: 1.0234654
A12: 0.062 | B12: =A12/U12*3600*1000 -> 225.09986 | C12: 0 | D12: 0 | G12: 0 | H12: 3301.7351 | I12: 315 | J12: 295 | L12: 299.52558 | N12: 314.7211 | O12: =I12-Q12/(T12*A12) -> 314.7211 | P12: =I12-N12 -> 0.27889736 | Q12: 72.254195 | R12: =Q12/(Abmessungen!B$17*S12) -> 7.6119908 | S12: =((I12-L12)-(N12-J12))/LN((I12-L12)/(N12-J12)) -> 17.512025 | T12: =((AE12 + AF12*I12 +AG12*I12^2 + AH12*I12^3)+(AE12 + AF12*N12 + AG12*N12^2 + AH12*N12^3))/2 -> 4178.5632 | U12: =((AA12 + AB12*I12 + AC12*I12^2 + AD12*I12^3)+(AA12 + AB12*N12 + AC12*N12^2 + AD12*N12^3))/2 -> 991.5599 | V12: =((AK12 + AL12*J12)+(AK12 + AL12*L12))/2 -> 1006.9879 | W12: =((AI12 + AJ12*J12)+(AI12 + AJ12*L12))/2 -> 1.1883138 | AA12: -144.24373 | AB12: 10.5287 | AC12: -0.031256926 | AD12: 2.9456116e-05 | AE12: 17554.454 | AF12: -125.69235 | AG12: 0.39362054 | AH12: -0.00041079636 | AI12: 2.306401 | AJ12: -0.0037612753 | AK12: 995.1762 | AL12: 0.039735 | AN12: -1.040899 | AO12: 4.3025437 | AP12: 1.0234654
A13: 0.068 | B13: =A13/U13*3600*1000 -> 246.88478 | C13: 0 | D13: 0 | G13: 0 | H13: 3875.9652 | I13: 315 | J13: 295 | L13: 299.6171 | N13: 314.74282 | O13: =I13-Q13/(T13*A13) -> 314.74282 | P13: =I13-N13 -> 0.257179 | Q13: 73.075433 | R13: =Q13/(Abmessungen!B$17*S13) -> 7.7160154 | S13: =((I13-L13)-(N13-J13))/LN((I13-L13)/(N13-J13)) -> 17.472291 | T13: =((AE13 + AF13*I13 +AG13*I13^2 + AH13*I13^3)+(AE13 + AF13*N13 + AG13*N13^2 + AH13*N13^3))/2 -> 4178.5632 | U13: =((AA13 + AB13*I13 + AC13*I13^2 + AD13*I13^3)+(AA13 + AB13*N13 + AC13*N13^2 + AD13*N13^3))/2 -> 991.55564 | V13: =((AK13 + AL13*J13)+(AK13 + AL13*L13))/2 -> 1006.9898 | W13: =((AI13 + AJ13*J13)+(AI13 + AJ13*L13))/2 -> 1.1881417 | AA13: -144.24373 | AB13: 10.5287 | AC13: -0.031256926 | AD13: 2.9456116e-05 | AE13: 17554.454 | AF13: -125.69235 | AG13: 0.39362054 | AH13: -0.00041079636 | AI13: 2.306401 | AJ13: -0.0037612753 | AK13: 995.1762 | AL13: 0.039735 | AN13: -1.040899 | AO13: 4.3025437 | AP13: 1.0234654
A14: 0.074 | B14: =A14/U14*3600*1000 -> 268.66973 | C14: 0 | D14: 0 | G14: 0 | H14: 4495.1437 | I14: 315 | J14: 295 | L14: 299.70056 | N14: 314.76147 | O14: =I14-Q14/(T14*A14) -> 314.76147 | P14: =I14-N14 -> 0.23852601 | Q14: 73.755507 | R14: =Q14/(Abmessungen!B$17*S14) -> 7.8043023 | S14: =((I14-L14)-(N14-J14))/LN((I14-L14)/(N14-J14)) -> 17.4354 | T14: =((AE14 + AF14*I14 +AG14*I14^2 + AH14*I14^3)+(AE14 + AF14*N14 + AG14*N14^2 + AH14*N14^3))/2 -> 4178.5633 | U14: =((AA14 + AB14*I14 + AC14*I14^2 + AD14*I14^3)+(AA14 + AB14*N14 + AC14*N14^2 + AD14*N14^3))/2 -> 991.55197 | V14: =((AK14 + AL14*J14)+(AK14 + AL14*L14))/2 -> 1006.9914 | W14: =((AI14 + AJ14*J14)+(AI14 + AJ14*L14))/2 -> 1.1879847 | AA14: -144.24373 | AB14: 10.5287 | AC14: -0.031256926 | AD14: 2.9456116e-05 | AE14: 17554.454 | AF14: -125.69235 | AG14: 0.39362054 | AH14: -0.00041079636 | AI14: 2.306401 | AJ14: -0.0037612753 | AK14: 995.1762 | AL14: 0.039735 | AN14: -1.040899 | AO14: 4.3025437 | AP14: 1.0234654
A15: 0.008 | B15: =A15/U15*3600*1000 -> 29.008846 | C15: 600 | D15: =F15/(0.02809*3600) -> 0.61759886 | E15: 31.227034 | F15: =E15*2 -> 62.454067 | G15: =AN15 + AO15*D15 + AP15*D15^2 -> 2.0067259 | H15: =H3 -> 156.34022 | I15: 315 | J15: 295 | K15: =Q15*3600/(V15*W15*F15) -> 11.420443 | L15: 306.42054 | M15: =J15+K15 -> 306.42044 | N15: 307.98448 | O15: =I15-Q15/(T15*A15) -> 307.98457 | P15: =I15-N15 -> 7.0155181 | Q15: 234.52578 | R15: =Q15/(Abmessungen!B$17*S15) -> 40.702112 | S15: =((I15-L15)-(N15-J15))/LN((I15-L15)/(N15-J15)) -> 10.630292 | T15: =((AE15 + AF15*I15 +AG15*I15^2 + AH15*I15^3)+(AE15 + AF15*N15 + AG15*N15^2 + AH15*N15^3))/2 -> 4178.7511 | U15: =((AA15 + AB15*I15 + AC15*I15^2 + AD15*I15^3)+(AA15 + AB15*N15 + AC15*N15^2 + AD15*N15^3))/2 -> 992.80062 | V15: =((AK15 + AL15*J15)+(AK15 + AL15*L15))/2 -> 1007.1249 | W15: =((AI15 + AJ15*J15)+(AI15 + AJ15*L15))/2 -> 1.1753469 | AA15: -144.24373 | AB15: 10.5287 | AC15: -0.031256926 | AD15: 2.9456116e-05 | AE15: 17554.454 | AF15: -125.69235 | AG15: 0.39362054 | AH15: -0.00041079636 | AI15: 2.306401 | AJ15: -0.0037612753 | AK15: 995.1762 | AL15: 0.039735 | AN15: -1.040899 | AO15: 4.3025437 | AP15: 1.0234654
A16: 0.014 | B16: =A16/U16*3600*1000 -> 50.788911 | C16: 600 | D16: =F16/(0.02809*3600) -> 0.61759886 | E16: 31.227034 | F16: =E16*2 -> 62.454067 | G16: =AN16 + AO16*D16 + AP16*D16^2 -> 2.0067259 | H16: =H4 -> 326.03512 | I16: 315 | J16: 295 | K16: =Q16*3600/(V16*W16*F16) -> 12.6115 | L16: 307.61153 | M16: =J16+K16 -> 307.6115 | N16: 310.58128 | O16: =I16-Q16/(T16*A16) -> 310.5813 | P16: =I16-N16 -> 4.4187241 | Q16: 258.49739 | R16: =Q16/(Abmessungen!B$17*S16) -> 43.433097 | S16: =((I16-L16)-(N16-J16))/LN((I16-L16)/(N16-J16)) -> 10.980116 | T16: =((AE16 + AF16*I16 +AG16*I16^2 + AH16*I16^3)+(AE16 + AF16*N16 + AG16*N16^2 + AH16*N16^3))/2 -> 4178.6237 | U16: =((AA16 + AB16*I16 + AC16*I16^2 + AD16*I16^3)+(AA16 + AB16*N16 + AC16*N16^2 + AD16*N16^3))/2 -> 992.3426 | V16: =((AK16 + AL16*J16)+(AK16 + AL16*L16))/2 -> 1007.1486 | W16: =((AI16 + AJ16*J16)+(AI16 + AJ16*L16))/2 -> 1.1731071 | AA16: -144.24373 | AB16: 10.5287 | AC16: -0.031256926 | AD16: 2.9456116e-05 | AE16: 17554.454 | AF16: -125.69235 | AG16: 0.39362054 | AH16: -0.00041079636 | AI16: 2.306401 | AJ16: -0.0037612753 | AK16: 995.1762 | AL16: 0.039735 | AN16: -1.040899 | AO16: 4.3025437 | AP16: 1.0234654
A17: 0.02 | B17: =A17/U17*3600*1000 -> 72.571608 | C17: 600 | D17: =F17/(0.02809*3600) -> 0.61759886 | E17: 31.227034 | F17: =E17*2 -> 62.454067 | G17: =AN17 + AO17*D17 + AP17*D17^2 -> 2.0067259 | H17: =H5 -> 540.67838 | I17: 315 | J17: 295 | K17: =Q17*3600/(V17*W17*F17) -> 13.164938 | L17: 308.16494 | M17: =J17+K17 -> 308.16494 | N17: 311.77397 | O17: =I17-Q17/(T17*A17) -> 311.77398 | P17: =I17-N17 -> 3.2260318 | Q17: 269.60474 | R17: =Q17/(Abmessungen!B$17*S17) -> 44.928504 | S17: =((I17-L17)-(N17-J17))/LN((I17-L17)/(N17-J17)) -> 11.070752 | T17: =((AE17 + AF17*I17 +AG17*I17^2 + AH17*I17^3)+(AE17 + AF17*N17 + AG17*N17^2 + AH17*N17^3))/2 -> 4178.591 | U17: =((AA17 + AB17*I17 + AC17*I17^2 + AD17*I17^3)+(AA17 + AB17*N17 + AC17*N17^2 + AD17*N17^3))/2 -> 992.12353 | V17: =((AK17 + AL17*J17)+(AK17 + AL17*L17))/2 -> 1007.1596 | W17: =((AI17 + AJ17*J17)+(AI17 + AJ17*L17))/2 -> 1.1720663 | AA17: -144.24373 | AB17: 10.5287 | AC17: -0.031256926 | AD17: 2.9456116e-05 | AE17: 17554.454 | AF17: -125.69235 | AG17: 0.39362054 | AH17: -0.00041079636 | AI17: 2.306401 | AJ17: -0.0037612753 | AK17: 995.1762 | AL17: 0.039735 | AN17: -1.040899 | AO17: 4.3025437 | AP17: 1.0234654
A18: 0.026 | B18: =A18/U18*3600*1000 -> 94.355305 | C18: 600 | D18: =F18/(0.02809*3600) -> 0.61759886 | E18: 31.227034 | F18: =E18*2 -> 62.454067 | G18: =AN18 + AO18*D18 + AP18*D18^2 -> 2.0067259 | H18: =H6 -> 800.27 | I18: 315 | J18: 295 | K18: =Q18*3600/(V18*W18*F18) -> 13.481143 | L18: 308.48112 | M18: =J18+K18 -> 308.48114 | N18: 312.4601 | O18: =I18-Q18/(T18*A18) -> 312.4601 | P18: =I18-N18 -> 2.5398987 | Q18: 275.94196 | R18: =Q18/(Abmessungen!B$17*S18) -> 45.84109 | S18: =((I18-L18)-(N18-J18))/LN((I18-L18)/(N18-J18)) -> 11.105404 | T18: =((AE18 + AF18*I18 +AG18*I18^2 + AH18*I18^3)+(AE18 + AF18*N18 + AG18*N18^2 + AH18*N18^3))/2 -> 4178.5784 | U18: =((AA18 + AB18*I18 + AC18*I18^2 + AD18*I18^3)+(AA18 + AB18*N18 + AC18*N18^2 + AD18*N18^3))/2 -> 991.9951 | V18: =((AK18 + AL18*J18)+(AK18 + AL18*L18))/2 -> 1007.1659 | W18: =((AI18 + AJ18*J18)+(AI18 + AJ18*L18))/2 -> 1.1714717 | AA18: -144.24373 | AB18: 10.5287 | AC18: -0.031256926 | AD18: 2.9456116e-05 | AE18: 17554.454 | AF18: -125.69235 | AG18: 0.39362054 | AH18: -0.00041079636 | AI18: 2.306401 | AJ18: -0.0037612753 | AK18: 995.1762 | AL18: 0.039735 | AN18: -1.040899 | AO18: 4.3025437 | AP18: 1.0234654
A19: 0.032 | B19: =A19/U19*3600*1000 -> 116.13949 | C19: 600 | D19: =F19/(0.02809*3600) -> 0.61759886 | E19: 31.227034 | F19: =E19*2 -> 62.454067 | G19: =AN19 + AO19*D19 + AP19*D19^2 -> 2.0067259 | H19: =H7 -> 1104.81 | I19: 315 | J19: 295 | K19: =Q19*3600/(V19*W19*F19) -> 13.682882 | L19: 308.68285 | M19: =J19+K19 -> 308.68288 | N19: 312.90612 | O19: =I19-Q19/(T19*A19) -> 312.90612 | P19: =I19-N19 -> 2.0938815 | Q19: 279.98171 | R19: =Q19/(Abmessungen!B$17*S19) -> 46.437827 | S19: =((I19-L19)-(N19-J19))/LN((I19-L19)/(N19-J19)) -> 11.123189 | T19: =((AE19 + AF19*I19 +AG19*I19^2 + AH19*I19^3)+(AE19 + AF19*N19 + AG19*N19^2 + AH19*N19^3))/2 -> 4178.5724 | U19: =((AA19 + AB19*I19 + AC19*I19^2 + AD19*I19^3)+(AA19 + AB19*N19 + AC19*N19^2 + AD19*N19^3))/2 -> 991.91069 | V19: =((AK19 + AL19*J19)+(AK19 + AL19*L19))/2 -> 1007.1699 | W19: =((AI19 + AJ19*J19)+(AI19 + AJ19*L19))/2 -> 1.1710923 | AA19: -144.24373 | AB19: 10.5287 | AC19: -0.031256926 | AD19: 2.9456116e-05 | AE19: 17554.454 | AF19: -125.69235 | AG19: 0.39362054 | AH19: -0.00041079636 | AI19: 2.306401 | AJ19: -0.0037612753 | AK19: 995.1762 | AL19: 0.039735 | AN19: -1.040899 | AO19: 4.3025437 | AP19: 1.0234654
A20: 0.038 | B20: =A20/U20*3600*1000 -> 137.92394 | C20: 600 | D20: =F20/(0.02809*3600) -> 0.61759886 | E20: 31.227034 | F20: =E20*2 -> 62.454067 | G20: =AN20 + AO20*D20 + AP20*D20^2 -> 2.0067259 | H20: =H8 -> 1454.2983 | I20: 315 | J20: 295 | K20: =Q20*3600/(V20*W20*F20) -> 13.820557 | L20: 308.82053 | M20: =J20+K20 -> 308.82056 | N20: 313.21938 | O20: =I20-Q20/(T20*A20) -> 313.21938 | P20: =I20-N20 -> 1.7806224 | Q20: 282.73709 | R20: =Q20/(Abmessungen!B$17*S20) -> 46.844487 | S20: =((I20-L20)-(N20-J20))/LN((I20-L20)/(N20-J20)) -> 11.135144 | T20: =((AE20 + AF20*I20 +AG20*I20^2 + AH20*I20^3)+(AE20 + AF20*N20 + AG20*N20^2 + AH20*N20^3))/2 -> 4178.5692 | U20: =((AA20 + AB20*I20 + AC20*I20^2 + AD20*I20^3)+(AA20 + AB20*N20 + AC20*N20^2 + AD20*N20^3))/2 -> 991.85098 | V20: =((AK20 + AL20*J20)+(AK20 + AL20*L20))/2 -> 1007.1726 | W20: =((AI20 + AJ20*J20)+(AI20 + AJ20*L20))/2 -> 1.1708334 | AA20: -144.24373 | AB20: 10.5287 | AC20: -0.031256926 | AD20: 2.9456116e-05 | AE20: 17554.454 | AF20: -125.69235 | AG20: 0.39362054 | AH20: -0.00041079636 | AI20: 2.306401 | AJ20: -0.0037612753 | AK20: 995.1762 | AL20: 0.039735 | AN20: -1.040899 | AO20: 4.3025437 | AP20: 1.0234654
A21: 0.044 | B21: =A21/U21*3600*1000 -> 159.70857 | C21: 600 | D21: =F21/(0.02809*3600) -> 0.61759886 | E21: 31.227034 | F21: =E21*2 -> 62.454067 | G21: =AN21 + AO21*D21 + AP21*D21^2 -> 2.0067259 | H21: =H9 -> 1848.735 | I21: 315 | J21: 295 | K21: =Q21*3600/(V21*W21*F21) -> 13.918725 | L21: 308.91869 | M21: =J21+K21 -> 308.91873 | N21: 313.45151 | O21: =I21-Q21/(T21*A21) -> 313.45151 | P21: =I21-N21 -> 1.5484926 | Q21: 284.70103 | R21: =Q21/(Abmessungen!B$17*S21) -> 47.1279 | S21: =((I21-L21)-(N21-J21))/LN((I21-L21)/(N21-J21)) -> 11.145062 | T21: =((AE21 + AF21*I21 +AG21*I21^2 + AH21*I21^3)+(AE21 + AF21*N21 + AG21*N21^2 + AH21*N21^3))/2 -> 4178.5672 | U21: =((AA21 + AB21*I21 + AC21*I21^2 + AD21*I21^3)+(AA21 + AB21*N21 + AC21*N21^2 + AD21*N21^3))/2 -> 991.80651 | V21: =((AK21 + AL21*J21)+(AK21 + AL21*L21))/2 -> 1007.1746 | W21: =((AI21 + AJ21*J21)+(AI21 + AJ21*L21))/2 -> 1.1706488 | AA21: -144.24373 | AB21: 10.5287 | AC21: -0.031256926 | AD21: 2.9456116e-05 | AE21: 17554.454 | AF21: -125.69235 | AG21: 0.39362054 | AH21: -0.00041079636 | AI21: 2.306401 | AJ21: -0.0037612753 | AK21: 995.1762 | AL21: 0.039735 | AN21: -1.040899 | AO21: 4.3025437 | AP21: 1.0234654
A22: 0.05 | B22: =A22/U22*3600*1000 -> 181.49331 | C22: 600 | D22: =F22/(0.02809*3600) -> 0.61759886 | E22: 31.227034 | F22: =E22*2 -> 62.454067 | G22: =AN22 + AO22*D22 + AP22*D22^2 -> 2.0067259 | H22: =H10 -> 2288.12 | I22: 315 | J22: 295 | K22: =Q22*3600/(V22*W22*F22) -> 13.990798 | L22: 308.99077 | M22: =J22+K22 -> 308.9908 | N22: 313.63043 | O22: =I22-Q22/(T22*A22) -> 313.63043 | P22: =I22-N22 -> 1.3695732 | Q22: 286.14253 | R22: =Q22/(Abmessungen!B$17*S22) -> 47.326872 | S22: =((I22-L22)-(N22-J22))/LN((I22-L22)/(N22-J22)) -> 11.154399 | T22: =((AE22 + AF22*I22 +AG22*I22^2 + AH22*I22^3)+(AE22 + AF22*N22 + AG22*N22^2 + AH22*N22^3))/2 -> 4178.566 | U22: =((AA22 + AB22*I22 + AC22*I22^2 + AD22*I22^3)+(AA22 + AB22*N22 + AC22*N22^2 + AD22*N22^3))/2 -> 991.7721 | V22: =((AK22 + AL22*J22)+(AK22 + AL22*L22))/2 -> 1007.176 | W22: =((AI22 + AJ22*J22)+(AI22 + AJ22*L22))/2 -> 1.1705132 | AA22: -144.24373 | AB22: 10.5287 | AC22: -0.031256926 | AD22: 2.9456116e-05 | AE22: 17554.454 | AF22: -125.69235 | AG22: 0.39362054 | AH22: -0.00041079636 | AI22: 2.306401 | AJ22: -0.0037612753 | AK22: 995.1762 | AL22: 0.039735 | AN22: -1.040899 | AO22: 4.3025437 | AP22: 1.0234654
A23: 0.056 | B23: =A23/U23*3600*1000 -> 203.27813 | C23: 600 | D23: =F23/(0.02809*3600) -> 0.61759886 | E23: 31.227034 | F23: =E23*2 -> 62.454067 | G23: =AN23 + AO23*D23 + AP23*D23^2 -> 2.0067259 | H23: =H11 -> 2772.4534 | I23: 315 | J23: 295 | K23: =Q23*3600/(V23*W23*F23) -> 14.044731 | L23: 309.04471 | M23: =J23+K23 -> 309.04473 | N23: 313.77256 | O23: =I23-Q23/(T23*A23) -> 313.77256 | P23: =I23-N23 -> 1.2274422 | Q23: 287.22099 | R23: =Q23/(Abmessungen!B$17*S23) -> 47.465498 | S23: =((I23-L23)-(N23-J23))/LN((I23-L23)/(N23-J23)) -> 11.163739 | T23: =((AE23 + AF23*I23 +AG23*I23^2 + AH23*I23^3)+(AE23 + AF23*N23 + AG23*N23^2 + AH23*N23^3))/2 -> 4178.5652 | U23: =((AA23 + AB23*I23 + AC23*I23^2 + AD23*I23^3)+(AA23 + AB23*N23 + AC23*N23^2 + AD23*N23^3))/2 -> 991.74468 | V23: =((AK23 + AL23*J23)+(AK23 + AL23*L23))/2 -> 1007.1771 | W23: =((AI23 + AJ23*J23)+(AI23 + AJ23*L23))/2 -> 1.1704118 | AA23: -144.24373 | AB23: 10.5287 | AC23: -0.031256926 | AD23: 2.9456116e-05 | AE23: 17554.454 | AF23: -125.69235 | AG23: 0.39362054 | AH23: -0.00041079636 | AI23: 2.306401 | AJ23: -0.0037612753 | AK23: 995.1762 | AL23: 0.039735 | AN23: -1.040899 | AO23: 4.3025437 | AP23: 1.0234654
A24: 0.062 | B24: =A24/U24*3600*1000 -> 225.063 | C24: 600 | D24: =F24/(0.02809*3600) -> 0.61759886 | E24: 31.227034 | F24: =E24*2 -> 62.454067 | G24: =AN24 + AO24*D24 + AP24*D24^2 -> 2.0067259 | H24: =H12 -> 3301.7351 | I24: 315 | J24: 295 | K24: =Q24*3600/(V24*W24*F24) -> 14.085542 | L24: 309.08552 | M24: =J24+K24 -> 309.08554 | N24: 313.88819 | O24: =I24-Q24/(T24*A24) -> 313.88819 | P24: =I24-N24 -> 1.1118071 | Q24: 288.03693 | R24: =Q24/(Abmessungen!B$17*S24) -> 47.559545 | S24: =((I24-L24)-(N24-J24))/LN((I24-L24)/(N24-J24)) -> 11.173315 | T24: =((AE24 + AF24*I24 +AG24*I24^2 + AH24*I24^3)+(AE24 + AF24*N24 + AG24*N24^2 + AH24*N24^3))/2 -> 4178.5646 | U24: =((AA24 + AB24*I24 + AC24*I24^2 + AD24*I24^3)+(AA24 + AB24*N24 + AC24*N24^2 + AD24*N24^3))/2 -> 991.72233 | V24: =((AK24 + AL24*J24)+(AK24 + AL24*L24))/2 -> 1007.1779 | W24: =((AI24 + AJ24*J24)+(AI24 + AJ24*L24))/2 -> 1.170335 | AA24: -144.24373 | AB24: 10.5287 | AC24: -0.031256926 | AD24: 2.9456116e-05 | AE24: 17554.454 | AF24: -125.69235 | AG24: 0.39362054 | AH24: -0.00041079636 | AI24: 2.306401 | AJ24: -0.0037612753 | AK24: 995.1762 | AL24: 0.039735 | AN24: -1.040899 | AO24: 4.3025437 | AP24: 1.0234654
A25: 0.068 | B25: =A25/U25*3600*1000 -> 246.84791 | C25: 600 | D25: =F25/(0.02809*3600) -> 0.61759886 | E25: 31.227034 | F25: =E25*2 -> 62.454067 | G25: =AN25 + AO25*D25 + AP25*D25^2 -> 2.0067259 | H25: =H13 -> 3875.9652 | I25: 315 | J25: 295 | K25: =Q25*3600/(V25*W25*F25) -> 14.116557 | L25: 309.11654 | M25: =J25+K25 -> 309.11656 | N25: 313.98411 | O25: =I25-Q25/(T25*A25) -> 313.98411 | P25: =I25-N25 -> 1.0158885 | Q25: 288.65694 | R25: =Q25/(Abmessungen!B$17*S25) -> 47.619769 | S25: =((I25-L25)-(N25-J25))/LN((I25-L25)/(N25-J25)) -> 11.183204 | T25: =((AE25 + AF25*I25 +AG25*I25^2 + AH25*I25^3)+(AE25 + AF25*N25 + AG25*N25^2 + AH25*N25^3))/2 -> 4178.5643 | U25: =((AA25 + AB25*I25 + AC25*I25^2 + AD25*I25^3)+(AA25 + AB25*N25 + AC25*N25^2 + AD25*N25^3))/2 -> 991.70374 | V25: =((AK25 + AL25*J25)+(AK25 + AL25*L25))/2 -> 1007.1785 | W25: =((AI25 + AJ25*J25)+(AI25 + AJ25*L25))/2 -> 1.1702767 | AA25: -144.24373 | AB25: 10.5287 | AC25: -0.031256926 | AD25: 2.9456116e-05 | AE25: 17554.454 | AF25: -125.69235 | AG25: 0.39362054 | AH25: -0.00041079636 | AI25: 2.306401 | AJ25: -0.0037612753 | AK25: 995.1762 | AL25: 0.039735 | AN25: -1.040899 | AO25: 4.3025437 | AP25: 1.0234654
A26: 0.074 | B26: =A26/U26*3600*1000 -> 268.63286 | C26: 600 | D26: =F26/(0.02809*3600) -> 0.61759886 | E26: 31.227034 | F26: =E26*2 -> 62.454067 | G26: =AN26 + AO26*D26 + AP26*D26^2 -> 2.0067259 | H26: =H14 -> 4495.1437 | I26: 315 | J26: 295 | K26: =Q26*3600/(V26*W26*F26) -> 14.140066 | L26: 309.14006 | M26: =J26+K26 -> 309.14007 | N26: 314.06496 | O26: =I26-Q26/(T26*A26) -> 314.06496 | P26: =I26-N26 -> 0.93503897 | Q26: 289.12686 | R26: =Q26/(Abmessungen!B$17*S26) -> 47.653764 | S26: =((I26-L26)-(N26-J26))/LN((I26-L26)/(N26-J26)) -> 11.19342 | T26: =((AE26 + AF26*I26 +AG26*I26^2 + AH26*I26^3)+(AE26 + AF26*N26 + AG26*N26^2 + AH26*N26^3))/2 -> 4178.564 | U26: =((AA26 + AB26*I26 + AC26*I26^2 + AD26*I26^3)+(AA26 + AB26*N26 + AC26*N26^2 + AD26*N26^3))/2 -> 991.68806 | V26: =((AK26 + AL26*J26)+(AK26 + AL26*L26))/2 -> 1007.1789 | W26: =((AI26 + AJ26*J26)+(AI26 + AJ26*L26))/2 -> 1.1702325 | AA26: -144.24373 | AB26: 10.5287 | AC26: -0.031256926 | AD26: 2.9456116e-05 | AE26: 17554.454 | AF26: -125.69235 | AG26: 0.39362054 | AH26: -0.00041079636 | AI26: 2.306401 | AJ26: -0.0037612753 | AK26: 995.1762 | AL26: 0.039735 | AN26: -1.040899 | AO26: 4.3025437 | AP26: 1.0234654
... A110: 0.074 | B110: =A110/U110*3600*1000 -> 268.47682 | C110: 3000 | D110: =F110/(0.02809*3600) -> 3.4172872 | E110: 172.78488 | F110: =E110*2 -> 345.56976 | G110: =AN110 + AO110*D110 + AP110*D110^2 -> 25.614007 | H110: =H98 -> 4495.1437 | I110: 315 | J110: 295 | K110: =Q110*3600/(V110*W110*F110) -> 10.847652 | L110: 305.84773 | M110: =J110+K110 -> 305.84765 | N110: 311.01023 | O110: =I110-Q110/(T110*A110) -> 311.01023 | P110: =I110-N110 -> 3.9897747 | Q110: 1233.705 | R110: =Q110/(Abmessungen!B$17*S110) -> 185.59891 | S110: =((I110-L110)-(N110-J110))/LN((I110-L110)/(N110-J110)) -> 12.263303 | T110: =((AE110 + AF110*I110 +AG110*I110^2 + AH110*I110^3)+(AE110 + AF110*N110 + AG110*N110^2 + AH110*N110^3))/2 -> 4178.6103 | U110: =((AA110 + AB110*I110 + AC110*I110^2 + AD110*I110^3)+(AA110 + AB110*N110 + AC110*N110^2 + AD110*N110^3))/2 -> 992.26443 | V110: =((AK110 + AL110*J110)+(AK110 + AL110*L110))/2 -> 1007.1135 | W110: =((AI110 + AJ110*J110)+(AI110 + AJ110*L110))/2 -> 1.1764241 | AA110: -144.24373 | AB110: 10.5287 | AC110: -0.031256926 | AD110: 2.9456116e-05 | AE110: 17554.454 | AF110: -125.69235 | AG110: 0.39362054 | AH110: -0.00041079636 | AI110: 2.306401 | AJ110: -0.0037612753 | AK110: 995.1762 | AL110: 0.039735 | AN110: -1.040899 | AO110: 4.3025437 | AP110: 1.0234654
A114: 29 | D114: 50.8 | G114: 72.5 | J114: 94.4 | M114: 116.2 | O114: 137.9 | Q114: 159.7 | S114: 181.5
A115: 0.008 | D115: 0.014 | G115: 0.02 | J115: 0.026 | M115: 0.032 | O115: 0.038 | Q115: 0.044 | S115: 0.05
A118: rpm | B118: W | C118: K/W | D118: rpm | E118: W | F118: K/W | G118: rpm | H118: W | I118: K/W | J118: rpm | K118: W | L118: K/W | M118: W | N118: K/W | O118: W | P118: K/W | Q118: W | R118: K/W | S118: W | T118: K/W
A121: 0 | B121: =$Y$195 - $Z$195*EXP(-$AA$195*A121^$AB$195) -> 36.50642 | C121: =20/B121 -> 0.54784885
A122: 5 | B122: =$Y$195 - $Z$195*EXP(-$AA$195*A122^$AB$195) -> 36.951386 | C122: =20/B122 -> 0.54125169
A123: 10 | B123: =$Y$195 - $Z$195*EXP(-$AA$195*A123^$AB$195) -> 37.628227 | C123: =20/B123 -> 0.53151588
A124: 15 | B124: =$Y$195 - $Z$195*EXP(-$AA$195*A124^$AB$195) -> 38.432332 | C124: =20/B124 -> 0.52039518
A125: 20 | B125: =$Y$195 - $Z$195*EXP(-$AA$195*A125^$AB$195) -> 39.331378 | C125: =20/B125 -> 0.50849985
A126: 25 | B126: =$Y$195 - $Z$195*EXP(-$AA$195*A126^$AB$195) -> 40.307676 | C126: =20/B126 -> 0.49618341 | D126: 0 | E126: =$AC$195 - $AD$195*EXP(-$AE$195*D126^$AF$195) -> 47.824503 | F126: =20/E126 -> 0.41819567
A127: 30 | B127: =$Y$195 - $Z$195*EXP(-$AA$195*A127^$AB$195) -> 41.349692 | C127: =20/B127 -> 0.48367954 | D127: 5 | E127: =$AC$195 - $AD$195*EXP(-$AE$195*D127^$AF$195) -> 48.209727 | F127: =20/E127 -> 0.41485404
A128: 35 | B128: =$Y$195 - $Z$195*EXP(-$AA$195*A128^$AB$195) -> 42.449163 | C128: =20/B128 -> 0.47115181 | D128: 10 | E128: =$AC$195 - $AD$195*EXP(-$AE$195*D128^$AF$195) -> 48.81517 | F128: =20/E128 -> 0.40970871 | G128: 0 | H128: =$AG$195 - $AH$195*EXP(-$AI$195*G128^$AJ$195) -> 54.597643 | I128: =20/H128 -> 0.36631618
A129: 40 | B129: =$Y$195 - $Z$195*EXP(-$AA$195*A129^$AB$195) -> 43.599794 | C129: =20/B129 -> 0.45871776 | D129: 15 | E129: =$AC$195 - $AD$195*EXP(-$AE$195*D129^$AF$195) -> 49.545412 | F129: =20/E129 -> 0.40367007 | G129: 5 | H129: =$AG$195 - $AH$195*EXP(-$AI$195*G129^$AJ$195) -> 54.87706 | I129: =20/H129 -> 0.36445101
A130: 45 | B130: =$Y$195 - $Z$195*EXP(-$AA$195*A130^$AB$195) -> 44.796589 | C130: =20/B130 -> 0.44646256 | D130: 20 | E130: =$AC$195 - $AD$195*EXP(-$AE$195*D130^$AF$195) -> 50.370246 | F130: =20/E130 -> 0.3970598 | G130: 10 | H130: =$AG$195 - $AH$195*EXP(-$AI$195*G130^$AJ$195) -> 55.349876 | I130: =20/H130 -> 0.36133776
A131: 50 | B131: =$Y$195 - $Z$195*EXP(-$AA$195*A131^$AB$195) -> 46.035453 | C131: =20/B131 -> 0.43444778 | D131: 25 | E131: =$AC$195 - $AD$195*EXP(-$AE$195*D131^$AF$195) -> 51.273002 | F131: =20/E131 -> 0.39006883 | G131: 15 | H131: =$AG$195 - $AH$195*EXP(-$AI$195*G131^$AJ$195) -> 55.939951 | I131: =20/H131 -> 0.35752623 | J131: 0 | K131: =$AK$195 - $AL$195*EXP(-$AM$195*J131^$AN$195) -> 59.21469 | L131: =20/K131 -> 0.33775403 | M131: =$AO$195 - $AP$195*EXP(-$AQ$195*J131^$AR$195) -> 62.494907 | N131: =20/M131 -> 0.32002608 | O131: =$AS$195 - $AT$195*EXP(-$AU$195*J131^$AV$195) -> 64.923912 | P131: =20/O131 -> 0.30805291 | Q131: =$AW$195 - $AX$195*EXP(-$AY$195*J131^$AZ$195) -> 66.776777 | R131: =20/Q131 -> 0.29950532 | S131: =$BA$195 - $BB$195*EXP(-$BC$195*J131^$BD$195) -> 68.222069 | T131: =20/S131 -> 0.29316027
A132: 100 | B132: =$Y$195 - $Z$195*EXP(-$AA$195*A132^$AB$195) -> 60.162267 | C132: =20/B132 -> 0.33243428 | D132: 75 | E132: =$AC$195 - $AD$195*EXP(-$AE$195*D132^$AF$195) -> 63.101091 | F132: =20/E132 -> 0.31695173 | G132: 65 | H132: =$AG$195 - $AH$195*EXP(-$AI$195*G132^$AJ$195) -> 65.441842 | I132: =20/H132 -> 0.30561487 | J132: 50 | K132: =$AK$195 - $AL$195*EXP(-$AM$195*J132^$AN$195) -> 66.240006 | L132: =20/K132 -> 0.30193234 | M132: =$AO$195 - $AP$195*EXP(-$AQ$195*J132^$AR$195) -> 69.376497 | N132: =20/M132 -> 0.28828207 | O132: =$AS$195 - $AT$195*EXP(-$AU$195*J132^$AV$195) -> 66.111556 | P132: =20/O132 -> 0.30251897 | Q132: =$AW$195 - $AX$195*EXP(-$AY$195*J132^$AZ$195) -> 73.727525 | R132: =20/Q132 -> 0.27126911 | S132: =$BA$195 - $BB$195*EXP(-$BC$195*J132^$BD$195) -> 75.286989 | T132: =20/S132 -> 0.26565015
A133: 150 | B133: =$Y$195 - $Z$195*EXP(-$AA$195*A133^$AB$195) -> 76.384281 | C133: =20/B133 -> 0.26183397 | D133: 125 | E133: =$AC$195 - $AD$195*EXP(-$AE$195*D133^$AF$195) -> 78.106757 | F133: =20/E133 -> 0.25605979 | G133: 115 | H133: =$AG$195 - $AH$195*EXP(-$AI$195*G133^$AJ$195) -> 78.880625 | I133: =20/H133 -> 0.25354769 | J133: 100 | K133: =$AK$195 - $AL$195*EXP(-$AM$195*J133^$AN$195) -> 78.274228 | L133: =20/K133 -> 0.25551194 | M133: =$AO$195 - $AP$195*EXP(-$AQ$195*J133^$AR$195) -> 81.239925 | N133: =20/M133 -> 0.24618437 | O133: =$AS$195 - $AT$195*EXP(-$AU$195*J133^$AV$195) -> 68.16957 | P133: =20/O133 -> 0.29338604 | Q133: =$AW$195 - $AX$195*EXP(-$AY$195*J133^$AZ$195) -> 85.585669 | R133: =20/Q133 -> 0.23368398 | S133: =$BA$195 - $BB$195*EXP(-$BC$195*J133^$BD$195) -> 87.21829 | T133: =20/S133 -> 0.2293097
A134: 200 | B134: =$Y$195 - $Z$195*EXP(-$AA$195*A134^$AB$195) -> 93.824887 | C134: =20/B134 -> 0.21316306 | D134: 175 | E134: =$AC$195 - $AD$195*EXP(-$AE$195*D134^$AF$195) -> 95.06234 | F134: =20/E134 -> 0.21038826 | G134: 165 | H134: =$AG$195 - $AH$195*EXP(-$AI$195*G134^$AJ$195) -> 94.824366 | I134: =20/H134 -> 0.21091625 | J134: 150 | K134: =$AK$195 - $AL$195*EXP(-$AM$195*J134^$AN$195) -> 93.215974 | L134: =20/K134 -> 0.2145555 | M134: =$AO$195 - $AP$195*EXP(-$AQ$195*J134^$AR$195) -> 96.03004 | N134: =20/M134 -> 0.20826816 | O134: =$AS$195 - $AT$195*EXP(-$AU$195*J134^$AV$195) -> 70.763684 | P134: =20/O134 -> 0.28263085 | Q134: =$AW$195 - $AX$195*EXP(-$AY$195*J134^$AZ$195) -> 100.31941 | R134: =20/Q134 -> 0.19936322 | S134: =$BA$195 - $BB$195*EXP(-$BC$195*J134^$BD$195) -> 101.98159 | T134: =20/S134 -> 0.19611382
A135: 250 | B135: =$Y$195 - $Z$195*EXP(-$AA$195*A135^$AB$195) -> 111.96291 | C135: =20/B135 -> 0.17863058 | D135: 225 | E135: =$AC$195 - $AD$195*EXP(-$AE$195*D135^$AF$195) -> 113.33709 | F135: =20/E135 -> 0.17646474 | G135: 215 | H135: =$AG$195 - $AH$195*EXP(-$AI$195*G135^$AJ$195) -> 112.57759 | I135: =20/H135 -> 0.17765525 | J135: 200 | K135: =$AK$195 - $AL$195*EXP(-$AM$195*J135^$AN$195) -> 110.26851 | L135: =20/K135 -> 0.18137545 | M135: =$AO$195 - $AP$195*EXP(-$AQ$195*J135^$AR$195) -> 112.96996 | N135: =20/M135 -> 0.17703821 | O135: =$AS$195 - $AT$195*EXP(-$AU$195*J135^$AV$195) -> 73.777584 | P135: =20/O135 -> 0.27108505 | Q135: =$AW$195 - $AX$195*EXP(-$AY$195*J135^$AZ$195) -> 117.17901 | R135: =20/Q135 -> 0.17067903 | S135: =$BA$195 - $BB$195*EXP(-$BC$195*J135^$BD$195) -> 118.83766 | T135: =20/S135 -> 0.16829681
A136: 300 | B136: =$Y$195 - $Z$195*EXP(-$AA$195*A136^$AB$195) -> 130.44007 | C136: =20/B136 -> 0.15332712 | D136: 275 | E136: =$AC$195 - $AD$195*EXP(-$AE$195*D136^$AF$195) -> 132.51606 | F136: =20/E136 -> 0.1509251 | G136: 265 | H136: =$AG$195 - $AH$195*EXP(-$AI$195*G136^$AJ$195) -> 131.68306 | I136: =20/H136 -> 0.15187982 | J136: 250 | K136: =$AK$195 - $AL$195*EXP(-$AM$195*J136^$AN$195) -> 128.93501 | L136: =20/K136 -> 0.15511691 | M136: =$AO$195 - $AP$195*EXP(-$AQ$195*J136^$AR$195) -> 131.5767 | N136: =20/M136 -> 0.1520026 | O136: =$AS$195 - $AT$195*EXP(-$AU$195*J136^$AV$195) -> 77.143994 | P136: =20/O136 -> 0.25925544 | Q136: =$AW$195 - $AX$195*EXP(-$AY$195*J136^$AZ$195) -> 135.70569 | R136: =20/Q136 -> 0.14737775 | S136: =$BA$195 - $BB$195*EXP(-$BC$195*J136^$BD$195) -> 137.3384 | T136: =20/S136 -> 0.14562569
A137: 350 | B137: =$Y$195 - $Z$195*EXP(-$AA$195*A137^$AB$195) -> 148.99289 | C137: =20/B137 -> 0.13423459 | D137: 325 | E137: =$AC$195 - $AD$195*EXP(-$AE$195*D137^$AF$195) -> 152.29571 | F137: =20/E137 -> 0.13132346 | G137: 315 | H137: =$AG$195 - $AH$195*EXP(-$AI$195*G137^$AJ$195) -> 151.80157 | I137: =20/H137 -> 0.13175094 | J137: 300 | K137: =$AK$195 - $AL$195*EXP(-$AM$195*J137^$AN$195) -> 148.85465 | L137: =20/K137 -> 0.13435925 | M137: =$AO$195 - $AP$195*EXP(-$AQ$195*J137^$AR$195) -> 151.50002 | N137: =20/M137 -> 0.13201318 | O137: =$AS$195 - $AT$195*EXP(-$AU$195*J137^$AV$195) -> 80.81715 | P137: =20/O137 -> 0.24747223 | Q137: =$AW$195 - $AX$195*EXP(-$AY$195*J137^$AZ$195) -> 155.57079 | R137: =20/Q137 -> 0.12855884 | S137: =$BA$195 - $BB$195*EXP(-$BC$195*J137^$BD$195) -> 157.16522 | T137: =20/S137 -> 0.12725462
A138: 400 | B138: =$Y$195 - $Z$195*EXP(-$AA$195*A138^$AB$195) -> 167.42099 | C138: =20/B138 -> 0.11945934 | D138: 375 | E138: =$AC$195 - $AD$195*EXP(-$AE$195*D138^$AF$195) -> 172.44099 | F138: =20/E138 -> 0.11598171 | G138: 365 | H138: =$AG$195 - $AH$195*EXP(-$AI$195*G138^$AJ$195) -> 172.6649 | I138: =20/H138 -> 0.1158313 | J138: 350 | K138: =$AK$195 - $AL$195*EXP(-$AM$195*J138^$AN$195) -> 169.74437 | L138: =20/K138 -> 0.11782423 | M138: =$AO$195 - $AP$195*EXP(-$AQ$195*J138^$AR$195) -> 172.46519 | N138: =20/M138 -> 0.11596543 | O138: =$AS$195 - $AT$195*EXP(-$AU$195*J138^$AV$195) -> 84.763043 | P138: =20/O138 -> 0.23595189 | Q138: =$AW$195 - $AX$195*EXP(-$AY$195*J138^$AZ$195) -> 176.51871 | R138: =20/Q138 -> 0.11330243 | S138: =$BA$195 - $BB$195*EXP(-$BC$195*J138^$BD$195) -> 178.07184 | T138: =20/S138 -> 0.11231422
A139: 450 | B139: =$Y$195 - $Z$195*EXP(-$AA$195*A139^$AB$195) -> 185.56939 | C139: =20/B139 -> 0.10777639 | D139: 425 | E139: =$AC$195 - $AD$195*EXP(-$AE$195*D139^$AF$195) -> 192.76377 | F139: =20/E139 -> 0.10375394 | G139: 415 | H139: =$AG$195 - $AH$195*EXP(-$AI$195*G139^$AJ$195) -> 194.05299 | I139: =20/H139 -> 0.10306463 | J139: 400 | K139: =$AK$195 - $AL$195*EXP(-$AM$195*J139^$AN$195) -> 191.37195 | L139: =20/K139 -> 0.10450852 | M139: =$AO$195 - $AP$195*EXP(-$AQ$195*J139^$AR$195) -> 194.24648 | N139: =20/M139 -> 0.10296197 | O139: =$AS$195 - $AT$195*EXP(-$AU$195*J139^$AV$195) -> 88.954925 | P139: =20/O139 -> 0.22483297 | Q139: =$AW$195 - $AX$195*EXP(-$AY$195*J139^$AZ$195) -> 198.34072 | R139: =20/Q139 -> 0.10083658 | S139: =$BA$195 - $BB$195*EXP(-$BC$195*J139^$BD$195) -> 199.85806 | T139: =20/S139 -> 0.10007102
A140: 500 | B140: =$Y$195 - $Z$195*EXP(-$AA$195*A140^$AB$195) -> 203.31775 | C140: =20/B140 -> 0.098368194 | D140: 475 | E140: =$AC$195 - $AD$195*EXP(-$AE$195*D140^$AF$195) -> 213.11047 | F140: =20/E140 -> 0.093848039 | G140: 465 | H140: =$AG$195 - $AH$195*EXP(-$AI$195*G140^$AJ$195) -> 215.78107 | I140: =20/H140 -> 0.092686538 | J140: 450 | K140: =$AK$195 - $AL$195*EXP(-$AM$195*J140^$AN$195) -> 213.54158 | L140: =20/K140 -> 0.093658573 | M140: =$AO$195 - $AP$195*EXP(-$AQ$195*J140^$AR$195) -> 216.65302 | N140: =20/M140 -> 0.092313506 | O140: =$AS$195 - $AT$195*EXP(-$AU$195*J140^$AV$195) -> 93.370914 | P140: =20/O140 -> 0.21419947 | Q140: =$AW$195 - $AX$195*EXP(-$AY$195*J140^$AZ$195) -> 220.86084 | R140: =20/Q140 -> 0.090554759 | S140: =$BA$195 - $BB$195*EXP(-$BC$195*J140^$BD$195) -> 222.35566 | T140: =20/S140 -> 0.08994599
A141: 550 | B141: =$Y$195 - $Z$195*EXP(-$AA$195*A141^$AB$195) -> 220.57296 | C141: =20/B141 -> 0.090672946 | D141: 525 | E141: =$AC$195 - $AD$195*EXP(-$AE$195*D141^$AF$195) -> 233.35428 | F141: =20/E141 -> 0.085706592 | G141: 515 | H141: =$AG$195 - $AH$195*EXP(-$AI$195*G141^$AJ$195) -> 237.69185 | I141: =20/H141 -> 0.084142557 | J141: 500 | K141: =$AK$195 - $AL$195*EXP(-$AM$195*J141^$AN$195) -> 236.08525 | L141: =20/K141 -> 0.084715163 | M141: =$AO$195 - $AP$195*EXP(-$AQ$195*J141^$AR$195) -> 239.52036 | N141: =20/M141 -> 0.083500209 | O141: =$AS$195 - $AT$195*EXP(-$AU$195*J141^$AV$195) -> 97.992578 | P141: =20/O141 -> 0.20409709 | Q141: =$AW$195 - $AX$195*EXP(-$AY$195*J141^$AZ$195) -> 243.92754 | R141: =20/Q141 -> 0.081991563 | S141: =$BA$195 - $BB$195*EXP(-$BC$195*J141^$BD$195) -> 245.42013 | T141: =20/S141 -> 0.081492908
A142: 600 | B142: =$Y$195 - $Z$195*EXP(-$AA$195*A142^$AB$195) -> 237.26393 | C142: =20/B142 -> 0.084294315 | D142: 575 | E142: =$AC$195 - $AD$195*EXP(-$AE$195*D142^$AF$195) -> 253.38987 | F142: =20/E142 -> 0.078929754 | G142: 565 | H142: =$AG$195 - $AH$195*EXP(-$AI$195*G142^$AJ$195) -> 259.65033 | I142: =20/H142 -> 0.077026669 | J142: 550 | K142: =$AK$195 - $AL$195*EXP(-$AM$195*J142^$AN$195) -> 258.85718 | L142: =20/K142 -> 0.077262683 | M142: =$AO$195 - $AP$195*EXP(-$AQ$195*J142^$AR$195) -> 262.70506 | N142: =20/M142 -> 0.076131005 | O142: =$AS$195 - $AT$195*EXP(-$AU$195*J142^$AV$195) -> 102.80404 | P142: =20/O142 -> 0.19454488 | Q142: =$AW$195 - $AX$195*EXP(-$AY$195*J142^$AZ$195) -> 267.40844 | R142: =20/Q142 -> 0.074791955 | S142: =$BA$195 - $BB$195*EXP(-$BC$195*J142^$BD$195) -> 268.92537 | T142: =20/S142 -> 0.074370075
... A194: 3200 | B194: =$Y$195 - $Z$195*EXP(-$AA$195*A194^$AB$195) -> 485.04706 | C194: =20/B194 -> 0.041233113 | D194: 3175 | E194: =$AC$195 - $AD$195*EXP(-$AE$195*D194^$AF$195) -> 669.90285 | F194: =20/E194 -> 0.029855075 | G194: 3165 | H194: =$AG$195 - $AH$195*EXP(-$AI$195*G194^$AJ$195) -> 776.37261 | I194: =20/H194 -> 0.025760826 | J194: 3150 | K194: =$AK$195 - $AL$195*EXP(-$AM$195*J194^$AN$195) -> 857.87552 | L194: =20/K194 -> 0.023313406 | M194: =$AO$195 - $AP$195*EXP(-$AQ$195*J194^$AR$195) -> 926.48026 | N194: =20/M194 -> 0.021587076 | O194: =$AS$195 - $AT$195*EXP(-$AU$195*J194^$AV$195) -> 448.25603 | P194: =20/O194 -> 0.044617359 | Q194: =$AW$195 - $AX$195*EXP(-$AY$195*J194^$AZ$195) -> 1041.0353 | R194: =20/Q194 -> 0.019211645 | S194: =$BA$195 - $BB$195*EXP(-$BC$195*J194^$BD$195) -> 1090.9543 | T194: =20/S194 -> 0.018332573
A195: 3250 | B195: =$Y$195 - $Z$195*EXP(-$AA$195*A195^$AB$195) -> 485.24439 | C195: =20/B195 -> 0.041216345 | D195: 3225 | E195: =$AC$195 - $AD$195*EXP(-$AE$195*D195^$AF$195) -> 670.83716 | F195: =20/E195 -> 0.029813494 | G195: 3215 | H195: =$AG$195 - $AH$195*EXP(-$AI$195*G195^$AJ$195) -> 777.71342 | I195: =20/H195 -> 0.025716414 | J195: 3200 | K195: =$AK$195 - $AL$195*EXP(-$AM$195*J195^$AN$195) -> 859.82315 | L195: =20/K195 -> 0.023260597 | M195: =$AO$195 - $AP$195*EXP(-$AQ$195*J195^$AR$195) -> 929.13527 | N195: =20/M195 -> 0.021525391 | O195: =$AS$195 - $AT$195*EXP(-$AU$195*J195^$AV$195) -> 455.0532 | P195: =20/O195 -> 0.043950905 | Q195: =$AW$195 - $AX$195*EXP(-$AY$195*J195^$AZ$195) -> 1045.4466 | R195: =20/Q195 -> 0.019130581 | S195: =$BA$195 - $BB$195*EXP(-$BC$195*J195^$BD$195) -> 1096.3801 | T195: =20/S195 -> 0.018241848 | Y195: 486.85794 | Z195: 450.35152 | AA195: 0.00011528303 | AB195: 1.3351428 | AC195: 681.13908 | AD195: 633.31458 | AE195: 6.7804368e-05 | AF195: 1.3633904 | AG195: 792.54311 | AH195: 737.94546 | AI195: 3.7960045e-05 | AJ195: 1.4292229 | AK195: 883.01818 | AL195: 823.80349 | AM195: 2.9393272e-05 | AN195: 1.4505569 | AO195: 963.7841 | AP195: 901.28919 | AQ195: 2.5820976e-05 | AR195: 1.4553025 | AS195: 1040.3737 | AT195: 975.44976 | AU195: 4.1586693e-06 | AV195: 1.4519335 | AW195: 1115.8819 | AX195: 1049.1051 | AY195: 2.3369082e-05 | AZ195: 1.4444125 | BA195: 1192.4128 | BB195: 1124.1908 | BC195: 2.3021143e-05 | BD195: 1.4346979
A196: 3300 | B196: =$Y$195 - $Z$195*EXP(-$AA$195*A196^$AB$195) -> 485.42108 | C196: =20/B196 -> 0.041201342 | D196: 3275 | E196: =$AC$195 - $AD$195*EXP(-$AE$195*D196^$AF$195) -> 671.69841 | F196: =20/E196 -> 0.029775268 | G196: 3265 | H196: =$AG$195 - $AH$195*EXP(-$AI$195*G196^$AJ$195) -> 778.95093 | I196: =20/H196 -> 0.025675558 | J196: 3250 | K196: =$AK$195 - $AL$195*EXP(-$AM$195*J196^$AN$195) -> 861.6321 | L196: =20/K196 -> 0.023211763 | M196: =$AO$195 - $AP$195*EXP(-$AQ$195*J196^$AR$195) -> 931.61828 | N196: =20/M196 -> 0.02146802 | O196: =$AS$195 - $AT$195*EXP(-$AU$195*J196^$AV$195) -> 461.8197 | P196: =20/O196 -> 0.043306945 | Q196: =$AW$195 - $AX$195*EXP(-$AY$195*J196^$AZ$195) -> 1049.626 | R196: =20/Q196 -> 0.019054407 | S196: =$BA$195 - $BB$195*EXP(-$BC$195*J196^$BD$195) -> 1101.5498 | T196: =20/S196 -> 0.018156237
A197: 3350 | B197: =$Y$195 - $Z$195*EXP(-$AA$195*A197^$AB$195) -> 485.57917 | C197: =20/B197 -> 0.041187928 | D197: 3325 | E197: =$AC$195 - $AD$195*EXP(-$AE$195*D197^$AF$195) -> 672.49186 | F197: =20/E197 -> 0.029740137 | G197: 3315 | H197: =$AG$195 - $AH$195*EXP(-$AI$195*G197^$AJ$195) -> 780.09233 | I197: =20/H197 -> 0.025637991 | J197: 3300 | K197: =$AK$195 - $AL$195*EXP(-$AM$195*J197^$AN$195) -> 863.31111 | L197: =20/K197 -> 0.02316662 | M197: =$AO$195 - $AP$195*EXP(-$AQ$195*J197^$AR$195) -> 933.93896 | N197: =20/M197 -> 0.021414676 | O197: =$AS$195 - $AT$195*EXP(-$AU$195*J197^$AV$195) -> 468.55436 | P197: =20/O197 -> 0.042684482 | Q197: =$AW$195 - $AX$195*EXP(-$AY$195*J197^$AZ$195) -> 1053.5835 | R197: =20/Q197 -> 0.018982833 | S197: =$BA$195 - $BB$195*EXP(-$BC$195*J197^$BD$195) -> 1106.4731 | T197: =20/S197 -> 0.01807545
A198: 3400 | B198: =$Y$195 - $Z$195*EXP(-$AA$195*A198^$AB$195) -> 485.72053 | C198: =20/B198 -> 0.041175941 | D198: 3375 | E198: =$AC$195 - $AD$195*EXP(-$AE$195*D198^$AF$195) -> 673.22244 | F198: =20/E198 -> 0.029707863 | G198: 3365 | H198: =$AG$195 - $AH$195*EXP(-$AI$195*G198^$AJ$195) -> 781.14438 | I198: =20/H198 -> 0.025603461 | J198: 3350 | K198: =$AK$195 - $AL$195*EXP(-$AM$195*J198^$AN$195) -> 864.86846 | L198: =20/K198 -> 0.023124904 | M198: =$AO$195 - $AP$195*EXP(-$AQ$195*J198^$AR$195) -> 936.10656 | N198: =20/M198 -> 0.021365089 | O198: =$AS$195 - $AT$195*EXP(-$AU$195*J198^$AV$195) -> 475.25609 | P198: =20/O198 -> 0.042082575 | Q198: =$AW$195 - $AX$195*EXP(-$AY$195*J198^$AZ$195) -> 1057.329 | R198: =20/Q198 -> 0.018915588 | S198: =$BA$195 - $BB$195*EXP(-$BC$195*J198^$BD$195) -> 1111.1596 | T198: =20/S198 -> 0.017999214
A199: 3450 | B199: =$Y$195 - $Z$195*EXP(-$AA$195*A199^$AB$195) -> 485.84686 | C199: =20/B199 -> 0.041165235 | D199: 3425 | E199: =$AC$195 - $AD$195*EXP(-$AE$195*D199^$AF$195) -> 673.89474 | F199: =20/E199 -> 0.029678225 | G199: 3415 | H199: =$AG$195 - $AH$195*EXP(-$AI$195*G199^$AJ$195) -> 782.11343 | I199: =20/H199 -> 0.025571738 | J199: 3400 | K199: =$AK$195 - $AL$195*EXP(-$AM$195*J199^$AN$195) -> 866.31203 | L199: =20/K199 -> 0.02308637 | M199: =$AO$195 - $AP$195*EXP(-$AQ$195*J199^$AR$195) -> 938.12992 | N199: =20/M199 -> 0.021319009 | O199: =$AS$195 - $AT$195*EXP(-$AU$195*J199^$AV$195) -> 481.92384 | P199: =20/O199 -> 0.041500333 | Q199: =$AW$195 - $AX$195*EXP(-$AY$195*J199^$AZ$195) -> 1060.8721 | R199: =20/Q199 -> 0.018852415 | S199: =$BA$195 - $BB$195*EXP(-$BC$195*J199^$BD$195) -> 1115.6186 | T199: =20/S199 -> 0.017927274
A200: 3500 | B200: =$Y$195 - $Z$195*EXP(-$AA$195*A200^$AB$195) -> 485.95967 | C200: =20/B200 -> 0.041155679 | D200: 3475 | E200: =$AC$195 - $AD$195*EXP(-$AE$195*D200^$AF$195) -> 674.51308 | F200: =20/E200 -> 0.029651019 | G200: 3465 | H200: =$AG$195 - $AH$195*EXP(-$AI$195*G200^$AJ$195) -> 783.00544 | I200: =20/H200 -> 0.025542607 | J200: 3450 | K200: =$AK$195 - $AL$195*EXP(-$AM$195*J200^$AN$195) -> 867.64925 | L200: =20/K200 -> 0.023050789 | M200: =$AO$195 - $AP$195*EXP(-$AQ$195*J200^$AR$195) -> 940.01749 | N200: =20/M200 -> 0.0212762 | O200: =$AS$195 - $AT$195*EXP(-$AU$195*J200^$AV$195) -> 488.5566 | P200: =20/O200 -> 0.040936915 | Q200: =$AW$195 - $AX$195*EXP(-$AY$195*J200^$AZ$195) -> 1064.2219 | R200: =20/Q200 -> 0.018793074 | S200: =$BA$195 - $BB$195*EXP(-$BC$195*J200^$BD$195) -> 1119.8591 | T200: =20/S200 -> 0.01785939
A201: 3550 | B201: =$Y$195 - $Z$195*EXP(-$AA$195*A201^$AB$195) -> 486.06034 | C201: =20/B201 -> 0.041147155 | D201: 3525 | E201: =$AC$195 - $AD$195*EXP(-$AE$195*D201^$AF$195) -> 675.08147 | F201: =20/E201 -> 0.029626054 | G201: 3515 | H201: =$AG$195 - $AH$195*EXP(-$AI$195*G201^$AJ$195) -> 783.826 | I201: =20/H201 -> 0.025515867 | J201: 3500 | K201: =$AK$195 - $AL$195*EXP(-$AM$195*J201^$AN$195) -> 868.88716 | L201: =20/K201 -> 0.023017949 | M201: =$AO$195 - $AP$195*EXP(-$AQ$195*J201^$AR$195) -> 941.77731 | N201: =20/M201 -> 0.021236443 | O201: =$AS$195 - $AT$195*EXP(-$AU$195*J201^$AV$195) -> 495.15339 | P201: =20/O201 -> 0.040391524 | Q201: =$AW$195 - $AX$195*EXP(-$AY$195*J201^$AZ$195) -> 1067.3874 | R201: =20/Q201 -> 0.01873734 | S201: =$BA$195 - $BB$195*EXP(-$BC$195*J201^$BD$195) -> 1123.89 | T201: =20/S201 -> 0.017795335
A202: 3600 | B202: =$Y$195 - $Z$195*EXP(-$AA$195*A202^$AB$195) -> 486.15013 | C202: =20/B202 -> 0.041139555 | D202: 3575 | E202: =$AC$195 - $AD$195*EXP(-$AE$195*D202^$AF$195) -> 675.60367 | F202: =20/E202 -> 0.029603155 | G202: 3565 | H202: =$AG$195 - $AH$195*EXP(-$AI$195*G202^$AJ$195) -> 784.58035 | I202: =20/H202 -> 0.025491334 | J202: 3550 | K202: =$AK$195 - $AL$195*EXP(-$AM$195*J202^$AN$195) -> 870.03241 | L202: =20/K202 -> 0.022987649 | M202: =$AO$195 - $AP$195*EXP(-$AQ$195*J202^$AR$195) -> 943.41706 | N202: =20/M202 -> 0.021199532 | O202: =$AS$195 - $AT$195*EXP(-$AU$195*J202^$AV$195) -> 501.71328 | P202: =20/O202 -> 0.039863406 | Q202: =$AW$195 - $AX$195*EXP(-$AY$195*J202^$AZ$195) -> 1070.3772 | R202: =20/Q202 -> 0.018685001 | S202: =$BA$195 - $BB$195*EXP(-$BC$195*J202^$BD$195) -> 1127.7201 | T202: =20/S202 -> 0.017734897
A203: 3650 | B203: =$Y$195 - $Z$195*EXP(-$AA$195*A203^$AB$195) -> 486.23016 | C203: =20/B203 -> 0.041132784 | D203: 3625 | E203: =$AC$195 - $AD$195*EXP(-$AE$195*D203^$AF$195) -> 676.08318 | F203: =20/E203 -> 0.029582159 | G203: 3615 | H203: =$AG$195 - $AH$195*EXP(-$AI$195*G203^$AJ$195) -> 785.2734 | I203: =20/H203 -> 0.025468837 | J203: 3600 | K203: =$AK$195 - $AL$195*EXP(-$AM$195*J203^$AN$195) -> 871.09126 | L203: =20/K203 -> 0.022959707 | M203: =$AO$195 - $AP$195*EXP(-$AQ$195*J203^$AR$195) -> 944.94401 | N203: =20/M203 -> 0.021165275 | O203: =$AS$195 - $AT$195*EXP(-$AU$195*J203^$AV$195) -> 508.23537 | P203: =20/O203 -> 0.039351846 | Q203: =$AW$195 - $AX$195*EXP(-$AY$195*J203^$AZ$195) -> 1073.1998 | R203: =20/Q203 -> 0.018635859 | S203: =$BA$195 - $BB$195*EXP(-$BC$195*J203^$BD$195) -> 1131.3576 | T203: =20/S203 -> 0.017677876
A204: 3700 | B204: =$Y$195 - $Z$195*EXP(-$AA$195*A204^$AB$195) -> 486.30145 | C204: =20/B204 -> 0.041126754 | D204: 3675 | E204: =$AC$195 - $AD$195*EXP(-$AE$195*D204^$AF$195) -> 676.52326 | F204: =20/E204 -> 0.029562916 | G204: 3665 | H204: =$AG$195 - $AH$195*EXP(-$AI$195*G204^$AJ$195) -> 785.90973 | I204: =20/H204 -> 0.025448215 | J204: 3650 | K204: =$AK$195 - $AL$195*EXP(-$AM$195*J204^$AN$195) -> 872.06962 | L204: =20/K204 -> 0.022933949 | M204: =$AO$195 - $AP$195*EXP(-$AQ$195*J204^$AR$195) -> 946.3651 | N204: =20/M204 -> 0.021133493 | O204: =$AS$195 - $AT$195*EXP(-$AU$195*J204^$AV$195) -> 514.71882 | P204: =20/O204 -> 0.038856166 | Q204: =$AW$195 - $AX$195*EXP(-$AY$195*J204^$AZ$195) -> 1075.8632 | R204: =20/Q204 -> 0.018589724 | S204: =$BA$195 - $BB$195*EXP(-$BC$195*J204^$BD$195) -> 1134.8108 | T204: =20/S204 -> 0.017624083
A205: 3750 | B205: =$Y$195 - $Z$195*EXP(-$AA$195*A205^$AB$195) -> 486.36492 | C205: =20/B205 -> 0.041121387 | D205: 3725 | E205: =$AC$195 - $AD$195*EXP(-$AE$195*D205^$AF$195) -> 676.92692 | F205: =20/E205 -> 0.029545287 | G205: 3715 | H205: =$AG$195 - $AH$195*EXP(-$AI$195*G205^$AJ$195) -> 786.49361 | I205: =20/H205 -> 0.025429323 | J205: 3700 | K205: =$AK$195 - $AL$195*EXP(-$AM$195*J205^$AN$195) -> 872.97304 | L205: =20/K205 -> 0.022910215 | M205: =$AO$195 - $AP$195*EXP(-$AQ$195*J205^$AR$195) -> 947.6869 | N205: =20/M205 -> 0.021104017 | O205: =$AS$195 - $AT$195*EXP(-$AU$195*J205^$AV$195) -> 521.16281 | P205: =20/O205 -> 0.038375724 | Q205: =$AW$195 - $AX$195*EXP(-$AY$195*J205^$AZ$195) -> 1078.3751 | R205: =20/Q205 -> 0.018546422 | S205: =$BA$195 - $BB$195*EXP(-$BC$195*J205^$BD$195) -> 1138.0876 | T205: =20/S205 -> 0.01757334
A206: 3800 | B206: =$Y$195 - $Z$195*EXP(-$AA$195*A206^$AB$195) -> 486.42138 | C206: =20/B206 -> 0.041116614 | D206: 3775 | E206: =$AC$195 - $AD$195*EXP(-$AE$195*D206^$AF$195) -> 677.29701 | F206: =20/E206 -> 0.029529143 | G206: 3765 | H206: =$AG$195 - $AH$195*EXP(-$AI$195*G206^$AJ$195) -> 787.02904 | I206: =20/H206 -> 0.025412023 | J206: 3750 | K206: =$AK$195 - $AL$195*EXP(-$AM$195*J206^$AN$195) -> 873.80677 | L206: =20/K206 -> 0.022888355 | M206: =$AO$195 - $AP$195*EXP(-$AQ$195*J206^$AR$195) -> 948.91564 | N206: =20/M206 -> 0.021076689 | O206: =$AS$195 - $AT$195*EXP(-$AU$195*J206^$AV$195) -> 527.56655 | P206: =20/O206 -> 0.037909909 | Q206: =$AW$195 - $AX$195*EXP(-$AY$195*J206^$AZ$195) -> 1080.7431 | R206: =20/Q206 -> 0.018505785 | S206: =$BA$195 - $BB$195*EXP(-$BC$195*J206^$BD$195) -> 1141.1957 | T206: =20/S206 -> 0.017525479
A207: 3850 | B207: =$Y$195 - $Z$195*EXP(-$AA$195*A207^$AB$195) -> 486.47158 | C207: =20/B207 -> 0.04111237 | D207: 3825 | E207: =$AC$195 - $AD$195*EXP(-$AE$195*D207^$AF$195) -> 677.63614 | F207: =20/E207 -> 0.029514365 | G207: 3815 | H207: =$AG$195 - $AH$195*EXP(-$AI$195*G207^$AJ$195) -> 787.51975 | I207: =20/H207 -> 0.025396189 | J207: 3800 | K207: =$AK$195 - $AL$195*EXP(-$AM$195*J207^$AN$195) -> 874.57571 | L207: =20/K207 -> 0.022868232 | M207: =$AO$195 - $AP$195*EXP(-$AQ$195*J207^$AR$195) -> 950.05722 | N207: =20/M207 -> 0.021051364 | O207: =$AS$195 - $AT$195*EXP(-$AU$195*J207^$AV$195) -> 533.9293 | P207: =20/O207 -> 0.037458143 | Q207: =$AW$195 - $AX$195*EXP(-$AY$195*J207^$AZ$195) -> 1082.9744 | R207: =20/Q207 -> 0.018467658 | S207: =$BA$195 - $BB$195*EXP(-$BC$195*J207^$BD$195) -> 1144.1424 | T207: =20/S207 -> 0.017480341
... A251: 6050 | B251: =$Y$195 - $Z$195*EXP(-$AA$195*A251^$AB$195) -> 486.85683 | C251: =20/B251 -> 0.041079839 | D251: 6025 | E251: =$AC$195 - $AD$195*EXP(-$AE$195*D251^$AF$195) -> 681.09854 | F251: =20/E251 -> 0.029364327 | G251: 6015 | H251: =$AG$195 - $AH$195*EXP(-$AI$195*G251^$AJ$195) -> 792.49136 | I251: =20/H251 -> 0.025236868 | J251: 6000 | K251: =$AK$195 - $AL$195*EXP(-$AM$195*J251^$AN$195) -> 882.90415 | L251: =20/K251 -> 0.022652515 | M251: =$AO$195 - $AP$195*EXP(-$AQ$195*J251^$AR$195) -> 963.51977 | N251: =20/M251 -> 0.020757228 | O251: =$AS$195 - $AT$195*EXP(-$AU$195*J251^$AV$195) -> 767.05732 | P251: =20/O251 -> 0.026073671 | Q251: =$AW$195 - $AX$195*EXP(-$AY$195*J251^$AZ$195) -> 1114.5861 | R251: =20/Q251 -> 0.017943881 | S251: =$BA$195 - $BB$195*EXP(-$BC$195*J251^$BD$195) -> 1189.7944 | T251: =20/S251 -> 0.016809627

Sheet Typ2 Noctua F12
A1: kg/s | B1: L/h | C1: min^-1 | D1: m/s | E1: m³/h | F1: Gesamt [m³/h] | G1: dp [Pa] | H1: dp Fluid [Pa] | I1: Tin [K] | J1: TAmbient [K] | K1: dTAmbient | L1: TAmbient2 | M1: TAmbient2 | N1: Tout_avg | O1: Tout_avg | P1: dTFluid [K] | Q1: P [W] | R1: k [W/m²*K] | S1: dTlog | T1: cp [J/kg * K] | U1: ρ [kg/m³] | V1: cp [J/kg * K] | W1: ρ [kg/m³]
A2: 0 | B2: =A2/U2*3600*1000 -> 0 | C2: 0 | D2: 0 | G2: 0 | H2: 0 | I2: 315 | J2: 295 | T2: 4180 | U2: 991.5 | AA2: -144.24373 | AB2: 10.5287 | AC2: -0.031256926 | AD2: 2.9456116e-05 | AE2: 17554.454 | AF2: -125.69235 | AG2: 0.39362054 | AH2: -0.00041079636 | AI2: 2.306401 | AJ2: -0.0037612753 | AK2: 995.1762 | AL2: 0.039735 | AN2: -0.88639635 | AO2: 3.7265266 | AP2: 0.73660332
A3: 0.008 | B3: =A3/U3*3600*1000 -> 29.040451 | C3: 0 | D3: 0 | G3: 0 | H3: 156.34022 | I3: 315 | J3: 295 | L3: 297.20729 | N3: 313.89953 | O3: =I3-Q3/(T3*A3) -> 313.89953 | P3: =I3-N3 -> 1.1004707 | Q3: 36.787103 | R3: =Q3/(Abmessungen!F$17*S3) -> 3.4388924 | S3: =((I3-L3)-(N3-J3))/LN((I3-L3)/(N3-J3)) -> 18.340553 | T3: =((AE3 + AF3*I3 +AG3*I3^2 + AH3*I3^3)+(AE3 + AF3*N3 + AG3*N3^2 + AH3*N3^3))/2 -> 4178.5646 | U3: =((AA3 + AB3*I3 + AC3*I3^2 + AD3*I3^3)+(AA3 + AB3*N3 + AC3*N3^2 + AD3*N3^3))/2 -> 991.72013 | V3: =((AK3 + AL3*J3)+(AK3 + AL3*L3))/2 -> 1006.9419 | W3: =((AI3 + AJ3*J3)+(AI3 + AJ3*L3))/2 -> 1.1926737 | AA3: -144.24373 | AB3: 10.5287 | AC3: -0.031256926 | AD3: 2.9456116e-05 | AE3: 17554.454 | AF3: -125.69235 | AG3: 0.39362054 | AH3: -0.00041079636 | AI3: 2.306401 | AJ3: -0.0037612753 | AK3: 995.1762 | AL3: 0.039735 | AN3: -0.88639635 | AO3: 3.7265266 | AP3: 0.73660332
A4: 0.014 | B4: =A4/U4*3600*1000 -> 50.823476 | C4: 0 | D4: 0 | G4: 0 | H4: 326.03512 | I4: 315 | J4: 295 | L4: 297.94433 | N4: 314.16965 | O4: =I4-Q4/(T4*A4) -> 314.16965 | P4: =I4-N4 -> 0.83034724 | Q4: 48.575224 | R4: =Q4/(Abmessungen!F$17*S4) -> 4.6032202 | S4: =((I4-L4)-(N4-J4))/LN((I4-L4)/(N4-J4)) -> 18.092079 | T4: =((AE4 + AF4*I4 +AG4*I4^2 + AH4*I4^3)+(AE4 + AF4*N4 + AG4*N4^2 + AH4*N4^3))/2 -> 4178.5637 | U4: =((AA4 + AB4*I4 + AC4*I4^2 + AD4*I4^3)+(AA4 + AB4*N4 + AC4*N4^2 + AD4*N4^3))/2 -> 991.66771 | V4: =((AK4 + AL4*J4)+(AK4 + AL4*L4))/2 -> 1006.9565 | W4: =((AI4 + AJ4*J4)+(AI4 + AJ4*L4))/2 -> 1.1912876 | AA4: -144.24373 | AB4: 10.5287 | AC4: -0.031256926 | AD4: 2.9456116e-05 | AE4: 17554.454 | AF4: -125.69235 | AG4: 0.39362054 | AH4: -0.00041079636 | AI4: 2.306401 | AJ4: -0.0037612753 | AK4: 995.1762 | AL4: 0.039735 | AN4: -0.88639635 | AO4: 3.7265266 | AP4: 0.73660332
A5: 0.02 | B5: =A5/U5*3600*1000 -> 72.607304 | C5: 0 | D5: 0 | G5: 0 | H5: 540.67838 | I5: 315 | J5: 295 | L5: 298.35294 | N5: 314.33359 | O5: =I5-Q5/(T5*A5) -> 314.33359 | P5: =I5-N5 -> 0.66641449 | Q5: 55.693103 | R5: =Q5/(Abmessungen!F$17*S5) -> 5.3174925 | S5: =((I5-L5)-(N5-J5))/LN((I5-L5)/(N5-J5)) -> 17.956842 | T5: =((AE5 + AF5*I5 +AG5*I5^2 + AH5*I5^3)+(AE5 + AF5*N5 + AG5*N5^2 + AH5*N5^3))/2 -> 4178.5633 | U5: =((AA5 + AB5*I5 + AC5*I5^2 + AD5*I5^3)+(AA5 + AB5*N5 + AC5*N5^2 + AD5*N5^3))/2 -> 991.63577 | V5: =((AK5 + AL5*J5)+(AK5 + AL5*L5))/2 -> 1006.9646 | W5: =((AI5 + AJ5*J5)+(AI5 + AJ5*L5))/2 -> 1.1905191 | AA5: -144.24373 | AB5: 10.5287 | AC5: -0.031256926 | AD5: 2.9456116e-05 | AE5: 17554.454 | AF5: -125.69235 | AG5: 0.39362054 | AH5: -0.00041079636 | AI5: 2.306401 | AJ5: -0.0037612753 | AK5: 995.1762 | AL5: 0.039735 | AN5: -0.88639635 | AO5: 3.7265266 | AP5: 0.73660332
A6: 0.026 | B6: =A6/U6*3600*1000 -> 94.391533 | C6: 0 | D6: 0 | G6: 0 | H6: 800.27 | I6: 315 | J6: 295 | L6: 298.63722 | N6: 314.44321 | O6: =I6-Q6/(T6*A6) -> 314.44321 | P6: =I6-N6 -> 0.55679082 | Q6: 60.491227 | R6: =Q6/(Abmessungen!F$17*S6) -> 5.8073371 | S6: =((I6-L6)-(N6-J6))/LN((I6-L6)/(N6-J6)) -> 17.858739 | T6: =((AE6 + AF6*I6 +AG6*I6^2 + AH6*I6^3)+(AE6 + AF6*N6 + AG6*N6^2 + AH6*N6^3))/2 -> 4178.5632 | U6: =((AA6 + AB6*I6 + AC6*I6^2 + AD6*I6^3)+(AA6 + AB6*N6 + AC6*N6^2 + AD6*N6^3))/2 -> 991.61436 | V6: =((AK6 + AL6*J6)+(AK6 + AL6*L6))/2 -> 1006.9703 | W6: =((AI6 + AJ6*J6)+(AI6 + AJ6*L6))/2 -> 1.1899845 | AA6: -144.24373 | AB6: 10.5287 | AC6: -0.031256926 | AD6: 2.9456116e-05 | AE6: 17554.454 | AF6: -125.69235 | AG6: 0.39362054 | AH6: -0.00041079636 | AI6: 2.306401 | AJ6: -0.0037612753 | AK6: 995.1762 | AL6: 0.039735 | AN6: -0.88639635 | AO6: 3.7265266 | AP6: 0.73660332
A7: 0.032 | B7: =A7/U7*3600*1000 -> 116.176 | C7: 0 | D7: 0 | G7: 0 | H7: 1104.81 | I7: 315 | J7: 295 | L7: 298.85549 | N7: 314.52189 | O7: =I7-Q7/(T7*A7) -> 314.52189 | P7: =I7-N7 -> 0.4781139 | Q7: 63.930533 | R7: =Q7/(Abmessungen!F$17*S7) -> 6.1647812 | S7: =((I7-L7)-(N7-J7))/LN((I7-L7)/(N7-J7)) -> 17.779768 | T7: =((AE7 + AF7*I7 +AG7*I7^2 + AH7*I7^3)+(AE7 + AF7*N7 + AG7*N7^2 + AH7*N7^3))/2 -> 4178.5632 | U7: =((AA7 + AB7*I7 + AC7*I7^2 + AD7*I7^3)+(AA7 + AB7*N7 + AC7*N7^2 + AD7*N7^3))/2 -> 991.59897 | V7: =((AK7 + AL7*J7)+(AK7 + AL7*L7))/2 -> 1006.9746 | W7: =((AI7 + AJ7*J7)+(AI7 + AJ7*L7))/2 -> 1.189574 | AA7: -144.24373 | AB7: 10.5287 | AC7: -0.031256926 | AD7: 2.9456116e-05 | AE7: 17554.454 | AF7: -125.69235 | AG7: 0.39362054 | AH7: -0.00041079636 | AI7: 2.306401 | AJ7: -0.0037612753 | AK7: 995.1762 | AL7: 0.039735 | AN7: -0.88639635 | AO7: 3.7265266 | AP7: 0.73660332
A8: 0.038 | B8: =A8/U8*3600*1000 -> 137.96061 | C8: 0 | D8: 0 | G8: 0 | H8: 1454.2983 | I8: 315 | J8: 295 | L8: 299.03273 | N8: 314.58121 | O8: =I8-Q8/(T8*A8) -> 314.58121 | P8: =I8-N8 -> 0.41878591 | Q8: 66.497088 | R8: =Q8/(Abmessungen!F$17*S8) -> 6.4365007 | S8: =((I8-L8)-(N8-J8))/LN((I8-L8)/(N8-J8)) -> 17.712841 | T8: =((AE8 + AF8*I8 +AG8*I8^2 + AH8*I8^3)+(AE8 + AF8*N8 + AG8*N8^2 + AH8*N8^3))/2 -> 4178.5632 | U8: =((AA8 + AB8*I8 + AC8*I8^2 + AD8*I8^3)+(AA8 + AB8*N8 + AC8*N8^2 + AD8*N8^3))/2 -> 991.58735 | V8: =((AK8 + AL8*J8)+(AK8 + AL8*L8))/2 -> 1006.9781 | W8: =((AI8 + AJ8*J8)+(AI8 + AJ8*L8))/2 -> 1.1892407 | AA8: -144.24373 | AB8: 10.5287 | AC8: -0.031256926 | AD8: 2.9456116e-05 | AE8: 17554.454 | AF8: -125.69235 | AG8: 0.39362054 | AH8: -0.00041079636 | AI8: 2.306401 | AJ8: -0.0037612753 | AK8: 995.1762 | AL8: 0.039735 | AN8: -0.88639635 | AO8: 3.7265266 | AP8: 0.73660332
A9: 0.044 | B9: =A9/U9*3600*1000 -> 159.74533 | C9: 0 | D9: 0 | G9: 0 | H9: 1848.735 | I9: 315 | J9: 295 | L9: 299.18196 | N9: 314.6276 | O9: =I9-Q9/(T9*A9) -> 314.6276 | P9: =I9-N9 -> 0.37240085 | Q9: 68.468421 | R9: =Q9/(Abmessungen!F$17*S9) -> 6.6492626 | S9: =((I9-L9)-(N9-J9))/LN((I9-L9)/(N9-J9)) -> 17.654371 | T9: =((AE9 + AF9*I9 +AG9*I9^2 + AH9*I9^3)+(AE9 + AF9*N9 + AG9*N9^2 + AH9*N9^3))/2 -> 4178.5632 | U9: =((AA9 + AB9*I9 + AC9*I9^2 + AD9*I9^3)+(AA9 + AB9*N9 + AC9*N9^2 + AD9*N9^3))/2 -> 991.57826 | V9: =((AK9 + AL9*J9)+(AK9 + AL9*L9))/2 -> 1006.9811 | W9: =((AI9 + AJ9*J9)+(AI9 + AJ9*L9))/2 -> 1.18896 | AA9: -144.24373 | AB9: 10.5287 | AC9: -0.031256926 | AD9: 2.9456116e-05 | AE9: 17554.454 | AF9: -125.69235 | AG9: 0.39362054 | AH9: -0.00041079636 | AI9: 2.306401 | AJ9: -0.0037612753 | AK9: 995.1762 | AL9: 0.039735 | AN9: -0.88639635 | AO9: 3.7265266 | AP9: 0.73660332
A10: 0.05 | B10: =A10/U10*3600*1000 -> 181.53013 | C10: 0 | D10: 0 | G10: 0 | H10: 2288.12 | I10: 315 | J10: 295 | L10: 299.31084 | N10: 314.66488 | O10: =I10-Q10/(T10*A10) -> 314.66488 | P10: =I10-N10 -> 0.33512056 | Q10: 70.016122 | R10: =Q10/(Abmessungen!F$17*S10) -> 6.8197001 | S10: =((I10-L10)-(N10-J10))/LN((I10-L10)/(N10-J10)) -> 17.602251 | T10: =((AE10 + AF10*I10 +AG10*I10^2 + AH10*I10^3)+(AE10 + AF10*N10 + AG10*N10^2 + AH10*N10^3))/2 -> 4178.5632 | U10: =((AA10 + AB10*I10 + AC10*I10^2 + AD10*I10^3)+(AA10 + AB10*N10 + AC10*N10^2 + AD10*N10^3))/2 -> 991.57094 | V10: =((AK10 + AL10*J10)+(AK10 + AL10*L10))/2 -> 1006.9837 | W10: =((AI10 + AJ10*J10)+(AI10 + AJ10*L10))/2 -> 1.1887177 | AA10: -144.24373 | AB10: 10.5287 | AC10: -0.031256926 | AD10: 2.9456116e-05 | AE10: 17554.454 | AF10: -125.69235 | AG10: 0.39362054 | AH10: -0.00041079636 | AI10: 2.306401 | AJ10: -0.0037612753 | AK10: 995.1762 | AL10: 0.039735 | AN10: -0.88639635 | AO10: 3.7265266 | AP10: 0.73660332
A11: 0.056 | B11: =A11/U11*3600*1000 -> 203.31498 | C11: 0 | D11: 0 | G11: 0 | H11: 2772.4534 | I11: 315 | J11: 295 | L11: 299.42428 | N11: 314.6955 | O11: =I11-Q11/(T11*A11) -> 314.6955 | P11: =I11-N11 -> 0.30449838 | Q11: 71.252481 | R11: =Q11/(Abmessungen!F$17*S11) -> 6.9587577 | S11: =((I11-L11)-(N11-J11))/LN((I11-L11)/(N11-J11)) -> 17.555116 | T11: =((AE11 + AF11*I11 +AG11*I11^2 + AH11*I11^3)+(AE11 + AF11*N11 + AG11*N11^2 + AH11*N11^3))/2 -> 4178.5632 | U11: =((AA11 + AB11*I11 + AC11*I11^2 + AD11*I11^3)+(AA11 + AB11*N11 + AC11*N11^2 + AD11*N11^3))/2 -> 991.56493 | V11: =((AK11 + AL11*J11)+(AK11 + AL11*L11))/2 -> 1006.9859 | W11: =((AI11 + AJ11*J11)+(AI11 + AJ11*L11))/2 -> 1.1885043 | AA11: -144.24373 | AB11: 10.5287 | AC11: -0.031256926 | AD11: 2.9456116e-05 | AE11: 17554.454 | AF11: -125.69235 | AG11: 0.39362054 | AH11: -0.00041079636 | AI11: 2.306401 | AJ11: -0.0037612753 | AK11: 995.1762 | AL11: 0.039735 | AN11: -0.88639635 | AO11: 3.7265266 | AP11: 0.73660332
A12: 0.062 | B12: =A12/U12*3600*1000 -> 225.09986 | C12: 0 | D12: 0 | G12: 0 | H12: 3301.7351 | I12: 315 | J12: 295 | L12: 299.52558 | N12: 314.7211 | O12: =I12-Q12/(T12*A12) -> 314.7211 | P12: =I12-N12 -> 0.27889736 | Q12: 72.254195 | R12: =Q12/(Abmessungen!F$17*S12) -> 7.0739524 | S12: =((I12-L12)-(N12-J12))/LN((I12-L12)/(N12-J12)) -> 17.512025 | T12: =((AE12 + AF12*I12 +AG12*I12^2 + AH12*I12^3)+(AE12 + AF12*N12 + AG12*N12^2 + AH12*N12^3))/2 -> 4178.5632 | U12: =((AA12 + AB12*I12 + AC12*I12^2 + AD12*I12^3)+(AA12 + AB12*N12 + AC12*N12^2 + AD12*N12^3))/2 -> 991.5599 | V12: =((AK12 + AL12*J12)+(AK12 + AL12*L12))/2 -> 1006.9879 | W12: =((AI12 + AJ12*J12)+(AI12 + AJ12*L12))/2 -> 1.1883138 | AA12: -144.24373 | AB12: 10.5287 | AC12: -0.031256926 | AD12: 2.9456116e-05 | AE12: 17554.454 | AF12: -125.69235 | AG12: 0.39362054 | AH12: -0.00041079636 | AI12: 2.306401 | AJ12: -0.0037612753 | AK12: 995.1762 | AL12: 0.039735 | AN12: -0.88639635 | AO12: 3.7265266 | AP12: 0.73660332
A13: 0.068 | B13: =A13/U13*3600*1000 -> 246.88478 | C13: 0 | D13: 0 | G13: 0 | H13: 3875.9652 | I13: 315 | J13: 295 | L13: 299.6171 | N13: 314.74282 | O13: =I13-Q13/(T13*A13) -> 314.74282 | P13: =I13-N13 -> 0.257179 | Q13: 73.075433 | R13: =Q13/(Abmessungen!F$17*S13) -> 7.1706242 | S13: =((I13-L13)-(N13-J13))/LN((I13-L13)/(N13-J13)) -> 17.472291 | T13: =((AE13 + AF13*I13 +AG13*I13^2 + AH13*I13^3)+(AE13 + AF13*N13 + AG13*N13^2 + AH13*N13^3))/2 -> 4178.5632 | U13: =((AA13 + AB13*I13 + AC13*I13^2 + AD13*I13^3)+(AA13 + AB13*N13 + AC13*N13^2 + AD13*N13^3))/2 -> 991.55564 | V13: =((AK13 + AL13*J13)+(AK13 + AL13*L13))/2 -> 1006.9898 | W13: =((AI13 + AJ13*J13)+(AI13 + AJ13*L13))/2 -> 1.1881417 | AA13: -144.24373 | AB13: 10.5287 | AC13: -0.031256926 | AD13: 2.9456116e-05 | AE13: 17554.454 | AF13: -125.69235 | AG13: 0.39362054 | AH13: -0.00041079636 | AI13: 2.306401 | AJ13: -0.0037612753 | AK13: 995.1762 | AL13: 0.039735 | AN13: -0.88639635 | AO13: 3.7265266 | AP13: 0.73660332
A14: 0.074 | B14: =A14/U14*3600*1000 -> 268.66973 | C14: 0 | D14: 0 | G14: 0 | H14: 4495.1437 | I14: 315 | J14: 295 | L14: 299.70056 | N14: 314.76147 | O14: =I14-Q14/(T14*A14) -> 314.76147 | P14: =I14-N14 -> 0.23852601 | Q14: 73.755507 | R14: =Q14/(Abmessungen!F$17*S14) -> 7.2526707 | S14: =((I14-L14)-(N14-J14))/LN((I14-L14)/(N14-J14)) -> 17.4354 | T14: =((AE14 + AF14*I14 +AG14*I14^2 + AH14*I14^3)+(AE14 + AF14*N14 + AG14*N14^2 + AH14*N14^3))/2 -> 4178.5633 | U14: =((AA14 + AB14*I14 + AC14*I14^2 + AD14*I14^3)+(AA14 + AB14*N14 + AC14*N14^2 + AD14*N14^3))/2 -> 991.55197 | V14: =((AK14 + AL14*J14)+(AK14 + AL14*L14))/2 -> 1006.9914 | W14: =((AI14 + AJ14*J14)+(AI14 + AJ14*L14))/2 -> 1.1879847 | AA14: -144.24373 | AB14: 10.5287 | AC14: -0.031256926 | AD14: 2.9456116e-05 | AE14: 17554.454 | AF14: -125.69235 | AG14: 0.39362054 | AH14: -0.00041079636 | AI14: 2.306401 | AJ14: -0.0037612753 | AK14: 995.1762 | AL14: 0.039735 | AN14: -0.88639635 | AO14: 3.7265266 | AP14: 0.73660332
A15: 0.008 | B15: =A15/U15*3600*1000 -> 29.013767 | C15: 600 | D15: =F15/(0.02809*3600) -> 0.54854059 | E15: 27.73531 | F15: =E15*2 -> 55.470619 | G15: =AN15 + AO15*D15 + AP15*D15^2 -> 1.3793963 | H15: =H3 -> 156.34022 | I15: 315 | J15: 295 | K15: =Q15*3600/(V15*W15*F15) -> 11.069704 | L15: 306.06937 | M15: =J15+K15 -> 306.0697 | N15: 308.95691 | O15: =I15-Q15/(T15*A15) -> 308.95695 | P15: =I15-N15 -> 6.0430946 | Q15: 202.01651 | R15: =Q15/(Abmessungen!F$17*S15) -> 30.767013 | S15: =((I15-L15)-(N15-J15))/LN((I15-L15)/(N15-J15)) -> 11.25737 | T15: =((AE15 + AF15*I15 +AG15*I15^2 + AH15*I15^3)+(AE15 + AF15*N15 + AG15*N15^2 + AH15*N15^3))/2 -> 4178.6935 | U15: =((AA15 + AB15*I15 + AC15*I15^2 + AD15*I15^3)+(AA15 + AB15*N15 + AC15*N15^2 + AD15*N15^3))/2 -> 992.63222 | V15: =((AK15 + AL15*J15)+(AK15 + AL15*L15))/2 -> 1007.1179 | W15: =((AI15 + AJ15*J15)+(AI15 + AJ15*L15))/2 -> 1.1760073 | AA15: -144.24373 | AB15: 10.5287 | AC15: -0.031256926 | AD15: 2.9456116e-05 | AE15: 17554.454 | AF15: -125.69235 | AG15: 0.39362054 | AH15: -0.00041079636 | AI15: 2.306401 | AJ15: -0.0037612753 | AK15: 995.1762 | AL15: 0.039735 | AN15: -0.88639635 | AO15: 3.7265266 | AP15: 0.73660332
A16: 0.014 | B16: =A16/U16*3600*1000 -> 50.795257 | C16: 600 | D16: =F16/(0.02809*3600) -> 0.54854059 | E16: 27.73531 | F16: =E16*2 -> 55.470619 | G16: =AN16 + AO16*D16 + AP16*D16^2 -> 1.3793963 | H16: =H4 -> 326.03512 | I16: 315 | J16: 295 | K16: =Q16*3600/(V16*W16*F16) -> 12.00723 | L16: 307.00684 | M16: =J16+K16 -> 307.00723 | N16: 311.25983 | O16: =I16-Q16/(T16*A16) -> 311.25983 | P16: =I16-N16 -> 3.7401742 | Q16: 218.80143 | R16: =Q16/(Abmessungen!F$17*S16) -> 32.224166 | S16: =((I16-L16)-(N16-J16))/LN((I16-L16)/(N16-J16)) -> 11.641365 | T16: =((AE16 + AF16*I16 +AG16*I16^2 + AH16*I16^3)+(AE16 + AF16*N16 + AG16*N16^2 + AH16*N16^3))/2 -> 4178.6034 | U16: =((AA16 + AB16*I16 + AC16*I16^2 + AD16*I16^3)+(AA16 + AB16*N16 + AC16*N16^2 + AD16*N16^3))/2 -> 992.21862 | V16: =((AK16 + AL16*J16)+(AK16 + AL16*L16))/2 -> 1007.1366 | W16: =((AI16 + AJ16*J16)+(AI16 + AJ16*L16))/2 -> 1.1742443 | AA16: -144.24373 | AB16: 10.5287 | AC16: -0.031256926 | AD16: 2.9456116e-05 | AE16: 17554.454 | AF16: -125.69235 | AG16: 0.39362054 | AH16: -0.00041079636 | AI16: 2.306401 | AJ16: -0.0037612753 | AK16: 995.1762 | AL16: 0.039735 | AN16: -0.88639635 | AO16: 3.7265266 | AP16: 0.73660332
A17: 0.02 | B17: =A17/U17*3600*1000 -> 72.578659 | C17: 600 | D17: =F17/(0.02809*3600) -> 0.54854059 | E17: 27.73531 | F17: =E17*2 -> 55.470619 | G17: =AN17 + AO17*D17 + AP17*D17^2 -> 1.3793963 | H17: =H5 -> 540.67838 | I17: 315 | J17: 295 | K17: =Q17*3600/(V17*W17*F17) -> 12.438058 | L17: 307.43765 | M17: =J17+K17 -> 307.43806 | N17: 312.28977 | O17: =I17-Q17/(T17*A17) -> 312.28978 | P17: =I17-N17 -> 2.7102252 | Q17: 226.49772 | R17: =Q17/(Abmessungen!F$17*S17) -> 33.011992 | S17: =((I17-L17)-(N17-J17))/LN((I17-L17)/(N17-J17)) -> 11.763255 | T17: =((AE17 + AF17*I17 +AG17*I17^2 + AH17*I17^3)+(AE17 + AF17*N17 + AG17*N17^2 + AH17*N17^3))/2 -> 4178.5812 | U17: =((AA17 + AB17*I17 + AC17*I17^2 + AD17*I17^3)+(AA17 + AB17*N17 + AC17*N17^2 + AD17*N17^3))/2 -> 992.02714 | V17: =((AK17 + AL17*J17)+(AK17 + AL17*L17))/2 -> 1007.1451 | W17: =((AI17 + AJ17*J17)+(AI17 + AJ17*L17))/2 -> 1.1734341 | AA17: -144.24373 | AB17: 10.5287 | AC17: -0.031256926 | AD17: 2.9456116e-05 | AE17: 17554.454 | AF17: -125.69235 | AG17: 0.39362054 | AH17: -0.00041079636 | AI17: 2.306401 | AJ17: -0.0037612753 | AK17: 995.1762 | AL17: 0.039735 | AN17: -0.88639635 | AO17: 3.7265266 | AP17: 0.73660332
A18: 0.026 | B18: =A18/U18*3600*1000 -> 94.362733 | C18: 600 | D18: =F18/(0.02809*3600) -> 0.54854059 | E18: 27.73531 | F18: =E18*2 -> 55.470619 | G18: =AN18 + AO18*D18 + AP18*D18^2 -> 1.3793963 | H18: =H6 -> 800.27 | I18: 315 | J18: 295 | K18: =Q18*3600/(V18*W18*F18) -> 12.695749 | L18: 307.69532 | M18: =J18+K18 -> 307.69575 | N18: 312.87288 | O18: =I18-Q18/(T18*A18) -> 312.87288 | P18: =I18-N18 -> 2.1271167 | Q18: 231.096 | R18: =Q18/(Abmessungen!F$17*S18) -> 33.545765 | S18: =((I18-L18)-(N18-J18))/LN((I18-L18)/(N18-J18)) -> 11.811094 | T18: =((AE18 + AF18*I18 +AG18*I18^2 + AH18*I18^3)+(AE18 + AF18*N18 + AG18*N18^2 + AH18*N18^3))/2 -> 4178.5728 | U18: =((AA18 + AB18*I18 + AC18*I18^2 + AD18*I18^3)+(AA18 + AB18*N18 + AC18*N18^2 + AD18*N18^3))/2 -> 991.91701 | V18: =((AK18 + AL18*J18)+(AK18 + AL18*L18))/2 -> 1007.1502 | W18: =((AI18 + AJ18*J18)+(AI18 + AJ18*L18))/2 -> 1.1729495 | AA18: -144.24373 | AB18: 10.5287 | AC18: -0.031256926 | AD18: 2.9456116e-05 | AE18: 17554.454 | AF18: -125.69235 | AG18: 0.39362054 | AH18: -0.00041079636 | AI18: 2.306401 | AJ18: -0.0037612753 | AK18: 995.1762 | AL18: 0.039735 | AN18: -0.88639635 | AO18: 3.7265266 | AP18: 0.73660332
A19: 0.032 | B19: =A19/U19*3600*1000 -> 116.14712 | C19: 600 | D19: =F19/(0.02809*3600) -> 0.54854059 | E19: 27.73531 | F19: =E19*2 -> 55.470619 | G19: =AN19 + AO19*D19 + AP19*D19^2 -> 1.3793963 | H19: =H7 -> 1104.81 | I19: 315 | J19: 295 | K19: =Q19*3600/(V19*W19*F19) -> 12.873785 | L19: 307.87333 | M19: =J19+K19 -> 307.87378 | N19: 313.24797 | O19: =I19-Q19/(T19*A19) -> 313.24797 | P19: =I19-N19 -> 1.7520257 | Q19: 234.27065 | R19: =Q19/(Abmessungen!F$17*S19) -> 33.956466 | S19: =((I19-L19)-(N19-J19))/LN((I19-L19)/(N19-J19)) -> 11.828531 | T19: =((AE19 + AF19*I19 +AG19*I19^2 + AH19*I19^3)+(AE19 + AF19*N19 + AG19*N19^2 + AH19*N19^3))/2 -> 4178.5689 | U19: =((AA19 + AB19*I19 + AC19*I19^2 + AD19*I19^3)+(AA19 + AB19*N19 + AC19*N19^2 + AD19*N19^3))/2 -> 991.84551 | V19: =((AK19 + AL19*J19)+(AK19 + AL19*L19))/2 -> 1007.1538 | W19: =((AI19 + AJ19*J19)+(AI19 + AJ19*L19))/2 -> 1.1726147 | AA19: -144.24373 | AB19: 10.5287 | AC19: -0.031256926 | AD19: 2.9456116e-05 | AE19: 17554.454 | AF19: -125.69235 | AG19: 0.39362054 | AH19: -0.00041079636 | AI19: 2.306401 | AJ19: -0.0037612753 | AK19: 995.1762 | AL19: 0.039735 | AN19: -0.88639635 | AO19: 3.7265266 | AP19: 0.73660332
A20: 0.038 | B20: =A20/U20*3600*1000 -> 137.93168 | C20: 600 | D20: =F20/(0.02809*3600) -> 0.54854059 | E20: 27.73531 | F20: =E20*2 -> 55.470619 | G20: =AN20 + AO20*D20 + AP20*D20^2 -> 1.3793963 | H20: =H8 -> 1454.2983 | I20: 315 | J20: 295 | K20: =Q20*3600/(V20*W20*F20) -> 13.008689 | L20: 308.00822 | M20: =J20+K20 -> 308.00869 | N20: 313.50947 | O20: =I20-Q20/(T20*A20) -> 313.50947 | P20: =I20-N20 -> 1.4905327 | Q20: 236.67499 | R20: =Q20/(Abmessungen!F$17*S20) -> 34.298838 | S20: =((I20-L20)-(N20-J20))/LN((I20-L20)/(N20-J20)) -> 11.830644 | T20: =((AE20 + AF20*I20 +AG20*I20^2 + AH20*I20^3)+(AE20 + AF20*N20 + AG20*N20^2 + AH20*N20^3))/2 -> 4178.5668 | U20: =((AA20 + AB20*I20 + AC20*I20^2 + AD20*I20^3)+(AA20 + AB20*N20 + AC20*N20^2 + AD20*N20^3))/2 -> 991.79537 | V20: =((AK20 + AL20*J20)+(AK20 + AL20*L20))/2 -> 1007.1565 | W20: =((AI20 + AJ20*J20)+(AI20 + AJ20*L20))/2 -> 1.1723611 | AA20: -144.24373 | AB20: 10.5287 | AC20: -0.031256926 | AD20: 2.9456116e-05 | AE20: 17554.454 | AF20: -125.69235 | AG20: 0.39362054 | AH20: -0.00041079636 | AI20: 2.306401 | AJ20: -0.0037612753 | AK20: 995.1762 | AL20: 0.039735 | AN20: -0.88639635 | AO20: 3.7265266 | AP20: 0.73660332
A21: 0.044 | B21: =A21/U21*3600*1000 -> 159.71634 | C21: 600 | D21: =F21/(0.02809*3600) -> 0.54854059 | E21: 27.73531 | F21: =E21*2 -> 55.470619 | G21: =AN21 + AO21*D21 + AP21*D21^2 -> 1.3793963 | H21: =H9 -> 1848.735 | I21: 315 | J21: 295 | K21: =Q21*3600/(V21*W21*F21) -> 13.117656 | L21: 308.11716 | M21: =J21+K21 -> 308.11766 | N21: 313.70216 | O21: =I21-Q21/(T21*A21) -> 313.70216 | P21: =I21-N21 -> 1.2978373 | Q21: 238.61629 | R21: =Q21/(Abmessungen!F$17*S21) -> 34.599722 | S21: =((I21-L21)-(N21-J21))/LN((I21-L21)/(N21-J21)) -> 11.823959 | T21: =((AE21 + AF21*I21 +AG21*I21^2 + AH21*I21^3)+(AE21 + AF21*N21 + AG21*N21^2 + AH21*N21^3))/2 -> 4178.5656 | U21: =((AA21 + AB21*I21 + AC21*I21^2 + AD21*I21^3)+(AA21 + AB21*N21 + AC21*N21^2 + AD21*N21^3))/2 -> 991.75827 | V21: =((AK21 + AL21*J21)+(AK21 + AL21*L21))/2 -> 1007.1586 | W21: =((AI21 + AJ21*J21)+(AI21 + AJ21*L21))/2 -> 1.1721562 | AA21: -144.24373 | AB21: 10.5287 | AC21: -0.031256926 | AD21: 2.9456116e-05 | AE21: 17554.454 | AF21: -125.69235 | AG21: 0.39362054 | AH21: -0.00041079636 | AI21: 2.306401 | AJ21: -0.0037612753 | AK21: 995.1762 | AL21: 0.039735 | AN21: -0.88639635 | AO21: 3.7265266 | AP21: 0.73660332
A22: 0.05 | B22: =A22/U22*3600*1000 -> 181.50107 | C22: 600 | D22: =F22/(0.02809*3600) -> 0.54854059 | E22: 27.73531 | F22: =E22*2 -> 55.470619 | G22: =AN22 + AO22*D22 + AP22*D22^2 -> 1.3793963 | H22: =H10 -> 2288.12 | I22: 315 | J22: 295 | K22: =Q22*3600/(V22*W22*F22) -> 13.209844 | L22: 308.20933 | M22: =J22+K22 -> 308.20984 | N22: 313.85004 | O22: =I22-Q22/(T22*A22) -> 313.85004 | P22: =I22-N22 -> 1.1499554 | Q22: 240.25814 | R22: =Q22/(Abmessungen!F$17*S22) -> 34.873848 | S22: =((I22-L22)-(N22-J22))/LN((I22-L22)/(N22-J22)) -> 11.811734 | T22: =((AE22 + AF22*I22 +AG22*I22^2 + AH22*I22^3)+(AE22 + AF22*N22 + AG22*N22^2 + AH22*N22^3))/2 -> 4178.5648 | U22: =((AA22 + AB22*I22 + AC22*I22^2 + AD22*I22^3)+(AA22 + AB22*N22 + AC22*N22^2 + AD22*N22^3))/2 -> 991.72971 | V22: =((AK22 + AL22*J22)+(AK22 + AL22*L22))/2 -> 1007.1605 | W22: =((AI22 + AJ22*J22)+(AI22 + AJ22*L22))/2 -> 1.1719828 | AA22: -144.24373 | AB22: 10.5287 | AC22: -0.031256926 | AD22: 2.9456116e-05 | AE22: 17554.454 | AF22: -125.69235 | AG22: 0.39362054 | AH22: -0.00041079636 | AI22: 2.306401 | AJ22: -0.0037612753 | AK22: 995.1762 | AL22: 0.039735 | AN22: -0.88639635 | AO22: 3.7265266 | AP22: 0.73660332
A23: 0.056 | B23: =A23/U23*3600*1000 -> 203.28584 | C23: 600 | D23: =F23/(0.02809*3600) -> 0.54854059 | E23: 27.73531 | F23: =E23*2 -> 55.470619 | G23: =AN23 + AO23*D23 + AP23*D23^2 -> 1.3793963 | H23: =H11 -> 2772.4534 | I23: 315 | J23: 295 | K23: =Q23*3600/(V23*W23*F23) -> 13.290581 | L23: 308.29005 | M23: =J23+K23 -> 308.29058 | N23: 313.96711 | O23: =I23-Q23/(T23*A23) -> 313.96711 | P23: =I23-N23 -> 1.0328893 | Q23: 241.69566 | R23: =Q23/(Abmessungen!F$17*S23) -> 35.129979 | S23: =((I23-L23)-(N23-J23))/LN((I23-L23)/(N23-J23)) -> 11.795772 | T23: =((AE23 + AF23*I23 +AG23*I23^2 + AH23*I23^3)+(AE23 + AF23*N23 + AG23*N23^2 + AH23*N23^3))/2 -> 4178.5643 | U23: =((AA23 + AB23*I23 + AC23*I23^2 + AD23*I23^3)+(AA23 + AB23*N23 + AC23*N23^2 + AD23*N23^3))/2 -> 991.70704 | V23: =((AK23 + AL23*J23)+(AK23 + AL23*L23))/2 -> 1007.1621 | W23: =((AI23 + AJ23*J23)+(AI23 + AJ23*L23))/2 -> 1.171831 | AA23: -144.24373 | AB23: 10.5287 | AC23: -0.031256926 | AD23: 2.9456116e-05 | AE23: 17554.454 | AF23: -125.69235 | AG23: 0.39362054 | AH23: -0.00041079636 | AI23: 2.306401 | AJ23: -0.0037612753 | AK23: 995.1762 | AL23: 0.039735 | AN23: -0.88639635 | AO23: 3.7265266 | AP23: 0.73660332
A24: 0.062 | B24: =A24/U24*3600*1000 -> 225.07065 | C24: 600 | D24: =F24/(0.02809*3600) -> 0.54854059 | E24: 27.73531 | F24: =E24*2 -> 55.470619 | G24: =AN24 + AO24*D24 + AP24*D24^2 -> 1.3793963 | H24: =H12 -> 3301.7351 | I24: 315 | J24: 295 | K24: =Q24*3600/(V24*W24*F24) -> 13.363179 | L24: 308.36262 | M24: =J24+K24 -> 308.36318 | N24: 314.06208 | O24: =I24-Q24/(T24*A24) -> 314.06208 | P24: =I24-N24 -> 0.93792038 | Q24: 242.98793 | R24: =Q24/(Abmessungen!F$17*S24) -> 35.373664 | S24: =((I24-L24)-(N24-J24))/LN((I24-L24)/(N24-J24)) -> 11.777146 | T24: =((AE24 + AF24*I24 +AG24*I24^2 + AH24*I24^3)+(AE24 + AF24*N24 + AG24*N24^2 + AH24*N24^3))/2 -> 4178.564 | U24: =((AA24 + AB24*I24 + AC24*I24^2 + AD24*I24^3)+(AA24 + AB24*N24 + AC24*N24^2 + AD24*N24^3))/2 -> 991.68862 | V24: =((AK24 + AL24*J24)+(AK24 + AL24*L24))/2 -> 1007.1635 | W24: =((AI24 + AJ24*J24)+(AI24 + AJ24*L24))/2 -> 1.1716945 | AA24: -144.24373 | AB24: 10.5287 | AC24: -0.031256926 | AD24: 2.9456116e-05 | AE24: 17554.454 | AF24: -125.69235 | AG24: 0.39362054 | AH24: -0.00041079636 | AI24: 2.306401 | AJ24: -0.0037612753 | AK24: 995.1762 | AL24: 0.039735 | AN24: -0.88639635 | AO24: 3.7265266 | AP24: 0.73660332
A25: 0.068 | B25: =A25/U25*3600*1000 -> 246.85548 | C25: 600 | D25: =F25/(0.02809*3600) -> 0.54854059 | E25: 27.73531 | F25: =E25*2 -> 55.470619 | G25: =AN25 + AO25*D25 + AP25*D25^2 -> 1.3793963 | H25: =H13 -> 3875.9652 | I25: 315 | J25: 295 | K25: =Q25*3600/(V25*W25*F25) -> 13.429803 | L25: 308.42922 | M25: =J25+K25 -> 308.4298 | N25: 314.14066 | O25: =I25-Q25/(T25*A25) -> 314.14066 | P25: =I25-N25 -> 0.85933549 | Q25: 244.17358 | R25: =Q25/(Abmessungen!F$17*S25) -> 35.608592 | S25: =((I25-L25)-(N25-J25))/LN((I25-L25)/(N25-J25)) -> 11.756534 | T25: =((AE25 + AF25*I25 +AG25*I25^2 + AH25*I25^3)+(AE25 + AF25*N25 + AG25*N25^2 + AH25*N25^3))/2 -> 4178.5638 | U25: =((AA25 + AB25*I25 + AC25*I25^2 + AD25*I25^3)+(AA25 + AB25*N25 + AC25*N25^2 + AD25*N25^3))/2 -> 991.67335 | V25: =((AK25 + AL25*J25)+(AK25 + AL25*L25))/2 -> 1007.1648 | W25: =((AI25 + AJ25*J25)+(AI25 + AJ25*L25))/2 -> 1.1715693 | AA25: -144.24373 | AB25: 10.5287 | AC25: -0.031256926 | AD25: 2.9456116e-05 | AE25: 17554.454 | AF25: -125.69235 | AG25: 0.39362054 | AH25: -0.00041079636 | AI25: 2.306401 | AJ25: -0.0037612753 | AK25: 995.1762 | AL25: 0.039735 | AN25: -0.88639635 | AO25: 3.7265266 | AP25: 0.73660332
A26: 0.074 | B26: =A26/U26*3600*1000 -> 268.64033 | C26: 600 | D26: =F26/(0.02809*3600) -> 0.54854059 | E26: 27.73531 | F26: =E26*2 -> 55.470619 | G26: =AN26 + AO26*D26 + AP26*D26^2 -> 1.3793963 | H26: =H14 -> 4495.1437 | I26: 315 | J26: 295 | K26: =Q26*3600/(V26*W26*F26) -> 13.491928 | L26: 308.49133 | M26: =J26+K26 -> 308.49193 | N26: 314.20677 | O26: =I26-Q26/(T26*A26) -> 314.20677 | P26: =I26-N26 -> 0.79323447 | Q26: 245.27896 | R26: =Q26/(Abmessungen!F$17*S26) -> 35.837318 | S26: =((I26-L26)-(N26-J26))/LN((I26-L26)/(N26-J26)) -> 11.734382 | T26: =((AE26 + AF26*I26 +AG26*I26^2 + AH26*I26^3)+(AE26 + AF26*N26 + AG26*N26^2 + AH26*N26^3))/2 -> 4178.5636 | U26: =((AA26 + AB26*I26 + AC26*I26^2 + AD26*I26^3)+(AA26 + AB26*N26 + AC26*N26^2 + AD26*N26^3))/2 -> 991.66049 | V26: =((AK26 + AL26*J26)+(AK26 + AL26*L26))/2 -> 1007.1661 | W26: =((AI26 + AJ26*J26)+(AI26 + AJ26*L26))/2 -> 1.1714525 | AA26: -144.24373 | AB26: 10.5287 | AC26: -0.031256926 | AD26: 2.9456116e-05 | AE26: 17554.454 | AF26: -125.69235 | AG26: 0.39362054 | AH26: -0.00041079636 | AI26: 2.306401 | AJ26: -0.0037612753 | AK26: 995.1762 | AL26: 0.039735 | AN26: -0.88639635 | AO26: 3.7265266 | AP26: 0.73660332
... A110: 0.074 | B110: =A110/U110*3600*1000 -> 268.51715 | C110: 3000 | D110: =F110/(0.02809*3600) -> 3.2532173 | E110: 164.48917 | F110: =E110*2 -> 328.97835 | G110: =AN110 + AO110*D110 + AP110*D110^2 -> 19.032589 | H110: =H98 -> 4495.1437 | I110: 315 | J110: 295 | K110: =Q110*3600/(V110*W110*F110) -> 9.0633269 | L110: 304.06346 | M110: =J110+K110 -> 304.06333 | N110: 311.8176 | O110: =I110-Q110/(T110*A110) -> 311.8176 | P110: =I110-N110 -> 3.1823981 | Q110: 984.04856 | R110: =Q110/(Abmessungen!F$17*S110) -> 123.44808 | S110: =((I110-L110)-(N110-J110))/LN((I110-L110)/(N110-J110)) -> 13.666824 | T110: =((AE110 + AF110*I110 +AG110*I110^2 + AH110*I110^3)+(AE110 + AF110*N110 + AG110*N110^2 + AH110*N110^3))/2 -> 4178.5901 | U110: =((AA110 + AB110*I110 + AC110*I110^2 + AD110*I110^3)+(AA110 + AB110*N110 + AC110*N110^2 + AD110*N110^3))/2 -> 992.11541 | V110: =((AK110 + AL110*J110)+(AK110 + AL110*L110))/2 -> 1007.0781 | W110: =((AI110 + AJ110*J110)+(AI110 + AJ110*L110))/2 -> 1.1797797 | AA110: -144.24373 | AB110: 10.5287 | AC110: -0.031256926 | AD110: 2.9456116e-05 | AE110: 17554.454 | AF110: -125.69235 | AG110: 0.39362054 | AH110: -0.00041079636 | AI110: 2.306401 | AJ110: -0.0037612753 | AK110: 995.1762 | AL110: 0.039735 | AN110: -0.88639635 | AO110: 3.7265266 | AP110: 0.73660332
A114: 29 | D114: 50.8 | G114: 72.5 | J114: 94.4 | M114: 116.2 | O114: 137.9 | Q114: 159.7 | S114: 181.5
A115: 0.008 | D115: 0.014 | G115: 0.02 | J115: 0.026 | M115: 0.032 | O115: 0.038 | Q115: 0.044 | S115: 0.05
A118: rpm | B118: W | C118: K/W | D118: rpm | E118: W | F118: K/W | G118: rpm | H118: W | I118: K/W | J118: rpm | K118: W | L118: K/W | M118: W | N118: K/W | O118: W | P118: K/W | Q118: W | R118: K/W | S118: W | T118: K/W
A121: 0 | B121: =$Y$195 - $Z$195*EXP(-$AA$195*A121^$AB$195) -> 37.170269 | C121: =20/B121 -> 0.53806445
A122: 5 | B122: =$Y$195 - $Z$195*EXP(-$AA$195*A122^$AB$195) -> 37.674204 | C122: =20/B122 -> 0.53086723
A123: 10 | B123: =$Y$195 - $Z$195*EXP(-$AA$195*A123^$AB$195) -> 38.367339 | C123: =20/B123 -> 0.5212767
A124: 15 | B124: =$Y$195 - $Z$195*EXP(-$AA$195*A124^$AB$195) -> 39.155137 | C124: =20/B124 -> 0.51078866
A125: 20 | B125: =$Y$195 - $Z$195*EXP(-$AA$195*A125^$AB$195) -> 40.010836 | C125: =20/B125 -> 0.49986459
A126: 25 | B126: =$Y$195 - $Z$195*EXP(-$AA$195*A126^$AB$195) -> 40.920301 | C126: =20/B126 -> 0.48875496 | D126: 0 | E126: =$AC$195 - $AD$195*EXP(-$AE$195*D126^$AF$195) -> 49.246576 | F126: =20/E126 -> 0.40611961
A127: 30 | B127: =$Y$195 - $Z$195*EXP(-$AA$195*A127^$AB$195) -> 41.874555 | C127: =20/B127 -> 0.47761701 | D127: 5 | E127: =$AC$195 - $AD$195*EXP(-$AE$195*D127^$AF$195) -> 49.593668 | F127: =20/E127 -> 0.40327729
A128: 35 | B128: =$Y$195 - $Z$195*EXP(-$AA$195*A128^$AB$195) -> 42.867297 | C128: =20/B128 -> 0.46655613 | D128: 10 | E128: =$AC$195 - $AD$195*EXP(-$AE$195*D128^$AF$195) -> 50.111968 | F128: =20/E128 -> 0.39910626 | G128: 0 | H128: =$AG$195 - $AH$195*EXP(-$AI$195*G128^$AJ$195) -> 56.538867 | I128: =20/H128 -> 0.35373896
A129: 40 | B129: =$Y$195 - $Z$195*EXP(-$AA$195*A129^$AB$195) -> 43.893812 | C129: =20/B129 -> 0.45564509 | D129: 15 | E129: =$AC$195 - $AD$195*EXP(-$AE$195*D129^$AF$195) -> 50.722958 | F129: =20/E129 -> 0.39429877 | G129: 5 | H129: =$AG$195 - $AH$195*EXP(-$AI$195*G129^$AJ$195) -> 56.817692 | I129: =20/H129 -> 0.35200304
A130: 45 | B130: =$Y$195 - $Z$195*EXP(-$AA$195*A130^$AB$195) -> 44.950417 | C130: =20/B130 -> 0.44493469 | D130: 20 | E130: =$AC$195 - $AD$195*EXP(-$AE$195*D130^$AF$195) -> 51.402873 | F130: =20/E130 -> 0.38908331 | G130: 10 | H130: =$AG$195 - $AH$195*EXP(-$AI$195*G130^$AJ$195) -> 57.253724 | I130: =20/H130 -> 0.34932226
A131: 50 | B131: =$Y$195 - $Z$195*EXP(-$AA$195*A131^$AB$195) -> 46.034135 | C131: =20/B131 -> 0.43446021 | D131: 25 | E131: =$AC$195 - $AD$195*EXP(-$AE$195*D131^$AF$195) -> 52.138847 | F131: =20/E131 -> 0.38359115 | G131: 15 | H131: =$AG$195 - $AH$195*EXP(-$AI$195*G131^$AJ$195) -> 57.778586 | I131: =20/H131 -> 0.346149 | J131: 0 | K131: =$AK$195 - $AL$195*EXP(-$AM$195*J131^$AN$195) -> 61.44788 | L131: =20/K131 -> 0.32547909 | M131: =$AO$195 - $AP$195*EXP(-$AQ$195*J131^$AR$195) -> 65.005989 | N131: =20/M131 -> 0.30766396 | O131: =$AS$195 - $AT$195*EXP(-$AU$195*J131^$AV$195) -> 67.657573 | P131: =20/O131 -> 0.29560623 | Q131: =$AW$195 - $AX$195*EXP(-$AY$195*J131^$AZ$195) -> 69.703717 | R131: =20/Q131 -> 0.28692874 | S131: =$BA$195 - $BB$195*EXP(-$BC$195*J131^$BD$195) -> 71.320247 | T131: =20/S131 -> 0.28042528
A132: 100 | B132: =$Y$195 - $Z$195*EXP(-$AA$195*A132^$AB$195) -> 57.957634 | C132: =20/B132 -> 0.34507965 | D132: 75 | E132: =$AC$195 - $AD$195*EXP(-$AE$195*D132^$AF$195) -> 61.467003 | F132: =20/E132 -> 0.32537783 | G132: 65 | H132: =$AG$195 - $AH$195*EXP(-$AI$195*G132^$AJ$195) -> 65.58089 | I132: =20/H132 -> 0.30496689 | J132: 50 | K132: =$AK$195 - $AL$195*EXP(-$AM$195*J132^$AN$195) -> 67.315987 | L132: =20/K132 -> 0.29710624 | M132: =$AO$195 - $AP$195*EXP(-$AQ$195*J132^$AR$195) -> 70.633649 | N132: =20/M132 -> 0.28315117 | O132: =$AS$195 - $AT$195*EXP(-$AU$195*J132^$AV$195) -> 73.192006 | P132: =20/O132 -> 0.27325388 | Q132: =$AW$195 - $AX$195*EXP(-$AY$195*J132^$AZ$195) -> 75.230974 | R132: =20/Q132 -> 0.26584795 | S132: =$BA$195 - $BB$195*EXP(-$BC$195*J132^$BD$195) -> 76.897744 | T132: =20/S132 -> 0.26008565
A133: 150 | B133: =$Y$195 - $Z$195*EXP(-$AA$195*A133^$AB$195) -> 71.140955 | C133: =20/B133 -> 0.28113201 | D133: 125 | E133: =$AC$195 - $AD$195*EXP(-$AE$195*D133^$AF$195) -> 72.986951 | F133: =20/E133 -> 0.27402159 | G133: 115 | H133: =$AG$195 - $AH$195*EXP(-$AI$195*G133^$AJ$195) -> 76.027974 | I133: =20/H133 -> 0.26306107 | J133: 100 | K133: =$AK$195 - $AL$195*EXP(-$AM$195*J133^$AN$195) -> 76.664 | L133: =20/K133 -> 0.26087864 | M133: =$AO$195 - $AP$195*EXP(-$AQ$195*J133^$AR$195) -> 79.723231 | N133: =20/M133 -> 0.25086791 | O133: =$AS$195 - $AT$195*EXP(-$AU$195*J133^$AV$195) -> 82.162842 | P133: =20/O133 -> 0.24341904 | Q133: =$AW$195 - $AX$195*EXP(-$AY$195*J133^$AZ$195) -> 84.167293 | R133: =20/Q133 -> 0.23762199 | S133: =$BA$195 - $BB$195*EXP(-$BC$195*J133^$BD$195) -> 85.855925 | T133: =20/S133 -> 0.2329484
A134: 200 | B134: =$Y$195 - $Z$195*EXP(-$AA$195*A134^$AB$195) -> 85.02821 | C134: =20/B134 -> 0.23521605 | D134: 175 | E134: =$AC$195 - $AD$195*EXP(-$AE$195*D134^$AF$195) -> 85.846507 | F134: =20/E134 -> 0.23297395 | G134: 165 | H134: =$AG$195 - $AH$195*EXP(-$AI$195*G134^$AJ$195) -> 88.099057 | I134: =20/H134 -> 0.22701719 | J134: 150 | K134: =$AK$195 - $AL$195*EXP(-$AM$195*J134^$AN$195) -> 87.919212 | L134: =20/K134 -> 0.22748156 | M134: =$AO$195 - $AP$195*EXP(-$AQ$195*J134^$AR$195) -> 90.746053 | N134: =20/M134 -> 0.22039526 | O134: =$AS$195 - $AT$195*EXP(-$AU$195*J134^$AV$195) -> 93.066047 | P134: =20/O134 -> 0.21490114 | Q134: =$AW$195 - $AX$195*EXP(-$AY$195*J134^$AZ$195) -> 95.020946 | R134: =20/Q134 -> 0.21047991 | S134: =$BA$195 - $BB$195*EXP(-$BC$195*J134^$BD$195) -> 96.707548 | T134: =20/S134 -> 0.20680909
A135: 250 | B135: =$Y$195 - $Z$195*EXP(-$AA$195*A135^$AB$195) -> 99.309068 | C135: =20/B135 -> 0.20139148 | D135: 225 | E135: =$AC$195 - $AD$195*EXP(-$AE$195*D135^$AF$195) -> 99.628145 | F135: =20/E135 -> 0.20074649 | G135: 215 | H135: =$AG$195 - $AH$195*EXP(-$AI$195*G135^$AJ$195) -> 101.33428 | I135: =20/H135 -> 0.19736658 | J135: 200 | K135: =$AK$195 - $AL$195*EXP(-$AM$195*J135^$AN$195) -> 100.54005 | L135: =20/K135 -> 0.19892571 | M135: =$AO$195 - $AP$195*EXP(-$AQ$195*J135^$AR$195) -> 103.1724 | N135: =20/M135 -> 0.19385029 | O135: =$AS$195 - $AT$195*EXP(-$AU$195*J135^$AV$195) -> 105.3814 | P135: =20/O135 -> 0.1897868 | Q135: =$AW$195 - $AX$195*EXP(-$AY$195*J135^$AZ$195) -> 107.27937 | R135: =20/Q135 -> 0.18642914 | S135: =$BA$195 - $BB$195*EXP(-$BC$195*J135^$BD$195) -> 108.94653 | T135: =20/S135 -> 0.18357628
A136: 300 | B136: =$Y$195 - $Z$195*EXP(-$AA$195*A136^$AB$195) -> 113.77924 | C136: =20/B136 -> 0.17577899 | D136: 275 | E136: =$AC$195 - $AD$195*EXP(-$AE$195*D136^$AF$195) -> 114.0659 | F136: =20/E136 -> 0.17533725 | G136: 265 | H136: =$AG$195 - $AH$195*EXP(-$AI$195*G136^$AJ$195) -> 115.4468 | I136: =20/H136 -> 0.17323997 | J136: 250 | K136: =$AK$195 - $AL$195*EXP(-$AM$195*J136^$AN$195) -> 114.20717 | L136: =20/K136 -> 0.17512035 | M136: =$AO$195 - $AP$195*EXP(-$AQ$195*J136^$AR$195) -> 116.68942 | N136: =20/M136 -> 0.17139514 | O136: =$AS$195 - $AT$195*EXP(-$AU$195*J136^$AV$195) -> 118.80237 | P136: =20/O136 -> 0.16834682 | Q136: =$AW$195 - $AX$195*EXP(-$AY$195*J136^$AZ$195) -> 120.64187 | R136: =20/Q136 -> 0.16577993 | S136: =$BA$195 - $BB$195*EXP(-$BC$195*J136^$BD$195) -> 122.27776 | T136: =20/S136 -> 0.16356205
A137: 350 | B137: =$Y$195 - $Z$195*EXP(-$AA$195*A137^$AB$195) -> 128.29286 | C137: =20/B137 -> 0.15589332 | D137: 325 | E137: =$AC$195 - $AD$195*EXP(-$AE$195*D137^$AF$195) -> 128.96947 | F137: =20/E137 -> 0.15507547 | G137: 315 | H137: =$AG$195 - $AH$195*EXP(-$AI$195*G137^$AJ$195) -> 130.23225 | I137: =20/H137 -> 0.15357179 | J137: 300 | K137: =$AK$195 - $AL$195*EXP(-$AM$195*J137^$AN$195) -> 128.69859 | L137: =20/K137 -> 0.15540186 | M137: =$AO$195 - $AP$195*EXP(-$AQ$195*J137^$AR$195) -> 131.07929 | N137: =20/M137 -> 0.1525794 | O137: =$AS$195 - $AT$195*EXP(-$AU$195*J137^$AV$195) -> 133.11588 | P137: =20/O137 -> 0.15024503 | Q137: =$AW$195 - $AX$195*EXP(-$AY$195*J137^$AZ$195) -> 134.90023 | R137: =20/Q137 -> 0.14825771 | S137: =$BA$195 - $BB$195*EXP(-$BC$195*J137^$BD$195) -> 136.49783 | T137: =20/S137 -> 0.14652247
A138: 400 | B138: =$Y$195 - $Z$195*EXP(-$AA$195*A138^$AB$195) -> 142.7409 | C138: =20/B138 -> 0.14011401 | D138: 375 | E138: =$AC$195 - $AD$195*EXP(-$AE$195*D138^$AF$195) -> 144.19355 | F138: =20/E138 -> 0.13870246 | G138: 365 | H138: =$AG$195 - $AH$195*EXP(-$AI$195*G138^$AJ$195) -> 145.53397 | I138: =20/H138 -> 0.13742496 | J138: 350 | K138: =$AK$195 - $AL$195*EXP(-$AM$195*J138^$AN$195) -> 143.84603 | L138: =20/K138 -> 0.13903755 | M138: =$AO$195 - $AP$195*EXP(-$AQ$195*J138^$AR$195) -> 146.1766 | N138: =20/M138 -> 0.13682081 | O138: =$AS$195 - $AT$195*EXP(-$AU$195*J138^$AV$195) -> 148.16035 | P138: =20/O138 -> 0.13498888 | Q138: =$AW$195 - $AX$195*EXP(-$AY$195*J138^$AZ$195) -> 149.897 | R138: =20/Q138 -> 0.13342495 | S138: =$BA$195 - $BB$195*EXP(-$BC$195*J138^$BD$195) -> 151.45357 | T138: =20/S138 -> 0.13205367
A139: 450 | B139: =$Y$195 - $Z$195*EXP(-$AA$195*A139^$AB$195) -> 157.03968 | C139: =20/B139 -> 0.12735634 | D139: 425 | E139: =$AC$195 - $AD$195*EXP(-$AE$195*D139^$AF$195) -> 159.62264 | F139: =20/E139 -> 0.12529551 | G139: 415 | H139: =$AG$195 - $AH$195*EXP(-$AI$195*G139^$AJ$195) -> 161.22629 | I139: =20/H139 -> 0.12404925 | J139: 400 | K139: =$AK$195 - $AL$195*EXP(-$AM$195*J139^$AN$195) -> 159.51509 | L139: =20/K139 -> 0.12537999 | M139: =$AO$195 - $AP$195*EXP(-$AQ$195*J139^$AR$195) -> 161.84888 | N139: =20/M139 -> 0.12357206 | O139: =$AS$195 - $AT$195*EXP(-$AU$195*J139^$AV$195) -> 163.80644 | P139: =20/O139 -> 0.12209532 | Q139: =$AW$195 - $AX$195*EXP(-$AY$195*J139^$AZ$195) -> 165.50642 | R139: =20/Q139 -> 0.12084123 | S139: =$BA$195 - $BB$195*EXP(-$BC$195*J139^$BD$195) -> 167.02302 | T139: =20/S139 -> 0.11974397
A140: 500 | B140: =$Y$195 - $Z$195*EXP(-$AA$195*A140^$AB$195) -> 171.12398 | C140: =20/B140 -> 0.11687433 | D140: 475 | E140: =$AC$195 - $AD$195*EXP(-$AE$195*D140^$AF$195) -> 175.16245 | F140: =20/E140 -> 0.11417973 | G140: 465 | H140: =$AG$195 - $AH$195*EXP(-$AI$195*G140^$AJ$195) -> 177.20533 | I140: =20/H140 -> 0.11286342 | J140: 450 | K140: =$AK$195 - $AL$195*EXP(-$AM$195*J140^$AN$195) -> 175.59465 | L140: =20/K140 -> 0.11389869 | M140: =$AO$195 - $AP$195*EXP(-$AQ$195*J140^$AR$195) -> 177.98629 | N140: =20/M140 -> 0.1123682 | O140: =$AS$195 - $AT$195*EXP(-$AU$195*J140^$AV$195) -> 179.94687 | P140: =20/O140 -> 0.11114391 | Q140: =$AW$195 - $AX$195*EXP(-$AY$195*J140^$AZ$195) -> 181.62435 | R140: =20/Q140 -> 0.11011739 | S140: =$BA$195 - $BB$195*EXP(-$BC$195*J140^$BD$195) -> 183.10546 | T140: =20/S140 -> 0.10922667
A141: 550 | B141: =$Y$195 - $Z$195*EXP(-$AA$195*A141^$AB$195) -> 184.94262 | C141: =20/B141 -> 0.10814165 | D141: 525 | E141: =$AC$195 - $AD$195*EXP(-$AE$195*D141^$AF$195) -> 190.73467 | F141: =20/E141 -> 0.10485771 | G141: 515 | H141: =$AG$195 - $AH$195*EXP(-$AI$195*G141^$AJ$195) -> 193.38344 | I141: =20/H141 -> 0.10342147 | J141: 500 | K141: =$AK$195 - $AL$195*EXP(-$AM$195*J141^$AN$195) -> 191.99063 | L141: =20/K141 -> 0.10417175 | M141: =$AO$195 - $AP$195*EXP(-$AQ$195*J141^$AR$195) -> 194.49548 | N141: =20/M141 -> 0.10283015 | O141: =$AS$195 - $AT$195*EXP(-$AU$195*J141^$AV$195) -> 196.49042 | P141: =20/O141 -> 0.10178613 | Q141: =$AW$195 - $AX$195*EXP(-$AY$195*J141^$AZ$195) -> 198.1623 | R141: =20/Q141 -> 0.10092737 | S141: =$BA$195 - $BB$195*EXP(-$BC$195*J141^$BD$195) -> 199.61548 | T141: =20/S141 -> 0.10019263
A142: 600 | B142: =$Y$195 - $Z$195*EXP(-$AA$195*A142^$AB$195) -> 198.45545 | C142: =20/B142 -> 0.10077828 | D142: 575 | E142: =$AC$195 - $AD$195*EXP(-$AE$195*D142^$AF$195) -> 206.27348 | F142: =20/E142 -> 0.096958658 | G142: 565 | H142: =$AG$195 - $AH$195*EXP(-$AI$195*G142^$AJ$195) -> 209.6856 | I142: =20/H142 -> 0.095380893 | J142: 550 | K142: =$AK$195 - $AL$195*EXP(-$AM$195*J142^$AN$195) -> 208.62206 | L142: =20/K142 -> 0.095867137 | M142: =$AO$195 - $AP$195*EXP(-$AQ$195*J142^$AR$195) -> 211.29574 | N142: =20/M142 -> 0.094654062 | O142: =$AS$195 - $AT$195*EXP(-$AU$195*J142^$AV$195) -> 213.3581 | P142: =20/O142 -> 0.093739119 | Q142: =$AW$195 - $AX$195*EXP(-$AY$195*J142^$AZ$195) -> 215.0437 | R142: =20/Q142 -> 0.093004353 | S142: =$BA$195 - $BB$195*EXP(-$BC$195*J142^$BD$195) -> 216.47925 | T142: =20/S142 -> 0.092387606
... A194: 3200 | B194: =$Y$195 - $Z$195*EXP(-$AA$195*A194^$AB$195) -> 475.6406 | C194: =20/B194 -> 0.042048555 | D194: 3175 | E194: =$AC$195 - $AD$195*EXP(-$AE$195*D194^$AF$195) -> 630.58204 | F194: =20/E194 -> 0.031716729 | G194: 3165 | H194: =$AG$195 - $AH$195*EXP(-$AI$195*G194^$AJ$195) -> 725.60449 | I194: =20/H194 -> 0.027563225 | J194: 3150 | K194: =$AK$195 - $AL$195*EXP(-$AM$195*J194^$AN$195) -> 789.15301 | L194: =20/K194 -> 0.025343627 | M194: =$AO$195 - $AP$195*EXP(-$AQ$195*J194^$AR$195) -> 837.91918 | N194: =20/M194 -> 0.023868651 | O194: =$AS$195 - $AT$195*EXP(-$AU$195*J194^$AV$195) -> 876.57389 | P194: =20/O194 -> 0.022816103 | Q194: =$AW$195 - $AX$195*EXP(-$AY$195*J194^$AZ$195) -> 908.69802 | R194: =20/Q194 -> 0.022009512 | S194: =$BA$195 - $BB$195*EXP(-$BC$195*J194^$BD$195) -> 936.31942 | T194: =20/S194 -> 0.021360232
A195: 3250 | B195: =$Y$195 - $Z$195*EXP(-$AA$195*A195^$AB$195) -> 476.48906 | C195: =20/B195 -> 0.041973681 | D195: 3225 | E195: =$AC$195 - $AD$195*EXP(-$AE$195*D195^$AF$195) -> 632.74269 | F195: =20/E195 -> 0.031608425 | G195: 3215 | H195: =$AG$195 - $AH$195*EXP(-$AI$195*G195^$AJ$195) -> 728.88515 | I195: =20/H195 -> 0.027439165 | J195: 3200 | K195: =$AK$195 - $AL$195*EXP(-$AM$195*J195^$AN$195) -> 793.3771 | L195: =20/K195 -> 0.025208693 | M195: =$AO$195 - $AP$195*EXP(-$AQ$195*J195^$AR$195) -> 842.97922 | N195: =20/M195 -> 0.023725377 | O195: =$AS$195 - $AT$195*EXP(-$AU$195*J195^$AV$195) -> 882.43831 | P195: =20/O195 -> 0.022664474 | Q195: =$AW$195 - $AX$195*EXP(-$AY$195*J195^$AZ$195) -> 915.34784 | R195: =20/Q195 -> 0.021849617 | S195: =$BA$195 - $BB$195*EXP(-$BC$195*J195^$BD$195) -> 943.74414 | T195: =20/S195 -> 0.021192184 | Y195: 488.17799 | Z195: 451.00773 | AA195: 0.0001496939 | AB195: 1.2493088 | AC195: 668.9941 | AD195: 619.74753 | AE195: 6.7091101e-05 | AF195: 1.3186364 | AG195: 789.8553 | AH195: 733.31643 | AI195: 4.2698703e-05 | AJ195: 1.3587251 | AK195: 877.61945 | AL195: 816.17157 | AM195: 3.2257573e-05 | AN195: 1.3829855 | AO195: 951.30647 | AP195: 886.30048 | AQ195: 2.7235608e-05 | AR195: 1.3943697 | AS195: 1017.8614 | AT195: 950.20383 | AU195: 2.472661e-05 | AV195: 1.3969403 | AW195: 1081.5684 | AX195: 1011.8647 | AY195: 2.3434276e-05 | AZ195: 1.3942121 | BA195: 1145.3149 | BB195: 1073.9947 | BC195: 2.2826715e-05 | BD195: 1.3879727
A196: 3300 | B196: =$Y$195 - $Z$195*EXP(-$AA$195*A196^$AB$195) -> 477.28303 | C196: =20/B196 -> 0.041903857 | D196: 3275 | E196: =$AC$195 - $AD$195*EXP(-$AE$195*D196^$AF$195) -> 634.79162 | F196: =20/E196 -> 0.031506402 | G196: 3265 | H196: =$AG$195 - $AH$195*EXP(-$AI$195*G196^$AJ$195) -> 732.01525 | I196: =20/H196 -> 0.027321835 | J196: 3250 | K196: =$AK$195 - $AL$195*EXP(-$AM$195*J196^$AN$195) -> 797.42305 | L196: =20/K196 -> 0.02508079 | M196: =$AO$195 - $AP$195*EXP(-$AQ$195*J196^$AR$195) -> 847.84265 | N196: =20/M196 -> 0.023589283 | O196: =$AS$195 - $AT$195*EXP(-$AU$195*J196^$AV$195) -> 888.09355 | P196: =20/O196 -> 0.02252015 | Q196: =$AW$195 - $AX$195*EXP(-$AY$195*J196^$AZ$195) -> 921.78059 | R196: =20/Q196 -> 0.021697137 | S196: =$BA$195 - $BB$195*EXP(-$BC$195*J196^$BD$195) -> 950.94785 | T196: =20/S196 -> 0.021031647
A197: 3350 | B197: =$Y$195 - $Z$195*EXP(-$AA$195*A197^$AB$195) -> 478.02578 | C197: =20/B197 -> 0.041838748 | D197: 3325 | E197: =$AC$195 - $AD$195*EXP(-$AE$195*D197^$AF$195) -> 636.73389 | F197: =20/E197 -> 0.031410296 | G197: 3315 | H197: =$AG$195 - $AH$195*EXP(-$AI$195*G197^$AJ$195) -> 735.00059 | I197: =20/H197 -> 0.027210862 | J197: 3300 | K197: =$AK$195 - $AL$195*EXP(-$AM$195*J197^$AN$195) -> 801.29689 | L197: =20/K197 -> 0.024959538 | M197: =$AO$195 - $AP$195*EXP(-$AQ$195*J197^$AR$195) -> 852.51536 | N197: =20/M197 -> 0.023459988 | O197: =$AS$195 - $AT$195*EXP(-$AU$195*J197^$AV$195) -> 893.54511 | P197: =20/O197 -> 0.022382753 | Q197: =$AW$195 - $AX$195*EXP(-$AY$195*J197^$AZ$195) -> 928.00127 | R197: =20/Q197 -> 0.021551695 | S197: =$BA$195 - $BB$195*EXP(-$BC$195*J197^$BD$195) -> 957.93495 | T197: =20/S197 -> 0.020878244
A198: 3400 | B198: =$Y$195 - $Z$195*EXP(-$AA$195*A198^$AB$195) -> 478.72038 | C198: =20/B198 -> 0.041778042 | D198: 3375 | E198: =$AC$195 - $AD$195*EXP(-$AE$195*D198^$AF$195) -> 638.57441 | F198: =20/E198 -> 0.031319764 | G198: 3365 | H198: =$AG$195 - $AH$195*EXP(-$AI$195*G198^$AJ$195) -> 737.8468 | I198: =20/H198 -> 0.027105898 | J198: 3350 | K198: =$AK$195 - $AL$195*EXP(-$AM$195*J198^$AN$195) -> 805.00453 | L198: =20/K198 -> 0.024844581 | M198: =$AO$195 - $AP$195*EXP(-$AQ$195*J198^$AR$195) -> 857.00316 | N198: =20/M198 -> 0.023337137 | O198: =$AS$195 - $AT$195*EXP(-$AU$195*J198^$AV$195) -> 898.79849 | P198: =20/O198 -> 0.022251929 | Q198: =$AW$195 - $AX$195*EXP(-$AY$195*J198^$AZ$195) -> 934.01488 | R198: =20/Q198 -> 0.021412935 | S198: =$BA$195 - $BB$195*EXP(-$BC$195*J198^$BD$195) -> 964.70985 | T198: =20/S198 -> 0.020731622
A199: 3450 | B199: =$Y$195 - $Z$195*EXP(-$AA$195*A199^$AB$195) -> 479.36975 | C199: =20/B199 -> 0.041721448 | D199: 3425 | E199: =$AC$195 - $AD$195*EXP(-$AE$195*D199^$AF$195) -> 640.31789 | F199: =20/E199 -> 0.031234486 | G199: 3415 | H199: =$AG$195 - $AH$195*EXP(-$AI$195*G199^$AJ$195) -> 740.55937 | I199: =20/H199 -> 0.027006612 | J199: 3400 | K199: =$AK$195 - $AL$195*EXP(-$AM$195*J199^$AN$195) -> 808.55178 | L199: =20/K199 -> 0.024735583 | M199: =$AO$195 - $AP$195*EXP(-$AQ$195*J199^$AR$195) -> 861.31179 | N199: =20/M199 -> 0.023220395 | O199: =$AS$195 - $AT$195*EXP(-$AU$195*J199^$AV$195) -> 903.85912 | P199: =20/O199 -> 0.022127342 | Q199: =$AW$195 - $AX$195*EXP(-$AY$195*J199^$AZ$195) -> 939.82642 | R199: =20/Q199 -> 0.021280525 | S199: =$BA$195 - $BB$195*EXP(-$BC$195*J199^$BD$195) -> 971.27704 | T199: =20/S199 -> 0.020591447
A200: 3500 | B200: =$Y$195 - $Z$195*EXP(-$AA$195*A200^$AB$195) -> 479.97665 | C200: =20/B200 -> 0.041668694 | D200: 3475 | E200: =$AC$195 - $AD$195*EXP(-$AE$195*D200^$AF$195) -> 641.96889 | F200: =20/E200 -> 0.031154158 | G200: 3465 | H200: =$AG$195 - $AH$195*EXP(-$AI$195*G200^$AJ$195) -> 743.14364 | I200: =20/H200 -> 0.026912697 | J200: 3450 | K200: =$AK$195 - $AL$195*EXP(-$AM$195*J200^$AN$195) -> 811.94433 | L200: =20/K200 -> 0.024632231 | M200: =$AO$195 - $AP$195*EXP(-$AQ$195*J200^$AR$195) -> 865.44693 | N200: =20/M200 -> 0.023109447 | O200: =$AS$195 - $AT$195*EXP(-$AU$195*J200^$AV$195) -> 908.7324 | P200: =20/O200 -> 0.022008679 | Q200: =$AW$195 - $AX$195*EXP(-$AY$195*J200^$AZ$195) -> 945.44087 | R200: =20/Q200 -> 0.021154152 | S200: =$BA$195 - $BB$195*EXP(-$BC$195*J200^$BD$195) -> 977.64096 | T200: =20/S200 -> 0.020457408
A201: 3550 | B201: =$Y$195 - $Z$195*EXP(-$AA$195*A201^$AB$195) -> 480.54367 | C201: =20/B201 -> 0.041619526 | D201: 3525 | E201: =$AC$195 - $AD$195*EXP(-$AE$195*D201^$AF$195) -> 643.53177 | F201: =20/E201 -> 0.031078497 | G201: 3515 | H201: =$AG$195 - $AH$195*EXP(-$AI$195*G201^$AJ$195) -> 745.60481 | I201: =20/H201 -> 0.026823861 | J201: 3500 | K201: =$AK$195 - $AL$195*EXP(-$AM$195*J201^$AN$195) -> 815.18774 | L201: =20/K201 -> 0.024534226 | M201: =$AO$195 - $AP$195*EXP(-$AQ$195*J201^$AR$195) -> 869.41414 | N201: =20/M201 -> 0.023003997 | O201: =$AS$195 - $AT$195*EXP(-$AU$195*J201^$AV$195) -> 913.4237 | P201: =20/O201 -> 0.021895644 | Q201: =$AW$195 - $AX$195*EXP(-$AY$195*J201^$AZ$195) -> 950.8632 | R201: =20/Q201 -> 0.02103352 | S201: =$BA$195 - $BB$195*EXP(-$BC$195*J201^$BD$195) -> 983.80611 | T201: =20/S201 -> 0.020329209
A202: 3600 | B202: =$Y$195 - $Z$195*EXP(-$AA$195*A202^$AB$195) -> 481.07328 | C202: =20/B202 -> 0.041573708 | D202: 3575 | E202: =$AC$195 - $AD$195*EXP(-$AE$195*D202^$AF$195) -> 645.01074 | F202: =20/E202 -> 0.031007235 | G202: 3565 | H202: =$AG$195 - $AH$195*EXP(-$AI$195*G202^$AJ$195) -> 747.9479 | I202: =20/H202 -> 0.02673983 | J202: 3550 | K202: =$AK$195 - $AL$195*EXP(-$AM$195*J202^$AN$195) -> 818.28746 | L202: =20/K202 -> 0.024441289 | M202: =$AO$195 - $AP$195*EXP(-$AQ$195*J202^$AR$195) -> 873.21892 | N202: =20/M202 -> 0.022903764 | O202: =$AS$195 - $AT$195*EXP(-$AU$195*J202^$AV$195) -> 917.93829 | P202: =20/O202 -> 0.021787957 | Q202: =$AW$195 - $AX$195*EXP(-$AY$195*J202^$AZ$195) -> 956.09836 | R202: =20/Q202 -> 0.02091835 | S202: =$BA$195 - $BB$195*EXP(-$BC$195*J202^$BD$195) -> 989.77696 | T202: =20/S202 -> 0.020206573
A203: 3650 | B203: =$Y$195 - $Z$195*EXP(-$AA$195*A203^$AB$195) -> 481.5678 | C203: =20/B203 -> 0.041531016 | D203: 3625 | E203: =$AC$195 - $AD$195*EXP(-$AE$195*D203^$AF$195) -> 646.40985 | F203: =20/E203 -> 0.030940123 | G203: 3615 | H203: =$AG$195 - $AH$195*EXP(-$AI$195*G203^$AJ$195) -> 750.17782 | I203: =20/H203 -> 0.026660346 | J203: 3600 | K203: =$AK$195 - $AL$195*EXP(-$AM$195*J203^$AN$195) -> 821.24881 | L203: =20/K203 -> 0.024353155 | M203: =$AO$195 - $AP$195*EXP(-$AQ$195*J203^$AR$195) -> 876.86666 | N203: =20/M203 -> 0.022808485 | O203: =$AS$195 - $AT$195*EXP(-$AU$195*J203^$AV$195) -> 922.28142 | P203: =20/O203 -> 0.021685355 | Q203: =$AW$195 - $AX$195*EXP(-$AY$195*J203^$AZ$195) -> 961.15124 | R203: =20/Q203 -> 0.02080838 | S203: =$BA$195 - $BB$195*EXP(-$BC$195*J203^$BD$195) -> 995.55799 | T203: =20/S203 -> 0.020089237
A204: 3700 | B204: =$Y$195 - $Z$195*EXP(-$AA$195*A204^$AB$195) -> 482.02942 | C204: =20/B204 -> 0.041491243 | D204: 3675 | E204: =$AC$195 - $AD$195*EXP(-$AE$195*D204^$AF$195) -> 647.73296 | F204: =20/E204 -> 0.030876922 | G204: 3665 | H204: =$AG$195 - $AH$195*EXP(-$AI$195*G204^$AJ$195) -> 752.2993 | I204: =20/H204 -> 0.026585164 | J204: 3650 | K204: =$AK$195 - $AL$195*EXP(-$AM$195*J204^$AN$195) -> 824.07698 | L204: =20/K204 -> 0.024269577 | M204: =$AO$195 - $AP$195*EXP(-$AQ$195*J204^$AR$195) -> 880.36264 | N204: =20/M204 -> 0.022717911 | O204: =$AS$195 - $AT$195*EXP(-$AU$195*J204^$AV$195) -> 926.45823 | P204: =20/O204 -> 0.02158759 | Q204: =$AW$195 - $AX$195*EXP(-$AY$195*J204^$AZ$195) -> 966.02671 | R204: =20/Q204 -> 0.020703361 | S204: =$BA$195 - $BB$195*EXP(-$BC$195*J204^$BD$195) -> 1001.1537 | T204: =20/S204 -> 0.019976953
A205: 3750 | B205: =$Y$195 - $Z$195*EXP(-$AA$195*A205^$AB$195) -> 482.4602 | C205: =20/B205 -> 0.041454197 | D205: 3725 | E205: =$AC$195 - $AD$195*EXP(-$AE$195*D205^$AF$195) -> 648.98381 | F205: =20/E205 -> 0.03081741 | G205: 3715 | H205: =$AG$195 - $AH$195*EXP(-$AI$195*G205^$AJ$195) -> 754.31692 | I205: =20/H205 -> 0.026514054 | J205: 3700 | K205: =$AK$195 - $AL$195*EXP(-$AM$195*J205^$AN$195) -> 826.77703 | L205: =20/K205 -> 0.024190319 | M205: =$AO$195 - $AP$195*EXP(-$AQ$195*J205^$AR$195) -> 883.71205 | N205: =20/M205 -> 0.022631806 | O205: =$AS$195 - $AT$195*EXP(-$AU$195*J205^$AV$195) -> 930.4738 | P205: =20/O205 -> 0.021494426 | Q205: =$AW$195 - $AX$195*EXP(-$AY$195*J205^$AZ$195) -> 970.72959 | R205: =20/Q205 -> 0.02060306 | S205: =$BA$195 - $BB$195*EXP(-$BC$195*J205^$BD$195) -> 1006.5684 | T205: =20/S205 -> 0.019869489
A206: 3800 | B206: =$Y$195 - $Z$195*EXP(-$AA$195*A206^$AB$195) -> 482.86208 | C206: =20/B206 -> 0.041419695 | D206: 3775 | E206: =$AC$195 - $AD$195*EXP(-$AE$195*D206^$AF$195) -> 650.16596 | F206: =20/E206 -> 0.030761376 | G206: 3765 | H206: =$AG$195 - $AH$195*EXP(-$AI$195*G206^$AJ$195) -> 756.23514 | I206: =20/H206 -> 0.026446801 | J206: 3750 | K206: =$AK$195 - $AL$195*EXP(-$AM$195*J206^$AN$195) -> 829.35387 | L206: =20/K206 -> 0.024115158 | M206: =$AO$195 - $AP$195*EXP(-$AQ$195*J206^$AR$195) -> 886.91998 | N206: =20/M206 -> 0.022549949 | O206: =$AS$195 - $AT$195*EXP(-$AU$195*J206^$AV$195) -> 934.33315 | P206: =20/O206 -> 0.021405641 | Q206: =$AW$195 - $AX$195*EXP(-$AY$195*J206^$AZ$195) -> 975.26464 | R206: =20/Q206 -> 0.020507254 | S206: =$BA$195 - $BB$195*EXP(-$BC$195*J206^$BD$195) -> 1011.8066 | T206: =20/S206 -> 0.019766623
A207: 3850 | B207: =$Y$195 - $Z$195*EXP(-$AA$195*A207^$AB$195) -> 483.2369 | C207: =20/B207 -> 0.041387568 | D207: 3825 | E207: =$AC$195 - $AD$195*EXP(-$AE$195*D207^$AF$195) -> 651.28284 | F207: =20/E207 -> 0.030708624 | G207: 3815 | H207: =$AG$195 - $AH$195*EXP(-$AI$195*G207^$AJ$195) -> 758.05825 | I207: =20/H207 -> 0.026383197 | J207: 3800 | K207: =$AK$195 - $AL$195*EXP(-$AM$195*J207^$AN$195) -> 831.81232 | L207: =20/K207 -> 0.024043885 | M207: =$AO$195 - $AP$195*EXP(-$AQ$195*J207^$AR$195) -> 889.99137 | N207: =20/M207 -> 0.022472128 | O207: =$AS$195 - $AT$195*EXP(-$AU$195*J207^$AV$195) -> 938.04119 | P207: =20/O207 -> 0.021321025 | Q207: =$AW$195 - $AX$195*EXP(-$AY$195*J207^$AZ$195) -> 979.63659 | R207: =20/Q207 -> 0.020415734 | S207: =$BA$195 - $BB$195*EXP(-$BC$195*J207^$BD$195) -> 1016.8727 | T207: =20/S207 -> 0.019668144
... A251: 6050 | B251: =$Y$195 - $Z$195*EXP(-$AA$195*A251^$AB$195) -> 488.01724 | C251: =20/B251 -> 0.040982159 | D251: 6025 | E251: =$AC$195 - $AD$195*EXP(-$AE$195*D251^$AF$195) -> 668.03611 | F251: =20/E251 -> 0.029938501 | G251: 6015 | H251: =$AG$195 - $AH$195*EXP(-$AI$195*G251^$AJ$195) -> 787.69173 | I251: =20/H251 -> 0.025390644 | J251: 6000 | K251: =$AK$195 - $AL$195*EXP(-$AM$195*J251^$AN$195) -> 873.99533 | L251: =20/K251 -> 0.022883417 | M251: =$AO$195 - $AP$195*EXP(-$AQ$195*J251^$AR$195) -> 945.6249 | N251: =20/M251 -> 0.021150035 | O251: =$AS$195 - $AT$195*EXP(-$AU$195*J251^$AV$195) -> 1009.1174 | P251: =20/O251 -> 0.019819299 | Q251: =$AW$195 - $AX$195*EXP(-$AY$195*J251^$AZ$195) -> 1068.3648 | R251: =20/Q251 -> 0.018720197 | S251: =$BA$195 - $BB$195*EXP(-$BC$195*J251^$BD$195) -> 1125.7081 | T251: =20/S251 -> 0.017766595

Sheet Typ2 2x F12
A1: kg/s | B1: L/h | C1: min^-1 | D1: m/s | E1: m³/h | F1: Gesamt [m³/h] | G1: dp [Pa] | H1: dp Fluid [Pa] | I1: Tin [K] | J1: TAmbient [K] | K1: dTAmbient | L1: TAmbient2 | M1: TAmbient2 | N1: Tout_avg | O1: Tout_avg | P1: dTFluid [K] | Q1: P [W] | R1: k [W/m²*K] | S1: dTlog | T1: cp [J/kg * K] | U1: ρ [kg/m³] | V1: cp [J/kg * K] | W1: ρ [kg/m³]
A2: 0 | B2: =A2/U2*3600*1000 -> 0 | C2: 0 | D2: 0 | G2: 0 | H2: 0 | I2: 315 | J2: 295 | T2: 4180 | U2: 991.5 | AA2: -144.24373 | AB2: 10.5287 | AC2: -0.031256926 | AD2: 2.9456116e-05 | AE2: 17554.454 | AF2: -125.69235 | AG2: 0.39362054 | AH2: -0.00041079636 | AI2: 2.306401 | AJ2: -0.0037612753 | AK2: 995.1762 | AL2: 0.039735 | AN2: -0.88639635 | AO2: 3.7265266 | AP2: 0.73660332
A3: 0.008 | B3: =A3/U3*3600*1000 -> 29.040451 | C3: 0 | D3: 0 | G3: 0 | H3: 156.34022 | I3: 315 | J3: 295 | L3: 297.20729 | N3: 313.89953 | O3: =I3-Q3/(T3*A3) -> 313.89953 | P3: =I3-N3 -> 1.1004707 | Q3: 36.787103 | R3: =Q3/(Abmessungen!F$17*S3) -> 3.4388924 | S3: =((I3-L3)-(N3-J3))/LN((I3-L3)/(N3-J3)) -> 18.340553 | T3: =((AE3 + AF3*I3 +AG3*I3^2 + AH3*I3^3)+(AE3 + AF3*N3 + AG3*N3^2 + AH3*N3^3))/2 -> 4178.5646 | U3: =((AA3 + AB3*I3 + AC3*I3^2 + AD3*I3^3)+(AA3 + AB3*N3 + AC3*N3^2 + AD3*N3^3))/2 -> 991.72013 | V3: =((AK3 + AL3*J3)+(AK3 + AL3*L3))/2 -> 1006.9419 | W3: =((AI3 + AJ3*J3)+(AI3 + AJ3*L3))/2 -> 1.1926737 | AA3: -144.24373 | AB3: 10.5287 | AC3: -0.031256926 | AD3: 2.9456116e-05 | AE3: 17554.454 | AF3: -125.69235 | AG3: 0.39362054 | AH3: -0.00041079636 | AI3: 2.306401 | AJ3: -0.0037612753 | AK3: 995.1762 | AL3: 0.039735 | AN3: -0.88639635 | AO3: 3.7265266 | AP3: 0.73660332
A4: 0.014 | B4: =A4/U4*3600*1000 -> 50.823476 | C4: 0 | D4: 0 | G4: 0 | H4: 326.03512 | I4: 315 | J4: 295 | L4: 297.94433 | N4: 314.16965 | O4: =I4-Q4/(T4*A4) -> 314.16965 | P4: =I4-N4 -> 0.83034724 | Q4: 48.575224 | R4: =Q4/(Abmessungen!F$17*S4) -> 4.6032202 | S4: =((I4-L4)-(N4-J4))/LN((I4-L4)/(N4-J4)) -> 18.092079 | T4: =((AE4 + AF4*I4 +AG4*I4^2 + AH4*I4^3)+(AE4 + AF4*N4 + AG4*N4^2 + AH4*N4^3))/2 -> 4178.5637 | U4: =((AA4 + AB4*I4 + AC4*I4^2 + AD4*I4^3)+(AA4 + AB4*N4 + AC4*N4^2 + AD4*N4^3))/2 -> 991.66771 | V4: =((AK4 + AL4*J4)+(AK4 + AL4*L4))/2 -> 1006.9565 | W4: =((AI4 + AJ4*J4)+(AI4 + AJ4*L4))/2 -> 1.1912876 | AA4: -144.24373 | AB4: 10.5287 | AC4: -0.031256926 | AD4: 2.9456116e-05 | AE4: 17554.454 | AF4: -125.69235 | AG4: 0.39362054 | AH4: -0.00041079636 | AI4: 2.306401 | AJ4: -0.0037612753 | AK4: 995.1762 | AL4: 0.039735 | AN4: -0.88639635 | AO4: 3.7265266 | AP4: 0.73660332
A5: 0.02 | B5: =A5/U5*3600*1000 -> 72.607304 | C5: 0 | D5: 0 | G5: 0 | H5: 540.67838 | I5: 315 | J5: 295 | L5: 298.35294 | N5: 314.33359 | O5: =I5-Q5/(T5*A5) -> 314.33359 | P5: =I5-N5 -> 0.66641449 | Q5: 55.693103 | R5: =Q5/(Abmessungen!F$17*S5) -> 5.3174925 | S5: =((I5-L5)-(N5-J5))/LN((I5-L5)/(N5-J5)) -> 17.956842 | T5: =((AE5 + AF5*I5 +AG5*I5^2 + AH5*I5^3)+(AE5 + AF5*N5 + AG5*N5^2 + AH5*N5^3))/2 -> 4178.5633 | U5: =((AA5 + AB5*I5 + AC5*I5^2 + AD5*I5^3)+(AA5 + AB5*N5 + AC5*N5^2 + AD5*N5^3))/2 -> 991.63577 | V5: =((AK5 + AL5*J5)+(AK5 + AL5*L5))/2 -> 1006.9646 | W5: =((AI5 + AJ5*J5)+(AI5 + AJ5*L5))/2 -> 1.1905191 | AA5: -144.24373 | AB5: 10.5287 | AC5: -0.031256926 | AD5: 2.9456116e-05 | AE5: 17554.454 | AF5: -125.69235 | AG5: 0.39362054 | AH5: -0.00041079636 | AI5: 2.306401 | AJ5: -0.0037612753 | AK5: 995.1762 | AL5: 0.039735 | AN5: -0.88639635 | AO5: 3.7265266 | AP5: 0.73660332
A6: 0.026 | B6: =A6/U6*3600*1000 -> 94.391533 | C6: 0 | D6: 0 | G6: 0 | H6: 800.27 | I6: 315 | J6: 295 | L6: 298.63722 | N6: 314.44321 | O6: =I6-Q6/(T6*A6) -> 314.44321 | P6: =I6-N6 -> 0.55679082 | Q6: 60.491227 | R6: =Q6/(Abmessungen!F$17*S6) -> 5.8073371 | S6: =((I6-L6)-(N6-J6))/LN((I6-L6)/(N6-J6)) -> 17.858739 | T6: =((AE6 + AF6*I6 +AG6*I6^2 + AH6*I6^3)+(AE6 + AF6*N6 + AG6*N6^2 + AH6*N6^3))/2 -> 4178.5632 | U6: =((AA6 + AB6*I6 + AC6*I6^2 + AD6*I6^3)+(AA6 + AB6*N6 + AC6*N6^2 + AD6*N6^3))/2 -> 991.61436 | V6: =((AK6 + AL6*J6)+(AK6 + AL6*L6))/2 -> 1006.9703 | W6: =((AI6 + AJ6*J6)+(AI6 + AJ6*L6))/2 -> 1.1899845 | AA6: -144.24373 | AB6: 10.5287 | AC6: -0.031256926 | AD6: 2.9456116e-05 | AE6: 17554.454 | AF6: -125.69235 | AG6: 0.39362054 | AH6: -0.00041079636 | AI6: 2.306401 | AJ6: -0.0037612753 | AK6: 995.1762 | AL6: 0.039735 | AN6: -0.88639635 | AO6: 3.7265266 | AP6: 0.73660332
A7: 0.032 | B7: =A7/U7*3600*1000 -> 116.176 | C7: 0 | D7: 0 | G7: 0 | H7: 1104.81 | I7: 315 | J7: 295 | L7: 298.85549 | N7: 314.52189 | O7: =I7-Q7/(T7*A7) -> 314.52189 | P7: =I7-N7 -> 0.4781139 | Q7: 63.930533 | R7: =Q7/(Abmessungen!F$17*S7) -> 6.1647812 | S7: =((I7-L7)-(N7-J7))/LN((I7-L7)/(N7-J7)) -> 17.779768 | T7: =((AE7 + AF7*I7 +AG7*I7^2 + AH7*I7^3)+(AE7 + AF7*N7 + AG7*N7^2 + AH7*N7^3))/2 -> 4178.5632 | U7: =((AA7 + AB7*I7 + AC7*I7^2 + AD7*I7^3)+(AA7 + AB7*N7 + AC7*N7^2 + AD7*N7^3))/2 -> 991.59897 | V7: =((AK7 + AL7*J7)+(AK7 + AL7*L7))/2 -> 1006.9746 | W7: =((AI7 + AJ7*J7)+(AI7 + AJ7*L7))/2 -> 1.189574 | AA7: -144.24373 | AB7: 10.5287 | AC7: -0.031256926 | AD7: 2.9456116e-05 | AE7: 17554.454 | AF7: -125.69235 | AG7: 0.39362054 | AH7: -0.00041079636 | AI7: 2.306401 | AJ7: -0.0037612753 | AK7: 995.1762 | AL7: 0.039735 | AN7: -0.88639635 | AO7: 3.7265266 | AP7: 0.73660332
A8: 0.038 | B8: =A8/U8*3600*1000 -> 137.96061 | C8: 0 | D8: 0 | G8: 0 | H8: 1454.2983 | I8: 315 | J8: 295 | L8: 299.03273 | N8: 314.58121 | O8: =I8-Q8/(T8*A8) -> 314.58121 | P8: =I8-N8 -> 0.41878591 | Q8: 66.497088 | R8: =Q8/(Abmessungen!F$17*S8) -> 6.4365007 | S8: =((I8-L8)-(N8-J8))/LN((I8-L8)/(N8-J8)) -> 17.712841 | T8: =((AE8 + AF8*I8 +AG8*I8^2 + AH8*I8^3)+(AE8 + AF8*N8 + AG8*N8^2 + AH8*N8^3))/2 -> 4178.5632 | U8: =((AA8 + AB8*I8 + AC8*I8^2 + AD8*I8^3)+(AA8 + AB8*N8 + AC8*N8^2 + AD8*N8^3))/2 -> 991.58735 | V8: =((AK8 + AL8*J8)+(AK8 + AL8*L8))/2 -> 1006.9781 | W8: =((AI8 + AJ8*J8)+(AI8 + AJ8*L8))/2 -> 1.1892407 | AA8: -144.24373 | AB8: 10.5287 | AC8: -0.031256926 | AD8: 2.9456116e-05 | AE8: 17554.454 | AF8: -125.69235 | AG8: 0.39362054 | AH8: -0.00041079636 | AI8: 2.306401 | AJ8: -0.0037612753 | AK8: 995.1762 | AL8: 0.039735 | AN8: -0.88639635 | AO8: 3.7265266 | AP8: 0.73660332
A9: 0.044 | B9: =A9/U9*3600*1000 -> 159.74533 | C9: 0 | D9: 0 | G9: 0 | H9: 1848.735 | I9: 315 | J9: 295 | L9: 299.18196 | N9: 314.6276 | O9: =I9-Q9/(T9*A9) -> 314.6276 | P9: =I9-N9 -> 0.37240085 | Q9: 68.468421 | R9: =Q9/(Abmessungen!F$17*S9) -> 6.6492626 | S9: =((I9-L9)-(N9-J9))/LN((I9-L9)/(N9-J9)) -> 17.654371 | T9: =((AE9 + AF9*I9 +AG9*I9^2 + AH9*I9^3)+(AE9 + AF9*N9 + AG9*N9^2 + AH9*N9^3))/2 -> 4178.5632 | U9: =((AA9 + AB9*I9 + AC9*I9^2 + AD9*I9^3)+(AA9 + AB9*N9 + AC9*N9^2 + AD9*N9^3))/2 -> 991.57826 | V9: =((AK9 + AL9*J9)+(AK9 + AL9*L9))/2 -> 1006.9811 | W9: =((AI9 + AJ9*J9)+(AI9 + AJ9*L9))/2 -> 1.18896 | AA9: -144.24373 | AB9: 10.5287 | AC9: -0.031256926 | AD9: 2.9456116e-05 | AE9: 17554.454 | AF9: -125.69235 | AG9: 0.39362054 | AH9: -0.00041079636 | AI9: 2.306401 | AJ9: -0.0037612753 | AK9: 995.1762 | AL9: 0.039735 | AN9: -0.88639635 | AO9: 3.7265266 | AP9: 0.73660332
A10: 0.05 | B10: =A10/U10*3600*1000 -> 181.53013 | C10: 0 | D10: 0 | G10: 0 | H10: 2288.12 | I10: 315 | J10: 295 | L10: 299.31084 | N10: 314.66488 | O10: =I10-Q10/(T10*A10) -> 314.66488 | P10: =I10-N10 -> 0.33512056 | Q10: 70.016122 | R10: =Q10/(Abmessungen!F$17*S10) -> 6.8197001 | S10: =((I10-L10)-(N10-J10))/LN((I10-L10)/(N10-J10)) -> 17.602251 | T10: =((AE10 + AF10*I10 +AG10*I10^2 + AH10*I10^3)+(AE10 + AF10*N10 + AG10*N10^2 + AH10*N10^3))/2 -> 4178.5632 | U10: =((AA10 + AB10*I10 + AC10*I10^2 + AD10*I10^3)+(AA10 + AB10*N10 + AC10*N10^2 + AD10*N10^3))/2 -> 991.57094 | V10: =((AK10 + AL10*J10)+(AK10 + AL10*L10))/2 -> 1006.9837 | W10: =((AI10 + AJ10*J10)+(AI10 + AJ10*L10))/2 -> 1.1887177 | AA10: -144.24373 | AB10: 10.5287 | AC10: -0.031256926 | AD10: 2.9456116e-05 | AE10: 17554.454 | AF10: -125.69235 | AG10: 0.39362054 | AH10: -0.00041079636 | AI10: 2.306401 | AJ10: -0.0037612753 | AK10: 995.1762 | AL10: 0.039735 | AN10: -0.88639635 | AO10: 3.7265266 | AP10: 0.73660332
A11: 0.056 | B11: =A11/U11*3600*1000 -> 203.31498 | C11: 0 | D11: 0 | G11: 0 | H11: 2772.4534 | I11: 315 | J11: 295 | L11: 299.42428 | N11: 314.6955 | O11: =I11-Q11/(T11*A11) -> 314.6955 | P11: =I11-N11 -> 0.30449838 | Q11: 71.252481 | R11: =Q11/(Abmessungen!F$17*S11) -> 6.9587577 | S11: =((I11-L11)-(N11-J11))/LN((I11-L11)/(N11-J11)) -> 17.555116 | T11: =((AE11 + AF11*I11 +AG11*I11^2 + AH11*I11^3)+(AE11 + AF11*N11 + AG11*N11^2 + AH11*N11^3))/2 -> 4178.5632 | U11: =((AA11 + AB11*I11 + AC11*I11^2 + AD11*I11^3)+(AA11 + AB11*N11 + AC11*N11^2 + AD11*N11^3))/2 -> 991.56493 | V11: =((AK11 + AL11*J11)+(AK11 + AL11*L11))/2 -> 1006.9859 | W11: =((AI11 + AJ11*J11)+(AI11 + AJ11*L11))/2 -> 1.1885043 | AA11: -144.24373 | AB11: 10.5287 | AC11: -0.031256926 | AD11: 2.9456116e-05 | AE11: 17554.454 | AF11: -125.69235 | AG11: 0.39362054 | AH11: -0.00041079636 | AI11: 2.306401 | AJ11: -0.0037612753 | AK11: 995.1762 | AL11: 0.039735 | AN11: -0.88639635 | AO11: 3.7265266 | AP11: 0.73660332
A12: 0.062 | B12: =A12/U12*3600*1000 -> 225.09986 | C12: 0 | D12: 0 | G12: 0 | H12: 3301.7351 | I12: 315 | J12: 295 | L12: 299.52558 | N12: 314.7211 | O12: =I12-Q12/(T12*A12) -> 314.7211 | P12: =I12-N12 -> 0.27889736 | Q12: 72.254195 | R12: =Q12/(Abmessungen!F$17*S12) -> 7.0739524 | S12: =((I12-L12)-(N12-J12))/LN((I12-L12)/(N12-J12)) -> 17.512025 | T12: =((AE12 + AF12*I12 +AG12*I12^2 + AH12*I12^3)+(AE12 + AF12*N12 + AG12*N12^2 + AH12*N12^3))/2 -> 4178.5632 | U12: =((AA12 + AB12*I12 + AC12*I12^2 + AD12*I12^3)+(AA12 + AB12*N12 + AC12*N12^2 + AD12*N12^3))/2 -> 991.5599 | V12: =((AK12 + AL12*J12)+(AK12 + AL12*L12))/2 -> 1006.9879 | W12: =((AI12 + AJ12*J12)+(AI12 + AJ12*L12))/2 -> 1.1883138 | AA12: -144.24373 | AB12: 10.5287 | AC12: -0.031256926 | AD12: 2.9456116e-05 | AE12: 17554.454 | AF12: -125.69235 | AG12: 0.39362054 | AH12: -0.00041079636 | AI12: 2.306401 | AJ12: -0.0037612753 | AK12: 995.1762 | AL12: 0.039735 | AN12: -0.88639635 | AO12: 3.7265266 | AP12: 0.73660332
A13: 0.068 | B13: =A13/U13*3600*1000 -> 246.88478 | C13: 0 | D13: 0 | G13: 0 | H13: 3875.9652 | I13: 315 | J13: 295 | L13: 299.6171 | N13: 314.74282 | O13: =I13-Q13/(T13*A13) -> 314.74282 | P13: =I13-N13 -> 0.257179 | Q13: 73.075433 | R13: =Q13/(Abmessungen!F$17*S13) -> 7.1706242 | S13: =((I13-L13)-(N13-J13))/LN((I13-L13)/(N13-J13)) -> 17.472291 | T13: =((AE13 + AF13*I13 +AG13*I13^2 + AH13*I13^3)+(AE13 + AF13*N13 + AG13*N13^2 + AH13*N13^3))/2 -> 4178.5632 | U13: =((AA13 + AB13*I13 + AC13*I13^2 + AD13*I13^3)+(AA13 + AB13*N13 + AC13*N13^2 + AD13*N13^3))/2 -> 991.55564 | V13: =((AK13 + AL13*J13)+(AK13 + AL13*L13))/2 -> 1006.9898 | W13: =((AI13 + AJ13*J13)+(AI13 + AJ13*L13))/2 -> 1.1881417 | AA13: -144.24373 | AB13: 10.5287 | AC13: -0.031256926 | AD13: 2.9456116e-05 | AE13: 17554.454 | AF13: -125.69235 | AG13: 0.39362054 | AH13: -0.00041079636 | AI13: 2.306401 | AJ13: -0.0037612753 | AK13: 995.1762 | AL13: 0.039735 | AN13: -0.88639635 | AO13: 3.7265266 | AP13: 0.73660332
A14: 0.074 | B14: =A14/U14*3600*1000 -> 268.66973 | C14: 0 | D14: 0 | G14: 0 | H14: 4495.1437 | I14: 315 | J14: 295 | L14: 299.70056 | N14: 314.76147 | O14: =I14-Q14/(T14*A14) -> 314.76147 | P14: =I14-N14 -> 0.23852601 | Q14: 73.755507 | R14: =Q14/(Abmessungen!F$17*S14) -> 7.2526707 | S14: =((I14-L14)-(N14-J14))/LN((I14-L14)/(N14-J14)) -> 17.4354 | T14: =((AE14 + AF14*I14 +AG14*I14^2 + AH14*I14^3)+(AE14 + AF14*N14 + AG14*N14^2 + AH14*N14^3))/2 -> 4178.5633 | U14: =((AA14 + AB14*I14 + AC14*I14^2 + AD14*I14^3)+(AA14 + AB14*N14 + AC14*N14^2 + AD14*N14^3))/2 -> 991.55197 | V14: =((AK14 + AL14*J14)+(AK14 + AL14*L14))/2 -> 1006.9914 | W14: =((AI14 + AJ14*J14)+(AI14 + AJ14*L14))/2 -> 1.1879847 | AA14: -144.24373 | AB14: 10.5287 | AC14: -0.031256926 | AD14: 2.9456116e-05 | AE14: 17554.454 | AF14: -125.69235 | AG14: 0.39362054 | AH14: -0.00041079636 | AI14: 2.306401 | AJ14: -0.0037612753 | AK14: 995.1762 | AL14: 0.039735 | AN14: -0.88639635 | AO14: 3.7265266 | AP14: 0.73660332
A15: 0.008 | B15: =A15/U15*3600*1000 -> 29.010511 | C15: 600 | D15: =F15/(0.02809*3600) -> 0.63636927 | E15: 32.176103 | F15: =E15*2 -> 64.352206 | G15: =AN15 + AO15*D15 + AP15*D15^2 -> 1.7833499 | H15: =H3 -> 156.34022 | I15: 315 | J15: 295 | K15: =Q15*3600/(V15*W15*F15) -> 10.545241 | L15: 305.54538 | M15: =J15+K15 -> 305.54524 | N15: 308.31606 | O15: =I15-Q15/(T15*A15) -> 308.31606 | P15: =I15-N15 -> 6.6839436 | Q15: 223.44317 | R15: =Q15/(Abmessungen!F$17*S15) -> 33.976019 | S15: =((I15-L15)-(N15-J15))/LN((I15-L15)/(N15-J15)) -> 11.27535 | T15: =((AE15 + AF15*I15 +AG15*I15^2 + AH15*I15^3)+(AE15 + AF15*N15 + AG15*N15^2 + AH15*N15^3))/2 -> 4178.73 | U15: =((AA15 + AB15*I15 + AC15*I15^2 + AD15*I15^3)+(AA15 + AB15*N15 + AC15*N15^2 + AD15*N15^3))/2 -> 992.74363 | V15: =((AK15 + AL15*J15)+(AK15 + AL15*L15))/2 -> 1007.1075 | W15: =((AI15 + AJ15*J15)+(AI15 + AJ15*L15))/2 -> 1.1769927 | AA15: -144.24373 | AB15: 10.5287 | AC15: -0.031256926 | AD15: 2.9456116e-05 | AE15: 17554.454 | AF15: -125.69235 | AG15: 0.39362054 | AH15: -0.00041079636 | AI15: 2.306401 | AJ15: -0.0037612753 | AK15: 995.1762 | AL15: 0.039735 | AN15: -0.88639635 | AO15: 3.7265266 | AP15: 0.73660332
A16: 0.014 | B16: =A16/U16*3600*1000 -> 50.791156 | C16: 600 | D16: =F16/(0.02809*3600) -> 0.63636927 | E16: 32.176103 | F16: =E16*2 -> 64.352206 | G16: =AN16 + AO16*D16 + AP16*D16^2 -> 1.7833499 | H16: =H4 -> 326.03512 | I16: 315 | J16: 295 | K16: =Q16*3600/(V16*W16*F16) -> 11.552059 | L16: 306.55221 | M16: =J16+K16 -> 306.55206 | N16: 310.82248 | O16: =I16-Q16/(T16*A16) -> 310.82248 | P16: =I16-N16 -> 4.1775233 | Q16: 244.38772 | R16: =Q16/(Abmessungen!F$17*S16) -> 35.653596 | S16: =((I16-L16)-(N16-J16))/LN((I16-L16)/(N16-J16)) -> 11.751991 | T16: =((AE16 + AF16*I16 +AG16*I16^2 + AH16*I16^3)+(AE16 + AF16*N16 + AG16*N16^2 + AH16*N16^3))/2 -> 4178.6159 | U16: =((AA16 + AB16*I16 + AC16*I16^2 + AD16*I16^3)+(AA16 + AB16*N16 + AC16*N16^2 + AD16*N16^3))/2 -> 992.29873 | V16: =((AK16 + AL16*J16)+(AK16 + AL16*L16))/2 -> 1007.1275 | W16: =((AI16 + AJ16*J16)+(AI16 + AJ16*L16))/2 -> 1.1750993 | AA16: -144.24373 | AB16: 10.5287 | AC16: -0.031256926 | AD16: 2.9456116e-05 | AE16: 17554.454 | AF16: -125.69235 | AG16: 0.39362054 | AH16: -0.00041079636 | AI16: 2.306401 | AJ16: -0.0037612753 | AK16: 995.1762 | AL16: 0.039735 | AN16: -0.88639635 | AO16: 3.7265266 | AP16: 0.73660332
A17: 0.02 | B17: =A17/U17*3600*1000 -> 72.574145 | C17: 600 | D17: =F17/(0.02809*3600) -> 0.63636927 | E17: 32.176103 | F17: =E17*2 -> 64.352206 | G17: =AN17 + AO17*D17 + AP17*D17^2 -> 1.7833499 | H17: =H5 -> 540.67838 | I17: 315 | J17: 295 | K17: =Q17*3600/(V17*W17*F17) -> 12.017282 | L17: 307.01743 | M17: =J17+K17 -> 307.01728 | N17: 311.96018 | O17: =I17-Q17/(T17*A17) -> 311.96018 | P17: =I17-N17 -> 3.0398157 | Q17: 254.0427 | R17: =Q17/(Abmessungen!F$17*S17) -> 36.561733 | S17: =((I17-L17)-(N17-J17))/LN((I17-L17)/(N17-J17)) -> 11.912842 | T17: =((AE17 + AF17*I17 +AG17*I17^2 + AH17*I17^3)+(AE17 + AF17*N17 + AG17*N17^2 + AH17*N17^3))/2 -> 4178.5872 | U17: =((AA17 + AB17*I17 + AC17*I17^2 + AD17*I17^3)+(AA17 + AB17*N17 + AC17*N17^2 + AD17*N17^3))/2 -> 992.08884 | V17: =((AK17 + AL17*J17)+(AK17 + AL17*L17))/2 -> 1007.1368 | W17: =((AI17 + AJ17*J17)+(AI17 + AJ17*L17))/2 -> 1.1742244 | AA17: -144.24373 | AB17: 10.5287 | AC17: -0.031256926 | AD17: 2.9456116e-05 | AE17: 17554.454 | AF17: -125.69235 | AG17: 0.39362054 | AH17: -0.00041079636 | AI17: 2.306401 | AJ17: -0.0037612753 | AK17: 995.1762 | AL17: 0.039735 | AN17: -0.88639635 | AO17: 3.7265266 | AP17: 0.73660332
A18: 0.026 | B18: =A18/U18*3600*1000 -> 94.357981 | C18: 600 | D18: =F18/(0.02809*3600) -> 0.63636927 | E18: 32.176103 | F18: =E18*2 -> 64.352206 | G18: =AN18 + AO18*D18 + AP18*D18^2 -> 1.7833499 | H18: =H6 -> 800.27 | I18: 315 | J18: 295 | K18: =Q18*3600/(V18*W18*F18) -> 12.292261 | L18: 307.29241 | M18: =J18+K18 -> 307.29226 | N18: 312.60921 | O18: =I18-Q18/(T18*A18) -> 312.60921 | P18: =I18-N18 -> 2.3907911 | Q18: 259.74268 | R18: =Q18/(Abmessungen!F$17*S18) -> 37.159203 | S18: =((I18-L18)-(N18-J18))/LN((I18-L18)/(N18-J18)) -> 11.984291 | T18: =((AE18 + AF18*I18 +AG18*I18^2 + AH18*I18^3)+(AE18 + AF18*N18 + AG18*N18^2 + AH18*N18^3))/2 -> 4178.5762 | U18: =((AA18 + AB18*I18 + AC18*I18^2 + AD18*I18^3)+(AA18 + AB18*N18 + AC18*N18^2 + AD18*N18^3))/2 -> 991.96696 | V18: =((AK18 + AL18*J18)+(AK18 + AL18*L18))/2 -> 1007.1422 | W18: =((AI18 + AJ18*J18)+(AI18 + AJ18*L18))/2 -> 1.1737072 | AA18: -144.24373 | AB18: 10.5287 | AC18: -0.031256926 | AD18: 2.9456116e-05 | AE18: 17554.454 | AF18: -125.69235 | AG18: 0.39362054 | AH18: -0.00041079636 | AI18: 2.306401 | AJ18: -0.0037612753 | AK18: 995.1762 | AL18: 0.039735 | AN18: -0.88639635 | AO18: 3.7265266 | AP18: 0.73660332
A19: 0.032 | B19: =A19/U19*3600*1000 -> 116.1422 | C19: 600 | D19: =F19/(0.02809*3600) -> 0.63636927 | E19: 32.176103 | F19: =E19*2 -> 64.352206 | G19: =AN19 + AO19*D19 + AP19*D19^2 -> 1.7833499 | H19: =H7 -> 1104.81 | I19: 315 | J19: 295 | K19: =Q19*3600/(V19*W19*F19) -> 12.483104 | L19: 307.48325 | M19: =J19+K19 -> 307.4831 | N19: 313.02792 | O19: =I19-Q19/(T19*A19) -> 313.02792 | P19: =I19-N19 -> 1.9720829 | Q19: 263.69563 | R19: =Q19/(Abmessungen!F$17*S19) -> 37.626182 | S19: =((I19-L19)-(N19-J19))/LN((I19-L19)/(N19-J19)) -> 12.015676 | T19: =((AE19 + AF19*I19 +AG19*I19^2 + AH19*I19^3)+(AE19 + AF19*N19 + AG19*N19^2 + AH19*N19^3))/2 -> 4178.5711 | U19: =((AA19 + AB19*I19 + AC19*I19^2 + AD19*I19^3)+(AA19 + AB19*N19 + AC19*N19^2 + AD19*N19^3))/2 -> 991.88752 | V19: =((AK19 + AL19*J19)+(AK19 + AL19*L19))/2 -> 1007.146 | W19: =((AI19 + AJ19*J19)+(AI19 + AJ19*L19))/2 -> 1.1733483 | AA19: -144.24373 | AB19: 10.5287 | AC19: -0.031256926 | AD19: 2.9456116e-05 | AE19: 17554.454 | AF19: -125.69235 | AG19: 0.39362054 | AH19: -0.00041079636 | AI19: 2.306401 | AJ19: -0.0037612753 | AK19: 995.1762 | AL19: 0.039735 | AN19: -0.88639635 | AO19: 3.7265266 | AP19: 0.73660332
A20: 0.038 | B20: =A20/U20*3600*1000 -> 137.92667 | C20: 600 | D20: =F20/(0.02809*3600) -> 0.63636927 | E20: 32.176103 | F20: =E20*2 -> 64.352206 | G20: =AN20 + AO20*D20 + AP20*D20^2 -> 1.7833499 | H20: =H8 -> 1454.2983 | I20: 315 | J20: 295 | K20: =Q20*3600/(V20*W20*F20) -> 12.616435 | L20: 307.61659 | M20: =J20+K20 -> 307.61644 | N20: 313.32191 | O20: =I20-Q20/(T20*A20) -> 313.32191 | P20: =I20-N20 -> 1.678086 | Q20: 266.45589 | R20: =Q20/(Abmessungen!F$17*S20) -> 37.957783 | S20: =((I20-L20)-(N20-J20))/LN((I20-L20)/(N20-J20)) -> 12.035383 | T20: =((AE20 + AF20*I20 +AG20*I20^2 + AH20*I20^3)+(AE20 + AF20*N20 + AG20*N20^2 + AH20*N20^3))/2 -> 4178.5683 | U20: =((AA20 + AB20*I20 + AC20*I20^2 + AD20*I20^3)+(AA20 + AB20*N20 + AC20*N20^2 + AD20*N20^3))/2 -> 991.83136 | V20: =((AK20 + AL20*J20)+(AK20 + AL20*L20))/2 -> 1007.1487 | W20: =((AI20 + AJ20*J20)+(AI20 + AJ20*L20))/2 -> 1.1730976 | AA20: -144.24373 | AB20: 10.5287 | AC20: -0.031256926 | AD20: 2.9456116e-05 | AE20: 17554.454 | AF20: -125.69235 | AG20: 0.39362054 | AH20: -0.00041079636 | AI20: 2.306401 | AJ20: -0.0037612753 | AK20: 995.1762 | AL20: 0.039735 | AN20: -0.88639635 | AO20: 3.7265266 | AP20: 0.73660332
A21: 0.044 | B21: =A21/U21*3600*1000 -> 159.71129 | C21: 600 | D21: =F21/(0.02809*3600) -> 0.63636927 | E21: 32.176103 | F21: =E21*2 -> 64.352206 | G21: =AN21 + AO21*D21 + AP21*D21^2 -> 1.7833499 | H21: =H9 -> 1848.735 | I21: 315 | J21: 295 | K21: =Q21*3600/(V21*W21*F21) -> 12.718323 | L21: 307.71848 | M21: =J21+K21 -> 307.71832 | N21: 313.53928 | O21: =I21-Q21/(T21*A21) -> 313.53928 | P21: =I21-N21 -> 1.4607249 | Q21: 268.5644 | R21: =Q21/(Abmessungen!F$17*S21) -> 38.223945 | S21: =((I21-L21)-(N21-J21))/LN((I21-L21)/(N21-J21)) -> 12.046153 | T21: =((AE21 + AF21*I21 +AG21*I21^2 + AH21*I21^3)+(AE21 + AF21*N21 + AG21*N21^2 + AH21*N21^3))/2 -> 4178.5666 | U21: =((AA21 + AB21*I21 + AC21*I21^2 + AD21*I21^3)+(AA21 + AB21*N21 + AC21*N21^2 + AD21*N21^3))/2 -> 991.78964 | V21: =((AK21 + AL21*J21)+(AK21 + AL21*L21))/2 -> 1007.1507 | W21: =((AI21 + AJ21*J21)+(AI21 + AJ21*L21))/2 -> 1.1729059 | AA21: -144.24373 | AB21: 10.5287 | AC21: -0.031256926 | AD21: 2.9456116e-05 | AE21: 17554.454 | AF21: -125.69235 | AG21: 0.39362054 | AH21: -0.00041079636 | AI21: 2.306401 | AJ21: -0.0037612753 | AK21: 995.1762 | AL21: 0.039735 | AN21: -0.88639635 | AO21: 3.7265266 | AP21: 0.73660332
A22: 0.05 | B22: =A22/U22*3600*1000 -> 181.49599 | C22: 600 | D22: =F22/(0.02809*3600) -> 0.63636927 | E22: 32.176103 | F22: =E22*2 -> 64.352206 | G22: =AN22 + AO22*D22 + AP22*D22^2 -> 1.7833499 | H22: =H10 -> 2288.12 | I22: 315 | J22: 295 | K22: =Q22*3600/(V22*W22*F22) -> 12.79922 | L22: 307.79939 | M22: =J22+K22 -> 307.79922 | N22: 313.70655 | O22: =I22-Q22/(T22*A22) -> 313.70655 | P22: =I22-N22 -> 1.2934488 | Q22: 270.23803 | R22: =Q22/(Abmessungen!F$17*S22) -> 38.444145 | S22: =((I22-L22)-(N22-J22))/LN((I22-L22)/(N22-J22)) -> 12.051793 | T22: =((AE22 + AF22*I22 +AG22*I22^2 + AH22*I22^3)+(AE22 + AF22*N22 + AG22*N22^2 + AH22*N22^3))/2 -> 4178.5656 | U22: =((AA22 + AB22*I22 + AC22*I22^2 + AD22*I22^3)+(AA22 + AB22*N22 + AC22*N22^2 + AD22*N22^3))/2 -> 991.75742 | V22: =((AK22 + AL22*J22)+(AK22 + AL22*L22))/2 -> 1007.1523 | W22: =((AI22 + AJ22*J22)+(AI22 + AJ22*L22))/2 -> 1.1727538 | AA22: -144.24373 | AB22: 10.5287 | AC22: -0.031256926 | AD22: 2.9456116e-05 | AE22: 17554.454 | AF22: -125.69235 | AG22: 0.39362054 | AH22: -0.00041079636 | AI22: 2.306401 | AJ22: -0.0037612753 | AK22: 995.1762 | AL22: 0.039735 | AN22: -0.88639635 | AO22: 3.7265266 | AP22: 0.73660332
A23: 0.056 | B23: =A23/U23*3600*1000 -> 203.28077 | C23: 600 | D23: =F23/(0.02809*3600) -> 0.63636927 | E23: 32.176103 | F23: =E23*2 -> 64.352206 | G23: =AN23 + AO23*D23 + AP23*D23^2 -> 1.7833499 | H23: =H11 -> 2772.4534 | I23: 315 | J23: 295 | K23: =Q23*3600/(V23*W23*F23) -> 12.866055 | L23: 307.86623 | M23: =J23+K23 -> 307.86605 | N23: 313.83923 | O23: =I23-Q23/(T23*A23) -> 313.83923 | P23: =I23-N23 -> 1.1607727 | Q23: 271.62038 | R23: =Q23/(Abmessungen!F$17*S23) -> 38.634378 | S23: =((I23-L23)-(N23-J23))/LN((I23-L23)/(N23-J23)) -> 12.053797 | T23: =((AE23 + AF23*I23 +AG23*I23^2 + AH23*I23^3)+(AE23 + AF23*N23 + AG23*N23^2 + AH23*N23^3))/2 -> 4178.5649 | U23: =((AA23 + AB23*I23 + AC23*I23^2 + AD23*I23^3)+(AA23 + AB23*N23 + AC23*N23^2 + AD23*N23^3))/2 -> 991.7318 | V23: =((AK23 + AL23*J23)+(AK23 + AL23*L23))/2 -> 1007.1536 | W23: =((AI23 + AJ23*J23)+(AI23 + AJ23*L23))/2 -> 1.1726281 | AA23: -144.24373 | AB23: 10.5287 | AC23: -0.031256926 | AD23: 2.9456116e-05 | AE23: 17554.454 | AF23: -125.69235 | AG23: 0.39362054 | AH23: -0.00041079636 | AI23: 2.306401 | AJ23: -0.0037612753 | AK23: 995.1762 | AL23: 0.039735 | AN23: -0.88639635 | AO23: 3.7265266 | AP23: 0.73660332
A24: 0.062 | B24: =A24/U24*3600*1000 -> 225.06558 | C24: 600 | D24: =F24/(0.02809*3600) -> 0.63636927 | E24: 32.176103 | F24: =E24*2 -> 64.352206 | G24: =AN24 + AO24*D24 + AP24*D24^2 -> 1.7833499 | H24: =H12 -> 3301.7351 | I24: 315 | J24: 295 | K24: =Q24*3600/(V24*W24*F24) -> 12.922862 | L24: 307.92304 | M24: =J24+K24 -> 307.92286 | N24: 313.94703 | O24: =I24-Q24/(T24*A24) -> 313.94703 | P24: =I24-N24 -> 1.0529743 | Q24: 272.7951 | R24: =Q24/(Abmessungen!F$17*S24) -> 38.803249 | S24: =((I24-L24)-(N24-J24))/LN((I24-L24)/(N24-J24)) -> 12.053243 | T24: =((AE24 + AF24*I24 +AG24*I24^2 + AH24*I24^3)+(AE24 + AF24*N24 + AG24*N24^2 + AH24*N24^3))/2 -> 4178.5644 | U24: =((AA24 + AB24*I24 + AC24*I24^2 + AD24*I24^3)+(AA24 + AB24*N24 + AC24*N24^2 + AD24*N24^3))/2 -> 991.71093 | V24: =((AK24 + AL24*J24)+(AK24 + AL24*L24))/2 -> 1007.1548 | W24: =((AI24 + AJ24*J24)+(AI24 + AJ24*L24))/2 -> 1.1725212 | AA24: -144.24373 | AB24: 10.5287 | AC24: -0.031256926 | AD24: 2.9456116e-05 | AE24: 17554.454 | AF24: -125.69235 | AG24: 0.39362054 | AH24: -0.00041079636 | AI24: 2.306401 | AJ24: -0.0037612753 | AK24: 995.1762 | AL24: 0.039735 | AN24: -0.88639635 | AO24: 3.7265266 | AP24: 0.73660332
A25: 0.068 | B25: =A25/U25*3600*1000 -> 246.85044 | C25: 600 | D25: =F25/(0.02809*3600) -> 0.63636927 | E25: 32.176103 | F25: =E25*2 -> 64.352206 | G25: =AN25 + AO25*D25 + AP25*D25^2 -> 1.7833499 | H25: =H13 -> 3875.9652 | I25: 315 | J25: 295 | K25: =Q25*3600/(V25*W25*F25) -> 12.972035 | L25: 307.97222 | M25: =J25+K25 -> 307.97203 | N25: 314.03636 | O25: =I25-Q25/(T25*A25) -> 314.03636 | P25: =I25-N25 -> 0.96364298 | Q25: 273.81179 | R25: =Q25/(Abmessungen!F$17*S25) -> 38.955127 | S25: =((I25-L25)-(N25-J25))/LN((I25-L25)/(N25-J25)) -> 12.050996 | T25: =((AE25 + AF25*I25 +AG25*I25^2 + AH25*I25^3)+(AE25 + AF25*N25 + AG25*N25^2 + AH25*N25^3))/2 -> 4178.5641 | U25: =((AA25 + AB25*I25 + AC25*I25^2 + AD25*I25^3)+(AA25 + AB25*N25 + AC25*N25^2 + AD25*N25^3))/2 -> 991.69361 | V25: =((AK25 + AL25*J25)+(AK25 + AL25*L25))/2 -> 1007.1557 | W25: =((AI25 + AJ25*J25)+(AI25 + AJ25*L25))/2 -> 1.1724287 | AA25: -144.24373 | AB25: 10.5287 | AC25: -0.031256926 | AD25: 2.9456116e-05 | AE25: 17554.454 | AF25: -125.69235 | AG25: 0.39362054 | AH25: -0.00041079636 | AI25: 2.306401 | AJ25: -0.0037612753 | AK25: 995.1762 | AL25: 0.039735 | AN25: -0.88639635 | AO25: 3.7265266 | AP25: 0.73660332
A26: 0.074 | B26: =A26/U26*3600*1000 -> 268.63531 | C26: 600 | D26: =F26/(0.02809*3600) -> 0.63636927 | E26: 32.176103 | F26: =E26*2 -> 64.352206 | G26: =AN26 + AO26*D26 + AP26*D26^2 -> 1.7833499 | H26: =H14 -> 4495.1437 | I26: 315 | J26: 295 | K26: =Q26*3600/(V26*W26*F26) -> 13.015738 | L26: 308.01594 | M26: =J26+K26 -> 308.01574 | N26: 314.11157 | O26: =I26-Q26/(T26*A26) -> 314.11157 | P26: =I26-N26 -> 0.88843159 | Q26: 274.71524 | R26: =Q26/(Abmessungen!F$17*S26) -> 39.095861 | S26: =((I26-L26)-(N26-J26))/LN((I26-L26)/(N26-J26)) -> 12.047235 | T26: =((AE26 + AF26*I26 +AG26*I26^2 + AH26*I26^3)+(AE26 + AF26*N26 + AG26*N26^2 + AH26*N26^3))/2 -> 4178.5638 | U26: =((AA26 + AB26*I26 + AC26*I26^2 + AD26*I26^3)+(AA26 + AB26*N26 + AC26*N26^2 + AD26*N26^3))/2 -> 991.679 | V26: =((AK26 + AL26*J26)+(AK26 + AL26*L26))/2 -> 1007.1566 | W26: =((AI26 + AJ26*J26)+(AI26 + AJ26*L26))/2 -> 1.1723465 | AA26: -144.24373 | AB26: 10.5287 | AC26: -0.031256926 | AD26: 2.9456116e-05 | AE26: 17554.454 | AF26: -125.69235 | AG26: 0.39362054 | AH26: -0.00041079636 | AI26: 2.306401 | AJ26: -0.0037612753 | AK26: 995.1762 | AL26: 0.039735 | AN26: -0.88639635 | AO26: 3.7265266 | AP26: 0.73660332
... A110: 0.074 | B110: =A110/U110*3600*1000 -> 268.51018 | C110: 3000 | D110: =F110/(0.02809*3600) -> 3.4723256 | E110: 175.56773 | F110: =E110*2 -> 351.13545 | G110: =AN110 + AO110*D110 + AP110*D110^2 -> 20.934577 | H110: =H98 -> 4495.1437 | I110: 315 | J110: 295 | K110: =Q110*3600/(V110*W110*F110) -> 8.8581637 | L110: 303.8582 | M110: =J110+K110 -> 303.85816 | N110: 311.67908 | O110: =I110-Q110/(T110*A110) -> 311.67908 | P110: =I110-N110 -> 3.3209204 | Q110: 1026.8814 | R110: =Q110/(Abmessungen!F$17*S110) -> 128.27751 | S110: =((I110-L110)-(N110-J110))/LN((I110-L110)/(N110-J110)) -> 13.724773 | T110: =((AE110 + AF110*I110 +AG110*I110^2 + AH110*I110^3)+(AE110 + AF110*N110 + AG110*N110^2 + AH110*N110^3))/2 -> 4178.5931 | U110: =((AA110 + AB110*I110 + AC110*I110^2 + AD110*I110^3)+(AA110 + AB110*N110 + AC110*N110^2 + AD110*N110^3))/2 -> 992.14115 | V110: =((AK110 + AL110*J110)+(AK110 + AL110*L110))/2 -> 1007.074 | W110: =((AI110 + AJ110*J110)+(AI110 + AJ110*L110))/2 -> 1.1801657 | AA110: -144.24373 | AB110: 10.5287 | AC110: -0.031256926 | AD110: 2.9456116e-05 | AE110: 17554.454 | AF110: -125.69235 | AG110: 0.39362054 | AH110: -0.00041079636 | AI110: 2.306401 | AJ110: -0.0037612753 | AK110: 995.1762 | AL110: 0.039735 | AN110: -0.88639635 | AO110: 3.7265266 | AP110: 0.73660332
A114: 29 | D114: 50.8 | G114: 72.5 | J114: 94.4 | M114: 116.2 | O114: 137.9 | Q114: 159.7 | S114: 181.5
A115: 0.008 | D115: 0.014 | G115: 0.02 | J115: 0.026 | M115: 0.032 | O115: 0.038 | Q115: 0.044 | S115: 0.05
A118: rpm | B118: W | C118: K/W | D118: rpm | E118: W | F118: K/W | G118: rpm | H118: W | I118: K/W | J118: rpm | K118: W | L118: K/W | M118: W | N118: K/W | O118: W | P118: K/W | Q118: W | R118: K/W | S118: W | T118: K/W
A121: 0 | B121: =$Y$195 - $Z$195*EXP(-$AA$195*A121^$AB$195) -> 36.584171 | C121: =20/B121 -> 0.54668452
A122: 5 | B122: =$Y$195 - $Z$195*EXP(-$AA$195*A122^$AB$195) -> 37.435676 | C122: =20/B122 -> 0.53424973
A123: 10 | B123: =$Y$195 - $Z$195*EXP(-$AA$195*A123^$AB$195) -> 38.512142 | C123: =20/B123 -> 0.51931675
A124: 15 | B124: =$Y$195 - $Z$195*EXP(-$AA$195*A124^$AB$195) -> 39.691905 | C124: =20/B124 -> 0.50388108
A125: 20 | B125: =$Y$195 - $Z$195*EXP(-$AA$195*A125^$AB$195) -> 40.942845 | C125: =20/B125 -> 0.48848584
A126: 25 | B126: =$Y$195 - $Z$195*EXP(-$AA$195*A126^$AB$195) -> 42.248424 | C126: =20/B126 -> 0.47339044 | D126: 0 | E126: =$AC$195 - $AD$195*EXP(-$AE$195*D126^$AF$195) -> 48.123247 | F126: =20/E126 -> 0.41559955
A127: 30 | B127: =$Y$195 - $Z$195*EXP(-$AA$195*A127^$AB$195) -> 43.598318 | C127: =20/B127 -> 0.4587333 | D127: 5 | E127: =$AC$195 - $AD$195*EXP(-$AE$195*D127^$AF$195) -> 48.81763 | F127: =20/E127 -> 0.40968806
A128: 35 | B128: =$Y$195 - $Z$195*EXP(-$AA$195*A128^$AB$195) -> 44.985377 | C128: =20/B128 -> 0.44458892 | D128: 10 | E128: =$AC$195 - $AD$195*EXP(-$AE$195*D128^$AF$195) -> 49.738774 | F128: =20/E128 -> 0.40210079 | G128: 0 | H128: =$AG$195 - $AH$195*EXP(-$AI$195*G128^$AJ$195) -> 55.053031 | I128: =20/H128 -> 0.36328608
A129: 40 | B129: =$Y$195 - $Z$195*EXP(-$AA$195*A129^$AB$195) -> 46.404313 | C129: =20/B129 -> 0.43099442 | D129: 15 | E129: =$AC$195 - $AD$195*EXP(-$AE$195*D129^$AF$195) -> 50.769657 | F129: =20/E129 -> 0.39393608 | G129: 5 | H129: =$AG$195 - $AH$195*EXP(-$AI$195*G129^$AJ$195) -> 55.659892 | I129: =20/H129 -> 0.35932517
A130: 45 | B130: =$Y$195 - $Z$195*EXP(-$AA$195*A130^$AB$195) -> 47.85103 | C130: =20/B130 -> 0.41796383 | D130: 20 | E130: =$AC$195 - $AD$195*EXP(-$AE$195*D130^$AF$195) -> 51.878195 | F130: =20/E130 -> 0.38551842 | G130: 10 | H130: =$AG$195 - $AH$195*EXP(-$AI$195*G130^$AJ$195) -> 56.489919 | I130: =20/H130 -> 0.35404547
A131: 50 | B131: =$Y$195 - $Z$195*EXP(-$AA$195*A131^$AB$195) -> 49.322247 | C131: =20/B131 -> 0.40549653 | D131: 25 | E131: =$AC$195 - $AD$195*EXP(-$AE$195*D131^$AF$195) -> 53.047659 | F131: =20/E131 -> 0.37701946 | G131: 15 | H131: =$AG$195 - $AH$195*EXP(-$AI$195*G131^$AJ$195) -> 57.4313 | I131: =20/H131 -> 0.34824216 | J131: 0 | K131: =$AK$195 - $AL$195*EXP(-$AM$195*J131^$AN$195) -> 59.716041 | L131: =20/K131 -> 0.33491838 | M131: =$AO$195 - $AP$195*EXP(-$AQ$195*J131^$AR$195) -> 63.11233 | N131: =20/M131 -> 0.31689529 | O131: =$AS$195 - $AT$195*EXP(-$AU$195*J131^$AV$195) -> 65.643669 | P131: =20/O131 -> 0.30467523 | Q131: =$AW$195 - $AX$195*EXP(-$AY$195*J131^$AZ$195) -> 67.6056 | R131: =20/Q131 -> 0.29583348 | S131: =$BA$195 - $BB$195*EXP(-$BC$195*J131^$BD$195) -> 69.164541 | T131: =20/S131 -> 0.28916551
A132: 100 | B132: =$Y$195 - $Z$195*EXP(-$AA$195*A132^$AB$195) -> 64.94378 | C132: =20/B132 -> 0.30795867 | D132: 75 | E132: =$AC$195 - $AD$195*EXP(-$AE$195*D132^$AF$195) -> 66.712746 | F132: =20/E132 -> 0.29979279 | G132: 65 | H132: =$AG$195 - $AH$195*EXP(-$AI$195*G132^$AJ$195) -> 69.677129 | I132: =20/H132 -> 0.28703823 | J132: 50 | K132: =$AK$195 - $AL$195*EXP(-$AM$195*J132^$AN$195) -> 69.799624 | L132: =20/K132 -> 0.28653449 | M132: =$AO$195 - $AP$195*EXP(-$AQ$195*J132^$AR$195) -> 72.923494 | N132: =20/M132 -> 0.27426004 | O132: =$AS$195 - $AT$195*EXP(-$AU$195*J132^$AV$195) -> 75.357098 | P132: =20/O132 -> 0.265403 | Q132: =$AW$195 - $AX$195*EXP(-$AY$195*J132^$AZ$195) -> 77.318862 | R132: =20/Q132 -> 0.25866909 | S132: =$BA$195 - $BB$195*EXP(-$BC$195*J132^$BD$195) -> 78.9416 | T132: =20/S132 -> 0.25335184
A133: 150 | B133: =$Y$195 - $Z$195*EXP(-$AA$195*A133^$AB$195) -> 81.464889 | C133: =20/B133 -> 0.24550454 | D133: 125 | E133: =$AC$195 - $AD$195*EXP(-$AE$195*D133^$AF$195) -> 82.3317 | F133: =20/E133 -> 0.2429198 | G133: 115 | H133: =$AG$195 - $AH$195*EXP(-$AI$195*G133^$AJ$195) -> 84.495122 | I133: =20/H133 -> 0.23670006 | J133: 100 | K133: =$AK$195 - $AL$195*EXP(-$AM$195*J133^$AN$195) -> 83.659757 | L133: =20/K133 -> 0.23906357 | M133: =$AO$195 - $AP$195*EXP(-$AQ$195*J133^$AR$195) -> 86.545127 | N133: =20/M133 -> 0.23109331 | O133: =$AS$195 - $AT$195*EXP(-$AU$195*J133^$AV$195) -> 88.870045 | P133: =20/O133 -> 0.22504771 | Q133: =$AW$195 - $AX$195*EXP(-$AY$195*J133^$AZ$195) -> 90.796588 | R133: =20/Q133 -> 0.22027259 | S133: =$BA$195 - $BB$195*EXP(-$BC$195*J133^$BD$195) -> 92.43234 | T133: =20/S133 -> 0.21637448
A134: 200 | B134: =$Y$195 - $Z$195*EXP(-$AA$195*A134^$AB$195) -> 98.321063 | C134: =20/B134 -> 0.20341521 | D134: 175 | E134: =$AC$195 - $AD$195*EXP(-$AE$195*D134^$AF$195) -> 98.959575 | F134: =20/E134 -> 0.20210273 | G134: 165 | H134: =$AG$195 - $AH$195*EXP(-$AI$195*G134^$AJ$195) -> 100.67189 | I134: =20/H134 -> 0.19866519 | J134: 150 | K134: =$AK$195 - $AL$195*EXP(-$AM$195*J134^$AN$195) -> 99.239407 | L134: =20/K134 -> 0.20153284 | M134: =$AO$195 - $AP$195*EXP(-$AQ$195*J134^$AR$195) -> 101.94138 | N134: =20/M134 -> 0.19619119 | O134: =$AS$195 - $AT$195*EXP(-$AU$195*J134^$AV$195) -> 104.16969 | P134: =20/O134 -> 0.19199443 | Q134: =$AW$195 - $AX$195*EXP(-$AY$195*J134^$AZ$195) -> 106.04947 | R134: =20/Q134 -> 0.18859124 | S134: =$BA$195 - $BB$195*EXP(-$BC$195*J134^$BD$195) -> 107.67175 | T134: =20/S134 -> 0.18574974
A135: 250 | B135: =$Y$195 - $Z$195*EXP(-$AA$195*A135^$AB$195) -> 115.21336 | C135: =20/B135 -> 0.17359098 | D135: 225 | E135: =$AC$195 - $AD$195*EXP(-$AE$195*D135^$AF$195) -> 116.16151 | F135: =20/E135 -> 0.17217407 | G135: 215 | H135: =$AG$195 - $AH$195*EXP(-$AI$195*G135^$AJ$195) -> 117.70092 | I135: =20/H135 -> 0.1699222 | J135: 200 | K135: =$AK$195 - $AL$195*EXP(-$AM$195*J135^$AN$195) -> 115.91205 | L135: =20/K135 -> 0.17254462 | M135: =$AO$195 - $AP$195*EXP(-$AQ$195*J135^$AR$195) -> 118.49033 | N135: =20/M135 -> 0.16879014 | O135: =$AS$195 - $AT$195*EXP(-$AU$195*J135^$AV$195) -> 120.64315 | P135: =20/O135 -> 0.16577816 | Q135: =$AW$195 - $AX$195*EXP(-$AY$195*J135^$AZ$195) -> 122.47583 | R135: =20/Q135 -> 0.16329752 | S135: =$BA$195 - $BB$195*EXP(-$BC$195*J135^$BD$195) -> 124.07082 | T135: =20/S135 -> 0.16119826
A136: 300 | B136: =$Y$195 - $Z$195*EXP(-$AA$195*A136^$AB$195) -> 131.95552 | C136: =20/B136 -> 0.15156623 | D136: 275 | E136: =$AC$195 - $AD$195*EXP(-$AE$195*D136^$AF$195) -> 133.67412 | F136: =20/E136 -> 0.14961759 | G136: 265 | H136: =$AG$195 - $AH$195*EXP(-$AI$195*G136^$AJ$195) -> 135.28265 | I136: =20/H136 -> 0.14783861 | J136: 250 | K136: =$AK$195 - $AL$195*EXP(-$AM$195*J136^$AN$195) -> 133.32934 | L136: =20/K136 -> 0.15000449 | M136: =$AO$195 - $AP$195*EXP(-$AQ$195*J136^$AR$195) -> 135.84589 | N136: =20/M136 -> 0.14722566 | O136: =$AS$195 - $AT$195*EXP(-$AU$195*J136^$AV$195) -> 137.95009 | P136: =20/O136 -> 0.14497997 | Q136: =$AW$195 - $AX$195*EXP(-$AY$195*J136^$AZ$195) -> 139.74283 | R136: =20/Q136 -> 0.14312004 | S136: =$BA$195 - $BB$195*EXP(-$BC$195*J136^$BD$195) -> 141.30524 | T136: =20/S136 -> 0.14153757
A137: 350 | B137: =$Y$195 - $Z$195*EXP(-$AA$195*A137^$AB$195) -> 148.42239 | C137: =20/B137 -> 0.13475055 | D137: 325 | E137: =$AC$195 - $AD$195*EXP(-$AE$195*D137^$AF$195) -> 151.31779 | F137: =20/E137 -> 0.13217217 | G137: 315 | H137: =$AG$195 - $AH$195*EXP(-$AI$195*G137^$AJ$195) -> 153.21348 | I137: =20/H137 -> 0.13053682 | J137: 300 | K137: =$AK$195 - $AL$195*EXP(-$AM$195*J137^$AN$195) -> 151.26068 | L137: =20/K137 -> 0.13222207 | M137: =$AO$195 - $AP$195*EXP(-$AQ$195*J137^$AR$195) -> 153.77852 | N137: =20/M137 -> 0.13005718 | O137: =$AS$195 - $AT$195*EXP(-$AU$195*J137^$AV$195) -> 155.86505 | P137: =20/O137 -> 0.12831613 | Q137: =$AW$195 - $AX$195*EXP(-$AY$195*J137^$AZ$195) -> 157.63056 | R137: =20/Q137 -> 0.12687895 | S137: =$BA$195 - $BB$195*EXP(-$BC$195*J137^$BD$195) -> 159.16151 | T137: =20/S137 -> 0.12565852
A138: 400 | B138: =$Y$195 - $Z$195*EXP(-$AA$195*A138^$AB$195) -> 164.52674 | C138: =20/B138 -> 0.12156079 | D138: 375 | E138: =$AC$195 - $AD$195*EXP(-$AE$195*D138^$AF$195) -> 168.96177 | F138: =20/E138 -> 0.11836997 | G138: 365 | H138: =$AG$195 - $AH$195*EXP(-$AI$195*G138^$AJ$195) -> 171.34418 | I138: =20/H138 -> 0.11672413 | J138: 350 | K138: =$AK$195 - $AL$195*EXP(-$AM$195*J138^$AN$195) -> 169.53895 | L138: =20/K138 -> 0.117967 | M138: =$AO$195 - $AP$195*EXP(-$AQ$195*J138^$AR$195) -> 172.12145 | N138: =20/M138 -> 0.11619702 | O138: =$AS$195 - $AT$195*EXP(-$AU$195*J138^$AV$195) -> 174.22424 | P138: =20/O138 -> 0.11479459 | Q138: =$AW$195 - $AX$195*EXP(-$AY$195*J138^$AZ$195) -> 175.97951 | R138: =20/Q138 -> 0.1136496 | S138: =$BA$195 - $BB$195*EXP(-$BC$195*J138^$BD$195) -> 177.48518 | T138: =20/S138 -> 0.11268546
A139: 450 | B139: =$Y$195 - $Z$195*EXP(-$AA$195*A139^$AB$195) -> 180.2068 | C139: =20/B139 -> 0.1109836 | D139: 425 | E139: =$AC$195 - $AD$195*EXP(-$AE$195*D139^$AF$195) -> 186.50709 | F139: =20/E139 -> 0.10723453 | G139: 415 | H139: =$AG$195 - $AH$195*EXP(-$AI$195*G139^$AJ$195) -> 189.5602 | I139: =20/H139 -> 0.10550738 | J139: 400 | K139: =$AK$195 - $AL$195*EXP(-$AM$195*J139^$AN$195) -> 188.03623 | L139: =20/K139 -> 0.10636248 | M139: =$AO$195 - $AP$195*EXP(-$AQ$195*J139^$AR$195) -> 190.74656 | N139: =20/M139 -> 0.10485117 | O139: =$AS$195 - $AT$195*EXP(-$AU$195*J139^$AV$195) -> 192.90176 | P139: =20/O139 -> 0.10367972 | Q139: =$AW$195 - $AX$195*EXP(-$AY$195*J139^$AZ$195) -> 194.66719 | R139: =20/Q139 -> 0.10273945 | S139: =$BA$195 - $BB$195*EXP(-$BC$195*J139^$BD$195) -> 196.15784 | T139: =20/S139 -> 0.10195871
A140: 500 | B140: =$Y$195 - $Z$195*EXP(-$AA$195*A140^$AB$195) -> 195.41903 | C140: =20/B140 -> 0.10234418 | D140: 475 | E140: =$AC$195 - $AD$195*EXP(-$AE$195*D140^$AF$195) -> 203.87703 | F140: =20/E140 -> 0.098098349 | G140: 465 | H140: =$AG$195 - $AH$195*EXP(-$AI$195*G140^$AJ$195) -> 207.77091 | I140: =20/H140 -> 0.096259867 | J140: 450 | K140: =$AK$195 - $AL$195*EXP(-$AM$195*J140^$AN$195) -> 206.65112 | L140: =20/K140 -> 0.096781473 | M140: =$AO$195 - $AP$195*EXP(-$AQ$195*J140^$AR$195) -> 209.5518 | N140: =20/M140 -> 0.095441797 | O140: =$AS$195 - $AT$195*EXP(-$AU$195*J140^$AV$195) -> 211.79714 | P140: =20/O140 -> 0.094429983 | Q140: =$AW$195 - $AX$195*EXP(-$AY$195*J140^$AZ$195) -> 213.59585 | R140: =20/Q140 -> 0.093634777 | S140: =$BA$195 - $BB$195*EXP(-$BC$195*J140^$BD$195) -> 215.0851 | T140: =20/S140 -> 0.092986449
