Workbook

Sheet Inhalt
A2: Tipps
A5: Die jeweilige Leistung mit dem thermalen Widerstand multipliziert ergibt als Ergebnis die Temperaturdifferenz von Lufteinlass zu Wassereinlass
A7: Die Leistung verhält sich bei erzwungener Konvektion (Lüfter) linear zur Temperaturdifferenz, siehe Grafik, somit können beliebige Leistungswerte multipliziert mit der jeweiligen Temperaturdifferenz extrapoliert werden: dT 10 K zu 20 K = 0,5 * 300 W = 150 W
A10: Inhalt
A12: Abmessungen
A13: Lamellentyp 1 mit FAN Noctua F12
A14: Lamellentyp 1 mit FAN F12 push/pull
A15: Lamellentyp 2 mit FAN Noctua F12
A16: Lamellentyp 2 mit FAN F12 push/pull
A17: Lamellentyp 3 mit FAN Noctua F12
A18: Lamellentyp 3 mit FAN F12 push/pull
A20: Diagramme
... A35: Vergleich push/pull (4 FAN) vs 2 FAN Typ 3

Sheet Abmessungen
A1: Dimension | B1: 240x30 | C1: mm | E1: Dimension | F1: 240x30 | G1: mm | I1: Dimension | J1: 240x30 | K1: mm
A2: Nettotiefe | B2: 17.5 | C2: mm | E2: Nettotiefe | F2: 17.5 | G2: mm | I2: Nettotiefe | J2: 17.5 | K2: mm
A3: Lamellentyp | B3: 1 | E3: Lamellentyp | F3: 2 | I3: Lamellentyp | J3: 3
A4: Lamellenabstand | B4: 1.5 | C4: mm | E4: Lamellenabstand | F4: 1.5 | G4: mm | I4: Lamellenabstand | J4: =3.5/2 -> 1.75 | K4: mm
A5: Periodenanzahl | B5: 140 | E5: Lamellenanzahl | F5: 140 | I5: Periodenanzahl | J5: 67
A6: Lamellenanzahl | B6: 13 | E6: Rohranzahl | F6: 12 | I6: Lamellenanzahl | J6: 13
A7: Rohranzahl | B7: 12 | E7: Rohrabstand | F7: 7.4 | G7: mm | I7: Rohranzahl | J7: 12
A8: Rohrabstand | B8: 7.4 | C8: mm | I8: Rohrabstand | J8: 7.4 | K8: mm
A11: Lamellenoberfläche pro Periode | B11: =95.46*2+41.1+17.4*2 -> 266.82 | C11: mm² | E11: Lamellenoberfläche | F11: 3631.6 | G11: mm² | I11: Lamellenoberfläche pro Periode | J11: =2*260 -> 520 | K11: mm²
A12: Lamellenoberfläche | B12: =B11*B5 -> 37354.8 | C12: mm² | E12: Abzug | F12: =439.4 -> 439.4 | G12: mm² | I12: Lamellenoberfläche | J12: =J11*J5 -> 34840 | K12: mm²
A13: Rohroberfläche | B13: =(2600*2+369*4)-(141*14) -> 4702 | C13: mm² | E13: Rohroberfläche | F13: =(2600*2+369*4)-F12 -> 6236.6 | G13: mm² | I13: Rohroberfläche | J13: =(2600*2+369*4)-(67*2*0.1*17.5) -> 6441.5 | K13: mm²
A14: Gesamt Lamellenoberfläche | B14: =B12*B6 -> 485612.4 | C14: mm² | E14: Gesamt Lamellenoberfläche | F14: =F5*F11 -> 508424 | G14: mm² | I14: Gesamt Lamellenoberfläche | J14: =J12*J6 -> 452920 | K14: mm²
A15: Gesamt Rohroberfläche | B15: =B7*B13 -> 56424 | C15: mm² | E15: Gesamt Rohroberfläche | F15: =F6*F13 -> 74839.2 | G15: mm² | I15: Gesamt Rohroberfläche | J15: =J7*J13 -> 77298 | K15: mm²
A17: Gesamt Oberfläche | B17: =(B14+B15)/1000^2 -> 0.5420364 | C17: m² | E17: Gesamt Oberfläche | F17: =(F14+F15)/1000^2 -> 0.5832632 | G17: m² | I17: Gesamt Oberfläche | J17: =(J14+J15)/1000^2 -> 0.530218 | K17: m²
A18: Rohrinhalt | B18: 0.11 | C18: dm³ | E18: Rohrinhalt | F18: 0.11 | G18: dm³ | I18: Rohrinhalt | J18: 0.11 | K18: dm³

Sheet Typ1 Noctua F12
A1: kg/s | B1: L/h | C1: min^-1 | D1: m/s | E1: m³/h | F1: Gesamt [m³/h] | G1: dp [Pa] | H1: dp Fluid [Pa] | I1: Tin [K] | J1: TAmbient [K] | K1: dTAmbient | L1: TAmbient2 | M1: TAmbient2 | N1: Tout_avg | O1: Tout_avg | P1: dTFluid [K] | Q1: P [W] | R1: k [W/m²*K] | S1: dTlog | T1: cp [J/kg * K] | U1: ρ [kg/m³] | V1: cp [J/kg * K] | W1: ρ [kg/m³]
A2: 0 | B2: =A2/U2*3600*1000 -> 0 | C2: 0 | D2: 0 | G2: 0 | H2: 0 | I2: 315 | J2: 295 | T2: 4180 | U2: 991.5 | AA2: -144.24373 | AB2: 10.5287 | AC2: -0.031256926 | AD2: 2.9456116e-05 | AE2: 17554.454 | AF2: -125.69235 | AG2: 0.39362054 | AH2: -0.00041079636 | AI2: 2.306401 | AJ2: -0.0037612753 | AK2: 995.1762 | AL2: 0.039735 | AN2: -1.040899 | AO2: 4.3025437 | AP2: 1.0234654
A3: 0.008 | B3: =A3/U3*3600*1000 -> 29.040451 | C3: 0 | D3: 0 | G3: 0 | H3: 156.34022 | I3: 315 | J3: 295 | L3: 297.20729 | N3: 313.89953 | O3: =I3-Q3/(T3*A3) -> 313.89953 | P3: =I3-N3 -> 1.1004707 | Q3: 36.787103 | R3: =Q3/(Abmessungen!B$17*S3) -> 3.7004515 | S3: =((I3-L3)-(N3-J3))/LN((I3-L3)/(N3-J3)) -> 18.340553 | T3: =((AE3 + AF3*I3 +AG3*I3^2 + AH3*I3^3)+(AE3 + AF3*N3 + AG3*N3^2 + AH3*N3^3))/2 -> 4178.5646 | U3: =((AA3 + AB3*I3 + AC3*I3^2 + AD3*I3^3)+(AA3 + AB3*N3 + AC3*N3^2 + AD3*N3^3))/2 -> 991.72013 | V3: =((AK3 + AL3*J3)+(AK3 + AL3*L3))/2 -> 1006.9419 | W3: =((AI3 + AJ3*J3)+(AI3 + AJ3*L3))/2 -> 1.1926737 | AA3: -144.24373 | AB3: 10.5287 | AC3: -0.031256926 | AD3: 2.9456116e-05 | AE3: 17554.454 | AF3: -125.69235 | AG3: 0.39362054 | AH3: -0.00041079636 | AI3: 2.306401 | AJ3: -0.0037612753 | AK3: 995.1762 | AL3: 0.039735 | AN3: -1.040899 | AO3: 4.3025437 | AP3: 1.0234654
A4: 0.014 | B4: =A4/U4*3600*1000 -> 50.823476 | C4: 0 | D4: 0 | G4: 0 | H4: 326.03512 | I4: 315 | J4: 295 | L4: 297.94433 | N4: 314.16965 | O4: =I4-Q4/(T4*A4) -> 314.16965 | P4: =I4-N4 -> 0.83034724 | Q4: 48.575224 | R4: =Q4/(Abmessungen!B$17*S4) -> 4.9533369 | S4: =((I4-L4)-(N4-J4))/LN((I4-L4)/(N4-J4)) -> 18.092079 | T4: =((AE4 + AF4*I4 +AG4*I4^2 + AH4*I4^3)+(AE4 + AF4*N4 + AG4*N4^2 + AH4*N4^3))/2 -> 4178.5637 | U4: =((AA4 + AB4*I4 + AC4*I4^2 + AD4*I4^3)+(AA4 + AB4*N4 + AC4*N4^2 + AD4*N4^3))/2 -> 991.66771 | V4: =((AK4 + AL4*J4)+(AK4 + AL4*L4))/2 -> 1006.9565 | W4: =((AI4 + AJ4*J4)+(AI4 + AJ4*L4))/2 -> 1.1912876 | AA4: -144.24373 | AB4: 10.5287 | AC4: -0.031256926 | AD4: 2.9456116e-05 | AE4: 17554.454 | AF4: -125.69235 | AG4: 0.39362054 | AH4: -0.00041079636 | AI4: 2.306401 | AJ4: -0.0037612753 | AK4: 995.1762 | AL4: 0.039735 | AN4: -1.040899 | AO4: 4.3025437 | AP4: 1.0234654
A5: 0.02 | B5: =A5/U5*3600*1000 -> 72.607304 | C5: 0 | D5: 0 | G5: 0 | H5: 540.67838 | I5: 315 | J5: 295 | L5: 298.35294 | N5: 314.33359 | O5: =I5-Q5/(T5*A5) -> 314.33359 | P5: =I5-N5 -> 0.66641449 | Q5: 55.693103 | R5: =Q5/(Abmessungen!B$17*S5) -> 5.7219362 | S5: =((I5-L5)-(N5-J5))/LN((I5-L5)/(N5-J5)) -> 17.956842 | T5: =((AE5 + AF5*I5 +AG5*I5^2 + AH5*I5^3)+(AE5 + AF5*N5 + AG5*N5^2 + AH5*N5^3))/2 -> 4178.5633 | U5: =((AA5 + AB5*I5 + AC5*I5^2 + AD5*I5^3)+(AA5 + AB5*N5 + AC5*N5^2 + AD5*N5^3))/2 -> 991.63577 | V5: =((AK5 + AL5*J5)+(AK5 + AL5*L5))/2 -> 1006.9646 | W5: =((AI5 + AJ5*J5)+(AI5 + AJ5*L5))/2 -> 1.1905191 | AA5: -144.24373 | AB5: 10.5287 | AC5: -0.031256926 | AD5: 2.9456116e-05 | AE5: 17554.454 | AF5: -125.69235 | AG5: 0.39362054 | AH5: -0.00041079636 | AI5: 2.306401 | AJ5: -0.0037612753 | AK5: 995.1762 | AL5: 0.039735 | AN5: -1.040899 | AO5: 4.3025437 | AP5: 1.0234654
A6: 0.026 | B6: =A6/U6*3600*1000 -> 94.391533 | C6: 0 | D6: 0 | G6: 0 | H6: 800.27 | I6: 315 | J6: 295 | L6: 298.63722 | N6: 314.44321 | O6: =I6-Q6/(T6*A6) -> 314.44321 | P6: =I6-N6 -> 0.55679082 | Q6: 60.491227 | R6: =Q6/(Abmessungen!B$17*S6) -> 6.2490379 | S6: =((I6-L6)-(N6-J6))/LN((I6-L6)/(N6-J6)) -> 17.858739 | T6: =((AE6 + AF6*I6 +AG6*I6^2 + AH6*I6^3)+(AE6 + AF6*N6 + AG6*N6^2 + AH6*N6^3))/2 -> 4178.5632 | U6: =((AA6 + AB6*I6 + AC6*I6^2 + AD6*I6^3)+(AA6 + AB6*N6 + AC6*N6^2 + AD6*N6^3))/2 -> 991.61436 | V6: =((AK6 + AL6*J6)+(AK6 + AL6*L6))/2 -> 1006.9703 | W6: =((AI6 + AJ6*J6)+(AI6 + AJ6*L6))/2 -> 1.1899845 | AA6: -144.24373 | AB6: 10.5287 | AC6: -0.031256926 | AD6: 2.9456116e-05 | AE6: 17554.454 | AF6: -125.69235 | AG6: 0.39362054 | AH6: -0.00041079636 | AI6: 2.306401 | AJ6: -0.0037612753 | AK6: 995.1762 | AL6: 0.039735 | AN6: -1.040899 | AO6: 4.3025437 | AP6: 1.0234654
A7: 0.032 | B7: =A7/U7*3600*1000 -> 116.176 | C7: 0 | D7: 0 | G7: 0 | H7: 1104.81 | I7: 315 | J7: 295 | L7: 298.85549 | N7: 314.52189 | O7: =I7-Q7/(T7*A7) -> 314.52189 | P7: =I7-N7 -> 0.4781139 | Q7: 63.930533 | R7: =Q7/(Abmessungen!B$17*S7) -> 6.6336689 | S7: =((I7-L7)-(N7-J7))/LN((I7-L7)/(N7-J7)) -> 17.779768 | T7: =((AE7 + AF7*I7 +AG7*I7^2 + AH7*I7^3)+(AE7 + AF7*N7 + AG7*N7^2 + AH7*N7^3))/2 -> 4178.5632 | U7: =((AA7 + AB7*I7 + AC7*I7^2 + AD7*I7^3)+(AA7 + AB7*N7 + AC7*N7^2 + AD7*N7^3))/2 -> 991.59897 | V7: =((AK7 + AL7*J7)+(AK7 + AL7*L7))/2 -> 1006.9746 | W7: =((AI7 + AJ7*J7)+(AI7 + AJ7*L7))/2 -> 1.189574 | AA7: -144.24373 | AB7: 10.5287 | AC7: -0.031256926 | AD7: 2.9456116e-05 | AE7: 17554.454 | AF7: -125.69235 | AG7: 0.39362054 | AH7: -0.00041079636 | AI7: 2.306401 | AJ7: -0.0037612753 | AK7: 995.1762 | AL7: 0.039735 | AN7: -1.040899 | AO7: 4.3025437 | AP7: 1.0234654
A8: 0.038 | B8: =A8/U8*3600*1000 -> 137.96061 | C8: 0 | D8: 0 | G8: 0 | H8: 1454.2983 | I8: 315 | J8: 295 | L8: 299.03273 | N8: 314.58121 | O8: =I8-Q8/(T8*A8) -> 314.58121 | P8: =I8-N8 -> 0.41878591 | Q8: 66.497088 | R8: =Q8/(Abmessungen!B$17*S8) -> 6.9260552 | S8: =((I8-L8)-(N8-J8))/LN((I8-L8)/(N8-J8)) -> 17.712841 | T8: =((AE8 + AF8*I8 +AG8*I8^2 + AH8*I8^3)+(AE8 + AF8*N8 + AG8*N8^2 + AH8*N8^3))/2 -> 4178.5632 | U8: =((AA8 + AB8*I8 + AC8*I8^2 + AD8*I8^3)+(AA8 + AB8*N8 + AC8*N8^2 + AD8*N8^3))/2 -> 991.58735 | V8: =((AK8 + AL8*J8)+(AK8 + AL8*L8))/2 -> 1006.9781 | W8: =((AI8 + AJ8*J8)+(AI8 + AJ8*L8))/2 -> 1.1892407 | AA8: -144.24373 | AB8: 10.5287 | AC8: -0.031256926 | AD8: 2.9456116e-05 | AE8: 17554.454 | AF8: -125.69235 | AG8: 0.39362054 | AH8: -0.00041079636 | AI8: 2.306401 | AJ8: -0.0037612753 | AK8: 995.1762 | AL8: 0.039735 | AN8: -1.040899 | AO8: 4.3025437 | AP8: 1.0234654
A9: 0.044 | B9: =A9/U9*3600*1000 -> 159.74533 | C9: 0 | D9: 0 | G9: 0 | H9: 1848.735 | I9: 315 | J9: 295 | L9: 299.18196 | N9: 314.6276 | O9: =I9-Q9/(T9*A9) -> 314.6276 | P9: =I9-N9 -> 0.37240085 | Q9: 68.468421 | R9: =Q9/(Abmessungen!B$17*S9) -> 7.1549995 | S9: =((I9-L9)-(N9-J9))/LN((I9-L9)/(N9-J9)) -> 17.654371 | T9: =((AE9 + AF9*I9 +AG9*I9^2 + AH9*I9^3)+(AE9 + AF9*N9 + AG9*N9^2 + AH9*N9^3))/2 -> 4178.5632 | U9: =((AA9 + AB9*I9 + AC9*I9^2 + AD9*I9^3)+(AA9 + AB9*N9 + AC9*N9^2 + AD9*N9^3))/2 -> 991.57826 | V9: =((AK9 + AL9*J9)+(AK9 + AL9*L9))/2 -> 1006.9811 | W9: =((AI9 + AJ9*J9)+(AI9 + AJ9*L9))/2 -> 1.18896 | AA9: -144.24373 | AB9: 10.5287 | AC9: -0.031256926 | AD9: 2.9456116e-05 | AE9: 17554.454 | AF9: -125.69235 | AG9: 0.39362054 | AH9: -0.00041079636 | AI9: 2.306401 | AJ9: -0.0037612753 | AK9: 995.1762 | AL9: 0.039735 | AN9: -1.040899 | AO9: 4.3025437 | AP9: 1.0234654
A10: 0.05 | B10: =A10/U10*3600*1000 -> 181.53013 | C10: 0 | D10: 0 | G10: 0 | H10: 2288.12 | I10: 315 | J10: 295 | L10: 299.31084 | N10: 314.66488 | O10: =I10-Q10/(T10*A10) -> 314.66488 | P10: =I10-N10 -> 0.33512056 | Q10: 70.016122 | R10: =Q10/(Abmessungen!B$17*S10) -> 7.3384004 | S10: =((I10-L10)-(N10-J10))/LN((I10-L10)/(N10-J10)) -> 17.602251 | T10: =((AE10 + AF10*I10 +AG10*I10^2 + AH10*I10^3)+(AE10 + AF10*N10 + AG10*N10^2 + AH10*N10^3))/2 -> 4178.5632 | U10: =((AA10 + AB10*I10 + AC10*I10^2 + AD10*I10^3)+(AA10 + AB10*N10 + AC10*N10^2 + AD10*N10^3))/2 -> 991.57094 | V10: =((AK10 + AL10*J10)+(AK10 + AL10*L10))/2 -> 1006.9837 | W10: =((AI10 + AJ10*J10)+(AI10 + AJ10*L10))/2 -> 1.1887177 | AA10: -144.24373 | AB10: 10.5287 | AC10: -0.031256926 | AD10: 2.9456116e-05 | AE10: 17554.454 | AF10: -125.69235 | AG10: 0.39362054 | AH10: -0.00041079636 | AI10: 2.306401 | AJ10: -0.0037612753 | AK10: 995.1762 | AL10: 0.039735 | AN10: -1.040899 | AO10: 4.3025437 | AP10: 1.0234654
A11: 0.056 | B11: =A11/U11*3600*1000 -> 203.31498 | C11: 0 | D11: 0 | G11: 0 | H11: 2772.4534 | I11: 315 | J11: 295 | L11: 299.42428 | N11: 314.6955 | O11: =I11-Q11/(T11*A11) -> 314.6955 | P11: =I11-N11 -> 0.30449838 | Q11: 71.252481 | R11: =Q11/(Abmessungen!B$17*S11) -> 7.4880345 | S11: =((I11-L11)-(N11-J11))/LN((I11-L11)/(N11-J11)) -> 17.555116 | T11: =((AE11 + AF11*I11 +AG11*I11^2 + AH11*I11^3)+(AE11 + AF11*N11 + AG11*N11^2 + AH11*N11^3))/2 -> 4178.5632 | U11: =((AA11 + AB11*I11 + AC11*I11^2 + AD11*I11^3)+(AA11 + AB11*N11 + AC11*N11^2 + AD11*N11^3))/2 -> 991.56493 | V11: =((AK11 + AL11*J11)+(AK11 + AL11*L11))/2 -> 1006.9859 | W11: =((AI11 + AJ11*J11)+(AI11 + AJ11*L11))/2 -> 1.1885043 | AA11: -144.24373 | AB11: 10.5287 | AC11: -0.031256926 | AD11: 2.9456116e-05 | AE11: 17554.454 | AF11: -125.69235 | AG11: 0.39362054 | AH11: -0.00041079636 | AI11: 2.306401 | AJ11: -0.0037612753 | AK11: 995.1762 | AL11: 0.039735 | AN11: -1.040899 | AO11: 4.3025437 | AP11: 1.0234654
A12: 0.062 | B12: =A12/U12*3600*1000 -> 225.09986 | C12: 0 | D12: 0 | G12: 0 | H12: 3301.7351 | I12: 315 | J12: 295 | L12: 299.52558 | N12: 314.7211 | O12: =I12-Q12/(T12*A12) -> 314.7211 | P12: =I12-N12 -> 0.27889736 | Q12: 72.254195 | R12: =Q12/(Abmessungen!B$17*S12) -> 7.6119908 | S12: =((I12-L12)-(N12-J12))/LN((I12-L12)/(N12-J12)) -> 17.512025 | T12: =((AE12 + AF12*I12 +AG12*I12^2 + AH12*I12^3)+(AE12 + AF12*N12 + AG12*N12^2 + AH12*N12^3))/2 -> 4178.5632 | U12: =((AA12 + AB12*I12 + AC12*I12^2 + AD12*I12^3)+(AA12 + AB12*N12 + AC12*N12^2 + AD12*N12^3))/2 -> 991.5599 | V12: =((AK12 + AL12*J12)+(AK12 + AL12*L12))/2 -> 1006.9879 | W12: =((AI12 + AJ12*J12)+(AI12 + AJ12*L12))/2 -> 1.1883138 | AA12: -144.24373 | AB12: 10.5287 | AC12: -0.031256926 | AD12: 2.9456116e-05 | AE12: 17554.454 | AF12: -125.69235 | AG12: 0.39362054 | AH12: -0.00041079636 | AI12: 2.306401 | AJ12: -0.0037612753 | AK12: 995.1762 | AL12: 0.039735 | AN12: -1.040899 | AO12: 4.3025437 | AP12: 1.0234654
A13: 0.068 | B13: =A13/U13*3600*1000 -> 246.88478 | C13: 0 | D13: 0 | G13: 0 | H13: 3875.9652 | I13: 315 | J13: 295 | L13: 299.6171 | N13: 314.74282 | O13: =I13-Q13/(T13*A13) -> 314.74282 | P13: =I13-N13 -> 0.257179 | Q13: 73.075433 | R13: =Q13/(Abmessungen!B$17*S13) -> 7.7160154 | S13: =((I13-L13)-(N13-J13))/LN((I13-L13)/(N13-J13)) -> 17.472291 | T13: =((AE13 + AF13*I13 +AG13*I13^2 + AH13*I13^3)+(AE13 + AF13*N13 + AG13*N13^2 + AH13*N13^3))/2 -> 4178.5632 | U13: =((AA13 + AB13*I13 + AC13*I13^2 + AD13*I13^3)+(AA13 + AB13*N13 + AC13*N13^2 + AD13*N13^3))/2 -> 991.55564 | V13: =((AK13 + AL13*J13)+(AK13 + AL13*L13))/2 -> 1006.9898 | W13: =((AI13 + AJ13*J13)+(AI13 + AJ13*L13))/2 -> 1.1881417 | AA13: -144.24373 | AB13: 10.5287 | AC13: -0.031256926 | AD13: 2.9456116e-05 | AE13: 17554.454 | AF13: -125.69235 | AG13: 0.39362054 | AH13: -0.00041079636 | AI13: 2.306401 | AJ13: -0.0037612753 | AK13: 995.1762 | AL13: 0.039735 | AN13: -1.040899 | AO13: 4.3025437 | AP13: 1.0234654
A14: 0.074 | B14: =A14/U14*3600*1000 -> 268.66973 | C14: 0 | D14: 0 | G14: 0 | H14: 4495.1437 | I14: 315 | J14: 295 | L14: 299.70056 | N14: 314.76147 | O14: =I14-Q14/(T14*A14) -> 314.76147 | P14: =I14-N14 -> 0.23852601 | Q14: 73.755507 | R14: =Q14/(Abmessungen!B$17*S14) -> 7.8043023 | S14: =((I14-L14)-(N14-J14))/LN((I14-L14)/(N14-J14)) -> 17.4354 | T14: =((AE14 + AF14*I14 +AG14*I14^2 + AH14*I14^3)+(AE14 + AF14*N14 + AG14*N14^2 + AH14*N14^3))/2 -> 4178.5633 | U14: =((AA14 + AB14*I14 + AC14*I14^2 + AD14*I14^3)+(AA14 + AB14*N14 + AC14*N14^2 + AD14*N14^3))/2 -> 991.55197 | V14: =((AK14 + AL14*J14)+(AK14 + AL14*L14))/2 -> 1006.9914 | W14: =((AI14 + AJ14*J14)+(AI14 + AJ14*L14))/2 -> 1.1879847 | AA14: -144.24373 | AB14: 10.5287 | AC14: -0.031256926 | AD14: 2.9456116e-05 | AE14: 17554.454 | AF14: -125.69235 | AG14: 0.39362054 | AH14: -0.00041079636 | AI14: 2.306401 | AJ14: -0.0037612753 | AK14: 995.1762 | AL14: 0.039735 | AN14: -1.040899 | AO14: 4.3025437 | AP14: 1.0234654
A15: 0.008 | B15: =A15/U15*3600*1000 -> 29.013461 | C15: 600 | D15: =F15/(0.02809*3600) -> 0.52397008 | E15: 26.492975 | F15: =E15*2 -> 52.98595 | G15: =AN15 + AO15*D15 + AP15*D15^2 -> 1.4944922 | H15: =H3 -> 156.34022 | I15: 315 | J15: 295 | K15: =Q15*3600/(V15*W15*F15) -> 11.715442 | L15: 306.71544 | M15: =J15+K15 -> 306.71544 | N15: 308.89715 | O15: =I15-Q15/(T15*A15) -> 308.89715 | P15: =I15-N15 -> 6.1028546 | Q15: 204.01582 | R15: =Q15/(Abmessungen!B$17*S15) -> 34.690179 | S15: =((I15-L15)-(N15-J15))/LN((I15-L15)/(N15-J15)) -> 10.849978 | T15: =((AE15 + AF15*I15 +AG15*I15^2 + AH15*I15^3)+(AE15 + AF15*N15 + AG15*N15^2 + AH15*N15^3))/2 -> 4178.6966 | U15: =((AA15 + AB15*I15 + AC15*I15^2 + AD15*I15^3)+(AA15 + AB15*N15 + AC15*N15^2 + AD15*N15^3))/2 -> 992.64268 | V15: =((AK15 + AL15*J15)+(AK15 + AL15*L15))/2 -> 1007.1308 | W15: =((AI15 + AJ15*J15)+(AI15 + AJ15*L15))/2 -> 1.1747923 | AA15: -144.24373 | AB15: 10.5287 | AC15: -0.031256926 | AD15: 2.9456116e-05 | AE15: 17554.454 | AF15: -125.69235 | AG15: 0.39362054 | AH15: -0.00041079636 | AI15: 2.306401 | AJ15: -0.0037612753 | AK15: 995.1762 | AL15: 0.039735 | AN15: -1.040899 | AO15: 4.3025437 | AP15: 1.0234654
A16: 0.014 | B16: =A16/U16*3600*1000 -> 50.794951 | C16: 600 | D16: =F16/(0.02809*3600) -> 0.52397008 | E16: 26.492975 | F16: =E16*2 -> 52.98595 | G16: =AN16 + AO16*D16 + AP16*D16^2 -> 1.4944922 | H16: =H4 -> 326.03512 | I16: 315 | J16: 295 | K16: =Q16*3600/(V16*W16*F16) -> 12.693468 | L16: 307.69348 | M16: =J16+K16 -> 307.69347 | N16: 311.22728 | O16: =I16-Q16/(T16*A16) -> 311.22728 | P16: =I16-N16 -> 3.7727157 | Q16: 220.7056 | R16: =Q16/(Abmessungen!B$17*S16) -> 36.420504 | S16: =((I16-L16)-(N16-J16))/LN((I16-L16)/(N16-J16)) -> 11.179926 | T16: =((AE16 + AF16*I16 +AG16*I16^2 + AH16*I16^3)+(AE16 + AF16*N16 + AG16*N16^2 + AH16*N16^3))/2 -> 4178.6042 | U16: =((AA16 + AB16*I16 + AC16*I16^2 + AD16*I16^3)+(AA16 + AB16*N16 + AC16*N16^2 + AD16*N16^3))/2 -> 992.22461 | V16: =((AK16 + AL16*J16)+(AK16 + AL16*L16))/2 -> 1007.1502 | W16: =((AI16 + AJ16*J16)+(AI16 + AJ16*L16))/2 -> 1.172953 | AA16: -144.24373 | AB16: 10.5287 | AC16: -0.031256926 | AD16: 2.9456116e-05 | AE16: 17554.454 | AF16: -125.69235 | AG16: 0.39362054 | AH16: -0.00041079636 | AI16: 2.306401 | AJ16: -0.0037612753 | AK16: 995.1762 | AL16: 0.039735 | AN16: -1.040899 | AO16: 4.3025437 | AP16: 1.0234654
A17: 0.02 | B17: =A17/U17*3600*1000 -> 72.578305 | C17: 600 | D17: =F17/(0.02809*3600) -> 0.52397008 | E17: 26.492975 | F17: =E17*2 -> 52.98595 | G17: =AN17 + AO17*D17 + AP17*D17^2 -> 1.4944922 | H17: =H5 -> 540.67838 | I17: 315 | J17: 295 | K17: =Q17*3600/(V17*W17*F17) -> 13.160346 | L17: 308.16034 | M17: =J17+K17 -> 308.16035 | N17: 312.26397 | O17: =I17-Q17/(T17*A17) -> 312.26397 | P17: =I17-N17 -> 2.7360264 | Q17: 228.65419 | R17: =Q17/(Abmessungen!B$17*S17) -> 37.46793 | S17: =((I17-L17)-(N17-J17))/LN((I17-L17)/(N17-J17)) -> 11.258772 | T17: =((AE17 + AF17*I17 +AG17*I17^2 + AH17*I17^3)+(AE17 + AF17*N17 + AG17*N17^2 + AH17*N17^3))/2 -> 4178.5816 | U17: =((AA17 + AB17*I17 + AC17*I17^2 + AD17*I17^3)+(AA17 + AB17*N17 + AC17*N17^2 + AD17*N17^3))/2 -> 992.03199 | V17: =((AK17 + AL17*J17)+(AK17 + AL17*L17))/2 -> 1007.1595 | W17: =((AI17 + AJ17*J17)+(AI17 + AJ17*L17))/2 -> 1.172075 | AA17: -144.24373 | AB17: 10.5287 | AC17: -0.031256926 | AD17: 2.9456116e-05 | AE17: 17554.454 | AF17: -125.69235 | AG17: 0.39362054 | AH17: -0.00041079636 | AI17: 2.306401 | AJ17: -0.0037612753 | AK17: 995.1762 | AL17: 0.039735 | AN17: -1.040899 | AO17: 4.3025437 | AP17: 1.0234654
A18: 0.026 | B18: =A18/U18*3600*1000 -> 94.362356 | C18: 600 | D18: =F18/(0.02809*3600) -> 0.52397008 | E18: 26.492975 | F18: =E18*2 -> 52.98595 | G18: =AN18 + AO18*D18 + AP18*D18^2 -> 1.4944922 | H18: =H6 -> 800.27 | I18: 315 | J18: 295 | K18: =Q18*3600/(V18*W18*F18) -> 13.437396 | L18: 308.43737 | M18: =J18+K18 -> 308.4374 | N18: 312.852 | O18: =I18-Q18/(T18*A18) -> 312.852 | P18: =I18-N18 -> 2.1480032 | Q18: 233.3653 | R18: =Q18/(Abmessungen!B$17*S18) -> 38.163882 | S18: =((I18-L18)-(N18-J18))/LN((I18-L18)/(N18-J18)) -> 11.2812 | T18: =((AE18 + AF18*I18 +AG18*I18^2 + AH18*I18^3)+(AE18 + AF18*N18 + AG18*N18^2 + AH18*N18^3))/2 -> 4178.5731 | U18: =((AA18 + AB18*I18 + AC18*I18^2 + AD18*I18^3)+(AA18 + AB18*N18 + AC18*N18^2 + AD18*N18^3))/2 -> 991.92097 | V18: =((AK18 + AL18*J18)+(AK18 + AL18*L18))/2 -> 1007.165 | W18: =((AI18 + AJ18*J18)+(AI18 + AJ18*L18))/2 -> 1.171554 | AA18: -144.24373 | AB18: 10.5287 | AC18: -0.031256926 | AD18: 2.9456116e-05 | AE18: 17554.454 | AF18: -125.69235 | AG18: 0.39362054 | AH18: -0.00041079636 | AI18: 2.306401 | AJ18: -0.0037612753 | AK18: 995.1762 | AL18: 0.039735 | AN18: -1.040899 | AO18: 4.3025437 | AP18: 1.0234654
A19: 0.032 | B19: =A19/U19*3600*1000 -> 116.14675 | C19: 600 | D19: =F19/(0.02809*3600) -> 0.52397008 | E19: 26.492975 | F19: =E19*2 -> 52.98595 | G19: =AN19 + AO19*D19 + AP19*D19^2 -> 1.4944922 | H19: =H7 -> 1104.81 | I19: 315 | J19: 295 | K19: =Q19*3600/(V19*W19*F19) -> 13.622152 | L19: 308.62211 | M19: =J19+K19 -> 308.62215 | N19: 313.23127 | O19: =I19-Q19/(T19*A19) -> 313.23127 | P19: =I19-N19 -> 1.7687322 | Q19: 236.50462 | R19: =Q19/(Abmessungen!B$17*S19) -> 38.661869 | S19: =((I19-L19)-(N19-J19))/LN((I19-L19)/(N19-J19)) -> 11.285696 | T19: =((AE19 + AF19*I19 +AG19*I19^2 + AH19*I19^3)+(AE19 + AF19*N19 + AG19*N19^2 + AH19*N19^3))/2 -> 4178.5691 | U19: =((AA19 + AB19*I19 + AC19*I19^2 + AD19*I19^3)+(AA19 + AB19*N19 + AC19*N19^2 + AD19*N19^3))/2 -> 991.84871 | V19: =((AK19 + AL19*J19)+(AK19 + AL19*L19))/2 -> 1007.1687 | W19: =((AI19 + AJ19*J19)+(AI19 + AJ19*L19))/2 -> 1.1712065 | AA19: -144.24373 | AB19: 10.5287 | AC19: -0.031256926 | AD19: 2.9456116e-05 | AE19: 17554.454 | AF19: -125.69235 | AG19: 0.39362054 | AH19: -0.00041079636 | AI19: 2.306401 | AJ19: -0.0037612753 | AK19: 995.1762 | AL19: 0.039735 | AN19: -1.040899 | AO19: 4.3025437 | AP19: 1.0234654
A20: 0.038 | B20: =A20/U20*3600*1000 -> 137.93133 | C20: 600 | D20: =F20/(0.02809*3600) -> 0.52397008 | E20: 26.492975 | F20: =E20*2 -> 52.98595 | G20: =AN20 + AO20*D20 + AP20*D20^2 -> 1.4944922 | H20: =H8 -> 1454.2983 | I20: 315 | J20: 295 | K20: =Q20*3600/(V20*W20*F20) -> 13.754749 | L20: 308.7547 | M20: =J20+K20 -> 308.75475 | N20: 313.49636 | O20: =I20-Q20/(T20*A20) -> 313.49636 | P20: =I20-N20 -> 1.5036415 | Q20: 238.75652 | R20: =Q20/(Abmessungen!B$17*S20) -> 39.037408 | S20: =((I20-L20)-(N20-J20))/LN((I20-L20)/(N20-J20)) -> 11.283552 | T20: =((AE20 + AF20*I20 +AG20*I20^2 + AH20*I20^3)+(AE20 + AF20*N20 + AG20*N20^2 + AH20*N20^3))/2 -> 4178.5669 | U20: =((AA20 + AB20*I20 + AC20*I20^2 + AD20*I20^3)+(AA20 + AB20*N20 + AC20*N20^2 + AD20*N20^3))/2 -> 991.79789 | V20: =((AK20 + AL20*J20)+(AK20 + AL20*L20))/2 -> 1007.1713 | W20: =((AI20 + AJ20*J20)+(AI20 + AJ20*L20))/2 -> 1.1709572 | AA20: -144.24373 | AB20: 10.5287 | AC20: -0.031256926 | AD20: 2.9456116e-05 | AE20: 17554.454 | AF20: -125.69235 | AG20: 0.39362054 | AH20: -0.00041079636 | AI20: 2.306401 | AJ20: -0.0037612753 | AK20: 995.1762 | AL20: 0.039735 | AN20: -1.040899 | AO20: 4.3025437 | AP20: 1.0234654
A21: 0.044 | B21: =A21/U21*3600*1000 -> 159.71603 | C21: 600 | D21: =F21/(0.02809*3600) -> 0.52397008 | E21: 26.492975 | F21: =E21*2 -> 52.98595 | G21: =AN21 + AO21*D21 + AP21*D21^2 -> 1.4944922 | H21: =H9 -> 1848.735 | I21: 315 | J21: 295 | K21: =Q21*3600/(V21*W21*F21) -> 13.854859 | L21: 308.85481 | M21: =J21+K21 -> 308.85486 | N21: 313.69216 | O21: =I21-Q21/(T21*A21) -> 313.69216 | P21: =I21-N21 -> 1.3078436 | Q21: 240.45605 | R21: =Q21/(Abmessungen!B$17*S21) -> 39.331712 | S21: =((I21-L21)-(N21-J21))/LN((I21-L21)/(N21-J21)) -> 11.278839 | T21: =((AE21 + AF21*I21 +AG21*I21^2 + AH21*I21^3)+(AE21 + AF21*N21 + AG21*N21^2 + AH21*N21^3))/2 -> 4178.5656 | U21: =((AA21 + AB21*I21 + AC21*I21^2 + AD21*I21^3)+(AA21 + AB21*N21 + AC21*N21^2 + AD21*N21^3))/2 -> 991.7602 | V21: =((AK21 + AL21*J21)+(AK21 + AL21*L21))/2 -> 1007.1733 | W21: =((AI21 + AJ21*J21)+(AI21 + AJ21*L21))/2 -> 1.1707689 | AA21: -144.24373 | AB21: 10.5287 | AC21: -0.031256926 | AD21: 2.9456116e-05 | AE21: 17554.454 | AF21: -125.69235 | AG21: 0.39362054 | AH21: -0.00041079636 | AI21: 2.306401 | AJ21: -0.0037612753 | AK21: 995.1762 | AL21: 0.039735 | AN21: -1.040899 | AO21: 4.3025437 | AP21: 1.0234654
A22: 0.05 | B22: =A22/U22*3600*1000 -> 181.50081 | C22: 600 | D22: =F22/(0.02809*3600) -> 0.52397008 | E22: 26.492975 | F22: =E22*2 -> 52.98595 | G22: =AN22 + AO22*D22 + AP22*D22^2 -> 1.4944922 | H22: =H10 -> 2288.12 | I22: 315 | J22: 295 | K22: =Q22*3600/(V22*W22*F22) -> 13.9333 | L22: 308.93325 | M22: =J22+K22 -> 308.9333 | N22: 313.84273 | O22: =I22-Q22/(T22*A22) -> 313.84273 | P22: =I22-N22 -> 1.1572745 | Q22: 241.78732 | R22: =Q22/(Abmessungen!B$17*S22) -> 39.569205 | S22: =((I22-L22)-(N22-J22))/LN((I22-L22)/(N22-J22)) -> 11.273214 | T22: =((AE22 + AF22*I22 +AG22*I22^2 + AH22*I22^3)+(AE22 + AF22*N22 + AG22*N22^2 + AH22*N22^3))/2 -> 4178.5649 | U22: =((AA22 + AB22*I22 + AC22*I22^2 + AD22*I22^3)+(AA22 + AB22*N22 + AC22*N22^2 + AD22*N22^3))/2 -> 991.73112 | V22: =((AK22 + AL22*J22)+(AK22 + AL22*L22))/2 -> 1007.1748 | W22: =((AI22 + AJ22*J22)+(AI22 + AJ22*L22))/2 -> 1.1706214 | AA22: -144.24373 | AB22: 10.5287 | AC22: -0.031256926 | AD22: 2.9456116e-05 | AE22: 17554.454 | AF22: -125.69235 | AG22: 0.39362054 | AH22: -0.00041079636 | AI22: 2.306401 | AJ22: -0.0037612753 | AK22: 995.1762 | AL22: 0.039735 | AN22: -1.040899 | AO22: 4.3025437 | AP22: 1.0234654
A23: 0.056 | B23: =A23/U23*3600*1000 -> 203.28564 | C23: 600 | D23: =F23/(0.02809*3600) -> 0.52397008 | E23: 26.492975 | F23: =E23*2 -> 52.98595 | G23: =AN23 + AO23*D23 + AP23*D23^2 -> 1.4944922 | H23: =H11 -> 2772.4534 | I23: 315 | J23: 295 | K23: =Q23*3600/(V23*W23*F23) -> 13.996533 | L23: 308.99648 | M23: =J23+K23 -> 308.99653 | N23: 313.96213 | O23: =I23-Q23/(T23*A23) -> 313.96213 | P23: =I23-N23 -> 1.0378661 | Q23: 242.86025 | R23: =Q23/(Abmessungen!B$17*S23) -> 39.765311 | S23: =((I23-L23)-(N23-J23))/LN((I23-L23)/(N23-J23)) -> 11.267397 | T23: =((AE23 + AF23*I23 +AG23*I23^2 + AH23*I23^3)+(AE23 + AF23*N23 + AG23*N23^2 + AH23*N23^3))/2 -> 4178.5643 | U23: =((AA23 + AB23*I23 + AC23*I23^2 + AD23*I23^3)+(AA23 + AB23*N23 + AC23*N23^2 + AD23*N23^3))/2 -> 991.708 | V23: =((AK23 + AL23*J23)+(AK23 + AL23*L23))/2 -> 1007.1761 | W23: =((AI23 + AJ23*J23)+(AI23 + AJ23*L23))/2 -> 1.1705025 | AA23: -144.24373 | AB23: 10.5287 | AC23: -0.031256926 | AD23: 2.9456116e-05 | AE23: 17554.454 | AF23: -125.69235 | AG23: 0.39362054 | AH23: -0.00041079636 | AI23: 2.306401 | AJ23: -0.0037612753 | AK23: 995.1762 | AL23: 0.039735 | AN23: -1.040899 | AO23: 4.3025437 | AP23: 1.0234654
A24: 0.062 | B24: =A24/U24*3600*1000 -> 225.07052 | C24: 600 | D24: =F24/(0.02809*3600) -> 0.52397008 | E24: 26.492975 | F24: =E24*2 -> 52.98595 | G24: =AN24 + AO24*D24 + AP24*D24^2 -> 1.4944922 | H24: =H12 -> 3301.7351 | I24: 315 | J24: 295 | K24: =Q24*3600/(V24*W24*F24) -> 14.048664 | L24: 309.04862 | M24: =J24+K24 -> 309.04866 | N24: 314.05916 | O24: =I24-Q24/(T24*A24) -> 314.05916 | P24: =I24-N24 -> 0.94084117 | Q24: 243.74463 | R24: =Q24/(Abmessungen!B$17*S24) -> 39.93027 | S24: =((I24-L24)-(N24-J24))/LN((I24-L24)/(N24-J24)) -> 11.26171 | T24: =((AE24 + AF24*I24 +AG24*I24^2 + AH24*I24^3)+(AE24 + AF24*N24 + AG24*N24^2 + AH24*N24^3))/2 -> 4178.564 | U24: =((AA24 + AB24*I24 + AC24*I24^2 + AD24*I24^3)+(AA24 + AB24*N24 + AC24*N24^2 + AD24*N24^3))/2 -> 991.68918 | V24: =((AK24 + AL24*J24)+(AK24 + AL24*L24))/2 -> 1007.1771 | W24: =((AI24 + AJ24*J24)+(AI24 + AJ24*L24))/2 -> 1.1704044 | AA24: -144.24373 | AB24: 10.5287 | AC24: -0.031256926 | AD24: 2.9456116e-05 | AE24: 17554.454 | AF24: -125.69235 | AG24: 0.39362054 | AH24: -0.00041079636 | AI24: 2.306401 | AJ24: -0.0037612753 | AK24: 995.1762 | AL24: 0.039735 | AN24: -1.040899 | AO24: 4.3025437 | AP24: 1.0234654
A25: 0.068 | B25: =A25/U25*3600*1000 -> 246.85543 | C25: 600 | D25: =F25/(0.02809*3600) -> 0.52397008 | E25: 26.492975 | F25: =E25*2 -> 52.98595 | G25: =AN25 + AO25*D25 + AP25*D25^2 -> 1.4944922 | H25: =H13 -> 3875.9652 | I25: 315 | J25: 295 | K25: =Q25*3600/(V25*W25*F25) -> 14.092431 | L25: 309.09239 | M25: =J25+K25 -> 309.09243 | N25: 314.13956 | O25: =I25-Q25/(T25*A25) -> 314.13956 | P25: =I25-N25 -> 0.86043849 | Q25: 244.487 | R25: =Q25/(Abmessungen!B$17*S25) -> 40.071162 | S25: =((I25-L25)-(N25-J25))/LN((I25-L25)/(N25-J25)) -> 11.256293 | T25: =((AE25 + AF25*I25 +AG25*I25^2 + AH25*I25^3)+(AE25 + AF25*N25 + AG25*N25^2 + AH25*N25^3))/2 -> 4178.5638 | U25: =((AA25 + AB25*I25 + AC25*I25^2 + AD25*I25^3)+(AA25 + AB25*N25 + AC25*N25^2 + AD25*N25^3))/2 -> 991.67356 | V25: =((AK25 + AL25*J25)+(AK25 + AL25*L25))/2 -> 1007.178 | W25: =((AI25 + AJ25*J25)+(AI25 + AJ25*L25))/2 -> 1.1703221 | AA25: -144.24373 | AB25: 10.5287 | AC25: -0.031256926 | AD25: 2.9456116e-05 | AE25: 17554.454 | AF25: -125.69235 | AG25: 0.39362054 | AH25: -0.00041079636 | AI25: 2.306401 | AJ25: -0.0037612753 | AK25: 995.1762 | AL25: 0.039735 | AN25: -1.040899 | AO25: 4.3025437 | AP25: 1.0234654
A26: 0.074 | B26: =A26/U26*3600*1000 -> 268.64036 | C26: 600 | D26: =F26/(0.02809*3600) -> 0.52397008 | E26: 26.492975 | F26: =E26*2 -> 52.98595 | G26: =AN26 + AO26*D26 + AP26*D26^2 -> 1.4944922 | H26: =H14 -> 4495.1437 | I26: 315 | J26: 295 | K26: =Q26*3600/(V26*W26*F26) -> 14.129732 | L26: 309.1297 | M26: =J26+K26 -> 309.12973 | N26: 314.20728 | O26: =I26-Q26/(T26*A26) -> 314.20728 | P26: =I26-N26 -> 0.79271916 | Q26: 245.11963 | R26: =Q26/(Abmessungen!B$17*S26) -> 40.193045 | S26: =((I26-L26)-(N26-J26))/LN((I26-L26)/(N26-J26)) -> 11.251197 | T26: =((AE26 + AF26*I26 +AG26*I26^2 + AH26*I26^3)+(AE26 + AF26*N26 + AG26*N26^2 + AH26*N26^3))/2 -> 4178.5636 | U26: =((AA26 + AB26*I26 + AC26*I26^2 + AD26*I26^3)+(AA26 + AB26*N26 + AC26*N26^2 + AD26*N26^3))/2 -> 991.66039 | V26: =((AK26 + AL26*J26)+(AK26 + AL26*L26))/2 -> 1007.1787 | W26: =((AI26 + AJ26*J26)+(AI26 + AJ26*L26))/2 -> 1.170252 | AA26: -144.24373 | AB26: 10.5287 | AC26: -0.031256926 | AD26: 2.9456116e-05 | AE26: 17554.454 | AF26: -125.69235 | AG26: 0.39362054 | AH26: -0.00041079636 | AI26: 2.306401 | AJ26: -0.0037612753 | AK26: 995.1762 | AL26: 0.039735 | AN26: -1.040899 | AO26: 4.3025437 | AP26: 1.0234654
... A110: 0.074 | B110: =A110/U110*3600*1000 -> 268.48787 | C110: 3000 | D110: =F110/(0.02809*3600) -> 3.1443955 | E110: 158.98693 | F110: =E110*2 -> 317.97385 | G110: =AN110 + AO110*D110 + AP110*D110^2 -> 22.607231 | H110: =H98 -> 4495.1437 | I110: 315 | J110: 295 | K110: =Q110*3600/(V110*W110*F110) -> 11.136537 | L110: 306.13601 | M110: =J110+K110 -> 306.13654 | N110: 311.23278 | O110: =I110-Q110/(T110*A110) -> 311.23278 | P110: =I110-N110 -> 3.7672181 | Q110: 1164.8868 | R110: =Q110/(Abmessungen!B$17*S110) -> 176.45744 | S110: =((I110-L110)-(N110-J110))/LN((I110-L110)/(N110-J110)) -> 12.179103 | T110: =((AE110 + AF110*I110 +AG110*I110^2 + AH110*I110^3)+(AE110 + AF110*N110 + AG110*N110^2 + AH110*N110^3))/2 -> 4178.6041 | U110: =((AA110 + AB110*I110 + AC110*I110^2 + AD110*I110^3)+(AA110 + AB110*N110 + AC110*N110^2 + AD110*N110^3))/2 -> 992.2236 | V110: =((AK110 + AL110*J110)+(AK110 + AL110*L110))/2 -> 1007.1193 | W110: =((AI110 + AJ110*J110)+(AI110 + AJ110*L110))/2 -> 1.175882 | AA110: -144.24373 | AB110: 10.5287 | AC110: -0.031256926 | AD110: 2.9456116e-05 | AE110: 17554.454 | AF110: -125.69235 | AG110: 0.39362054 | AH110: -0.00041079636 | AI110: 2.306401 | AJ110: -0.0037612753 | AK110: 995.1762 | AL110: 0.039735 | AN110: -1.040899 | AO110: 4.3025437 | AP110: 1.0234654
A114: 29 | D114: 50.8 | G114: 72.5 | J114: 94.4 | M114: 116.2 | O114: 137.9 | Q114: 159.7 | S114: 181.5
A115: 0.008 | D115: 0.014 | G115: 0.02 | J115: 0.026 | M115: 0.032 | O115: 0.038 | Q115: 0.044 | S115: 0.05
A118: rpm | B118: W | C118: K/W | D118: rpm | E118: W | F118: K/W | G118: rpm | H118: W | I118: K/W | J118: rpm | K118: W | L118: K/W | M118: W | N118: K/W | O118: W | P118: K/W | Q118: W | R118: K/W | S118: W | T118: K/W
A121: 0 | B121: =$Y$195 - $Z$195*EXP(-$AA$195*A121^$AB$195) -> 36.950783 | C121: =20/B121 -> 0.54126053
A122: 5 | B122: =$Y$195 - $Z$195*EXP(-$AA$195*A122^$AB$195) -> 37.159872 | C122: =20/B122 -> 0.53821499
A123: 10 | B123: =$Y$195 - $Z$195*EXP(-$AA$195*A123^$AB$195) -> 37.518014 | C123: =20/B123 -> 0.53307726
A124: 15 | B124: =$Y$195 - $Z$195*EXP(-$AA$195*A124^$AB$195) -> 37.96746 | C124: =20/B124 -> 0.52676687
A125: 20 | B125: =$Y$195 - $Z$195*EXP(-$AA$195*A125^$AB$195) -> 38.488553 | C125: =20/B125 -> 0.51963501
A126: 25 | B126: =$Y$195 - $Z$195*EXP(-$AA$195*A126^$AB$195) -> 39.070111 | C126: =20/B126 -> 0.51190026 | D126: 0 | E126: =$AC$195 - $AD$195*EXP(-$AE$195*D126^$AF$195) -> 48.501446 | F126: =20/E126 -> 0.41235884
A127: 30 | B127: =$Y$195 - $Z$195*EXP(-$AA$195*A127^$AB$195) -> 39.704647 | C127: =20/B127 -> 0.50371938 | D127: 5 | E127: =$AC$195 - $AD$195*EXP(-$AE$195*D127^$AF$195) -> 48.642804 | F127: =20/E127 -> 0.41116051
A128: 35 | B128: =$Y$195 - $Z$195*EXP(-$AA$195*A128^$AB$195) -> 40.386686 | C128: =20/B128 -> 0.4952127 | D128: 10 | E128: =$AC$195 - $AD$195*EXP(-$AE$195*D128^$AF$195) -> 48.905612 | F128: =20/E128 -> 0.40895102 | G128: 0 | H128: =$AG$195 - $AH$195*EXP(-$AI$195*G128^$AJ$195) -> 55.744833 | I128: =20/H128 -> 0.35877764
A129: 40 | B129: =$Y$195 - $Z$195*EXP(-$AA$195*A129^$AB$195) -> 41.11199 | C129: =20/B129 -> 0.48647608 | D129: 15 | E129: =$AC$195 - $AD$195*EXP(-$AE$195*D129^$AF$195) -> 49.248542 | F129: =20/E129 -> 0.40610339 | G129: 5 | H129: =$AG$195 - $AH$195*EXP(-$AI$195*G129^$AJ$195) -> 55.848513 | I129: =20/H129 -> 0.35811159
A130: 45 | B130: =$Y$195 - $Z$195*EXP(-$AA$195*A130^$AB$195) -> 41.877147 | C130: =20/B130 -> 0.47758745 | D130: 20 | E130: =$AC$195 - $AD$195*EXP(-$AE$195*D130^$AF$195) -> 49.65657 | F130: =20/E130 -> 0.40276644 | G130: 10 | H130: =$AG$195 - $AH$195*EXP(-$AI$195*G130^$AJ$195) -> 56.053837 | I130: =20/H130 -> 0.35679984
...

Sheet Typ1 2x F12
A1: kg/s | B1: L/h | C1: min^-1 | D1: m/s | E1: m³/h | F1: Gesamt [m³/h] | G1: dp [Pa] | H1: dp Fluid [Pa] | I1: Tin [K] | J1: TAmbient [K] | K1: dTAmbient | L1: TAmbient2 | M1: TAmbient2 | N1: Tout_avg | O1: Tout_avg | P1: dTFluid [K] | Q1: P [W] | R1: k [W/m²*K] | S1: dTlog | T1: cp [J/kg * K] | U1: ρ [kg/m³] | V1: cp [J/kg * K] | W1: ρ [kg/m³]
A2: 0 | B2: =A2/U2*3600*1000 -> 0 | C2: 0 | D2: 0 | G2: 0 | H2: 0 | I2: 315 | J2: 295 | T2: 4180 | U2: 991.5 | AA2: -144.24373 | AB2: 10.5287 | AC2: -0.031256926 | AD2: 2.9456116e-05 | AE2: 17554.454 | AF2: -125.69235 | AG2: 0.39362054 | AH2: -0.00041079636 | AI2: 2.306401 | AJ2: -0.0037612753 | AK2: 995.1762 | AL2: 0.039735 | AN2: -1.040899 | AO2: 4.3025437 | AP2: 1.0234654
A3: 0.008 | B3: =A3/U3*3600*1000 -> 29.040451 | C3: 0 | D3: 0 | G3: 0 | H3: 156.34022 | I3: 315 | J3: 295 | L3: 297.20729 | N3: 313.89953 | O3: =I3-Q3/(T3*A3) -> 313.89953 | P3: =I3-N3 -> 1.1004707 | Q3: 36.787103 | R3: =Q3/(Abmessungen!B$17*S3) -> 3.7004515 | S3: =((I3-L3)-(N3-J3))/LN((I3-L3)/(N3-J3)) -> 18.340553 | T3: =((AE3 + AF3*I3 +AG3*I3^2 + AH3*I3^3)+(AE3 + AF3*N3 + AG3*N3^2 + AH3*N3^3))/2 -> 4178.5646 | U3: =((AA3 + AB3*I3 + AC3*I3^2 + AD3*I3^3)+(AA3 + AB3*N3 + AC3*N3^2 + AD3*N3^3))/2 -> 991.72013 | V3: =((AK3 + AL3*J3)+(AK3 + AL3*L3))/2 -> 1006.9419 | W3: =((AI3 + AJ3*J3)+(AI3 + AJ3*L3))/2 -> 1.1926737 | AA3: -144.24373 | AB3: 10.5287 | AC3: -0.031256926 | AD3: 2.9456116e-05 | AE3: 17554.454 | AF3: -125.69235 | AG3: 0.39362054 | AH3: -0.00041079636 | AI3: 2.306401 | AJ3: -0.0037612753 | AK3: 995.1762 | AL3: 0.039735 | AN3: -1.040899 | AO3: 4.3025437 | AP3: 1.0234654
A4: 0.014 | B4: =A4/U4*3600*1000 -> 50.823476 | C4: 0 | D4: 0 | G4: 0 | H4: 326.03512 | I4: 315 | J4: 295 | L4: 297.94433 | N4: 314.16965 | O4: =I4-Q4/(T4*A4) -> 314.16965 | P4: =I4-N4 -> 0.83034724 | Q4: 48.575224 | R4: =Q4/(Abmessungen!B$17*S4) -> 4.9533369 | S4: =((I4-L4)-(N4-J4))/LN((I4-L4)/(N4-J4)) -> 18.092079 | T4: =((AE4 + AF4*I4 +AG4*I4^2 + AH4*I4^3)+(AE4 + AF4*N4 + AG4*N4^2 + AH4*N4^3))/2 -> 4178.5637 | U4: =((AA4 + AB4*I4 + AC4*I4^2 + AD4*I4^3)+(AA4 + AB4*N4 + AC4*N4^2 + AD4*N4^3))/2 -> 991.66771 | V4: =((AK4 + AL4*J4)+(AK4 + AL4*L4))/2 -> 1006.9565 | W4: =((AI4 + AJ4*J4)+(AI4 + AJ4*L4))/2 -> 1.1912876 | AA4: -144.24373 | AB4: 10.5287 | AC4: -0.031256926 | AD4: 2.9456116e-05 | AE4: 17554.454 | AF4: -125.69235 | AG4: 0.39362054 | AH4: -0.00041079636 | AI4: 2.306401 | AJ4: -0.0037612753 | AK4: 995.1762 | AL4: 0.039735 | AN4: -1.040899 | AO4: 4.3025437 | AP4: 1.0234654
A5: 0.02 | B5: =A5/U5*3600*1000 -> 72.607304 | C5: 0 | D5: 0 | G5: 0 | H5: 540.67838 | I5: 315 | J5: 295 | L5: 298.35294 | N5: 314.33359 | O5: =I5-Q5/(T5*A5) -> 314.33359 | P5: =I5-N5 -> 0.66641449 | Q5: 55.693103 | R5: =Q5/(Abmessungen!B$17*S5) -> 5.7219362 | S5: =((I5-L5)-(N5-J5))/LN((I5-L5)/(N5-J5)) -> 17.956842 | T5: =((AE5 + AF5*I5 +AG5*I5^2 + AH5*I5^3)+(AE5 + AF5*N5 + AG5*N5^2 + AH5*N5^3))/2 -> 4178.5633 | U5: =((AA5 + AB5*I5 + AC5*I5^2 + AD5*I5^3)+(AA5 + AB5*N5 + AC5*N5^2 + AD5*N5^3))/2 -> 991.63577 | V5: =((AK5 + AL5*J5)+(AK5 + AL5*L5))/2 -> 1006.9646 | W5: =((AI5 + AJ5*J5)+(AI5 + AJ5*L5))/2 -> 1.1905191 | AA5: -144.24373 | AB5: 10.5287 | AC5: -0.031256926 | AD5: 2.9456116e-05 | AE5: 17554.454 | AF5: -125.69235 | AG5: 0.39362054 | AH5: -0.00041079636 | AI5: 2.306401 | AJ5: -0.0037612753 | AK5: 995.1762 | AL5: 0.039735 | AN5: -1.040899 | AO5: 4.3025437 | AP5: 1.0234654
A6: 0.026 | B6: =A6/U6*3600*1000 -> 94.391533 | C6: 0 | D6: 0 | G6: 0 | H6: 800.27 | I6: 315 | J6: 295 | L6: 298.63722 | N6: 314.44321 | O6: =I6-Q6/(T6*A6) -> 314.44321 | P6: =I6-N6 -> 0.55679082 | Q6: 60.491227 | R6: =Q6/(Abmessungen!B$17*S6) -> 6.2490379 | S6: =((I6-L6)-(N6-J6))/LN((I6-L6)/(N6-J6)) -> 17.858739 | T6: =((AE6 + AF6*I6 +AG6*I6^2 + AH6*I6^3)+(AE6 + AF6*N6 + AG6*N6^2 + AH6*N6^3))/2 -> 4178.5632 | U6: =((AA6 + AB6*I6 + AC6*I6^2 + AD6*I6^3)+(AA6 + AB6*N6 + AC6*N6^2 + AD6*N6^3))/2 -> 991.61436 | V6: =((AK6 + AL6*J6)+(AK6 + AL6*L6))/2 -> 1006.9703 | W6: =((AI6 + AJ6*J6)+(AI6 + AJ6*L6))/2 -> 1.1899845 | AA6: -144.24373 | AB6: 10.5287 | AC6: -0.031256926 | AD6: 2.9456116e-05 | AE6: 17554.454 | AF6: -125.69235 | AG6: 0.39362054 | AH6: -0.00041079636 | AI6: 2.306401 | AJ6: -0.0037612753 | AK6: 995.1762 | AL6: 0.039735 | AN6: -1.040899 | AO6: 4.3025437 | AP6: 1.0234654
A7: 0.032 | B7: =A7/U7*3600*1000 -> 116.176 | C7: 0 | D7: 0 | G7: 0 | H7: 1104.81 | I7: 315 | J7: 295 | L7: 298.85549 | N7: 314.52189 | O7: =I7-Q7/(T7*A7) -> 314.52189 | P7: =I7-N7 -> 0.4781139 | Q7: 63.930533 | R7: =Q7/(Abmessungen!B$17*S7) -> 6.6336689 | S7: =((I7-L7)-(N7-J7))/LN((I7-L7)/(N7-J7)) -> 17.779768 | T7: =((AE7 + AF7*I7 +AG7*I7^2 + AH7*I7^3)+(AE7 + AF7*N7 + AG7*N7^2 + AH7*N7^3))/2 -> 4178.5632 | U7: =((AA7 + AB7*I7 + AC7*I7^2 + AD7*I7^3)+(AA7 + AB7*N7 + AC7*N7^2 + AD7*N7^3))/2 -> 991.59897 | V7: =((AK7 + AL7*J7)+(AK7 + AL7*L7))/2 -> 1006.9746 | W7: =((AI7 + AJ7*J7)+(AI7 + AJ7*L7))/2 -> 1.189574 | AA7: -144.24373 | AB7: 10.5287 | AC7: -0.031256926 | AD7: 2.9456116e-05 | AE7: 17554.454 | AF7: -125.69235 | AG7: 0.39362054 | AH7: -0.00041079636 | AI7: 2.306401 | AJ7: -0.0037612753 | AK7: 995.1762 | AL7: 0.039735 | AN7: -1.040899 | AO7: 4.3025437 | AP7: 1.0234654
A8: 0.038 | B8: =A8/U8*3600*1000 -> 137.96061 | C8: 0 | D8: 0 | G8: 0 | H8: 1454.2983 | I8: 315 | J8: 295 | L8: 299.03273 | N8: 314.58121 | O8: =I8-Q8/(T8*A8) -> 314.58121 | P8: =I8-N8 -> 0.41878591 | Q8: 66.497088 | R8: =Q8/(Abmessungen!B$17*S8) -> 6.9260552 | S8: =((I8-L8)-(N8-J8))/LN((I8-L8)/(N8-J8)) -> 17.712841 | T8: =((AE8 + AF8*I8 +AG8*I8^2 + AH8*I8^3)+(AE8 + AF8*N8 + AG8*N8^2 + AH8*N8^3))/2 -> 4178.5632 | U8: =((AA8 + AB8*I8 + AC8*I8^2 + AD8*I8^3)+(AA8 + AB8*N8 + AC8*N8^2 + AD8*N8^3))/2 -> 991.58735 | V8: =((AK8 + AL8*J8)+(AK8 + AL8*L8))/2 -> 1006.9781 | W8: =((AI8 + AJ8*J8)+(AI8 + AJ8*L8))/2 -> 1.1892407 | AA8: -144.24373 | AB8: 10.5287 | AC8: -0.031256926 | AD8: 2.9456116e-05 | AE8: 17554.454 | AF8: -125.69235 | AG8: 0.39362054 | AH8: -0.00041079636 | AI8: 2.306401 | AJ8: -0.0037612753 | AK8: 995.1762 | AL8: 0.039735 | AN8: -1.040899 | AO8: 4.3025437 | AP8: 1.0234654
A9: 0.044 | B9: =A9/U9*3600*1000 -> 159.74533 | C9: 0 | D9: 0 | G9: 0 | H9: 1848.735 | I9: 315 | J9: 295 | L9: 299.18196 | N9: 314.6276 | O9: =I9-Q9/(T9*A9) -> 314.6276 | P9: =I9-N9 -> 0.37240085 | Q9: 68.468421 | R9: =Q9/(Abmessungen!B$17*S9) -> 7.1549995 | S9: =((I9-L9)-(N9-J9))/LN((I9-L9)/(N9-J9)) -> 17.654371 | T9: =((AE9 + AF9*I9 +AG9*I9^2 + AH9*I9^3)+(AE9 + AF9*N9 + AG9*N9^2 + AH9*N9^3))/2 -> 4178.5632 | U9: =((AA9 + AB9*I9 + AC9*I9^2 + AD9*I9^3)+(AA9 + AB9*N9 + AC9*N9^2 + AD9*N9^3))/2 -> 991.57826 | V9: =((AK9 + AL9*J9)+(AK9 + AL9*L9))/2 -> 1006.9811 | W9: =((AI9 + AJ9*J9)+(AI9 + AJ9*L9))/2 -> 1.18896 | AA9: -144.24373 | AB9: 10.5287 | AC9: -0.031256926 | AD9: 2.9456116e-05 | AE9: 17554.454 | AF9: -125.69235 | AG9: 0.39362054 | AH9: -0.00041079636 | AI9: 2.306401 | AJ9: -0.0037612753 | AK9: 995.1762 | AL9: 0.039735 | AN9: -1.040899 | AO9: 4.3025437 | AP9: 1.0234654
A10: 0.05 | B10: =A10/U10*3600*1000 -> 181.53013 | C10: 0 | D10: 0 | G10: 0 | H10: 2288.12 | I10: 315 | J10: 295 | L10: 299.31084 | N10: 314.66488 | O10: =I10-Q10/(T10*A10) -> 314.66488 | P10: =I10-N10 -> 0.33512056 | Q10: 70.016122 | R10: =Q10/(Abmessungen!B$17*S10) -> 7.3384004 | S10: =((I10-L10)-(N10-J10))/LN((I10-L10)/(N10-J10)) -> 17.602251 | T10: =((AE10 + AF10*I10 +AG10*I10^2 + AH10*I10^3)+(AE10 + AF10*N10 + AG10*N10^2 + AH10*N10^3))/2 -> 4178.5632 | U10: =((AA10 + AB10*I10 + AC10*I10^2 + AD10*I10^3)+(AA10 + AB10*N10 + AC10*N10^2 + AD10*N10^3))/2 -> 991.57094 | V10: =((AK10 + AL10*J10)+(AK10 + AL10*L10))/2 -> 1006.9837 | W10: =((AI10 + AJ10*J10)+(AI10 + AJ10*L10))/2 -> 1.1887177 | AA10: -144.24373 | AB10: 10.5287 | AC10: -0.031256926 | AD10: 2.9456116e-05 | AE10: 17554.454 | AF10: -125.69235 | AG10: 0.39362054 | AH10: -0.00041079636 | AI10: 2.306401 | AJ10: -0.0037612753 | AK10: 995.1762 | AL10: 0.039735 | AN10: -1.040899 | AO10: 4.3025437 | AP10: 1.0234654
A11: 0.056 | B11: =A11/U11*3600*1000 -> 203.31498 | C11: 0 | D11: 0 | G11: 0 | H11: 2772.4534 | I11: 315 | J11: 295 | L11: 299.42428 | N11: 314.6955 | O11: =I11-Q11/(T11*A11) -> 314.6955 | P11: =I11-N11 -> 0.30449838 | Q11: 71.252481 | R11: =Q11/(Abmessungen!B$17*S11) -> 7.4880345 | S11: =((I11-L11)-(N11-J11))/LN((I11-L11)/(N11-J11)) -> 17.555116 | T11: =((AE11 + AF11*I11 +AG11*I11^2 + AH11*I11^3)+(AE11 + AF11*N11 + AG11*N11^2 + AH11*N11^3))/2 -> 4178.5632 | U11: =((AA11 + AB11*I11 + AC11*I11^2 + AD11*I11^3)+(AA11 + AB11*N11 + AC11*N11^2 + AD11*N11^3))/2 -> 991.56493 | V11: =((AK11 + AL11*J11)+(AK11 + AL11*L11))/2 -> 1006.9859 | W11: =((AI11 + AJ11*J11)+(AI11 + AJ11*L11))/2 -> 1.1885043 | AA11: -144.24373 | AB11: 10.5287 | AC11: -0.031256926 | AD11: 2.9456116e-05 | AE11: 17554.454 | AF11: -125.69235 | AG11: 0.39362054 | AH11: -0.00041079636 | AI11: 2.306401 | AJ11: -0.0037612753 | AK11: 995.1762 | AL11: 0.039735 | AN11: -1.040899 | AO11: 4.3025437 | AP11: 1.0234654
A12: 0.062 | B12: =A12/U12*3600*1000 -> 225.09986 | C12: 0 | D12: 0 | G12: 0 | H12: 3301.7351 | I12: 315 | J12: 295 | L12: 299.52558 | N12: 314.7211 | O12: =I12-Q12/(T12*A12) -> 314.7211 | P12: =I12-N12 -> 0.27889736 | Q12: 72.254195 | R12: =Q12/(Abmessungen!B$17*S12) -> 7.6119908 | S12: =((I12-L12)-(N12-J12))/LN((I12-L12)/(N12-J12)) -> 17.512025 | T12: =((AE12 + AF12*I12 +AG12*I12^2 + AH12*I12^3)+(AE12 + AF12*N12 + AG12*N12^2 + AH12*N12^3))/2 -> 4178.5632 | U12: =((AA12 + AB12*I12 + AC12*I12^2 + AD12*I12^3)+(AA12 + AB12*N12 + AC12*N12^2 + AD12*N12^3))/2 -> 991.5599 | V12: =((AK12 + AL12*J12)+(AK12 + AL12*L12))/2 -> 1006.9879 | W12: =((AI12 + AJ12*J12)+(AI12 + AJ12*L12))/2 -> 1.1883138 | AA12: -144.24373 | AB12: 10.5287 | AC12: -0.031256926 | AD12: 2.9456116e-05 | AE12: 17554.454 | AF12: -125.69235 | AG12: 0.39362054 | AH12: -0.00041079636 | AI12: 2.306401 | AJ12: -0.0037612753 | AK12: 995.1762 | AL12: 0.039735 | AN12: -1.040899 | AO12: 4.3025437 | AP12: 1.0234654
A13: 0.068 | B13: =A13/U13*3600*1000 -> 246.88478 | C13: 0 | D13: 0 | G13: 0 | H13: 3875.9652 | I13: 315 | J13: 295 | L13: 299.6171 | N13: 314.74282 | O13: =I13-Q13/(T13*A13) -> 314.74282 | P13: =I13-N13 -> 0.257179 | Q13: 73.075433 | R13: =Q13/(Abmessungen!B$17*S13) -> 7.7160154 | S13: =((I13-L13)-(N13-J13))/LN((I13-L13)/(N13-J13)) -> 17.472291 | T13: =((AE13 + AF13*I13 +AG13*I13^2 + AH13*I13^3)+(AE13 + AF13*N13 + AG13*N13^2 + AH13*N13^3))/2 -> 4178.5632 | U13: =((AA13 + AB13*I13 + AC13*I13^2 + AD13*I13^3)+(AA13 + AB13*N13 + AC13*N13^2 + AD13*N13^3))/2 -> 991.55564 | V13: =((AK13 + AL13*J13)+(AK13 + AL13*L13))/2 -> 1006.9898 | W13: =((AI13 + AJ13*J13)+(AI13 + AJ13*L13))/2 -> 1.1881417 | AA13: -144.24373 | AB13: 10.5287 | AC13: -0.031256926 | AD13: 2.9456116e-05 | AE13: 17554.454 | AF13: -125.69235 | AG13: 0.39362054 | AH13: -0.00041079636 | AI13: 2.306401 | AJ13: -0.0037612753 | AK13: 995.1762 | AL13: 0.039735 | AN13: -1.040899 | AO13: 4.3025437 | AP13: 1.0234654
A14: 0.074 | B14: =A14/U14*3600*1000 -> 268.66973 | C14: 0 | D14: 0 | G14: 0 | H14: 4495.1437 | I14: 315 | J14: 295 | L14: 299.70056 | N14: 314.76147 | O14: =I14-Q14/(T14*A14) -> 314.76147 | P14: =I14-N14 -> 0.23852601 | Q14: 73.755507 | R14: =Q14/(Abmessungen!B$17*S14) -> 7.8043023 | S14: =((I14-L14)-(N14-J14))/LN((I14-L14)/(N14-J14)) -> 17.4354 | T14: =((AE14 + AF14*I14 +AG14*I14^2 + AH14*I14^3)+(AE14 + AF14*N14 + AG14*N14^2 + AH14*N14^3))/2 -> 4178.5633 | U14: =((AA14 + AB14*I14 + AC14*I14^2 + AD14*I14^3)+(AA14 + AB14*N14 + AC14*N14^2 + AD14*N14^3))/2 -> 991.55197 | V14: =((AK14 + AL14*J14)+(AK14 + AL14*L14))/2 -> 1006.9914 | W14: =((AI14 + AJ14*J14)+(AI14 + AJ14*L14))/2 -> 1.1879847 | AA14: -144.24373 | AB14: 10.5287 | AC14: -0.031256926 | AD14: 2.9456116e-05 | AE14: 17554.454 | AF14: -125.69235 | AG14: 0.39362054 | AH14: -0.00041079636 | AI14: 2.306401 | AJ14: -0.0037612753 | AK14: 995.1762 | AL14: 0.039735 | AN14: -1.040899 | AO14: 4.3025437 | AP14: 1.0234654
A15: 0.008 | B15: =A15/U15*3600*1000 -> 29.008846 | C15: 600 | D15: =F15/(0.02809*3600) -> 0.61759886 | E15: 31.227034 | F15: =E15*2 -> 62.454067 | G15: =AN15 + AO15*D15 + AP15*D15^2 -> 2.0067259 | H15: =H3 -> 156.34022 | I15: 315 | J15: 295 | K15: =Q15*3600/(V15*W15*F15) -> 11.420443 | L15: 306.42054 | M15: =J15+K15 -> 306.42044 | N15: 307.98448 | O15: =I15-Q15/(T15*A15) -> 307.98457 | P15: =I15-N15 -> 7.0155181 | Q15: 234.52578 | R15: =Q15/(Abmessungen!B$17*S15) -> 40.702112 | S15: =((I15-L15)-(N15-J15))/LN((I15-L15)/(N15-J15)) -> 10.630292 | T15: =((AE15 + AF15*I15 +AG15*I15^2 + AH15*I15^3)+(AE15 + AF15*N15 + AG15*N15^2 + AH15*N15^3))/2 -> 4178.7511 | U15: =((AA15 + AB15*I15 + AC15*I15^2 + AD15*I15^3)+(AA15 + AB15*N15 + AC15*N15^2 + AD15*N15^3))/2 -> 992.80062 | V15: =((AK15 + AL15*J15)+(AK15 + AL15*L15))/2 -> 1007.1249 | W15: =((AI15 + AJ15*J15)+(AI15 + AJ15*L15))/2 -> 1.1753469 | AA15: -144.24373 | AB15: 10.5287 | AC15: -0.031256926 | AD15: 2.9456116e-05 | AE15: 17554.454 | AF15: -125.69235 | AG15: 0.39362054 | AH15: -0.00041079636 | AI15: 2.306401 | AJ15: -0.0037612753 | AK15: 995.1762 | AL15: 0.039735 | AN15: -1.040899 | AO15: 4.3025437 | AP15: 1.0234654
A16: 0.014 | B16: =A16/U16*3600*1000 -> 50.788911 | C16: 600 | D16: =F16/(0.02809*3600) -> 0.61759886 | E16: 31.227034 | F16: =E16*2 -> 62.454067 | G16: =AN16 + AO16*D16 + AP16*D16^2 -> 2.0067259 | H16: =H4 -> 326.03512 | I16: 315 | J16: 295 | K16: =Q16*3600/(V16*W16*F16) -> 12.6115 | L16: 307.61153 | M16: =J16+K16 -> 307.6115 | N16: 310.58128 | O16: =I16-Q16/(T16*A16) -> 310.5813 | P16: =I16-N16 -> 4.4187241 | Q16: 258.49739 | R16: =Q16/(Abmessungen!B$17*S16) -> 43.433097 | S16: =((I16-L16)-(N16-J16))/LN((I16-L16)/(N16-J16)) -> 10.980116 | T16: =((AE16 + AF16*I16 +AG16*I16^2 + AH16*I16^3)+(AE16 + AF16*N16 + AG16*N16^2 + AH16*N16^3))/2 -> 4178.6237 | U16: =((AA16 + AB16*I16 + AC16*I16^2 + AD16*I16^3)+(AA16 + AB16*N16 + AC16*N16^2 + AD16*N16^3))/2 -> 992.3426 | V16: =((AK16 + AL16*J16)+(AK16 + AL16*L16))/2 -> 1007.1486 | W16: =((AI16 + AJ16*J16)+(AI16 + AJ16*L16))/2 -> 1.1731071 | AA16: -144.24373 | AB16: 10.5287 | AC16: -0.031256926 | AD16: 2.9456116e-05 | AE16: 17554.454 | AF16: -125.69235 | AG16: 0.39362054 | AH16: -0.00041079636 | AI16: 2.306401 | AJ16: -0.0037612753 | AK16: 995.1762 | AL16: 0.039735 | AN16: -1.040899 | AO16: 4.3025437 | AP16: 1.0234654
A17: 0.02 | B17: =A17/U17*3600*1000 -> 72.571608 | C17: 600 | D17: =F17/(0.02809*3600) -> 0.61759886 | E17: 31.227034 | F17: =E17*2 -> 62.454067 | G17: =AN17 + AO17*D17 + AP17*D17^2 -> 2.0067259 | H17: =H5 -> 540.67838 | I17: 315 | J17: 295 | K17: =Q17*3600/(V17*W17*F17) -> 13.164938 | L17: 308.16494 | M17: =J17+K17 -> 308.16494 | N17: 311.77397 | O17: =I17-Q17/(T17*A17) -> 311.77398 | P17: =I17-N17 -> 3.2260318 | Q17: 269.60474 | R17: =Q17/(Abmessungen!B$17*S17) -> 44.928504 | S17: =((I17-L17)-(N17-J17))/LN((I17-L17)/(N17-J17)) -> 11.070752 | T17: =((AE17 + AF17*I17 +AG17*I17^2 + AH17*I17^3)+(AE17 + AF17*N17 + AG17*N17^2 + AH17*N17^3))/2 -> 4178.591 | U17: =((AA17 + AB17*I17 + AC17*I17^2 + AD17*I17^3)+(AA17 + AB17*N17 + AC17*N17^2 + AD17*N17^3))/2 -> 992.12353 | V17: =((AK17 + AL17*J17)+(AK17 + AL17*L17))/2 -> 1007.1596 | W17: =((AI17 + AJ17*J17)+(AI17 + AJ17*L17))/2 -> 1.1720663 | AA17: -144.24373 | AB17: 10.5287 | AC17: -0.031256926 | AD17: 2.9456116e-05 | AE17: 17554.454 | AF17: -125.69235 | AG17: 0.39362054 | AH17: -0.00041079636 | AI17: 2.306401 | AJ17: -0.0037612753 | AK17: 995.1762 | AL17: 0.039735 | AN17: -1.040899 | AO17: 4.3025437 | AP17: 1.0234654
A18: 0.026 | B18: =A18/U18*3600*1000 -> 94.355305 | C18: 600 | D18: =F18/(0.02809*3600) -> 0.61759886 | E18: 31.227034 | F18: =E18*2 -> 62.454067 | G18: =AN18 + AO18*D18 + AP18*D18^2 -> 2.0067259 | H18: =H6 -> 800.27 | I18: 315 | J18: 295 | K18: =Q18*3600/(V18*W18*F18) -> 13.481143 | L18: 308.48112 | M18: =J18+K18 -> 308.48114 | N18: 312.4601 | O18: =I18-Q18/(T18*A18) -> 312.4601 | P18: =I18-N18 -> 2.5398987 | Q18: 275.94196 | R18: =Q18/(Abmessungen!B$17*S18) -> 45.84109 | S18: =((I18-L18)-(N18-J18))/LN((I18-L18)/(N18-J18)) -> 11.105404 | T18: =((AE18 + AF18*I18 +AG18*I18^2 + AH18*I18^3)+(AE18 + AF18*N18 + AG18*N18^2 + AH18*N18^3))/2 -> 4178.5784 | U18: =((AA18 + AB18*I18 + AC18*I18^2 + AD18*I18^3)+(AA18 + AB18*N18 + AC18*N18^2 + AD18*N18^3))/2 -> 991.9951 | V18: =((AK18 + AL18*J18)+(AK18 + AL18*L18))/2 -> 1007.1659 | W18: =((AI18 + AJ18*J18)+(AI18 + AJ18*L18))/2 -> 1.1714717 | AA18: -144.24373 | AB18: 10.5287 | AC18: -0.031256926 | AD18: 2.9456116e-05 | AE18: 17554.454 | AF18: -125.69235 | AG18: 0.39362054 | AH18: -0.00041079636 | AI18: 2.306401 | AJ18: -0.0037612753 | AK18: 995.1762 | AL18: 0.039735 | AN18: -1.040899 | AO18: 4.3025437 | AP18: 1.0234654
A19: 0.032 | B19: =A19/U19*3600*1000 -> 116.13949 | C19: 600 | D19: =F19/(0.02809*3600) -> 0.61759886 | E19: 31.227034 | F19: =E19*2 -> 62.454067 | G19: =AN19 + AO19*D19 + AP19*D19^2 -> 2.0067259 | H19: =H7 -> 1104.81 | I19: 315 | J19: 295 | K19: =Q19*3600/(V19*W19*F19) -> 13.682882 | L19: 308.68285 | M19: =J19+K19 -> 308.68288 | N19: 312.90612 | O19: =I19-Q19/(T19*A19) -> 312.90612 | P19: =I19-N19 -> 2.0938815 | Q19: 279.98171 | R19: =Q19/(Abmessungen!B$17*S19) -> 46.437827 | S19: =((I19-L19)-(N19-J19))/LN((I19-L19)/(N19-J19)) -> 11.123189 | T19: =((AE19 + AF19*I19 +AG19*I19^2 + AH19*I19^3)+(AE19 + AF19*N19 + AG19*N19^2 + AH19*N19^3))/2 -> 4178.5724 | U19: =((AA19 + AB19*I19 + AC19*I19^2 + AD19*I19^3)+(AA19 + AB19*N19 + AC19*N19^2 + AD19*N19^3))/2 -> 991.91069 | V19: =((AK19 + AL19*J19)+(AK19 + AL19*L19))/2 -> 1007.1699 | W19: =((AI19 + AJ19*J19)+(AI19 + AJ19*L19))/2 -> 1.1710923 | AA19: -144.24373 | AB19: 10.5287 | AC19: -0.031256926 | AD19: 2.9456116e-05 | AE19: 17554.454 | AF19: -125.69235 | AG19: 0.39362054 | AH19: -0.00041079636 | AI19: 2.306401 | AJ19: -0.0037612753 | AK19: 995.1762 | AL19: 0.039735 | AN19: -1.040899 | AO19: 4.3025437 | AP19: 1.0234654
A20: 0.038 | B20: =A20/U20*3600*1000 -> 137.92394 | C20: 600 | D20: =F20/(0.02809*3600) -> 0.61759886 | E20: 31.227034 | F20: =E20*2 -> 62.454067 | G20: =AN20 + AO20*D20 + AP20*D20^2 -> 2.0067259 | H20: =H8 -> 1454.2983 | I20: 315 | J20: 295 | K20: =Q20*3600/(V20*W20*F20) -> 13.820557 | L20: 308.82053 | M20: =J20+K20 -> 308.82056 | N20: 313.21938 | O20: =I20-Q20/(T20*A20) -> 313.21938 | P20: =I20-N20 -> 1.7806224 | Q20: 282.73709 | R20: =Q20/(Abmessungen!B$17*S20) -> 46.844487 | S20: =((I20-L20)-(N20-J20))/LN((I20-L20)/(N20-J20)) -> 11.135144 | T20: =((AE20 + AF20*I20 +AG20*I20^2 + AH20*I20^3)+(AE20 + AF20*N20 + AG20*N20^2 + AH20*N20^3))/2 -> 4178.5692 | U20: =((AA20 + AB20*I20 + AC20*I20^2 + AD20*I20^3)+(AA20 + AB20*N20 + AC20*N20^2 + AD20*N20^3))/2 -> 991.85098 | V20: =((AK20 + AL20*J20)+(AK20 + AL20*L20))/2 -> 1007.1726 | W20: =((AI20 + AJ20*J20)+(AI20 + AJ20*L20))/2 -> 1.1708334 | AA20: -144.24373 | AB20: 10.5287 | AC20: -0.031256926 | AD20: 2.9456116e-05 | AE20: 17554.454 | AF20: -125.69235 | AG20: 0.39362054 | AH20: -0.00041079636 | AI20: 2.306401 | AJ20: -0.0037612753 | AK20: 995.1762 | AL20: 0.039735 | AN20: -1.040899 | AO20: 4.3025437 | AP20: 1.0234654
A21: 0.044 | B21: =A21/U21*3600*1000 -> 159.70857 | C21: 600 | D21: =F21/(0.02809*3600) -> 0.61759886 | E21: 31.227034 | F21: =E21*2 -> 62.454067 | G21: =AN21 + AO21*D21 + AP21*D21^2 -> 2.0067259 | H21: =H9 -> 1848.735 | I21: 315 | J21: 295 | K21: =Q21*3600/(V21*W21*F21) -> 13.918725 | L21: 308.91869 | M21: =J21+K21 -> 308.91873 | N21: 313.45151 | O21: =I21-Q21/(T21*A21) -> 313.45151 | P21: =I21-N21 -> 1.5484926 | Q21: 284.70103 | R21: =Q21/(Abmessungen!B$17*S21) -> 47.1279 | S21: =((I21-L21)-(N21-J21))/LN((I21-L21)/(N21-J21)) -> 11.145062 | T21: =((AE21 + AF21*I21 +AG21*I21^2 + AH21*I21^3)+(AE21 + AF21*N21 + AG21*N21^2 + AH21*N21^3))/2 -> 4178.5672 | U21: =((AA21 + AB21*I21 + AC21*I21^2 + AD21*I21^3)+(AA21 + AB21*N21 + AC21*N21^2 + AD21*N21^3))/2 -> 991.80651 | V21: =((AK21 + AL21*J21)+(AK21 + AL21*L21))/2 -> 1007.1746 | W21: =((AI21 + AJ21*J21)+(AI21 + AJ21*L21))/2 -> 1.1706488 | AA21: -144.24373 | AB21: 10.5287 | AC21: -0.031256926 | AD21: 2.9456116e-05 | AE21: 17554.454 | AF21: -125.69235 | AG21: 0.39362054 | AH21: -0.00041079636 | AI21: 2.306401 | AJ21: -0.0037612753 | AK21: 995.1762 | AL21: 0.039735 | AN21: -1.040899 | AO21: 4.3025437 | AP21: 1.0234654
A22: 0.05 | B22: =A22/U22*3600*1000 -> 181.49331 | C22: 600 | D22: =F22/(0.02809*3600) -> 0.61759886 | E22: 31.227034 | F22: =E22*2 -> 62.454067 | G22: =AN22 + AO22*D22 + AP22*D22^2 -> 2.0067259 | H22: =H10 -> 2288.12 | I22: 315 | J22: 295 | K22: =Q22*3600/(V22*W22*F22) -> 13.990798 | L22: 308.99077 | M22: =J22+K22 -> 308.9908 | N22: 313.63043 | O22: =I22-Q22/(T22*A22) -> 313.63043 | P22: =I22-N22 -> 1.3695732 | Q22: 286.14253 | R22: =Q22/(Abmessungen!B$17*S22) -> 47.326872 | S22: =((I22-L22)-(N22-J22))/LN((I22-L22)/(N22-J22)) -> 11.154399 | T22: =((AE22 + AF22*I22 +AG22*I22^2 + AH22*I22^3)+(AE22 + AF22*N22 + AG22*N22^2 + AH22*N22^3))/2 -> 4178.566 | U22: =((AA22 + AB22*I22 + AC22*I22^2 + AD22*I22^3)+(AA22 + AB22*N22 + AC22*N22^2 + AD22*N22^3))/2 -> 991.7721 | V22: =((AK22 + AL22*J22)+(AK22 + AL22*L22))/2 -> 1007.176 | W22: =((AI22 + AJ22*J22)+(AI22 + AJ22*L22))/2 -> 1.1705132 | AA22: -144.24373 | AB22: 10.5287 | AC22: -0.031256926 | AD22: 2.9456116e-05 | AE22: 17554.454 | AF22: -125.69235 | AG22: 0.39362054 | AH22: -0.00041079636 | AI22: 2.306401 | AJ22: -0.0037612753 | AK22: 995.1762 | AL22: 0.039735 | AN22: -1.040899 | AO22: 4.3025437 | AP22: 1.0234654
A23: 0.056 | B23: =A23/U23*3600*1000 -> 203.27813 | C23: 600 | D23: =F23/(0.02809*3600) -> 0.61759886 | E23: 31.227034 | F23: =E23*2 -> 62.454067 | G23: =AN23 + AO23*D23 + AP23*D23^2 -> 2.0067259 | H23: =H11 -> 2772.4534 | I23: 315 | J23: 295 | K23: =Q23*3600/(V23*W23*F23) -> 14.044731 | L23: 309.04471 | M23: =J23+K23 -> 309.04473 | N23: 313.77256 | O23: =I23-Q23/(T23*A23) -> 313.77256 | P23: =I23-N23 -> 1.2274422 | Q23: 287.22099 | R23: =Q23/(Abmessungen!B$17*S23) -> 47.465498 | S23: =((I23-L23)-(N23-J23))/LN((I23-L23)/(N23-J23)) -> 11.163739 | T23: =((AE23 + AF23*I23 +AG23*I23^2 + AH23*I23^3)+(AE23 + AF23*N23 + AG23*N23^2 + AH23*N23^3))/2 -> 4178.5652 | U23: =((AA23 + AB23*I23 + AC23*I23^2 + AD23*I23^3)+(AA23 + AB23*N23 + AC23*N23^2 + AD23*N23^3))/2 -> 991.74468 | V23: =((AK23 + AL23*J23)+(AK23 + AL23*L23))/2 -> 1007.1771 | W23: =((AI23 + AJ23*J23)+(AI23 + AJ23*L23))/2 -> 1.1704118 | AA23: -144.24373 | AB23: 10.5287 | AC23: -0.031256926 | AD23: 2.9456116e-05 | AE23: 17554.454 | AF23: -125.69235 | AG23: 0.39362054 | AH23: -0.00041079636 | AI23: 2.306401 | AJ23: -0.0037612753 | AK23: 995.1762 | AL23: 0.039735 | AN23: -1.040899 | AO23: 4.3025437 | AP23: 1.0234654
A24: 0.062 | B24: =A24/U24*3600*1000 -> 225.063 | C24: 600 | D24: =F24/(0.02809*3600) -> 0.61759886 | E24: 31.227034 | F24: =E24*2 -> 62.454067 | G24: =AN24 + AO24*D24 + AP24*D24^2 -> 2.0067259 | H24: =H12 -> 3301.7351 | I24: 315 | J24: 295 | K24: =Q24*3600/(V24*W24*F24) -> 14.085542 | L24: 309.08552 | M24: =J24+K24 -> 309.08554 | N24: 313.88819 | O24: =I24-Q24/(T24*A24) -> 313.88819 | P24: =I24-N24 -> 1.1118071 | Q24: 288.03693 | R24: =Q24/(Abmessungen!B$17*S24) -> 47.559545 | S24: =((I24-L24)-(N24-J24))/LN((I24-L24)/(N24-J24)) -> 11.173315 | T24: =((AE24 + AF24*I24 +AG24*I24^2 + AH24*I24^3)+(AE24 + AF24*N24 + AG24*N24^2 + AH24*N24^3))/2 -> 4178.5646 | U24: =((AA24 + AB24*I24 + AC24*I24^2 + AD24*I24^3)+(AA24 + AB24*N24 + AC24*N24^2 + AD24*N24^3))/2 -> 991.72233 | V24: =((AK24 + AL24*J24)+(AK24 + AL24*L24))/2 -> 1007.1779 | W24: =((AI24 + AJ24*J24)+(AI24 + AJ24*L24))/2 -> 1.170335 | AA24: -144.24373 | AB24: 10.5287 | AC24: -0.031256926 | AD24: 2.9456116e-05 | AE24: 17554.454 | AF24: -125.69235 | AG24: 0.39362054 | AH24: -0.00041079636 | AI24: 2.306401 | AJ24: -0.0037612753 | AK24: 995.1762 | AL24: 0.039735 | AN24: -1.040899 | AO24: 4.3025437 | AP24: 1.0234654
A25: 0.068 | B25: =A25/U25*3600*1000 -> 246.84791 | C25: 600 | D25: =F25/(0.02809*3600) -> 0.61759886 | E25: 31.227034 | F25: =E25*2 -> 62.454067 | G25: =AN25 + AO25*D25 + AP25*D25^2 -> 2.0067259 | H25: =H13 -> 3875.9652 | I25: 315 | J25: 295 | K25: =Q25*3600/(V25*W25*F25) -> 14.116557 | L25: 309.11654 | M25: =J25+K25 -> 309.11656 | N25: 313.98411 | O25: =I25-Q25/(T25*A25) -> 313.98411 | P25: =I25-N25 -> 1.0158885 | Q25: 288.65694 | R25: =Q25/(Abmessungen!B$17*S25) -> 47.619769 | S25: =((I25-L25)-(N25-J25))/LN((I25-L25)/(N25-J25)) -> 11.183204 | T25: =((AE25 + AF25*I25 +AG25*I25^2 + AH25*I25^3)+(AE25 + AF25*N25 + AG25*N25^2 + AH25*N25^3))/2 -> 4178.5643 | U25: =((AA25 + AB25*I25 + AC25*I25^2 + AD25*I25^3)+(AA25 + AB25*N25 + AC25*N25^2 + AD25*N25^3))/2 -> 991.70374 | V25: =((AK25 + AL25*J25)+(AK25 + AL25*L25))/2 -> 1007.1785 | W25: =((AI25 + AJ25*J25)+(AI25 + AJ25*L25))/2 -> 1.1702767 | AA25: -144.24373 | AB25: 10.5287 | AC25: -0.031256926 | AD25: 2.9456116e-05 | AE25: 17554.454 | AF25: -125.69235 | AG25: 0.39362054 | AH25: -0.00041079636 | AI25: 2.306401 | AJ25: -0.0037612753 | AK25: 995.1762 | AL25: 0.039735 | AN25: -1.040899 | AO25: 4.3025437 | AP25: 1.0234654
A26: 0.074 | B26: =A26/U26*3600*1000 -> 268.63286 | C26: 600 | D26: =F26/(0.02809*3600) -> 0.61759886 | E26: 31.227034 | F26: =E26*2 -> 62.454067 | G26: =AN26 + AO26*D26 + AP26*D26^2 -> 2.0067259 | H26: =H14 -> 4495.1437 | I26: 315 | J26: 295 | K26: =Q26*3600/(V26*W26*F26) -> 14.140066 | L26: 309.14006 | M26: =J26+K26 -> 309.14007 | N26: 314.06496 | O26: =I26-Q26/(T26*A26) -> 314.06496 | P26: =I26-N26 -> 0.93503897 | Q26: 289.12686 | R26: =Q26/(Abmessungen!B$17*S26) -> 47.653764 | S26: =((I26-L26)-(N26-J26))/LN((I26-L26)/(N26-J26)) -> 11.19342 | T26: =((AE26 + AF26*I26 +AG26*I26^2 + AH26*I26^3)+(AE26 + AF26*N26 + AG26*N26^2 + AH26*N26^3))/2 -> 4178.564 | U26: =((AA26 + AB26*I26 + AC26*I26^2 + AD26*I26^3)+(AA26 + AB26*N26 + AC26*N26^2 + AD26*N26^3))/2 -> 991.68806 | V26: =((AK26 + AL26*J26)+(AK26 + AL26*L26))/2 -> 1007.1789 | W26: =((AI26 + AJ26*J26)+(AI26 + AJ26*L26))/2 -> 1.1702325 | AA26: -144.24373 | AB26: 10.5287 | AC26: -0.031256926 | AD26: 2.9456116e-05 | AE26: 17554.454 | AF26: -125.69235 | AG26: 0.39362054 | AH26: -0.00041079636 | AI26: 2.306401 | AJ26: -0.0037612753 | AK26: 995.1762 | AL26: 0.039735 | AN26: -1.040899 | AO26: 4.3025437 | AP26: 1.0234654
... A110: 0.074 | B110: =A110/U110*3600*1000 -> 268.47682 | C110: 3000 | D110: =F110/(0.02809*3600) -> 3.4172872 | E110: 172.78488 | F110: =E110*2 -> 345.56976 | G110: =AN110 + AO110*D110 + AP110*D110^2 -> 25.614007 | H110: =H98 -> 4495.1437 | I110: 315 | J110: 295 | K110: =Q110*3600/(V110*W110*F110) -> 10.847652 | L110: 305.84773 | M110: =J110+K110 -> 305.84765 | N110: 311.01023 | O110: =I110-Q110/(T110*A110) -> 311.01023 | P110: =I110-N110 -> 3.9897747 | Q110: 1233.705 | R110: =Q110/(Abmessungen!B$17*S110) -> 185.59891 | S110: =((I110-L110)-(N110-J110))/LN((I110-L110)/(N110-J110)) -> 12.263303 | T110: =((AE110 + AF110*I110 +AG110*I110^2 + AH110*I110^3)+(AE110 + AF110*N110 + AG110*N110^2 + AH110*N110^3))/2 -> 4178.6103 | U110: =((AA110 + AB110*I110 + AC110*I110^2 + AD110*I110^3)+(AA110 + AB110*N110 + AC110*N110^2 + AD110*N110^3))/2 -> 992.26443 | V110: =((AK110 + AL110*J110)+(AK110 + AL110*L110))/2 -> 1007.1135 | W110: =((AI110 + AJ110*J110)+(AI110 + AJ110*L110))/2 -> 1.1764241 | AA110: -144.24373 | AB110: 10.5287 | AC110: -0.031256926 | AD110: 2.9456116e-05 | AE110: 17554.454 | AF110: -125.69235 | AG110: 0.39362054 | AH110: -0.00041079636 | AI110: 2.306401 | AJ110: -0.0037612753 | AK110: 995.1762 | AL110: 0.039735 | AN110: -1.040899 | AO110: 4.3025437 | AP110: 1.0234654
A114: 29 | D114: 50.8 | G114: 72.5 | J114: 94.4 | M114: 116.2 | O114: 137.9 | Q114: 159.7 | S114: 181.5
