Workbook

Sheet Wertung
B2: BBL Playoffs 2025 | D2: Play-Ins | E2: PO VF | F2: PO HF | G2: Finale | H2: Gesamt
B3: 1 | C3: smashie | D3: =smashie!P5 -> 4.4 | E3: =smashie!P10+smashie!P15+smashie!P20+smashie!P23+smashie!P25 -> 21.42 | F3: =smashie!P28+smashie!P32+smashie!P35+smashie!P38+smashie!P40 -> 7.67 | G3: =smashie!P45+smashie!P47+smashie!P49+smashie!P51 -> 5.5 | H3: =SUM(D3:G3) -> 38.99
B4: 2 | C4: Sueviti | D4: =Sueviti!P5 -> 2.85 | E4: =Sueviti!P10+Sueviti!P15+Sueviti!P20+Sueviti!P23+Sueviti!P25 -> 15.4 | F4: =Sueviti!P28+Sueviti!P32+Sueviti!P35+Sueviti!P38+Sueviti!P40 -> 11.92 | G4: =Sueviti!P43+Sueviti!P45+Sueviti!P47+Sueviti!P49+Sueviti!P51 -> 8 | H4: =SUM(D4:G4) -> 38.17
B5: 3 | C5: gerhard | D5: =gerhard!P5 -> 1.55 | E5: =gerhard!P10+gerhard!P15+gerhard!P20+gerhard!P23+gerhard!P25 -> 15.43 | F5: =gerhard!P28+gerhard!P32+gerhard!P35+gerhard!P38+gerhard!P40 -> 14.17 | G5: =gerhard!P43+gerhard!P45+gerhard!P47+gerhard!P49+gerhard!P51 -> 5.5 | H5: =SUM(D5:G5) -> 36.65
B6: 4 | C6: Steve | D6: =Steve!P5 -> 2.85 | E6: =Steve!P10+Steve!P15+Steve!P20+Steve!P23+Steve!P25 -> 18.69 | F6: =Steve!P28+Steve!P32+Steve!P35+Steve!P38+Steve!P40 -> 8.39 | G6: =Steve!P43+Steve!P45+Steve!P47+Steve!P49+Steve!P51 -> 5.9 | H6: =SUM(D6:G6) -> 35.83
B7: 5 | C7: Kim_Unicorn | D7: =Kim_Unicorn!P5 -> 4.4 | E7: =Kim_Unicorn!P10+Kim_Unicorn!P15+Kim_Unicorn!P20+Kim_Unicorn!P23+Kim_Unicorn!P25 -> 15.65 | F7: =Kim_Unicorn!P28+Kim_Unicorn!P32+Kim_Unicorn!P35+Kim_Unicorn!P38+Kim_Unicorn!P40 -> 11.92 | G7: =Kim_Unicorn!P43+Kim_Unicorn!P45+Kim_Unicorn!P47+Kim_Unicorn!P49+Kim_Unicorn!P51 -> 3.35 | H7: =SUM(D7:G7) -> 35.32
B8: 6 | C8: ehirsch | D8: =ehirsch!P5 -> 3.2 | E8: =ehirsch!P10+ehirsch!P15+ehirsch!P20+ehirsch!P23+ehirsch!P25 -> 17.75 | F8: =ehirsch!P28+ehirsch!P32+ehirsch!P35+ehirsch!P38+ehirsch!P40 -> 7.67 | G8: =ehirsch!P43+ehirsch!P45+ehirsch!P47+ehirsch!P49+ehirsch!P51 -> 5.5 | H8: =SUM(D8:G8) -> 34.12
B9: 7 | C9: PaSe1991 | D9: =PaSe1991!P5 -> 4.4 | E9: =PaSe1991!P10+PaSe1991!P15+PaSe1991!P20+PaSe1991!P23+PaSe1991!P25 -> 14.95 | F9: =PaSe1991!P28+PaSe1991!P32+PaSe1991!P35+PaSe1991!P38+PaSe1991!P40 -> 5.92 | G9: =PaSe1991!P43+PaSe1991!P45+PaSe1991!P47+PaSe1991!P49+PaSe1991!P51 -> 6.35 | H9: =SUM(D9:G9) -> 31.62
B10: 8 | C10: Sirtobi89 | D10: =Sirtobi89!P5 -> 2.85 | E10: =Sirtobi89!P10+Sirtobi89!P15+Sirtobi89!P20+Sirtobi89!P23+Sirtobi89!P25 -> 16.95 | F10: =Sirtobi89!P28+Sirtobi89!P32+Sirtobi89!P35+Sirtobi89!P38+Sirtobi89!P40 -> 7.67 | G10: =Sirtobi89!P43+Sirtobi89!P45+Sirtobi89!P47+Sirtobi89!P49+Sirtobi89!P51 -> 3.35 | H10: =SUM(D10:G10) -> 30.82
B11: 9 | C11: Psychosoph | D11: =Psychosoph!P5 -> 4.4 | E11: =Psychosoph!P10+Psychosoph!P15+Psychosoph!P20+Psychosoph!P23+Psychosoph!P25 -> 15.35 | F11: =Psychosoph!P28+Psychosoph!P32+Psychosoph!P35+Psychosoph!P38+Psychosoph!P40 -> 7.67 | G11: =Psychosoph!P43+Psychosoph!P45+Psychosoph!P47+Psychosoph!P49+Psychosoph!P51 -> 3.35 | H11: =SUM(D11:G11) -> 30.77
B12: 10 | C12: Mape | D12: =Mape!P5 -> 4.4 | E12: =Mape!P10+Mape!P15+Mape!P20+Mape!P23+Mape!P25 -> 12.7 | F12: =Mape!P28+Mape!P32+Mape!P35+Mape!P38+Mape!P40 -> 7.67 | G12: =Mape!P43+Mape!P45+Mape!P47+Mape!P49+Mape!P51 -> 2.1 | H12: =SUM(D12:G12) -> 26.87
B13: 11 | C13: Anklebreaker711 | E13: =Anklebreaker711!P10+Anklebreaker711!P15+Anklebreaker711!P20 -> 7.07 | G13: =Anklebreaker711!P47+Anklebreaker711!P49+Anklebreaker711!P51 -> 3.4 | H13: =SUM(D13:G13) -> 10.47
B14: 12 | C14: Fässla | D14: =Mape!P14 -> 0 | G14: =Fässla!P43+Fässla!P45+Fässla!P47+Fässla!P49+Fässla!P51 -> 4.6 | H14: =SUM(D14:G14) -> 4.6
B15: 13 | C15: whiteiverson | D15: =Mape!P14 -> 0 | G15: =whiteiverson!P43+whiteiverson!P45+whiteiverson!P47+whiteiverson!P49+whiteiverson!P51 -> 4.25 | H15: =SUM(D15:G15) -> 4.25

Sheet Steve
A1: Steve | B1: Spieltag | C1: Heim | E1: Auswärts | F1: Ergebnis | I1: 1 | J1: 2 | K1: 2 | L1: Tipp | M1: Richtig | N1: Gültigk. D | O1: Gültik. F | P1: Gesamt
B2: Play-Ins | C2: Berlin | D2: =IF(C2>0,":","") -> : | E2: MBC | F2: 81 | G2: =IF(ISNUMBER(F2),":","") -> : | H2: 78 | I2: 1.2 | K2: 4.5 | L2: 1 | M2: =IF(ISNUMBER(L2),IF(IF(F2>H2,1,"")=L2,I2,IF(IF(F2<H2,2,"")=L2,K2,IF(IF(F2=H2,0,"")=L2,J2,0))),"") -> 1.2 | N2: =IF(ISBLANK(F2),"",IF(ISNUMBER(F2),IF(AND(F2>=0,F2<250),IF($F2<>$H2,IF(F2=0,TRUE(),IF(MOD(F2,1)=0,TRUE(),FALSE())),FALSE()),FALSE()),FALSE())) -> TRUE | O2: =IF(ISBLANK(H2),"",IF(ISNUMBER(H2),IF(AND(H2>=0,H2<250),IF($F2<>$H2,IF(H2=0,TRUE(),IF(MOD(H2,1)=0,TRUE(),FALSE())),FALSE()),FALSE()),FALSE())) -> TRUE
C3: Oldenburg | D3: =IF(C3>0,":","") -> : | E3: Rostock | F3: 95 | G3: =IF(ISNUMBER(F3),":","") -> : | H3: 83 | I3: 1.65 | K3: 2.2 | L3: 1 | M3: =IF(ISNUMBER(L3),IF(IF(F3>H3,1,"")=L3,I3,IF(IF(F3<H3,2,"")=L3,K3,IF(IF(F3=H3,0,"")=L3,J3,0))),"") -> 1.65 | N3: =IF(ISBLANK(F3),"",IF(ISNUMBER(F3),IF(AND(F3>=0,F3<250),IF($F3<>$H3,IF(F3=0,TRUE(),IF(MOD(F3,1)=0,TRUE(),FALSE())),FALSE()),FALSE()),FALSE())) -> TRUE | O3: =IF(ISBLANK(H3),"",IF(ISNUMBER(H3),IF(AND(H3>=0,H3<250),IF($F3<>$H3,IF(H3=0,TRUE(),IF(MOD(H3,1)=0,TRUE(),FALSE())),FALSE()),FALSE()),FALSE())) -> TRUE
D4: =IF(C4>0,":","") | G4: =IF(ISNUMBER(F4),":","") | M4: =IF(ISNUMBER(L4),IF(IF(F4>H4,1,"")=L4,I4,IF(IF(F4<H4,2,"")=L4,K4,IF(IF(F4=H4,0,"")=L4,J4,0))),"") | N4: =IF(ISBLANK(F4),"",IF(ISNUMBER(F4),IF(AND(F4>=0,F4<250),IF($F4<>$H4,IF(F4=0,TRUE(),IF(MOD(F4,1)=0,TRUE(),FALSE())),FALSE()),FALSE()),FALSE())) | O4: =IF(ISBLANK(H4),"",IF(ISNUMBER(H4),IF(AND(H4>=0,H4<250),IF($F4<>$H4,IF(H4=0,TRUE(),IF(MOD(H4,1)=0,TRUE(),FALSE())),FALSE()),FALSE()),FALSE()))
C5: MBC | D5: =IF(C5>0,":","") -> : | E5: Oldenburg | F5: 110 | H5: 95 | I5: 1.55 | K5: 2.4 | L5: 2 | M5: =IF(ISNUMBER(L5),IF(IF(F5>H5,1,"")=L5,I5,IF(IF(F5<H5,2,"")=L5,K5,IF(IF(F5=H5,0,"")=L5,J5,0))),"") -> 0 | N5: =IF(ISBLANK(F5),"",IF(ISNUMBER(F5),IF(AND(F5>=0,F5<250),IF($F5<>$H5,IF(F5=0,TRUE(),IF(MOD(F5,1)=0,TRUE(),FALSE())),FALSE()),FALSE()),FALSE())) -> TRUE | O5: =IF(ISBLANK(H5),"",IF(ISNUMBER(H5),IF(AND(H5>=0,H5<250),IF($F5<>$H5,IF(H5=0,TRUE(),IF(MOD(H5,1)=0,TRUE(),FALSE())),FALSE()),FALSE()),FALSE())) -> TRUE | P5: =SUM(M2:M5) -> 2.85
D6: =IF(C6>0,":","") | G6: =IF(ISNUMBER(F6),":","") | M6: =IF(ISNUMBER(L6),IF(IF(F6>H6,1,"")=L6,I6,IF(IF(F6<H6,2,"")=L6,K6,IF(IF(F6=H6,0,"")=L6,J6,0))),"") | N6: =IF(ISBLANK(F6),"",IF(ISNUMBER(F6),IF(AND(F6>=0,F6<250),IF($F6<>$H6,IF(F6=0,TRUE(),IF(MOD(F6,1)=0,TRUE(),FALSE())),FALSE()),FALSE()),FALSE())) | O6: =IF(ISBLANK(H6),"",IF(ISNUMBER(H6),IF(AND(H6>=0,H6<250),IF($F6<>$H6,IF(H6=0,TRUE(),IF(MOD(H6,1)=0,TRUE(),FALSE())),FALSE()),FALSE()),FALSE()))
B7: Playoffs | C7: Chemnitz | D7: =IF(C7>0,":","") -> : | E7: Heidelberg | F7: 90 | G7: =IF(ISNUMBER(F7),":","") -> : | H7: 93 | I7: 1.4 | K7: 2.9 | L7: 1 | M7: =IF(ISNUMBER(L7),IF(IF(F7>H7,1,"")=L7,I7,IF(IF(F7<H7,2,"")=L7,K7,IF(IF(F7=H7,0,"")=L7,J7,0))),"") -> 0 | N7: =IF(ISBLANK(F7),"",IF(ISNUMBER(F7),IF(AND(F7>=0,F7<250),IF($F7<>$H7,IF(F7=0,TRUE(),IF(MOD(F7,1)=0,TRUE(),FALSE())),FALSE()),FALSE()),FALSE())) -> TRUE | O7: =IF(ISBLANK(H7),"",IF(ISNUMBER(H7),IF(AND(H7>=0,H7<250),IF($F7<>$H7,IF(H7=0,TRUE(),IF(MOD(H7,1)=0,TRUE(),FALSE())),FALSE()),FALSE()),FALSE())) -> TRUE
B8: 1. Runde | C8: ULM | D8: =IF(C8>0,":","") -> : | E8: ALBA | F8: 94 | G8: =IF(ISNUMBER(F8),":","") -> : | H8: 83 | I8: 1.55 | K8: 2.4 | L8: 1 | M8: =IF(ISNUMBER(L8),IF(IF(F8>H8,1,"")=L8,I8,IF(IF(F8<H8,2,"")=L8,K8,IF(IF(F8=H8,0,"")=L8,J8,0))),"") -> 1.55 | N8: =IF(ISBLANK(F8),"",IF(ISNUMBER(F8),IF(AND(F8>=0,F8<250),IF($F8<>$H8,IF(F8=0,TRUE(),IF(MOD(F8,1)=0,TRUE(),FALSE())),FALSE()),FALSE()),FALSE())) -> TRUE | O8: =IF(ISBLANK(H8),"",IF(ISNUMBER(H8),IF(AND(H8>=0,H8<250),IF($F8<>$H8,IF(H8=0,TRUE(),IF(MOD(H8,1)=0,TRUE(),FALSE())),FALSE()),FALSE()),FALSE())) -> TRUE
B9: Spiel 1 | C9: Bayern | D9: =IF(C9>0,":","") -> : | E9: MBC | F9: 78 | G9: =IF(ISNUMBER(F9),":","") -> : | H9: 60 | I9: 1.15 | K9: 5.2 | L9: 1 | M9: =IF(ISNUMBER(L9),IF(IF(F9>H9,1,"")=L9,I9,IF(IF(F9<H9,2,"")=L9,K9,IF(IF(F9=H9,0,"")=L9,J9,0))),"") -> 1.15 | N9: =IF(ISBLANK(F9),"",IF(ISNUMBER(F9),IF(AND(F9>=0,F9<250),IF($F9<>$H9,IF(F9=0,TRUE(),IF(MOD(F9,1)=0,TRUE(),FALSE())),FALSE()),FALSE()),FALSE())) -> TRUE | O9: =IF(ISBLANK(H9),"",IF(ISNUMBER(H9),IF(AND(H9>=0,H9<250),IF($F9<>$H9,IF(H9=0,TRUE(),IF(MOD(H9,1)=0,TRUE(),FALSE())),FALSE()),FALSE()),FALSE())) -> TRUE
C10: Braunschweig | D10: =IF(C10>0,":","") -> : | E10: Würzburg | F10: 92 | G10: =IF(ISNUMBER(F10),":","") -> : | H10: 79 | I10: 1.47 | K10: 2.6 | L10: 1 | M10: =IF(ISNUMBER(L10),IF(IF(F10>H10,1,"")=L10,I10,IF(IF(F10<H10,2,"")=L10,K10,IF(IF(F10=H10,0,"")=L10,J10,0))),"") -> 1.47 | N10: =IF(ISBLANK(F10),"",IF(ISNUMBER(F10),IF(AND(F10>=0,F10<250),IF($F10<>$H10,IF(F10=0,TRUE(),IF(MOD(F10,1)=0,TRUE(),FALSE())),FALSE()),FALSE()),FALSE())) -> TRUE | O10: =IF(ISBLANK(H10),"",IF(ISNUMBER(H10),IF(AND(H10>=0,H10<250),IF($F10<>$H10,IF(H10=0,TRUE(),IF(MOD(H10,1)=0,TRUE(),FALSE())),FALSE()),FALSE()),FALSE())) -> TRUE | P10: =SUM(M7:M10) -> 4.17
D11: =IF(C11>0,":","") | G11: =IF(ISNUMBER(F11),":","") | M11: =IF(ISNUMBER(L11),IF(IF(F11>H11,1,"")=L11,I11,IF(IF(F11<H11,2,"")=L11,K11,IF(IF(F11=H11,0,"")=L11,J11,0))),"") | N11: =IF(ISBLANK(F11),"",IF(ISNUMBER(F11),IF(AND(F11>=0,F11<250),IF($F11<>$H11,IF(F11=0,TRUE(),IF(MOD(F11,1)=0,TRUE(),FALSE())),FALSE()),FALSE()),FALSE())) | O11: =IF(ISBLANK(H11),"",IF(ISNUMBER(H11),IF(AND(H11>=0,H11<250),IF($F11<>$H11,IF(H11=0,TRUE(),IF(MOD(H11,1)=0,TRUE(),FALSE())),FALSE()),FALSE()),FALSE()))
B12: Playoffs | C12: Heidelberg | D12: =IF(C12>0,":","") -> : | E12: Chemnitz | F12: 74 | G12: =IF(ISNUMBER(F12),":","") -> : | H12: 70 | I12: 1.7 | K12: 2.1 | L12: 1 | M12: =IF(ISNUMBER(L12),IF(IF(F12>H12,1,"")=L12,I12,IF(IF(F12<H12,2,"")=L12,K12,IF(IF(F12=H12,0,"")=L12,J12,0))),"") -> 1.7 | N12: =IF(ISBLANK(F12),"",IF(ISNUMBER(F12),IF(AND(F12>=0,F12<250),IF($F12<>$H12,IF(F12=0,TRUE(),IF(MOD(F12,1)=0,TRUE(),FALSE())),FALSE()),FALSE()),FALSE())) -> TRUE | O12: =IF(ISBLANK(H12),"",IF(ISNUMBER(H12),IF(AND(H12>=0,H12<250),IF($F12<>$H12,IF(H12=0,TRUE(),IF(MOD(H12,1)=0,TRUE(),FALSE())),FALSE()),FALSE()),FALSE())) -> TRUE
B13: 1. Runde | C13: ALBA | D13: =IF(C13>0,":","") -> : | E13: ULM | F13: 62 | G13: =IF(ISNUMBER(F13),":","") -> : | H13: 74 | I13: 1.5 | K13: 2.55 | L13: 2 | M13: =IF(ISNUMBER(L13),IF(IF(F13>H13,1,"")=L13,I13,IF(IF(F13<H13,2,"")=L13,K13,IF(IF(F13=H13,0,"")=L13,J13,0))),"") -> 2.55 | N13: =IF(ISBLANK(F13),"",IF(ISNUMBER(F13),IF(AND(F13>=0,F13<250),IF($F13<>$H13,IF(F13=0,TRUE(),IF(MOD(F13,1)=0,TRUE(),FALSE())),FALSE()),FALSE()),FALSE())) -> TRUE | O13: =IF(ISBLANK(H13),"",IF(ISNUMBER(H13),IF(AND(H13>=0,H13<250),IF($F13<>$H13,IF(H13=0,TRUE(),IF(MOD(H13,1)=0,TRUE(),FALSE())),FALSE()),FALSE()),FALSE())) -> TRUE
B14: Spiel 2 | C14: MBC | D14: =IF(C14>0,":","") -> : | E14: Bayern | F14: 65 | G14: =IF(ISNUMBER(F14),":","") -> : | H14: 80 | I14: 3.4 | K14: 1.3 | L14: 2 | M14: =IF(ISNUMBER(L14),IF(IF(F14>H14,1,"")=L14,I14,IF(IF(F14<H14,2,"")=L14,K14,IF(IF(F14=H14,0,"")=L14,J14,0))),"") -> 1.3 | N14: =IF(ISBLANK(F14),"",IF(ISNUMBER(F14),IF(AND(F14>=0,F14<250),IF($F14<>$H14,IF(F14=0,TRUE(),IF(MOD(F14,1)=0,TRUE(),FALSE())),FALSE()),FALSE()),FALSE())) -> TRUE | O14: =IF(ISBLANK(H14),"",IF(ISNUMBER(H14),IF(AND(H14>=0,H14<250),IF($F14<>$H14,IF(H14=0,TRUE(),IF(MOD(H14,1)=0,TRUE(),FALSE())),FALSE()),FALSE()),FALSE())) -> TRUE
C15: Würzburg | D15: =IF(C15>0,":","") -> : | E15: Braunschweig | F15: 94 | G15: =IF(ISNUMBER(F15),":","") -> : | H15: 90 | I15: 1.57 | K15: 2.35 | L15: 1 | M15: =IF(ISNUMBER(L15),IF(IF(F15>H15,1,"")=L15,I15,IF(IF(F15<H15,2,"")=L15,K15,IF(IF(F15=H15,0,"")=L15,J15,0))),"") -> 1.57 | N15: =IF(ISBLANK(F15),"",IF(ISNUMBER(F15),IF(AND(F15>=0,F15<250),IF($F15<>$H15,IF(F15=0,TRUE(),IF(MOD(F15,1)=0,TRUE(),FALSE())),FALSE()),FALSE()),FALSE())) -> TRUE | O15: =IF(ISBLANK(H15),"",IF(ISNUMBER(H15),IF(AND(H15>=0,H15<250),IF($F15<>$H15,IF(H15=0,TRUE(),IF(MOD(H15,1)=0,TRUE(),FALSE())),FALSE()),FALSE()),FALSE())) -> TRUE | P15: =SUM(M12:M15) -> 7.12
D16: =IF(C16>0,":","") | G16: =IF(ISNUMBER(F16),":","") | M16: =IF(ISNUMBER(L16),IF(IF(F16>H16,1,"")=L16,I16,IF(IF(F16<H16,2,"")=L16,K16,IF(IF(F16=H16,0,"")=L16,J16,0))),"") | N16: =IF(ISBLANK(F16),"",IF(ISNUMBER(F16),IF(AND(F16>=0,F16<250),IF($F16<>$H16,IF(F16=0,TRUE(),IF(MOD(F16,1)=0,TRUE(),FALSE())),FALSE()),FALSE()),FALSE())) | O16: =IF(ISBLANK(H16),"",IF(ISNUMBER(H16),IF(AND(H16>=0,H16<250),IF($F16<>$H16,IF(H16=0,TRUE(),IF(MOD(H16,1)=0,TRUE(),FALSE())),FALSE()),FALSE()),FALSE()))
B17: Playoffs | C17: Bayern | D17: =IF(C17>0,":","") -> : | E17: MBC | F17: 80 | G17: =IF(ISNUMBER(F17),":","") -> : | H17: 69 | I17: 1.06 | K17: 8.5 | L17: 1 | M17: =IF(ISNUMBER(L17),IF(IF(F17>H17,1,"")=L17,I17,IF(IF(F17<H17,2,"")=L17,K17,IF(IF(F17=H17,0,"")=L17,J17,0))),"") -> 1.06 | N17: =IF(ISBLANK(F17),"",IF(ISNUMBER(F17),IF(AND(F17>=0,F17<250),IF($F17<>$H17,IF(F17=0,TRUE(),IF(MOD(F17,1)=0,TRUE(),FALSE())),FALSE()),FALSE()),FALSE())) -> TRUE | O17: =IF(ISBLANK(H17),"",IF(ISNUMBER(H17),IF(AND(H17>=0,H17<250),IF($F17<>$H17,IF(H17=0,TRUE(),IF(MOD(H17,1)=0,TRUE(),FALSE())),FALSE()),FALSE()),FALSE())) -> TRUE
B18: 1. Runde | C18: ULM | D18: =IF(C18>0,":","") -> : | E18: ALBA | F18: 93 | G18: =IF(ISNUMBER(F18),":","") -> : | H18: 84 | I18: 1.55 | K18: 2.4 | L18: 1 | M18: =IF(ISNUMBER(L18),IF(IF(F18>H18,1,"")=L18,I18,IF(IF(F18<H18,2,"")=L18,K18,IF(IF(F18=H18,0,"")=L18,J18,0))),"") -> 1.55 | N18: =IF(ISBLANK(F18),"",IF(ISNUMBER(F18),IF(AND(F18>=0,F18<250),IF($F18<>$H18,IF(F18=0,TRUE(),IF(MOD(F18,1)=0,TRUE(),FALSE())),FALSE()),FALSE()),FALSE())) -> TRUE | O18: =IF(ISBLANK(H18),"",IF(ISNUMBER(H18),IF(AND(H18>=0,H18<250),IF($F18<>$H18,IF(H18=0,TRUE(),IF(MOD(H18,1)=0,TRUE(),FALSE())),FALSE()),FALSE()),FALSE())) -> TRUE
B19: Spiel 3 | C19: Braunschweig | D19: =IF(C19>0,":","") -> : | E19: Würzburg | F19: 80 | G19: =IF(ISNUMBER(F19),":","") -> : | H19: 75 | I19: 1.5 | K19: 2.55 | L19: 1 | M19: =IF(ISNUMBER(L19),IF(IF(F19>H19,1,"")=L19,I19,IF(IF(F19<H19,2,"")=L19,K19,IF(IF(F19=H19,0,"")=L19,J19,0))),"") -> 1.5 | N19: =IF(ISBLANK(F19),"",IF(ISNUMBER(F19),IF(AND(F19>=0,F19<250),IF($F19<>$H19,IF(F19=0,TRUE(),IF(MOD(F19,1)=0,TRUE(),FALSE())),FALSE()),FALSE()),FALSE())) -> TRUE | O19: =IF(ISBLANK(H19),"",IF(ISNUMBER(H19),IF(AND(H19>=0,H19<250),IF($F19<>$H19,IF(H19=0,TRUE(),IF(MOD(H19,1)=0,TRUE(),FALSE())),FALSE()),FALSE()),FALSE())) -> TRUE
C20: Chemnitz | D20: =IF(C20>0,":","") -> : | E20: Heidelberg | F20: 97 | G20: =IF(ISNUMBER(F20),":","") -> : | H20: 88 | I20: 1.4 | K20: 2.9 | L20: 2 | M20: =IF(ISNUMBER(L20),IF(IF(F20>H20,1,"")=L20,I20,IF(IF(F20<H20,2,"")=L20,K20,IF(IF(F20=H20,0,"")=L20,J20,0))),"") -> 0 | N20: =IF(ISBLANK(F20),"",IF(ISNUMBER(F20),IF(AND(F20>=0,F20<250),IF($F20<>$H20,IF(F20=0,TRUE(),IF(MOD(F20,1)=0,TRUE(),FALSE())),FALSE()),FALSE()),FALSE())) -> TRUE | O20: =IF(ISBLANK(H20),"",IF(ISNUMBER(H20),IF(AND(H20>=0,H20<250),IF($F20<>$H20,IF(H20=0,TRUE(),IF(MOD(H20,1)=0,TRUE(),FALSE())),FALSE()),FALSE()),FALSE())) -> TRUE | P20: =SUM(M17:M20) -> 4.11
D21: =IF(C21>0,":","") | G21: =IF(ISNUMBER(F21),":","") | M21: =IF(ISNUMBER(L21),IF(IF(F21>H21,1,"")=L21,I21,IF(IF(F21<H21,2,"")=L21,K21,IF(IF(F21=H21,0,"")=L21,J21,0))),"") | N21: =IF(ISBLANK(F21),"",IF(ISNUMBER(F21),IF(AND(F21>=0,F21<250),IF($F21<>$H21,IF(F21=0,TRUE(),IF(MOD(F21,1)=0,TRUE(),FALSE())),FALSE()),FALSE()),FALSE())) | O21: =IF(ISBLANK(H21),"",IF(ISNUMBER(H21),IF(AND(H21>=0,H21<250),IF($F21<>$H21,IF(H21=0,TRUE(),IF(MOD(H21,1)=0,TRUE(),FALSE())),FALSE()),FALSE()),FALSE()))
B22: Spiel 4 | C22: Heidelberg | D22: =IF(C22>0,":","") -> : | E22: Chemnitz | F22: 92 | G22: =IF(ISNUMBER(F22),":","") -> : | H22: 64 | I22: 1.67 | K22: 2.15 | L22: 1 | M22: =IF(ISNUMBER(L22),IF(IF(F22>H22,1,"")=L22,I22,IF(IF(F22<H22,2,"")=L22,K22,IF(IF(F22=H22,0,"")=L22,J22,0))),"") -> 1.67 | N22: =IF(ISBLANK(F22),"",IF(ISNUMBER(F22),IF(AND(F22>=0,F22<250),IF($F22<>$H22,IF(F22=0,TRUE(),IF(MOD(F22,1)=0,TRUE(),FALSE())),FALSE()),FALSE()),FALSE())) -> TRUE | O22: =IF(ISBLANK(H22),"",IF(ISNUMBER(H22),IF(AND(H22>=0,H22<250),IF($F22<>$H22,IF(H22=0,TRUE(),IF(MOD(H22,1)=0,TRUE(),FALSE())),FALSE()),FALSE()),FALSE())) -> TRUE
C23: Würzburg | D23: =IF(C23>0,":","") -> : | E23: Braunschweig | F23: 79 | G23: =IF(ISNUMBER(F23),":","") -> : | H23: 72 | I23: 1.62 | K23: 2.25 | L23: 1 | M23: =IF(ISNUMBER(L23),IF(IF(F23>H23,1,"")=L23,I23,IF(IF(F23<H23,2,"")=L23,K23,IF(IF(F23=H23,0,"")=L23,J23,0))),"") -> 1.62 | N23: =IF(ISBLANK(F23),"",IF(ISNUMBER(F23),IF(AND(F23>=0,F23<250),IF($F23<>$H23,IF(F23=0,TRUE(),IF(MOD(F23,1)=0,TRUE(),FALSE())),FALSE()),FALSE()),FALSE())) -> TRUE | O23: =IF(ISBLANK(H23),"",IF(ISNUMBER(H23),IF(AND(H23>=0,H23<250),IF($F23<>$H23,IF(H23=0,TRUE(),IF(MOD(H23,1)=0,TRUE(),FALSE())),FALSE()),FALSE()),FALSE())) -> TRUE | P23: =SUM(M22:M23) -> 3.29
D24: =IF(C24>0,":","") | G24: =IF(ISNUMBER(F24),":","") | M24: =IF(ISNUMBER(L24),IF(IF(F24>H24,1,"")=L24,I24,IF(IF(F24<H24,2,"")=L24,K24,IF(IF(F24=H24,0,"")=L24,J24,0))),"") | N24: =IF(ISBLANK(F24),"",IF(ISNUMBER(F24),IF(AND(F24>=0,F24<250),IF($F24<>$H24,IF(F24=0,TRUE(),IF(MOD(F24,1)=0,TRUE(),FALSE())),FALSE()),FALSE()),FALSE())) | O24: =IF(ISBLANK(H24),"",IF(ISNUMBER(H24),IF(AND(H24>=0,H24<250),IF($F24<>$H24,IF(H24=0,TRUE(),IF(MOD(H24,1)=0,TRUE(),FALSE())),FALSE()),FALSE()),FALSE()))
B25: Spiel 5 | C25: Braunschweig | D25: =IF(C25>0,":","") -> : | E25: Würzburg | F25: 88 | G25: =IF(ISNUMBER(F25),":","") -> : | H25: 97 | I25: 1.55 | K25: 2.4 | L25: 1 | M25: =IF(ISNUMBER(L25),IF(IF(F25>H25,1,"")=L25,I25,IF(IF(F25<H25,2,"")=L25,K25,IF(IF(F25=H25,0,"")=L25,J25,0))),"") -> 0 | N25: =IF(ISBLANK(F25),"",IF(ISNUMBER(F25),IF(AND(F25>=0,F25<250),IF($F25<>$H25,IF(F25=0,TRUE(),IF(MOD(F25,1)=0,TRUE(),FALSE())),FALSE()),FALSE()),FALSE())) -> TRUE | O25: =IF(ISBLANK(H25),"",IF(ISNUMBER(H25),IF(AND(H25>=0,H25<250),IF($F25<>$H25,IF(H25=0,TRUE(),IF(MOD(H25,1)=0,TRUE(),FALSE())),FALSE()),FALSE()),FALSE())) -> TRUE | P25: =SUM(M25) -> 0
D26: =IF(C26>0,":","") | G26: =IF(ISNUMBER(F26),":","") | M26: =IF(ISNUMBER(L26),IF(IF(F26>H26,1,"")=L26,I26,IF(IF(F26<H26,2,"")=L26,K26,IF(IF(F26=H26,0,"")=L26,J26,0))),"") | N26: =IF(ISBLANK(F26),"",IF(ISNUMBER(F26),IF(AND(F26>=0,F26<250),IF($F26<>$H26,IF(F26=0,TRUE(),IF(MOD(F26,1)=0,TRUE(),FALSE())),FALSE()),FALSE()),FALSE())) | O26: =IF(ISBLANK(H26),"",IF(ISNUMBER(H26),IF(AND(H26>=0,H26<250),IF($F26<>$H26,IF(H26=0,TRUE(),IF(MOD(H26,1)=0,TRUE(),FALSE())),FALSE()),FALSE()),FALSE()))
B27: Playoffs | C27: Bayern | D27: =IF(C27>0,":","") -> : | E27: Heidelberg | F27: 90 | G27: =IF(ISNUMBER(F27),":","") -> : | H27: 95 | I27: 1.1 | K27: 6.5 | L27: 1 | M27: =IF(ISNUMBER(L27),IF(IF(F27>H27,1,"")=L27,I27,IF(IF(F27<H27,2,"")=L27,K27,IF(IF(F27=H27,0,"")=L27,J27,0))),"") -> 0 | N27: =IF(ISBLANK(F27),"",IF(ISNUMBER(F27),IF(AND(F27>=0,F27<250),IF($F27<>$H27,IF(F27=0,TRUE(),IF(MOD(F27,1)=0,TRUE(),FALSE())),FALSE()),FALSE()),FALSE())) -> TRUE | O27: =IF(ISBLANK(H27),"",IF(ISNUMBER(H27),IF(AND(H27>=0,H27<250),IF($F27<>$H27,IF(H27=0,TRUE(),IF(MOD(H27,1)=0,TRUE(),FALSE())),FALSE()),FALSE()),FALSE())) -> TRUE
B28: Halbfinale | C28: Ulm | D28: =IF(C28>0,":","") -> : | E28: Würzburg | F28: 91 | G28: =IF(ISNUMBER(F28),":","") -> : | H28: 87 | I28: 1.3 | K28: 3.4 | L28: 1 | M28: =IF(ISNUMBER(L28),IF(IF(F28>H28,1,"")=L28,I28,IF(IF(F28<H28,2,"")=L28,K28,IF(IF(F28=H28,0,"")=L28,J28,0))),"") -> 1.3 | N28: =IF(ISBLANK(F28),"",IF(ISNUMBER(F28),IF(AND(F28>=0,F28<250),IF($F28<>$H28,IF(F28=0,TRUE(),IF(MOD(F28,1)=0,TRUE(),FALSE())),FALSE()),FALSE()),FALSE())) -> TRUE | O28: =IF(ISBLANK(H28),"",IF(ISNUMBER(H28),IF(AND(H28>=0,H28<250),IF($F28<>$H28,IF(H28=0,TRUE(),IF(MOD(H28,1)=0,TRUE(),FALSE())),FALSE()),FALSE()),FALSE())) -> TRUE | P28: =SUM(M27:M28) -> 1.3
B29: Spiel 1 | D29: =IF(C29>0,":","") | G29: =IF(ISNUMBER(F29),":","") | M29: =IF(ISNUMBER(L29),IF(IF(F29>H29,1,"")=L29,I29,IF(IF(F29<H29,2,"")=L29,K29,IF(IF(F29=H29,0,"")=L29,J29,0))),"") | N29: =IF(ISBLANK(F29),"",IF(ISNUMBER(F29),IF(AND(F29>=0,F29<250),IF($F29<>$H29,IF(F29=0,TRUE(),IF(MOD(F29,1)=0,TRUE(),FALSE())),FALSE()),FALSE()),FALSE())) | O29: =IF(ISBLANK(H29),"",IF(ISNUMBER(H29),IF(AND(H29>=0,H29<250),IF($F29<>$H29,IF(H29=0,TRUE(),IF(MOD(H29,1)=0,TRUE(),FALSE())),FALSE()),FALSE()),FALSE()))
D30: =IF(C30>0,":","") | G30: =IF(ISNUMBER(F30),":","") | M30: =IF(ISNUMBER(L30),IF(IF(F30>H30,1,"")=L30,I30,IF(IF(F30<H30,2,"")=L30,K30,IF(IF(F30=H30,0,"")=L30,J30,0))),"") | N30: =IF(ISBLANK(F30),"",IF(ISNUMBER(F30),IF(AND(F30>=0,F30<250),IF($F30<>$H30,IF(F30=0,TRUE(),IF(MOD(F30,1)=0,TRUE(),FALSE())),FALSE()),FALSE()),FALSE())) | O30: =IF(ISBLANK(H30),"",IF(ISNUMBER(H30),IF(AND(H30>=0,H30<250),IF($F30<>$H30,IF(H30=0,TRUE(),IF(MOD(H30,1)=0,TRUE(),FALSE())),FALSE()),FALSE()),FALSE()))
B31: Spiel 2 | C31: Würzburg | D31: =IF(C31>0,":","") -> : | E31: Ulm | F31: 87 | G31: =IF(ISNUMBER(F31),":","") -> : | H31: 77 | I31: 2.05 | K31: 1.75 | L31: 1 | M31: =IF(ISNUMBER(L31),IF(IF(F31>H31,1,"")=L31,I31,IF(IF(F31<H31,2,"")=L31,K31,IF(IF(F31=H31,0,"")=L31,J31,0))),"") -> 2.05 | N31: =IF(ISBLANK(F31),"",IF(ISNUMBER(F31),IF(AND(F31>=0,F31<250),IF($F31<>$H31,IF(F31=0,TRUE(),IF(MOD(F31,1)=0,TRUE(),FALSE())),FALSE()),FALSE()),FALSE())) -> TRUE | O31: =IF(ISBLANK(H31),"",IF(ISNUMBER(H31),IF(AND(H31>=0,H31<250),IF($F31<>$H31,IF(H31=0,TRUE(),IF(MOD(H31,1)=0,TRUE(),FALSE())),FALSE()),FALSE()),FALSE())) -> TRUE
C32: Heidelberg | D32: =IF(C32>0,":","") -> : | E32: Bayern | F32: 61 | G32: =IF(ISNUMBER(F32),":","") -> : | H32: 90 | I32: 3.2 | K32: 1.33 | L32: 1 | M32: =IF(ISNUMBER(L32),IF(IF(F32>H32,1,"")=L32,I32,IF(IF(F32<H32,2,"")=L32,K32,IF(IF(F32=H32,0,"")=L32,J32,0))),"") -> 0 | N32: =IF(ISBLANK(F32),"",IF(ISNUMBER(F32),IF(AND(F32>=0,F32<250),IF($F32<>$H32,IF(F32=0,TRUE(),IF(MOD(F32,1)=0,TRUE(),FALSE())),FALSE()),FALSE()),FALSE())) -> TRUE | O32: =IF(ISBLANK(H32),"",IF(ISNUMBER(H32),IF(AND(H32>=0,H32<250),IF($F32<>$H32,IF(H32=0,TRUE(),IF(MOD(H32,1)=0,TRUE(),FALSE())),FALSE()),FALSE()),FALSE())) -> TRUE | P32: =SUM(M31:M32) -> 2.05
D33: =IF(C33>0,":","") | G33: =IF(ISNUMBER(F33),":","") | M33: =IF(ISNUMBER(L33),IF(IF(F33>H33,1,"")=L33,I33,IF(IF(F33<H33,2,"")=L33,K33,IF(IF(F33=H33,0,"")=L33,J33,0))),"") | N33: =IF(ISBLANK(F33),"",IF(ISNUMBER(F33),IF(AND(F33>=0,F33<250),IF($F33<>$H33,IF(F33=0,TRUE(),IF(MOD(F33,1)=0,TRUE(),FALSE())),FALSE()),FALSE()),FALSE())) | O33: =IF(ISBLANK(H33),"",IF(ISNUMBER(H33),IF(AND(H33>=0,H33<250),IF($F33<>$H33,IF(H33=0,TRUE(),IF(MOD(H33,1)=0,TRUE(),FALSE())),FALSE()),FALSE()),FALSE()))
B34: Spiel 3 | C34: Ulm | D34: =IF(C34>0,":","") -> : | E34: Würzburg | F34: 99 | G34: =IF(ISNUMBER(F34),":","") -> : | H34: 86 | I34: 1.3 | K34: 3.4 | L34: 1 | M34: =IF(ISNUMBER(L34),IF(IF(F34>H34,1,"")=L34,I34,IF(IF(F34<H34,2,"")=L34,K34,IF(IF(F34=H34,0,"")=L34,J34,0))),"") -> 1.3 | N34: =IF(ISBLANK(F34),"",IF(ISNUMBER(F34),IF(AND(F34>=0,F34<250),IF($F34<>$H34,IF(F34=0,TRUE(),IF(MOD(F34,1)=0,TRUE(),FALSE())),FALSE()),FALSE()),FALSE())) -> TRUE | O34: =IF(ISBLANK(H34),"",IF(ISNUMBER(H34),IF(AND(H34>=0,H34<250),IF($F34<>$H34,IF(H34=0,TRUE(),IF(MOD(H34,1)=0,TRUE(),FALSE())),FALSE()),FALSE()),FALSE())) -> TRUE
C35: Bayern | D35: =IF(C35>0,":","") -> : | E35: Heidelberg | F35: 98 | G35: =IF(ISNUMBER(F35),":","") -> : | H35: 68 | I35: 1.14 | K35: 5.5 | L35: 1 | M35: =IF(ISNUMBER(L35),IF(IF(F35>H35,1,"")=L35,I35,IF(IF(F35<H35,2,"")=L35,K35,IF(IF(F35=H35,0,"")=L35,J35,0))),"") -> 1.14 | N35: =IF(ISBLANK(F35),"",IF(ISNUMBER(F35),IF(AND(F35>=0,F35<250),IF($F35<>$H35,IF(F35=0,TRUE(),IF(MOD(F35,1)=0,TRUE(),FALSE())),FALSE()),FALSE()),FALSE())) -> TRUE | O35: =IF(ISBLANK(H35),"",IF(ISNUMBER(H35),IF(AND(H35>=0,H35<250),IF($F35<>$H35,IF(H35=0,TRUE(),IF(MOD(H35,1)=0,TRUE(),FALSE())),FALSE()),FALSE()),FALSE())) -> TRUE | P35: =SUM(M34:M35) -> 2.44
D36: =IF(C36>0,":","") | G36: =IF(ISNUMBER(F36),":","") | M36: =IF(ISNUMBER(L36),IF(IF(F36>H36,1,"")=L36,I36,IF(IF(F36<H36,2,"")=L36,K36,IF(IF(F36=H36,0,"")=L36,J36,0))),"") | N36: =IF(ISBLANK(F36),"",IF(ISNUMBER(F36),IF(AND(F36>=0,F36<250),IF($F36<>$H36,IF(F36=0,TRUE(),IF(MOD(F36,1)=0,TRUE(),FALSE())),FALSE()),FALSE()),FALSE())) | O36: =IF(ISBLANK(H36),"",IF(ISNUMBER(H36),IF(AND(H36>=0,H36<250),IF($F36<>$H36,IF(H36=0,TRUE(),IF(MOD(H36,1)=0,TRUE(),FALSE())),FALSE()),FALSE()),FALSE()))
B37: Spiel 4 | C37: Würzburg | D37: =IF(C37>0,":","") -> : | E37: Ulm | F37: 78 | G37: =IF(ISNUMBER(F37),":","") -> : | H37: 77 | I37: 2.2 | K37: 1.65 | L37: 2 | M37: =IF(ISNUMBER(L37),IF(IF(F37>H37,1,"")=L37,I37,IF(IF(F37<H37,2,"")=L37,K37,IF(IF(F37=H37,0,"")=L37,J37,0))),"") -> 0 | N37: =IF(ISBLANK(F37),"",IF(ISNUMBER(F37),IF(AND(F37>=0,F37<250),IF($F37<>$H37,IF(F37=0,TRUE(),IF(MOD(F37,1)=0,TRUE(),FALSE())),FALSE()),FALSE()),FALSE())) -> TRUE | O37: =IF(ISBLANK(H37),"",IF(ISNUMBER(H37),IF(AND(H37>=0,H37<250),IF($F37<>$H37,IF(H37=0,TRUE(),IF(MOD(H37,1)=0,TRUE(),FALSE())),FALSE()),FALSE()),FALSE())) -> TRUE
C38: Heidelberg | D38: =IF(C38>0,":","") -> : | E38: Bayern | F38: 82 | G38: =IF(ISNUMBER(F38),":","") -> : | H38: 94 | I38: 3.8 | K38: 1.25 | L38: 2 | M38: =IF(ISNUMBER(L38),IF(IF(F38>H38,1,"")=L38,I38,IF(IF(F38<H38,2,"")=L38,K38,IF(IF(F38=H38,0,"")=L38,J38,0))),"") -> 1.25 | N38: =IF(ISBLANK(F38),"",IF(ISNUMBER(F38),IF(AND(F38>=0,F38<250),IF($F38<>$H38,IF(F38=0,TRUE(),IF(MOD(F38,1)=0,TRUE(),FALSE())),FALSE()),FALSE()),FALSE())) -> TRUE | O38: =IF(ISBLANK(H38),"",IF(ISNUMBER(H38),IF(AND(H38>=0,H38<250),IF($F38<>$H38,IF(H38=0,TRUE(),IF(MOD(H38,1)=0,TRUE(),FALSE())),FALSE()),FALSE()),FALSE())) -> TRUE | P38: =SUM(M37:M38) -> 1.25
D39: =IF(C39>0,":","") | G39: =IF(ISNUMBER(F39),":","") | M39: =IF(ISNUMBER(L39),IF(IF(F39>H39,1,"")=L39,I39,IF(IF(F39<H39,2,"")=L39,K39,IF(IF(F39=H39,0,"")=L39,J39,0))),"") | N39: =IF(ISBLANK(F39),"",IF(ISNUMBER(F39),IF(AND(F39>=0,F39<250),IF($F39<>$H39,IF(F39=0,TRUE(),IF(MOD(F39,1)=0,TRUE(),FALSE())),FALSE()),FALSE()),FALSE())) | O39: =IF(ISBLANK(H39),"",IF(ISNUMBER(H39),IF(AND(H39>=0,H39<250),IF($F39<>$H39,IF(H39=0,TRUE(),IF(MOD(H39,1)=0,TRUE(),FALSE())),FALSE()),FALSE()),FALSE()))
B40: Spiel 5 | C40: Ulm | D40: =IF(C40>0,":","") -> : | E40: Würzburg | F40: 91 | G40: =IF(ISNUMBER(F40),":","") -> : | H40: 84 | I40: 1.35 | K40: 3.1 | L40: 1 | M40: =IF(ISNUMBER(L40),IF(IF(F40>H40,1,"")=L40,I40,IF(IF(F40<H40,2,"")=L40,K40,IF(IF(F40=H40,0,"")=L40,J40,0))),"") -> 1.35 | N40: =IF(ISBLANK(F40),"",IF(ISNUMBER(F40),IF(AND(F40>=0,F40<250),IF($F40<>$H40,IF(F40=0,TRUE(),IF(MOD(F40,1)=0,TRUE(),FALSE())),FALSE()),FALSE()),FALSE())) -> TRUE | O40: =IF(ISBLANK(H40),"",IF(ISNUMBER(H40),IF(AND(H40>=0,H40<250),IF($F40<>$H40,IF(H40=0,TRUE(),IF(MOD(H40,1)=0,TRUE(),FALSE())),FALSE()),FALSE()),FALSE())) -> TRUE | P40: =SUM(M40) -> 1.35
D41: =IF(C41>0,":","") | G41: =IF(ISNUMBER(F41),":","") | M41: =IF(ISNUMBER(L41),IF(IF(F41>H41,1,"")=L41,I41,IF(IF(F41<H41,2,"")=L41,K41,IF(IF(F41=H41,0,"")=L41,J41,0))),"") | N41: =IF(ISBLANK(F41),"",IF(ISNUMBER(F41),IF(AND(F41>=0,F41<250),IF($F41<>$H41,IF(F41=0,TRUE(),IF(MOD(F41,1)=0,TRUE(),FALSE())),FALSE()),FALSE()),FALSE())) | O41: =IF(ISBLANK(H41),"",IF(ISNUMBER(H41),IF(AND(H41>=0,H41<250),IF($F41<>$H41,IF(H41=0,TRUE(),IF(MOD(H41,1)=0,TRUE(),FALSE())),FALSE()),FALSE()),FALSE()))
B42: Finale | D42: =IF(C42>0,":","") | G42: =IF(ISNUMBER(F42),":","") | M42: =IF(ISNUMBER(L42),IF(IF(F42>H42,1,"")=L42,I42,IF(IF(F42<H42,2,"")=L42,K42,IF(IF(F42=H42,0,"")=L42,J42,0))),"") | N42: =IF(ISBLANK(F42),"",IF(ISNUMBER(F42),IF(AND(F42>=0,F42<250),IF($F42<>$H42,IF(F42=0,TRUE(),IF(MOD(F42,1)=0,TRUE(),FALSE())),FALSE()),FALSE()),FALSE())) | O42: =IF(ISBLANK(H42),"",IF(ISNUMBER(H42),IF(AND(H42>=0,H42<250),IF($F42<>$H42,IF(H42=0,TRUE(),IF(MOD(H42,1)=0,TRUE(),FALSE())),FALSE()),FALSE()),FALSE()))
B43: Spiel 1 | C43: Bayern | D43: =IF(C43>0,":","") -> : | E43: Ulm | F43: 82 | G43: =IF(ISNUMBER(F43),":","") -> : | H43: 66 | I43: 1.25 | K43: 3.8 | L43: 1 | M43: =IF(ISNUMBER(L43),IF(IF(F43>H43,1,"")=L43,I43,IF(IF(F43<H43,2,"")=L43,K43,IF(IF(F43=H43,0,"")=L43,J43,0))),"") -> 1.25 | N43: =IF(ISBLANK(F43),"",IF(ISNUMBER(F43),IF(AND(F43>=0,F43<250),IF($F43<>$H43,IF(F43=0,TRUE(),IF(MOD(F43,1)=0,TRUE(),FALSE())),FALSE()),FALSE()),FALSE())) -> TRUE | O43: =IF(ISBLANK(H43),"",IF(ISNUMBER(H43),IF(AND(H43>=0,H43<250),IF($F43<>$H43,IF(H43=0,TRUE(),IF(MOD(H43,1)=0,TRUE(),FALSE())),FALSE()),FALSE()),FALSE())) -> TRUE | P43: =SUM(M43) -> 1.25
D44: =IF(C44>0,":","") | G44: =IF(ISNUMBER(F44),":","") | M44: =IF(ISNUMBER(L44),IF(IF(F44>H44,1,"")=L44,I44,IF(IF(F44<H44,2,"")=L44,K44,IF(IF(F44=H44,0,"")=L44,J44,0))),"") | N44: =IF(ISBLANK(F44),"",IF(ISNUMBER(F44),IF(AND(F44>=0,F44<250),IF($F44<>$H44,IF(F44=0,TRUE(),IF(MOD(F44,1)=0,TRUE(),FALSE())),FALSE()),FALSE()),FALSE())) | O44: =IF(ISBLANK(H44),"",IF(ISNUMBER(H44),IF(AND(H44>=0,H44<250),IF($F44<>$H44,IF(H44=0,TRUE(),IF(MOD(H44,1)=0,TRUE(),FALSE())),FALSE()),FALSE()),FALSE()))
B45: Spiel 2 | C45: Ulm | D45: =IF(C45>0,":","") -> : | E45: Bayern | F45: 79 | G45: =IF(ISNUMBER(F45),":","") -> : | H45: 64 | I45: 2.1 | K45: 1.72 | L45: 2 | M45: =IF(ISNUMBER(L45),IF(IF(F45>H45,1,"")=L45,I45,IF(IF(F45<H45,2,"")=L45,K45,IF(IF(F45=H45,0,"")=L45,J45,0))),"") -> 0 | N45: =IF(ISBLANK(F45),"",IF(ISNUMBER(F45),IF(AND(F45>=0,F45<250),IF($F45<>$H45,IF(F45=0,TRUE(),IF(MOD(F45,1)=0,TRUE(),FALSE())),FALSE()),FALSE()),FALSE())) -> TRUE | O45: =IF(ISBLANK(H45),"",IF(ISNUMBER(H45),IF(AND(H45>=0,H45<250),IF($F45<>$H45,IF(H45=0,TRUE(),IF(MOD(H45,1)=0,TRUE(),FALSE())),FALSE()),FALSE()),FALSE())) -> TRUE | P45: =SUM(M45) -> 0
D46: =IF(C46>0,":","") | G46: =IF(ISNUMBER(F46),":","") | M46: =IF(ISNUMBER(L46),IF(IF(F46>H46,1,"")=L46,I46,IF(IF(F46<H46,2,"")=L46,K46,IF(IF(F46=H46,0,"")=L46,J46,0))),"") | N46: =IF(ISBLANK(F46),"",IF(ISNUMBER(F46),IF(AND(F46>=0,F46<250),IF($F46<>$H46,IF(F46=0,TRUE(),IF(MOD(F46,1)=0,TRUE(),FALSE())),FALSE()),FALSE()),FALSE())) | O46: =IF(ISBLANK(H46),"",IF(ISNUMBER(H46),IF(AND(H46>=0,H46<250),IF($F46<>$H46,IF(H46=0,TRUE(),IF(MOD(H46,1)=0,TRUE(),FALSE())),FALSE()),FALSE()),FALSE()))
B47: Spiel 3 | C47: Bayern | D47: =IF(C47>0,":","") -> : | E47: Ulm | F47: 79 | G47: =IF(ISNUMBER(F47),":","") -> : | H47: 81 | I47: 1.3 | K47: 3.4 | L47: 2 | M47: =IF(ISNUMBER(L47),IF(IF(F47>H47,1,"")=L47,I47,IF(IF(F47<H47,2,"")=L47,K47,IF(IF(F47=H47,0,"")=L47,J47,0))),"") -> 3.4 | N47: =IF(ISBLANK(F47),"",IF(ISNUMBER(F47),IF(AND(F47>=0,F47<250),IF($F47<>$H47,IF(F47=0,TRUE(),IF(MOD(F47,1)=0,TRUE(),FALSE())),FALSE()),FALSE()),FALSE())) -> TRUE | O47: =IF(ISBLANK(H47),"",IF(ISNUMBER(H47),IF(AND(H47>=0,H47<250),IF($F47<>$H47,IF(H47=0,TRUE(),IF(MOD(H47,1)=0,TRUE(),FALSE())),FALSE()),FALSE()),FALSE())) -> TRUE | P47: =SUM(M47) -> 3.4
D48: =IF(C48>0,":","") | G48: =IF(ISNUMBER(F48),":","") | M48: =IF(ISNUMBER(L48),IF(IF(F48>H48,1,"")=L48,I48,IF(IF(F48<H48,2,"")=L48,K48,IF(IF(F48=H48,0,"")=L48,J48,0))),"") | N48: =IF(ISBLANK(F48),"",IF(ISNUMBER(F48),IF(AND(F48>=0,F48<250),IF($F48<>$H48,IF(F48=0,TRUE(),IF(MOD(F48,1)=0,TRUE(),FALSE())),FALSE()),FALSE()),FALSE())) | O48: =IF(ISBLANK(H48),"",IF(ISNUMBER(H48),IF(AND(H48>=0,H48<250),IF($F48<>$H48,IF(H48=0,TRUE(),IF(MOD(H48,1)=0,TRUE(),FALSE())),FALSE()),FALSE()),FALSE()))
B49: Spiel 4 | C49: Ulm | D49: =IF(C49>0,":","") -> : | E49: Bayern | F49: 53 | G49: =IF(ISNUMBER(F49),":","") -> : | H49: 67 | I49: 2.05 | K49: 1.75 | L49: 1 | M49: =IF(ISNUMBER(L49),IF(IF(F49>H49,1,"")=L49,I49,IF(IF(F49<H49,2,"")=L49,K49,IF(IF(F49=H49,0,"")=L49,J49,0))),"") -> 0 | N49: =IF(ISBLANK(F49),"",IF(ISNUMBER(F49),IF(AND(F49>=0,F49<250),IF($F49<>$H49,IF(F49=0,TRUE(),IF(MOD(F49,1)=0,TRUE(),FALSE())),FALSE()),FALSE()),FALSE())) -> TRUE | O49: =IF(ISBLANK(H49),"",IF(ISNUMBER(H49),IF(AND(H49>=0,H49<250),IF($F49<>$H49,IF(H49=0,TRUE(),IF(MOD(H49,1)=0,TRUE(),FALSE())),FALSE()),FALSE()),FALSE())) -> TRUE | P49: =SUM(M49) -> 0
D50: =IF(C50>0,":","") | G50: =IF(ISNUMBER(F50),":","") | M50: =IF(ISNUMBER(L50),IF(IF(F50>H50,1,"")=L50,I50,IF(IF(F50<H50,2,"")=L50,K50,IF(IF(F50=H50,0,"")=L50,J50,0))),"") | N50: =IF(ISBLANK(F50),"",IF(ISNUMBER(F50),IF(AND(F50>=0,F50<250),IF($F50<>$H50,IF(F50=0,TRUE(),IF(MOD(F50,1)=0,TRUE(),FALSE())),FALSE()),FALSE()),FALSE())) | O50: =IF(ISBLANK(H50),"",IF(ISNUMBER(H50),IF(AND(H50>=0,H50<250),IF($F50<>$H50,IF(H50=0,TRUE(),IF(MOD(H50,1)=0,TRUE(),FALSE())),FALSE()),FALSE()),FALSE()))
B51: Spiel 5 | C51: Bayern | D51: =IF(C51>0,":","") -> : | E51: Ulm | F51: 81 | H51: 77 | I51: 1.25 | K51: 3.8 | L51: 1 | M51: =IF(ISNUMBER(L51),IF(IF(F51>H51,1,"")=L51,I51,IF(IF(F51<H51,2,"")=L51,K51,IF(IF(F51=H51,0,"")=L51,J51,0))),"") -> 1.25 | N51: =IF(ISBLANK(F51),"",IF(ISNUMBER(F51),IF(AND(F51>=0,F51<250),IF($F51<>$H51,IF(F51=0,TRUE(),IF(MOD(F51,1)=0,TRUE(),FALSE())),FALSE()),FALSE()),FALSE())) -> TRUE | O51: =IF(ISBLANK(H51),"",IF(ISNUMBER(H51),IF(AND(H51>=0,H51<250),IF($F51<>$H51,IF(H51=0,TRUE(),IF(MOD(H51,1)=0,TRUE(),FALSE())),FALSE()),FALSE()),FALSE())) -> TRUE | P51: =SUM(M51) -> 1.25
D52: =IF(C52>0,":","") | G52: =IF(ISNUMBER(F52),":","") | N52: =IF(ISBLANK(F52),"",IF(ISNUMBER(F52),IF(AND(F52>=0,F52<250),IF($F52<>$H52,IF(F52=0,TRUE(),IF(MOD(F52,1)=0,TRUE(),FALSE())),FALSE()),FALSE()),FALSE())) | O52: =IF(ISBLANK(H52),"",IF(ISNUMBER(H52),IF(AND(H52>=0,H52<250),IF($F52<>$H52,IF(H52=0,TRUE(),IF(MOD(H52,1)=0,TRUE(),FALSE())),FALSE()),FALSE()),FALSE()))
D53: =IF(C53>0,":","") | G53: =IF(ISNUMBER(F53),":","") | N53: =IF(ISBLANK(F53),"",IF(ISNUMBER(F53),IF(AND(F53>=0,F53<250),IF($F53<>$H53,IF(F53=0,TRUE(),IF(MOD(F53,1)=0,TRUE(),FALSE())),FALSE()),FALSE()),FALSE())) | O53: =IF(ISBLANK(H53),"",IF(ISNUMBER(H53),IF(AND(H53>=0,H53<250),IF($F53<>$H53,IF(H53=0,TRUE(),IF(MOD(H53,1)=0,TRUE(),FALSE())),FALSE()),FALSE()),FALSE()))
D54: =IF(C54>0,":","") | G54: =IF(ISNUMBER(F54),":","") | N54: =IF(ISBLANK(F54),"",IF(ISNUMBER(F54),IF(AND(F54>=0,F54<250),IF($F54<>$H54,IF(F54=0,TRUE(),IF(MOD(F54,1)=0,TRUE(),FALSE())),FALSE()),FALSE()),FALSE())) | O54: =IF(ISBLANK(H54),"",IF(ISNUMBER(H54),IF(AND(H54>=0,H54<250),IF($F54<>$H54,IF(H54=0,TRUE(),IF(MOD(H54,1)=0,TRUE(),FALSE())),FALSE()),FALSE()),FALSE()))
D55: =IF(C55>0,":","") | G55: =IF(ISNUMBER(F55),":","") | N55: =IF(ISBLANK(F55),"",IF(ISNUMBER(F55),IF(AND(F55>=0,F55<250),IF($F55<>$H55,IF(F55=0,TRUE(),IF(MOD(F55,1)=0,TRUE(),FALSE())),FALSE()),FALSE()),FALSE())) | O55: =IF(ISBLANK(H55),"",IF(ISNUMBER(H55),IF(AND(H55>=0,H55<250),IF($F55<>$H55,IF(H55=0,TRUE(),IF(MOD(H55,1)=0,TRUE(),FALSE())),FALSE()),FALSE()),FALSE()))
D56: =IF(C56>0,":","") | G56: =IF(ISNUMBER(F56),":","") | N56: =IF(ISBLANK(F56),"",IF(ISNUMBER(F56),IF(AND(F56>=0,F56<250),IF($F56<>$H56,IF(F56=0,TRUE(),IF(MOD(F56,1)=0,TRUE(),FALSE())),FALSE()),FALSE()),FALSE())) | O56: =IF(ISBLANK(H56),"",IF(ISNUMBER(H56),IF(AND(H56>=0,H56<250),IF($F56<>$H56,IF(H56=0,TRUE(),IF(MOD(H56,1)=0,TRUE(),FALSE())),FALSE()),FALSE()),FALSE()))
D57: =IF(C57>0,":","") | G57: =IF(ISNUMBER(F57),":","") | N57: =IF(ISBLANK(F57),"",IF(ISNUMBER(F57),IF(AND(F57>=0,F57<250),IF($F57<>$H57,IF(F57=0,TRUE(),IF(MOD(F57,1)=0,TRUE(),FALSE())),FALSE()),FALSE()),FALSE())) | O57: =IF(ISBLANK(H57),"",IF(ISNUMBER(H57),IF(AND(H57>=0,H57<250),IF($F57<>$H57,IF(H57=0,TRUE(),IF(MOD(H57,1)=0,TRUE(),FALSE())),FALSE()),FALSE()),FALSE()))
D58: =IF(C58>0,":","") | G58: =IF(ISNUMBER(F58),":","") | N58: =IF(ISBLANK(F58),"",IF(ISNUMBER(F58),IF(AND(F58>=0,F58<250),IF($F58<>$H58,IF(F58=0,TRUE(),IF(MOD(F58,1)=0,TRUE(),FALSE())),FALSE()),FALSE()),FALSE())) | O58: =IF(ISBLANK(H58),"",IF(ISNUMBER(H58),IF(AND(H58>=0,H58<250),IF($F58<>$H58,IF(H58=0,TRUE(),IF(MOD(H58,1)=0,TRUE(),FALSE())),FALSE()),FALSE()),FALSE()))
D59: =IF(C59>0,":","") | G59: =IF(ISNUMBER(F59),":","") | N59: =IF(ISBLANK(F59),"",IF(ISNUMBER(F59),IF(AND(F59>=0,F59<250),IF($F59<>$H59,IF(F59=0,TRUE(),IF(MOD(F59,1)=0,TRUE(),FALSE())),FALSE()),FALSE()),FALSE())) | O59: =IF(ISBLANK(H59),"",IF(ISNUMBER(H59),IF(AND(H59>=0,H59<250),IF($F59<>$H59,IF(H59=0,TRUE(),IF(MOD(H59,1)=0,TRUE(),FALSE())),FALSE()),FALSE()),FALSE()))
D60: =IF(C60>0,":","") | G60: =IF(ISNUMBER(F60),":","") | N60: =IF(ISBLANK(F60),"",IF(ISNUMBER(F60),IF(AND(F60>=0,F60<250),IF($F60<>$H60,IF(F60=0,TRUE(),IF(MOD(F60,1)=0,TRUE(),FALSE())),FALSE()),FALSE()),FALSE())) | O60: =IF(ISBLANK(H60),"",IF(ISNUMBER(H60),IF(AND(H60>=0,H60<250),IF($F60<>$H60,IF(H60=0,TRUE(),IF(MOD(H60,1)=0,TRUE(),FALSE())),FALSE()),FALSE()),FALSE()))
D61: =IF(C61>0,":","") | G61: =IF(ISNUMBER(F61),":","") | N61: =IF(ISBLANK(F61),"",IF(ISNUMBER(F61),IF(AND(F61>=0,F61<250),IF($F61<>$H61,IF(F61=0,TRUE(),IF(MOD(F61,1)=0,TRUE(),FALSE())),FALSE()),FALSE()),FALSE())) | O61: =IF(ISBLANK(H61),"",IF(ISNUMBER(H61),IF(AND(H61>=0,H61<250),IF($F61<>$H61,IF(H61=0,TRUE(),IF(MOD(H61,1)=0,TRUE(),FALSE())),FALSE()),FALSE()),FALSE()))
D62: =IF(C62>0,":","") | G62: =IF(ISNUMBER(F62),":","") | N62: =IF(ISBLANK(F62),"",IF(ISNUMBER(F62),IF(AND(F62>=0,F62<250),IF($F62<>$H62,IF(F62=0,TRUE(),IF(MOD(F62,1)=0,TRUE(),FALSE())),FALSE()),FALSE()),FALSE())) | O62: =IF(ISBLANK(H62),"",IF(ISNUMBER(H62),IF(AND(H62>=0,H62<250),IF($F62<>$H62,IF(H62=0,TRUE(),IF(MOD(H62,1)=0,TRUE(),FALSE())),FALSE()),FALSE()),FALSE()))
D63: =IF(C63>0,":","") | G63: =IF(ISNUMBER(F63),":","") | N63: =IF(ISBLANK(F63),"",IF(ISNUMBER(F63),IF(AND(F63>=0,F63<250),IF($F63<>$H63,IF(F63=0,TRUE(),IF(MOD(F63,1)=0,TRUE(),FALSE())),FALSE()),FALSE()),FALSE())) | O63: =IF(ISBLANK(H63),"",IF(ISNUMBER(H63),IF(AND(H63>=0,H63<250),IF($F63<>$H63,IF(H63=0,TRUE(),IF(MOD(H63,1)=0,TRUE(),FALSE())),FALSE()),FALSE()),FALSE()))
... D87: =IF(C87>0,":","") | G87: =IF(ISNUMBER(F87),":","") | N87: =IF(ISBLANK(F87),"",IF(ISNUMBER(F87),IF(AND(F87>=0,F87<250),IF($F87<>$H87,IF(F87=0,TRUE(),IF(MOD(F87,1)=0,TRUE(),FALSE())),FALSE()),FALSE()),FALSE())) | O87: =IF(ISBLANK(H87),"",IF(ISNUMBER(H87),IF(AND(H87>=0,H87<250),IF($F87<>$H87,IF(H87=0,TRUE(),IF(MOD(H87,1)=0,TRUE(),FALSE())),FALSE()),FALSE()),FALSE()))
D88: =IF(C88>0,":","") | G88: =IF(ISNUMBER(F88),":","") | M88: =IF(ISNUMBER(L88),IF(IF(F88>H88,1,"")=L88,I88,IF(IF(F88<H88,2,"")=L88,K88,IF(IF(F88=H88,0,"")=L88,J88,0))),"") | N88: =IF(ISBLANK(F88),"",IF(ISNUMBER(F88),IF(AND(F88>=0,F88<250),IF($F88<>$H88,IF(F88=0,TRUE(),IF(MOD(F88,1)=0,TRUE(),FALSE())),FALSE()),FALSE()),FALSE())) | O88: =IF(ISBLANK(H88),"",IF(ISNUMBER(H88),IF(AND(H88>=0,H88<250),IF($F88<>$H88,IF(H88=0,TRUE(),IF(MOD(H88,1)=0,TRUE(),FALSE())),FALSE()),FALSE()),FALSE()))
D89: =IF(C89>0,":","") | G89: =IF(ISNUMBER(F89),":","") | M89: =IF(ISNUMBER(L89),IF(IF(F89>H89,1,"")=L89,I89,IF(IF(F89<H89,2,"")=L89,K89,IF(IF(F89=H89,0,"")=L89,J89,0))),"") | N89: =IF(ISBLANK(F89),"",IF(ISNUMBER(F89),IF(AND(F89>=0,F89<250),IF($F89<>$H89,IF(F89=0,TRUE(),IF(MOD(F89,1)=0,TRUE(),FALSE())),FALSE()),FALSE()),FALSE())) | O89: =IF(ISBLANK(H89),"",IF(ISNUMBER(H89),IF(AND(H89>=0,H89<250),IF($F89<>$H89,IF(H89=0,TRUE(),IF(MOD(H89,1)=0,TRUE(),FALSE())),FALSE()),FALSE()),FALSE()))
D90: =IF(C90>0,":","") | G90: =IF(ISNUMBER(F90),":","") | M90: =IF(ISNUMBER(L90),IF(IF(F90>H90,1,"")=L90,I90,IF(IF(F90<H90,2,"")=L90,K90,IF(IF(F90=H90,0,"")=L90,J90,0))),"") | N90: =IF(ISBLANK(F90),"",IF(ISNUMBER(F90),IF(AND(F90>=0,F90<250),IF($F90<>$H90,IF(F90=0,TRUE(),IF(MOD(F90,1)=0,TRUE(),FALSE())),FALSE()),FALSE()),FALSE())) | O90: =IF(ISBLANK(H90),"",IF(ISNUMBER(H90),IF(AND(H90>=0,H90<250),IF($F90<>$H90,IF(H90=0,TRUE(),IF(MOD(H90,1)=0,TRUE(),FALSE())),FALSE()),FALSE()),FALSE()))
D91: =IF(C91>0,":","") | G91: =IF(ISNUMBER(F91),":","") | M91: =IF(ISNUMBER(L91),IF(IF(F91>H91,1,"")=L91,I91,IF(IF(F91<H91,2,"")=L91,K91,IF(IF(F91=H91,0,"")=L91,J91,0))),"") | N91: =IF(ISBLANK(F91),"",IF(ISNUMBER(F91),IF(AND(F91>=0,F91<250),IF($F91<>$H91,IF(F91=0,TRUE(),IF(MOD(F91,1)=0,TRUE(),FALSE())),FALSE()),FALSE()),FALSE())) | O91: =IF(ISBLANK(H91),"",IF(ISNUMBER(H91),IF(AND(H91>=0,H91<250),IF($F91<>$H91,IF(H91=0,TRUE(),IF(MOD(H91,1)=0,TRUE(),FALSE())),FALSE()),FALSE()),FALSE()))
D92: =IF(C92>0,":","") | G92: =IF(ISNUMBER(F92),":","") | M92: =IF(ISNUMBER(L92),IF(IF(F92>H92,1,"")=L92,I92,IF(IF(F92<H92,2,"")=L92,K92,IF(IF(F92=H92,0,"")=L92,J92,0))),"") | N92: =IF(ISBLANK(F92),"",IF(ISNUMBER(F92),IF(AND(F92>=0,F92<250),IF($F92<>$H92,IF(F92=0,TRUE(),IF(MOD(F92,1)=0,TRUE(),FALSE())),FALSE()),FALSE()),FALSE())) | O92: =IF(ISBLANK(H92),"",IF(ISNUMBER(H92),IF(AND(H92>=0,H92<250),IF($F92<>$H92,IF(H92=0,TRUE(),IF(MOD(H92,1)=0,TRUE(),FALSE())),FALSE()),FALSE()),FALSE()))
D93: =IF(C93>0,":","") | G93: =IF(ISNUMBER(F93),":","") | M93: =IF(ISNUMBER(L93),IF(IF(F93>H93,1,"")=L93,I93,IF(IF(F93<H93,2,"")=L93,K93,IF(IF(F93=H93,0,"")=L93,J93,0))),"") | N93: =IF(ISBLANK(F93),"",IF(ISNUMBER(F93),IF(AND(F93>=0,F93<250),IF($F93<>$H93,IF(F93=0,TRUE(),IF(MOD(F93,1)=0,TRUE(),FALSE())),FALSE()),FALSE()),FALSE())) | O93: =IF(ISBLANK(H93),"",IF(ISNUMBER(H93),IF(AND(H93>=0,H93<250),IF($F93<>$H93,IF(H93=0,TRUE(),IF(MOD(H93,1)=0,TRUE(),FALSE())),FALSE()),FALSE()),FALSE()))
D94: =IF(C94>0,":","") | G94: =IF(ISNUMBER(F94),":","") | M94: =IF(ISNUMBER(L94),IF(IF(F94>H94,1,"")=L94,I94,IF(IF(F94<H94,2,"")=L94,K94,IF(IF(F94=H94,0,"")=L94,J94,0))),"") | N94: =IF(ISBLANK(F94),"",IF(ISNUMBER(F94),IF(AND(F94>=0,F94<250),IF($F94<>$H94,IF(F94=0,TRUE(),IF(MOD(F94,1)=0,TRUE(),FALSE())),FALSE()),FALSE()),FALSE())) | O94: =IF(ISBLANK(H94),"",IF(ISNUMBER(H94),IF(AND(H94>=0,H94<250),IF($F94<>$H94,IF(H94=0,TRUE(),IF(MOD(H94,1)=0,TRUE(),FALSE())),FALSE()),FALSE()),FALSE()))
D95: =IF(C95>0,":","") | G95: =IF(ISNUMBER(F95),":","") | M95: =IF(ISNUMBER(L95),IF(IF(F95>H95,1,"")=L95,I95,IF(IF(F95<H95,2,"")=L95,K95,IF(IF(F95=H95,0,"")=L95,J95,0))),"") | N95: =IF(ISBLANK(F95),"",IF(ISNUMBER(F95),IF(AND(F95>=0,F95<250),IF($F95<>$H95,IF(F95=0,TRUE(),IF(MOD(F95,1)=0,TRUE(),FALSE())),FALSE()),FALSE()),FALSE())) | O95: =IF(ISBLANK(H95),"",IF(ISNUMBER(H95),IF(AND(H95>=0,H95<250),IF($F95<>$H95,IF(H95=0,TRUE(),IF(MOD(H95,1)=0,TRUE(),FALSE())),FALSE()),FALSE()),FALSE()))
D96: =IF(C96>0,":","") | G96: =IF(ISNUMBER(F96),":","") | M96: =IF(ISNUMBER(L96),IF(IF(F96>H96,1,"")=L96,I96,IF(IF(F96<H96,2,"")=L96,K96,IF(IF(F96=H96,0,"")=L96,J96,0))),"") | N96: =IF(ISBLANK(F96),"",IF(ISNUMBER(F96),IF(AND(F96>=0,F96<250),IF($F96<>$H96,IF(F96=0,TRUE(),IF(MOD(F96,1)=0,TRUE(),FALSE())),FALSE()),FALSE()),FALSE())) | O96: =IF(ISBLANK(H96),"",IF(ISNUMBER(H96),IF(AND(H96>=0,H96<250),IF($F96<>$H96,IF(H96=0,TRUE(),IF(MOD(H96,1)=0,TRUE(),FALSE())),FALSE()),FALSE()),FALSE()))
D97: =IF(C97>0,":","") | G97: =IF(ISNUMBER(F97),":","") | M97: =IF(ISNUMBER(L97),IF(IF(F97>H97,1,"")=L97,I97,IF(IF(F97<H97,2,"")=L97,K97,IF(IF(F97=H97,0,"")=L97,J97,0))),"") | N97: =IF(ISBLANK(F97),"",IF(ISNUMBER(F97),IF(AND(F97>=0,F97<250),IF($F97<>$H97,IF(F97=0,TRUE(),IF(MOD(F97,1)=0,TRUE(),FALSE())),FALSE()),FALSE()),FALSE())) | O97: =IF(ISBLANK(H97),"",IF(ISNUMBER(H97),IF(AND(H97>=0,H97<250),IF($F97<>$H97,IF(H97=0,TRUE(),IF(MOD(H97,1)=0,TRUE(),FALSE())),FALSE()),FALSE()),FALSE()))
D98: =IF(C98>0,":","") | G98: =IF(ISNUMBER(F98),":","") | M98: =IF(ISNUMBER(L98),IF(IF(F98>H98,1,"")=L98,I98,IF(IF(F98<H98,2,"")=L98,K98,IF(IF(F98=H98,0,"")=L98,J98,0))),"") | N98: =IF(ISBLANK(F98),"",IF(ISNUMBER(F98),IF(AND(F98>=0,F98<250),IF($F98<>$H98,IF(F98=0,TRUE(),IF(MOD(F98,1)=0,TRUE(),FALSE())),FALSE()),FALSE()),FALSE())) | O98: =IF(ISBLANK(H98),"",IF(ISNUMBER(H98),IF(AND(H98>=0,H98<250),IF($F98<>$H98,IF(H98=0,TRUE(),IF(MOD(H98,1)=0,TRUE(),FALSE())),FALSE()),FALSE()),FALSE()))
D99: =IF(C99>0,":","") | G99: =IF(ISNUMBER(F99),":","") | M99: =IF(ISNUMBER(L99),IF(IF(F99>H99,1,"")=L99,I99,IF(IF(F99<H99,2,"")=L99,K99,IF(IF(F99=H99,0,"")=L99,J99,0))),"") | N99: =IF(ISBLANK(F99),"",IF(ISNUMBER(F99),IF(AND(F99>=0,F99<250),IF($F99<>$H99,IF(F99=0,TRUE(),IF(MOD(F99,1)=0,TRUE(),FALSE())),FALSE()),FALSE()),FALSE())) | O99: =IF(ISBLANK(H99),"",IF(ISNUMBER(H99),IF(AND(H99>=0,H99<250),IF($F99<>$H99,IF(H99=0,TRUE(),IF(MOD(H99,1)=0,TRUE(),FALSE())),FALSE()),FALSE()),FALSE()))
D100: =IF(C100>0,":","") | G100: =IF(ISNUMBER(F100),":","") | M100: =IF(ISNUMBER(L100),IF(IF(F100>H100,1,"")=L100,I100,IF(IF(F100<H100,2,"")=L100,K100,IF(IF(F100=H100,0,"")=L100,J100,0))),"") | N100: =IF(ISBLANK(F100),"",IF(ISNUMBER(F100),IF(AND(F100>=0,F100<250),IF($F100<>$H100,IF(F100=0,TRUE(),IF(MOD(F100,1)=0,TRUE(),FALSE())),FALSE()),FALSE()),FALSE())) | O100: =IF(ISBLANK(H100),"",IF(ISNUMBER(H100),IF(AND(H100>=0,H100<250),IF($F100<>$H100,IF(H100=0,TRUE(),IF(MOD(H100,1)=0,TRUE(),FALSE())),FALSE()),FALSE()),FALSE()))
D101: =IF(C101>0,":","") | G101: =IF(ISNUMBER(F101),":","")
D102: =IF(C102>0,":","") | G102: =IF(ISNUMBER(F102),":","")
D103: =IF(C103>0,":","") | G103: =IF(ISNUMBER(F103),":","")
D104: =IF(C104>0,":","") | G104: =IF(ISNUMBER(F104),":","")
D105: =IF(C105>0,":","") | G105: =IF(ISNUMBER(F105),":","")
D106: =IF(C106>0,":","") | G106: =IF(ISNUMBER(F106),":","")
D107: =IF(C107>0,":","") | G107: =IF(ISNUMBER(F107),":","")
D108: =IF(C108>0,":","") | G108: =IF(ISNUMBER(F108),":","")
D109: =IF(C109>0,":","") | G109: =IF(ISNUMBER(F109),":","")
D110: =IF(C110>0,":","") | G110: =IF(ISNUMBER(F110),":","")
D111: =IF(C111>0,":","") | G111: =IF(ISNUMBER(F111),":","")
D112: =IF(C112>0,":","") | G112: =IF(ISNUMBER(F112),":","")
... D123: =IF(C123>0,":","") | G123: =IF(ISNUMBER(F123),":","")
D124: =IF(C124>0,":","")
D125: =IF(C125>0,":","")
D126: =IF(C126>0,":","")
D127: =IF(C127>0,":","")
D128: =IF(C128>0,":","")
D129: =IF(C129>0,":","")
D130: =IF(C130>0,":","")
D131: =IF(C131>0,":","")
D132: =IF(C132>0,":","")
D133: =IF(C133>0,":","")
...

Sheet Mape
A1: Mape | B1: Spieltag | C1: Heim | E1: Auswärts | F1: Ergebnis | I1: 1 | J1: 2 | K1: 2 | L1: Tipp | M1: Richtig | N1: Gültigk. D | O1: Gültik. F | P1: Gesamt
B2: Play-Ins | C2: Berlin | D2: =IF(C2>0,":","") -> : | E2: MBC | F2: 81 | G2: =IF(ISNUMBER(F2),":","") -> : | H2: 78 | I2: 1.2 | K2: 4.5 | L2: 1 | M2: =IF(ISNUMBER(L2),IF(IF(F2>H2,1,"")=L2,I2,IF(IF(F2<H2,2,"")=L2,K2,IF(IF(F2=H2,0,"")=L2,J2,0))),"") -> 1.2 | N2: =IF(ISBLANK(F2),"",IF(ISNUMBER(F2),IF(AND(F2>=0,F2<250),IF($F2<>$H2,IF(F2=0,TRUE(),IF(MOD(F2,1)=0,TRUE(),FALSE())),FALSE()),FALSE()),FALSE())) -> TRUE | O2: =IF(ISBLANK(H2),"",IF(ISNUMBER(H2),IF(AND(H2>=0,H2<250),IF($F2<>$H2,IF(H2=0,TRUE(),IF(MOD(H2,1)=0,TRUE(),FALSE())),FALSE()),FALSE()),FALSE())) -> TRUE
C3: Oldenburg | D3: =IF(C3>0,":","") -> : | E3: Rostock | F3: 95 | G3: =IF(ISNUMBER(F3),":","") -> : | H3: 83 | I3: 1.65 | K3: 2.2 | L3: 1 | M3: =IF(ISNUMBER(L3),IF(IF(F3>H3,1,"")=L3,I3,IF(IF(F3<H3,2,"")=L3,K3,IF(IF(F3=H3,0,"")=L3,J3,0))),"") -> 1.65 | N3: =IF(ISBLANK(F3),"",IF(ISNUMBER(F3),IF(AND(F3>=0,F3<250),IF($F3<>$H3,IF(F3=0,TRUE(),IF(MOD(F3,1)=0,TRUE(),FALSE())),FALSE()),FALSE()),FALSE())) -> TRUE | O3: =IF(ISBLANK(H3),"",IF(ISNUMBER(H3),IF(AND(H3>=0,H3<250),IF($F3<>$H3,IF(H3=0,TRUE(),IF(MOD(H3,1)=0,TRUE(),FALSE())),FALSE()),FALSE()),FALSE())) -> TRUE
M4: =IF(ISNUMBER(L4),IF(IF(F4>H4,1,"")=L4,I4,IF(IF(F4<H4,2,"")=L4,K4,IF(IF(F4=H4,0,"")=L4,J4,0))),"") | N4: =IF(ISBLANK(F4),"",IF(ISNUMBER(F4),IF(AND(F4>=0,F4<250),IF($F4<>$H4,IF(F4=0,TRUE(),IF(MOD(F4,1)=0,TRUE(),FALSE())),FALSE()),FALSE()),FALSE())) | O4: =IF(ISBLANK(H4),"",IF(ISNUMBER(H4),IF(AND(H4>=0,H4<250),IF($F4<>$H4,IF(H4=0,TRUE(),IF(MOD(H4,1)=0,TRUE(),FALSE())),FALSE()),FALSE()),FALSE()))
C5: MBC | D5: =IF(C5>0,":","") -> : | E5: Oldenburg | F5: 110 | H5: 95 | I5: 1.55 | K5: 2.4 | L5: 1 | M5: =IF(ISNUMBER(L5),IF(IF(F5>H5,1,"")=L5,I5,IF(IF(F5<H5,2,"")=L5,K5,IF(IF(F5=H5,0,"")=L5,J5,0))),"") -> 1.55 | N5: =IF(ISBLANK(F5),"",IF(ISNUMBER(F5),IF(AND(F5>=0,F5<250),IF($F5<>$H5,IF(F5=0,TRUE(),IF(MOD(F5,1)=0,TRUE(),FALSE())),FALSE()),FALSE()),FALSE())) -> TRUE | O5: =IF(ISBLANK(H5),"",IF(ISNUMBER(H5),IF(AND(H5>=0,H5<250),IF($F5<>$H5,IF(H5=0,TRUE(),IF(MOD(H5,1)=0,TRUE(),FALSE())),FALSE()),FALSE()),FALSE())) -> TRUE | P5: =SUM(M2:M5) -> 4.4
M6: =IF(ISNUMBER(L6),IF(IF(F6>H6,1,"")=L6,I6,IF(IF(F6<H6,2,"")=L6,K6,IF(IF(F6=H6,0,"")=L6,J6,0))),"") | N6: =IF(ISBLANK(F6),"",IF(ISNUMBER(F6),IF(AND(F6>=0,F6<250),IF($F6<>$H6,IF(F6=0,TRUE(),IF(MOD(F6,1)=0,TRUE(),FALSE())),FALSE()),FALSE()),FALSE())) | O6: =IF(ISBLANK(H6),"",IF(ISNUMBER(H6),IF(AND(H6>=0,H6<250),IF($F6<>$H6,IF(H6=0,TRUE(),IF(MOD(H6,1)=0,TRUE(),FALSE())),FALSE()),FALSE()),FALSE()))
B7: Playoffs | C7: Chemnitz | D7: =IF(C7>0,":","") -> : | E7: Heidelberg | F7: 90 | G7: =IF(ISNUMBER(F7),":","") -> : | H7: 93 | I7: 1.4 | K7: 2.9 | L7: 1 | M7: =IF(ISNUMBER(L7),IF(IF(F7>H7,1,"")=L7,I7,IF(IF(F7<H7,2,"")=L7,K7,IF(IF(F7=H7,0,"")=L7,J7,0))),"") -> 0 | N7: =IF(ISBLANK(F7),"",IF(ISNUMBER(F7),IF(AND(F7>=0,F7<250),IF($F7<>$H7,IF(F7=0,TRUE(),IF(MOD(F7,1)=0,TRUE(),FALSE())),FALSE()),FALSE()),FALSE())) -> TRUE | O7: =IF(ISBLANK(H7),"",IF(ISNUMBER(H7),IF(AND(H7>=0,H7<250),IF($F7<>$H7,IF(H7=0,TRUE(),IF(MOD(H7,1)=0,TRUE(),FALSE())),FALSE()),FALSE()),FALSE())) -> TRUE
B8: 1. Runde | C8: ULM | D8: =IF(C8>0,":","") -> : | E8: ALBA | F8: 94 | G8: =IF(ISNUMBER(F8),":","") -> : | H8: 83 | I8: 1.55 | K8: 2.4 | L8: 1 | M8: =IF(ISNUMBER(L8),IF(IF(F8>H8,1,"")=L8,I8,IF(IF(F8<H8,2,"")=L8,K8,IF(IF(F8=H8,0,"")=L8,J8,0))),"") -> 1.55 | N8: =IF(ISBLANK(F8),"",IF(ISNUMBER(F8),IF(AND(F8>=0,F8<250),IF($F8<>$H8,IF(F8=0,TRUE(),IF(MOD(F8,1)=0,TRUE(),FALSE())),FALSE()),FALSE()),FALSE())) -> TRUE | O8: =IF(ISBLANK(H8),"",IF(ISNUMBER(H8),IF(AND(H8>=0,H8<250),IF($F8<>$H8,IF(H8=0,TRUE(),IF(MOD(H8,1)=0,TRUE(),FALSE())),FALSE()),FALSE()),FALSE())) -> TRUE
B9: Spiel 1 | C9: Bayern | D9: =IF(C9>0,":","") -> : | E9: MBC | F9: 78 | G9: =IF(ISNUMBER(F9),":","") -> : | H9: 60 | I9: 1.15 | K9: 5.2 | L9: 1 | M9: =IF(ISNUMBER(L9),IF(IF(F9>H9,1,"")=L9,I9,IF(IF(F9<H9,2,"")=L9,K9,IF(IF(F9=H9,0,"")=L9,J9,0))),"") -> 1.15 | N9: =IF(ISBLANK(F9),"",IF(ISNUMBER(F9),IF(AND(F9>=0,F9<250),IF($F9<>$H9,IF(F9=0,TRUE(),IF(MOD(F9,1)=0,TRUE(),FALSE())),FALSE()),FALSE()),FALSE())) -> TRUE | O9: =IF(ISBLANK(H9),"",IF(ISNUMBER(H9),IF(AND(H9>=0,H9<250),IF($F9<>$H9,IF(H9=0,TRUE(),IF(MOD(H9,1)=0,TRUE(),FALSE())),FALSE()),FALSE()),FALSE())) -> TRUE
C10: Braunschweig | D10: =IF(C10>0,":","") -> : | E10: Würzburg | F10: 92 | G10: =IF(ISNUMBER(F10),":","") -> : | H10: 79 | I10: 1.47 | K10: 2.6 | L10: 2 | M10: =IF(ISNUMBER(L10),IF(IF(F10>H10,1,"")=L10,I10,IF(IF(F10<H10,2,"")=L10,K10,IF(IF(F10=H10,0,"")=L10,J10,0))),"") -> 0 | N10: =IF(ISBLANK(F10),"",IF(ISNUMBER(F10),IF(AND(F10>=0,F10<250),IF($F10<>$H10,IF(F10=0,TRUE(),IF(MOD(F10,1)=0,TRUE(),FALSE())),FALSE()),FALSE()),FALSE())) -> TRUE | O10: =IF(ISBLANK(H10),"",IF(ISNUMBER(H10),IF(AND(H10>=0,H10<250),IF($F10<>$H10,IF(H10=0,TRUE(),IF(MOD(H10,1)=0,TRUE(),FALSE())),FALSE()),FALSE()),FALSE())) -> TRUE | P10: =SUM(M7:M10) -> 2.7
M11: =IF(ISNUMBER(L11),IF(IF(F11>H11,1,"")=L11,I11,IF(IF(F11<H11,2,"")=L11,K11,IF(IF(F11=H11,0,"")=L11,J11,0))),"") | N11: =IF(ISBLANK(F11),"",IF(ISNUMBER(F11),IF(AND(F11>=0,F11<250),IF($F11<>$H11,IF(F11=0,TRUE(),IF(MOD(F11,1)=0,TRUE(),FALSE())),FALSE()),FALSE()),FALSE())) | O11: =IF(ISBLANK(H11),"",IF(ISNUMBER(H11),IF(AND(H11>=0,H11<250),IF($F11<>$H11,IF(H11=0,TRUE(),IF(MOD(H11,1)=0,TRUE(),FALSE())),FALSE()),FALSE()),FALSE()))
B12: Playoffs | C12: Heidelberg | D12: =IF(C12>0,":","") -> : | E12: Chemnitz | F12: 74 | G12: =IF(ISNUMBER(F12),":","") -> : | H12: 70 | I12: 1.7 | K12: 2.1 | L12: 2 | M12: =IF(ISNUMBER(L12),IF(IF(F12>H12,1,"")=L12,I12,IF(IF(F12<H12,2,"")=L12,K12,IF(IF(F12=H12,0,"")=L12,J12,0))),"") -> 0 | N12: =IF(ISBLANK(F12),"",IF(ISNUMBER(F12),IF(AND(F12>=0,F12<250),IF($F12<>$H12,IF(F12=0,TRUE(),IF(MOD(F12,1)=0,TRUE(),FALSE())),FALSE()),FALSE()),FALSE())) -> TRUE | O12: =IF(ISBLANK(H12),"",IF(ISNUMBER(H12),IF(AND(H12>=0,H12<250),IF($F12<>$H12,IF(H12=0,TRUE(),IF(MOD(H12,1)=0,TRUE(),FALSE())),FALSE()),FALSE()),FALSE())) -> TRUE
B13: 1. Runde | C13: ALBA | D13: =IF(C13>0,":","") -> : | E13: ULM | F13: 62 | G13: =IF(ISNUMBER(F13),":","") -> : | H13: 74 | I13: 1.5 | K13: 2.55 | L13: 1 | M13: =IF(ISNUMBER(L13),IF(IF(F13>H13,1,"")=L13,I13,IF(IF(F13<H13,2,"")=L13,K13,IF(IF(F13=H13,0,"")=L13,J13,0))),"") -> 0 | N13: =IF(ISBLANK(F13),"",IF(ISNUMBER(F13),IF(AND(F13>=0,F13<250),IF($F13<>$H13,IF(F13=0,TRUE(),IF(MOD(F13,1)=0,TRUE(),FALSE())),FALSE()),FALSE()),FALSE())) -> TRUE | O13: =IF(ISBLANK(H13),"",IF(ISNUMBER(H13),IF(AND(H13>=0,H13<250),IF($F13<>$H13,IF(H13=0,TRUE(),IF(MOD(H13,1)=0,TRUE(),FALSE())),FALSE()),FALSE()),FALSE())) -> TRUE
B14: Spiel 2 | C14: MBC | D14: =IF(C14>0,":","") -> : | E14: Bayern | F14: 65 | G14: =IF(ISNUMBER(F14),":","") -> : | H14: 80 | I14: 3.4 | K14: 1.3 | L14: 2 | M14: =IF(ISNUMBER(L14),IF(IF(F14>H14,1,"")=L14,I14,IF(IF(F14<H14,2,"")=L14,K14,IF(IF(F14=H14,0,"")=L14,J14,0))),"") -> 1.3 | N14: =IF(ISBLANK(F14),"",IF(ISNUMBER(F14),IF(AND(F14>=0,F14<250),IF($F14<>$H14,IF(F14=0,TRUE(),IF(MOD(F14,1)=0,TRUE(),FALSE())),FALSE()),FALSE()),FALSE())) -> TRUE | O14: =IF(ISBLANK(H14),"",IF(ISNUMBER(H14),IF(AND(H14>=0,H14<250),IF($F14<>$H14,IF(H14=0,TRUE(),IF(MOD(H14,1)=0,TRUE(),FALSE())),FALSE()),FALSE()),FALSE())) -> TRUE
C15: Würzburg | D15: =IF(C15>0,":","") -> : | E15: Braunschweig | F15: 94 | G15: =IF(ISNUMBER(F15),":","") -> : | H15: 90 | I15: 1.57 | K15: 2.35 | L15: 1 | M15: =IF(ISNUMBER(L15),IF(IF(F15>H15,1,"")=L15,I15,IF(IF(F15<H15,2,"")=L15,K15,IF(IF(F15=H15,0,"")=L15,J15,0))),"") -> 1.57 | N15: =IF(ISBLANK(F15),"",IF(ISNUMBER(F15),IF(AND(F15>=0,F15<250),IF($F15<>$H15,IF(F15=0,TRUE(),IF(MOD(F15,1)=0,TRUE(),FALSE())),FALSE()),FALSE()),FALSE())) -> TRUE | O15: =IF(ISBLANK(H15),"",IF(ISNUMBER(H15),IF(AND(H15>=0,H15<250),IF($F15<>$H15,IF(H15=0,TRUE(),IF(MOD(H15,1)=0,TRUE(),FALSE())),FALSE()),FALSE()),FALSE())) -> TRUE | P15: =SUM(M12:M15) -> 2.87
M16: =IF(ISNUMBER(L16),IF(IF(F16>H16,1,"")=L16,I16,IF(IF(F16<H16,2,"")=L16,K16,IF(IF(F16=H16,0,"")=L16,J16,0))),"") | N16: =IF(ISBLANK(F16),"",IF(ISNUMBER(F16),IF(AND(F16>=0,F16<250),IF($F16<>$H16,IF(F16=0,TRUE(),IF(MOD(F16,1)=0,TRUE(),FALSE())),FALSE()),FALSE()),FALSE())) | O16: =IF(ISBLANK(H16),"",IF(ISNUMBER(H16),IF(AND(H16>=0,H16<250),IF($F16<>$H16,IF(H16=0,TRUE(),IF(MOD(H16,1)=0,TRUE(),FALSE())),FALSE()),FALSE()),FALSE()))
B17: Playoffs | C17: Bayern | D17: =IF(C17>0,":","") -> : | E17: MBC | F17: 80 | G17: =IF(ISNUMBER(F17),":","") -> : | H17: 69 | I17: 1.06 | K17: 8.5 | L17: 1 | M17: =IF(ISNUMBER(L17),IF(IF(F17>H17,1,"")=L17,I17,IF(IF(F17<H17,2,"")=L17,K17,IF(IF(F17=H17,0,"")=L17,J17,0))),"") -> 1.06 | N17: =IF(ISBLANK(F17),"",IF(ISNUMBER(F17),IF(AND(F17>=0,F17<250),IF($F17<>$H17,IF(F17=0,TRUE(),IF(MOD(F17,1)=0,TRUE(),FALSE())),FALSE()),FALSE()),FALSE())) -> TRUE | O17: =IF(ISBLANK(H17),"",IF(ISNUMBER(H17),IF(AND(H17>=0,H17<250),IF($F17<>$H17,IF(H17=0,TRUE(),IF(MOD(H17,1)=0,TRUE(),FALSE())),FALSE()),FALSE()),FALSE())) -> TRUE
B18: 1. Runde | C18: ULM | D18: =IF(C18>0,":","") -> : | E18: ALBA | F18: 93 | G18: =IF(ISNUMBER(F18),":","") -> : | H18: 84 | I18: 1.55 | K18: 2.4 | L18: 1 | M18: =IF(ISNUMBER(L18),IF(IF(F18>H18,1,"")=L18,I18,IF(IF(F18<H18,2,"")=L18,K18,IF(IF(F18=H18,0,"")=L18,J18,0))),"") -> 1.55 | N18: =IF(ISBLANK(F18),"",IF(ISNUMBER(F18),IF(AND(F18>=0,F18<250),IF($F18<>$H18,IF(F18=0,TRUE(),IF(MOD(F18,1)=0,TRUE(),FALSE())),FALSE()),FALSE()),FALSE())) -> TRUE | O18: =IF(ISBLANK(H18),"",IF(ISNUMBER(H18),IF(AND(H18>=0,H18<250),IF($F18<>$H18,IF(H18=0,TRUE(),IF(MOD(H18,1)=0,TRUE(),FALSE())),FALSE()),FALSE()),FALSE())) -> TRUE
B19: Spiel 3 | C19: Braunschweig | D19: =IF(C19>0,":","") -> : | E19: Würzburg | F19: 80 | G19: =IF(ISNUMBER(F19),":","") -> : | H19: 75 | I19: 1.5 | K19: 2.55 | L19: 1 | M19: =IF(ISNUMBER(L19),IF(IF(F19>H19,1,"")=L19,I19,IF(IF(F19<H19,2,"")=L19,K19,IF(IF(F19=H19,0,"")=L19,J19,0))),"") -> 1.5 | N19: =IF(ISBLANK(F19),"",IF(ISNUMBER(F19),IF(AND(F19>=0,F19<250),IF($F19<>$H19,IF(F19=0,TRUE(),IF(MOD(F19,1)=0,TRUE(),FALSE())),FALSE()),FALSE()),FALSE())) -> TRUE | O19: =IF(ISBLANK(H19),"",IF(ISNUMBER(H19),IF(AND(H19>=0,H19<250),IF($F19<>$H19,IF(H19=0,TRUE(),IF(MOD(H19,1)=0,TRUE(),FALSE())),FALSE()),FALSE()),FALSE())) -> TRUE
C20: Chemnitz | D20: =IF(C20>0,":","") -> : | E20: Heidelberg | F20: 97 | G20: =IF(ISNUMBER(F20),":","") -> : | H20: 88 | I20: 1.4 | K20: 2.9 | L20: 1 | M20: =IF(ISNUMBER(L20),IF(IF(F20>H20,1,"")=L20,I20,IF(IF(F20<H20,2,"")=L20,K20,IF(IF(F20=H20,0,"")=L20,J20,0))),"") -> 1.4 | N20: =IF(ISBLANK(F20),"",IF(ISNUMBER(F20),IF(AND(F20>=0,F20<250),IF($F20<>$H20,IF(F20=0,TRUE(),IF(MOD(F20,1)=0,TRUE(),FALSE())),FALSE()),FALSE()),FALSE())) -> TRUE | O20: =IF(ISBLANK(H20),"",IF(ISNUMBER(H20),IF(AND(H20>=0,H20<250),IF($F20<>$H20,IF(H20=0,TRUE(),IF(MOD(H20,1)=0,TRUE(),FALSE())),FALSE()),FALSE()),FALSE())) -> TRUE | P20: =SUM(M17:M20) -> 5.51
M21: =IF(ISNUMBER(L21),IF(IF(F21>H21,1,"")=L21,I21,IF(IF(F21<H21,2,"")=L21,K21,IF(IF(F21=H21,0,"")=L21,J21,0))),"") | N21: =IF(ISBLANK(F21),"",IF(ISNUMBER(F21),IF(AND(F21>=0,F21<250),IF($F21<>$H21,IF(F21=0,TRUE(),IF(MOD(F21,1)=0,TRUE(),FALSE())),FALSE()),FALSE()),FALSE())) | O21: =IF(ISBLANK(H21),"",IF(ISNUMBER(H21),IF(AND(H21>=0,H21<250),IF($F21<>$H21,IF(H21=0,TRUE(),IF(MOD(H21,1)=0,TRUE(),FALSE())),FALSE()),FALSE()),FALSE()))
B22: Spiel 4 | C22: Heidelberg | D22: =IF(C22>0,":","") -> : | E22: Chemnitz | F22: 92 | G22: =IF(ISNUMBER(F22),":","") -> : | H22: 64 | I22: 1.67 | K22: 2.15 | L22: 2 | M22: =IF(ISNUMBER(L22),IF(IF(F22>H22,1,"")=L22,I22,IF(IF(F22<H22,2,"")=L22,K22,IF(IF(F22=H22,0,"")=L22,J22,0))),"") -> 0 | N22: =IF(ISBLANK(F22),"",IF(ISNUMBER(F22),IF(AND(F22>=0,F22<250),IF($F22<>$H22,IF(F22=0,TRUE(),IF(MOD(F22,1)=0,TRUE(),FALSE())),FALSE()),FALSE()),FALSE())) -> TRUE | O22: =IF(ISBLANK(H22),"",IF(ISNUMBER(H22),IF(AND(H22>=0,H22<250),IF($F22<>$H22,IF(H22=0,TRUE(),IF(MOD(H22,1)=0,TRUE(),FALSE())),FALSE()),FALSE()),FALSE())) -> TRUE
C23: Würzburg | D23: =IF(C23>0,":","") -> : | E23: Braunschweig | F23: 79 | G23: =IF(ISNUMBER(F23),":","") -> : | H23: 72 | I23: 1.62 | K23: 2.25 | L23: 1 | M23: =IF(ISNUMBER(L23),IF(IF(F23>H23,1,"")=L23,I23,IF(IF(F23<H23,2,"")=L23,K23,IF(IF(F23=H23,0,"")=L23,J23,0))),"") -> 1.62 | N23: =IF(ISBLANK(F23),"",IF(ISNUMBER(F23),IF(AND(F23>=0,F23<250),IF($F23<>$H23,IF(F23=0,TRUE(),IF(MOD(F23,1)=0,TRUE(),FALSE())),FALSE()),FALSE()),FALSE())) -> TRUE | O23: =IF(ISBLANK(H23),"",IF(ISNUMBER(H23),IF(AND(H23>=0,H23<250),IF($F23<>$H23,IF(H23=0,TRUE(),IF(MOD(H23,1)=0,TRUE(),FALSE())),FALSE()),FALSE()),FALSE())) -> TRUE | P23: =SUM(M22:M23) -> 1.62
M24: =IF(ISNUMBER(L24),IF(IF(F24>H24,1,"")=L24,I24,IF(IF(F24<H24,2,"")=L24,K24,IF(IF(F24=H24,0,"")=L24,J24,0))),"") | N24: =IF(ISBLANK(F24),"",IF(ISNUMBER(F24),IF(AND(F24>=0,F24<250),IF($F24<>$H24,IF(F24=0,TRUE(),IF(MOD(F24,1)=0,TRUE(),FALSE())),FALSE()),FALSE()),FALSE())) | O24: =IF(ISBLANK(H24),"",IF(ISNUMBER(H24),IF(AND(H24>=0,H24<250),IF($F24<>$H24,IF(H24=0,TRUE(),IF(MOD(H24,1)=0,TRUE(),FALSE())),FALSE()),FALSE()),FALSE()))
B25: Spiel 5 | C25: Braunschweig | D25: =IF(C25>0,":","") -> : | E25: Würzburg | F25: 88 | G25: =IF(ISNUMBER(F25),":","") -> : | H25: 97 | I25: 1.55 | K25: 2.4 | L25: 1 | M25: =IF(ISNUMBER(L25),IF(IF(F25>H25,1,"")=L25,I25,IF(IF(F25<H25,2,"")=L25,K25,IF(IF(F25=H25,0,"")=L25,J25,0))),"") -> 0 | N25: =IF(ISBLANK(F25),"",IF(ISNUMBER(F25),IF(AND(F25>=0,F25<250),IF($F25<>$H25,IF(F25=0,TRUE(),IF(MOD(F25,1)=0,TRUE(),FALSE())),FALSE()),FALSE()),FALSE())) -> TRUE | O25: =IF(ISBLANK(H25),"",IF(ISNUMBER(H25),IF(AND(H25>=0,H25<250),IF($F25<>$H25,IF(H25=0,TRUE(),IF(MOD(H25,1)=0,TRUE(),FALSE())),FALSE()),FALSE()),FALSE())) -> TRUE | P25: =SUM(M25) -> 0
M26: =IF(ISNUMBER(L26),IF(IF(F26>H26,1,"")=L26,I26,IF(IF(F26<H26,2,"")=L26,K26,IF(IF(F26=H26,0,"")=L26,J26,0))),"") | N26: =IF(ISBLANK(F26),"",IF(ISNUMBER(F26),IF(AND(F26>=0,F26<250),IF($F26<>$H26,IF(F26=0,TRUE(),IF(MOD(F26,1)=0,TRUE(),FALSE())),FALSE()),FALSE()),FALSE())) | O26: =IF(ISBLANK(H26),"",IF(ISNUMBER(H26),IF(AND(H26>=0,H26<250),IF($F26<>$H26,IF(H26=0,TRUE(),IF(MOD(H26,1)=0,TRUE(),FALSE())),FALSE()),FALSE()),FALSE()))
B27: Playoffs | C27: Bayern | D27: =IF(C27>0,":","") -> : | E27: Heidelberg | F27: 90 | G27: =IF(ISNUMBER(F27),":","") -> : | H27: 95 | I27: 1.1 | K27: 6.5 | L27: 1 | M27: =IF(ISNUMBER(L27),IF(IF(F27>H27,1,"")=L27,I27,IF(IF(F27<H27,2,"")=L27,K27,IF(IF(F27=H27,0,"")=L27,J27,0))),"") -> 0 | N27: =IF(ISBLANK(F27),"",IF(ISNUMBER(F27),IF(AND(F27>=0,F27<250),IF($F27<>$H27,IF(F27=0,TRUE(),IF(MOD(F27,1)=0,TRUE(),FALSE())),FALSE()),FALSE()),FALSE())) -> TRUE | O27: =IF(ISBLANK(H27),"",IF(ISNUMBER(H27),IF(AND(H27>=0,H27<250),IF($F27<>$H27,IF(H27=0,TRUE(),IF(MOD(H27,1)=0,TRUE(),FALSE())),FALSE()),FALSE()),FALSE())) -> TRUE
B28: Halbfinale | C28: Ulm | D28: =IF(C28>0,":","") -> : | E28: Würzburg | F28: 91 | G28: =IF(ISNUMBER(F28),":","") -> : | H28: 87 | I28: 1.3 | K28: 3.4 | L28: 1 | M28: =IF(ISNUMBER(L28),IF(IF(F28>H28,1,"")=L28,I28,IF(IF(F28<H28,2,"")=L28,K28,IF(IF(F28=H28,0,"")=L28,J28,0))),"") -> 1.3 | N28: =IF(ISBLANK(F28),"",IF(ISNUMBER(F28),IF(AND(F28>=0,F28<250),IF($F28<>$H28,IF(F28=0,TRUE(),IF(MOD(F28,1)=0,TRUE(),FALSE())),FALSE()),FALSE()),FALSE())) -> TRUE | O28: =IF(ISBLANK(H28),"",IF(ISNUMBER(H28),IF(AND(H28>=0,H28<250),IF($F28<>$H28,IF(H28=0,TRUE(),IF(MOD(H28,1)=0,TRUE(),FALSE())),FALSE()),FALSE()),FALSE())) -> TRUE | P28: =SUM(M27:M28) -> 1.3
B29: Spiel 1 | D29: =IF(C29>0,":","") | M29: =IF(ISNUMBER(L29),IF(IF(F29>H29,1,"")=L29,I29,IF(IF(F29<H29,2,"")=L29,K29,IF(IF(F29=H29,0,"")=L29,J29,0))),"") | N29: =IF(ISBLANK(F29),"",IF(ISNUMBER(F29),IF(AND(F29>=0,F29<250),IF($F29<>$H29,IF(F29=0,TRUE(),IF(MOD(F29,1)=0,TRUE(),FALSE())),FALSE()),FALSE()),FALSE())) | O29: =IF(ISBLANK(H29),"",IF(ISNUMBER(H29),IF(AND(H29>=0,H29<250),IF($F29<>$H29,IF(H29=0,TRUE(),IF(MOD(H29,1)=0,TRUE(),FALSE())),FALSE()),FALSE()),FALSE()))
M30: =IF(ISNUMBER(L30),IF(IF(F30>H30,1,"")=L30,I30,IF(IF(F30<H30,2,"")=L30,K30,IF(IF(F30=H30,0,"")=L30,J30,0))),"") | N30: =IF(ISBLANK(F30),"",IF(ISNUMBER(F30),IF(AND(F30>=0,F30<250),IF($F30<>$H30,IF(F30=0,TRUE(),IF(MOD(F30,1)=0,TRUE(),FALSE())),FALSE()),FALSE()),FALSE())) | O30: =IF(ISBLANK(H30),"",IF(ISNUMBER(H30),IF(AND(H30>=0,H30<250),IF($F30<>$H30,IF(H30=0,TRUE(),IF(MOD(H30,1)=0,TRUE(),FALSE())),FALSE()),FALSE()),FALSE()))
B31: Spiel 2 | C31: Würzburg | D31: =IF(C31>0,":","") -> : | E31: Ulm | F31: 87 | G31: =IF(ISNUMBER(F31),":","") -> : | H31: 77 | I31: 2.05 | K31: 1.75 | L31: 2 | M31: =IF(ISNUMBER(L31),IF(IF(F31>H31,1,"")=L31,I31,IF(IF(F31<H31,2,"")=L31,K31,IF(IF(F31=H31,0,"")=L31,J31,0))),"") -> 0 | N31: =IF(ISBLANK(F31),"",IF(ISNUMBER(F31),IF(AND(F31>=0,F31<250),IF($F31<>$H31,IF(F31=0,TRUE(),IF(MOD(F31,1)=0,TRUE(),FALSE())),FALSE()),FALSE()),FALSE())) -> TRUE | O31: =IF(ISBLANK(H31),"",IF(ISNUMBER(H31),IF(AND(H31>=0,H31<250),IF($F31<>$H31,IF(H31=0,TRUE(),IF(MOD(H31,1)=0,TRUE(),FALSE())),FALSE()),FALSE()),FALSE())) -> TRUE
C32: Heidelberg | D32: =IF(C32>0,":","") -> : | E32: Bayern | F32: 61 | G32: =IF(ISNUMBER(F32),":","") -> : | H32: 90 | I32: 3.2 | K32: 1.33 | L32: 2 | M32: =IF(ISNUMBER(L32),IF(IF(F32>H32,1,"")=L32,I32,IF(IF(F32<H32,2,"")=L32,K32,IF(IF(F32=H32,0,"")=L32,J32,0))),"") -> 1.33 | N32: =IF(ISBLANK(F32),"",IF(ISNUMBER(F32),IF(AND(F32>=0,F32<250),IF($F32<>$H32,IF(F32=0,TRUE(),IF(MOD(F32,1)=0,TRUE(),FALSE())),FALSE()),FALSE()),FALSE())) -> TRUE | O32: =IF(ISBLANK(H32),"",IF(ISNUMBER(H32),IF(AND(H32>=0,H32<250),IF($F32<>$H32,IF(H32=0,TRUE(),IF(MOD(H32,1)=0,TRUE(),FALSE())),FALSE()),FALSE()),FALSE())) -> TRUE | P32: =SUM(M31:M32) -> 1.33
M33: =IF(ISNUMBER(L33),IF(IF(F33>H33,1,"")=L33,I33,IF(IF(F33<H33,2,"")=L33,K33,IF(IF(F33=H33,0,"")=L33,J33,0))),"") | N33: =IF(ISBLANK(F33),"",IF(ISNUMBER(F33),IF(AND(F33>=0,F33<250),IF($F33<>$H33,IF(F33=0,TRUE(),IF(MOD(F33,1)=0,TRUE(),FALSE())),FALSE()),FALSE()),FALSE())) | O33: =IF(ISBLANK(H33),"",IF(ISNUMBER(H33),IF(AND(H33>=0,H33<250),IF($F33<>$H33,IF(H33=0,TRUE(),IF(MOD(H33,1)=0,TRUE(),FALSE())),FALSE()),FALSE()),FALSE()))
B34: Spiel 3 | C34: Ulm | D34: =IF(C34>0,":","") -> : | E34: Würzburg | F34: 99 | G34: =IF(ISNUMBER(F34),":","") -> : | H34: 86 | I34: 1.3 | K34: 3.4 | L34: 1 | M34: =IF(ISNUMBER(L34),IF(IF(F34>H34,1,"")=L34,I34,IF(IF(F34<H34,2,"")=L34,K34,IF(IF(F34=H34,0,"")=L34,J34,0))),"") -> 1.3 | N34: =IF(ISBLANK(F34),"",IF(ISNUMBER(F34),IF(AND(F34>=0,F34<250),IF($F34<>$H34,IF(F34=0,TRUE(),IF(MOD(F34,1)=0,TRUE(),FALSE())),FALSE()),FALSE()),FALSE())) -> TRUE | O34: =IF(ISBLANK(H34),"",IF(ISNUMBER(H34),IF(AND(H34>=0,H34<250),IF($F34<>$H34,IF(H34=0,TRUE(),IF(MOD(H34,1)=0,TRUE(),FALSE())),FALSE()),FALSE()),FALSE())) -> TRUE
C35: Bayern | D35: =IF(C35>0,":","") -> : | E35: Heidelberg | F35: 98 | G35: =IF(ISNUMBER(F35),":","") -> : | H35: 68 | I35: 1.14 | K35: 5.5 | L35: 1 | M35: =IF(ISNUMBER(L35),IF(IF(F35>H35,1,"")=L35,I35,IF(IF(F35<H35,2,"")=L35,K35,IF(IF(F35=H35,0,"")=L35,J35,0))),"") -> 1.14 | N35: =IF(ISBLANK(F35),"",IF(ISNUMBER(F35),IF(AND(F35>=0,F35<250),IF($F35<>$H35,IF(F35=0,TRUE(),IF(MOD(F35,1)=0,TRUE(),FALSE())),FALSE()),FALSE()),FALSE())) -> TRUE | O35: =IF(ISBLANK(H35),"",IF(ISNUMBER(H35),IF(AND(H35>=0,H35<250),IF($F35<>$H35,IF(H35=0,TRUE(),IF(MOD(H35,1)=0,TRUE(),FALSE())),FALSE()),FALSE()),FALSE())) -> TRUE | P35: =SUM(M34:M35) -> 2.44
M36: =IF(ISNUMBER(L36),IF(IF(F36>H36,1,"")=L36,I36,IF(IF(F36<H36,2,"")=L36,K36,IF(IF(F36=H36,0,"")=L36,J36,0))),"") | N36: =IF(ISBLANK(F36),"",IF(ISNUMBER(F36),IF(AND(F36>=0,F36<250),IF($F36<>$H36,IF(F36=0,TRUE(),IF(MOD(F36,1)=0,TRUE(),FALSE())),FALSE()),FALSE()),FALSE())) | O36: =IF(ISBLANK(H36),"",IF(ISNUMBER(H36),IF(AND(H36>=0,H36<250),IF($F36<>$H36,IF(H36=0,TRUE(),IF(MOD(H36,1)=0,TRUE(),FALSE())),FALSE()),FALSE()),FALSE()))
B37: Spiel 4 | C37: Würzburg | D37: =IF(C37>0,":","") -> : | E37: Ulm | F37: 78 | G37: =IF(ISNUMBER(F37),":","") -> : | H37: 77 | I37: 2.2 | K37: 1.65 | L37: 2 | M37: =IF(ISNUMBER(L37),IF(IF(F37>H37,1,"")=L37,I37,IF(IF(F37<H37,2,"")=L37,K37,IF(IF(F37=H37,0,"")=L37,J37,0))),"") -> 0 | N37: =IF(ISBLANK(F37),"",IF(ISNUMBER(F37),IF(AND(F37>=0,F37<250),IF($F37<>$H37,IF(F37=0,TRUE(),IF(MOD(F37,1)=0,TRUE(),FALSE())),FALSE()),FALSE()),FALSE())) -> TRUE | O37: =IF(ISBLANK(H37),"",IF(ISNUMBER(H37),IF(AND(H37>=0,H37<250),IF($F37<>$H37,IF(H37=0,TRUE(),IF(MOD(H37,1)=0,TRUE(),FALSE())),FALSE()),FALSE()),FALSE())) -> TRUE
C38: Heidelberg | D38: =IF(C38>0,":","") -> : | E38: Bayern | F38: 82 | G38: =IF(ISNUMBER(F38),":","") -> : | H38: 94 | I38: 3.8 | K38: 1.25 | L38: 2 | M38: =IF(ISNUMBER(L38),IF(IF(F38>H38,1,"")=L38,I38,IF(IF(F38<H38,2,"")=L38,K38,IF(IF(F38=H38,0,"")=L38,J38,0))),"") -> 1.25 | N38: =IF(ISBLANK(F38),"",IF(ISNUMBER(F38),IF(AND(F38>=0,F38<250),IF($F38<>$H38,IF(F38=0,TRUE(),IF(MOD(F38,1)=0,TRUE(),FALSE())),FALSE()),FALSE()),FALSE())) -> TRUE | O38: =IF(ISBLANK(H38),"",IF(ISNUMBER(H38),IF(AND(H38>=0,H38<250),IF($F38<>$H38,IF(H38=0,TRUE(),IF(MOD(H38,1)=0,TRUE(),FALSE())),FALSE()),FALSE()),FALSE())) -> TRUE | P38: =SUM(M37:M38) -> 1.25
M39: =IF(ISNUMBER(L39),IF(IF(F39>H39,1,"")=L39,I39,IF(IF(F39<H39,2,"")=L39,K39,IF(IF(F39=H39,0,"")=L39,J39,0))),"") | N39: =IF(ISBLANK(F39),"",IF(ISNUMBER(F39),IF(AND(F39>=0,F39<250),IF($F39<>$H39,IF(F39=0,TRUE(),IF(MOD(F39,1)=0,TRUE(),FALSE())),FALSE()),FALSE()),FALSE())) | O39: =IF(ISBLANK(H39),"",IF(ISNUMBER(H39),IF(AND(H39>=0,H39<250),IF($F39<>$H39,IF(H39=0,TRUE(),IF(MOD(H39,1)=0,TRUE(),FALSE())),FALSE()),FALSE()),FALSE()))
B40: Spiel 5 | C40: Ulm | D40: =IF(C40>0,":","") -> : | E40: Würzburg | F40: 91 | G40: =IF(ISNUMBER(F40),":","") -> : | H40: 84 | I40: 1.35 | K40: 3.1 | L40: 1 | M40: =IF(ISNUMBER(L40),IF(IF(F40>H40,1,"")=L40,I40,IF(IF(F40<H40,2,"")=L40,K40,IF(IF(F40=H40,0,"")=L40,J40,0))),"") -> 1.35 | N40: =IF(ISBLANK(F40),"",IF(ISNUMBER(F40),IF(AND(F40>=0,F40<250),IF($F40<>$H40,IF(F40=0,TRUE(),IF(MOD(F40,1)=0,TRUE(),FALSE())),FALSE()),FALSE()),FALSE())) -> TRUE | O40: =IF(ISBLANK(H40),"",IF(ISNUMBER(H40),IF(AND(H40>=0,H40<250),IF($F40<>$H40,IF(H40=0,TRUE(),IF(MOD(H40,1)=0,TRUE(),FALSE())),FALSE()),FALSE()),FALSE())) -> TRUE | P40: =SUM(M40) -> 1.35
M41: =IF(ISNUMBER(L41),IF(IF(F41>H41,1,"")=L41,I41,IF(IF(F41<H41,2,"")=L41,K41,IF(IF(F41=H41,0,"")=L41,J41,0))),"") | N41: =IF(ISBLANK(F41),"",IF(ISNUMBER(F41),IF(AND(F41>=0,F41<250),IF($F41<>$H41,IF(F41=0,TRUE(),IF(MOD(F41,1)=0,TRUE(),FALSE())),FALSE()),FALSE()),FALSE())) | O41: =IF(ISBLANK(H41),"",IF(ISNUMBER(H41),IF(AND(H41>=0,H41<250),IF($F41<>$H41,IF(H41=0,TRUE(),IF(MOD(H41,1)=0,TRUE(),FALSE())),FALSE()),FALSE()),FALSE()))
B42: Finale | D42: =IF(C42>0,":","") | M42: =IF(ISNUMBER(L42),IF(IF(F42>H42,1,"")=L42,I42,IF(IF(F42<H42,2,"")=L42,K42,IF(IF(F42=H42,0,"")=L42,J42,0))),"") | N42: =IF(ISBLANK(F42),"",IF(ISNUMBER(F42),IF(AND(F42>=0,F42<250),IF($F42<>$H42,IF(F42=0,TRUE(),IF(MOD(F42,1)=0,TRUE(),FALSE())),FALSE()),FALSE()),FALSE())) | O42: =IF(ISBLANK(H42),"",IF(ISNUMBER(H42),IF(AND(H42>=0,H42<250),IF($F42<>$H42,IF(H42=0,TRUE(),IF(MOD(H42,1)=0,TRUE(),FALSE())),FALSE()),FALSE()),FALSE()))
B43: Spiel 1 | C43: Bayern | D43: =IF(C43>0,":","") -> : | E43: Ulm | F43: 82 | G43: =IF(ISNUMBER(F43),":","") -> : | H43: 66 | I43: 1.25 | K43: 3.8 | L43: 2 | M43: =IF(ISNUMBER(L43),IF(IF(F43>H43,1,"")=L43,I43,IF(IF(F43<H43,2,"")=L43,K43,IF(IF(F43=H43,0,"")=L43,J43,0))),"") -> 0 | N43: =IF(ISBLANK(F43),"",IF(ISNUMBER(F43),IF(AND(F43>=0,F43<250),IF($F43<>$H43,IF(F43=0,TRUE(),IF(MOD(F43,1)=0,TRUE(),FALSE())),FALSE()),FALSE()),FALSE())) -> TRUE | O43: =IF(ISBLANK(H43),"",IF(ISNUMBER(H43),IF(AND(H43>=0,H43<250),IF($F43<>$H43,IF(H43=0,TRUE(),IF(MOD(H43,1)=0,TRUE(),FALSE())),FALSE()),FALSE()),FALSE())) -> TRUE | P43: =SUM(M43) -> 0
D44: =IF(C44>0,":","") | M44: =IF(ISNUMBER(L44),IF(IF(F44>H44,1,"")=L44,I44,IF(IF(F44<H44,2,"")=L44,K44,IF(IF(F44=H44,0,"")=L44,J44,0))),"") | N44: =IF(ISBLANK(F44),"",IF(ISNUMBER(F44),IF(AND(F44>=0,F44<250),IF($F44<>$H44,IF(F44=0,TRUE(),IF(MOD(F44,1)=0,TRUE(),FALSE())),FALSE()),FALSE()),FALSE())) | O44: =IF(ISBLANK(H44),"",IF(ISNUMBER(H44),IF(AND(H44>=0,H44<250),IF($F44<>$H44,IF(H44=0,TRUE(),IF(MOD(H44,1)=0,TRUE(),FALSE())),FALSE()),FALSE()),FALSE()))
B45: Spiel 2 | C45: Ulm | D45: =IF(C45>0,":","") -> : | E45: Bayern | F45: 79 | G45: =IF(ISNUMBER(F45),":","") -> : | H45: 64 | I45: 2.1 | K45: 1.72 | L45: 1 | M45: =IF(ISNUMBER(L45),IF(IF(F45>H45,1,"")=L45,I45,IF(IF(F45<H45,2,"")=L45,K45,IF(IF(F45=H45,0,"")=L45,J45,0))),"") -> 2.1 | N45: =IF(ISBLANK(F45),"",IF(ISNUMBER(F45),IF(AND(F45>=0,F45<250),IF($F45<>$H45,IF(F45=0,TRUE(),IF(MOD(F45,1)=0,TRUE(),FALSE())),FALSE()),FALSE()),FALSE())) -> TRUE | O45: =IF(ISBLANK(H45),"",IF(ISNUMBER(H45),IF(AND(H45>=0,H45<250),IF($F45<>$H45,IF(H45=0,TRUE(),IF(MOD(H45,1)=0,TRUE(),FALSE())),FALSE()),FALSE()),FALSE())) -> TRUE | P45: =SUM(M45) -> 2.1
D46: =IF(C46>0,":","") | M46: =IF(ISNUMBER(L46),IF(IF(F46>H46,1,"")=L46,I46,IF(IF(F46<H46,2,"")=L46,K46,IF(IF(F46=H46,0,"")=L46,J46,0))),"") | N46: =IF(ISBLANK(F46),"",IF(ISNUMBER(F46),IF(AND(F46>=0,F46<250),IF($F46<>$H46,IF(F46=0,TRUE(),IF(MOD(F46,1)=0,TRUE(),FALSE())),FALSE()),FALSE()),FALSE())) | O46: =IF(ISBLANK(H46),"",IF(ISNUMBER(H46),IF(AND(H46>=0,H46<250),IF($F46<>$H46,IF(H46=0,TRUE(),IF(MOD(H46,1)=0,TRUE(),FALSE())),FALSE()),FALSE()),FALSE()))
B47: Spiel 3 | C47: Bayern | D47: =IF(C47>0,":","") -> : | E47: Ulm | F47: 79 | G47: =IF(ISNUMBER(F47),":","") -> : | H47: 81 | I47: 1.3 | K47: 3.4 | L47: 1 | M47: =IF(ISNUMBER(L47),IF(IF(F47>H47,1,"")=L47,I47,IF(IF(F47<H47,2,"")=L47,K47,IF(IF(F47=H47,0,"")=L47,J47,0))),"") -> 0 | N47: =IF(ISBLANK(F47),"",IF(ISNUMBER(F47),IF(AND(F47>=0,F47<250),IF($F47<>$H47,IF(F47=0,TRUE(),IF(MOD(F47,1)=0,TRUE(),FALSE())),FALSE()),FALSE()),FALSE())) -> TRUE | O47: =IF(ISBLANK(H47),"",IF(ISNUMBER(H47),IF(AND(H47>=0,H47<250),IF($F47<>$H47,IF(H47=0,TRUE(),IF(MOD(H47,1)=0,TRUE(),FALSE())),FALSE()),FALSE()),FALSE())) -> TRUE | P47: =SUM(M47) -> 0
M48: =IF(ISNUMBER(L48),IF(IF(F48>H48,1,"")=L48,I48,IF(IF(F48<H48,2,"")=L48,K48,IF(IF(F48=H48,0,"")=L48,J48,0))),"") | N48: =IF(ISBLANK(F48),"",IF(ISNUMBER(F48),IF(AND(F48>=0,F48<250),IF($F48<>$H48,IF(F48=0,TRUE(),IF(MOD(F48,1)=0,TRUE(),FALSE())),FALSE()),FALSE()),FALSE())) | O48: =IF(ISBLANK(H48),"",IF(ISNUMBER(H48),IF(AND(H48>=0,H48<250),IF($F48<>$H48,IF(H48=0,TRUE(),IF(MOD(H48,1)=0,TRUE(),FALSE())),FALSE()),FALSE()),FALSE()))
B49: Spiel 4 | C49: Ulm | D49: =IF(C49>0,":","") -> : | E49: Bayern | F49: 53 | G49: =IF(ISNUMBER(F49),":","") -> : | H49: 67 | I49: 2.05 | K49: 1.75 | L49: 1 | M49: =IF(ISNUMBER(L49),IF(IF(F49>H49,1,"")=L49,I49,IF(IF(F49<H49,2,"")=L49,K49,IF(IF(F49=H49,0,"")=L49,J49,0))),"") -> 0 | N49: =IF(ISBLANK(F49),"",IF(ISNUMBER(F49),IF(AND(F49>=0,F49<250),IF($F49<>$H49,IF(F49=0,TRUE(),IF(MOD(F49,1)=0,TRUE(),FALSE())),FALSE()),FALSE()),FALSE())) -> TRUE | O49: =IF(ISBLANK(H49),"",IF(ISNUMBER(H49),IF(AND(H49>=0,H49<250),IF($F49<>$H49,IF(H49=0,TRUE(),IF(MOD(H49,1)=0,TRUE(),FALSE())),FALSE()),FALSE()),FALSE())) -> TRUE | P49: =SUM(M49) -> 0
M50: =IF(ISNUMBER(L50),IF(IF(F50>H50,1,"")=L50,I50,IF(IF(F50<H50,2,"")=L50,K50,IF(IF(F50=H50,0,"")=L50,J50,0))),"") | N50: =IF(ISBLANK(F50),"",IF(ISNUMBER(F50),IF(AND(F50>=0,F50<250),IF($F50<>$H50,IF(F50=0,TRUE(),IF(MOD(F50,1)=0,TRUE(),FALSE())),FALSE()),FALSE()),FALSE())) | O50: =IF(ISBLANK(H50),"",IF(ISNUMBER(H50),IF(AND(H50>=0,H50<250),IF($F50<>$H50,IF(H50=0,TRUE(),IF(MOD(H50,1)=0,TRUE(),FALSE())),FALSE()),FALSE()),FALSE()))
B51: Spiel 5 | C51: Bayern | D51: =IF(C51>0,":","") -> : | E51: Ulm | F51: 81 | H51: 77 | I51: 1.25 | K51: 3.8 | L51: 2 | M51: =IF(ISNUMBER(L51),IF(IF(F51>H51,1,"")=L51,I51,IF(IF(F51<H51,2,"")=L51,K51,IF(IF(F51=H51,0,"")=L51,J51,0))),"") -> 0 | N51: =IF(ISBLANK(F51),"",IF(ISNUMBER(F51),IF(AND(F51>=0,F51<250),IF($F51<>$H51,IF(F51=0,TRUE(),IF(MOD(F51,1)=0,TRUE(),FALSE())),FALSE()),FALSE()),FALSE())) -> TRUE | O51: =IF(ISBLANK(H51),"",IF(ISNUMBER(H51),IF(AND(H51>=0,H51<250),IF($F51<>$H51,IF(H51=0,TRUE(),IF(MOD(H51,1)=0,TRUE(),FALSE())),FALSE()),FALSE()),FALSE())) -> TRUE | P51: =SUM(M51) -> 0
M52: =IF(ISNUMBER(L52),IF(IF(F52>H52,1,"")=L52,I52,IF(IF(F52<H52,2,"")=L52,K52,IF(IF(F52=H52,0,"")=L52,J52,0))),"") | N52: =IF(ISBLANK(F52),"",IF(ISNUMBER(F52),IF(AND(F52>=0,F52<250),IF($F52<>$H52,IF(F52=0,TRUE(),IF(MOD(F52,1)=0,TRUE(),FALSE())),FALSE()),FALSE()),FALSE())) | O52: =IF(ISBLANK(H52),"",IF(ISNUMBER(H52),IF(AND(H52>=0,H52<250),IF($F52<>$H52,IF(H52=0,TRUE(),IF(MOD(H52,1)=0,TRUE(),FALSE())),FALSE()),FALSE()),FALSE()))
M53: =IF(ISNUMBER(L53),IF(IF(F53>H53,1,"")=L53,I53,IF(IF(F53<H53,2,"")=L53,K53,IF(IF(F53=H53,0,"")=L53,J53,0))),"") | N53: =IF(ISBLANK(F53),"",IF(ISNUMBER(F53),IF(AND(F53>=0,F53<250),IF($F53<>$H53,IF(F53=0,TRUE(),IF(MOD(F53,1)=0,TRUE(),FALSE())),FALSE()),FALSE()),FALSE())) | O53: =IF(ISBLANK(H53),"",IF(ISNUMBER(H53),IF(AND(H53>=0,H53<250),IF($F53<>$H53,IF(H53=0,TRUE(),IF(MOD(H53,1)=0,TRUE(),FALSE())),FALSE()),FALSE()),FALSE()))
M54: =IF(ISNUMBER(L54),IF(IF(F54>H54,1,"")=L54,I54,IF(IF(F54<H54,2,"")=L54,K54,IF(IF(F54=H54,0,"")=L54,J54,0))),"") | N54: =IF(ISBLANK(F54),"",IF(ISNUMBER(F54),IF(AND(F54>=0,F54<250),IF($F54<>$H54,IF(F54=0,TRUE(),IF(MOD(F54,1)=0,TRUE(),FALSE())),FALSE()),FALSE()),FALSE())) | O54: =IF(ISBLANK(H54),"",IF(ISNUMBER(H54),IF(AND(H54>=0,H54<250),IF($F54<>$H54,IF(H54=0,TRUE(),IF(MOD(H54,1)=0,TRUE(),FALSE())),FALSE()),FALSE()),FALSE()))
M55: =IF(ISNUMBER(L55),IF(IF(F55>H55,1,"")=L55,I55,IF(IF(F55<H55,2,"")=L55,K55,IF(IF(F55=H55,0,"")=L55,J55,0))),"") | N55: =IF(ISBLANK(F55),"",IF(ISNUMBER(F55),IF(AND(F55>=0,F55<250),IF($F55<>$H55,IF(F55=0,TRUE(),IF(MOD(F55,1)=0,TRUE(),FALSE())),FALSE()),FALSE()),FALSE())) | O55: =IF(ISBLANK(H55),"",IF(ISNUMBER(H55),IF(AND(H55>=0,H55<250),IF($F55<>$H55,IF(H55=0,TRUE(),IF(MOD(H55,1)=0,TRUE(),FALSE())),FALSE()),FALSE()),FALSE()))
M56: =IF(ISNUMBER(L56),IF(IF(F56>H56,1,"")=L56,I56,IF(IF(F56<H56,2,"")=L56,K56,IF(IF(F56=H56,0,"")=L56,J56,0))),"") | N56: =IF(ISBLANK(F56),"",IF(ISNUMBER(F56),IF(AND(F56>=0,F56<250),IF($F56<>$H56,IF(F56=0,TRUE(),IF(MOD(F56,1)=0,TRUE(),FALSE())),FALSE()),FALSE()),FALSE())) | O56: =IF(ISBLANK(H56),"",IF(ISNUMBER(H56),IF(AND(H56>=0,H56<250),IF($F56<>$H56,IF(H56=0,TRUE(),IF(MOD(H56,1)=0,TRUE(),FALSE())),FALSE()),FALSE()),FALSE()))
M57: =IF(ISNUMBER(L57),IF(IF(F57>H57,1,"")=L57,I57,IF(IF(F57<H57,2,"")=L57,K57,IF(IF(F57=H57,0,"")=L57,J57,0))),"") | N57: =IF(ISBLANK(F57),"",IF(ISNUMBER(F57),IF(AND(F57>=0,F57<250),IF($F57<>$H57,IF(F57=0,TRUE(),IF(MOD(F57,1)=0,TRUE(),FALSE())),FALSE()),FALSE()),FALSE())) | O57: =IF(ISBLANK(H57),"",IF(ISNUMBER(H57),IF(AND(H57>=0,H57<250),IF($F57<>$H57,IF(H57=0,TRUE(),IF(MOD(H57,1)=0,TRUE(),FALSE())),FALSE()),FALSE()),FALSE()))
M58: =IF(ISNUMBER(L58),IF(IF(F58>H58,1,"")=L58,I58,IF(IF(F58<H58,2,"")=L58,K58,IF(IF(F58=H58,0,"")=L58,J58,0))),"") | N58: =IF(ISBLANK(F58),"",IF(ISNUMBER(F58),IF(AND(F58>=0,F58<250),IF($F58<>$H58,IF(F58=0,TRUE(),IF(MOD(F58,1)=0,TRUE(),FALSE())),FALSE()),FALSE()),FALSE())) | O58: =IF(ISBLANK(H58),"",IF(ISNUMBER(H58),IF(AND(H58>=0,H58<250),IF($F58<>$H58,IF(H58=0,TRUE(),IF(MOD(H58,1)=0,TRUE(),FALSE())),FALSE()),FALSE()),FALSE()))
M59: =IF(ISNUMBER(L59),IF(IF(F59>H59,1,"")=L59,I59,IF(IF(F59<H59,2,"")=L59,K59,IF(IF(F59=H59,0,"")=L59,J59,0))),"") | N59: =IF(ISBLANK(F59),"",IF(ISNUMBER(F59),IF(AND(F59>=0,F59<250),IF($F59<>$H59,IF(F59=0,TRUE(),IF(MOD(F59,1)=0,TRUE(),FALSE())),FALSE()),FALSE()),FALSE())) | O59: =IF(ISBLANK(H59),"",IF(ISNUMBER(H59),IF(AND(H59>=0,H59<250),IF($F59<>$H59,IF(H59=0,TRUE(),IF(MOD(H59,1)=0,TRUE(),FALSE())),FALSE()),FALSE()),FALSE()))
M60: =IF(ISNUMBER(L60),IF(IF(F60>H60,1,"")=L60,I60,IF(IF(F60<H60,2,"")=L60,K60,IF(IF(F60=H60,0,"")=L60,J60,0))),"") | N60: =IF(ISBLANK(F60),"",IF(ISNUMBER(F60),IF(AND(F60>=0,F60<250),IF($F60<>$H60,IF(F60=0,TRUE(),IF(MOD(F60,1)=0,TRUE(),FALSE())),FALSE()),FALSE()),FALSE())) | O60: =IF(ISBLANK(H60),"",IF(ISNUMBER(H60),IF(AND(H60>=0,H60<250),IF($F60<>$H60,IF(H60=0,TRUE(),IF(MOD(H60,1)=0,TRUE(),FALSE())),FALSE()),FALSE()),FALSE()))
M61: =IF(ISNUMBER(L61),IF(IF(F61>H61,1,"")=L61,I61,IF(IF(F61<H61,2,"")=L61,K61,IF(IF(F61=H61,0,"")=L61,J61,0))),"") | N61: =IF(ISBLANK(F61),"",IF(ISNUMBER(F61),IF(AND(F61>=0,F61<250),IF($F61<>$H61,IF(F61=0,TRUE(),IF(MOD(F61,1)=0,TRUE(),FALSE())),FALSE()),FALSE()),FALSE())) | O61: =IF(ISBLANK(H61),"",IF(ISNUMBER(H61),IF(AND(H61>=0,H61<250),IF($F61<>$H61,IF(H61=0,TRUE(),IF(MOD(H61,1)=0,TRUE(),FALSE())),FALSE()),FALSE()),FALSE()))
M62: =IF(ISNUMBER(L62),IF(IF(F62>H62,1,"")=L62,I62,IF(IF(F62<H62,2,"")=L62,K62,IF(IF(F62=H62,0,"")=L62,J62,0))),"") | N62: =IF(ISBLANK(F62),"",IF(ISNUMBER(F62),IF(AND(F62>=0,F62<250),IF($F62<>$H62,IF(F62=0,TRUE(),IF(MOD(F62,1)=0,TRUE(),FALSE())),FALSE()),FALSE()),FALSE())) | O62: =IF(ISBLANK(H62),"",IF(ISNUMBER(H62),IF(AND(H62>=0,H62<250),IF($F62<>$H62,IF(H62=0,TRUE(),IF(MOD(H62,1)=0,TRUE(),FALSE())),FALSE()),FALSE()),FALSE()))
M63: =IF(ISNUMBER(L63),IF(IF(F63>H63,1,"")=L63,I63,IF(IF(F63<H63,2,"")=L63,K63,IF(IF(F63=H63,0,"")=L63,J63,0))),"") | N63: =IF(ISBLANK(F63),"",IF(ISNUMBER(F63),IF(AND(F63>=0,F63<250),IF($F63<>$H63,IF(F63=0,TRUE(),IF(MOD(F63,1)=0,TRUE(),FALSE())),FALSE()),FALSE()),FALSE())) | O63: =IF(ISBLANK(H63),"",IF(ISNUMBER(H63),IF(AND(H63>=0,H63<250),IF($F63<>$H63,IF(H63=0,TRUE(),IF(MOD(H63,1)=0,TRUE(),FALSE())),FALSE()),FALSE()),FALSE()))
... M79: =IF(ISNUMBER(L79),IF(IF(F79>H79,1,"")=L79,I79,IF(IF(F79<H79,2,"")=L79,K79,IF(IF(F79=H79,0,"")=L79,J79,0))),"") | N79: =IF(ISBLANK(F79),"",IF(ISNUMBER(F79),IF(AND(F79>=0,F79<250),IF($F79<>$H79,IF(F79=0,TRUE(),IF(MOD(F79,1)=0,TRUE(),FALSE())),FALSE()),FALSE()),FALSE())) | O79: =IF(ISBLANK(H79),"",IF(ISNUMBER(H79),IF(AND(H79>=0,H79<250),IF($F79<>$H79,IF(H79=0,TRUE(),IF(MOD(H79,1)=0,TRUE(),FALSE())),FALSE()),FALSE()),FALSE()))
D80: =IF(C80>0,":","") | G80: =IF(ISNUMBER(F80),":","") | M80: =IF(ISNUMBER(L80),IF(IF(F80>H80,1,"")=L80,I80,IF(IF(F80<H80,2,"")=L80,K80,IF(IF(F80=H80,0,"")=L80,J80,0))),"") | N80: =IF(ISBLANK(F80),"",IF(ISNUMBER(F80),IF(AND(F80>=0,F80<250),IF($F80<>$H80,IF(F80=0,TRUE(),IF(MOD(F80,1)=0,TRUE(),FALSE())),FALSE()),FALSE()),FALSE())) | O80: =IF(ISBLANK(H80),"",IF(ISNUMBER(H80),IF(AND(H80>=0,H80<250),IF($F80<>$H80,IF(H80=0,TRUE(),IF(MOD(H80,1)=0,TRUE(),FALSE())),FALSE()),FALSE()),FALSE()))
D81: =IF(C81>0,":","") | G81: =IF(ISNUMBER(F81),":","") | M81: =IF(ISNUMBER(L81),IF(IF(F81>H81,1,"")=L81,I81,IF(IF(F81<H81,2,"")=L81,K81,IF(IF(F81=H81,0,"")=L81,J81,0))),"") | N81: =IF(ISBLANK(F81),"",IF(ISNUMBER(F81),IF(AND(F81>=0,F81<250),IF($F81<>$H81,IF(F81=0,TRUE(),IF(MOD(F81,1)=0,TRUE(),FALSE())),FALSE()),FALSE()),FALSE())) | O81: =IF(ISBLANK(H81),"",IF(ISNUMBER(H81),IF(AND(H81>=0,H81<250),IF($F81<>$H81,IF(H81=0,TRUE(),IF(MOD(H81,1)=0,TRUE(),FALSE())),FALSE()),FALSE()),FALSE()))
D82: =IF(C82>0,":","") | G82: =IF(ISNUMBER(F82),":","") | M82: =IF(ISNUMBER(L82),IF(IF(F82>H82,1,"")=L82,I82,IF(IF(F82<H82,2,"")=L82,K82,IF(IF(F82=H82,0,"")=L82,J82,0))),"") | N82: =IF(ISBLANK(F82),"",IF(ISNUMBER(F82),IF(AND(F82>=0,F82<250),IF($F82<>$H82,IF(F82=0,TRUE(),IF(MOD(F82,1)=0,TRUE(),FALSE())),FALSE()),FALSE()),FALSE())) | O82: =IF(ISBLANK(H82),"",IF(ISNUMBER(H82),IF(AND(H82>=0,H82<250),IF($F82<>$H82,IF(H82=0,TRUE(),IF(MOD(H82,1)=0,TRUE(),FALSE())),FALSE()),FALSE()),FALSE()))
D83: =IF(C83>0,":","") | G83: =IF(ISNUMBER(F83),":","") | M83: =IF(ISNUMBER(L83),IF(IF(F83>H83,1,"")=L83,I83,IF(IF(F83<H83,2,"")=L83,K83,IF(IF(F83=H83,0,"")=L83,J83,0))),"") | N83: =IF(ISBLANK(F83),"",IF(ISNUMBER(F83),IF(AND(F83>=0,F83<250),IF($F83<>$H83,IF(F83=0,TRUE(),IF(MOD(F83,1)=0,TRUE(),FALSE())),FALSE()),FALSE()),FALSE())) | O83: =IF(ISBLANK(H83),"",IF(ISNUMBER(H83),IF(AND(H83>=0,H83<250),IF($F83<>$H83,IF(H83=0,TRUE(),IF(MOD(H83,1)=0,TRUE(),FALSE())),FALSE()),FALSE()),FALSE()))
D84: =IF(C84>0,":","") | G84: =IF(ISNUMBER(F84),":","") | M84: =IF(ISNUMBER(L84),IF(IF(F84>H84,1,"")=L84,I84,IF(IF(F84<H84,2,"")=L84,K84,IF(IF(F84=H84,0,"")=L84,J84,0))),"") | N84: =IF(ISBLANK(F84),"",IF(ISNUMBER(F84),IF(AND(F84>=0,F84<250),IF($F84<>$H84,IF(F84=0,TRUE(),IF(MOD(F84,1)=0,TRUE(),FALSE())),FALSE()),FALSE()),FALSE())) | O84: =IF(ISBLANK(H84),"",IF(ISNUMBER(H84),IF(AND(H84>=0,H84<250),IF($F84<>$H84,IF(H84=0,TRUE(),IF(MOD(H84,1)=0,TRUE(),FALSE())),FALSE()),FALSE()),FALSE()))
D85: =IF(C85>0,":","") | G85: =IF(ISNUMBER(F85),":","") | M85: =IF(ISNUMBER(L85),IF(IF(F85>H85,1,"")=L85,I85,IF(IF(F85<H85,2,"")=L85,K85,IF(IF(F85=H85,0,"")=L85,J85,0))),"") | N85: =IF(ISBLANK(F85),"",IF(ISNUMBER(F85),IF(AND(F85>=0,F85<250),IF($F85<>$H85,IF(F85=0,TRUE(),IF(MOD(F85,1)=0,TRUE(),FALSE())),FALSE()),FALSE()),FALSE())) | O85: =IF(ISBLANK(H85),"",IF(ISNUMBER(H85),IF(AND(H85>=0,H85<250),IF($F85<>$H85,IF(H85=0,TRUE(),IF(MOD(H85,1)=0,TRUE(),FALSE())),FALSE()),FALSE()),FALSE()))
D86: =IF(C86>0,":","") | G86: =IF(ISNUMBER(F86),":","") | M86: =IF(ISNUMBER(L86),IF(IF(F86>H86,1,"")=L86,I86,IF(IF(F86<H86,2,"")=L86,K86,IF(IF(F86=H86,0,"")=L86,J86,0))),"") | N86: =IF(ISBLANK(F86),"",IF(ISNUMBER(F86),IF(AND(F86>=0,F86<250),IF($F86<>$H86,IF(F86=0,TRUE(),IF(MOD(F86,1)=0,TRUE(),FALSE())),FALSE()),FALSE()),FALSE())) | O86: =IF(ISBLANK(H86),"",IF(ISNUMBER(H86),IF(AND(H86>=0,H86<250),IF($F86<>$H86,IF(H86=0,TRUE(),IF(MOD(H86,1)=0,TRUE(),FALSE())),FALSE()),FALSE()),FALSE()))
D87: =IF(C87>0,":","") | G87: =IF(ISNUMBER(F87),":","") | M87: =IF(ISNUMBER(L87),IF(IF(F87>H87,1,"")=L87,I87,IF(IF(F87<H87,2,"")=L87,K87,IF(IF(F87=H87,0,"")=L87,J87,0))),"") | N87: =IF(ISBLANK(F87),"",IF(ISNUMBER(F87),IF(AND(F87>=0,F87<250),IF($F87<>$H87,IF(F87=0,TRUE(),IF(MOD(F87,1)=0,TRUE(),FALSE())),FALSE()),FALSE()),FALSE())) | O87: =IF(ISBLANK(H87),"",IF(ISNUMBER(H87),IF(AND(H87>=0,H87<250),IF($F87<>$H87,IF(H87=0,TRUE(),IF(MOD(H87,1)=0,TRUE(),FALSE())),FALSE()),FALSE()),FALSE()))
D88: =IF(C88>0,":","") | G88: =IF(ISNUMBER(F88),":","") | M88: =IF(ISNUMBER(L88),IF(IF(F88>H88,1,"")=L88,I88,IF(IF(F88<H88,2,"")=L88,K88,IF(IF(F88=H88,0,"")=L88,J88,0))),"") | N88: =IF(ISBLANK(F88),"",IF(ISNUMBER(F88),IF(AND(F88>=0,F88<250),IF($F88<>$H88,IF(F88=0,TRUE(),IF(MOD(F88,1)=0,TRUE(),FALSE())),FALSE()),FALSE()),FALSE())) | O88: =IF(ISBLANK(H88),"",IF(ISNUMBER(H88),IF(AND(H88>=0,H88<250),IF($F88<>$H88,IF(H88=0,TRUE(),IF(MOD(H88,1)=0,TRUE(),FALSE())),FALSE()),FALSE()),FALSE()))
D89: =IF(C89>0,":","") | G89: =IF(ISNUMBER(F89),":","") | M89: =IF(ISNUMBER(L89),IF(IF(F89>H89,1,"")=L89,I89,IF(IF(F89<H89,2,"")=L89,K89,IF(IF(F89=H89,0,"")=L89,J89,0))),"") | N89: =IF(ISBLANK(F89),"",IF(ISNUMBER(F89),IF(AND(F89>=0,F89<250),IF($F89<>$H89,IF(F89=0,TRUE(),IF(MOD(F89,1)=0,TRUE(),FALSE())),FALSE()),FALSE()),FALSE())) | O89: =IF(ISBLANK(H89),"",IF(ISNUMBER(H89),IF(AND(H89>=0,H89<250),IF($F89<>$H89,IF(H89=0,TRUE(),IF(MOD(H89,1)=0,TRUE(),FALSE())),FALSE()),FALSE()),FALSE()))
D90: =IF(C90>0,":","") | G90: =IF(ISNUMBER(F90),":","") | M90: =IF(ISNUMBER(L90),IF(IF(F90>H90,1,"")=L90,I90,IF(IF(F90<H90,2,"")=L90,K90,IF(IF(F90=H90,0,"")=L90,J90,0))),"") | N90: =IF(ISBLANK(F90),"",IF(ISNUMBER(F90),IF(AND(F90>=0,F90<250),IF($F90<>$H90,IF(F90=0,TRUE(),IF(MOD(F90,1)=0,TRUE(),FALSE())),FALSE()),FALSE()),FALSE())) | O90: =IF(ISBLANK(H90),"",IF(ISNUMBER(H90),IF(AND(H90>=0,H90<250),IF($F90<>$H90,IF(H90=0,TRUE(),IF(MOD(H90,1)=0,TRUE(),FALSE())),FALSE()),FALSE()),FALSE()))
D91: =IF(C91>0,":","") | G91: =IF(ISNUMBER(F91),":","") | M91: =IF(ISNUMBER(L91),IF(IF(F91>H91,1,"")=L91,I91,IF(IF(F91<H91,2,"")=L91,K91,IF(IF(F91=H91,0,"")=L91,J91,0))),"") | N91: =IF(ISBLANK(F91),"",IF(ISNUMBER(F91),IF(AND(F91>=0,F91<250),IF($F91<>$H91,IF(F91=0,TRUE(),IF(MOD(F91,1)=0,TRUE(),FALSE())),FALSE()),FALSE()),FALSE())) | O91: =IF(ISBLANK(H91),"",IF(ISNUMBER(H91),IF(AND(H91>=0,H91<250),IF($F91<>$H91,IF(H91=0,TRUE(),IF(MOD(H91,1)=0,TRUE(),FALSE())),FALSE()),FALSE()),FALSE()))
... D100: =IF(C100>0,":","") | G100: =IF(ISNUMBER(F100),":","") | M100: =IF(ISNUMBER(L100),IF(IF(F100>H100,1,"")=L100,I100,IF(IF(F100<H100,2,"")=L100,K100,IF(IF(F100=H100,0,"")=L100,J100,0))),"") | N100: =IF(ISBLANK(F100),"",IF(ISNUMBER(F100),IF(AND(F100>=0,F100<250),IF($F100<>$H100,IF(F100=0,TRUE(),IF(MOD(F100,1)=0,TRUE(),FALSE())),FALSE()),FALSE()),FALSE())) | O100: =IF(ISBLANK(H100),"",IF(ISNUMBER(H100),IF(AND(H100>=0,H100<250),IF($F100<>$H100,IF(H100=0,TRUE(),IF(MOD(H100,1)=0,TRUE(),FALSE())),FALSE()),FALSE()),FALSE()))

Sheet Sirtobi89
A1: Sirtobi89 | B1: Spieltag | C1: Heim | E1: Auswärts | F1: Ergebnis | I1: 1 | J1: 2 | K1: 2 | L1: Tipp | M1: Richtig | N1: Gültigk. D | O1: Gültik. F | P1: Gesamt
B2: Play-Ins | C2: Berlin | D2: =IF(C2>0,":","") -> : | E2: MBC | F2: 81 | G2: =IF(ISNUMBER(F2),":","") -> : | H2: 78 | I2: 1.2 | K2: 4.5 | L2: 1 | M2: =IF(ISNUMBER(L2),IF(IF(F2>H2,1,"")=L2,I2,IF(IF(F2<H2,2,"")=L2,K2,IF(IF(F2=H2,0,"")=L2,J2,0))),"") -> 1.2 | N2: =IF(ISBLANK(F2),"",IF(ISNUMBER(F2),IF(AND(F2>=0,F2<250),IF($F2<>$H2,IF(F2=0,TRUE(),IF(MOD(F2,1)=0,TRUE(),FALSE())),FALSE()),FALSE()),FALSE())) -> TRUE | O2: =IF(ISBLANK(H2),"",IF(ISNUMBER(H2),IF(AND(H2>=0,H2<250),IF($F2<>$H2,IF(H2=0,TRUE(),IF(MOD(H2,1)=0,TRUE(),FALSE())),FALSE()),FALSE()),FALSE())) -> TRUE
C3: Oldenburg | D3: =IF(C3>0,":","") -> : | E3: Rostock | F3: 95 | G3: =IF(ISNUMBER(F3),":","") -> : | H3: 83 | I3: 1.65 | K3: 2.2 | L3: 1 | M3: =IF(ISNUMBER(L3),IF(IF(F3>H3,1,"")=L3,I3,IF(IF(F3<H3,2,"")=L3,K3,IF(IF(F3=H3,0,"")=L3,J3,0))),"") -> 1.65 | N3: =IF(ISBLANK(F3),"",IF(ISNUMBER(F3),IF(AND(F3>=0,F3<250),IF($F3<>$H3,IF(F3=0,TRUE(),IF(MOD(F3,1)=0,TRUE(),FALSE())),FALSE()),FALSE()),FALSE())) -> TRUE | O3: =IF(ISBLANK(H3),"",IF(ISNUMBER(H3),IF(AND(H3>=0,H3<250),IF($F3<>$H3,IF(H3=0,TRUE(),IF(MOD(H3,1)=0,TRUE(),FALSE())),FALSE()),FALSE()),FALSE())) -> TRUE
M4: =IF(ISNUMBER(L4),IF(IF(F4>H4,1,"")=L4,I4,IF(IF(F4<H4,2,"")=L4,K4,IF(IF(F4=H4,0,"")=L4,J4,0))),"") | N4: =IF(ISBLANK(F4),"",IF(ISNUMBER(F4),IF(AND(F4>=0,F4<250),IF($F4<>$H4,IF(F4=0,TRUE(),IF(MOD(F4,1)=0,TRUE(),FALSE())),FALSE()),FALSE()),FALSE())) | O4: =IF(ISBLANK(H4),"",IF(ISNUMBER(H4),IF(AND(H4>=0,H4<250),IF($F4<>$H4,IF(H4=0,TRUE(),IF(MOD(H4,1)=0,TRUE(),FALSE())),FALSE()),FALSE()),FALSE()))
C5: MBC | D5: =IF(C5>0,":","") -> : | E5: Oldenburg | F5: 110 | H5: 95 | I5: 1.55 | K5: 2.4 | M5: =IF(ISNUMBER(L5),IF(IF(F5>H5,1,"")=L5,I5,IF(IF(F5<H5,2,"")=L5,K5,IF(IF(F5=H5,0,"")=L5,J5,0))),"") | N5: =IF(ISBLANK(F5),"",IF(ISNUMBER(F5),IF(AND(F5>=0,F5<250),IF($F5<>$H5,IF(F5=0,TRUE(),IF(MOD(F5,1)=0,TRUE(),FALSE())),FALSE()),FALSE()),FALSE())) -> TRUE | O5: =IF(ISBLANK(H5),"",IF(ISNUMBER(H5),IF(AND(H5>=0,H5<250),IF($F5<>$H5,IF(H5=0,TRUE(),IF(MOD(H5,1)=0,TRUE(),FALSE())),FALSE()),FALSE()),FALSE())) -> TRUE | P5: =SUM(M2:M5) -> 2.85
M6: =IF(ISNUMBER(L6),IF(IF(F6>H6,1,"")=L6,I6,IF(IF(F6<H6,2,"")=L6,K6,IF(IF(F6=H6,0,"")=L6,J6,0))),"") | N6: =IF(ISBLANK(F6),"",IF(ISNUMBER(F6),IF(AND(F6>=0,F6<250),IF($F6<>$H6,IF(F6=0,TRUE(),IF(MOD(F6,1)=0,TRUE(),FALSE())),FALSE()),FALSE()),FALSE())) | O6: =IF(ISBLANK(H6),"",IF(ISNUMBER(H6),IF(AND(H6>=0,H6<250),IF($F6<>$H6,IF(H6=0,TRUE(),IF(MOD(H6,1)=0,TRUE(),FALSE())),FALSE()),FALSE()),FALSE()))
B7: Playoffs | C7: Chemnitz | D7: =IF(C7>0,":","") -> : | E7: Heidelberg | F7: 90 | G7: =IF(ISNUMBER(F7),":","") -> : | H7: 93 | I7: 1.4 | K7: 2.9 | L7: 1 | M7: =IF(ISNUMBER(L7),IF(IF(F7>H7,1,"")=L7,I7,IF(IF(F7<H7,2,"")=L7,K7,IF(IF(F7=H7,0,"")=L7,J7,0))),"") -> 0 | N7: =IF(ISBLANK(F7),"",IF(ISNUMBER(F7),IF(AND(F7>=0,F7<250),IF($F7<>$H7,IF(F7=0,TRUE(),IF(MOD(F7,1)=0,TRUE(),FALSE())),FALSE()),FALSE()),FALSE())) -> TRUE | O7: =IF(ISBLANK(H7),"",IF(ISNUMBER(H7),IF(AND(H7>=0,H7<250),IF($F7<>$H7,IF(H7=0,TRUE(),IF(MOD(H7,1)=0,TRUE(),FALSE())),FALSE()),FALSE()),FALSE())) -> TRUE
B8: 1. Runde | C8: ULM | D8: =IF(C8>0,":","") -> : | E8: ALBA | F8: 94 | G8: =IF(ISNUMBER(F8),":","") -> : | H8: 83 | I8: 1.55 | K8: 2.4 | L8: 1 | M8: =IF(ISNUMBER(L8),IF(IF(F8>H8,1,"")=L8,I8,IF(IF(F8<H8,2,"")=L8,K8,IF(IF(F8=H8,0,"")=L8,J8,0))),"") -> 1.55 | N8: =IF(ISBLANK(F8),"",IF(ISNUMBER(F8),IF(AND(F8>=0,F8<250),IF($F8<>$H8,IF(F8=0,TRUE(),IF(MOD(F8,1)=0,TRUE(),FALSE())),FALSE()),FALSE()),FALSE())) -> TRUE | O8: =IF(ISBLANK(H8),"",IF(ISNUMBER(H8),IF(AND(H8>=0,H8<250),IF($F8<>$H8,IF(H8=0,TRUE(),IF(MOD(H8,1)=0,TRUE(),FALSE())),FALSE()),FALSE()),FALSE())) -> TRUE
B9: Spiel 1 | C9: Bayern | D9: =IF(C9>0,":","") -> : | E9: MBC | F9: 78 | G9: =IF(ISNUMBER(F9),":","") -> : | H9: 60 | I9: 1.15 | K9: 5.2 | L9: 1 | M9: =IF(ISNUMBER(L9),IF(IF(F9>H9,1,"")=L9,I9,IF(IF(F9<H9,2,"")=L9,K9,IF(IF(F9=H9,0,"")=L9,J9,0))),"") -> 1.15 | N9: =IF(ISBLANK(F9),"",IF(ISNUMBER(F9),IF(AND(F9>=0,F9<250),IF($F9<>$H9,IF(F9=0,TRUE(),IF(MOD(F9,1)=0,TRUE(),FALSE())),FALSE()),FALSE()),FALSE())) -> TRUE | O9: =IF(ISBLANK(H9),"",IF(ISNUMBER(H9),IF(AND(H9>=0,H9<250),IF($F9<>$H9,IF(H9=0,TRUE(),IF(MOD(H9,1)=0,TRUE(),FALSE())),FALSE()),FALSE()),FALSE())) -> TRUE
C10: Braunschweig | D10: =IF(C10>0,":","") -> : | E10: Würzburg | F10: 92 | G10: =IF(ISNUMBER(F10),":","") -> : | H10: 79 | I10: 1.47 | K10: 2.6 | L10: 2 | M10: =IF(ISNUMBER(L10),IF(IF(F10>H10,1,"")=L10,I10,IF(IF(F10<H10,2,"")=L10,K10,IF(IF(F10=H10,0,"")=L10,J10,0))),"") -> 0 | N10: =IF(ISBLANK(F10),"",IF(ISNUMBER(F10),IF(AND(F10>=0,F10<250),IF($F10<>$H10,IF(F10=0,TRUE(),IF(MOD(F10,1)=0,TRUE(),FALSE())),FALSE()),FALSE()),FALSE())) -> TRUE | O10: =IF(ISBLANK(H10),"",IF(ISNUMBER(H10),IF(AND(H10>=0,H10<250),IF($F10<>$H10,IF(H10=0,TRUE(),IF(MOD(H10,1)=0,TRUE(),FALSE())),FALSE()),FALSE()),FALSE())) -> TRUE | P10: =SUM(M7:M10) -> 2.7
M11: =IF(ISNUMBER(L11),IF(IF(F11>H11,1,"")=L11,I11,IF(IF(F11<H11,2,"")=L11,K11,IF(IF(F11=H11,0,"")=L11,J11,0))),"") | N11: =IF(ISBLANK(F11),"",IF(ISNUMBER(F11),IF(AND(F11>=0,F11<250),IF($F11<>$H11,IF(F11=0,TRUE(),IF(MOD(F11,1)=0,TRUE(),FALSE())),FALSE()),FALSE()),FALSE())) | O11: =IF(ISBLANK(H11),"",IF(ISNUMBER(H11),IF(AND(H11>=0,H11<250),IF($F11<>$H11,IF(H11=0,TRUE(),IF(MOD(H11,1)=0,TRUE(),FALSE())),FALSE()),FALSE()),FALSE()))
B12: Playoffs | C12: Heidelberg | D12: =IF(C12>0,":","") -> : | E12: Chemnitz | F12: 74 | G12: =IF(ISNUMBER(F12),":","") -> : | H12: 70 | I12: 1.7 | K12: 2.1 | L12: 1 | M12: =IF(ISNUMBER(L12),IF(IF(F12>H12,1,"")=L12,I12,IF(IF(F12<H12,2,"")=L12,K12,IF(IF(F12=H12,0,"")=L12,J12,0))),"") -> 1.7 | N12: =IF(ISBLANK(F12),"",IF(ISNUMBER(F12),IF(AND(F12>=0,F12<250),IF($F12<>$H12,IF(F12=0,TRUE(),IF(MOD(F12,1)=0,TRUE(),FALSE())),FALSE()),FALSE()),FALSE())) -> TRUE | O12: =IF(ISBLANK(H12),"",IF(ISNUMBER(H12),IF(AND(H12>=0,H12<250),IF($F12<>$H12,IF(H12=0,TRUE(),IF(MOD(H12,1)=0,TRUE(),FALSE())),FALSE()),FALSE()),FALSE())) -> TRUE
B13: 1. Runde | C13: ALBA | D13: =IF(C13>0,":","") -> : | E13: ULM | F13: 62 | G13: =IF(ISNUMBER(F13),":","") -> : | H13: 74 | I13: 1.5 | K13: 2.55 | L13: 2 | M13: =IF(ISNUMBER(L13),IF(IF(F13>H13,1,"")=L13,I13,IF(IF(F13<H13,2,"")=L13,K13,IF(IF(F13=H13,0,"")=L13,J13,0))),"") -> 2.55 | N13: =IF(ISBLANK(F13),"",IF(ISNUMBER(F13),IF(AND(F13>=0,F13<250),IF($F13<>$H13,IF(F13=0,TRUE(),IF(MOD(F13,1)=0,TRUE(),FALSE())),FALSE()),FALSE()),FALSE())) -> TRUE | O13: =IF(ISBLANK(H13),"",IF(ISNUMBER(H13),IF(AND(H13>=0,H13<250),IF($F13<>$H13,IF(H13=0,TRUE(),IF(MOD(H13,1)=0,TRUE(),FALSE())),FALSE()),FALSE()),FALSE())) -> TRUE
B14: Spiel 2 | C14: MBC | D14: =IF(C14>0,":","") -> : | E14: Bayern | F14: 65 | G14: =IF(ISNUMBER(F14),":","") -> : | H14: 80 | I14: 3.4 | K14: 1.3 | L14: 2 | M14: =IF(ISNUMBER(L14),IF(IF(F14>H14,1,"")=L14,I14,IF(IF(F14<H14,2,"")=L14,K14,IF(IF(F14=H14,0,"")=L14,J14,0))),"") -> 1.3 | N14: =IF(ISBLANK(F14),"",IF(ISNUMBER(F14),IF(AND(F14>=0,F14<250),IF($F14<>$H14,IF(F14=0,TRUE(),IF(MOD(F14,1)=0,TRUE(),FALSE())),FALSE()),FALSE()),FALSE())) -> TRUE | O14: =IF(ISBLANK(H14),"",IF(ISNUMBER(H14),IF(AND(H14>=0,H14<250),IF($F14<>$H14,IF(H14=0,TRUE(),IF(MOD(H14,1)=0,TRUE(),FALSE())),FALSE()),FALSE()),FALSE())) -> TRUE
C15: Würzburg | D15: =IF(C15>0,":","") -> : | E15: Braunschweig | F15: 94 | G15: =IF(ISNUMBER(F15),":","") -> : | H15: 90 | I15: 1.57 | K15: 2.35 | L15: 1 | M15: =IF(ISNUMBER(L15),IF(IF(F15>H15,1,"")=L15,I15,IF(IF(F15<H15,2,"")=L15,K15,IF(IF(F15=H15,0,"")=L15,J15,0))),"") -> 1.57 | N15: =IF(ISBLANK(F15),"",IF(ISNUMBER(F15),IF(AND(F15>=0,F15<250),IF($F15<>$H15,IF(F15=0,TRUE(),IF(MOD(F15,1)=0,TRUE(),FALSE())),FALSE()),FALSE()),FALSE())) -> TRUE | O15: =IF(ISBLANK(H15),"",IF(ISNUMBER(H15),IF(AND(H15>=0,H15<250),IF($F15<>$H15,IF(H15=0,TRUE(),IF(MOD(H15,1)=0,TRUE(),FALSE())),FALSE()),FALSE()),FALSE())) -> TRUE | P15: =SUM(M12:M15) -> 7.12
M16: =IF(ISNUMBER(L16),IF(IF(F16>H16,1,"")=L16,I16,IF(IF(F16<H16,2,"")=L16,K16,IF(IF(F16=H16,0,"")=L16,J16,0))),"") | N16: =IF(ISBLANK(F16),"",IF(ISNUMBER(F16),IF(AND(F16>=0,F16<250),IF($F16<>$H16,IF(F16=0,TRUE(),IF(MOD(F16,1)=0,TRUE(),FALSE())),FALSE()),FALSE()),FALSE())) | O16: =IF(ISBLANK(H16),"",IF(ISNUMBER(H16),IF(AND(H16>=0,H16<250),IF($F16<>$H16,IF(H16=0,TRUE(),IF(MOD(H16,1)=0,TRUE(),FALSE())),FALSE()),FALSE()),FALSE()))
B17: Playoffs | C17: Bayern | D17: =IF(C17>0,":","") -> : | E17: MBC | F17: 80 | G17: =IF(ISNUMBER(F17),":","") -> : | H17: 69 | I17: 1.06 | K17: 8.5 | L17: 1 | M17: =IF(ISNUMBER(L17),IF(IF(F17>H17,1,"")=L17,I17,IF(IF(F17<H17,2,"")=L17,K17,IF(IF(F17=H17,0,"")=L17,J17,0))),"") -> 1.06 | N17: =IF(ISBLANK(F17),"",IF(ISNUMBER(F17),IF(AND(F17>=0,F17<250),IF($F17<>$H17,IF(F17=0,TRUE(),IF(MOD(F17,1)=0,TRUE(),FALSE())),FALSE()),FALSE()),FALSE())) -> TRUE | O17: =IF(ISBLANK(H17),"",IF(ISNUMBER(H17),IF(AND(H17>=0,H17<250),IF($F17<>$H17,IF(H17=0,TRUE(),IF(MOD(H17,1)=0,TRUE(),FALSE())),FALSE()),FALSE()),FALSE())) -> TRUE
B18: 1. Runde | C18: ULM | D18: =IF(C18>0,":","") -> : | E18: ALBA | F18: 93 | G18: =IF(ISNUMBER(F18),":","") -> : | H18: 84 | I18: 1.55 | K18: 2.4 | L18: 1 | M18: =IF(ISNUMBER(L18),IF(IF(F18>H18,1,"")=L18,I18,IF(IF(F18<H18,2,"")=L18,K18,IF(IF(F18=H18,0,"")=L18,J18,0))),"") -> 1.55 | N18: =IF(ISBLANK(F18),"",IF(ISNUMBER(F18),IF(AND(F18>=0,F18<250),IF($F18<>$H18,IF(F18=0,TRUE(),IF(MOD(F18,1)=0,TRUE(),FALSE())),FALSE()),FALSE()),FALSE())) -> TRUE | O18: =IF(ISBLANK(H18),"",IF(ISNUMBER(H18),IF(AND(H18>=0,H18<250),IF($F18<>$H18,IF(H18=0,TRUE(),IF(MOD(H18,1)=0,TRUE(),FALSE())),FALSE()),FALSE()),FALSE())) -> TRUE
B19: Spiel 3 | C19: Braunschweig | D19: =IF(C19>0,":","") -> : | E19: Würzburg | F19: 80 | G19: =IF(ISNUMBER(F19),":","") -> : | H19: 75 | I19: 1.5 | K19: 2.55 | L19: 1 | M19: =IF(ISNUMBER(L19),IF(IF(F19>H19,1,"")=L19,I19,IF(IF(F19<H19,2,"")=L19,K19,IF(IF(F19=H19,0,"")=L19,J19,0))),"") -> 1.5 | N19: =IF(ISBLANK(F19),"",IF(ISNUMBER(F19),IF(AND(F19>=0,F19<250),IF($F19<>$H19,IF(F19=0,TRUE(),IF(MOD(F19,1)=0,TRUE(),FALSE())),FALSE()),FALSE()),FALSE())) -> TRUE | O19: =IF(ISBLANK(H19),"",IF(ISNUMBER(H19),IF(AND(H19>=0,H19<250),IF($F19<>$H19,IF(H19=0,TRUE(),IF(MOD(H19,1)=0,TRUE(),FALSE())),FALSE()),FALSE()),FALSE())) -> TRUE
C20: Chemnitz | D20: =IF(C20>0,":","") -> : | E20: Heidelberg | F20: 97 | G20: =IF(ISNUMBER(F20),":","") -> : | H20: 88 | I20: 1.4 | K20: 2.9 | L20: 1 | M20: =IF(ISNUMBER(L20),IF(IF(F20>H20,1,"")=L20,I20,IF(IF(F20<H20,2,"")=L20,K20,IF(IF(F20=H20,0,"")=L20,J20,0))),"") -> 1.4 | N20: =IF(ISBLANK(F20),"",IF(ISNUMBER(F20),IF(AND(F20>=0,F20<250),IF($F20<>$H20,IF(F20=0,TRUE(),IF(MOD(F20,1)=0,TRUE(),FALSE())),FALSE()),FALSE()),FALSE())) -> TRUE | O20: =IF(ISBLANK(H20),"",IF(ISNUMBER(H20),IF(AND(H20>=0,H20<250),IF($F20<>$H20,IF(H20=0,TRUE(),IF(MOD(H20,1)=0,TRUE(),FALSE())),FALSE()),FALSE()),FALSE())) -> TRUE | P20: =SUM(M17:M20) -> 5.51
M21: =IF(ISNUMBER(L21),IF(IF(F21>H21,1,"")=L21,I21,IF(IF(F21<H21,2,"")=L21,K21,IF(IF(F21=H21,0,"")=L21,J21,0))),"") | N21: =IF(ISBLANK(F21),"",IF(ISNUMBER(F21),IF(AND(F21>=0,F21<250),IF($F21<>$H21,IF(F21=0,TRUE(),IF(MOD(F21,1)=0,TRUE(),FALSE())),FALSE()),FALSE()),FALSE())) | O21: =IF(ISBLANK(H21),"",IF(ISNUMBER(H21),IF(AND(H21>=0,H21<250),IF($F21<>$H21,IF(H21=0,TRUE(),IF(MOD(H21,1)=0,TRUE(),FALSE())),FALSE()),FALSE()),FALSE()))
B22: Spiel 4 | C22: Heidelberg | D22: =IF(C22>0,":","") -> : | E22: Chemnitz | F22: 92 | G22: =IF(ISNUMBER(F22),":","") -> : | H22: 64 | I22: 1.67 | K22: 2.15 | L22: 2 | M22: =IF(ISNUMBER(L22),IF(IF(F22>H22,1,"")=L22,I22,IF(IF(F22<H22,2,"")=L22,K22,IF(IF(F22=H22,0,"")=L22,J22,0))),"") -> 0 | N22: =IF(ISBLANK(F22),"",IF(ISNUMBER(F22),IF(AND(F22>=0,F22<250),IF($F22<>$H22,IF(F22=0,TRUE(),IF(MOD(F22,1)=0,TRUE(),FALSE())),FALSE()),FALSE()),FALSE())) -> TRUE | O22: =IF(ISBLANK(H22),"",IF(ISNUMBER(H22),IF(AND(H22>=0,H22<250),IF($F22<>$H22,IF(H22=0,TRUE(),IF(MOD(H22,1)=0,TRUE(),FALSE())),FALSE()),FALSE()),FALSE())) -> TRUE
C23: Würzburg | D23: =IF(C23>0,":","") -> : | E23: Braunschweig | F23: 79 | G23: =IF(ISNUMBER(F23),":","") -> : | H23: 72 | I23: 1.62 | K23: 2.25 | L23: 1 | M23: =IF(ISNUMBER(L23),IF(IF(F23>H23,1,"")=L23,I23,IF(IF(F23<H23,2,"")=L23,K23,IF(IF(F23=H23,0,"")=L23,J23,0))),"") -> 1.62 | N23: =IF(ISBLANK(F23),"",IF(ISNUMBER(F23),IF(AND(F23>=0,F23<250),IF($F23<>$H23,IF(F23=0,TRUE(),IF(MOD(F23,1)=0,TRUE(),FALSE())),FALSE()),FALSE()),FALSE())) -> TRUE | O23: =IF(ISBLANK(H23),"",IF(ISNUMBER(H23),IF(AND(H23>=0,H23<250),IF($F23<>$H23,IF(H23=0,TRUE(),IF(MOD(H23,1)=0,TRUE(),FALSE())),FALSE()),FALSE()),FALSE())) -> TRUE | P23: =SUM(M22:M23) -> 1.62
M24: =IF(ISNUMBER(L24),IF(IF(F24>H24,1,"")=L24,I24,IF(IF(F24<H24,2,"")=L24,K24,IF(IF(F24=H24,0,"")=L24,J24,0))),"") | N24: =IF(ISBLANK(F24),"",IF(ISNUMBER(F24),IF(AND(F24>=0,F24<250),IF($F24<>$H24,IF(F24=0,TRUE(),IF(MOD(F24,1)=0,TRUE(),FALSE())),FALSE()),FALSE()),FALSE())) | O24: =IF(ISBLANK(H24),"",IF(ISNUMBER(H24),IF(AND(H24>=0,H24<250),IF($F24<>$H24,IF(H24=0,TRUE(),IF(MOD(H24,1)=0,TRUE(),FALSE())),FALSE()),FALSE()),FALSE()))
B25: Spiel 5 | C25: Braunschweig | D25: =IF(C25>0,":","") -> : | E25: Würzburg | F25: 88 | G25: =IF(ISNUMBER(F25),":","") -> : | H25: 97 | I25: 1.55 | K25: 2.4 | L25: 1 | M25: =IF(ISNUMBER(L25),IF(IF(F25>H25,1,"")=L25,I25,IF(IF(F25<H25,2,"")=L25,K25,IF(IF(F25=H25,0,"")=L25,J25,0))),"") -> 0 | N25: =IF(ISBLANK(F25),"",IF(ISNUMBER(F25),IF(AND(F25>=0,F25<250),IF($F25<>$H25,IF(F25=0,TRUE(),IF(MOD(F25,1)=0,TRUE(),FALSE())),FALSE()),FALSE()),FALSE())) -> TRUE | O25: =IF(ISBLANK(H25),"",IF(ISNUMBER(H25),IF(AND(H25>=0,H25<250),IF($F25<>$H25,IF(H25=0,TRUE(),IF(MOD(H25,1)=0,TRUE(),FALSE())),FALSE()),FALSE()),FALSE())) -> TRUE | P25: =SUM(M25) -> 0
M26: =IF(ISNUMBER(L26),IF(IF(F26>H26,1,"")=L26,I26,IF(IF(F26<H26,2,"")=L26,K26,IF(IF(F26=H26,0,"")=L26,J26,0))),"") | N26: =IF(ISBLANK(F26),"",IF(ISNUMBER(F26),IF(AND(F26>=0,F26<250),IF($F26<>$H26,IF(F26=0,TRUE(),IF(MOD(F26,1)=0,TRUE(),FALSE())),FALSE()),FALSE()),FALSE())) | O26: =IF(ISBLANK(H26),"",IF(ISNUMBER(H26),IF(AND(H26>=0,H26<250),IF($F26<>$H26,IF(H26=0,TRUE(),IF(MOD(H26,1)=0,TRUE(),FALSE())),FALSE()),FALSE()),FALSE()))
B27: Playoffs | C27: Bayern | D27: =IF(C27>0,":","") -> : | E27: Heidelberg | F27: 90 | G27: =IF(ISNUMBER(F27),":","") -> : | H27: 95 | I27: 1.1 | K27: 6.5 | L27: 1 | M27: =IF(ISNUMBER(L27),IF(IF(F27>H27,1,"")=L27,I27,IF(IF(F27<H27,2,"")=L27,K27,IF(IF(F27=H27,0,"")=L27,J27,0))),"") -> 0 | N27: =IF(ISBLANK(F27),"",IF(ISNUMBER(F27),IF(AND(F27>=0,F27<250),IF($F27<>$H27,IF(F27=0,TRUE(),IF(MOD(F27,1)=0,TRUE(),FALSE())),FALSE()),FALSE()),FALSE())) -> TRUE | O27: =IF(ISBLANK(H27),"",IF(ISNUMBER(H27),IF(AND(H27>=0,H27<250),IF($F27<>$H27,IF(H27=0,TRUE(),IF(MOD(H27,1)=0,TRUE(),FALSE())),FALSE()),FALSE()),FALSE())) -> TRUE
B28: Halbfinale | C28: Ulm | D28: =IF(C28>0,":","") -> : | E28: Würzburg | F28: 91 | G28: =IF(ISNUMBER(F28),":","") -> : | H28: 87 | I28: 1.3 | K28: 3.4 | L28: 1 | M28: =IF(ISNUMBER(L28),IF(IF(F28>H28,1,"")=L28,I28,IF(IF(F28<H28,2,"")=L28,K28,IF(IF(F28=H28,0,"")=L28,J28,0))),"") -> 1.3 | N28: =IF(ISBLANK(F28),"",IF(ISNUMBER(F28),IF(AND(F28>=0,F28<250),IF($F28<>$H28,IF(F28=0,TRUE(),IF(MOD(F28,1)=0,TRUE(),FALSE())),FALSE()),FALSE()),FALSE())) -> TRUE | O28: =IF(ISBLANK(H28),"",IF(ISNUMBER(H28),IF(AND(H28>=0,H28<250),IF($F28<>$H28,IF(H28=0,TRUE(),IF(MOD(H28,1)=0,TRUE(),FALSE())),FALSE()),FALSE()),FALSE())) -> TRUE | P28: =SUM(M27:M28) -> 1.3
B29: Spiel 1 | D29: =IF(C29>0,":","") | M29: =IF(ISNUMBER(L29),IF(IF(F29>H29,1,"")=L29,I29,IF(IF(F29<H29,2,"")=L29,K29,IF(IF(F29=H29,0,"")=L29,J29,0))),"") | N29: =IF(ISBLANK(F29),"",IF(ISNUMBER(F29),IF(AND(F29>=0,F29<250),IF($F29<>$H29,IF(F29=0,TRUE(),IF(MOD(F29,1)=0,TRUE(),FALSE())),FALSE()),FALSE()),FALSE())) | O29: =IF(ISBLANK(H29),"",IF(ISNUMBER(H29),IF(AND(H29>=0,H29<250),IF($F29<>$H29,IF(H29=0,TRUE(),IF(MOD(H29,1)=0,TRUE(),FALSE())),FALSE()),FALSE()),FALSE()))
M30: =IF(ISNUMBER(L30),IF(IF(F30>H30,1,"")=L30,I30,IF(IF(F30<H30,2,"")=L30,K30,IF(IF(F30=H30,0,"")=L30,J30,0))),"") | N30: =IF(ISBLANK(F30),"",IF(ISNUMBER(F30),IF(AND(F30>=0,F30<250),IF($F30<>$H30,IF(F30=0,TRUE(),IF(MOD(F30,1)=0,TRUE(),FALSE())),FALSE()),FALSE()),FALSE())) | O30: =IF(ISBLANK(H30),"",IF(ISNUMBER(H30),IF(AND(H30>=0,H30<250),IF($F30<>$H30,IF(H30=0,TRUE(),IF(MOD(H30,1)=0,TRUE(),FALSE())),FALSE()),FALSE()),FALSE()))
B31: Spiel 2 | C31: Würzburg | D31: =IF(C31>0,":","") -> : | E31: Ulm | F31: 87 | G31: =IF(ISNUMBER(F31),":","") -> : | H31: 77 | I31: 2.05 | K31: 1.75 | L31: 2 | M31: =IF(ISNUMBER(L31),IF(IF(F31>H31,1,"")=L31,I31,IF(IF(F31<H31,2,"")=L31,K31,IF(IF(F31=H31,0,"")=L31,J31,0))),"") -> 0 | N31: =IF(ISBLANK(F31),"",IF(ISNUMBER(F31),IF(AND(F31>=0,F31<250),IF($F31<>$H31,IF(F31=0,TRUE(),IF(MOD(F31,1)=0,TRUE(),FALSE())),FALSE()),FALSE()),FALSE())) -> TRUE | O31: =IF(ISBLANK(H31),"",IF(ISNUMBER(H31),IF(AND(H31>=0,H31<250),IF($F31<>$H31,IF(H31=0,TRUE(),IF(MOD(H31,1)=0,TRUE(),FALSE())),FALSE()),FALSE()),FALSE())) -> TRUE
C32: Heidelberg | D32: =IF(C32>0,":","") -> : | E32: Bayern | F32: 61 | G32: =IF(ISNUMBER(F32),":","") -> : | H32: 90 | I32: 3.2 | K32: 1.33 | L32: 2 | M32: =IF(ISNUMBER(L32),IF(IF(F32>H32,1,"")=L32,I32,IF(IF(F32<H32,2,"")=L32,K32,IF(IF(F32=H32,0,"")=L32,J32,0))),"") -> 1.33 | N32: =IF(ISBLANK(F32),"",IF(ISNUMBER(F32),IF(AND(F32>=0,F32<250),IF($F32<>$H32,IF(F32=0,TRUE(),IF(MOD(F32,1)=0,TRUE(),FALSE())),FALSE()),FALSE()),FALSE())) -> TRUE | O32: =IF(ISBLANK(H32),"",IF(ISNUMBER(H32),IF(AND(H32>=0,H32<250),IF($F32<>$H32,IF(H32=0,TRUE(),IF(MOD(H32,1)=0,TRUE(),FALSE())),FALSE()),FALSE()),FALSE())) -> TRUE | P32: =SUM(M31:M32) -> 1.33
M33: =IF(ISNUMBER(L33),IF(IF(F33>H33,1,"")=L33,I33,IF(IF(F33<H33,2,"")=L33,K33,IF(IF(F33=H33,0,"")=L33,J33,0))),"") | N33: =IF(ISBLANK(F33),"",IF(ISNUMBER(F33),IF(AND(F33>=0,F33<250),IF($F33<>$H33,IF(F33=0,TRUE(),IF(MOD(F33,1)=0,TRUE(),FALSE())),FALSE()),FALSE()),FALSE())) | O33: =IF(ISBLANK(H33),"",IF(ISNUMBER(H33),IF(AND(H33>=0,H33<250),IF($F33<>$H33,IF(H33=0,TRUE(),IF(MOD(H33,1)=0,TRUE(),FALSE())),FALSE()),FALSE()),FALSE()))
B34: Spiel 3 | C34: Ulm | D34: =IF(C34>0,":","") -> : | E34: Würzburg | F34: 99 | G34: =IF(ISNUMBER(F34),":","") -> : | H34: 86 | I34: 1.3 | K34: 3.4 | L34: 1 | M34: =IF(ISNUMBER(L34),IF(IF(F34>H34,1,"")=L34,I34,IF(IF(F34<H34,2,"")=L34,K34,IF(IF(F34=H34,0,"")=L34,J34,0))),"") -> 1.3 | N34: =IF(ISBLANK(F34),"",IF(ISNUMBER(F34),IF(AND(F34>=0,F34<250),IF($F34<>$H34,IF(F34=0,TRUE(),IF(MOD(F34,1)=0,TRUE(),FALSE())),FALSE()),FALSE()),FALSE())) -> TRUE | O34: =IF(ISBLANK(H34),"",IF(ISNUMBER(H34),IF(AND(H34>=0,H34<250),IF($F34<>$H34,IF(H34=0,TRUE(),IF(MOD(H34,1)=0,TRUE(),FALSE())),FALSE()),FALSE()),FALSE())) -> TRUE
C35: Bayern | D35: =IF(C35>0,":","") -> : | E35: Heidelberg | F35: 98 | G35: =IF(ISNUMBER(F35),":","") -> : | H35: 68 | I35: 1.14 | K35: 5.5 | L35: 1 | M35: =IF(ISNUMBER(L35),IF(IF(F35>H35,1,"")=L35,I35,IF(IF(F35<H35,2,"")=L35,K35,IF(IF(F35=H35,0,"")=L35,J35,0))),"") -> 1.14 | N35: =IF(ISBLANK(F35),"",IF(ISNUMBER(F35),IF(AND(F35>=0,F35<250),IF($F35<>$H35,IF(F35=0,TRUE(),IF(MOD(F35,1)=0,TRUE(),FALSE())),FALSE()),FALSE()),FALSE())) -> TRUE | O35: =IF(ISBLANK(H35),"",IF(ISNUMBER(H35),IF(AND(H35>=0,H35<250),IF($F35<>$H35,IF(H35=0,TRUE(),IF(MOD(H35,1)=0,TRUE(),FALSE())),FALSE()),FALSE()),FALSE())) -> TRUE | P35: =SUM(M34:M35) -> 2.44
M36: =IF(ISNUMBER(L36),IF(IF(F36>H36,1,"")=L36,I36,IF(IF(F36<H36,2,"")=L36,K36,IF(IF(F36=H36,0,"")=L36,J36,0))),"") | N36: =IF(ISBLANK(F36),"",IF(ISNUMBER(F36),IF(AND(F36>=0,F36<250),IF($F36<>$H36,IF(F36=0,TRUE(),IF(MOD(F36,1)=0,TRUE(),FALSE())),FALSE()),FALSE()),FALSE())) | O36: =IF(ISBLANK(H36),"",IF(ISNUMBER(H36),IF(AND(H36>=0,H36<250),IF($F36<>$H36,IF(H36=0,TRUE(),IF(MOD(H36,1)=0,TRUE(),FALSE())),FALSE()),FALSE()),FALSE()))
B37: Spiel 4 | C37: Würzburg | D37: =IF(C37>0,":","") -> : | E37: Ulm | F37: 78 | G37: =IF(ISNUMBER(F37),":","") -> : | H37: 77 | I37: 2.2 | K37: 1.65 | L37: 2 | M37: =IF(ISNUMBER(L37),IF(IF(F37>H37,1,"")=L37,I37,IF(IF(F37<H37,2,"")=L37,K37,IF(IF(F37=H37,0,"")=L37,J37,0))),"") -> 0 | N37: =IF(ISBLANK(F37),"",IF(ISNUMBER(F37),IF(AND(F37>=0,F37<250),IF($F37<>$H37,IF(F37=0,TRUE(),IF(MOD(F37,1)=0,TRUE(),FALSE())),FALSE()),FALSE()),FALSE())) -> TRUE | O37: =IF(ISBLANK(H37),"",IF(ISNUMBER(H37),IF(AND(H37>=0,H37<250),IF($F37<>$H37,IF(H37=0,TRUE(),IF(MOD(H37,1)=0,TRUE(),FALSE())),FALSE()),FALSE()),FALSE())) -> TRUE
C38: Heidelberg | D38: =IF(C38>0,":","") -> : | E38: Bayern | F38: 82 | G38: =IF(ISNUMBER(F38),":","") -> : | H38: 94 | I38: 3.8 | K38: 1.25 | L38: 2 | M38: =IF(ISNUMBER(L38),IF(IF(F38>H38,1,"")=L38,I38,IF(IF(F38<H38,2,"")=L38,K38,IF(IF(F38=H38,0,"")=L38,J38,0))),"") -> 1.25 | N38: =IF(ISBLANK(F38),"",IF(ISNUMBER(F38),IF(AND(F38>=0,F38<250),IF($F38<>$H38,IF(F38=0,TRUE(),IF(MOD(F38,1)=0,TRUE(),FALSE())),FALSE()),FALSE()),FALSE())) -> TRUE | O38: =IF(ISBLANK(H38),"",IF(ISNUMBER(H38),IF(AND(H38>=0,H38<250),IF($F38<>$H38,IF(H38=0,TRUE(),IF(MOD(H38,1)=0,TRUE(),FALSE())),FALSE()),FALSE()),FALSE())) -> TRUE | P38: =SUM(M37:M38) -> 1.25
M39: =IF(ISNUMBER(L39),IF(IF(F39>H39,1,"")=L39,I39,IF(IF(F39<H39,2,"")=L39,K39,IF(IF(F39=H39,0,"")=L39,J39,0))),"") | N39: =IF(ISBLANK(F39),"",IF(ISNUMBER(F39),IF(AND(F39>=0,F39<250),IF($F39<>$H39,IF(F39=0,TRUE(),IF(MOD(F39,1)=0,TRUE(),FALSE())),FALSE()),FALSE()),FALSE())) | O39: =IF(ISBLANK(H39),"",IF(ISNUMBER(H39),IF(AND(H39>=0,H39<250),IF($F39<>$H39,IF(H39=0,TRUE(),IF(MOD(H39,1)=0,TRUE(),FALSE())),FALSE()),FALSE()),FALSE()))
B40: Spiel 5 | C40: Ulm | D40: =IF(C40>0,":","") -> : | E40: Würzburg | F40: 91 | G40: =IF(ISNUMBER(F40),":","") -> : | H40: 84 | I40: 1.35 | K40: 3.1 | L40: 1 | M40: =IF(ISNUMBER(L40),IF(IF(F40>H40,1,"")=L40,I40,IF(IF(F40<H40,2,"")=L40,K40,IF(IF(F40=H40,0,"")=L40,J40,0))),"") -> 1.35 | N40: =IF(ISBLANK(F40),"",IF(ISNUMBER(F40),IF(AND(F40>=0,F40<250),IF($F40<>$H40,IF(F40=0,TRUE(),IF(MOD(F40,1)=0,TRUE(),FALSE())),FALSE()),FALSE()),FALSE())) -> TRUE | O40: =IF(ISBLANK(H40),"",IF(ISNUMBER(H40),IF(AND(H40>=0,H40<250),IF($F40<>$H40,IF(H40=0,TRUE(),IF(MOD(H40,1)=0,TRUE(),FALSE())),FALSE()),FALSE()),FALSE())) -> TRUE | P40: =SUM(M40) -> 1.35
M41: =IF(ISNUMBER(L41),IF(IF(F41>H41,1,"")=L41,I41,IF(IF(F41<H41,2,"")=L41,K41,IF(IF(F41=H41,0,"")=L41,J41,0))),"") | N41: =IF(ISBLANK(F41),"",IF(ISNUMBER(F41),IF(AND(F41>=0,F41<250),IF($F41<>$H41,IF(F41=0,TRUE(),IF(MOD(F41,1)=0,TRUE(),FALSE())),FALSE()),FALSE()),FALSE())) | O41: =IF(ISBLANK(H41),"",IF(ISNUMBER(H41),IF(AND(H41>=0,H41<250),IF($F41<>$H41,IF(H41=0,TRUE(),IF(MOD(H41,1)=0,TRUE(),FALSE())),FALSE()),FALSE()),FALSE()))
B42: Finale | D42: =IF(C42>0,":","") | M42: =IF(ISNUMBER(L42),IF(IF(F42>H42,1,"")=L42,I42,IF(IF(F42<H42,2,"")=L42,K42,IF(IF(F42=H42,0,"")=L42,J42,0))),"") | N42: =IF(ISBLANK(F42),"",IF(ISNUMBER(F42),IF(AND(F42>=0,F42<250),IF($F42<>$H42,IF(F42=0,TRUE(),IF(MOD(F42,1)=0,TRUE(),FALSE())),FALSE()),FALSE()),FALSE())) | O42: =IF(ISBLANK(H42),"",IF(ISNUMBER(H42),IF(AND(H42>=0,H42<250),IF($F42<>$H42,IF(H42=0,TRUE(),IF(MOD(H42,1)=0,TRUE(),FALSE())),FALSE()),FALSE()),FALSE()))
B43: Spiel 1 | C43: Bayern | D43: =IF(C43>0,":","") -> : | E43: Ulm | F43: 82 | G43: =IF(ISNUMBER(F43),":","") -> : | H43: 66 | I43: 1.25 | K43: 3.8 | L43: 1 | M43: =IF(ISNUMBER(L43),IF(IF(F43>H43,1,"")=L43,I43,IF(IF(F43<H43,2,"")=L43,K43,IF(IF(F43=H43,0,"")=L43,J43,0))),"") -> 1.25 | N43: =IF(ISBLANK(F43),"",IF(ISNUMBER(F43),IF(AND(F43>=0,F43<250),IF($F43<>$H43,IF(F43=0,TRUE(),IF(MOD(F43,1)=0,TRUE(),FALSE())),FALSE()),FALSE()),FALSE())) -> TRUE | O43: =IF(ISBLANK(H43),"",IF(ISNUMBER(H43),IF(AND(H43>=0,H43<250),IF($F43<>$H43,IF(H43=0,TRUE(),IF(MOD(H43,1)=0,TRUE(),FALSE())),FALSE()),FALSE()),FALSE())) -> TRUE | P43: =SUM(M43) -> 1.25
D44: =IF(C44>0,":","") | M44: =IF(ISNUMBER(L44),IF(IF(F44>H44,1,"")=L44,I44,IF(IF(F44<H44,2,"")=L44,K44,IF(IF(F44=H44,0,"")=L44,J44,0))),"") | N44: =IF(ISBLANK(F44),"",IF(ISNUMBER(F44),IF(AND(F44>=0,F44<250),IF($F44<>$H44,IF(F44=0,TRUE(),IF(MOD(F44,1)=0,TRUE(),FALSE())),FALSE()),FALSE()),FALSE())) | O44: =IF(ISBLANK(H44),"",IF(ISNUMBER(H44),IF(AND(H44>=0,H44<250),IF($F44<>$H44,IF(H44=0,TRUE(),IF(MOD(H44,1)=0,TRUE(),FALSE())),FALSE()),FALSE()),FALSE()))
B45: Spiel 2 | C45: Ulm | D45: =IF(C45>0,":","") -> : | E45: Bayern | F45: 79 | G45: =IF(ISNUMBER(F45),":","") -> : | H45: 64 | I45: 2.1 | K45: 1.72 | L45: 1 | M45: =IF(ISNUMBER(L45),IF(IF(F45>H45,1,"")=L45,I45,IF(IF(F45<H45,2,"")=L45,K45,IF(IF(F45=H45,0,"")=L45,J45,0))),"") -> 2.1 | N45: =IF(ISBLANK(F45),"",IF(ISNUMBER(F45),IF(AND(F45>=0,F45<250),IF($F45<>$H45,IF(F45=0,TRUE(),IF(MOD(F45,1)=0,TRUE(),FALSE())),FALSE()),FALSE()),FALSE())) -> TRUE | O45: =IF(ISBLANK(H45),"",IF(ISNUMBER(H45),IF(AND(H45>=0,H45<250),IF($F45<>$H45,IF(H45=0,TRUE(),IF(MOD(H45,1)=0,TRUE(),FALSE())),FALSE()),FALSE()),FALSE())) -> TRUE | P45: =SUM(M45) -> 2.1
D46: =IF(C46>0,":","") | M46: =IF(ISNUMBER(L46),IF(IF(F46>H46,1,"")=L46,I46,IF(IF(F46<H46,2,"")=L46,K46,IF(IF(F46=H46,0,"")=L46,J46,0))),"") | N46: =IF(ISBLANK(F46),"",IF(ISNUMBER(F46),IF(AND(F46>=0,F46<250),IF($F46<>$H46,IF(F46=0,TRUE(),IF(MOD(F46,1)=0,TRUE(),FALSE())),FALSE()),FALSE()),FALSE())) | O46: =IF(ISBLANK(H46),"",IF(ISNUMBER(H46),IF(AND(H46>=0,H46<250),IF($F46<>$H46,IF(H46=0,TRUE(),IF(MOD(H46,1)=0,TRUE(),FALSE())),FALSE()),FALSE()),FALSE()))
B47: Spiel 3 | C47: Bayern | D47: =IF(C47>0,":","") -> : | E47: Ulm | F47: 79 | G47: =IF(ISNUMBER(F47),":","") -> : | H47: 81 | I47: 1.3 | K47: 3.4 | L47: 1 | M47: =IF(ISNUMBER(L47),IF(IF(F47>H47,1,"")=L47,I47,IF(IF(F47<H47,2,"")=L47,K47,IF(IF(F47=H47,0,"")=L47,J47,0))),"") -> 0 | N47: =IF(ISBLANK(F47),"",IF(ISNUMBER(F47),IF(AND(F47>=0,F47<250),IF($F47<>$H47,IF(F47=0,TRUE(),IF(MOD(F47,1)=0,TRUE(),FALSE())),FALSE()),FALSE()),FALSE())) -> TRUE | O47: =IF(ISBLANK(H47),"",IF(ISNUMBER(H47),IF(AND(H47>=0,H47<250),IF($F47<>$H47,IF(H47=0,TRUE(),IF(MOD(H47,1)=0,TRUE(),FALSE())),FALSE()),FALSE()),FALSE())) -> TRUE | P47: =SUM(M47) -> 0
M48: =IF(ISNUMBER(L48),IF(IF(F48>H48,1,"")=L48,I48,IF(IF(F48<H48,2,"")=L48,K48,IF(IF(F48=H48,0,"")=L48,J48,0))),"") | N48: =IF(ISBLANK(F48),"",IF(ISNUMBER(F48),IF(AND(F48>=0,F48<250),IF($F48<>$H48,IF(F48=0,TRUE(),IF(MOD(F48,1)=0,TRUE(),FALSE())),FALSE()),FALSE()),FALSE())) | O48: =IF(ISBLANK(H48),"",IF(ISNUMBER(H48),IF(AND(H48>=0,H48<250),IF($F48<>$H48,IF(H48=0,TRUE(),IF(MOD(H48,1)=0,TRUE(),FALSE())),FALSE()),FALSE()),FALSE()))
B49: Spiel 4 | C49: Ulm | D49: =IF(C49>0,":","") -> : | E49: Bayern | F49: 53 | G49: =IF(ISNUMBER(F49),":","") -> : | H49: 67 | I49: 2.05 | K49: 1.75 | L49: 1 | M49: =IF(ISNUMBER(L49),IF(IF(F49>H49,1,"")=L49,I49,IF(IF(F49<H49,2,"")=L49,K49,IF(IF(F49=H49,0,"")=L49,J49,0))),"") -> 0 | N49: =IF(ISBLANK(F49),"",IF(ISNUMBER(F49),IF(AND(F49>=0,F49<250),IF($F49<>$H49,IF(F49=0,TRUE(),IF(MOD(F49,1)=0,TRUE(),FALSE())),FALSE()),FALSE()),FALSE())) -> TRUE | O49: =IF(ISBLANK(H49),"",IF(ISNUMBER(H49),IF(AND(H49>=0,H49<250),IF($F49<>$H49,IF(H49=0,TRUE(),IF(MOD(H49,1)=0,TRUE(),FALSE())),FALSE()),FALSE()),FALSE())) -> TRUE | P49: =SUM(M49) -> 0
M50: =IF(ISNUMBER(L50),IF(IF(F50>H50,1,"")=L50,I50,IF(IF(F50<H50,2,"")=L50,K50,IF(IF(F50=H50,0,"")=L50,J50,0))),"") | N50: =IF(ISBLANK(F50),"",IF(ISNUMBER(F50),IF(AND(F50>=0,F50<250),IF($F50<>$H50,IF(F50=0,TRUE(),IF(MOD(F50,1)=0,TRUE(),FALSE())),FALSE()),FALSE()),FALSE())) | O50: =IF(ISBLANK(H50),"",IF(ISNUMBER(H50),IF(AND(H50>=0,H50<250),IF($F50<>$H50,IF(H50=0,TRUE(),IF(MOD(H50,1)=0,TRUE(),FALSE())),FALSE()),FALSE()),FALSE()))
B51: Spiel 5 | C51: Bayern | D51: =IF(C51>0,":","") -> : | E51: Ulm | F51: 81 | H51: 77 | I51: 1.25 | K51: 3.8 | L51: 2 | M51: =IF(ISNUMBER(L51),IF(IF(F51>H51,1,"")=L51,I51,IF(IF(F51<H51,2,"")=L51,K51,IF(IF(F51=H51,0,"")=L51,J51,0))),"") -> 0 | N51: =IF(ISBLANK(F51),"",IF(ISNUMBER(F51),IF(AND(F51>=0,F51<250),IF($F51<>$H51,IF(F51=0,TRUE(),IF(MOD(F51,1)=0,TRUE(),FALSE())),FALSE()),FALSE()),FALSE())) -> TRUE | O51: =IF(ISBLANK(H51),"",IF(ISNUMBER(H51),IF(AND(H51>=0,H51<250),IF($F51<>$H51,IF(H51=0,TRUE(),IF(MOD(H51,1)=0,TRUE(),FALSE())),FALSE()),FALSE()),FALSE())) -> TRUE | P51: =SUM(M51) -> 0
M52: =IF(ISNUMBER(L52),IF(IF(F52>H52,1,"")=L52,I52,IF(IF(F52<H52,2,"")=L52,K52,IF(IF(F52=H52,0,"")=L52,J52,0))),"") | N52: =IF(ISBLANK(F52),"",IF(ISNUMBER(F52),IF(AND(F52>=0,F52<250),IF($F52<>$H52,IF(F52=0,TRUE(),IF(MOD(F52,1)=0,TRUE(),FALSE())),FALSE()),FALSE()),FALSE())) | O52: =IF(ISBLANK(H52),"",IF(ISNUMBER(H52),IF(AND(H52>=0,H52<250),IF($F52<>$H52,IF(H52=0,TRUE(),IF(MOD(H52,1)=0,TRUE(),FALSE())),FALSE()),FALSE()),FALSE()))
M53: =IF(ISNUMBER(L53),IF(IF(F53>H53,1,"")=L53,I53,IF(IF(F53<H53,2,"")=L53,K53,IF(IF(F53=H53,0,"")=L53,J53,0))),"") | N53: =IF(ISBLANK(F53),"",IF(ISNUMBER(F53),IF(AND(F53>=0,F53<250),IF($F53<>$H53,IF(F53=0,TRUE(),IF(MOD(F53,1)=0,TRUE(),FALSE())),FALSE()),FALSE()),FALSE())) | O53: =IF(ISBLANK(H53),"",IF(ISNUMBER(H53),IF(AND(H53>=0,H53<250),IF($F53<>$H53,IF(H53=0,TRUE(),IF(MOD(H53,1)=0,TRUE(),FALSE())),FALSE()),FALSE()),FALSE()))
M54: =IF(ISNUMBER(L54),IF(IF(F54>H54,1,"")=L54,I54,IF(IF(F54<H54,2,"")=L54,K54,IF(IF(F54=H54,0,"")=L54,J54,0))),"") | N54: =IF(ISBLANK(F54),"",IF(ISNUMBER(F54),IF(AND(F54>=0,F54<250),IF($F54<>$H54,IF(F54=0,TRUE(),IF(MOD(F54,1)=0,TRUE(),FALSE())),FALSE()),FALSE()),FALSE())) | O54: =IF(ISBLANK(H54),"",IF(ISNUMBER(H54),IF(AND(H54>=0,H54<250),IF($F54<>$H54,IF(H54=0,TRUE(),IF(MOD(H54,1)=0,TRUE(),FALSE())),FALSE()),FALSE()),FALSE()))
M55: =IF(ISNUMBER(L55),IF(IF(F55>H55,1,"")=L55,I55,IF(IF(F55<H55,2,"")=L55,K55,IF(IF(F55=H55,0,"")=L55,J55,0))),"") | N55: =IF(ISBLANK(F55),"",IF(ISNUMBER(F55),IF(AND(F55>=0,F55<250),IF($F55<>$H55,IF(F55=0,TRUE(),IF(MOD(F55,1)=0,TRUE(),FALSE())),FALSE()),FALSE()),FALSE())) | O55: =IF(ISBLANK(H55),"",IF(ISNUMBER(H55),IF(AND(H55>=0,H55<250),IF($F55<>$H55,IF(H55=0,TRUE(),IF(MOD(H55,1)=0,TRUE(),FALSE())),FALSE()),FALSE()),FALSE()))
M56: =IF(ISNUMBER(L56),IF(IF(F56>H56,1,"")=L56,I56,IF(IF(F56<H56,2,"")=L56,K56,IF(IF(F56=H56,0,"")=L56,J56,0))),"") | N56: =IF(ISBLANK(F56),"",IF(ISNUMBER(F56),IF(AND(F56>=0,F56<250),IF($F56<>$H56,IF(F56=0,TRUE(),IF(MOD(F56,1)=0,TRUE(),FALSE())),FALSE()),FALSE()),FALSE())) | O56: =IF(ISBLANK(H56),"",IF(ISNUMBER(H56),IF(AND(H56>=0,H56<250),IF($F56<>$H56,IF(H56=0,TRUE(),IF(MOD(H56,1)=0,TRUE(),FALSE())),FALSE()),FALSE()),FALSE()))
M57: =IF(ISNUMBER(L57),IF(IF(F57>H57,1,"")=L57,I57,IF(IF(F57<H57,2,"")=L57,K57,IF(IF(F57=H57,0,"")=L57,J57,0))),"") | N57: =IF(ISBLANK(F57),"",IF(ISNUMBER(F57),IF(AND(F57>=0,F57<250),IF($F57<>$H57,IF(F57=0,TRUE(),IF(MOD(F57,1)=0,TRUE(),FALSE())),FALSE()),FALSE()),FALSE())) | O57: =IF(ISBLANK(H57),"",IF(ISNUMBER(H57),IF(AND(H57>=0,H57<250),IF($F57<>$H57,IF(H57=0,TRUE(),IF(MOD(H57,1)=0,TRUE(),FALSE())),FALSE()),FALSE()),FALSE()))
M58: =IF(ISNUMBER(L58),IF(IF(F58>H58,1,"")=L58,I58,IF(IF(F58<H58,2,"")=L58,K58,IF(IF(F58=H58,0,"")=L58,J58,0))),"") | N58: =IF(ISBLANK(F58),"",IF(ISNUMBER(F58),IF(AND(F58>=0,F58<250),IF($F58<>$H58,IF(F58=0,TRUE(),IF(MOD(F58,1)=0,TRUE(),FALSE())),FALSE()),FALSE()),FALSE())) | O58: =IF(ISBLANK(H58),"",IF(ISNUMBER(H58),IF(AND(H58>=0,H58<250),IF($F58<>$H58,IF(H58=0,TRUE(),IF(MOD(H58,1)=0,TRUE(),FALSE())),FALSE()),FALSE()),FALSE()))
M59: =IF(ISNUMBER(L59),IF(IF(F59>H59,1,"")=L59,I59,IF(IF(F59<H59,2,"")=L59,K59,IF(IF(F59=H59,0,"")=L59,J59,0))),"") | N59: =IF(ISBLANK(F59),"",IF(ISNUMBER(F59),IF(AND(F59>=0,F59<250),IF($F59<>$H59,IF(F59=0,TRUE(),IF(MOD(F59,1)=0,TRUE(),FALSE())),FALSE()),FALSE()),FALSE())) | O59: =IF(ISBLANK(H59),"",IF(ISNUMBER(H59),IF(AND(H59>=0,H59<250),IF($F59<>$H59,IF(H59=0,TRUE(),IF(MOD(H59,1)=0,TRUE(),FALSE())),FALSE()),FALSE()),FALSE()))
M60: =IF(ISNUMBER(L60),IF(IF(F60>H60,1,"")=L60,I60,IF(IF(F60<H60,2,"")=L60,K60,IF(IF(F60=H60,0,"")=L60,J60,0))),"") | N60: =IF(ISBLANK(F60),"",IF(ISNUMBER(F60),IF(AND(F60>=0,F60<250),IF($F60<>$H60,IF(F60=0,TRUE(),IF(MOD(F60,1)=0,TRUE(),FALSE())),FALSE()),FALSE()),FALSE())) | O60: =IF(ISBLANK(H60),"",IF(ISNUMBER(H60),IF(AND(H60>=0,H60<250),IF($F60<>$H60,IF(H60=0,TRUE(),IF(MOD(H60,1)=0,TRUE(),FALSE())),FALSE()),FALSE()),FALSE()))
M61: =IF(ISNUMBER(L61),IF(IF(F61>H61,1,"")=L61,I61,IF(IF(F61<H61,2,"")=L61,K61,IF(IF(F61=H61,0,"")=L61,J61,0))),"") | N61: =IF(ISBLANK(F61),"",IF(ISNUMBER(F61),IF(AND(F61>=0,F61<250),IF($F61<>$H61,IF(F61=0,TRUE(),IF(MOD(F61,1)=0,TRUE(),FALSE())),FALSE()),FALSE()),FALSE())) | O61: =IF(ISBLANK(H61),"",IF(ISNUMBER(H61),IF(AND(H61>=0,H61<250),IF($F61<>$H61,IF(H61=0,TRUE(),IF(MOD(H61,1)=0,TRUE(),FALSE())),FALSE()),FALSE()),FALSE()))
M62: =IF(ISNUMBER(L62),IF(IF(F62>H62,1,"")=L62,I62,IF(IF(F62<H62,2,"")=L62,K62,IF(IF(F62=H62,0,"")=L62,J62,0))),"") | N62: =IF(ISBLANK(F62),"",IF(ISNUMBER(F62),IF(AND(F62>=0,F62<250),IF($F62<>$H62,IF(F62=0,TRUE(),IF(MOD(F62,1)=0,TRUE(),FALSE())),FALSE()),FALSE()),FALSE())) | O62: =IF(ISBLANK(H62),"",IF(ISNUMBER(H62),IF(AND(H62>=0,H62<250),IF($F62<>$H62,IF(H62=0,TRUE(),IF(MOD(H62,1)=0,TRUE(),FALSE())),FALSE()),FALSE()),FALSE()))
M63: =IF(ISNUMBER(L63),IF(IF(F63>H63,1,"")=L63,I63,IF(IF(F63<H63,2,"")=L63,K63,IF(IF(F63=H63,0,"")=L63,J63,0))),"") | N63: =IF(ISBLANK(F63),"",IF(ISNUMBER(F63),IF(AND(F63>=0,F63<250),IF($F63<>$H63,IF(F63=0,TRUE(),IF(MOD(F63,1)=0,TRUE(),FALSE())),FALSE()),FALSE()),FALSE())) | O63: =IF(ISBLANK(H63),"",IF(ISNUMBER(H63),IF(AND(H63>=0,H63<250),IF($F63<>$H63,IF(H63=0,TRUE(),IF(MOD(H63,1)=0,TRUE(),FALSE())),FALSE()),FALSE()),FALSE()))
... M79: =IF(ISNUMBER(L79),IF(IF(F79>H79,1,"")=L79,I79,IF(IF(F79<H79,2,"")=L79,K79,IF(IF(F79=H79,0,"")=L79,J79,0))),"") | N79: =IF(ISBLANK(F79),"",IF(ISNUMBER(F79),IF(AND(F79>=0,F79<250),IF($F79<>$H79,IF(F79=0,TRUE(),IF(MOD(F79,1)=0,TRUE(),FALSE())),FALSE()),FALSE()),FALSE())) | O79: =IF(ISBLANK(H79),"",IF(ISNUMBER(H79),IF(AND(H79>=0,H79<250),IF($F79<>$H79,IF(H79=0,TRUE(),IF(MOD(H79,1)=0,TRUE(),FALSE())),FALSE()),FALSE()),FALSE()))
D80: =IF(C80>0,":","") | G80: =IF(ISNUMBER(F80),":","") | M80: =IF(ISNUMBER(L80),IF(IF(F80>H80,1,"")=L80,I80,IF(IF(F80<H80,2,"")=L80,K80,IF(IF(F80=H80,0,"")=L80,J80,0))),"") | N80: =IF(ISBLANK(F80),"",IF(ISNUMBER(F80),IF(AND(F80>=0,F80<250),IF($F80<>$H80,IF(F80=0,TRUE(),IF(MOD(F80,1)=0,TRUE(),FALSE())),FALSE()),FALSE()),FALSE())) | O80: =IF(ISBLANK(H80),"",IF(ISNUMBER(H80),IF(AND(H80>=0,H80<250),IF($F80<>$H80,IF(H80=0,TRUE(),IF(MOD(H80,1)=0,TRUE(),FALSE())),FALSE()),FALSE()),FALSE()))
D81: =IF(C81>0,":","") | G81: =IF(ISNUMBER(F81),":","") | M81: =IF(ISNUMBER(L81),IF(IF(F81>H81,1,"")=L81,I81,IF(IF(F81<H81,2,"")=L81,K81,IF(IF(F81=H81,0,"")=L81,J81,0))),"") | N81: =IF(ISBLANK(F81),"",IF(ISNUMBER(F81),IF(AND(F81>=0,F81<250),IF($F81<>$H81,IF(F81=0,TRUE(),IF(MOD(F81,1)=0,TRUE(),FALSE())),FALSE()),FALSE()),FALSE())) | O81: =IF(ISBLANK(H81),"",IF(ISNUMBER(H81),IF(AND(H81>=0,H81<250),IF($F81<>$H81,IF(H81=0,TRUE(),IF(MOD(H81,1)=0,TRUE(),FALSE())),FALSE()),FALSE()),FALSE()))
D82: =IF(C82>0,":","") | G82: =IF(ISNUMBER(F82),":","") | M82: =IF(ISNUMBER(L82),IF(IF(F82>H82,1,"")=L82,I82,IF(IF(F82<H82,2,"")=L82,K82,IF(IF(F82=H82,0,"")=L82,J82,0))),"") | N82: =IF(ISBLANK(F82),"",IF(ISNUMBER(F82),IF(AND(F82>=0,F82<250),IF($F82<>$H82,IF(F82=0,TRUE(),IF(MOD(F82,1)=0,TRUE(),FALSE())),FALSE()),FALSE()),FALSE())) | O82: =IF(ISBLANK(H82),"",IF(ISNUMBER(H82),IF(AND(H82>=0,H82<250),IF($F82<>$H82,IF(H82=0,TRUE(),IF(MOD(H82,1)=0,TRUE(),FALSE())),FALSE()),FALSE()),FALSE()))
D83: =IF(C83>0,":","") | G83: =IF(ISNUMBER(F83),":","") | M83: =IF(ISNUMBER(L83),IF(IF(F83>H83,1,"")=L83,I83,IF(IF(F83<H83,2,"")=L83,K83,IF(IF(F83=H83,0,"")=L83,J83,0))),"") | N83: =IF(ISBLANK(F83),"",IF(ISNUMBER(F83),IF(AND(F83>=0,F83<250),IF($F83<>$H83,IF(F83=0,TRUE(),IF(MOD(F83,1)=0,TRUE(),FALSE())),FALSE()),FALSE()),FALSE())) | O83: =IF(ISBLANK(H83),"",IF(ISNUMBER(H83),IF(AND(H83>=0,H83<250),IF($F83<>$H83,IF(H83=0,TRUE(),IF(MOD(H83,1)=0,TRUE(),FALSE())),FALSE()),FALSE()),FALSE()))
D84: =IF(C84>0,":","") | G84: =IF(ISNUMBER(F84),":","") | M84: =IF(ISNUMBER(L84),IF(IF(F84>H84,1,"")=L84,I84,IF(IF(F84<H84,2,"")=L84,K84,IF(IF(F84=H84,0,"")=L84,J84,0))),"") | N84: =IF(ISBLANK(F84),"",IF(ISNUMBER(F84),IF(AND(F84>=0,F84<250),IF($F84<>$H84,IF(F84=0,TRUE(),IF(MOD(F84,1)=0,TRUE(),FALSE())),FALSE()),FALSE()),FALSE())) | O84: =IF(ISBLANK(H84),"",IF(ISNUMBER(H84),IF(AND(H84>=0,H84<250),IF($F84<>$H84,IF(H84=0,TRUE(),IF(MOD(H84,1)=0,TRUE(),FALSE())),FALSE()),FALSE()),FALSE()))
D85: =IF(C85>0,":","") | G85: =IF(ISNUMBER(F85),":","") | M85: =IF(ISNUMBER(L85),IF(IF(F85>H85,1,"")=L85,I85,IF(IF(F85<H85,2,"")=L85,K85,IF(IF(F85=H85,0,"")=L85,J85,0))),"") | N85: =IF(ISBLANK(F85),"",IF(ISNUMBER(F85),IF(AND(F85>=0,F85<250),IF($F85<>$H85,IF(F85=0,TRUE(),IF(MOD(F85,1)=0,TRUE(),FALSE())),FALSE()),FALSE()),FALSE())) | O85: =IF(ISBLANK(H85),"",IF(ISNUMBER(H85),IF(AND(H85>=0,H85<250),IF($F85<>$H85,IF(H85=0,TRUE(),IF(MOD(H85,1)=0,TRUE(),FALSE())),FALSE()),FALSE()),FALSE()))
D86: =IF(C86>0,":","") | G86: =IF(ISNUMBER(F86),":","") | M86: =IF(ISNUMBER(L86),IF(IF(F86>H86,1,"")=L86,I86,IF(IF(F86<H86,2,"")=L86,K86,IF(IF(F86=H86,0,"")=L86,J86,0))),"") | N86: =IF(ISBLANK(F86),"",IF(ISNUMBER(F86),IF(AND(F86>=0,F86<250),IF($F86<>$H86,IF(F86=0,TRUE(),IF(MOD(F86,1)=0,TRUE(),FALSE())),FALSE()),FALSE()),FALSE())) | O86: =IF(ISBLANK(H86),"",IF(ISNUMBER(H86),IF(AND(H86>=0,H86<250),IF($F86<>$H86,IF(H86=0,TRUE(),IF(MOD(H86,1)=0,TRUE(),FALSE())),FALSE()),FALSE()),FALSE()))
D87: =IF(C87>0,":","") | G87: =IF(ISNUMBER(F87),":","") | M87: =IF(ISNUMBER(L87),IF(IF(F87>H87,1,"")=L87,I87,IF(IF(F87<H87,2,"")=L87,K87,IF(IF(F87=H87,0,"")=L87,J87,0))),"") | N87: =IF(ISBLANK(F87),"",IF(ISNUMBER(F87),IF(AND(F87>=0,F87<250),IF($F87<>$H87,IF(F87=0,TRUE(),IF(MOD(F87,1)=0,TRUE(),FALSE())),FALSE()),FALSE()),FALSE())) | O87: =IF(ISBLANK(H87),"",IF(ISNUMBER(H87),IF(AND(H87>=0,H87<250),IF($F87<>$H87,IF(H87=0,TRUE(),IF(MOD(H87,1)=0,TRUE(),FALSE())),FALSE()),FALSE()),FALSE()))
D88: =IF(C88>0,":","") | G88: =IF(ISNUMBER(F88),":","") | M88: =IF(ISNUMBER(L88),IF(IF(F88>H88,1,"")=L88,I88,IF(IF(F88<H88,2,"")=L88,K88,IF(IF(F88=H88,0,"")=L88,J88,0))),"") | N88: =IF(ISBLANK(F88),"",IF(ISNUMBER(F88),IF(AND(F88>=0,F88<250),IF($F88<>$H88,IF(F88=0,TRUE(),IF(MOD(F88,1)=0,TRUE(),FALSE())),FALSE()),FALSE()),FALSE())) | O88: =IF(ISBLANK(H88),"",IF(ISNUMBER(H88),IF(AND(H88>=0,H88<250),IF($F88<>$H88,IF(H88=0,TRUE(),IF(MOD(H88,1)=0,TRUE(),FALSE())),FALSE()),FALSE()),FALSE()))
D89: =IF(C89>0,":","") | G89: =IF(ISNUMBER(F89),":","") | M89: =IF(ISNUMBER(L89),IF(IF(F89>H89,1,"")=L89,I89,IF(IF(F89<H89,2,"")=L89,K89,IF(IF(F89=H89,0,"")=L89,J89,0))),"") | N89: =IF(ISBLANK(F89),"",IF(ISNUMBER(F89),IF(AND(F89>=0,F89<250),IF($F89<>$H89,IF(F89=0,TRUE(),IF(MOD(F89,1)=0,TRUE(),FALSE())),FALSE()),FALSE()),FALSE())) | O89: =IF(ISBLANK(H89),"",IF(ISNUMBER(H89),IF(AND(H89>=0,H89<250),IF($F89<>$H89,IF(H89=0,TRUE(),IF(MOD(H89,1)=0,TRUE(),FALSE())),FALSE()),FALSE()),FALSE()))
D90: =IF(C90>0,":","") | G90: =IF(ISNUMBER(F90),":","") | M90: =IF(ISNUMBER(L90),IF(IF(F90>H90,1,"")=L90,I90,IF(IF(F90<H90,2,"")=L90,K90,IF(IF(F90=H90,0,"")=L90,J90,0))),"") | N90: =IF(ISBLANK(F90),"",IF(ISNUMBER(F90),IF(AND(F90>=0,F90<250),IF($F90<>$H90,IF(F90=0,TRUE(),IF(MOD(F90,1)=0,TRUE(),FALSE())),FALSE()),FALSE()),FALSE())) | O90: =IF(ISBLANK(H90),"",IF(ISNUMBER(H90),IF(AND(H90>=0,H90<250),IF($F90<>$H90,IF(H90=0,TRUE(),IF(MOD(H90,1)=0,TRUE(),FALSE())),FALSE()),FALSE()),FALSE()))
D91: =IF(C91>0,":","") | G91: =IF(ISNUMBER(F91),":","") | M91: =IF(ISNUMBER(L91),IF(IF(F91>H91,1,"")=L91,I91,IF(IF(F91<H91,2,"")=L91,K91,IF(IF(F91=H91,0,"")=L91,J91,0))),"") | N91: =IF(ISBLANK(F91),"",IF(ISNUMBER(F91),IF(AND(F91>=0,F91<250),IF($F91<>$H91,IF(F91=0,TRUE(),IF(MOD(F91,1)=0,TRUE(),FALSE())),FALSE()),FALSE()),FALSE())) | O91: =IF(ISBLANK(H91),"",IF(ISNUMBER(H91),IF(AND(H91>=0,H91<250),IF($F91<>$H91,IF(H91=0,TRUE(),IF(MOD(H91,1)=0,TRUE(),FALSE())),FALSE()),FALSE()),FALSE()))
... D100: =IF(C100>0,":","") | G100: =IF(ISNUMBER(F100),":","") | M100: =IF(ISNUMBER(L100),IF(IF(F100>H100,1,"")=L100,I100,IF(IF(F100<H100,2,"")=L100,K100,IF(IF(F100=H100,0,"")=L100,J100,0))),"") | N100: =IF(ISBLANK(F100),"",IF(ISNUMBER(F100),IF(AND(F100>=0,F100<250),IF($F100<>$H100,IF(F100=0,TRUE(),IF(MOD(F100,1)=0,TRUE(),FALSE())),FALSE()),FALSE()),FALSE())) | O100: =IF(ISBLANK(H100),"",IF(ISNUMBER(H100),IF(AND(H100>=0,H100<250),IF($F100<>$H100,IF(H100=0,TRUE(),IF(MOD(H100,1)=0,TRUE(),FALSE())),FALSE()),FALSE()),FALSE()))

Sheet ehirsch
A1: ehirsch | B1: Spieltag | C1: Heim | E1: Auswärts | F1: Ergebnis | I1: 1 | J1: 2 | K1: 2 | L1: Tipp | M1: Richtig | N1: Gültigk. D | O1: Gültik. F | P1: Gesamt
B2: Play-Ins | C2: Berlin | D2: =IF(C2>0,":","") -> : | E2: MBC | F2: 81 | G2: =IF(ISNUMBER(F2),":","") -> : | H2: 78 | I2: 1.2 | K2: 4.5 | L2: 2 | M2: =IF(ISNUMBER(L2),IF(IF(F2>H2,1,"")=L2,I2,IF(IF(F2<H2,2,"")=L2,K2,IF(IF(F2=H2,0,"")=L2,J2,0))),"") -> 0 | N2: =IF(ISBLANK(F2),"",IF(ISNUMBER(F2),IF(AND(F2>=0,F2<250),IF($F2<>$H2,IF(F2=0,TRUE(),IF(MOD(F2,1)=0,TRUE(),FALSE())),FALSE()),FALSE()),FALSE())) -> TRUE | O2: =IF(ISBLANK(H2),"",IF(ISNUMBER(H2),IF(AND(H2>=0,H2<250),IF($F2<>$H2,IF(H2=0,TRUE(),IF(MOD(H2,1)=0,TRUE(),FALSE())),FALSE()),FALSE()),FALSE())) -> TRUE
C3: Oldenburg | D3: =IF(C3>0,":","") -> : | E3: Rostock | F3: 95 | G3: =IF(ISNUMBER(F3),":","") -> : | H3: 83 | I3: 1.65 | K3: 2.2 | L3: 1 | M3: =IF(ISNUMBER(L3),IF(IF(F3>H3,1,"")=L3,I3,IF(IF(F3<H3,2,"")=L3,K3,IF(IF(F3=H3,0,"")=L3,J3,0))),"") -> 1.65 | N3: =IF(ISBLANK(F3),"",IF(ISNUMBER(F3),IF(AND(F3>=0,F3<250),IF($F3<>$H3,IF(F3=0,TRUE(),IF(MOD(F3,1)=0,TRUE(),FALSE())),FALSE()),FALSE()),FALSE())) -> TRUE | O3: =IF(ISBLANK(H3),"",IF(ISNUMBER(H3),IF(AND(H3>=0,H3<250),IF($F3<>$H3,IF(H3=0,TRUE(),IF(MOD(H3,1)=0,TRUE(),FALSE())),FALSE()),FALSE()),FALSE())) -> TRUE
M4: =IF(ISNUMBER(L4),IF(IF(F4>H4,1,"")=L4,I4,IF(IF(F4<H4,2,"")=L4,K4,IF(IF(F4=H4,0,"")=L4,J4,0))),"") | N4: =IF(ISBLANK(F4),"",IF(ISNUMBER(F4),IF(AND(F4>=0,F4<250),IF($F4<>$H4,IF(F4=0,TRUE(),IF(MOD(F4,1)=0,TRUE(),FALSE())),FALSE()),FALSE()),FALSE())) | O4: =IF(ISBLANK(H4),"",IF(ISNUMBER(H4),IF(AND(H4>=0,H4<250),IF($F4<>$H4,IF(H4=0,TRUE(),IF(MOD(H4,1)=0,TRUE(),FALSE())),FALSE()),FALSE()),FALSE()))
C5: MBC | D5: =IF(C5>0,":","") -> : | E5: Oldenburg | F5: 110 | H5: 95 | I5: 1.55 | K5: 2.4 | L5: 1 | M5: =IF(ISNUMBER(L5),IF(IF(F5>H5,1,"")=L5,I5,IF(IF(F5<H5,2,"")=L5,K5,IF(IF(F5=H5,0,"")=L5,J5,0))),"") -> 1.55 | N5: =IF(ISBLANK(F5),"",IF(ISNUMBER(F5),IF(AND(F5>=0,F5<250),IF($F5<>$H5,IF(F5=0,TRUE(),IF(MOD(F5,1)=0,TRUE(),FALSE())),FALSE()),FALSE()),FALSE())) -> TRUE | O5: =IF(ISBLANK(H5),"",IF(ISNUMBER(H5),IF(AND(H5>=0,H5<250),IF($F5<>$H5,IF(H5=0,TRUE(),IF(MOD(H5,1)=0,TRUE(),FALSE())),FALSE()),FALSE()),FALSE())) -> TRUE | P5: =SUM(M2:M5) -> 3.2
M6: =IF(ISNUMBER(L6),IF(IF(F6>H6,1,"")=L6,I6,IF(IF(F6<H6,2,"")=L6,K6,IF(IF(F6=H6,0,"")=L6,J6,0))),"") | N6: =IF(ISBLANK(F6),"",IF(ISNUMBER(F6),IF(AND(F6>=0,F6<250),IF($F6<>$H6,IF(F6=0,TRUE(),IF(MOD(F6,1)=0,TRUE(),FALSE())),FALSE()),FALSE()),FALSE())) | O6: =IF(ISBLANK(H6),"",IF(ISNUMBER(H6),IF(AND(H6>=0,H6<250),IF($F6<>$H6,IF(H6=0,TRUE(),IF(MOD(H6,1)=0,TRUE(),FALSE())),FALSE()),FALSE()),FALSE()))
B7: Playoffs | C7: Chemnitz | D7: =IF(C7>0,":","") -> : | E7: Heidelberg | F7: 90 | G7: =IF(ISNUMBER(F7),":","") -> : | H7: 93 | I7: 1.4 | K7: 2.9 | L7: 2 | M7: =IF(ISNUMBER(L7),IF(IF(F7>H7,1,"")=L7,I7,IF(IF(F7<H7,2,"")=L7,K7,IF(IF(F7=H7,0,"")=L7,J7,0))),"") -> 2.9 | N7: =IF(ISBLANK(F7),"",IF(ISNUMBER(F7),IF(AND(F7>=0,F7<250),IF($F7<>$H7,IF(F7=0,TRUE(),IF(MOD(F7,1)=0,TRUE(),FALSE())),FALSE()),FALSE()),FALSE())) -> TRUE | O7: =IF(ISBLANK(H7),"",IF(ISNUMBER(H7),IF(AND(H7>=0,H7<250),IF($F7<>$H7,IF(H7=0,TRUE(),IF(MOD(H7,1)=0,TRUE(),FALSE())),FALSE()),FALSE()),FALSE())) -> TRUE
B8: 1. Runde | C8: ULM | D8: =IF(C8>0,":","") -> : | E8: ALBA | F8: 94 | G8: =IF(ISNUMBER(F8),":","") -> : | H8: 83 | I8: 1.55 | K8: 2.4 | L8: 1 | M8: =IF(ISNUMBER(L8),IF(IF(F8>H8,1,"")=L8,I8,IF(IF(F8<H8,2,"")=L8,K8,IF(IF(F8=H8,0,"")=L8,J8,0))),"") -> 1.55 | N8: =IF(ISBLANK(F8),"",IF(ISNUMBER(F8),IF(AND(F8>=0,F8<250),IF($F8<>$H8,IF(F8=0,TRUE(),IF(MOD(F8,1)=0,TRUE(),FALSE())),FALSE()),FALSE()),FALSE())) -> TRUE | O8: =IF(ISBLANK(H8),"",IF(ISNUMBER(H8),IF(AND(H8>=0,H8<250),IF($F8<>$H8,IF(H8=0,TRUE(),IF(MOD(H8,1)=0,TRUE(),FALSE())),FALSE()),FALSE()),FALSE())) -> TRUE
B9: Spiel 1 | C9: Bayern | D9: =IF(C9>0,":","") -> : | E9: MBC | F9: 78 | G9: =IF(ISNUMBER(F9),":","") -> : | H9: 60 | I9: 1.15 | K9: 5.2 | L9: 1 | M9: =IF(ISNUMBER(L9),IF(IF(F9>H9,1,"")=L9,I9,IF(IF(F9<H9,2,"")=L9,K9,IF(IF(F9=H9,0,"")=L9,J9,0))),"") -> 1.15 | N9: =IF(ISBLANK(F9),"",IF(ISNUMBER(F9),IF(AND(F9>=0,F9<250),IF($F9<>$H9,IF(F9=0,TRUE(),IF(MOD(F9,1)=0,TRUE(),FALSE())),FALSE()),FALSE()),FALSE())) -> TRUE | O9: =IF(ISBLANK(H9),"",IF(ISNUMBER(H9),IF(AND(H9>=0,H9<250),IF($F9<>$H9,IF(H9=0,TRUE(),IF(MOD(H9,1)=0,TRUE(),FALSE())),FALSE()),FALSE()),FALSE())) -> TRUE
C10: Braunschweig | D10: =IF(C10>0,":","") -> : | E10: Würzburg | F10: 92 | G10: =IF(ISNUMBER(F10),":","") -> : | H10: 79 | I10: 1.47 | K10: 2.6 | L10: 2 | M10: =IF(ISNUMBER(L10),IF(IF(F10>H10,1,"")=L10,I10,IF(IF(F10<H10,2,"")=L10,K10,IF(IF(F10=H10,0,"")=L10,J10,0))),"") -> 0 | N10: =IF(ISBLANK(F10),"",IF(ISNUMBER(F10),IF(AND(F10>=0,F10<250),IF($F10<>$H10,IF(F10=0,TRUE(),IF(MOD(F10,1)=0,TRUE(),FALSE())),FALSE()),FALSE()),FALSE())) -> TRUE | O10: =IF(ISBLANK(H10),"",IF(ISNUMBER(H10),IF(AND(H10>=0,H10<250),IF($F10<>$H10,IF(H10=0,TRUE(),IF(MOD(H10,1)=0,TRUE(),FALSE())),FALSE()),FALSE()),FALSE())) -> TRUE | P10: =SUM(M7:M10) -> 5.6
M11: =IF(ISNUMBER(L11),IF(IF(F11>H11,1,"")=L11,I11,IF(IF(F11<H11,2,"")=L11,K11,IF(IF(F11=H11,0,"")=L11,J11,0))),"") | N11: =IF(ISBLANK(F11),"",IF(ISNUMBER(F11),IF(AND(F11>=0,F11<250),IF($F11<>$H11,IF(F11=0,TRUE(),IF(MOD(F11,1)=0,TRUE(),FALSE())),FALSE()),FALSE()),FALSE())) | O11: =IF(ISBLANK(H11),"",IF(ISNUMBER(H11),IF(AND(H11>=0,H11<250),IF($F11<>$H11,IF(H11=0,TRUE(),IF(MOD(H11,1)=0,TRUE(),FALSE())),FALSE()),FALSE()),FALSE()))
B12: Playoffs | C12: Heidelberg | D12: =IF(C12>0,":","") -> : | E12: Chemnitz | F12: 74 | G12: =IF(ISNUMBER(F12),":","") -> : | H12: 70 | I12: 1.7 | K12: 2.1 | L12: 2 | M12: =IF(ISNUMBER(L12),IF(IF(F12>H12,1,"")=L12,I12,IF(IF(F12<H12,2,"")=L12,K12,IF(IF(F12=H12,0,"")=L12,J12,0))),"") -> 0 | N12: =IF(ISBLANK(F12),"",IF(ISNUMBER(F12),IF(AND(F12>=0,F12<250),IF($F12<>$H12,IF(F12=0,TRUE(),IF(MOD(F12,1)=0,TRUE(),FALSE())),FALSE()),FALSE()),FALSE())) -> TRUE | O12: =IF(ISBLANK(H12),"",IF(ISNUMBER(H12),IF(AND(H12>=0,H12<250),IF($F12<>$H12,IF(H12=0,TRUE(),IF(MOD(H12,1)=0,TRUE(),FALSE())),FALSE()),FALSE()),FALSE())) -> TRUE
B13: 1. Runde | C13: ALBA | D13: =IF(C13>0,":","") -> : | E13: ULM | F13: 62 | G13: =IF(ISNUMBER(F13),":","") -> : | H13: 74 | I13: 1.5 | K13: 2.55 | L13: 2 | M13: =IF(ISNUMBER(L13),IF(IF(F13>H13,1,"")=L13,I13,IF(IF(F13<H13,2,"")=L13,K13,IF(IF(F13=H13,0,"")=L13,J13,0))),"") -> 2.55 | N13: =IF(ISBLANK(F13),"",IF(ISNUMBER(F13),IF(AND(F13>=0,F13<250),IF($F13<>$H13,IF(F13=0,TRUE(),IF(MOD(F13,1)=0,TRUE(),FALSE())),FALSE()),FALSE()),FALSE())) -> TRUE | O13: =IF(ISBLANK(H13),"",IF(ISNUMBER(H13),IF(AND(H13>=0,H13<250),IF($F13<>$H13,IF(H13=0,TRUE(),IF(MOD(H13,1)=0,TRUE(),FALSE())),FALSE()),FALSE()),FALSE())) -> TRUE
B14: Spiel 2 | C14: MBC | D14: =IF(C14>0,":","") -> : | E14: Bayern | F14: 65 | G14: =IF(ISNUMBER(F14),":","") -> : | H14: 80 | I14: 3.4 | K14: 1.3 | L14: 1 | M14: =IF(ISNUMBER(L14),IF(IF(F14>H14,1,"")=L14,I14,IF(IF(F14<H14,2,"")=L14,K14,IF(IF(F14=H14,0,"")=L14,J14,0))),"") -> 0 | N14: =IF(ISBLANK(F14),"",IF(ISNUMBER(F14),IF(AND(F14>=0,F14<250),IF($F14<>$H14,IF(F14=0,TRUE(),IF(MOD(F14,1)=0,TRUE(),FALSE())),FALSE()),FALSE()),FALSE())) -> TRUE | O14: =IF(ISBLANK(H14),"",IF(ISNUMBER(H14),IF(AND(H14>=0,H14<250),IF($F14<>$H14,IF(H14=0,TRUE(),IF(MOD(H14,1)=0,TRUE(),FALSE())),FALSE()),FALSE()),FALSE())) -> TRUE
C15: Würzburg | D15: =IF(C15>0,":","") -> : | E15: Braunschweig | F15: 94 | G15: =IF(ISNUMBER(F15),":","") -> : | H15: 90 | I15: 1.57 | K15: 2.35 | L15: 1 | M15: =IF(ISNUMBER(L15),IF(IF(F15>H15,1,"")=L15,I15,IF(IF(F15<H15,2,"")=L15,K15,IF(IF(F15=H15,0,"")=L15,J15,0))),"") -> 1.57 | N15: =IF(ISBLANK(F15),"",IF(ISNUMBER(F15),IF(AND(F15>=0,F15<250),IF($F15<>$H15,IF(F15=0,TRUE(),IF(MOD(F15,1)=0,TRUE(),FALSE())),FALSE()),FALSE()),FALSE())) -> TRUE | O15: =IF(ISBLANK(H15),"",IF(ISNUMBER(H15),IF(AND(H15>=0,H15<250),IF($F15<>$H15,IF(H15=0,TRUE(),IF(MOD(H15,1)=0,TRUE(),FALSE())),FALSE()),FALSE()),FALSE())) -> TRUE | P15: =SUM(M12:M15) -> 4.12
M16: =IF(ISNUMBER(L16),IF(IF(F16>H16,1,"")=L16,I16,IF(IF(F16<H16,2,"")=L16,K16,IF(IF(F16=H16,0,"")=L16,J16,0))),"") | N16: =IF(ISBLANK(F16),"",IF(ISNUMBER(F16),IF(AND(F16>=0,F16<250),IF($F16<>$H16,IF(F16=0,TRUE(),IF(MOD(F16,1)=0,TRUE(),FALSE())),FALSE()),FALSE()),FALSE())) | O16: =IF(ISBLANK(H16),"",IF(ISNUMBER(H16),IF(AND(H16>=0,H16<250),IF($F16<>$H16,IF(H16=0,TRUE(),IF(MOD(H16,1)=0,TRUE(),FALSE())),FALSE()),FALSE()),FALSE()))
B17: Playoffs | C17: Bayern | D17: =IF(C17>0,":","") -> : | E17: MBC | F17: 80 | G17: =IF(ISNUMBER(F17),":","") -> : | H17: 69 | I17: 1.06 | K17: 8.5 | L17: 1 | M17: =IF(ISNUMBER(L17),IF(IF(F17>H17,1,"")=L17,I17,IF(IF(F17<H17,2,"")=L17,K17,IF(IF(F17=H17,0,"")=L17,J17,0))),"") -> 1.06 | N17: =IF(ISBLANK(F17),"",IF(ISNUMBER(F17),IF(AND(F17>=0,F17<250),IF($F17<>$H17,IF(F17=0,TRUE(),IF(MOD(F17,1)=0,TRUE(),FALSE())),FALSE()),FALSE()),FALSE())) -> TRUE | O17: =IF(ISBLANK(H17),"",IF(ISNUMBER(H17),IF(AND(H17>=0,H17<250),IF($F17<>$H17,IF(H17=0,TRUE(),IF(MOD(H17,1)=0,TRUE(),FALSE())),FALSE()),FALSE()),FALSE())) -> TRUE
B18: 1. Runde | C18: ULM | D18: =IF(C18>0,":","") -> : | E18: ALBA | F18: 93 | G18: =IF(ISNUMBER(F18),":","") -> : | H18: 84 | I18: 1.55 | K18: 2.4 | L18: 1 | M18: =IF(ISNUMBER(L18),IF(IF(F18>H18,1,"")=L18,I18,IF(IF(F18<H18,2,"")=L18,K18,IF(IF(F18=H18,0,"")=L18,J18,0))),"") -> 1.55 | N18: =IF(ISBLANK(F18),"",IF(ISNUMBER(F18),IF(AND(F18>=0,F18<250),IF($F18<>$H18,IF(F18=0,TRUE(),IF(MOD(F18,1)=0,TRUE(),FALSE())),FALSE()),FALSE()),FALSE())) -> TRUE | O18: =IF(ISBLANK(H18),"",IF(ISNUMBER(H18),IF(AND(H18>=0,H18<250),IF($F18<>$H18,IF(H18=0,TRUE(),IF(MOD(H18,1)=0,TRUE(),FALSE())),FALSE()),FALSE()),FALSE())) -> TRUE
B19: Spiel 3 | C19: Braunschweig | D19: =IF(C19>0,":","") -> : | E19: Würzburg | F19: 80 | G19: =IF(ISNUMBER(F19),":","") -> : | H19: 75 | I19: 1.5 | K19: 2.55 | L19: 2 | M19: =IF(ISNUMBER(L19),IF(IF(F19>H19,1,"")=L19,I19,IF(IF(F19<H19,2,"")=L19,K19,IF(IF(F19=H19,0,"")=L19,J19,0))),"") -> 0 | N19: =IF(ISBLANK(F19),"",IF(ISNUMBER(F19),IF(AND(F19>=0,F19<250),IF($F19<>$H19,IF(F19=0,TRUE(),IF(MOD(F19,1)=0,TRUE(),FALSE())),FALSE()),FALSE()),FALSE())) -> TRUE | O19: =IF(ISBLANK(H19),"",IF(ISNUMBER(H19),IF(AND(H19>=0,H19<250),IF($F19<>$H19,IF(H19=0,TRUE(),IF(MOD(H19,1)=0,TRUE(),FALSE())),FALSE()),FALSE()),FALSE())) -> TRUE
C20: Chemnitz | D20: =IF(C20>0,":","") -> : | E20: Heidelberg | F20: 97 | G20: =IF(ISNUMBER(F20),":","") -> : | H20: 88 | I20: 1.4 | K20: 2.9 | L20: 1 | M20: =IF(ISNUMBER(L20),IF(IF(F20>H20,1,"")=L20,I20,IF(IF(F20<H20,2,"")=L20,K20,IF(IF(F20=H20,0,"")=L20,J20,0))),"") -> 1.4 | N20: =IF(ISBLANK(F20),"",IF(ISNUMBER(F20),IF(AND(F20>=0,F20<250),IF($F20<>$H20,IF(F20=0,TRUE(),IF(MOD(F20,1)=0,TRUE(),FALSE())),FALSE()),FALSE()),FALSE())) -> TRUE | O20: =IF(ISBLANK(H20),"",IF(ISNUMBER(H20),IF(AND(H20>=0,H20<250),IF($F20<>$H20,IF(H20=0,TRUE(),IF(MOD(H20,1)=0,TRUE(),FALSE())),FALSE()),FALSE()),FALSE())) -> TRUE | P20: =SUM(M17:M20) -> 4.01
M21: =IF(ISNUMBER(L21),IF(IF(F21>H21,1,"")=L21,I21,IF(IF(F21<H21,2,"")=L21,K21,IF(IF(F21=H21,0,"")=L21,J21,0))),"") | N21: =IF(ISBLANK(F21),"",IF(ISNUMBER(F21),IF(AND(F21>=0,F21<250),IF($F21<>$H21,IF(F21=0,TRUE(),IF(MOD(F21,1)=0,TRUE(),FALSE())),FALSE()),FALSE()),FALSE())) | O21: =IF(ISBLANK(H21),"",IF(ISNUMBER(H21),IF(AND(H21>=0,H21<250),IF($F21<>$H21,IF(H21=0,TRUE(),IF(MOD(H21,1)=0,TRUE(),FALSE())),FALSE()),FALSE()),FALSE()))
B22: Spiel 4 | C22: Heidelberg | D22: =IF(C22>0,":","") -> : | E22: Chemnitz | F22: 92 | G22: =IF(ISNUMBER(F22),":","") -> : | H22: 64 | I22: 1.67 | K22: 2.15 | L22: 2 | M22: =IF(ISNUMBER(L22),IF(IF(F22>H22,1,"")=L22,I22,IF(IF(F22<H22,2,"")=L22,K22,IF(IF(F22=H22,0,"")=L22,J22,0))),"") -> 0 | N22: =IF(ISBLANK(F22),"",IF(ISNUMBER(F22),IF(AND(F22>=0,F22<250),IF($F22<>$H22,IF(F22=0,TRUE(),IF(MOD(F22,1)=0,TRUE(),FALSE())),FALSE()),FALSE()),FALSE())) -> TRUE | O22: =IF(ISBLANK(H22),"",IF(ISNUMBER(H22),IF(AND(H22>=0,H22<250),IF($F22<>$H22,IF(H22=0,TRUE(),IF(MOD(H22,1)=0,TRUE(),FALSE())),FALSE()),FALSE()),FALSE())) -> TRUE
C23: Würzburg | D23: =IF(C23>0,":","") -> : | E23: Braunschweig | F23: 79 | G23: =IF(ISNUMBER(F23),":","") -> : | H23: 72 | I23: 1.62 | K23: 2.25 | L23: 1 | M23: =IF(ISNUMBER(L23),IF(IF(F23>H23,1,"")=L23,I23,IF(IF(F23<H23,2,"")=L23,K23,IF(IF(F23=H23,0,"")=L23,J23,0))),"") -> 1.62 | N23: =IF(ISBLANK(F23),"",IF(ISNUMBER(F23),IF(AND(F23>=0,F23<250),IF($F23<>$H23,IF(F23=0,TRUE(),IF(MOD(F23,1)=0,TRUE(),FALSE())),FALSE()),FALSE()),FALSE())) -> TRUE | O23: =IF(ISBLANK(H23),"",IF(ISNUMBER(H23),IF(AND(H23>=0,H23<250),IF($F23<>$H23,IF(H23=0,TRUE(),IF(MOD(H23,1)=0,TRUE(),FALSE())),FALSE()),FALSE()),FALSE())) -> TRUE | P23: =SUM(M22:M23) -> 1.62
M24: =IF(ISNUMBER(L24),IF(IF(F24>H24,1,"")=L24,I24,IF(IF(F24<H24,2,"")=L24,K24,IF(IF(F24=H24,0,"")=L24,J24,0))),"") | N24: =IF(ISBLANK(F24),"",IF(ISNUMBER(F24),IF(AND(F24>=0,F24<250),IF($F24<>$H24,IF(F24=0,TRUE(),IF(MOD(F24,1)=0,TRUE(),FALSE())),FALSE()),FALSE()),FALSE())) | O24: =IF(ISBLANK(H24),"",IF(ISNUMBER(H24),IF(AND(H24>=0,H24<250),IF($F24<>$H24,IF(H24=0,TRUE(),IF(MOD(H24,1)=0,TRUE(),FALSE())),FALSE()),FALSE()),FALSE()))
B25: Spiel 5 | C25: Braunschweig | D25: =IF(C25>0,":","") -> : | E25: Würzburg | F25: 88 | G25: =IF(ISNUMBER(F25),":","") -> : | H25: 97 | I25: 1.55 | K25: 2.4 | L25: 2 | M25: =IF(ISNUMBER(L25),IF(IF(F25>H25,1,"")=L25,I25,IF(IF(F25<H25,2,"")=L25,K25,IF(IF(F25=H25,0,"")=L25,J25,0))),"") -> 2.4 | N25: =IF(ISBLANK(F25),"",IF(ISNUMBER(F25),IF(AND(F25>=0,F25<250),IF($F25<>$H25,IF(F25=0,TRUE(),IF(MOD(F25,1)=0,TRUE(),FALSE())),FALSE()),FALSE()),FALSE())) -> TRUE | O25: =IF(ISBLANK(H25),"",IF(ISNUMBER(H25),IF(AND(H25>=0,H25<250),IF($F25<>$H25,IF(H25=0,TRUE(),IF(MOD(H25,1)=0,TRUE(),FALSE())),FALSE()),FALSE()),FALSE())) -> TRUE | P25: =SUM(M25) -> 2.4
M26: =IF(ISNUMBER(L26),IF(IF(F26>H26,1,"")=L26,I26,IF(IF(F26<H26,2,"")=L26,K26,IF(IF(F26=H26,0,"")=L26,J26,0))),"") | N26: =IF(ISBLANK(F26),"",IF(ISNUMBER(F26),IF(AND(F26>=0,F26<250),IF($F26<>$H26,IF(F26=0,TRUE(),IF(MOD(F26,1)=0,TRUE(),FALSE())),FALSE()),FALSE()),FALSE())) | O26: =IF(ISBLANK(H26),"",IF(ISNUMBER(H26),IF(AND(H26>=0,H26<250),IF($F26<>$H26,IF(H26=0,TRUE(),IF(MOD(H26,1)=0,TRUE(),FALSE())),FALSE()),FALSE()),FALSE()))
B27: Playoffs | C27: Bayern | D27: =IF(C27>0,":","") -> : | E27: Heidelberg | F27: 90 | G27: =IF(ISNUMBER(F27),":","") -> : | H27: 95 | I27: 1.1 | K27: 6.5 | L27: 1 | M27: =IF(ISNUMBER(L27),IF(IF(F27>H27,1,"")=L27,I27,IF(IF(F27<H27,2,"")=L27,K27,IF(IF(F27=H27,0,"")=L27,J27,0))),"") -> 0 | N27: =IF(ISBLANK(F27),"",IF(ISNUMBER(F27),IF(AND(F27>=0,F27<250),IF($F27<>$H27,IF(F27=0,TRUE(),IF(MOD(F27,1)=0,TRUE(),FALSE())),FALSE()),FALSE()),FALSE())) -> TRUE | O27: =IF(ISBLANK(H27),"",IF(ISNUMBER(H27),IF(AND(H27>=0,H27<250),IF($F27<>$H27,IF(H27=0,TRUE(),IF(MOD(H27,1)=0,TRUE(),FALSE())),FALSE()),FALSE()),FALSE())) -> TRUE
B28: Halbfinale | C28: Ulm | D28: =IF(C28>0,":","") -> : | E28: Würzburg | F28: 91 | G28: =IF(ISNUMBER(F28),":","") -> : | H28: 87 | I28: 1.3 | K28: 3.4 | L28: 1 | M28: =IF(ISNUMBER(L28),IF(IF(F28>H28,1,"")=L28,I28,IF(IF(F28<H28,2,"")=L28,K28,IF(IF(F28=H28,0,"")=L28,J28,0))),"") -> 1.3 | N28: =IF(ISBLANK(F28),"",IF(ISNUMBER(F28),IF(AND(F28>=0,F28<250),IF($F28<>$H28,IF(F28=0,TRUE(),IF(MOD(F28,1)=0,TRUE(),FALSE())),FALSE()),FALSE()),FALSE())) -> TRUE | O28: =IF(ISBLANK(H28),"",IF(ISNUMBER(H28),IF(AND(H28>=0,H28<250),IF($F28<>$H28,IF(H28=0,TRUE(),IF(MOD(H28,1)=0,TRUE(),FALSE())),FALSE()),FALSE()),FALSE())) -> TRUE | P28: =SUM(M27:M28) -> 1.3
B29: Spiel 1 | D29: =IF(C29>0,":","") | M29: =IF(ISNUMBER(L29),IF(IF(F29>H29,1,"")=L29,I29,IF(IF(F29<H29,2,"")=L29,K29,IF(IF(F29=H29,0,"")=L29,J29,0))),"") | N29: =IF(ISBLANK(F29),"",IF(ISNUMBER(F29),IF(AND(F29>=0,F29<250),IF($F29<>$H29,IF(F29=0,TRUE(),IF(MOD(F29,1)=0,TRUE(),FALSE())),FALSE()),FALSE()),FALSE())) | O29: =IF(ISBLANK(H29),"",IF(ISNUMBER(H29),IF(AND(H29>=0,H29<250),IF($F29<>$H29,IF(H29=0,TRUE(),IF(MOD(H29,1)=0,TRUE(),FALSE())),FALSE()),FALSE()),FALSE()))
M30: =IF(ISNUMBER(L30),IF(IF(F30>H30,1,"")=L30,I30,IF(IF(F30<H30,2,"")=L30,K30,IF(IF(F30=H30,0,"")=L30,J30,0))),"") | N30: =IF(ISBLANK(F30),"",IF(ISNUMBER(F30),IF(AND(F30>=0,F30<250),IF($F30<>$H30,IF(F30=0,TRUE(),IF(MOD(F30,1)=0,TRUE(),FALSE())),FALSE()),FALSE()),FALSE())) | O30: =IF(ISBLANK(H30),"",IF(ISNUMBER(H30),IF(AND(H30>=0,H30<250),IF($F30<>$H30,IF(H30=0,TRUE(),IF(MOD(H30,1)=0,TRUE(),FALSE())),FALSE()),FALSE()),FALSE()))
B31: Spiel 2 | C31: Würzburg | D31: =IF(C31>0,":","") -> : | E31: Ulm | F31: 87 | G31: =IF(ISNUMBER(F31),":","") -> : | H31: 77 | I31: 2.05 | K31: 1.75 | L31: 2 | M31: =IF(ISNUMBER(L31),IF(IF(F31>H31,1,"")=L31,I31,IF(IF(F31<H31,2,"")=L31,K31,IF(IF(F31=H31,0,"")=L31,J31,0))),"") -> 0 | N31: =IF(ISBLANK(F31),"",IF(ISNUMBER(F31),IF(AND(F31>=0,F31<250),IF($F31<>$H31,IF(F31=0,TRUE(),IF(MOD(F31,1)=0,TRUE(),FALSE())),FALSE()),FALSE()),FALSE())) -> TRUE | O31: =IF(ISBLANK(H31),"",IF(ISNUMBER(H31),IF(AND(H31>=0,H31<250),IF($F31<>$H31,IF(H31=0,TRUE(),IF(MOD(H31,1)=0,TRUE(),FALSE())),FALSE()),FALSE()),FALSE())) -> TRUE
C32: Heidelberg | D32: =IF(C32>0,":","") -> : | E32: Bayern | F32: 61 | G32: =IF(ISNUMBER(F32),":","") -> : | H32: 90 | I32: 3.2 | K32: 1.33 | L32: 2 | M32: =IF(ISNUMBER(L32),IF(IF(F32>H32,1,"")=L32,I32,IF(IF(F32<H32,2,"")=L32,K32,IF(IF(F32=H32,0,"")=L32,J32,0))),"") -> 1.33 | N32: =IF(ISBLANK(F32),"",IF(ISNUMBER(F32),IF(AND(F32>=0,F32<250),IF($F32<>$H32,IF(F32=0,TRUE(),IF(MOD(F32,1)=0,TRUE(),FALSE())),FALSE()),FALSE()),FALSE())) -> TRUE | O32: =IF(ISBLANK(H32),"",IF(ISNUMBER(H32),IF(AND(H32>=0,H32<250),IF($F32<>$H32,IF(H32=0,TRUE(),IF(MOD(H32,1)=0,TRUE(),FALSE())),FALSE()),FALSE()),FALSE())) -> TRUE | P32: =SUM(M31:M32) -> 1.33
M33: =IF(ISNUMBER(L33),IF(IF(F33>H33,1,"")=L33,I33,IF(IF(F33<H33,2,"")=L33,K33,IF(IF(F33=H33,0,"")=L33,J33,0))),"") | N33: =IF(ISBLANK(F33),"",IF(ISNUMBER(F33),IF(AND(F33>=0,F33<250),IF($F33<>$H33,IF(F33=0,TRUE(),IF(MOD(F33,1)=0,TRUE(),FALSE())),FALSE()),FALSE()),FALSE())) | O33: =IF(ISBLANK(H33),"",IF(ISNUMBER(H33),IF(AND(H33>=0,H33<250),IF($F33<>$H33,IF(H33=0,TRUE(),IF(MOD(H33,1)=0,TRUE(),FALSE())),FALSE()),FALSE()),FALSE()))
B34: Spiel 3 | C34: Ulm | D34: =IF(C34>0,":","") -> : | E34: Würzburg | F34: 99 | G34: =IF(ISNUMBER(F34),":","") -> : | H34: 86 | I34: 1.3 | K34: 3.4 | L34: 1 | M34: =IF(ISNUMBER(L34),IF(IF(F34>H34,1,"")=L34,I34,IF(IF(F34<H34,2,"")=L34,K34,IF(IF(F34=H34,0,"")=L34,J34,0))),"") -> 1.3 | N34: =IF(ISBLANK(F34),"",IF(ISNUMBER(F34),IF(AND(F34>=0,F34<250),IF($F34<>$H34,IF(F34=0,TRUE(),IF(MOD(F34,1)=0,TRUE(),FALSE())),FALSE()),FALSE()),FALSE())) -> TRUE | O34: =IF(ISBLANK(H34),"",IF(ISNUMBER(H34),IF(AND(H34>=0,H34<250),IF($F34<>$H34,IF(H34=0,TRUE(),IF(MOD(H34,1)=0,TRUE(),FALSE())),FALSE()),FALSE()),FALSE())) -> TRUE
C35: Bayern | D35: =IF(C35>0,":","") -> : | E35: Heidelberg | F35: 98 | G35: =IF(ISNUMBER(F35),":","") -> : | H35: 68 | I35: 1.14 | K35: 5.5 | L35: 1 | M35: =IF(ISNUMBER(L35),IF(IF(F35>H35,1,"")=L35,I35,IF(IF(F35<H35,2,"")=L35,K35,IF(IF(F35=H35,0,"")=L35,J35,0))),"") -> 1.14 | N35: =IF(ISBLANK(F35),"",IF(ISNUMBER(F35),IF(AND(F35>=0,F35<250),IF($F35<>$H35,IF(F35=0,TRUE(),IF(MOD(F35,1)=0,TRUE(),FALSE())),FALSE()),FALSE()),FALSE())) -> TRUE | O35: =IF(ISBLANK(H35),"",IF(ISNUMBER(H35),IF(AND(H35>=0,H35<250),IF($F35<>$H35,IF(H35=0,TRUE(),IF(MOD(H35,1)=0,TRUE(),FALSE())),FALSE()),FALSE()),FALSE())) -> TRUE | P35: =SUM(M34:M35) -> 2.44
M36: =IF(ISNUMBER(L36),IF(IF(F36>H36,1,"")=L36,I36,IF(IF(F36<H36,2,"")=L36,K36,IF(IF(F36=H36,0,"")=L36,J36,0))),"") | N36: =IF(ISBLANK(F36),"",IF(ISNUMBER(F36),IF(AND(F36>=0,F36<250),IF($F36<>$H36,IF(F36=0,TRUE(),IF(MOD(F36,1)=0,TRUE(),FALSE())),FALSE()),FALSE()),FALSE())) | O36: =IF(ISBLANK(H36),"",IF(ISNUMBER(H36),IF(AND(H36>=0,H36<250),IF($F36<>$H36,IF(H36=0,TRUE(),IF(MOD(H36,1)=0,TRUE(),FALSE())),FALSE()),FALSE()),FALSE()))
B37: Spiel 4 | C37: Würzburg | D37: =IF(C37>0,":","") -> : | E37: Ulm | F37: 78 | G37: =IF(ISNUMBER(F37),":","") -> : | H37: 77 | I37: 2.2 | K37: 1.65 | L37: 2 | M37: =IF(ISNUMBER(L37),IF(IF(F37>H37,1,"")=L37,I37,IF(IF(F37<H37,2,"")=L37,K37,IF(IF(F37=H37,0,"")=L37,J37,0))),"") -> 0 | N37: =IF(ISBLANK(F37),"",IF(ISNUMBER(F37),IF(AND(F37>=0,F37<250),IF($F37<>$H37,IF(F37=0,TRUE(),IF(MOD(F37,1)=0,TRUE(),FALSE())),FALSE()),FALSE()),FALSE())) -> TRUE | O37: =IF(ISBLANK(H37),"",IF(ISNUMBER(H37),IF(AND(H37>=0,H37<250),IF($F37<>$H37,IF(H37=0,TRUE(),IF(MOD(H37,1)=0,TRUE(),FALSE())),FALSE()),FALSE()),FALSE())) -> TRUE
C38: Heidelberg | D38: =IF(C38>0,":","") -> : | E38: Bayern | F38: 82 | G38: =IF(ISNUMBER(F38),":","") -> : | H38: 94 | I38: 3.8 | K38: 1.25 | L38: 2 | M38: =IF(ISNUMBER(L38),IF(IF(F38>H38,1,"")=L38,I38,IF(IF(F38<H38,2,"")=L38,K38,IF(IF(F38=H38,0,"")=L38,J38,0))),"") -> 1.25 | N38: =IF(ISBLANK(F38),"",IF(ISNUMBER(F38),IF(AND(F38>=0,F38<250),IF($F38<>$H38,IF(F38=0,TRUE(),IF(MOD(F38,1)=0,TRUE(),FALSE())),FALSE()),FALSE()),FALSE())) -> TRUE | O38: =IF(ISBLANK(H38),"",IF(ISNUMBER(H38),IF(AND(H38>=0,H38<250),IF($F38<>$H38,IF(H38=0,TRUE(),IF(MOD(H38,1)=0,TRUE(),FALSE())),FALSE()),FALSE()),FALSE())) -> TRUE | P38: =SUM(M37:M38) -> 1.25
M39: =IF(ISNUMBER(L39),IF(IF(F39>H39,1,"")=L39,I39,IF(IF(F39<H39,2,"")=L39,K39,IF(IF(F39=H39,0,"")=L39,J39,0))),"") | N39: =IF(ISBLANK(F39),"",IF(ISNUMBER(F39),IF(AND(F39>=0,F39<250),IF($F39<>$H39,IF(F39=0,TRUE(),IF(MOD(F39,1)=0,TRUE(),FALSE())),FALSE()),FALSE()),FALSE())) | O39: =IF(ISBLANK(H39),"",IF(ISNUMBER(H39),IF(AND(H39>=0,H39<250),IF($F39<>$H39,IF(H39=0,TRUE(),IF(MOD(H39,1)=0,TRUE(),FALSE())),FALSE()),FALSE()),FALSE()))
B40: Spiel 5 | C40: Ulm | D40: =IF(C40>0,":","") -> : | E40: Würzburg | F40: 91 | G40: =IF(ISNUMBER(F40),":","") -> : | H40: 84 | I40: 1.35 | K40: 3.1 | L40: 1 | M40: =IF(ISNUMBER(L40),IF(IF(F40>H40,1,"")=L40,I40,IF(IF(F40<H40,2,"")=L40,K40,IF(IF(F40=H40,0,"")=L40,J40,0))),"") -> 1.35 | N40: =IF(ISBLANK(F40),"",IF(ISNUMBER(F40),IF(AND(F40>=0,F40<250),IF($F40<>$H40,IF(F40=0,TRUE(),IF(MOD(F40,1)=0,TRUE(),FALSE())),FALSE()),FALSE()),FALSE())) -> TRUE | O40: =IF(ISBLANK(H40),"",IF(ISNUMBER(H40),IF(AND(H40>=0,H40<250),IF($F40<>$H40,IF(H40=0,TRUE(),IF(MOD(H40,1)=0,TRUE(),FALSE())),FALSE()),FALSE()),FALSE())) -> TRUE | P40: =SUM(M40) -> 1.35
M41: =IF(ISNUMBER(L41),IF(IF(F41>H41,1,"")=L41,I41,IF(IF(F41<H41,2,"")=L41,K41,IF(IF(F41=H41,0,"")=L41,J41,0))),"") | N41: =IF(ISBLANK(F41),"",IF(ISNUMBER(F41),IF(AND(F41>=0,F41<250),IF($F41<>$H41,IF(F41=0,TRUE(),IF(MOD(F41,1)=0,TRUE(),FALSE())),FALSE()),FALSE()),FALSE())) | O41: =IF(ISBLANK(H41),"",IF(ISNUMBER(H41),IF(AND(H41>=0,H41<250),IF($F41<>$H41,IF(H41=0,TRUE(),IF(MOD(H41,1)=0,TRUE(),FALSE())),FALSE()),FALSE()),FALSE()))
B42: Finale | D42: =IF(C42>0,":","") | M42: =IF(ISNUMBER(L42),IF(IF(F42>H42,1,"")=L42,I42,IF(IF(F42<H42,2,"")=L42,K42,IF(IF(F42=H42,0,"")=L42,J42,0))),"") | N42: =IF(ISBLANK(F42),"",IF(ISNUMBER(F42),IF(AND(F42>=0,F42<250),IF($F42<>$H42,IF(F42=0,TRUE(),IF(MOD(F42,1)=0,TRUE(),FALSE())),FALSE()),FALSE()),FALSE())) | O42: =IF(ISBLANK(H42),"",IF(ISNUMBER(H42),IF(AND(H42>=0,H42<250),IF($F42<>$H42,IF(H42=0,TRUE(),IF(MOD(H42,1)=0,TRUE(),FALSE())),FALSE()),FALSE()),FALSE()))
B43: Spiel 1 | C43: Bayern | D43: =IF(C43>0,":","") -> : | E43: Ulm | F43: 82 | G43: =IF(ISNUMBER(F43),":","") -> : | H43: 66 | I43: 1.25 | K43: 3.8 | L43: 2 | M43: =IF(ISNUMBER(L43),IF(IF(F43>H43,1,"")=L43,I43,IF(IF(F43<H43,2,"")=L43,K43,IF(IF(F43=H43,0,"")=L43,J43,0))),"") -> 0 | N43: =IF(ISBLANK(F43),"",IF(ISNUMBER(F43),IF(AND(F43>=0,F43<250),IF($F43<>$H43,IF(F43=0,TRUE(),IF(MOD(F43,1)=0,TRUE(),FALSE())),FALSE()),FALSE()),FALSE())) -> TRUE | O43: =IF(ISBLANK(H43),"",IF(ISNUMBER(H43),IF(AND(H43>=0,H43<250),IF($F43<>$H43,IF(H43=0,TRUE(),IF(MOD(H43,1)=0,TRUE(),FALSE())),FALSE()),FALSE()),FALSE())) -> TRUE | P43: =SUM(M43) -> 0
D44: =IF(C44>0,":","") | M44: =IF(ISNUMBER(L44),IF(IF(F44>H44,1,"")=L44,I44,IF(IF(F44<H44,2,"")=L44,K44,IF(IF(F44=H44,0,"")=L44,J44,0))),"") | N44: =IF(ISBLANK(F44),"",IF(ISNUMBER(F44),IF(AND(F44>=0,F44<250),IF($F44<>$H44,IF(F44=0,TRUE(),IF(MOD(F44,1)=0,TRUE(),FALSE())),FALSE()),FALSE()),FALSE())) | O44: =IF(ISBLANK(H44),"",IF(ISNUMBER(H44),IF(AND(H44>=0,H44<250),IF($F44<>$H44,IF(H44=0,TRUE(),IF(MOD(H44,1)=0,TRUE(),FALSE())),FALSE()),FALSE()),FALSE()))
B45: Spiel 2 | C45: Ulm | D45: =IF(C45>0,":","") -> : | E45: Bayern | F45: 79 | G45: =IF(ISNUMBER(F45),":","") -> : | H45: 64 | I45: 2.1 | K45: 1.72 | L45: 1 | M45: =IF(ISNUMBER(L45),IF(IF(F45>H45,1,"")=L45,I45,IF(IF(F45<H45,2,"")=L45,K45,IF(IF(F45=H45,0,"")=L45,J45,0))),"") -> 2.1 | N45: =IF(ISBLANK(F45),"",IF(ISNUMBER(F45),IF(AND(F45>=0,F45<250),IF($F45<>$H45,IF(F45=0,TRUE(),IF(MOD(F45,1)=0,TRUE(),FALSE())),FALSE()),FALSE()),FALSE())) -> TRUE | O45: =IF(ISBLANK(H45),"",IF(ISNUMBER(H45),IF(AND(H45>=0,H45<250),IF($F45<>$H45,IF(H45=0,TRUE(),IF(MOD(H45,1)=0,TRUE(),FALSE())),FALSE()),FALSE()),FALSE())) -> TRUE | P45: =SUM(M45) -> 2.1
D46: =IF(C46>0,":","") | M46: =IF(ISNUMBER(L46),IF(IF(F46>H46,1,"")=L46,I46,IF(IF(F46<H46,2,"")=L46,K46,IF(IF(F46=H46,0,"")=L46,J46,0))),"") | N46: =IF(ISBLANK(F46),"",IF(ISNUMBER(F46),IF(AND(F46>=0,F46<250),IF($F46<>$H46,IF(F46=0,TRUE(),IF(MOD(F46,1)=0,TRUE(),FALSE())),FALSE()),FALSE()),FALSE())) | O46: =IF(ISBLANK(H46),"",IF(ISNUMBER(H46),IF(AND(H46>=0,H46<250),IF($F46<>$H46,IF(H46=0,TRUE(),IF(MOD(H46,1)=0,TRUE(),FALSE())),FALSE()),FALSE()),FALSE()))
B47: Spiel 3 | C47: Bayern | D47: =IF(C47>0,":","") -> : | E47: Ulm | F47: 79 | G47: =IF(ISNUMBER(F47),":","") -> : | H47: 81 | I47: 1.3 | K47: 3.4 | L47: 2 | M47: =IF(ISNUMBER(L47),IF(IF(F47>H47,1,"")=L47,I47,IF(IF(F47<H47,2,"")=L47,K47,IF(IF(F47=H47,0,"")=L47,J47,0))),"") -> 3.4 | N47: =IF(ISBLANK(F47),"",IF(ISNUMBER(F47),IF(AND(F47>=0,F47<250),IF($F47<>$H47,IF(F47=0,TRUE(),IF(MOD(F47,1)=0,TRUE(),FALSE())),FALSE()),FALSE()),FALSE())) -> TRUE | O47: =IF(ISBLANK(H47),"",IF(ISNUMBER(H47),IF(AND(H47>=0,H47<250),IF($F47<>$H47,IF(H47=0,TRUE(),IF(MOD(H47,1)=0,TRUE(),FALSE())),FALSE()),FALSE()),FALSE())) -> TRUE | P47: =SUM(M47) -> 3.4
M48: =IF(ISNUMBER(L48),IF(IF(F48>H48,1,"")=L48,I48,IF(IF(F48<H48,2,"")=L48,K48,IF(IF(F48=H48,0,"")=L48,J48,0))),"") | N48: =IF(ISBLANK(F48),"",IF(ISNUMBER(F48),IF(AND(F48>=0,F48<250),IF($F48<>$H48,IF(F48=0,TRUE(),IF(MOD(F48,1)=0,TRUE(),FALSE())),FALSE()),FALSE()),FALSE())) | O48: =IF(ISBLANK(H48),"",IF(ISNUMBER(H48),IF(AND(H48>=0,H48<250),IF($F48<>$H48,IF(H48=0,TRUE(),IF(MOD(H48,1)=0,TRUE(),FALSE())),FALSE()),FALSE()),FALSE()))
B49: Spiel 4 | C49: Ulm | D49: =IF(C49>0,":","") -> : | E49: Bayern | F49: 53 | G49: =IF(ISNUMBER(F49),":","") -> : | H49: 67 | I49: 2.05 | K49: 1.75 | L49: 1 | M49: =IF(ISNUMBER(L49),IF(IF(F49>H49,1,"")=L49,I49,IF(IF(F49<H49,2,"")=L49,K49,IF(IF(F49=H49,0,"")=L49,J49,0))),"") -> 0 | N49: =IF(ISBLANK(F49),"",IF(ISNUMBER(F49),IF(AND(F49>=0,F49<250),IF($F49<>$H49,IF(F49=0,TRUE(),IF(MOD(F49,1)=0,TRUE(),FALSE())),FALSE()),FALSE()),FALSE())) -> TRUE | O49: =IF(ISBLANK(H49),"",IF(ISNUMBER(H49),IF(AND(H49>=0,H49<250),IF($F49<>$H49,IF(H49=0,TRUE(),IF(MOD(H49,1)=0,TRUE(),FALSE())),FALSE()),FALSE()),FALSE())) -> TRUE | P49: =SUM(M49) -> 0
M50: =IF(ISNUMBER(L50),IF(IF(F50>H50,1,"")=L50,I50,IF(IF(F50<H50,2,"")=L50,K50,IF(IF(F50=H50,0,"")=L50,J50,0))),"") | N50: =IF(ISBLANK(F50),"",IF(ISNUMBER(F50),IF(AND(F50>=0,F50<250),IF($F50<>$H50,IF(F50=0,TRUE(),IF(MOD(F50,1)=0,TRUE(),FALSE())),FALSE()),FALSE()),FALSE())) | O50: =IF(ISBLANK(H50),"",IF(ISNUMBER(H50),IF(AND(H50>=0,H50<250),IF($F50<>$H50,IF(H50=0,TRUE(),IF(MOD(H50,1)=0,TRUE(),FALSE())),FALSE()),FALSE()),FALSE()))
B51: Spiel 5 | C51: Bayern | D51: =IF(C51>0,":","") -> : | E51: Ulm | F51: 81 | H51: 77 | I51: 1.25 | K51: 3.8 | L51: 2 | M51: =IF(ISNUMBER(L51),IF(IF(F51>H51,1,"")=L51,I51,IF(IF(F51<H51,2,"")=L51,K51,IF(IF(F51=H51,0,"")=L51,J51,0))),"") -> 0 | N51: =IF(ISBLANK(F51),"",IF(ISNUMBER(F51),IF(AND(F51>=0,F51<250),IF($F51<>$H51,IF(F51=0,TRUE(),IF(MOD(F51,1)=0,TRUE(),FALSE())),FALSE()),FALSE()),FALSE())) -> TRUE | O51: =IF(ISBLANK(H51),"",IF(ISNUMBER(H51),IF(AND(H51>=0,H51<250),IF($F51<>$H51,IF(H51=0,TRUE(),IF(MOD(H51,1)=0,TRUE(),FALSE())),FALSE()),FALSE()),FALSE())) -> TRUE | P51: =SUM(M51) -> 0
M52: =IF(ISNUMBER(L52),IF(IF(F52>H52,1,"")=L52,I52,IF(IF(F52<H52,2,"")=L52,K52,IF(IF(F52=H52,0,"")=L52,J52,0))),"") | N52: =IF(ISBLANK(F52),"",IF(ISNUMBER(F52),IF(AND(F52>=0,F52<250),IF($F52<>$H52,IF(F52=0,TRUE(),IF(MOD(F52,1)=0,TRUE(),FALSE())),FALSE()),FALSE()),FALSE())) | O52: =IF(ISBLANK(H52),"",IF(ISNUMBER(H52),IF(AND(H52>=0,H52<250),IF($F52<>$H52,IF(H52=0,TRUE(),IF(MOD(H52,1)=0,TRUE(),FALSE())),FALSE()),FALSE()),FALSE()))
M53: =IF(ISNUMBER(L53),IF(IF(F53>H53,1,"")=L53,I53,IF(IF(F53<H53,2,"")=L53,K53,IF(IF(F53=H53,0,"")=L53,J53,0))),"") | N53: =IF(ISBLANK(F53),"",IF(ISNUMBER(F53),IF(AND(F53>=0,F53<250),IF($F53<>$H53,IF(F53=0,TRUE(),IF(MOD(F53,1)=0,TRUE(),FALSE())),FALSE()),FALSE()),FALSE())) | O53: =IF(ISBLANK(H53),"",IF(ISNUMBER(H53),IF(AND(H53>=0,H53<250),IF($F53<>$H53,IF(H53=0,TRUE(),IF(MOD(H53,1)=0,TRUE(),FALSE())),FALSE()),FALSE()),FALSE()))
M54: =IF(ISNUMBER(L54),IF(IF(F54>H54,1,"")=L54,I54,IF(IF(F54<H54,2,"")=L54,K54,IF(IF(F54=H54,0,"")=L54,J54,0))),"") | N54: =IF(ISBLANK(F54),"",IF(ISNUMBER(F54),IF(AND(F54>=0,F54<250),IF($F54<>$H54,IF(F54=0,TRUE(),IF(MOD(F54,1)=0,TRUE(),FALSE())),FALSE()),FALSE()),FALSE())) | O54: =IF(ISBLANK(H54),"",IF(ISNUMBER(H54),IF(AND(H54>=0,H54<250),IF($F54<>$H54,IF(H54=0,TRUE(),IF(MOD(H54,1)=0,TRUE(),FALSE())),FALSE()),FALSE()),FALSE()))
M55: =IF(ISNUMBER(L55),IF(IF(F55>H55,1,"")=L55,I55,IF(IF(F55<H55,2,"")=L55,K55,IF(IF(F55=H55,0,"")=L55,J55,0))),"") | N55: =IF(ISBLANK(F55),"",IF(ISNUMBER(F55),IF(AND(F55>=0,F55<250),IF($F55<>$H55,IF(F55=0,TRUE(),IF(MOD(F55,1)=0,TRUE(),FALSE())),FALSE()),FALSE()),FALSE())) | O55: =IF(ISBLANK(H55),"",IF(ISNUMBER(H55),IF(AND(H55>=0,H55<250),IF($F55<>$H55,IF(H55=0,TRUE(),IF(MOD(H55,1)=0,TRUE(),FALSE())),FALSE()),FALSE()),FALSE()))
M56: =IF(ISNUMBER(L56),IF(IF(F56>H56,1,"")=L56,I56,IF(IF(F56<H56,2,"")=L56,K56,IF(IF(F56=H56,0,"")=L56,J56,0))),"") | N56: =IF(ISBLANK(F56),"",IF(ISNUMBER(F56),IF(AND(F56>=0,F56<250),IF($F56<>$H56,IF(F56=0,TRUE(),IF(MOD(F56,1)=0,TRUE(),FALSE())),FALSE()),FALSE()),FALSE())) | O56: =IF(ISBLANK(H56),"",IF(ISNUMBER(H56),IF(AND(H56>=0,H56<250),IF($F56<>$H56,IF(H56=0,TRUE(),IF(MOD(H56,1)=0,TRUE(),FALSE())),FALSE()),FALSE()),FALSE()))
M57: =IF(ISNUMBER(L57),IF(IF(F57>H57,1,"")=L57,I57,IF(IF(F57<H57,2,"")=L57,K57,IF(IF(F57=H57,0,"")=L57,J57,0))),"") | N57: =IF(ISBLANK(F57),"",IF(ISNUMBER(F57),IF(AND(F57>=0,F57<250),IF($F57<>$H57,IF(F57=0,TRUE(),IF(MOD(F57,1)=0,TRUE(),FALSE())),FALSE()),FALSE()),FALSE())) | O57: =IF(ISBLANK(H57),"",IF(ISNUMBER(H57),IF(AND(H57>=0,H57<250),IF($F57<>$H57,IF(H57=0,TRUE(),IF(MOD(H57,1)=0,TRUE(),FALSE())),FALSE()),FALSE()),FALSE()))
M58: =IF(ISNUMBER(L58),IF(IF(F58>H58,1,"")=L58,I58,IF(IF(F58<H58,2,"")=L58,K58,IF(IF(F58=H58,0,"")=L58,J58,0))),"") | N58: =IF(ISBLANK(F58),"",IF(ISNUMBER(F58),IF(AND(F58>=0,F58<250),IF($F58<>$H58,IF(F58=0,TRUE(),IF(MOD(F58,1)=0,TRUE(),FALSE())),FALSE()),FALSE()),FALSE())) | O58: =IF(ISBLANK(H58),"",IF(ISNUMBER(H58),IF(AND(H58>=0,H58<250),IF($F58<>$H58,IF(H58=0,TRUE(),IF(MOD(H58,1)=0,TRUE(),FALSE())),FALSE()),FALSE()),FALSE()))
M59: =IF(ISNUMBER(L59),IF(IF(F59>H59,1,"")=L59,I59,IF(IF(F59<H59,2,"")=L59,K59,IF(IF(F59=H59,0,"")=L59,J59,0))),"") | N59: =IF(ISBLANK(F59),"",IF(ISNUMBER(F59),IF(AND(F59>=0,F59<250),IF($F59<>$H59,IF(F59=0,TRUE(),IF(MOD(F59,1)=0,TRUE(),FALSE())),FALSE()),FALSE()),FALSE())) | O59: =IF(ISBLANK(H59),"",IF(ISNUMBER(H59),IF(AND(H59>=0,H59<250),IF($F59<>$H59,IF(H59=0,TRUE(),IF(MOD(H59,1)=0,TRUE(),FALSE())),FALSE()),FALSE()),FALSE()))
M60: =IF(ISNUMBER(L60),IF(IF(F60>H60,1,"")=L60,I60,IF(IF(F60<H60,2,"")=L60,K60,IF(IF(F60=H60,0,"")=L60,J60,0))),"") | N60: =IF(ISBLANK(F60),"",IF(ISNUMBER(F60),IF(AND(F60>=0,F60<250),IF($F60<>$H60,IF(F60=0,TRUE(),IF(MOD(F60,1)=0,TRUE(),FALSE())),FALSE()),FALSE()),FALSE())) | O60: =IF(ISBLANK(H60),"",IF(ISNUMBER(H60),IF(AND(H60>=0,H60<250),IF($F60<>$H60,IF(H60=0,TRUE(),IF(MOD(H60,1)=0,TRUE(),FALSE())),FALSE()),FALSE()),FALSE()))
M61: =IF(ISNUMBER(L61),IF(IF(F61>H61,1,"")=L61,I61,IF(IF(F61<H61,2,"")=L61,K61,IF(IF(F61=H61,0,"")=L61,J61,0))),"") | N61: =IF(ISBLANK(F61),"",IF(ISNUMBER(F61),IF(AND(F61>=0,F61<250),IF($F61<>$H61,IF(F61=0,TRUE(),IF(MOD(F61,1)=0,TRUE(),FALSE())),FALSE()),FALSE()),FALSE())) | O61: =IF(ISBLANK(H61),"",IF(ISNUMBER(H61),IF(AND(H61>=0,H61<250),IF($F61<>$H61,IF(H61=0,TRUE(),IF(MOD(H61,1)=0,TRUE(),FALSE())),FALSE()),FALSE()),FALSE()))
M62: =IF(ISNUMBER(L62),IF(IF(F62>H62,1,"")=L62,I62,IF(IF(F62<H62,2,"")=L62,K62,IF(IF(F62=H62,0,"")=L62,J62,0))),"") | N62: =IF(ISBLANK(F62),"",IF(ISNUMBER(F62),IF(AND(F62>=0,F62<250),IF($F62<>$H62,IF(F62=0,TRUE(),IF(MOD(F62,1)=0,TRUE(),FALSE())),FALSE()),FALSE()),FALSE())) | O62: =IF(ISBLANK(H62),"",IF(ISNUMBER(H62),IF(AND(H62>=0,H62<250),IF($F62<>$H62,IF(H62=0,TRUE(),IF(MOD(H62,1)=0,TRUE(),FALSE())),FALSE()),FALSE()),FALSE()))
M63: =IF(ISNUMBER(L63),IF(IF(F63>H63,1,"")=L63,I63,IF(IF(F63<H63,2,"")=L63,K63,IF(IF(F63=H63,0,"")=L63,J63,0))),"") | N63: =IF(ISBLANK(F63),"",IF(ISNUMBER(F63),IF(AND(F63>=0,F63<250),IF($F63<>$H63,IF(F63=0,TRUE(),IF(MOD(F63,1)=0,TRUE(),FALSE())),FALSE()),FALSE()),FALSE())) | O63: =IF(ISBLANK(H63),"",IF(ISNUMBER(H63),IF(AND(H63>=0,H63<250),IF($F63<>$H63,IF(H63=0,TRUE(),IF(MOD(H63,1)=0,TRUE(),FALSE())),FALSE()),FALSE()),FALSE()))
... M79: =IF(ISNUMBER(L79),IF(IF(F79>H79,1,"")=L79,I79,IF(IF(F79<H79,2,"")=L79,K79,IF(IF(F79=H79,0,"")=L79,J79,0))),"") | N79: =IF(ISBLANK(F79),"",IF(ISNUMBER(F79),IF(AND(F79>=0,F79<250),IF($F79<>$H79,IF(F79=0,TRUE(),IF(MOD(F79,1)=0,TRUE(),FALSE())),FALSE()),FALSE()),FALSE())) | O79: =IF(ISBLANK(H79),"",IF(ISNUMBER(H79),IF(AND(H79>=0,H79<250),IF($F79<>$H79,IF(H79=0,TRUE(),IF(MOD(H79,1)=0,TRUE(),FALSE())),FALSE()),FALSE()),FALSE()))
D80: =IF(C80>0,":","") | G80: =IF(ISNUMBER(F80),":","") | M80: =IF(ISNUMBER(L80),IF(IF(F80>H80,1,"")=L80,I80,IF(IF(F80<H80,2,"")=L80,K80,IF(IF(F80=H80,0,"")=L80,J80,0))),"") | N80: =IF(ISBLANK(F80),"",IF(ISNUMBER(F80),IF(AND(F80>=0,F80<250),IF($F80<>$H80,IF(F80=0,TRUE(),IF(MOD(F80,1)=0,TRUE(),FALSE())),FALSE()),FALSE()),FALSE())) | O80: =IF(ISBLANK(H80),"",IF(ISNUMBER(H80),IF(AND(H80>=0,H80<250),IF($F80<>$H80,IF(H80=0,TRUE(),IF(MOD(H80,1)=0,TRUE(),FALSE())),FALSE()),FALSE()),FALSE()))
D81: =IF(C81>0,":","") | G81: =IF(ISNUMBER(F81),":","") | M81: =IF(ISNUMBER(L81),IF(IF(F81>H81,1,"")=L81,I81,IF(IF(F81<H81,2,"")=L81,K81,IF(IF(F81=H81,0,"")=L81,J81,0))),"") | N81: =IF(ISBLANK(F81),"",IF(ISNUMBER(F81),IF(AND(F81>=0,F81<250),IF($F81<>$H81,IF(F81=0,TRUE(),IF(MOD(F81,1)=0,TRUE(),FALSE())),FALSE()),FALSE()),FALSE())) | O81: =IF(ISBLANK(H81),"",IF(ISNUMBER(H81),IF(AND(H81>=0,H81<250),IF($F81<>$H81,IF(H81=0,TRUE(),IF(MOD(H81,1)=0,TRUE(),FALSE())),FALSE()),FALSE()),FALSE()))
D82: =IF(C82>0,":","") | G82: =IF(ISNUMBER(F82),":","") | M82: =IF(ISNUMBER(L82),IF(IF(F82>H82,1,"")=L82,I82,IF(IF(F82<H82,2,"")=L82,K82,IF(IF(F82=H82,0,"")=L82,J82,0))),"") | N82: =IF(ISBLANK(F82),"",IF(ISNUMBER(F82),IF(AND(F82>=0,F82<250),IF($F82<>$H82,IF(F82=0,TRUE(),IF(MOD(F82,1)=0,TRUE(),FALSE())),FALSE()),FALSE()),FALSE())) | O82: =IF(ISBLANK(H82),"",IF(ISNUMBER(H82),IF(AND(H82>=0,H82<250),IF($F82<>$H82,IF(H82=0,TRUE(),IF(MOD(H82,1)=0,TRUE(),FALSE())),FALSE()),FALSE()),FALSE()))
D83: =IF(C83>0,":","") | G83: =IF(ISNUMBER(F83),":","") | M83: =IF(ISNUMBER(L83),IF(IF(F83>H83,1,"")=L83,I83,IF(IF(F83<H83,2,"")=L83,K83,IF(IF(F83=H83,0,"")=L83,J83,0))),"") | N83: =IF(ISBLANK(F83),"",IF(ISNUMBER(F83),IF(AND(F83>=0,F83<250),IF($F83<>$H83,IF(F83=0,TRUE(),IF(MOD(F83,1)=0,TRUE(),FALSE())),FALSE()),FALSE()),FALSE())) | O83: =IF(ISBLANK(H83),"",IF(ISNUMBER(H83),IF(AND(H83>=0,H83<250),IF($F83<>$H83,IF(H83=0,TRUE(),IF(MOD(H83,1)=0,TRUE(),FALSE())),FALSE()),FALSE()),FALSE()))
D84: =IF(C84>0,":","") | G84: =IF(ISNUMBER(F84),":","") | M84: =IF(ISNUMBER(L84),IF(IF(F84>H84,1,"")=L84,I84,IF(IF(F84<H84,2,"")=L84,K84,IF(IF(F84=H84,0,"")=L84,J84,0))),"") | N84: =IF(ISBLANK(F84),"",IF(ISNUMBER(F84),IF(AND(F84>=0,F84<250),IF($F84<>$H84,IF(F84=0,TRUE(),IF(MOD(F84,1)=0,TRUE(),FALSE())),FALSE()),FALSE()),FALSE())) | O84: =IF(ISBLANK(H84),"",IF(ISNUMBER(H84),IF(AND(H84>=0,H84<250),IF($F84<>$H84,IF(H84=0,TRUE(),IF(MOD(H84,1)=0,TRUE(),FALSE())),FALSE()),FALSE()),FALSE()))
D85: =IF(C85>0,":","") | G85: =IF(ISNUMBER(F85),":","") | M85: =IF(ISNUMBER(L85),IF(IF(F85>H85,1,"")=L85,I85,IF(IF(F85<H85,2,"")=L85,K85,IF(IF(F85=H85,0,"")=L85,J85,0))),"") | N85: =IF(ISBLANK(F85),"",IF(ISNUMBER(F85),IF(AND(F85>=0,F85<250),IF($F85<>$H85,IF(F85=0,TRUE(),IF(MOD(F85,1)=0,TRUE(),FALSE())),FALSE()),FALSE()),FALSE())) | O85: =IF(ISBLANK(H85),"",IF(ISNUMBER(H85),IF(AND(H85>=0,H85<250),IF($F85<>$H85,IF(H85=0,TRUE(),IF(MOD(H85,1)=0,TRUE(),FALSE())),FALSE()),FALSE()),FALSE()))
D86: =IF(C86>0,":","") | G86: =IF(ISNUMBER(F86),":","") | M86: =IF(ISNUMBER(L86),IF(IF(F86>H86,1,"")=L86,I86,IF(IF(F86<H86,2,"")=L86,K86,IF(IF(F86=H86,0,"")=L86,J86,0))),"") | N86: =IF(ISBLANK(F86),"",IF(ISNUMBER(F86),IF(AND(F86>=0,F86<250),IF($F86<>$H86,IF(F86=0,TRUE(),IF(MOD(F86,1)=0,TRUE(),FALSE())),FALSE()),FALSE()),FALSE())) | O86: =IF(ISBLANK(H86),"",IF(ISNUMBER(H86),IF(AND(H86>=0,H86<250),IF($F86<>$H86,IF(H86=0,TRUE(),IF(MOD(H86,1)=0,TRUE(),FALSE())),FALSE()),FALSE()),FALSE()))
D87: =IF(C87>0,":","") | G87: =IF(ISNUMBER(F87),":","") | M87: =IF(ISNUMBER(L87),IF(IF(F87>H87,1,"")=L87,I87,IF(IF(F87<H87,2,"")=L87,K87,IF(IF(F87=H87,0,"")=L87,J87,0))),"") | N87: =IF(ISBLANK(F87),"",IF(ISNUMBER(F87),IF(AND(F87>=0,F87<250),IF($F87<>$H87,IF(F87=0,TRUE(),IF(MOD(F87,1)=0,TRUE(),FALSE())),FALSE()),FALSE()),FALSE())) | O87: =IF(ISBLANK(H87),"",IF(ISNUMBER(H87),IF(AND(H87>=0,H87<250),IF($F87<>$H87,IF(H87=0,TRUE(),IF(MOD(H87,1)=0,TRUE(),FALSE())),FALSE()),FALSE()),FALSE()))
D88: =IF(C88>0,":","") | G88: =IF(ISNUMBER(F88),":","") | M88: =IF(ISNUMBER(L88),IF(IF(F88>H88,1,"")=L88,I88,IF(IF(F88<H88,2,"")=L88,K88,IF(IF(F88=H88,0,"")=L88,J88,0))),"") | N88: =IF(ISBLANK(F88),"",IF(ISNUMBER(F88),IF(AND(F88>=0,F88<250),IF($F88<>$H88,IF(F88=0,TRUE(),IF(MOD(F88,1)=0,TRUE(),FALSE())),FALSE()),FALSE()),FALSE())) | O88: =IF(ISBLANK(H88),"",IF(ISNUMBER(H88),IF(AND(H88>=0,H88<250),IF($F88<>$H88,IF(H88=0,TRUE(),IF(MOD(H88,1)=0,TRUE(),FALSE())),FALSE()),FALSE()),FALSE()))
D89: =IF(C89>0,":","") | G89: =IF(ISNUMBER(F89),":","") | M89: =IF(ISNUMBER(L89),IF(IF(F89>H89,1,"")=L89,I89,IF(IF(F89<H89,2,"")=L89,K89,IF(IF(F89=H89,0,"")=L89,J89,0))),"") | N89: =IF(ISBLANK(F89),"",IF(ISNUMBER(F89),IF(AND(F89>=0,F89<250),IF($F89<>$H89,IF(F89=0,TRUE(),IF(MOD(F89,1)=0,TRUE(),FALSE())),FALSE()),FALSE()),FALSE())) | O89: =IF(ISBLANK(H89),"",IF(ISNUMBER(H89),IF(AND(H89>=0,H89<250),IF($F89<>$H89,IF(H89=0,TRUE(),IF(MOD(H89,1)=0,TRUE(),FALSE())),FALSE()),FALSE()),FALSE()))
D90: =IF(C90>0,":","") | G90: =IF(ISNUMBER(F90),":","") | M90: =IF(ISNUMBER(L90),IF(IF(F90>H90,1,"")=L90,I90,IF(IF(F90<H90,2,"")=L90,K90,IF(IF(F90=H90,0,"")=L90,J90,0))),"") | N90: =IF(ISBLANK(F90),"",IF(ISNUMBER(F90),IF(AND(F90>=0,F90<250),IF($F90<>$H90,IF(F90=0,TRUE(),IF(MOD(F90,1)=0,TRUE(),FALSE())),FALSE()),FALSE()),FALSE())) | O90: =IF(ISBLANK(H90),"",IF(ISNUMBER(H90),IF(AND(H90>=0,H90<250),IF($F90<>$H90,IF(H90=0,TRUE(),IF(MOD(H90,1)=0,TRUE(),FALSE())),FALSE()),FALSE()),FALSE()))
D91: =IF(C91>0,":","") | G91: =IF(ISNUMBER(F91),":","") | M91: =IF(ISNUMBER(L91),IF(IF(F91>H91,1,"")=L91,I91,IF(IF(F91<H91,2,"")=L91,K91,IF(IF(F91=H91,0,"")=L91,J91,0))),"") | N91: =IF(ISBLANK(F91),"",IF(ISNUMBER(F91),IF(AND(F91>=0,F91<250),IF($F91<>$H91,IF(F91=0,TRUE(),IF(MOD(F91,1)=0,TRUE(),FALSE())),FALSE()),FALSE()),FALSE())) | O91: =IF(ISBLANK(H91),"",IF(ISNUMBER(H91),IF(AND(H91>=0,H91<250),IF($F91<>$H91,IF(H91=0,TRUE(),IF(MOD(H91,1)=0,TRUE(),FALSE())),FALSE()),FALSE()),FALSE()))
... D100: =IF(C100>0,":","") | G100: =IF(ISNUMBER(F100),":","") | M100: =IF(ISNUMBER(L100),IF(IF(F100>H100,1,"")=L100,I100,IF(IF(F100<H100,2,"")=L100,K100,IF(IF(F100=H100,0,"")=L100,J100,0))),"") | N100: =IF(ISBLANK(F100),"",IF(ISNUMBER(F100),IF(AND(F100>=0,F100<250),IF($F100<>$H100,IF(F100=0,TRUE(),IF(MOD(F100,1)=0,TRUE(),FALSE())),FALSE()),FALSE()),FALSE())) | O100: =IF(ISBLANK(H100),"",IF(ISNUMBER(H100),IF(AND(H100>=0,H100<250),IF($F100<>$H100,IF(H100=0,TRUE(),IF(MOD(H100,1)=0,TRUE(),FALSE())),FALSE()),FALSE()),FALSE()))

Sheet PaSe1991
A1: PaSe1991 | B1: Spieltag | C1: Heim | E1: Auswärts | F1: Ergebnis | I1: 1 | J1: 2 | K1: 2 | L1: Tipp | M1: Richtig | N1: Gültigk. D | O1: Gültik. F | P1: Gesamt
B2: Play-Ins | C2: Berlin | D2: =IF(C2>0,":","") -> : | E2: MBC | F2: 81 | G2: =IF(ISNUMBER(F2),":","") -> : | H2: 78 | I2: 1.2 | K2: 4.5 | L2: 1 | M2: =IF(ISNUMBER(L2),IF(IF(F2>H2,1,"")=L2,I2,IF(IF(F2<H2,2,"")=L2,K2,IF(IF(F2=H2,0,"")=L2,J2,0))),"") -> 1.2 | N2: =IF(ISBLANK(F2),"",IF(ISNUMBER(F2),IF(AND(F2>=0,F2<250),IF($F2<>$H2,IF(F2=0,TRUE(),IF(MOD(F2,1)=0,TRUE(),FALSE())),FALSE()),FALSE()),FALSE())) -> TRUE | O2: =IF(ISBLANK(H2),"",IF(ISNUMBER(H2),IF(AND(H2>=0,H2<250),IF($F2<>$H2,IF(H2=0,TRUE(),IF(MOD(H2,1)=0,TRUE(),FALSE())),FALSE()),FALSE()),FALSE())) -> TRUE
C3: Oldenburg | D3: =IF(C3>0,":","") -> : | E3: Rostock | F3: 95 | G3: =IF(ISNUMBER(F3),":","") -> : | H3: 83 | I3: 1.65 | K3: 2.2 | L3: 1 | M3: =IF(ISNUMBER(L3),IF(IF(F3>H3,1,"")=L3,I3,IF(IF(F3<H3,2,"")=L3,K3,IF(IF(F3=H3,0,"")=L3,J3,0))),"") -> 1.65 | N3: =IF(ISBLANK(F3),"",IF(ISNUMBER(F3),IF(AND(F3>=0,F3<250),IF($F3<>$H3,IF(F3=0,TRUE(),IF(MOD(F3,1)=0,TRUE(),FALSE())),FALSE()),FALSE()),FALSE())) -> TRUE | O3: =IF(ISBLANK(H3),"",IF(ISNUMBER(H3),IF(AND(H3>=0,H3<250),IF($F3<>$H3,IF(H3=0,TRUE(),IF(MOD(H3,1)=0,TRUE(),FALSE())),FALSE()),FALSE()),FALSE())) -> TRUE
D4: =IF(C4>0,":","") | G4: =IF(ISNUMBER(F4),":","") | M4: =IF(ISNUMBER(L4),IF(IF(F4>H4,1,"")=L4,I4,IF(IF(F4<H4,2,"")=L4,K4,IF(IF(F4=H4,0,"")=L4,J4,0))),"") | N4: =IF(ISBLANK(F4),"",IF(ISNUMBER(F4),IF(AND(F4>=0,F4<250),IF($F4<>$H4,IF(F4=0,TRUE(),IF(MOD(F4,1)=0,TRUE(),FALSE())),FALSE()),FALSE()),FALSE())) | O4: =IF(ISBLANK(H4),"",IF(ISNUMBER(H4),IF(AND(H4>=0,H4<250),IF($F4<>$H4,IF(H4=0,TRUE(),IF(MOD(H4,1)=0,TRUE(),FALSE())),FALSE()),FALSE()),FALSE()))
C5: MBC | D5: =IF(C5>0,":","") -> : | E5: Oldenburg | F5: 110 | H5: 95 | I5: 1.55 | K5: 2.4 | L5: 1 | M5: =IF(ISNUMBER(L5),IF(IF(F5>H5,1,"")=L5,I5,IF(IF(F5<H5,2,"")=L5,K5,IF(IF(F5=H5,0,"")=L5,J5,0))),"") -> 1.55 | N5: =IF(ISBLANK(F5),"",IF(ISNUMBER(F5),IF(AND(F5>=0,F5<250),IF($F5<>$H5,IF(F5=0,TRUE(),IF(MOD(F5,1)=0,TRUE(),FALSE())),FALSE()),FALSE()),FALSE())) -> TRUE | O5: =IF(ISBLANK(H5),"",IF(ISNUMBER(H5),IF(AND(H5>=0,H5<250),IF($F5<>$H5,IF(H5=0,TRUE(),IF(MOD(H5,1)=0,TRUE(),FALSE())),FALSE()),FALSE()),FALSE())) -> TRUE | P5: =SUM(M2:M5) -> 4.4
D6: =IF(C6>0,":","") | G6: =IF(ISNUMBER(F6),":","") | M6: =IF(ISNUMBER(L6),IF(IF(F6>H6,1,"")=L6,I6,IF(IF(F6<H6,2,"")=L6,K6,IF(IF(F6=H6,0,"")=L6,J6,0))),"") | N6: =IF(ISBLANK(F6),"",IF(ISNUMBER(F6),IF(AND(F6>=0,F6<250),IF($F6<>$H6,IF(F6=0,TRUE(),IF(MOD(F6,1)=0,TRUE(),FALSE())),FALSE()),FALSE()),FALSE())) | O6: =IF(ISBLANK(H6),"",IF(ISNUMBER(H6),IF(AND(H6>=0,H6<250),IF($F6<>$H6,IF(H6=0,TRUE(),IF(MOD(H6,1)=0,TRUE(),FALSE())),FALSE()),FALSE()),FALSE()))
B7: Playoffs | C7: Chemnitz | D7: =IF(C7>0,":","") -> : | E7: Heidelberg | F7: 90 | G7: =IF(ISNUMBER(F7),":","") -> : | H7: 93 | I7: 1.4 | K7: 2.9 | L7: 1 | M7: =IF(ISNUMBER(L7),IF(IF(F7>H7,1,"")=L7,I7,IF(IF(F7<H7,2,"")=L7,K7,IF(IF(F7=H7,0,"")=L7,J7,0))),"") -> 0 | N7: =IF(ISBLANK(F7),"",IF(ISNUMBER(F7),IF(AND(F7>=0,F7<250),IF($F7<>$H7,IF(F7=0,TRUE(),IF(MOD(F7,1)=0,TRUE(),FALSE())),FALSE()),FALSE()),FALSE())) -> TRUE | O7: =IF(ISBLANK(H7),"",IF(ISNUMBER(H7),IF(AND(H7>=0,H7<250),IF($F7<>$H7,IF(H7=0,TRUE(),IF(MOD(H7,1)=0,TRUE(),FALSE())),FALSE()),FALSE()),FALSE())) -> TRUE
B8: 1. Runde | C8: ULM | D8: =IF(C8>0,":","") -> : | E8: ALBA | F8: 94 | G8: =IF(ISNUMBER(F8),":","") -> : | H8: 83 | I8: 1.55 | K8: 2.4 | L8: 1 | M8: =IF(ISNUMBER(L8),IF(IF(F8>H8,1,"")=L8,I8,IF(IF(F8<H8,2,"")=L8,K8,IF(IF(F8=H8,0,"")=L8,J8,0))),"") -> 1.55 | N8: =IF(ISBLANK(F8),"",IF(ISNUMBER(F8),IF(AND(F8>=0,F8<250),IF($F8<>$H8,IF(F8=0,TRUE(),IF(MOD(F8,1)=0,TRUE(),FALSE())),FALSE()),FALSE()),FALSE())) -> TRUE | O8: =IF(ISBLANK(H8),"",IF(ISNUMBER(H8),IF(AND(H8>=0,H8<250),IF($F8<>$H8,IF(H8=0,TRUE(),IF(MOD(H8,1)=0,TRUE(),FALSE())),FALSE()),FALSE()),FALSE())) -> TRUE
B9: Spiel 1 | C9: Bayern | D9: =IF(C9>0,":","") -> : | E9: MBC | F9: 78 | G9: =IF(ISNUMBER(F9),":","") -> : | H9: 60 | I9: 1.15 | K9: 5.2 | L9: 1 | M9: =IF(ISNUMBER(L9),IF(IF(F9>H9,1,"")=L9,I9,IF(IF(F9<H9,2,"")=L9,K9,IF(IF(F9=H9,0,"")=L9,J9,0))),"") -> 1.15 | N9: =IF(ISBLANK(F9),"",IF(ISNUMBER(F9),IF(AND(F9>=0,F9<250),IF($F9<>$H9,IF(F9=0,TRUE(),IF(MOD(F9,1)=0,TRUE(),FALSE())),FALSE()),FALSE()),FALSE())) -> TRUE | O9: =IF(ISBLANK(H9),"",IF(ISNUMBER(H9),IF(AND(H9>=0,H9<250),IF($F9<>$H9,IF(H9=0,TRUE(),IF(MOD(H9,1)=0,TRUE(),FALSE())),FALSE()),FALSE()),FALSE())) -> TRUE
C10: Braunschweig | D10: =IF(C10>0,":","") -> : | E10: Würzburg | F10: 92 | G10: =IF(ISNUMBER(F10),":","") -> : | H10: 79 | I10: 1.47 | K10: 2.6 | L10: 1 | M10: =IF(ISNUMBER(L10),IF(IF(F10>H10,1,"")=L10,I10,IF(IF(F10<H10,2,"")=L10,K10,IF(IF(F10=H10,0,"")=L10,J10,0))),"") -> 1.47 | N10: =IF(ISBLANK(F10),"",IF(ISNUMBER(F10),IF(AND(F10>=0,F10<250),IF($F10<>$H10,IF(F10=0,TRUE(),IF(MOD(F10,1)=0,TRUE(),FALSE())),FALSE()),FALSE()),FALSE())) -> TRUE | O10: =IF(ISBLANK(H10),"",IF(ISNUMBER(H10),IF(AND(H10>=0,H10<250),IF($F10<>$H10,IF(H10=0,TRUE(),IF(MOD(H10,1)=0,TRUE(),FALSE())),FALSE()),FALSE()),FALSE())) -> TRUE | P10: =SUM(M7:M10) -> 4.17
D11: =IF(C11>0,":","") | G11: =IF(ISNUMBER(F11),":","") | M11: =IF(ISNUMBER(L11),IF(IF(F11>H11,1,"")=L11,I11,IF(IF(F11<H11,2,"")=L11,K11,IF(IF(F11=H11,0,"")=L11,J11,0))),"") | N11: =IF(ISBLANK(F11),"",IF(ISNUMBER(F11),IF(AND(F11>=0,F11<250),IF($F11<>$H11,IF(F11=0,TRUE(),IF(MOD(F11,1)=0,TRUE(),FALSE())),FALSE()),FALSE()),FALSE())) | O11: =IF(ISBLANK(H11),"",IF(ISNUMBER(H11),IF(AND(H11>=0,H11<250),IF($F11<>$H11,IF(H11=0,TRUE(),IF(MOD(H11,1)=0,TRUE(),FALSE())),FALSE()),FALSE()),FALSE()))
B12: Playoffs | C12: Heidelberg | D12: =IF(C12>0,":","") -> : | E12: Chemnitz | F12: 74 | G12: =IF(ISNUMBER(F12),":","") -> : | H12: 70 | I12: 1.7 | K12: 2.1 | L12: 2 | M12: =IF(ISNUMBER(L12),IF(IF(F12>H12,1,"")=L12,I12,IF(IF(F12<H12,2,"")=L12,K12,IF(IF(F12=H12,0,"")=L12,J12,0))),"") -> 0 | N12: =IF(ISBLANK(F12),"",IF(ISNUMBER(F12),IF(AND(F12>=0,F12<250),IF($F12<>$H12,IF(F12=0,TRUE(),IF(MOD(F12,1)=0,TRUE(),FALSE())),FALSE()),FALSE()),FALSE())) -> TRUE | O12: =IF(ISBLANK(H12),"",IF(ISNUMBER(H12),IF(AND(H12>=0,H12<250),IF($F12<>$H12,IF(H12=0,TRUE(),IF(MOD(H12,1)=0,TRUE(),FALSE())),FALSE()),FALSE()),FALSE())) -> TRUE
B13: 1. Runde | C13: ALBA | D13: =IF(C13>0,":","") -> : | E13: ULM | F13: 62 | G13: =IF(ISNUMBER(F13),":","") -> : | H13: 74 | I13: 1.5 | K13: 2.55 | L13: 1 | M13: =IF(ISNUMBER(L13),IF(IF(F13>H13,1,"")=L13,I13,IF(IF(F13<H13,2,"")=L13,K13,IF(IF(F13=H13,0,"")=L13,J13,0))),"") -> 0 | N13: =IF(ISBLANK(F13),"",IF(ISNUMBER(F13),IF(AND(F13>=0,F13<250),IF($F13<>$H13,IF(F13=0,TRUE(),IF(MOD(F13,1)=0,TRUE(),FALSE())),FALSE()),FALSE()),FALSE())) -> TRUE | O13: =IF(ISBLANK(H13),"",IF(ISNUMBER(H13),IF(AND(H13>=0,H13<250),IF($F13<>$H13,IF(H13=0,TRUE(),IF(MOD(H13,1)=0,TRUE(),FALSE())),FALSE()),FALSE()),FALSE())) -> TRUE
B14: Spiel 2 | C14: MBC | D14: =IF(C14>0,":","") -> : | E14: Bayern | F14: 65 | G14: =IF(ISNUMBER(F14),":","") -> : | H14: 80 | I14: 3.4 | K14: 1.3 | L14: 2 | M14: =IF(ISNUMBER(L14),IF(IF(F14>H14,1,"")=L14,I14,IF(IF(F14<H14,2,"")=L14,K14,IF(IF(F14=H14,0,"")=L14,J14,0))),"") -> 1.3 | N14: =IF(ISBLANK(F14),"",IF(ISNUMBER(F14),IF(AND(F14>=0,F14<250),IF($F14<>$H14,IF(F14=0,TRUE(),IF(MOD(F14,1)=0,TRUE(),FALSE())),FALSE()),FALSE()),FALSE())) -> TRUE | O14: =IF(ISBLANK(H14),"",IF(ISNUMBER(H14),IF(AND(H14>=0,H14<250),IF($F14<>$H14,IF(H14=0,TRUE(),IF(MOD(H14,1)=0,TRUE(),FALSE())),FALSE()),FALSE()),FALSE())) -> TRUE
C15: Würzburg | D15: =IF(C15>0,":","") -> : | E15: Braunschweig | F15: 94 | G15: =IF(ISNUMBER(F15),":","") -> : | H15: 90 | I15: 1.57 | K15: 2.35 | L15: 1 | M15: =IF(ISNUMBER(L15),IF(IF(F15>H15,1,"")=L15,I15,IF(IF(F15<H15,2,"")=L15,K15,IF(IF(F15=H15,0,"")=L15,J15,0))),"") -> 1.57 | N15: =IF(ISBLANK(F15),"",IF(ISNUMBER(F15),IF(AND(F15>=0,F15<250),IF($F15<>$H15,IF(F15=0,TRUE(),IF(MOD(F15,1)=0,TRUE(),FALSE())),FALSE()),FALSE()),FALSE())) -> TRUE | O15: =IF(ISBLANK(H15),"",IF(ISNUMBER(H15),IF(AND(H15>=0,H15<250),IF($F15<>$H15,IF(H15=0,TRUE(),IF(MOD(H15,1)=0,TRUE(),FALSE())),FALSE()),FALSE()),FALSE())) -> TRUE | P15: =SUM(M12:M15) -> 2.87
D16: =IF(C16>0,":","") | G16: =IF(ISNUMBER(F16),":","") | M16: =IF(ISNUMBER(L16),IF(IF(F16>H16,1,"")=L16,I16,IF(IF(F16<H16,2,"")=L16,K16,IF(IF(F16=H16,0,"")=L16,J16,0))),"") | N16: =IF(ISBLANK(F16),"",IF(ISNUMBER(F16),IF(AND(F16>=0,F16<250),IF($F16<>$H16,IF(F16=0,TRUE(),IF(MOD(F16,1)=0,TRUE(),FALSE())),FALSE()),FALSE()),FALSE())) | O16: =IF(ISBLANK(H16),"",IF(ISNUMBER(H16),IF(AND(H16>=0,H16<250),IF($F16<>$H16,IF(H16=0,TRUE(),IF(MOD(H16,1)=0,TRUE(),FALSE())),FALSE()),FALSE()),FALSE()))
B17: Playoffs | C17: Bayern | D17: =IF(C17>0,":","") -> : | E17: MBC | F17: 80 | G17: =IF(ISNUMBER(F17),":","") -> : | H17: 69 | I17: 1.06 | K17: 8.5 | L17: 1 | M17: =IF(ISNUMBER(L17),IF(IF(F17>H17,1,"")=L17,I17,IF(IF(F17<H17,2,"")=L17,K17,IF(IF(F17=H17,0,"")=L17,J17,0))),"") -> 1.06 | N17: =IF(ISBLANK(F17),"",IF(ISNUMBER(F17),IF(AND(F17>=0,F17<250),IF($F17<>$H17,IF(F17=0,TRUE(),IF(MOD(F17,1)=0,TRUE(),FALSE())),FALSE()),FALSE()),FALSE())) -> TRUE | O17: =IF(ISBLANK(H17),"",IF(ISNUMBER(H17),IF(AND(H17>=0,H17<250),IF($F17<>$H17,IF(H17=0,TRUE(),IF(MOD(H17,1)=0,TRUE(),FALSE())),FALSE()),FALSE()),FALSE())) -> TRUE
B18: 1. Runde | C18: ULM | D18: =IF(C18>0,":","") -> : | E18: ALBA | F18: 93 | G18: =IF(ISNUMBER(F18),":","") -> : | H18: 84 | I18: 1.55 | K18: 2.4 | L18: 1 | M18: =IF(ISNUMBER(L18),IF(IF(F18>H18,1,"")=L18,I18,IF(IF(F18<H18,2,"")=L18,K18,IF(IF(F18=H18,0,"")=L18,J18,0))),"") -> 1.55 | N18: =IF(ISBLANK(F18),"",IF(ISNUMBER(F18),IF(AND(F18>=0,F18<250),IF($F18<>$H18,IF(F18=0,TRUE(),IF(MOD(F18,1)=0,TRUE(),FALSE())),FALSE()),FALSE()),FALSE())) -> TRUE | O18: =IF(ISBLANK(H18),"",IF(ISNUMBER(H18),IF(AND(H18>=0,H18<250),IF($F18<>$H18,IF(H18=0,TRUE(),IF(MOD(H18,1)=0,TRUE(),FALSE())),FALSE()),FALSE()),FALSE())) -> TRUE
B19: Spiel 3 | C19: Braunschweig | D19: =IF(C19>0,":","") -> : | E19: Würzburg | F19: 80 | G19: =IF(ISNUMBER(F19),":","") -> : | H19: 75 | I19: 1.5 | K19: 2.55 | L19: 1 | M19: =IF(ISNUMBER(L19),IF(IF(F19>H19,1,"")=L19,I19,IF(IF(F19<H19,2,"")=L19,K19,IF(IF(F19=H19,0,"")=L19,J19,0))),"") -> 1.5 | N19: =IF(ISBLANK(F19),"",IF(ISNUMBER(F19),IF(AND(F19>=0,F19<250),IF($F19<>$H19,IF(F19=0,TRUE(),IF(MOD(F19,1)=0,TRUE(),FALSE())),FALSE()),FALSE()),FALSE())) -> TRUE | O19: =IF(ISBLANK(H19),"",IF(ISNUMBER(H19),IF(AND(H19>=0,H19<250),IF($F19<>$H19,IF(H19=0,TRUE(),IF(MOD(H19,1)=0,TRUE(),FALSE())),FALSE()),FALSE()),FALSE())) -> TRUE
C20: Chemnitz | D20: =IF(C20>0,":","") -> : | E20: Heidelberg | F20: 97 | G20: =IF(ISNUMBER(F20),":","") -> : | H20: 88 | I20: 1.4 | K20: 2.9 | L20: 1 | M20: =IF(ISNUMBER(L20),IF(IF(F20>H20,1,"")=L20,I20,IF(IF(F20<H20,2,"")=L20,K20,IF(IF(F20=H20,0,"")=L20,J20,0))),"") -> 1.4 | N20: =IF(ISBLANK(F20),"",IF(ISNUMBER(F20),IF(AND(F20>=0,F20<250),IF($F20<>$H20,IF(F20=0,TRUE(),IF(MOD(F20,1)=0,TRUE(),FALSE())),FALSE()),FALSE()),FALSE())) -> TRUE | O20: =IF(ISBLANK(H20),"",IF(ISNUMBER(H20),IF(AND(H20>=0,H20<250),IF($F20<>$H20,IF(H20=0,TRUE(),IF(MOD(H20,1)=0,TRUE(),FALSE())),FALSE()),FALSE()),FALSE())) -> TRUE | P20: =SUM(M17:M20) -> 5.51
D21: =IF(C21>0,":","") | G21: =IF(ISNUMBER(F21),":","") | M21: =IF(ISNUMBER(L21),IF(IF(F21>H21,1,"")=L21,I21,IF(IF(F21<H21,2,"")=L21,K21,IF(IF(F21=H21,0,"")=L21,J21,0))),"") | N21: =IF(ISBLANK(F21),"",IF(ISNUMBER(F21),IF(AND(F21>=0,F21<250),IF($F21<>$H21,IF(F21=0,TRUE(),IF(MOD(F21,1)=0,TRUE(),FALSE())),FALSE()),FALSE()),FALSE())) | O21: =IF(ISBLANK(H21),"",IF(ISNUMBER(H21),IF(AND(H21>=0,H21<250),IF($F21<>$H21,IF(H21=0,TRUE(),IF(MOD(H21,1)=0,TRUE(),FALSE())),FALSE()),FALSE()),FALSE()))
B22: Spiel 4 | C22: Heidelberg | D22: =IF(C22>0,":","") -> : | E22: Chemnitz | F22: 92 | G22: =IF(ISNUMBER(F22),":","") -> : | H22: 64 | I22: 1.67 | K22: 2.15 | L22: 2 | M22: =IF(ISNUMBER(L22),IF(IF(F22>H22,1,"")=L22,I22,IF(IF(F22<H22,2,"")=L22,K22,IF(IF(F22=H22,0,"")=L22,J22,0))),"") -> 0 | N22: =IF(ISBLANK(F22),"",IF(ISNUMBER(F22),IF(AND(F22>=0,F22<250),IF($F22<>$H22,IF(F22=0,TRUE(),IF(MOD(F22,1)=0,TRUE(),FALSE())),FALSE()),FALSE()),FALSE())) -> TRUE | O22: =IF(ISBLANK(H22),"",IF(ISNUMBER(H22),IF(AND(H22>=0,H22<250),IF($F22<>$H22,IF(H22=0,TRUE(),IF(MOD(H22,1)=0,TRUE(),FALSE())),FALSE()),FALSE()),FALSE())) -> TRUE
C23: Würzburg | D23: =IF(C23>0,":","") -> : | E23: Braunschweig | F23: 79 | G23: =IF(ISNUMBER(F23),":","") -> : | H23: 72 | I23: 1.62 | K23: 2.25 | L23: 2 | M23: =IF(ISNUMBER(L23),IF(IF(F23>H23,1,"")=L23,I23,IF(IF(F23<H23,2,"")=L23,K23,IF(IF(F23=H23,0,"")=L23,J23,0))),"") -> 0 | N23: =IF(ISBLANK(F23),"",IF(ISNUMBER(F23),IF(AND(F23>=0,F23<250),IF($F23<>$H23,IF(F23=0,TRUE(),IF(MOD(F23,1)=0,TRUE(),FALSE())),FALSE()),FALSE()),FALSE())) -> TRUE | O23: =IF(ISBLANK(H23),"",IF(ISNUMBER(H23),IF(AND(H23>=0,H23<250),IF($F23<>$H23,IF(H23=0,TRUE(),IF(MOD(H23,1)=0,TRUE(),FALSE())),FALSE()),FALSE()),FALSE())) -> TRUE | P23: =SUM(M22:M23) -> 0
D24: =IF(C24>0,":","") | G24: =IF(ISNUMBER(F24),":","") | M24: =IF(ISNUMBER(L24),IF(IF(F24>H24,1,"")=L24,I24,IF(IF(F24<H24,2,"")=L24,K24,IF(IF(F24=H24,0,"")=L24,J24,0))),"") | N24: =IF(ISBLANK(F24),"",IF(ISNUMBER(F24),IF(AND(F24>=0,F24<250),IF($F24<>$H24,IF(F24=0,TRUE(),IF(MOD(F24,1)=0,TRUE(),FALSE())),FALSE()),FALSE()),FALSE())) | O24: =IF(ISBLANK(H24),"",IF(ISNUMBER(H24),IF(AND(H24>=0,H24<250),IF($F24<>$H24,IF(H24=0,TRUE(),IF(MOD(H24,1)=0,TRUE(),FALSE())),FALSE()),FALSE()),FALSE()))
B25: Spiel 5 | C25: Braunschweig | D25: =IF(C25>0,":","") -> : | E25: Würzburg | F25: 88 | G25: =IF(ISNUMBER(F25),":","") -> : | H25: 97 | I25: 1.55 | K25: 2.4 | L25: 2 | M25: =IF(ISNUMBER(L25),IF(IF(F25>H25,1,"")=L25,I25,IF(IF(F25<H25,2,"")=L25,K25,IF(IF(F25=H25,0,"")=L25,J25,0))),"") -> 2.4 | N25: =IF(ISBLANK(F25),"",IF(ISNUMBER(F25),IF(AND(F25>=0,F25<250),IF($F25<>$H25,IF(F25=0,TRUE(),IF(MOD(F25,1)=0,TRUE(),FALSE())),FALSE()),FALSE()),FALSE())) -> TRUE | O25: =IF(ISBLANK(H25),"",IF(ISNUMBER(H25),IF(AND(H25>=0,H25<250),IF($F25<>$H25,IF(H25=0,TRUE(),IF(MOD(H25,1)=0,TRUE(),FALSE())),FALSE()),FALSE()),FALSE())) -> TRUE | P25: =SUM(M25) -> 2.4
D26: =IF(C26>0,":","") | G26: =IF(ISNUMBER(F26),":","") | M26: =IF(ISNUMBER(L26),IF(IF(F26>H26,1,"")=L26,I26,IF(IF(F26<H26,2,"")=L26,K26,IF(IF(F26=H26,0,"")=L26,J26,0))),"") | N26: =IF(ISBLANK(F26),"",IF(ISNUMBER(F26),IF(AND(F26>=0,F26<250),IF($F26<>$H26,IF(F26=0,TRUE(),IF(MOD(F26,1)=0,TRUE(),FALSE())),FALSE()),FALSE()),FALSE())) | O26: =IF(ISBLANK(H26),"",IF(ISNUMBER(H26),IF(AND(H26>=0,H26<250),IF($F26<>$H26,IF(H26=0,TRUE(),IF(MOD(H26,1)=0,TRUE(),FALSE())),FALSE()),FALSE()),FALSE()))
B27: Playoffs | C27: Bayern | D27: =IF(C27>0,":","") -> : | E27: Heidelberg | F27: 90 | G27: =IF(ISNUMBER(F27),":","") -> : | H27: 95 | I27: 1.1 | K27: 6.5 | L27: 1 | M27: =IF(ISNUMBER(L27),IF(IF(F27>H27,1,"")=L27,I27,IF(IF(F27<H27,2,"")=L27,K27,IF(IF(F27=H27,0,"")=L27,J27,0))),"") -> 0 | N27: =IF(ISBLANK(F27),"",IF(ISNUMBER(F27),IF(AND(F27>=0,F27<250),IF($F27<>$H27,IF(F27=0,TRUE(),IF(MOD(F27,1)=0,TRUE(),FALSE())),FALSE()),FALSE()),FALSE())) -> TRUE | O27: =IF(ISBLANK(H27),"",IF(ISNUMBER(H27),IF(AND(H27>=0,H27<250),IF($F27<>$H27,IF(H27=0,TRUE(),IF(MOD(H27,1)=0,TRUE(),FALSE())),FALSE()),FALSE()),FALSE())) -> TRUE
B28: Halbfinale | C28: Ulm | D28: =IF(C28>0,":","") -> : | E28: Würzburg | F28: 91 | G28: =IF(ISNUMBER(F28),":","") -> : | H28: 87 | I28: 1.3 | K28: 3.4 | L28: 2 | M28: =IF(ISNUMBER(L28),IF(IF(F28>H28,1,"")=L28,I28,IF(IF(F28<H28,2,"")=L28,K28,IF(IF(F28=H28,0,"")=L28,J28,0))),"") -> 0 | N28: =IF(ISBLANK(F28),"",IF(ISNUMBER(F28),IF(AND(F28>=0,F28<250),IF($F28<>$H28,IF(F28=0,TRUE(),IF(MOD(F28,1)=0,TRUE(),FALSE())),FALSE()),FALSE()),FALSE())) -> TRUE | O28: =IF(ISBLANK(H28),"",IF(ISNUMBER(H28),IF(AND(H28>=0,H28<250),IF($F28<>$H28,IF(H28=0,TRUE(),IF(MOD(H28,1)=0,TRUE(),FALSE())),FALSE()),FALSE()),FALSE())) -> TRUE | P28: =SUM(M27:M28) -> 0
B29: Spiel 1 | D29: =IF(C29>0,":","") | G29: =IF(ISNUMBER(F29),":","") | M29: =IF(ISNUMBER(L29),IF(IF(F29>H29,1,"")=L29,I29,IF(IF(F29<H29,2,"")=L29,K29,IF(IF(F29=H29,0,"")=L29,J29,0))),"") | N29: =IF(ISBLANK(F29),"",IF(ISNUMBER(F29),IF(AND(F29>=0,F29<250),IF($F29<>$H29,IF(F29=0,TRUE(),IF(MOD(F29,1)=0,TRUE(),FALSE())),FALSE()),FALSE()),FALSE())) | O29: =IF(ISBLANK(H29),"",IF(ISNUMBER(H29),IF(AND(H29>=0,H29<250),IF($F29<>$H29,IF(H29=0,TRUE(),IF(MOD(H29,1)=0,TRUE(),FALSE())),FALSE()),FALSE()),FALSE()))
D30: =IF(C30>0,":","") | G30: =IF(ISNUMBER(F30),":","") | M30: =IF(ISNUMBER(L30),IF(IF(F30>H30,1,"")=L30,I30,IF(IF(F30<H30,2,"")=L30,K30,IF(IF(F30=H30,0,"")=L30,J30,0))),"") | N30: =IF(ISBLANK(F30),"",IF(ISNUMBER(F30),IF(AND(F30>=0,F30<250),IF($F30<>$H30,IF(F30=0,TRUE(),IF(MOD(F30,1)=0,TRUE(),FALSE())),FALSE()),FALSE()),FALSE())) | O30: =IF(ISBLANK(H30),"",IF(ISNUMBER(H30),IF(AND(H30>=0,H30<250),IF($F30<>$H30,IF(H30=0,TRUE(),IF(MOD(H30,1)=0,TRUE(),FALSE())),FALSE()),FALSE()),FALSE()))
B31: Spiel 2 | C31: Würzburg | D31: =IF(C31>0,":","") -> : | E31: Ulm | F31: 87 | G31: =IF(ISNUMBER(F31),":","") -> : | H31: 77 | I31: 2.05 | K31: 1.75 | L31: 2 | M31: =IF(ISNUMBER(L31),IF(IF(F31>H31,1,"")=L31,I31,IF(IF(F31<H31,2,"")=L31,K31,IF(IF(F31=H31,0,"")=L31,J31,0))),"") -> 0 | N31: =IF(ISBLANK(F31),"",IF(ISNUMBER(F31),IF(AND(F31>=0,F31<250),IF($F31<>$H31,IF(F31=0,TRUE(),IF(MOD(F31,1)=0,TRUE(),FALSE())),FALSE()),FALSE()),FALSE())) -> TRUE | O31: =IF(ISBLANK(H31),"",IF(ISNUMBER(H31),IF(AND(H31>=0,H31<250),IF($F31<>$H31,IF(H31=0,TRUE(),IF(MOD(H31,1)=0,TRUE(),FALSE())),FALSE()),FALSE()),FALSE())) -> TRUE
C32: Heidelberg | D32: =IF(C32>0,":","") -> : | E32: Bayern | F32: 61 | G32: =IF(ISNUMBER(F32),":","") -> : | H32: 90 | I32: 3.2 | K32: 1.33 | L32: 2 | M32: =IF(ISNUMBER(L32),IF(IF(F32>H32,1,"")=L32,I32,IF(IF(F32<H32,2,"")=L32,K32,IF(IF(F32=H32,0,"")=L32,J32,0))),"") -> 1.33 | N32: =IF(ISBLANK(F32),"",IF(ISNUMBER(F32),IF(AND(F32>=0,F32<250),IF($F32<>$H32,IF(F32=0,TRUE(),IF(MOD(F32,1)=0,TRUE(),FALSE())),FALSE()),FALSE()),FALSE())) -> TRUE | O32: =IF(ISBLANK(H32),"",IF(ISNUMBER(H32),IF(AND(H32>=0,H32<250),IF($F32<>$H32,IF(H32=0,TRUE(),IF(MOD(H32,1)=0,TRUE(),FALSE())),FALSE()),FALSE()),FALSE())) -> TRUE | P32: =SUM(M31:M32) -> 1.33
D33: =IF(C33>0,":","") | G33: =IF(ISNUMBER(F33),":","") | M33: =IF(ISNUMBER(L33),IF(IF(F33>H33,1,"")=L33,I33,IF(IF(F33<H33,2,"")=L33,K33,IF(IF(F33=H33,0,"")=L33,J33,0))),"") | N33: =IF(ISBLANK(F33),"",IF(ISNUMBER(F33),IF(AND(F33>=0,F33<250),IF($F33<>$H33,IF(F33=0,TRUE(),IF(MOD(F33,1)=0,TRUE(),FALSE())),FALSE()),FALSE()),FALSE())) | O33: =IF(ISBLANK(H33),"",IF(ISNUMBER(H33),IF(AND(H33>=0,H33<250),IF($F33<>$H33,IF(H33=0,TRUE(),IF(MOD(H33,1)=0,TRUE(),FALSE())),FALSE()),FALSE()),FALSE()))
B34: Spiel 3 | C34: Ulm | D34: =IF(C34>0,":","") -> : | E34: Würzburg | F34: 99 | G34: =IF(ISNUMBER(F34),":","") -> : | H34: 86 | I34: 1.3 | K34: 3.4 | L34: 2 | M34: =IF(ISNUMBER(L34),IF(IF(F34>H34,1,"")=L34,I34,IF(IF(F34<H34,2,"")=L34,K34,IF(IF(F34=H34,0,"")=L34,J34,0))),"") -> 0 | N34: =IF(ISBLANK(F34),"",IF(ISNUMBER(F34),IF(AND(F34>=0,F34<250),IF($F34<>$H34,IF(F34=0,TRUE(),IF(MOD(F34,1)=0,TRUE(),FALSE())),FALSE()),FALSE()),FALSE())) -> TRUE | O34: =IF(ISBLANK(H34),"",IF(ISNUMBER(H34),IF(AND(H34>=0,H34<250),IF($F34<>$H34,IF(H34=0,TRUE(),IF(MOD(H34,1)=0,TRUE(),FALSE())),FALSE()),FALSE()),FALSE())) -> TRUE
C35: Bayern | D35: =IF(C35>0,":","") -> : | E35: Heidelberg | F35: 98 | G35: =IF(ISNUMBER(F35),":","") -> : | H35: 68 | I35: 1.14 | K35: 5.5 | L35: 1 | M35: =IF(ISNUMBER(L35),IF(IF(F35>H35,1,"")=L35,I35,IF(IF(F35<H35,2,"")=L35,K35,IF(IF(F35=H35,0,"")=L35,J35,0))),"") -> 1.14 | N35: =IF(ISBLANK(F35),"",IF(ISNUMBER(F35),IF(AND(F35>=0,F35<250),IF($F35<>$H35,IF(F35=0,TRUE(),IF(MOD(F35,1)=0,TRUE(),FALSE())),FALSE()),FALSE()),FALSE())) -> TRUE | O35: =IF(ISBLANK(H35),"",IF(ISNUMBER(H35),IF(AND(H35>=0,H35<250),IF($F35<>$H35,IF(H35=0,TRUE(),IF(MOD(H35,1)=0,TRUE(),FALSE())),FALSE()),FALSE()),FALSE())) -> TRUE | P35: =SUM(M34:M35) -> 1.14
D36: =IF(C36>0,":","") | G36: =IF(ISNUMBER(F36),":","") | M36: =IF(ISNUMBER(L36),IF(IF(F36>H36,1,"")=L36,I36,IF(IF(F36<H36,2,"")=L36,K36,IF(IF(F36=H36,0,"")=L36,J36,0))),"") | N36: =IF(ISBLANK(F36),"",IF(ISNUMBER(F36),IF(AND(F36>=0,F36<250),IF($F36<>$H36,IF(F36=0,TRUE(),IF(MOD(F36,1)=0,TRUE(),FALSE())),FALSE()),FALSE()),FALSE())) | O36: =IF(ISBLANK(H36),"",IF(ISNUMBER(H36),IF(AND(H36>=0,H36<250),IF($F36<>$H36,IF(H36=0,TRUE(),IF(MOD(H36,1)=0,TRUE(),FALSE())),FALSE()),FALSE()),FALSE()))
B37: Spiel 4 | C37: Würzburg | D37: =IF(C37>0,":","") -> : | E37: Ulm | F37: 78 | G37: =IF(ISNUMBER(F37),":","") -> : | H37: 77 | I37: 2.2 | K37: 1.65 | L37: 1 | M37: =IF(ISNUMBER(L37),IF(IF(F37>H37,1,"")=L37,I37,IF(IF(F37<H37,2,"")=L37,K37,IF(IF(F37=H37,0,"")=L37,J37,0))),"") -> 2.2 | N37: =IF(ISBLANK(F37),"",IF(ISNUMBER(F37),IF(AND(F37>=0,F37<250),IF($F37<>$H37,IF(F37=0,TRUE(),IF(MOD(F37,1)=0,TRUE(),FALSE())),FALSE()),FALSE()),FALSE())) -> TRUE | O37: =IF(ISBLANK(H37),"",IF(ISNUMBER(H37),IF(AND(H37>=0,H37<250),IF($F37<>$H37,IF(H37=0,TRUE(),IF(MOD(H37,1)=0,TRUE(),FALSE())),FALSE()),FALSE()),FALSE())) -> TRUE
C38: Heidelberg | D38: =IF(C38>0,":","") -> : | E38: Bayern | F38: 82 | G38: =IF(ISNUMBER(F38),":","") -> : | H38: 94 | I38: 3.8 | K38: 1.25 | L38: 2 | M38: =IF(ISNUMBER(L38),IF(IF(F38>H38,1,"")=L38,I38,IF(IF(F38<H38,2,"")=L38,K38,IF(IF(F38=H38,0,"")=L38,J38,0))),"") -> 1.25 | N38: =IF(ISBLANK(F38),"",IF(ISNUMBER(F38),IF(AND(F38>=0,F38<250),IF($F38<>$H38,IF(F38=0,TRUE(),IF(MOD(F38,1)=0,TRUE(),FALSE())),FALSE()),FALSE()),FALSE())) -> TRUE | O38: =IF(ISBLANK(H38),"",IF(ISNUMBER(H38),IF(AND(H38>=0,H38<250),IF($F38<>$H38,IF(H38=0,TRUE(),IF(MOD(H38,1)=0,TRUE(),FALSE())),FALSE()),FALSE()),FALSE())) -> TRUE | P38: =SUM(M37:M38) -> 3.45
D39: =IF(C39>0,":","") | G39: =IF(ISNUMBER(F39),":","") | M39: =IF(ISNUMBER(L39),IF(IF(F39>H39,1,"")=L39,I39,IF(IF(F39<H39,2,"")=L39,K39,IF(IF(F39=H39,0,"")=L39,J39,0))),"") | N39: =IF(ISBLANK(F39),"",IF(ISNUMBER(F39),IF(AND(F39>=0,F39<250),IF($F39<>$H39,IF(F39=0,TRUE(),IF(MOD(F39,1)=0,TRUE(),FALSE())),FALSE()),FALSE()),FALSE())) | O39: =IF(ISBLANK(H39),"",IF(ISNUMBER(H39),IF(AND(H39>=0,H39<250),IF($F39<>$H39,IF(H39=0,TRUE(),IF(MOD(H39,1)=0,TRUE(),FALSE())),FALSE()),FALSE()),FALSE()))
B40: Spiel 5 | C40: Ulm | D40: =IF(C40>0,":","") -> : | E40: Würzburg | F40: 91 | G40: =IF(ISNUMBER(F40),":","") -> : | H40: 84 | I40: 1.35 | K40: 3.1 | L40: 2 | M40: =IF(ISNUMBER(L40),IF(IF(F40>H40,1,"")=L40,I40,IF(IF(F40<H40,2,"")=L40,K40,IF(IF(F40=H40,0,"")=L40,J40,0))),"") -> 0 | N40: =IF(ISBLANK(F40),"",IF(ISNUMBER(F40),IF(AND(F40>=0,F40<250),IF($F40<>$H40,IF(F40=0,TRUE(),IF(MOD(F40,1)=0,TRUE(),FALSE())),FALSE()),FALSE()),FALSE())) -> TRUE | O40: =IF(ISBLANK(H40),"",IF(ISNUMBER(H40),IF(AND(H40>=0,H40<250),IF($F40<>$H40,IF(H40=0,TRUE(),IF(MOD(H40,1)=0,TRUE(),FALSE())),FALSE()),FALSE()),FALSE())) -> TRUE | P40: =SUM(M40) -> 0
D41: =IF(C41>0,":","") | G41: =IF(ISNUMBER(F41),":","") | M41: =IF(ISNUMBER(L41),IF(IF(F41>H41,1,"")=L41,I41,IF(IF(F41<H41,2,"")=L41,K41,IF(IF(F41=H41,0,"")=L41,J41,0))),"") | N41: =IF(ISBLANK(F41),"",IF(ISNUMBER(F41),IF(AND(F41>=0,F41<250),IF($F41<>$H41,IF(F41=0,TRUE(),IF(MOD(F41,1)=0,TRUE(),FALSE())),FALSE()),FALSE()),FALSE())) | O41: =IF(ISBLANK(H41),"",IF(ISNUMBER(H41),IF(AND(H41>=0,H41<250),IF($F41<>$H41,IF(H41=0,TRUE(),IF(MOD(H41,1)=0,TRUE(),FALSE())),FALSE()),FALSE()),FALSE()))
B42: Finale | D42: =IF(C42>0,":","") | G42: =IF(ISNUMBER(F42),":","") | M42: =IF(ISNUMBER(L42),IF(IF(F42>H42,1,"")=L42,I42,IF(IF(F42<H42,2,"")=L42,K42,IF(IF(F42=H42,0,"")=L42,J42,0))),"") | N42: =IF(ISBLANK(F42),"",IF(ISNUMBER(F42),IF(AND(F42>=0,F42<250),IF($F42<>$H42,IF(F42=0,TRUE(),IF(MOD(F42,1)=0,TRUE(),FALSE())),FALSE()),FALSE()),FALSE())) | O42: =IF(ISBLANK(H42),"",IF(ISNUMBER(H42),IF(AND(H42>=0,H42<250),IF($F42<>$H42,IF(H42=0,TRUE(),IF(MOD(H42,1)=0,TRUE(),FALSE())),FALSE()),FALSE()),FALSE()))
B43: Spiel 1 | C43: Bayern | D43: =IF(C43>0,":","") -> : | E43: Ulm | F43: 82 | G43: =IF(ISNUMBER(F43),":","") -> : | H43: 66 | I43: 1.25 | K43: 3.8 | L43: 1 | M43: =IF(ISNUMBER(L43),IF(IF(F43>H43,1,"")=L43,I43,IF(IF(F43<H43,2,"")=L43,K43,IF(IF(F43=H43,0,"")=L43,J43,0))),"") -> 1.25 | N43: =IF(ISBLANK(F43),"",IF(ISNUMBER(F43),IF(AND(F43>=0,F43<250),IF($F43<>$H43,IF(F43=0,TRUE(),IF(MOD(F43,1)=0,TRUE(),FALSE())),FALSE()),FALSE()),FALSE())) -> TRUE | O43: =IF(ISBLANK(H43),"",IF(ISNUMBER(H43),IF(AND(H43>=0,H43<250),IF($F43<>$H43,IF(H43=0,TRUE(),IF(MOD(H43,1)=0,TRUE(),FALSE())),FALSE()),FALSE()),FALSE())) -> TRUE | P43: =SUM(M43) -> 1.25
D44: =IF(C44>0,":","") | G44: =IF(ISNUMBER(F44),":","") | M44: =IF(ISNUMBER(L44),IF(IF(F44>H44,1,"")=L44,I44,IF(IF(F44<H44,2,"")=L44,K44,IF(IF(F44=H44,0,"")=L44,J44,0))),"") | N44: =IF(ISBLANK(F44),"",IF(ISNUMBER(F44),IF(AND(F44>=0,F44<250),IF($F44<>$H44,IF(F44=0,TRUE(),IF(MOD(F44,1)=0,TRUE(),FALSE())),FALSE()),FALSE()),FALSE())) | O44: =IF(ISBLANK(H44),"",IF(ISNUMBER(H44),IF(AND(H44>=0,H44<250),IF($F44<>$H44,IF(H44=0,TRUE(),IF(MOD(H44,1)=0,TRUE(),FALSE())),FALSE()),FALSE()),FALSE()))
B45: Spiel 2 | C45: Ulm | D45: =IF(C45>0,":","") -> : | E45: Bayern | F45: 79 | G45: =IF(ISNUMBER(F45),":","") -> : | H45: 64 | I45: 2.1 | K45: 1.72 | L45: 1 | M45: =IF(ISNUMBER(L45),IF(IF(F45>H45,1,"")=L45,I45,IF(IF(F45<H45,2,"")=L45,K45,IF(IF(F45=H45,0,"")=L45,J45,0))),"") -> 2.1 | N45: =IF(ISBLANK(F45),"",IF(ISNUMBER(F45),IF(AND(F45>=0,F45<250),IF($F45<>$H45,IF(F45=0,TRUE(),IF(MOD(F45,1)=0,TRUE(),FALSE())),FALSE()),FALSE()),FALSE())) -> TRUE | O45: =IF(ISBLANK(H45),"",IF(ISNUMBER(H45),IF(AND(H45>=0,H45<250),IF($F45<>$H45,IF(H45=0,TRUE(),IF(MOD(H45,1)=0,TRUE(),FALSE())),FALSE()),FALSE()),FALSE())) -> TRUE | P45: =SUM(M45) -> 2.1
D46: =IF(C46>0,":","") | G46: =IF(ISNUMBER(F46),":","") | M46: =IF(ISNUMBER(L46),IF(IF(F46>H46,1,"")=L46,I46,IF(IF(F46<H46,2,"")=L46,K46,IF(IF(F46=H46,0,"")=L46,J46,0))),"") | N46: =IF(ISBLANK(F46),"",IF(ISNUMBER(F46),IF(AND(F46>=0,F46<250),IF($F46<>$H46,IF(F46=0,TRUE(),IF(MOD(F46,1)=0,TRUE(),FALSE())),FALSE()),FALSE()),FALSE())) | O46: =IF(ISBLANK(H46),"",IF(ISNUMBER(H46),IF(AND(H46>=0,H46<250),IF($F46<>$H46,IF(H46=0,TRUE(),IF(MOD(H46,1)=0,TRUE(),FALSE())),FALSE()),FALSE()),FALSE()))
B47: Spiel 3 | C47: Bayern | D47: =IF(C47>0,":","") -> : | E47: Ulm | F47: 79 | G47: =IF(ISNUMBER(F47),":","") -> : | H47: 81 | I47: 1.3 | K47: 3.4 | L47: 1 | M47: =IF(ISNUMBER(L47),IF(IF(F47>H47,1,"")=L47,I47,IF(IF(F47<H47,2,"")=L47,K47,IF(IF(F47=H47,0,"")=L47,J47,0))),"") -> 0 | N47: =IF(ISBLANK(F47),"",IF(ISNUMBER(F47),IF(AND(F47>=0,F47<250),IF($F47<>$H47,IF(F47=0,TRUE(),IF(MOD(F47,1)=0,TRUE(),FALSE())),FALSE()),FALSE()),FALSE())) -> TRUE | O47: =IF(ISBLANK(H47),"",IF(ISNUMBER(H47),IF(AND(H47>=0,H47<250),IF($F47<>$H47,IF(H47=0,TRUE(),IF(MOD(H47,1)=0,TRUE(),FALSE())),FALSE()),FALSE()),FALSE())) -> TRUE | P47: =SUM(M47) -> 0
D48: =IF(C48>0,":","") | G48: =IF(ISNUMBER(F48),":","") | M48: =IF(ISNUMBER(L48),IF(IF(F48>H48,1,"")=L48,I48,IF(IF(F48<H48,2,"")=L48,K48,IF(IF(F48=H48,0,"")=L48,J48,0))),"") | N48: =IF(ISBLANK(F48),"",IF(ISNUMBER(F48),IF(AND(F48>=0,F48<250),IF($F48<>$H48,IF(F48=0,TRUE(),IF(MOD(F48,1)=0,TRUE(),FALSE())),FALSE()),FALSE()),FALSE())) | O48: =IF(ISBLANK(H48),"",IF(ISNUMBER(H48),IF(AND(H48>=0,H48<250),IF($F48<>$H48,IF(H48=0,TRUE(),IF(MOD(H48,1)=0,TRUE(),FALSE())),FALSE()),FALSE()),FALSE()))
B49: Spiel 4 | C49: Ulm | D49: =IF(C49>0,":","") -> : | E49: Bayern | F49: 53 | G49: =IF(ISNUMBER(F49),":","") -> : | H49: 67 | I49: 2.05 | K49: 1.75 | L49: 2 | M49: =IF(ISNUMBER(L49),IF(IF(F49>H49,1,"")=L49,I49,IF(IF(F49<H49,2,"")=L49,K49,IF(IF(F49=H49,0,"")=L49,J49,0))),"") -> 1.75 | N49: =IF(ISBLANK(F49),"",IF(ISNUMBER(F49),IF(AND(F49>=0,F49<250),IF($F49<>$H49,IF(F49=0,TRUE(),IF(MOD(F49,1)=0,TRUE(),FALSE())),FALSE()),FALSE()),FALSE())) -> TRUE | O49: =IF(ISBLANK(H49),"",IF(ISNUMBER(H49),IF(AND(H49>=0,H49<250),IF($F49<>$H49,IF(H49=0,TRUE(),IF(MOD(H49,1)=0,TRUE(),FALSE())),FALSE()),FALSE()),FALSE())) -> TRUE | P49: =SUM(M49) -> 1.75
D50: =IF(C50>0,":","") | G50: =IF(ISNUMBER(F50),":","") | M50: =IF(ISNUMBER(L50),IF(IF(F50>H50,1,"")=L50,I50,IF(IF(F50<H50,2,"")=L50,K50,IF(IF(F50=H50,0,"")=L50,J50,0))),"") | N50: =IF(ISBLANK(F50),"",IF(ISNUMBER(F50),IF(AND(F50>=0,F50<250),IF($F50<>$H50,IF(F50=0,TRUE(),IF(MOD(F50,1)=0,TRUE(),FALSE())),FALSE()),FALSE()),FALSE())) | O50: =IF(ISBLANK(H50),"",IF(ISNUMBER(H50),IF(AND(H50>=0,H50<250),IF($F50<>$H50,IF(H50=0,TRUE(),IF(MOD(H50,1)=0,TRUE(),FALSE())),FALSE()),FALSE()),FALSE()))
B51: Spiel 5 | C51: Bayern | D51: =IF(C51>0,":","") -> : | E51: Ulm | F51: 81 | H51: 77 | I51: 1.25 | K51: 3.8 | L51: 1 | M51: =IF(ISNUMBER(L51),IF(IF(F51>H51,1,"")=L51,I51,IF(IF(F51<H51,2,"")=L51,K51,IF(IF(F51=H51,0,"")=L51,J51,0))),"") -> 1.25 | N51: =IF(ISBLANK(F51),"",IF(ISNUMBER(F51),IF(AND(F51>=0,F51<250),IF($F51<>$H51,IF(F51=0,TRUE(),IF(MOD(F51,1)=0,TRUE(),FALSE())),FALSE()),FALSE()),FALSE())) -> TRUE | O51: =IF(ISBLANK(H51),"",IF(ISNUMBER(H51),IF(AND(H51>=0,H51<250),IF($F51<>$H51,IF(H51=0,TRUE(),IF(MOD(H51,1)=0,TRUE(),FALSE())),FALSE()),FALSE()),FALSE())) -> TRUE | P51: =SUM(M51) -> 1.25
D52: =IF(C52>0,":","") | G52: =IF(ISNUMBER(F52),":","") | N52: =IF(ISBLANK(F52),"",IF(ISNUMBER(F52),IF(AND(F52>=0,F52<250),IF($F52<>$H52,IF(F52=0,TRUE(),IF(MOD(F52,1)=0,TRUE(),FALSE())),FALSE()),FALSE()),FALSE())) | O52: =IF(ISBLANK(H52),"",IF(ISNUMBER(H52),IF(AND(H52>=0,H52<250),IF($F52<>$H52,IF(H52=0,TRUE(),IF(MOD(H52,1)=0,TRUE(),FALSE())),FALSE()),FALSE()),FALSE()))
D53: =IF(C53>0,":","") | G53: =IF(ISNUMBER(F53),":","") | N53: =IF(ISBLANK(F53),"",IF(ISNUMBER(F53),IF(AND(F53>=0,F53<250),IF($F53<>$H53,IF(F53=0,TRUE(),IF(MOD(F53,1)=0,TRUE(),FALSE())),FALSE()),FALSE()),FALSE())) | O53: =IF(ISBLANK(H53),"",IF(ISNUMBER(H53),IF(AND(H53>=0,H53<250),IF($F53<>$H53,IF(H53=0,TRUE(),IF(MOD(H53,1)=0,TRUE(),FALSE())),FALSE()),FALSE()),FALSE()))
D54: =IF(C54>0,":","") | G54: =IF(ISNUMBER(F54),":","") | N54: =IF(ISBLANK(F54),"",IF(ISNUMBER(F54),IF(AND(F54>=0,F54<250),IF($F54<>$H54,IF(F54=0,TRUE(),IF(MOD(F54,1)=0,TRUE(),FALSE())),FALSE()),FALSE()),FALSE())) | O54: =IF(ISBLANK(H54),"",IF(ISNUMBER(H54),IF(AND(H54>=0,H54<250),IF($F54<>$H54,IF(H54=0,TRUE(),IF(MOD(H54,1)=0,TRUE(),FALSE())),FALSE()),FALSE()),FALSE()))
D55: =IF(C55>0,":","") | G55: =IF(ISNUMBER(F55),":","") | N55: =IF(ISBLANK(F55),"",IF(ISNUMBER(F55),IF(AND(F55>=0,F55<250),IF($F55<>$H55,IF(F55=0,TRUE(),IF(MOD(F55,1)=0,TRUE(),FALSE())),FALSE()),FALSE()),FALSE())) | O55: =IF(ISBLANK(H55),"",IF(ISNUMBER(H55),IF(AND(H55>=0,H55<250),IF($F55<>$H55,IF(H55=0,TRUE(),IF(MOD(H55,1)=0,TRUE(),FALSE())),FALSE()),FALSE()),FALSE()))
D56: =IF(C56>0,":","") | G56: =IF(ISNUMBER(F56),":","") | N56: =IF(ISBLANK(F56),"",IF(ISNUMBER(F56),IF(AND(F56>=0,F56<250),IF($F56<>$H56,IF(F56=0,TRUE(),IF(MOD(F56,1)=0,TRUE(),FALSE())),FALSE()),FALSE()),FALSE())) | O56: =IF(ISBLANK(H56),"",IF(ISNUMBER(H56),IF(AND(H56>=0,H56<250),IF($F56<>$H56,IF(H56=0,TRUE(),IF(MOD(H56,1)=0,TRUE(),FALSE())),FALSE()),FALSE()),FALSE()))
D57: =IF(C57>0,":","") | G57: =IF(ISNUMBER(F57),":","") | N57: =IF(ISBLANK(F57),"",IF(ISNUMBER(F57),IF(AND(F57>=0,F57<250),IF($F57<>$H57,IF(F57=0,TRUE(),IF(MOD(F57,1)=0,TRUE(),FALSE())),FALSE()),FALSE()),FALSE())) | O57: =IF(ISBLANK(H57),"",IF(ISNUMBER(H57),IF(AND(H57>=0,H57<250),IF($F57<>$H57,IF(H57=0,TRUE(),IF(MOD(H57,1)=0,TRUE(),FALSE())),FALSE()),FALSE()),FALSE()))
D58: =IF(C58>0,":","") | G58: =IF(ISNUMBER(F58),":","") | N58: =IF(ISBLANK(F58),"",IF(ISNUMBER(F58),IF(AND(F58>=0,F58<250),IF($F58<>$H58,IF(F58=0,TRUE(),IF(MOD(F58,1)=0,TRUE(),FALSE())),FALSE()),FALSE()),FALSE())) | O58: =IF(ISBLANK(H58),"",IF(ISNUMBER(H58),IF(AND(H58>=0,H58<250),IF($F58<>$H58,IF(H58=0,TRUE(),IF(MOD(H58,1)=0,TRUE(),FALSE())),FALSE()),FALSE()),FALSE()))
D59: =IF(C59>0,":","") | G59: =IF(ISNUMBER(F59),":","") | N59: =IF(ISBLANK(F59),"",IF(ISNUMBER(F59),IF(AND(F59>=0,F59<250),IF($F59<>$H59,IF(F59=0,TRUE(),IF(MOD(F59,1)=0,TRUE(),FALSE())),FALSE()),FALSE()),FALSE())) | O59: =IF(ISBLANK(H59),"",IF(ISNUMBER(H59),IF(AND(H59>=0,H59<250),IF($F59<>$H59,IF(H59=0,TRUE(),IF(MOD(H59,1)=0,TRUE(),FALSE())),FALSE()),FALSE()),FALSE()))
D60: =IF(C60>0,":","") | G60: =IF(ISNUMBER(F60),":","") | N60: =IF(ISBLANK(F60),"",IF(ISNUMBER(F60),IF(AND(F60>=0,F60<250),IF($F60<>$H60,IF(F60=0,TRUE(),IF(MOD(F60,1)=0,TRUE(),FALSE())),FALSE()),FALSE()),FALSE())) | O60: =IF(ISBLANK(H60),"",IF(ISNUMBER(H60),IF(AND(H60>=0,H60<250),IF($F60<>$H60,IF(H60=0,TRUE(),IF(MOD(H60,1)=0,TRUE(),FALSE())),FALSE()),FALSE()),FALSE()))
D61: =IF(C61>0,":","") | G61: =IF(ISNUMBER(F61),":","") | N61: =IF(ISBLANK(F61),"",IF(ISNUMBER(F61),IF(AND(F61>=0,F61<250),IF($F61<>$H61,IF(F61=0,TRUE(),IF(MOD(F61,1)=0,TRUE(),FALSE())),FALSE()),FALSE()),FALSE())) | O61: =IF(ISBLANK(H61),"",IF(ISNUMBER(H61),IF(AND(H61>=0,H61<250),IF($F61<>$H61,IF(H61=0,TRUE(),IF(MOD(H61,1)=0,TRUE(),FALSE())),FALSE()),FALSE()),FALSE()))
D62: =IF(C62>0,":","") | G62: =IF(ISNUMBER(F62),":","") | N62: =IF(ISBLANK(F62),"",IF(ISNUMBER(F62),IF(AND(F62>=0,F62<250),IF($F62<>$H62,IF(F62=0,TRUE(),IF(MOD(F62,1)=0,TRUE(),FALSE())),FALSE()),FALSE()),FALSE())) | O62: =IF(ISBLANK(H62),"",IF(ISNUMBER(H62),IF(AND(H62>=0,H62<250),IF($F62<>$H62,IF(H62=0,TRUE(),IF(MOD(H62,1)=0,TRUE(),FALSE())),FALSE()),FALSE()),FALSE()))
D63: =IF(C63>0,":","") | G63: =IF(ISNUMBER(F63),":","") | N63: =IF(ISBLANK(F63),"",IF(ISNUMBER(F63),IF(AND(F63>=0,F63<250),IF($F63<>$H63,IF(F63=0,TRUE(),IF(MOD(F63,1)=0,TRUE(),FALSE())),FALSE()),FALSE()),FALSE())) | O63: =IF(ISBLANK(H63),"",IF(ISNUMBER(H63),IF(AND(H63>=0,H63<250),IF($F63<>$H63,IF(H63=0,TRUE(),IF(MOD(H63,1)=0,TRUE(),FALSE())),FALSE()),FALSE()),FALSE()))
... D79: =IF(C79>0,":","") | G79: =IF(ISNUMBER(F79),":","") | N79: =IF(ISBLANK(F79),"",IF(ISNUMBER(F79),IF(AND(F79>=0,F79<250),IF($F79<>$H79,IF(F79=0,TRUE(),IF(MOD(F79,1)=0,TRUE(),FALSE())),FALSE()),FALSE()),FALSE())) | O79: =IF(ISBLANK(H79),"",IF(ISNUMBER(H79),IF(AND(H79>=0,H79<250),IF($F79<>$H79,IF(H79=0,TRUE(),IF(MOD(H79,1)=0,TRUE(),FALSE())),FALSE()),FALSE()),FALSE()))
D80: =IF(C80>0,":","") | G80: =IF(ISNUMBER(F80),":","") | M80: =IF(ISNUMBER(L80),IF(IF(F80>H80,1,"")=L80,I80,IF(IF(F80<H80,2,"")=L80,K80,IF(IF(F80=H80,0,"")=L80,J80,0))),"") | N80: =IF(ISBLANK(F80),"",IF(ISNUMBER(F80),IF(AND(F80>=0,F80<250),IF($F80<>$H80,IF(F80=0,TRUE(),IF(MOD(F80,1)=0,TRUE(),FALSE())),FALSE()),FALSE()),FALSE())) | O80: =IF(ISBLANK(H80),"",IF(ISNUMBER(H80),IF(AND(H80>=0,H80<250),IF($F80<>$H80,IF(H80=0,TRUE(),IF(MOD(H80,1)=0,TRUE(),FALSE())),FALSE()),FALSE()),FALSE()))
D81: =IF(C81>0,":","") | G81: =IF(ISNUMBER(F81),":","") | M81: =IF(ISNUMBER(L81),IF(IF(F81>H81,1,"")=L81,I81,IF(IF(F81<H81,2,"")=L81,K81,IF(IF(F81=H81,0,"")=L81,J81,0))),"") | N81: =IF(ISBLANK(F81),"",IF(ISNUMBER(F81),IF(AND(F81>=0,F81<250),IF($F81<>$H81,IF(F81=0,TRUE(),IF(MOD(F81,1)=0,TRUE(),FALSE())),FALSE()),FALSE()),FALSE())) | O81: =IF(ISBLANK(H81),"",IF(ISNUMBER(H81),IF(AND(H81>=0,H81<250),IF($F81<>$H81,IF(H81=0,TRUE(),IF(MOD(H81,1)=0,TRUE(),FALSE())),FALSE()),FALSE()),FALSE()))
D82: =IF(C82>0,":","") | G82: =IF(ISNUMBER(F82),":","") | M82: =IF(ISNUMBER(L82),IF(IF(F82>H82,1,"")=L82,I82,IF(IF(F82<H82,2,"")=L82,K82,IF(IF(F82=H82,0,"")=L82,J82,0))),"") | N82: =IF(ISBLANK(F82),"",IF(ISNUMBER(F82),IF(AND(F82>=0,F82<250),IF($F82<>$H82,IF(F82=0,TRUE(),IF(MOD(F82,1)=0,TRUE(),FALSE())),FALSE()),FALSE()),FALSE())) | O82: =IF(ISBLANK(H82),"",IF(ISNUMBER(H82),IF(AND(H82>=0,H82<250),IF($F82<>$H82,IF(H82=0,TRUE(),IF(MOD(H82,1)=0,TRUE(),FALSE())),FALSE()),FALSE()),FALSE()))
D83: =IF(C83>0,":","") | G83: =IF(ISNUMBER(F83),":","") | M83: =IF(ISNUMBER(L83),IF(IF(F83>H83,1,"")=L83,I83,IF(IF(F83<H83,2,"")=L83,K83,IF(IF(F83=H83,0,"")=L83,J83,0))),"") | N83: =IF(ISBLANK(F83),"",IF(ISNUMBER(F83),IF(AND(F83>=0,F83<250),IF($F83<>$H83,IF(F83=0,TRUE(),IF(MOD(F83,1)=0,TRUE(),FALSE())),FALSE()),FALSE()),FALSE())) | O83: =IF(ISBLANK(H83),"",IF(ISNUMBER(H83),IF(AND(H83>=0,H83<250),IF($F83<>$H83,IF(H83=0,TRUE(),IF(MOD(H83,1)=0,TRUE(),FALSE())),FALSE()),FALSE()),FALSE()))
