Workbook

Sheet Wertung
B2: BBL Playoffs 2025 | D2: Play-Ins | E2: PO VF | F2: PO HF | G2: Finale | H2: Gesamt
B3: 1 | C3: smashie | D3: =smashie!P5 -> 4.4 | E3: =smashie!P10+smashie!P15+smashie!P20+smashie!P23+smashie!P25 -> 21.42 | F3: =smashie!P28+smashie!P32+smashie!P35+smashie!P38+smashie!P40 -> 7.67 | G3: =smashie!P45+smashie!P47+smashie!P49+smashie!P51 -> 5.5 | H3: =SUM(D3:G3) -> 38.99
B4: 2 | C4: Sueviti | D4: =Sueviti!P5 -> 2.85 | E4: =Sueviti!P10+Sueviti!P15+Sueviti!P20+Sueviti!P23+Sueviti!P25 -> 15.4 | F4: =Sueviti!P28+Sueviti!P32+Sueviti!P35+Sueviti!P38+Sueviti!P40 -> 11.92 | G4: =Sueviti!P43+Sueviti!P45+Sueviti!P47+Sueviti!P49+Sueviti!P51 -> 8 | H4: =SUM(D4:G4) -> 38.17
B5: 3 | C5: gerhard | D5: =gerhard!P5 -> 1.55 | E5: =gerhard!P10+gerhard!P15+gerhard!P20+gerhard!P23+gerhard!P25 -> 15.43 | F5: =gerhard!P28+gerhard!P32+gerhard!P35+gerhard!P38+gerhard!P40 -> 14.17 | G5: =gerhard!P43+gerhard!P45+gerhard!P47+gerhard!P49+gerhard!P51 -> 5.5 | H5: =SUM(D5:G5) -> 36.65
B6: 4 | C6: Steve | D6: =Steve!P5 -> 2.85 | E6: =Steve!P10+Steve!P15+Steve!P20+Steve!P23+Steve!P25 -> 18.69 | F6: =Steve!P28+Steve!P32+Steve!P35+Steve!P38+Steve!P40 -> 8.39 | G6: =Steve!P43+Steve!P45+Steve!P47+Steve!P49+Steve!P51 -> 5.9 | H6: =SUM(D6:G6) -> 35.83
B7: 5 | C7: Kim_Unicorn | D7: =Kim_Unicorn!P5 -> 4.4 | E7: =Kim_Unicorn!P10+Kim_Unicorn!P15+Kim_Unicorn!P20+Kim_Unicorn!P23+Kim_Unicorn!P25 -> 15.65 | F7: =Kim_Unicorn!P28+Kim_Unicorn!P32+Kim_Unicorn!P35+Kim_Unicorn!P38+Kim_Unicorn!P40 -> 11.92 | G7: =Kim_Unicorn!P43+Kim_Unicorn!P45+Kim_Unicorn!P47+Kim_Unicorn!P49+Kim_Unicorn!P51 -> 3.35 | H7: =SUM(D7:G7) -> 35.32
B8: 6 | C8: ehirsch | D8: =ehirsch!P5 -> 3.2 | E8: =ehirsch!P10+ehirsch!P15+ehirsch!P20+ehirsch!P23+ehirsch!P25 -> 17.75 | F8: =ehirsch!P28+ehirsch!P32+ehirsch!P35+ehirsch!P38+ehirsch!P40 -> 7.67 | G8: =ehirsch!P43+ehirsch!P45+ehirsch!P47+ehirsch!P49+ehirsch!P51 -> 5.5 | H8: =SUM(D8:G8) -> 34.12
B9: 7 | C9: PaSe1991 | D9: =PaSe1991!P5 -> 4.4 | E9: =PaSe1991!P10+PaSe1991!P15+PaSe1991!P20+PaSe1991!P23+PaSe1991!P25 -> 14.95 | F9: =PaSe1991!P28+PaSe1991!P32+PaSe1991!P35+PaSe1991!P38+PaSe1991!P40 -> 5.92 | G9: =PaSe1991!P43+PaSe1991!P45+PaSe1991!P47+PaSe1991!P49+PaSe1991!P51 -> 6.35 | H9: =SUM(D9:G9) -> 31.62
B10: 8 | C10: Sirtobi89 | D10: =Sirtobi89!P5 -> 2.85 | E10: =Sirtobi89!P10+Sirtobi89!P15+Sirtobi89!P20+Sirtobi89!P23+Sirtobi89!P25 -> 16.95 | F10: =Sirtobi89!P28+Sirtobi89!P32+Sirtobi89!P35+Sirtobi89!P38+Sirtobi89!P40 -> 7.67 | G10: =Sirtobi89!P43+Sirtobi89!P45+Sirtobi89!P47+Sirtobi89!P49+Sirtobi89!P51 -> 3.35 | H10: =SUM(D10:G10) -> 30.82
B11: 9 | C11: Psychosoph | D11: =Psychosoph!P5 -> 4.4 | E11: =Psychosoph!P10+Psychosoph!P15+Psychosoph!P20+Psychosoph!P23+Psychosoph!P25 -> 15.35 | F11: =Psychosoph!P28+Psychosoph!P32+Psychosoph!P35+Psychosoph!P38+Psychosoph!P40 -> 7.67 | G11: =Psychosoph!P43+Psychosoph!P45+Psychosoph!P47+Psychosoph!P49+Psychosoph!P51 -> 3.35 | H11: =SUM(D11:G11) -> 30.77
B12: 10 | C12: Mape | D12: =Mape!P5 -> 4.4 | E12: =Mape!P10+Mape!P15+Mape!P20+Mape!P23+Mape!P25 -> 12.7 | F12: =Mape!P28+Mape!P32+Mape!P35+Mape!P38+Mape!P40 -> 7.67 | G12: =Mape!P43+Mape!P45+Mape!P47+Mape!P49+Mape!P51 -> 2.1 | H12: =SUM(D12:G12) -> 26.87
B13: 11 | C13: Anklebreaker711 | E13: =Anklebreaker711!P10+Anklebreaker711!P15+Anklebreaker711!P20 -> 7.07 | G13: =Anklebreaker711!P47+Anklebreaker711!P49+Anklebreaker711!P51 -> 3.4 | H13: =SUM(D13:G13) -> 10.47
B14: 12 | C14: Fässla | D14: =Mape!P14 -> 0 | G14: =Fässla!P43+Fässla!P45+Fässla!P47+Fässla!P49+Fässla!P51 -> 4.6 | H14: =SUM(D14:G14) -> 4.6
B15: 13 | C15: whiteiverson | D15: =Mape!P14 -> 0 | G15: =whiteiverson!P43+whiteiverson!P45+whiteiverson!P47+whiteiverson!P49+whiteiverson!P51 -> 4.25 | H15: =SUM(D15:G15) -> 4.25

Sheet Steve
A1: Steve | B1: Spieltag | C1: Heim | E1: Auswärts | F1: Ergebnis | I1: 1 | J1: 2 | K1: 2 | L1: Tipp | M1: Richtig | N1: Gültigk. D | O1: Gültik. F | P1: Gesamt
B2: Play-Ins | C2: Berlin | D2: =IF(C2>0,":","") -> : | E2: MBC | F2: 81 | G2: =IF(ISNUMBER(F2),":","") -> : | H2: 78 | I2: 1.2 | K2: 4.5 | L2: 1 | M2: =IF(ISNUMBER(L2),IF(IF(F2>H2,1,"")=L2,I2,IF(IF(F2<H2,2,"")=L2,K2,IF(IF(F2=H2,0,"")=L2,J2,0))),"") -> 1.2 | N2: =IF(ISBLANK(F2),"",IF(ISNUMBER(F2),IF(AND(F2>=0,F2<250),IF($F2<>$H2,IF(F2=0,TRUE(),IF(MOD(F2,1)=0,TRUE(),FALSE())),FALSE()),FALSE()),FALSE())) -> TRUE | O2: =IF(ISBLANK(H2),"",IF(ISNUMBER(H2),IF(AND(H2>=0,H2<250),IF($F2<>$H2,IF(H2=0,TRUE(),IF(MOD(H2,1)=0,TRUE(),FALSE())),FALSE()),FALSE()),FALSE())) -> TRUE
C3: Oldenburg | D3: =IF(C3>0,":","") -> : | E3: Rostock | F3: 95 | G3: =IF(ISNUMBER(F3),":","") -> : | H3: 83 | I3: 1.65 | K3: 2.2 | L3: 1 | M3: =IF(ISNUMBER(L3),IF(IF(F3>H3,1,"")=L3,I3,IF(IF(F3<H3,2,"")=L3,K3,IF(IF(F3=H3,0,"")=L3,J3,0))),"") -> 1.65 | N3: =IF(ISBLANK(F3),"",IF(ISNUMBER(F3),IF(AND(F3>=0,F3<250),IF($F3<>$H3,IF(F3=0,TRUE(),IF(MOD(F3,1)=0,TRUE(),FALSE())),FALSE()),FALSE()),FALSE())) -> TRUE | O3: =IF(ISBLANK(H3),"",IF(ISNUMBER(H3),IF(AND(H3>=0,H3<250),IF($F3<>$H3,IF(H3=0,TRUE(),IF(MOD(H3,1)=0,TRUE(),FALSE())),FALSE()),FALSE()),FALSE())) -> TRUE
D4: =IF(C4>0,":","") | G4: =IF(ISNUMBER(F4),":","") | M4: =IF(ISNUMBER(L4),IF(IF(F4>H4,1,"")=L4,I4,IF(IF(F4<H4,2,"")=L4,K4,IF(IF(F4=H4,0,"")=L4,J4,0))),"") | N4: =IF(ISBLANK(F4),"",IF(ISNUMBER(F4),IF(AND(F4>=0,F4<250),IF($F4<>$H4,IF(F4=0,TRUE(),IF(MOD(F4,1)=0,TRUE(),FALSE())),FALSE()),FALSE()),FALSE())) | O4: =IF(ISBLANK(H4),"",IF(ISNUMBER(H4),IF(AND(H4>=0,H4<250),IF($F4<>$H4,IF(H4=0,TRUE(),IF(MOD(H4,1)=0,TRUE(),FALSE())),FALSE()),FALSE()),FALSE()))
C5: MBC | D5: =IF(C5>0,":","") -> : | E5: Oldenburg | F5: 110 | H5: 95 | I5: 1.55 | K5: 2.4 | L5: 2 | M5: =IF(ISNUMBER(L5),IF(IF(F5>H5,1,"")=L5,I5,IF(IF(F5<H5,2,"")=L5,K5,IF(IF(F5=H5,0,"")=L5,J5,0))),"") -> 0 | N5: =IF(ISBLANK(F5),"",IF(ISNUMBER(F5),IF(AND(F5>=0,F5<250),IF($F5<>$H5,IF(F5=0,TRUE(),IF(MOD(F5,1)=0,TRUE(),FALSE())),FALSE()),FALSE()),FALSE())) -> TRUE | O5: =IF(ISBLANK(H5),"",IF(ISNUMBER(H5),IF(AND(H5>=0,H5<250),IF($F5<>$H5,IF(H5=0,TRUE(),IF(MOD(H5,1)=0,TRUE(),FALSE())),FALSE()),FALSE()),FALSE())) -> TRUE | P5: =SUM(M2:M5) -> 2.85
D6: =IF(C6>0,":","") | G6: =IF(ISNUMBER(F6),":","") | M6: =IF(ISNUMBER(L6),IF(IF(F6>H6,1,"")=L6,I6,IF(IF(F6<H6,2,"")=L6,K6,IF(IF(F6=H6,0,"")=L6,J6,0))),"") | N6: =IF(ISBLANK(F6),"",IF(ISNUMBER(F6),IF(AND(F6>=0,F6<250),IF($F6<>$H6,IF(F6=0,TRUE(),IF(MOD(F6,1)=0,TRUE(),FALSE())),FALSE()),FALSE()),FALSE())) | O6: =IF(ISBLANK(H6),"",IF(ISNUMBER(H6),IF(AND(H6>=0,H6<250),IF($F6<>$H6,IF(H6=0,TRUE(),IF(MOD(H6,1)=0,TRUE(),FALSE())),FALSE()),FALSE()),FALSE()))
B7: Playoffs | C7: Chemnitz | D7: =IF(C7>0,":","") -> : | E7: Heidelberg | F7: 90 | G7: =IF(ISNUMBER(F7),":","") -> : | H7: 93 | I7: 1.4 | K7: 2.9 | L7: 1 | M7: =IF(ISNUMBER(L7),IF(IF(F7>H7,1,"")=L7,I7,IF(IF(F7<H7,2,"")=L7,K7,IF(IF(F7=H7,0,"")=L7,J7,0))),"") -> 0 | N7: =IF(ISBLANK(F7),"",IF(ISNUMBER(F7),IF(AND(F7>=0,F7<250),IF($F7<>$H7,IF(F7=0,TRUE(),IF(MOD(F7,1)=0,TRUE(),FALSE())),FALSE()),FALSE()),FALSE())) -> TRUE | O7: =IF(ISBLANK(H7),"",IF(ISNUMBER(H7),IF(AND(H7>=0,H7<250),IF($F7<>$H7,IF(H7=0,TRUE(),IF(MOD(H7,1)=0,TRUE(),FALSE())),FALSE()),FALSE()),FALSE())) -> TRUE
B8: 1. Runde | C8: ULM | D8: =IF(C8>0,":","") -> : | E8: ALBA | F8: 94 | G8: =IF(ISNUMBER(F8),":","") -> : | H8: 83 | I8: 1.55 | K8: 2.4 | L8: 1 | M8: =IF(ISNUMBER(L8),IF(IF(F8>H8,1,"")=L8,I8,IF(IF(F8<H8,2,"")=L8,K8,IF(IF(F8=H8,0,"")=L8,J8,0))),"") -> 1.55 | N8: =IF(ISBLANK(F8),"",IF(ISNUMBER(F8),IF(AND(F8>=0,F8<250),IF($F8<>$H8,IF(F8=0,TRUE(),IF(MOD(F8,1)=0,TRUE(),FALSE())),FALSE()),FALSE()),FALSE())) -> TRUE | O8: =IF(ISBLANK(H8),"",IF(ISNUMBER(H8),IF(AND(H8>=0,H8<250),IF($F8<>$H8,IF(H8=0,TRUE(),IF(MOD(H8,1)=0,TRUE(),FALSE())),FALSE()),FALSE()),FALSE())) -> TRUE
B9: Spiel 1 | C9: Bayern | D9: =IF(C9>0,":","") -> : | E9: MBC | F9: 78 | G9: =IF(ISNUMBER(F9),":","") -> : | H9: 60 | I9: 1.15 | K9: 5.2 | L9: 1 | M9: =IF(ISNUMBER(L9),IF(IF(F9>H9,1,"")=L9,I9,IF(IF(F9<H9,2,"")=L9,K9,IF(IF(F9=H9,0,"")=L9,J9,0))),"") -> 1.15 | N9: =IF(ISBLANK(F9),"",IF(ISNUMBER(F9),IF(AND(F9>=0,F9<250),IF($F9<>$H9,IF(F9=0,TRUE(),IF(MOD(F9,1)=0,TRUE(),FALSE())),FALSE()),FALSE()),FALSE())) -> TRUE | O9: =IF(ISBLANK(H9),"",IF(ISNUMBER(H9),IF(AND(H9>=0,H9<250),IF($F9<>$H9,IF(H9=0,TRUE(),IF(MOD(H9,1)=0,TRUE(),FALSE())),FALSE()),FALSE()),FALSE())) -> TRUE
C10: Braunschweig | D10: =IF(C10>0,":","") -> : | E10: Würzburg | F10: 92 | G10: =IF(ISNUMBER(F10),":","") -> : | H10: 79 | I10: 1.47 | K10: 2.6 | L10: 1 | M10: =IF(ISNUMBER(L10),IF(IF(F10>H10,1,"")=L10,I10,IF(IF(F10<H10,2,"")=L10,K10,IF(IF(F10=H10,0,"")=L10,J10,0))),"") -> 1.47 | N10: =IF(ISBLANK(F10),"",IF(ISNUMBER(F10),IF(AND(F10>=0,F10<250),IF($F10<>$H10,IF(F10=0,TRUE(),IF(MOD(F10,1)=0,TRUE(),FALSE())),FALSE()),FALSE()),FALSE())) -> TRUE | O10: =IF(ISBLANK(H10),"",IF(ISNUMBER(H10),IF(AND(H10>=0,H10<250),IF($F10<>$H10,IF(H10=0,TRUE(),IF(MOD(H10,1)=0,TRUE(),FALSE())),FALSE()),FALSE()),FALSE())) -> TRUE | P10: =SUM(M7:M10) -> 4.17
D11: =IF(C11>0,":","") | G11: =IF(ISNUMBER(F11),":","") | M11: =IF(ISNUMBER(L11),IF(IF(F11>H11,1,"")=L11,I11,IF(IF(F11<H11,2,"")=L11,K11,IF(IF(F11=H11,0,"")=L11,J11,0))),"") | N11: =IF(ISBLANK(F11),"",IF(ISNUMBER(F11),IF(AND(F11>=0,F11<250),IF($F11<>$H11,IF(F11=0,TRUE(),IF(MOD(F11,1)=0,TRUE(),FALSE())),FALSE()),FALSE()),FALSE())) | O11: =IF(ISBLANK(H11),"",IF(ISNUMBER(H11),IF(AND(H11>=0,H11<250),IF($F11<>$H11,IF(H11=0,TRUE(),IF(MOD(H11,1)=0,TRUE(),FALSE())),FALSE()),FALSE()),FALSE()))
B12: Playoffs | C12: Heidelberg | D12: =IF(C12>0,":","") -> : | E12: Chemnitz | F12: 74 | G12: =IF(ISNUMBER(F12),":","") -> : | H12: 70 | I12: 1.7 | K12: 2.1 | L12: 1 | M12: =IF(ISNUMBER(L12),IF(IF(F12>H12,1,"")=L12,I12,IF(IF(F12<H12,2,"")=L12,K12,IF(IF(F12=H12,0,"")=L12,J12,0))),"") -> 1.7 | N12: =IF(ISBLANK(F12),"",IF(ISNUMBER(F12),IF(AND(F12>=0,F12<250),IF($F12<>$H12,IF(F12=0,TRUE(),IF(MOD(F12,1)=0,TRUE(),FALSE())),FALSE()),FALSE()),FALSE())) -> TRUE | O12: =IF(ISBLANK(H12),"",IF(ISNUMBER(H12),IF(AND(H12>=0,H12<250),IF($F12<>$H12,IF(H12=0,TRUE(),IF(MOD(H12,1)=0,TRUE(),FALSE())),FALSE()),FALSE()),FALSE())) -> TRUE
B13: 1. Runde | C13: ALBA | D13: =IF(C13>0,":","") -> : | E13: ULM | F13: 62 | G13: =IF(ISNUMBER(F13),":","") -> : | H13: 74 | I13: 1.5 | K13: 2.55 | L13: 2 | M13: =IF(ISNUMBER(L13),IF(IF(F13>H13,1,"")=L13,I13,IF(IF(F13<H13,2,"")=L13,K13,IF(IF(F13=H13,0,"")=L13,J13,0))),"") -> 2.55 | N13: =IF(ISBLANK(F13),"",IF(ISNUMBER(F13),IF(AND(F13>=0,F13<250),IF($F13<>$H13,IF(F13=0,TRUE(),IF(MOD(F13,1)=0,TRUE(),FALSE())),FALSE()),FALSE()),FALSE())) -> TRUE | O13: =IF(ISBLANK(H13),"",IF(ISNUMBER(H13),IF(AND(H13>=0,H13<250),IF($F13<>$H13,IF(H13=0,TRUE(),IF(MOD(H13,1)=0,TRUE(),FALSE())),FALSE()),FALSE()),FALSE())) -> TRUE
B14: Spiel 2 | C14: MBC | D14: =IF(C14>0,":","") -> : | E14: Bayern | F14: 65 | G14: =IF(ISNUMBER(F14),":","") -> : | H14: 80 | I14: 3.4 | K14: 1.3 | L14: 2 | M14: =IF(ISNUMBER(L14),IF(IF(F14>H14,1,"")=L14,I14,IF(IF(F14<H14,2,"")=L14,K14,IF(IF(F14=H14,0,"")=L14,J14,0))),"") -> 1.3 | N14: =IF(ISBLANK(F14),"",IF(ISNUMBER(F14),IF(AND(F14>=0,F14<250),IF($F14<>$H14,IF(F14=0,TRUE(),IF(MOD(F14,1)=0,TRUE(),FALSE())),FALSE()),FALSE()),FALSE())) -> TRUE | O14: =IF(ISBLANK(H14),"",IF(ISNUMBER(H14),IF(AND(H14>=0,H14<250),IF($F14<>$H14,IF(H14=0,TRUE(),IF(MOD(H14,1)=0,TRUE(),FALSE())),FALSE()),FALSE()),FALSE())) -> TRUE
C15: Würzburg | D15: =IF(C15>0,":","") -> : | E15: Braunschweig | F15: 94 | G15: =IF(ISNUMBER(F15),":","") -> : | H15: 90 | I15: 1.57 | K15: 2.35 | L15: 1 | M15: =IF(ISNUMBER(L15),IF(IF(F15>H15,1,"")=L15,I15,IF(IF(F15<H15,2,"")=L15,K15,IF(IF(F15=H15,0,"")=L15,J15,0))),"") -> 1.57 | N15: =IF(ISBLANK(F15),"",IF(ISNUMBER(F15),IF(AND(F15>=0,F15<250),IF($F15<>$H15,IF(F15=0,TRUE(),IF(MOD(F15,1)=0,TRUE(),FALSE())),FALSE()),FALSE()),FALSE())) -> TRUE | O15: =IF(ISBLANK(H15),"",IF(ISNUMBER(H15),IF(AND(H15>=0,H15<250),IF($F15<>$H15,IF(H15=0,TRUE(),IF(MOD(H15,1)=0,TRUE(),FALSE())),FALSE()),FALSE()),FALSE())) -> TRUE | P15: =SUM(M12:M15) -> 7.12
D16: =IF(C16>0,":","") | G16: =IF(ISNUMBER(F16),":","") | M16: =IF(ISNUMBER(L16),IF(IF(F16>H16,1,"")=L16,I16,IF(IF(F16<H16,2,"")=L16,K16,IF(IF(F16=H16,0,"")=L16,J16,0))),"") | N16: =IF(ISBLANK(F16),"",IF(ISNUMBER(F16),IF(AND(F16>=0,F16<250),IF($F16<>$H16,IF(F16=0,TRUE(),IF(MOD(F16,1)=0,TRUE(),FALSE())),FALSE()),FALSE()),FALSE())) | O16: =IF(ISBLANK(H16),"",IF(ISNUMBER(H16),IF(AND(H16>=0,H16<250),IF($F16<>$H16,IF(H16=0,TRUE(),IF(MOD(H16,1)=0,TRUE(),FALSE())),FALSE()),FALSE()),FALSE()))
B17: Playoffs | C17: Bayern | D17: =IF(C17>0,":","") -> : | E17: MBC | F17: 80 | G17: =IF(ISNUMBER(F17),":","") -> : | H17: 69 | I17: 1.06 | K17: 8.5 | L17: 1 | M17: =IF(ISNUMBER(L17),IF(IF(F17>H17,1,"")=L17,I17,IF(IF(F17<H17,2,"")=L17,K17,IF(IF(F17=H17,0,"")=L17,J17,0))),"") -> 1.06 | N17: =IF(ISBLANK(F17),"",IF(ISNUMBER(F17),IF(AND(F17>=0,F17<250),IF($F17<>$H17,IF(F17=0,TRUE(),IF(MOD(F17,1)=0,TRUE(),FALSE())),FALSE()),FALSE()),FALSE())) -> TRUE | O17: =IF(ISBLANK(H17),"",IF(ISNUMBER(H17),IF(AND(H17>=0,H17<250),IF($F17<>$H17,IF(H17=0,TRUE(),IF(MOD(H17,1)=0,TRUE(),FALSE())),FALSE()),FALSE()),FALSE())) -> TRUE
B18: 1. Runde | C18: ULM | D18: =IF(C18>0,":","") -> : | E18: ALBA | F18: 93 | G18: =IF(ISNUMBER(F18),":","") -> : | H18: 84 | I18: 1.55 | K18: 2.4 | L18: 1 | M18: =IF(ISNUMBER(L18),IF(IF(F18>H18,1,"")=L18,I18,IF(IF(F18<H18,2,"")=L18,K18,IF(IF(F18=H18,0,"")=L18,J18,0))),"") -> 1.55 | N18: =IF(ISBLANK(F18),"",IF(ISNUMBER(F18),IF(AND(F18>=0,F18<250),IF($F18<>$H18,IF(F18=0,TRUE(),IF(MOD(F18,1)=0,TRUE(),FALSE())),FALSE()),FALSE()),FALSE())) -> TRUE | O18: =IF(ISBLANK(H18),"",IF(ISNUMBER(H18),IF(AND(H18>=0,H18<250),IF($F18<>$H18,IF(H18=0,TRUE(),IF(MOD(H18,1)=0,TRUE(),FALSE())),FALSE()),FALSE()),FALSE())) -> TRUE
B19: Spiel 3 | C19: Braunschweig | D19: =IF(C19>0,":","") -> : | E19: Würzburg | F19: 80 | G19: =IF(ISNUMBER(F19),":","") -> : | H19: 75 | I19: 1.5 | K19: 2.55 | L19: 1 | M19: =IF(ISNUMBER(L19),IF(IF(F19>H19,1,"")=L19,I19,IF(IF(F19<H19,2,"")=L19,K19,IF(IF(F19=H19,0,"")=L19,J19,0))),"") -> 1.5 | N19: =IF(ISBLANK(F19),"",IF(ISNUMBER(F19),IF(AND(F19>=0,F19<250),IF($F19<>$H19,IF(F19=0,TRUE(),IF(MOD(F19,1)=0,TRUE(),FALSE())),FALSE()),FALSE()),FALSE())) -> TRUE | O19: =IF(ISBLANK(H19),"",IF(ISNUMBER(H19),IF(AND(H19>=0,H19<250),IF($F19<>$H19,IF(H19=0,TRUE(),IF(MOD(H19,1)=0,TRUE(),FALSE())),FALSE()),FALSE()),FALSE())) -> TRUE
C20: Chemnitz | D20: =IF(C20>0,":","") -> : | E20: Heidelberg | F20: 97 | G20: =IF(ISNUMBER(F20),":","") -> : | H20: 88 | I20: 1.4 | K20: 2.9 | L20: 2 | M20: =IF(ISNUMBER(L20),IF(IF(F20>H20,1,"")=L20,I20,IF(IF(F20<H20,2,"")=L20,K20,IF(IF(F20=H20,0,"")=L20,J20,0))),"") -> 0 | N20: =IF(ISBLANK(F20),"",IF(ISNUMBER(F20),IF(AND(F20>=0,F20<250),IF($F20<>$H20,IF(F20=0,TRUE(),IF(MOD(F20,1)=0,TRUE(),FALSE())),FALSE()),FALSE()),FALSE())) -> TRUE | O20: =IF(ISBLANK(H20),"",IF(ISNUMBER(H20),IF(AND(H20>=0,H20<250),IF($F20<>$H20,IF(H20=0,TRUE(),IF(MOD(H20,1)=0,TRUE(),FALSE())),FALSE()),FALSE()),FALSE())) -> TRUE | P20: =SUM(M17:M20) -> 4.11
D21: =IF(C21>0,":","") | G21: =IF(ISNUMBER(F21),":","") | M21: =IF(ISNUMBER(L21),IF(IF(F21>H21,1,"")=L21,I21,IF(IF(F21<H21,2,"")=L21,K21,IF(IF(F21=H21,0,"")=L21,J21,0))),"") | N21: =IF(ISBLANK(F21),"",IF(ISNUMBER(F21),IF(AND(F21>=0,F21<250),IF($F21<>$H21,IF(F21=0,TRUE(),IF(MOD(F21,1)=0,TRUE(),FALSE())),FALSE()),FALSE()),FALSE())) | O21: =IF(ISBLANK(H21),"",IF(ISNUMBER(H21),IF(AND(H21>=0,H21<250),IF($F21<>$H21,IF(H21=0,TRUE(),IF(MOD(H21,1)=0,TRUE(),FALSE())),FALSE()),FALSE()),FALSE()))
B22: Spiel 4 | C22: Heidelberg | D22: =IF(C22>0,":","") -> : | E22: Chemnitz | F22: 92 | G22: =IF(ISNUMBER(F22),":","") -> : | H22: 64 | I22: 1.67 | K22: 2.15 | L22: 1 | M22: =IF(ISNUMBER(L22),IF(IF(F22>H22,1,"")=L22,I22,IF(IF(F22<H22,2,"")=L22,K22,IF(IF(F22=H22,0,"")=L22,J22,0))),"") -> 1.67 | N22: =IF(ISBLANK(F22),"",IF(ISNUMBER(F22),IF(AND(F22>=0,F22<250),IF($F22<>$H22,IF(F22=0,TRUE(),IF(MOD(F22,1)=0,TRUE(),FALSE())),FALSE()),FALSE()),FALSE())) -> TRUE | O22: =IF(ISBLANK(H22),"",IF(ISNUMBER(H22),IF(AND(H22>=0,H22<250),IF($F22<>$H22,IF(H22=0,TRUE(),IF(MOD(H22,1)=0,TRUE(),FALSE())),FALSE()),FALSE()),FALSE())) -> TRUE
C23: Würzburg | D23: =IF(C23>0,":","") -> : | E23: Braunschweig | F23: 79 | G23: =IF(ISNUMBER(F23),":","") -> : | H23: 72 | I23: 1.62 | K23: 2.25 | L23: 1 | M23: =IF(ISNUMBER(L23),IF(IF(F23>H23,1,"")=L23,I23,IF(IF(F23<H23,2,"")=L23,K23,IF(IF(F23=H23,0,"")=L23,J23,0))),"") -> 1.62 | N23: =IF(ISBLANK(F23),"",IF(ISNUMBER(F23),IF(AND(F23>=0,F23<250),IF($F23<>$H23,IF(F23=0,TRUE(),IF(MOD(F23,1)=0,TRUE(),FALSE())),FALSE()),FALSE()),FALSE())) -> TRUE | O23: =IF(ISBLANK(H23),"",IF(ISNUMBER(H23),IF(AND(H23>=0,H23<250),IF($F23<>$H23,IF(H23=0,TRUE(),IF(MOD(H23,1)=0,TRUE(),FALSE())),FALSE()),FALSE()),FALSE())) -> TRUE | P23: =SUM(M22:M23) -> 3.29
D24: =IF(C24>0,":","") | G24: =IF(ISNUMBER(F24),":","") | M24: =IF(ISNUMBER(L24),IF(IF(F24>H24,1,"")=L24,I24,IF(IF(F24<H24,2,"")=L24,K24,IF(IF(F24=H24,0,"")=L24,J24,0))),"") | N24: =IF(ISBLANK(F24),"",IF(ISNUMBER(F24),IF(AND(F24>=0,F24<250),IF($F24<>$H24,IF(F24=0,TRUE(),IF(MOD(F24,1)=0,TRUE(),FALSE())),FALSE()),FALSE()),FALSE())) | O24: =IF(ISBLANK(H24),"",IF(ISNUMBER(H24),IF(AND(H24>=0,H24<250),IF($F24<>$H24,IF(H24=0,TRUE(),IF(MOD(H24,1)=0,TRUE(),FALSE())),FALSE()),FALSE()),FALSE()))
B25: Spiel 5 | C25: Braunschweig | D25: =IF(C25>0,":","") -> : | E25: Würzburg | F25: 88 | G25: =IF(ISNUMBER(F25),":","") -> : | H25: 97 | I25: 1.55 | K25: 2.4 | L25: 1 | M25: =IF(ISNUMBER(L25),IF(IF(F25>H25,1,"")=L25,I25,IF(IF(F25<H25,2,"")=L25,K25,IF(IF(F25=H25,0,"")=L25,J25,0))),"") -> 0 | N25: =IF(ISBLANK(F25),"",IF(ISNUMBER(F25),IF(AND(F25>=0,F25<250),IF($F25<>$H25,IF(F25=0,TRUE(),IF(MOD(F25,1)=0,TRUE(),FALSE())),FALSE()),FALSE()),FALSE())) -> TRUE | O25: =IF(ISBLANK(H25),"",IF(ISNUMBER(H25),IF(AND(H25>=0,H25<250),IF($F25<>$H25,IF(H25=0,TRUE(),IF(MOD(H25,1)=0,TRUE(),FALSE())),FALSE()),FALSE()),FALSE())) -> TRUE | P25: =SUM(M25) -> 0
D26: =IF(C26>0,":","") | G26: =IF(ISNUMBER(F26),":","") | M26: =IF(ISNUMBER(L26),IF(IF(F26>H26,1,"")=L26,I26,IF(IF(F26<H26,2,"")=L26,K26,IF(IF(F26=H26,0,"")=L26,J26,0))),"") | N26: =IF(ISBLANK(F26),"",IF(ISNUMBER(F26),IF(AND(F26>=0,F26<250),IF($F26<>$H26,IF(F26=0,TRUE(),IF(MOD(F26,1)=0,TRUE(),FALSE())),FALSE()),FALSE()),FALSE())) | O26: =IF(ISBLANK(H26),"",IF(ISNUMBER(H26),IF(AND(H26>=0,H26<250),IF($F26<>$H26,IF(H26=0,TRUE(),IF(MOD(H26,1)=0,TRUE(),FALSE())),FALSE()),FALSE()),FALSE()))
B27: Playoffs | C27: Bayern | D27: =IF(C27>0,":","") -> : | E27: Heidelberg | F27: 90 | G27: =IF(ISNUMBER(F27),":","") -> : | H27: 95 | I27: 1.1 | K27: 6.5 | L27: 1 | M27: =IF(ISNUMBER(L27),IF(IF(F27>H27,1,"")=L27,I27,IF(IF(F27<H27,2,"")=L27,K27,IF(IF(F27=H27,0,"")=L27,J27,0))),"") -> 0 | N27: =IF(ISBLANK(F27),"",IF(ISNUMBER(F27),IF(AND(F27>=0,F27<250),IF($F27<>$H27,IF(F27=0,TRUE(),IF(MOD(F27,1)=0,TRUE(),FALSE())),FALSE()),FALSE()),FALSE())) -> TRUE | O27: =IF(ISBLANK(H27),"",IF(ISNUMBER(H27),IF(AND(H27>=0,H27<250),IF($F27<>$H27,IF(H27=0,TRUE(),IF(MOD(H27,1)=0,TRUE(),FALSE())),FALSE()),FALSE()),FALSE())) -> TRUE
B28: Halbfinale | C28: Ulm | D28: =IF(C28>0,":","") -> : | E28: Würzburg | F28: 91 | G28: =IF(ISNUMBER(F28),":","") -> : | H28: 87 | I28: 1.3 | K28: 3.4 | L28: 1 | M28: =IF(ISNUMBER(L28),IF(IF(F28>H28,1,"")=L28,I28,IF(IF(F28<H28,2,"")=L28,K28,IF(IF(F28=H28,0,"")=L28,J28,0))),"") -> 1.3 | N28: =IF(ISBLANK(F28),"",IF(ISNUMBER(F28),IF(AND(F28>=0,F28<250),IF($F28<>$H28,IF(F28=0,TRUE(),IF(MOD(F28,1)=0,TRUE(),FALSE())),FALSE()),FALSE()),FALSE())) -> TRUE | O28: =IF(ISBLANK(H28),"",IF(ISNUMBER(H28),IF(AND(H28>=0,H28<250),IF($F28<>$H28,IF(H28=0,TRUE(),IF(MOD(H28,1)=0,TRUE(),FALSE())),FALSE()),FALSE()),FALSE())) -> TRUE | P28: =SUM(M27:M28) -> 1.3
B29: Spiel 1 | D29: =IF(C29>0,":","") | G29: =IF(ISNUMBER(F29),":","") | M29: =IF(ISNUMBER(L29),IF(IF(F29>H29,1,"")=L29,I29,IF(IF(F29<H29,2,"")=L29,K29,IF(IF(F29=H29,0,"")=L29,J29,0))),"") | N29: =IF(ISBLANK(F29),"",IF(ISNUMBER(F29),IF(AND(F29>=0,F29<250),IF($F29<>$H29,IF(F29=0,TRUE(),IF(MOD(F29,1)=0,TRUE(),FALSE())),FALSE()),FALSE()),FALSE())) | O29: =IF(ISBLANK(H29),"",IF(ISNUMBER(H29),IF(AND(H29>=0,H29<250),IF($F29<>$H29,IF(H29=0,TRUE(),IF(MOD(H29,1)=0,TRUE(),FALSE())),FALSE()),FALSE()),FALSE()))
D30: =IF(C30>0,":","") | G30: =IF(ISNUMBER(F30),":","") | M30: =IF(ISNUMBER(L30),IF(IF(F30>H30,1,"")=L30,I30,IF(IF(F30<H30,2,"")=L30,K30,IF(IF(F30=H30,0,"")=L30,J30,0))),"") | N30: =IF(ISBLANK(F30),"",IF(ISNUMBER(F30),IF(AND(F30>=0,F30<250),IF($F30<>$H30,IF(F30=0,TRUE(),IF(MOD(F30,1)=0,TRUE(),FALSE())),FALSE()),FALSE()),FALSE())) | O30: =IF(ISBLANK(H30),"",IF(ISNUMBER(H30),IF(AND(H30>=0,H30<250),IF($F30<>$H30,IF(H30=0,TRUE(),IF(MOD(H30,1)=0,TRUE(),FALSE())),FALSE()),FALSE()),FALSE()))
B31: Spiel 2 | C31: Würzburg | D31: =IF(C31>0,":","") -> : | E31: Ulm | F31: 87 | G31: =IF(ISNUMBER(F31),":","") -> : | H31: 77 | I31: 2.05 | K31: 1.75 | L31: 1 | M31: =IF(ISNUMBER(L31),IF(IF(F31>H31,1,"")=L31,I31,IF(IF(F31<H31,2,"")=L31,K31,IF(IF(F31=H31,0,"")=L31,J31,0))),"") -> 2.05 | N31: =IF(ISBLANK(F31),"",IF(ISNUMBER(F31),IF(AND(F31>=0,F31<250),IF($F31<>$H31,IF(F31=0,TRUE(),IF(MOD(F31,1)=0,TRUE(),FALSE())),FALSE()),FALSE()),FALSE())) -> TRUE | O31: =IF(ISBLANK(H31),"",IF(ISNUMBER(H31),IF(AND(H31>=0,H31<250),IF($F31<>$H31,IF(H31=0,TRUE(),IF(MOD(H31,1)=0,TRUE(),FALSE())),FALSE()),FALSE()),FALSE())) -> TRUE
C32: Heidelberg | D32: =IF(C32>0,":","") -> : | E32: Bayern | F32: 61 | G32: =IF(ISNUMBER(F32),":","") -> : | H32: 90 | I32: 3.2 | K32: 1.33 | L32: 1 | M32: =IF(ISNUMBER(L32),IF(IF(F32>H32,1,"")=L32,I32,IF(IF(F32<H32,2,"")=L32,K32,IF(IF(F32=H32,0,"")=L32,J32,0))),"") -> 0 | N32: =IF(ISBLANK(F32),"",IF(ISNUMBER(F32),IF(AND(F32>=0,F32<250),IF($F32<>$H32,IF(F32=0,TRUE(),IF(MOD(F32,1)=0,TRUE(),FALSE())),FALSE()),FALSE()),FALSE())) -> TRUE | O32: =IF(ISBLANK(H32),"",IF(ISNUMBER(H32),IF(AND(H32>=0,H32<250),IF($F32<>$H32,IF(H32=0,TRUE(),IF(MOD(H32,1)=0,TRUE(),FALSE())),FALSE()),FALSE()),FALSE())) -> TRUE | P32: =SUM(M31:M32) -> 2.05
D33: =IF(C33>0,":","") | G33: =IF(ISNUMBER(F33),":","") | M33: =IF(ISNUMBER(L33),IF(IF(F33>H33,1,"")=L33,I33,IF(IF(F33<H33,2,"")=L33,K33,IF(IF(F33=H33,0,"")=L33,J33,0))),"") | N33: =IF(ISBLANK(F33),"",IF(ISNUMBER(F33),IF(AND(F33>=0,F33<250),IF($F33<>$H33,IF(F33=0,TRUE(),IF(MOD(F33,1)=0,TRUE(),FALSE())),FALSE()),FALSE()),FALSE())) | O33: =IF(ISBLANK(H33),"",IF(ISNUMBER(H33),IF(AND(H33>=0,H33<250),IF($F33<>$H33,IF(H33=0,TRUE(),IF(MOD(H33,1)=0,TRUE(),FALSE())),FALSE()),FALSE()),FALSE()))
B34: Spiel 3 | C34: Ulm | D34: =IF(C34>0,":","") -> : | E34: Würzburg | F34: 99 | G34: =IF(ISNUMBER(F34),":","") -> : | H34: 86 | I34: 1.3 | K34: 3.4 | L34: 1 | M34: =IF(ISNUMBER(L34),IF(IF(F34>H34,1,"")=L34,I34,IF(IF(F34<H34,2,"")=L34,K34,IF(IF(F34=H34,0,"")=L34,J34,0))),"") -> 1.3 | N34: =IF(ISBLANK(F34),"",IF(ISNUMBER(F34),IF(AND(F34>=0,F34<250),IF($F34<>$H34,IF(F34=0,TRUE(),IF(MOD(F34,1)=0,TRUE(),FALSE())),FALSE()),FALSE()),FALSE())) -> TRUE | O34: =IF(ISBLANK(H34),"",IF(ISNUMBER(H34),IF(AND(H34>=0,H34<250),IF($F34<>$H34,IF(H34=0,TRUE(),IF(MOD(H34,1)=0,TRUE(),FALSE())),FALSE()),FALSE()),FALSE())) -> TRUE
C35: Bayern | D35: =IF(C35>0,":","") -> : | E35: Heidelberg | F35: 98 | G35: =IF(ISNUMBER(F35),":","") -> : | H35: 68 | I35: 1.14 | K35: 5.5 | L35: 1 | M35: =IF(ISNUMBER(L35),IF(IF(F35>H35,1,"")=L35,I35,IF(IF(F35<H35,2,"")=L35,K35,IF(IF(F35=H35,0,"")=L35,J35,0))),"") -> 1.14 | N35: =IF(ISBLANK(F35),"",IF(ISNUMBER(F35),IF(AND(F35>=0,F35<250),IF($F35<>$H35,IF(F35=0,TRUE(),IF(MOD(F35,1)=0,TRUE(),FALSE())),FALSE()),FALSE()),FALSE())) -> TRUE | O35: =IF(ISBLANK(H35),"",IF(ISNUMBER(H35),IF(AND(H35>=0,H35<250),IF($F35<>$H35,IF(H35=0,TRUE(),IF(MOD(H35,1)=0,TRUE(),FALSE())),FALSE()),FALSE()),FALSE())) -> TRUE | P35: =SUM(M34:M35) -> 2.44
D36: =IF(C36>0,":","") | G36: =IF(ISNUMBER(F36),":","") | M36: =IF(ISNUMBER(L36),IF(IF(F36>H36,1,"")=L36,I36,IF(IF(F36<H36,2,"")=L36,K36,IF(IF(F36=H36,0,"")=L36,J36,0))),"") | N36: =IF(ISBLANK(F36),"",IF(ISNUMBER(F36),IF(AND(F36>=0,F36<250),IF($F36<>$H36,IF(F36=0,TRUE(),IF(MOD(F36,1)=0,TRUE(),FALSE())),FALSE()),FALSE()),FALSE())) | O36: =IF(ISBLANK(H36),"",IF(ISNUMBER(H36),IF(AND(H36>=0,H36<250),IF($F36<>$H36,IF(H36=0,TRUE(),IF(MOD(H36,1)=0,TRUE(),FALSE())),FALSE()),FALSE()),FALSE()))
B37: Spiel 4 | C37: Würzburg | D37: =IF(C37>0,":","") -> : | E37: Ulm | F37: 78 | G37: =IF(ISNUMBER(F37),":","") -> : | H37: 77 | I37: 2.2 | K37: 1.65 | L37: 2 | M37: =IF(ISNUMBER(L37),IF(IF(F37>H37,1,"")=L37,I37,IF(IF(F37<H37,2,"")=L37,K37,IF(IF(F37=H37,0,"")=L37,J37,0))),"") -> 0 | N37: =IF(ISBLANK(F37),"",IF(ISNUMBER(F37),IF(AND(F37>=0,F37<250),IF($F37<>$H37,IF(F37=0,TRUE(),IF(MOD(F37,1)=0,TRUE(),FALSE())),FALSE()),FALSE()),FALSE())) -> TRUE | O37: =IF(ISBLANK(H37),"",IF(ISNUMBER(H37),IF(AND(H37>=0,H37<250),IF($F37<>$H37,IF(H37=0,TRUE(),IF(MOD(H37,1)=0,TRUE(),FALSE())),FALSE()),FALSE()),FALSE())) -> TRUE
C38: Heidelberg | D38: =IF(C38>0,":","") -> : | E38: Bayern | F38: 82 | G38: =IF(ISNUMBER(F38),":","") -> : | H38: 94 | I38: 3.8 | K38: 1.25 | L38: 2 | M38: =IF(ISNUMBER(L38),IF(IF(F38>H38,1,"")=L38,I38,IF(IF(F38<H38,2,"")=L38,K38,IF(IF(F38=H38,0,"")=L38,J38,0))),"") -> 1.25 | N38: =IF(ISBLANK(F38),"",IF(ISNUMBER(F38),IF(AND(F38>=0,F38<250),IF($F38<>$H38,IF(F38=0,TRUE(),IF(MOD(F38,1)=0,TRUE(),FALSE())),FALSE()),FALSE()),FALSE())) -> TRUE | O38: =IF(ISBLANK(H38),"",IF(ISNUMBER(H38),IF(AND(H38>=0,H38<250),IF($F38<>$H38,IF(H38=0,TRUE(),IF(MOD(H38,1)=0,TRUE(),FALSE())),FALSE()),FALSE()),FALSE())) -> TRUE | P38: =SUM(M37:M38) -> 1.25
D39: =IF(C39>0,":","") | G39: =IF(ISNUMBER(F39),":","") | M39: =IF(ISNUMBER(L39),IF(IF(F39>H39,1,"")=L39,I39,IF(IF(F39<H39,2,"")=L39,K39,IF(IF(F39=H39,0,"")=L39,J39,0))),"") | N39: =IF(ISBLANK(F39),"",IF(ISNUMBER(F39),IF(AND(F39>=0,F39<250),IF($F39<>$H39,IF(F39=0,TRUE(),IF(MOD(F39,1)=0,TRUE(),FALSE())),FALSE()),FALSE()),FALSE())) | O39: =IF(ISBLANK(H39),"",IF(ISNUMBER(H39),IF(AND(H39>=0,H39<250),IF($F39<>$H39,IF(H39=0,TRUE(),IF(MOD(H39,1)=0,TRUE(),FALSE())),FALSE()),FALSE()),FALSE()))
B40: Spiel 5 | C40: Ulm | D40: =IF(C40>0,":","") -> : | E40: Würzburg | F40: 91 | G40: =IF(ISNUMBER(F40),":","") -> : | H40: 84 | I40: 1.35 | K40: 3.1 | L40: 1 | M40: =IF(ISNUMBER(L40),IF(IF(F40>H40,1,"")=L40,I40,IF(IF(F40<H40,2,"")=L40,K40,IF(IF(F40=H40,0,"")=L40,J40,0))),"") -> 1.35 | N40: =IF(ISBLANK(F40),"",IF(ISNUMBER(F40),IF(AND(F40>=0,F40<250),IF($F40<>$H40,IF(F40=0,TRUE(),IF(MOD(F40,1)=0,TRUE(),FALSE())),FALSE()),FALSE()),FALSE())) -> TRUE | O40: =IF(ISBLANK(H40),"",IF(ISNUMBER(H40),IF(AND(H40>=0,H40<250),IF($F40<>$H40,IF(H40=0,TRUE(),IF(MOD(H40,1)=0,TRUE(),FALSE())),FALSE()),FALSE()),FALSE())) -> TRUE | P40: =SUM(M40) -> 1.35
...

Sheet Mape
A1: Mape | B1: Spieltag | C1: Heim | E1: Auswärts | F1: Ergebnis | I1: 1 | J1: 2 | K1: 2 | L1: Tipp | M1: Richtig | N1: Gültigk. D | O1: Gültik. F | P1: Gesamt
B2: Play-Ins | C2: Berlin | D2: =IF(C2>0,":","") -> : | E2: MBC | F2: 81 | G2: =IF(ISNUMBER(F2),":","") -> : | H2: 78 | I2: 1.2 | K2: 4.5 | L2: 1 | M2: =IF(ISNUMBER(L2),IF(IF(F2>H2,1,"")=L2,I2,IF(IF(F2<H2,2,"")=L2,K2,IF(IF(F2=H2,0,"")=L2,J2,0))),"") -> 1.2 | N2: =IF(ISBLANK(F2),"",IF(ISNUMBER(F2),IF(AND(F2>=0,F2<250),IF($F2<>$H2,IF(F2=0,TRUE(),IF(MOD(F2,1)=0,TRUE(),FALSE())),FALSE()),FALSE()),FALSE())) -> TRUE | O2: =IF(ISBLANK(H2),"",IF(ISNUMBER(H2),IF(AND(H2>=0,H2<250),IF($F2<>$H2,IF(H2=0,TRUE(),IF(MOD(H2,1)=0,TRUE(),FALSE())),FALSE()),FALSE()),FALSE())) -> TRUE
C3: Oldenburg | D3: =IF(C3>0,":","") -> : | E3: Rostock | F3: 95 | G3: =IF(ISNUMBER(F3),":","") -> : | H3: 83 | I3: 1.65 | K3: 2.2 | L3: 1 | M3: =IF(ISNUMBER(L3),IF(IF(F3>H3,1,"")=L3,I3,IF(IF(F3<H3,2,"")=L3,K3,IF(IF(F3=H3,0,"")=L3,J3,0))),"") -> 1.65 | N3: =IF(ISBLANK(F3),"",IF(ISNUMBER(F3),IF(AND(F3>=0,F3<250),IF($F3<>$H3,IF(F3=0,TRUE(),IF(MOD(F3,1)=0,TRUE(),FALSE())),FALSE()),FALSE()),FALSE())) -> TRUE | O3: =IF(ISBLANK(H3),"",IF(ISNUMBER(H3),IF(AND(H3>=0,H3<250),IF($F3<>$H3,IF(H3=0,TRUE(),IF(MOD(H3,1)=0,TRUE(),FALSE())),FALSE()),FALSE()),FALSE())) -> TRUE
M4: =IF(ISNUMBER(L4),IF(IF(F4>H4,1,"")=L4,I4,IF(IF(F4<H4,2,"")=L4,K4,IF(IF(F4=H4,0,"")=L4,J4,0))),"") | N4: =IF(ISBLANK(F4),"",IF(ISNUMBER(F4),IF(AND(F4>=0,F4<250),IF($F4<>$H4,IF(F4=0,TRUE(),IF(MOD(F4,1)=0,TRUE(),FALSE())),FALSE()),FALSE()),FALSE())) | O4: =IF(ISBLANK(H4),"",IF(ISNUMBER(H4),IF(AND(H4>=0,H4<250),IF($F4<>$H4,IF(H4=0,TRUE(),IF(MOD(H4,1)=0,TRUE(),FALSE())),FALSE()),FALSE()),FALSE()))
C5: MBC | D5: =IF(C5>0,":","") -> : | E5: Oldenburg | F5: 110 | H5: 95 | I5: 1.55 | K5: 2.4 | L5: 1 | M5: =IF(ISNUMBER(L5),IF(IF(F5>H5,1,"")=L5,I5,IF(IF(F5<H5,2,"")=L5,K5,IF(IF(F5=H5,0,"")=L5,J5,0))),"") -> 1.55 | N5: =IF(ISBLANK(F5),"",IF(ISNUMBER(F5),IF(AND(F5>=0,F5<250),IF($F5<>$H5,IF(F5=0,TRUE(),IF(MOD(F5,1)=0,TRUE(),FALSE())),FALSE()),FALSE()),FALSE())) -> TRUE | O5: =IF(ISBLANK(H5),"",IF(ISNUMBER(H5),IF(AND(H5>=0,H5<250),IF($F5<>$H5,IF(H5=0,TRUE(),IF(MOD(H5,1)=0,TRUE(),FALSE())),FALSE()),FALSE()),FALSE())) -> TRUE | P5: =SUM(M2:M5) -> 4.4
M6: =IF(ISNUMBER(L6),IF(IF(F6>H6,1,"")=L6,I6,IF(IF(F6<H6,2,"")=L6,K6,IF(IF(F6=H6,0,"")=L6,J6,0))),"") | N6: =IF(ISBLANK(F6),"",IF(ISNUMBER(F6),IF(AND(F6>=0,F6<250),IF($F6<>$H6,IF(F6=0,TRUE(),IF(MOD(F6,1)=0,TRUE(),FALSE())),FALSE()),FALSE()),FALSE())) | O6: =IF(ISBLANK(H6),"",IF(ISNUMBER(H6),IF(AND(H6>=0,H6<250),IF($F6<>$H6,IF(H6=0,TRUE(),IF(MOD(H6,1)=0,TRUE(),FALSE())),FALSE()),FALSE()),FALSE()))
B7: Playoffs | C7: Chemnitz | D7: =IF(C7>0,":","") -> : | E7: Heidelberg | F7: 90 | G7: =IF(ISNUMBER(F7),":","") -> : | H7: 93 | I7: 1.4 | K7: 2.9 | L7: 1 | M7: =IF(ISNUMBER(L7),IF(IF(F7>H7,1,"")=L7,I7,IF(IF(F7<H7,2,"")=L7,K7,IF(IF(F7=H7,0,"")=L7,J7,0))),"") -> 0 | N7: =IF(ISBLANK(F7),"",IF(ISNUMBER(F7),IF(AND(F7>=0,F7<250),IF($F7<>$H7,IF(F7=0,TRUE(),IF(MOD(F7,1)=0,TRUE(),FALSE())),FALSE()),FALSE()),FALSE())) -> TRUE | O7: =IF(ISBLANK(H7),"",IF(ISNUMBER(H7),IF(AND(H7>=0,H7<250),IF($F7<>$H7,IF(H7=0,TRUE(),IF(MOD(H7,1)=0,TRUE(),FALSE())),FALSE()),FALSE()),FALSE())) -> TRUE
B8: 1. Runde | C8: ULM | D8: =IF(C8>0,":","") -> : | E8: ALBA | F8: 94 | G8: =IF(ISNUMBER(F8),":","") -> : | H8: 83 | I8: 1.55 | K8: 2.4 | L8: 1 | M8: =IF(ISNUMBER(L8),IF(IF(F8>H8,1,"")=L8,I8,IF(IF(F8<H8,2,"")=L8,K8,IF(IF(F8=H8,0,"")=L8,J8,0))),"") -> 1.55 | N8: =IF(ISBLANK(F8),"",IF(ISNUMBER(F8),IF(AND(F8>=0,F8<250),IF($F8<>$H8,IF(F8=0,TRUE(),IF(MOD(F8,1)=0,TRUE(),FALSE())),FALSE()),FALSE()),FALSE())) -> TRUE | O8: =IF(ISBLANK(H8),"",IF(ISNUMBER(H8),IF(AND(H8>=0,H8<250),IF($F8<>$H8,IF(H8=0,TRUE(),IF(MOD(H8,1)=0,TRUE(),FALSE())),FALSE()),FALSE()),FALSE())) -> TRUE
B9: Spiel 1 | C9: Bayern | D9: =IF(C9>0,":","") -> : | E9: MBC | F9: 78 | G9: =IF(ISNUMBER(F9),":","") -> : | H9: 60 | I9: 1.15 | K9: 5.2 | L9: 1 | M9: =IF(ISNUMBER(L9),IF(IF(F9>H9,1,"")=L9,I9,IF(IF(F9<H9,2,"")=L9,K9,IF(IF(F9=H9,0,"")=L9,J9,0))),"") -> 1.15 | N9: =IF(ISBLANK(F9),"",IF(ISNUMBER(F9),IF(AND(F9>=0,F9<250),IF($F9<>$H9,IF(F9=0,TRUE(),IF(MOD(F9,1)=0,TRUE(),FALSE())),FALSE()),FALSE()),FALSE())) -> TRUE | O9: =IF(ISBLANK(H9),"",IF(ISNUMBER(H9),IF(AND(H9>=0,H9<250),IF($F9<>$H9,IF(H9=0,TRUE(),IF(MOD(H9,1)=0,TRUE(),FALSE())),FALSE()),FALSE()),FALSE())) -> TRUE
C10: Braunschweig | D10: =IF(C10>0,":","") -> : | E10: Würzburg | F10: 92 | G10: =IF(ISNUMBER(F10),":","") -> : | H10: 79 | I10: 1.47 | K10: 2.6 | L10: 2 | M10: =IF(ISNUMBER(L10),IF(IF(F10>H10,1,"")=L10,I10,IF(IF(F10<H10,2,"")=L10,K10,IF(IF(F10=H10,0,"")=L10,J10,0))),"") -> 0 | N10: =IF(ISBLANK(F10),"",IF(ISNUMBER(F10),IF(AND(F10>=0,F10<250),IF($F10<>$H10,IF(F10=0,TRUE(),IF(MOD(F10,1)=0,TRUE(),FALSE())),FALSE()),FALSE()),FALSE())) -> TRUE | O10: =IF(ISBLANK(H10),"",IF(ISNUMBER(H10),IF(AND(H10>=0,H10<250),IF($F10<>$H10,IF(H10=0,TRUE(),IF(MOD(H10,1)=0,TRUE(),FALSE())),FALSE()),FALSE()),FALSE())) -> TRUE | P10: =SUM(M7:M10) -> 2.7
M11: =IF(ISNUMBER(L11),IF(IF(F11>H11,1,"")=L11,I11,IF(IF(F11<H11,2,"")=L11,K11,IF(IF(F11=H11,0,"")=L11,J11,0))),"") | N11: =IF(ISBLANK(F11),"",IF(ISNUMBER(F11),IF(AND(F11>=0,F11<250),IF($F11<>$H11,IF(F11=0,TRUE(),IF(MOD(F11,1)=0,TRUE(),FALSE())),FALSE()),FALSE()),FALSE())) | O11: =IF(ISBLANK(H11),"",IF(ISNUMBER(H11),IF(AND(H11>=0,H11<250),IF($F11<>$H11,IF(H11=0,TRUE(),IF(MOD(H11,1)=0,TRUE(),FALSE())),FALSE()),FALSE()),FALSE()))
B12: Playoffs | C12: Heidelberg | D12: =IF(C12>0,":","") -> : | E12: Chemnitz | F12: 74 | G12: =IF(ISNUMBER(F12),":","") -> : | H12: 70 | I12: 1.7 | K12: 2.1 | L12: 2 | M12: =IF(ISNUMBER(L12),IF(IF(F12>H12,1,"")=L12,I12,IF(IF(F12<H12,2,"")=L12,K12,IF(IF(F12=H12,0,"")=L12,J12,0))),"") -> 0 | N12: =IF(ISBLANK(F12),"",IF(ISNUMBER(F12),IF(AND(F12>=0,F12<250),IF($F12<>$H12,IF(F12=0,TRUE(),IF(MOD(F12,1)=0,TRUE(),FALSE())),FALSE()),FALSE()),FALSE())) -> TRUE | O12: =IF(ISBLANK(H12),"",IF(ISNUMBER(H12),IF(AND(H12>=0,H12<250),IF($F12<>$H12,IF(H12=0,TRUE(),IF(MOD(H12,1)=0,TRUE(),FALSE())),FALSE()),FALSE()),FALSE())) -> TRUE
B13: 1. Runde | C13: ALBA | D13: =IF(C13>0,":","") -> : | E13: ULM | F13: 62 | G13: =IF(ISNUMBER(F13),":","") -> : | H13: 74 | I13: 1.5 | K13: 2.55 | L13: 1 | M13: =IF(ISNUMBER(L13),IF(IF(F13>H13,1,"")=L13,I13,IF(IF(F13<H13,2,"")=L13,K13,IF(IF(F13=H13,0,"")=L13,J13,0))),"") -> 0 | N13: =IF(ISBLANK(F13),"",IF(ISNUMBER(F13),IF(AND(F13>=0,F13<250),IF($F13<>$H13,IF(F13=0,TRUE(),IF(MOD(F13,1)=0,TRUE(),FALSE())),FALSE()),FALSE()),FALSE())) -> TRUE | O13: =IF(ISBLANK(H13),"",IF(ISNUMBER(H13),IF(AND(H13>=0,H13<250),IF($F13<>$H13,IF(H13=0,TRUE(),IF(MOD(H13,1)=0,TRUE(),FALSE())),FALSE()),FALSE()),FALSE())) -> TRUE
B14: Spiel 2 | C14: MBC | D14: =IF(C14>0,":","") -> : | E14: Bayern | F14: 65 | G14: =IF(ISNUMBER(F14),":","") -> : | H14: 80 | I14: 3.4 | K14: 1.3 | L14: 2 | M14: =IF(ISNUMBER(L14),IF(IF(F14>H14,1,"")=L14,I14,IF(IF(F14<H14,2,"")=L14,K14,IF(IF(F14=H14,0,"")=L14,J14,0))),"") -> 1.3 | N14: =IF(ISBLANK(F14),"",IF(ISNUMBER(F14),IF(AND(F14>=0,F14<250),IF($F14<>$H14,IF(F14=0,TRUE(),IF(MOD(F14,1)=0,TRUE(),FALSE())),FALSE()),FALSE()),FALSE())) -> TRUE | O14: =IF(ISBLANK(H14),"",IF(ISNUMBER(H14),IF(AND(H14>=0,H14<250),IF($F14<>$H14,IF(H14=0,TRUE(),IF(MOD(H14,1)=0,TRUE(),FALSE())),FALSE()),FALSE()),FALSE())) -> TRUE
C15: Würzburg | D15: =IF(C15>0,":","") -> : | E15: Braunschweig | F15: 94 | G15: =IF(ISNUMBER(F15),":","") -> : | H15: 90 | I15: 1.57 | K15: 2.35 | L15: 1 | M15: =IF(ISNUMBER(L15),IF(IF(F15>H15,1,"")=L15,I15,IF(IF(F15<H15,2,"")=L15,K15,IF(IF(F15=H15,0,"")=L15,J15,0))),"") -> 1.57 | N15: =IF(ISBLANK(F15),"",IF(ISNUMBER(F15),IF(AND(F15>=0,F15<250),IF($F15<>$H15,IF(F15=0,TRUE(),IF(MOD(F15,1)=0,TRUE(),FALSE())),FALSE()),FALSE()),FALSE())) -> TRUE | O15: =IF(ISBLANK(H15),"",IF(ISNUMBER(H15),IF(AND(H15>=0,H15<250),IF($F15<>$H15,IF(H15=0,TRUE(),IF(MOD(H15,1)=0,TRUE(),FALSE())),FALSE()),FALSE()),FALSE())) -> TRUE | P15: =SUM(M12:M15) -> 2.87
M16: =IF(ISNUMBER(L16),IF(IF(F16>H16,1,"")=L16,I16,IF(IF(F16<H16,2,"")=L16,K16,IF(IF(F16=H16,0,"")=L16,J16,0))),"") | N16: =IF(ISBLANK(F16),"",IF(ISNUMBER(F16),IF(AND(F16>=0,F16<250),IF($F16<>$H16,IF(F16=0,TRUE(),IF(MOD(F16,1)=0,TRUE(),FALSE())),FALSE()),FALSE()),FALSE())) | O16: =IF(ISBLANK(H16),"",IF(ISNUMBER(H16),IF(AND(H16>=0,H16<250),IF($F16<>$H16,IF(H16=0,TRUE(),IF(MOD(H16,1)=0,TRUE(),FALSE())),FALSE()),FALSE()),FALSE()))
B17: Playoffs | C17: Bayern | D17: =IF(C17>0,":","") -> : | E17: MBC | F17: 80 | G17: =IF(ISNUMBER(F17),":","") -> : | H17: 69 | I17: 1.06 | K17: 8.5 | L17: 1 | M17: =IF(ISNUMBER(L17),IF(IF(F17>H17,1,"")=L17,I17,IF(IF(F17<H17,2,"")=L17,K17,IF(IF(F17=H17,0,"")=L17,J17,0))),"") -> 1.06 | N17: =IF(ISBLANK(F17),"",IF(ISNUMBER(F17),IF(AND(F17>=0,F17<250),IF($F17<>$H17,IF(F17=0,TRUE(),IF(MOD(F17,1)=0,TRUE(),FALSE())),FALSE()),FALSE()),FALSE())) -> TRUE | O17: =IF(ISBLANK(H17),"",IF(ISNUMBER(H17),IF(AND(H17>=0,H17<250),IF($F17<>$H17,IF(H17=0,TRUE(),IF(MOD(H17,1)=0,TRUE(),FALSE())),FALSE()),FALSE()),FALSE())) -> TRUE
B18: 1. Runde | C18: ULM | D18: =IF(C18>0,":","") -> : | E18: ALBA | F18: 93 | G18: =IF(ISNUMBER(F18),":","") -> : | H18: 84 | I18: 1.55 | K18: 2.4 | L18: 1 | M18: =IF(ISNUMBER(L18),IF(IF(F18>H18,1,"")=L18,I18,IF(IF(F18<H18,2,"")=L18,K18,IF(IF(F18=H18,0,"")=L18,J18,0))),"") -> 1.55 | N18: =IF(ISBLANK(F18),"",IF(ISNUMBER(F18),IF(AND(F18>=0,F18<250),IF($F18<>$H18,IF(F18=0,TRUE(),IF(MOD(F18,1)=0,TRUE(),FALSE())),FALSE()),FALSE()),FALSE())) -> TRUE | O18: =IF(ISBLANK(H18),"",IF(ISNUMBER(H18),IF(AND(H18>=0,H18<250),IF($F18<>$H18,IF(H18=0,TRUE(),IF(MOD(H18,1)=0,TRUE(),FALSE())),FALSE()),FALSE()),FALSE())) -> TRUE
B19: Spiel 3 | C19: Braunschweig | D19: =IF(C19>0,":","") -> : | E19: Würzburg | F19: 80 | G19: =IF(ISNUMBER(F19),":","") -> : | H19: 75 | I19: 1.5 | K19: 2.55 | L19: 1 | M19: =IF(ISNUMBER(L19),IF(IF(F19>H19,1,"")=L19,I19,IF(IF(F19<H19,2,"")=L19,K19,IF(IF(F19=H19,0,"")=L19,J19,0))),"") -> 1.5 | N19: =IF(ISBLANK(F19),"",IF(ISNUMBER(F19),IF(AND(F19>=0,F19<250),IF($F19<>$H19,IF(F19=0,TRUE(),IF(MOD(F19,1)=0,TRUE(),FALSE())),FALSE()),FALSE()),FALSE())) -> TRUE | O19: =IF(ISBLANK(H19),"",IF(ISNUMBER(H19),IF(AND(H19>=0,H19<250),IF($F19<>$H19,IF(H19=0,TRUE(),IF(MOD(H19,1)=0,TRUE(),FALSE())),FALSE()),FALSE()),FALSE())) -> TRUE
C20: Chemnitz | D20: =IF(C20>0,":","") -> : | E20: Heidelberg | F20: 97 | G20: =IF(ISNUMBER(F20),":","") -> : | H20: 88 | I20: 1.4 | K20: 2.9 | L20: 1 | M20: =IF(ISNUMBER(L20),IF(IF(F20>H20,1,"")=L20,I20,IF(IF(F20<H20,2,"")=L20,K20,IF(IF(F20=H20,0,"")=L20,J20,0))),"") -> 1.4 | N20: =IF(ISBLANK(F20),"",IF(ISNUMBER(F20),IF(AND(F20>=0,F20<250),IF($F20<>$H20,IF(F20=0,TRUE(),IF(MOD(F20,1)=0,TRUE(),FALSE())),FALSE()),FALSE()),FALSE())) -> TRUE | O20: =IF(ISBLANK(H20),"",IF(ISNUMBER(H20),IF(AND(H20>=0,H20<250),IF($F20<>$H20,IF(H20=0,TRUE(),IF(MOD(H20,1)=0,TRUE(),FALSE())),FALSE()),FALSE()),FALSE())) -> TRUE | P20: =SUM(M17:M20) -> 5.51
M21: =IF(ISNUMBER(L21),IF(IF(F21>H21,1,"")=L21,I21,IF(IF(F21<H21,2,"")=L21,K21,IF(IF(F21=H21,0,"")=L21,J21,0))),"") | N21: =IF(ISBLANK(F21),"",IF(ISNUMBER(F21),IF(AND(F21>=0,F21<250),IF($F21<>$H21,IF(F21=0,TRUE(),IF(MOD(F21,1)=0,TRUE(),FALSE())),FALSE()),FALSE()),FALSE())) | O21: =IF(ISBLANK(H21),"",IF(ISNUMBER(H21),IF(AND(H21>=0,H21<250),IF($F21<>$H21,IF(H21=0,TRUE(),IF(MOD(H21,1)=0,TRUE(),FALSE())),FALSE()),FALSE()),FALSE()))
B22: Spiel 4 | C22: Heidelberg | D22: =IF(C22>0,":","") -> : | E22: Chemnitz | F22: 92 | G22: =IF(ISNUMBER(F22),":","") -> : | H22: 64 | I22: 1.67 | K22: 2.15 | L22: 2 | M22: =IF(ISNUMBER(L22),IF(IF(F22>H22,1,"")=L22,I22,IF(IF(F22<H22,2,"")=L22,K22,IF(IF(F22=H22,0,"")=L22,J22,0))),"") -> 0 | N22: =IF(ISBLANK(F22),"",IF(ISNUMBER(F22),IF(AND(F22>=0,F22<250),IF($F22<>$H22,IF(F22=0,TRUE(),IF(MOD(F22,1)=0,TRUE(),FALSE())),FALSE()),FALSE()),FALSE())) -> TRUE | O22: =IF(ISBLANK(H22),"",IF(ISNUMBER(H22),IF(AND(H22>=0,H22<250),IF($F22<>$H22,IF(H22=0,TRUE(),IF(MOD(H22,1)=0,TRUE(),FALSE())),FALSE()),FALSE()),FALSE())) -> TRUE
C23: Würzburg | D23: =IF(C23>0,":","") -> : | E23: Braunschweig | F23: 79 | G23: =IF(ISNUMBER(F23),":","") -> : | H23: 72 | I23: 1.62 | K23: 2.25 | L23: 1 | M23: =IF(ISNUMBER(L23),IF(IF(F23>H23,1,"")=L23,I23,IF(IF(F23<H23,2,"")=L23,K23,IF(IF(F23=H23,0,"")=L23,J23,0))),"") -> 1.62 | N23: =IF(ISBLANK(F23),"",IF(ISNUMBER(F23),IF(AND(F23>=0,F23<250),IF($F23<>$H23,IF(F23=0,TRUE(),IF(MOD(F23,1)=0,TRUE(),FALSE())),FALSE()),FALSE()),FALSE())) -> TRUE | O23: =IF(ISBLANK(H23),"",IF(ISNUMBER(H23),IF(AND(H23>=0,H23<250),IF($F23<>$H23,IF(H23=0,TRUE(),IF(MOD(H23,1)=0,TRUE(),FALSE())),FALSE()),FALSE()),FALSE())) -> TRUE | P23: =SUM(M22:M23) -> 1.62
M24: =IF(ISNUMBER(L24),IF(IF(F24>H24,1,"")=L24,I24,IF(IF(F24<H24,2,"")=L24,K24,IF(IF(F24=H24,0,"")=L24,J24,0))),"") | N24: =IF(ISBLANK(F24),"",IF(ISNUMBER(F24),IF(AND(F24>=0,F24<250),IF($F24<>$H24,IF(F24=0,TRUE(),IF(MOD(F24,1)=0,TRUE(),FALSE())),FALSE()),FALSE()),FALSE())) | O24: =IF(ISBLANK(H24),"",IF(ISNUMBER(H24),IF(AND(H24>=0,H24<250),IF($F24<>$H24,IF(H24=0,TRUE(),IF(MOD(H24,1)=0,TRUE(),FALSE())),FALSE()),FALSE()),FALSE()))
B25: Spiel 5 | C25: Braunschweig | D25: =IF(C25>0,":","") -> : | E25: Würzburg | F25: 88 | G25: =IF(ISNUMBER(F25),":","") -> : | H25: 97 | I25: 1.55 | K25: 2.4 | L25: 1 | M25: =IF(ISNUMBER(L25),IF(IF(F25>H25,1,"")=L25,I25,IF(IF(F25<H25,2,"")=L25,K25,IF(IF(F25=H25,0,"")=L25,J25,0))),"") -> 0 | N25: =IF(ISBLANK(F25),"",IF(ISNUMBER(F25),IF(AND(F25>=0,F25<250),IF($F25<>$H25,IF(F25=0,TRUE(),IF(MOD(F25,1)=0,TRUE(),FALSE())),FALSE()),FALSE()),FALSE())) -> TRUE | O25: =IF(ISBLANK(H25),"",IF(ISNUMBER(H25),IF(AND(H25>=0,H25<250),IF($F25<>$H25,IF(H25=0,TRUE(),IF(MOD(H25,1)=0,TRUE(),FALSE())),FALSE()),FALSE()),FALSE())) -> TRUE | P25: =SUM(M25) -> 0
M26: =IF(ISNUMBER(L26),IF(IF(F26>H26,1,"")=L26,I26,IF(IF(F26<H26,2,"")=L26,K26,IF(IF(F26=H26,0,"")=L26,J26,0))),"") | N26: =IF(ISBLANK(F26),"",IF(ISNUMBER(F26),IF(AND(F26>=0,F26<250),IF($F26<>$H26,IF(F26=0,TRUE(),IF(MOD(F26,1)=0,TRUE(),FALSE())),FALSE()),FALSE()),FALSE())) | O26: =IF(ISBLANK(H26),"",IF(ISNUMBER(H26),IF(AND(H26>=0,H26<250),IF($F26<>$H26,IF(H26=0,TRUE(),IF(MOD(H26,1)=0,TRUE(),FALSE())),FALSE()),FALSE()),FALSE()))
B27: Playoffs | C27: Bayern | D27: =IF(C27>0,":","") -> : | E27: Heidelberg | F27: 90 | G27: =IF(ISNUMBER(F27),":","") -> : | H27: 95 | I27: 1.1 | K27: 6.5 | L27: 1 | M27: =IF(ISNUMBER(L27),IF(IF(F27>H27,1,"")=L27,I27,IF(IF(F27<H27,2,"")=L27,K27,IF(IF(F27=H27,0,"")=L27,J27,0))),"") -> 0 | N27: =IF(ISBLANK(F27),"",IF(ISNUMBER(F27),IF(AND(F27>=0,F27<250),IF($F27<>$H27,IF(F27=0,TRUE(),IF(MOD(F27,1)=0,TRUE(),FALSE())),FALSE()),FALSE()),FALSE())) -> TRUE | O27: =IF(ISBLANK(H27),"",IF(ISNUMBER(H27),IF(AND(H27>=0,H27<250),IF($F27<>$H27,IF(H27=0,TRUE(),IF(MOD(H27,1)=0,TRUE(),FALSE())),FALSE()),FALSE()),FALSE())) -> TRUE
B28: Halbfinale | C28: Ulm | D28: =IF(C28>0,":","") -> : | E28: Würzburg | F28: 91 | G28: =IF(ISNUMBER(F28),":","") -> : | H28: 87 | I28: 1.3 | K28: 3.4 | L28: 1 | M28: =IF(ISNUMBER(L28),IF(IF(F28>H28,1,"")=L28,I28,IF(IF(F28<H28,2,"")=L28,K28,IF(IF(F28=H28,0,"")=L28,J28,0))),"") -> 1.3 | N28: =IF(ISBLANK(F28),"",IF(ISNUMBER(F28),IF(AND(F28>=0,F28<250),IF($F28<>$H28,IF(F28=0,TRUE(),IF(MOD(F28,1)=0,TRUE(),FALSE())),FALSE()),FALSE()),FALSE())) -> TRUE | O28: =IF(ISBLANK(H28),"",IF(ISNUMBER(H28),IF(AND(H28>=0,H28<250),IF($F28<>$H28,IF(H28=0,TRUE(),IF(MOD(H28,1)=0,TRUE(),FALSE())),FALSE()),FALSE()),FALSE())) -> TRUE | P28: =SUM(M27:M28) -> 1.3
B29: Spiel 1 | D29: =IF(C29>0,":","") | M29: =IF(ISNUMBER(L29),IF(IF(F29>H29,1,"")=L29,I29,IF(IF(F29<H29,2,"")=L29,K29,IF(IF(F29=H29,0,"")=L29,J29,0))),"") | N29: =IF(ISBLANK(F29),"",IF(ISNUMBER(F29),IF(AND(F29>=0,F29<250),IF($F29<>$H29,IF(F29=0,TRUE(),IF(MOD(F29,1)=0,TRUE(),FALSE())),FALSE()),FALSE()),FALSE())) | O29: =IF(ISBLANK(H29),"",IF(ISNUMBER(H29),IF(AND(H29>=0,H29<250),IF($F29<>$H29,IF(H29=0,TRUE(),IF(MOD(H29,1)=0,TRUE(),FALSE())),FALSE()),FALSE()),FALSE()))
M30: =IF(ISNUMBER(L30),IF(IF(F30>H30,1,"")=L30,I30,IF(IF(F30<H30,2,"")=L30,K30,IF(IF(F30=H30,0,"")=L30,J30,0))),"") | N30: =IF(ISBLANK(F30),"",IF(ISNUMBER(F30),IF(AND(F30>=0,F30<250),IF($F30<>$H30,IF(F30=0,TRUE(),IF(MOD(F30,1)=0,TRUE(),FALSE())),FALSE()),FALSE()),FALSE())) | O30: =IF(ISBLANK(H30),"",IF(ISNUMBER(H30),IF(AND(H30>=0,H30<250),IF($F30<>$H30,IF(H30=0,TRUE(),IF(MOD(H30,1)=0,TRUE(),FALSE())),FALSE()),FALSE()),FALSE()))
B31: Spiel 2 | C31: Würzburg | D31: =IF(C31>0,":","") -> : | E31: Ulm | F31: 87 | G31: =IF(ISNUMBER(F31),":","") -> : | H31: 77 | I31: 2.05 | K31: 1.75 | L31: 2 | M31: =IF(ISNUMBER(L31),IF(IF(F31>H31,1,"")=L31,I31,IF(IF(F31<H31,2,"")=L31,K31,IF(IF(F31=H31,0,"")=L31,J31,0))),"") -> 0 | N31: =IF(ISBLANK(F31),"",IF(ISNUMBER(F31),IF(AND(F31>=0,F31<250),IF($F31<>$H31,IF(F31=0,TRUE(),IF(MOD(F31,1)=0,TRUE(),FALSE())),FALSE()),FALSE()),FALSE())) -> TRUE | O31: =IF(ISBLANK(H31),"",IF(ISNUMBER(H31),IF(AND(H31>=0,H31<250),IF($F31<>$H31,IF(H31=0,TRUE(),IF(MOD(H31,1)=0,TRUE(),FALSE())),FALSE()),FALSE()),FALSE())) -> TRUE
C32: Heidelberg | D32: =IF(C32>0,":","") -> : | E32: Bayern | F32: 61 | G32: =IF(ISNUMBER(F32),":","") -> : | H32: 90 | I32: 3.2 | K32: 1.33 | L32: 2 | M32: =IF(ISNUMBER(L32),IF(IF(F32>H32,1,"")=L32,I32,IF(IF(F32<H32,2,"")=L32,K32,IF(IF(F32=H32,0,"")=L32,J32,0))),"") -> 1.33 | N32: =IF(ISBLANK(F32),"",IF(ISNUMBER(F32),IF(AND(F32>=0,F32<250),IF($F32<>$H32,IF(F32=0,TRUE(),IF(MOD(F32,1)=0,TRUE(),FALSE())),FALSE()),FALSE()),FALSE())) -> TRUE | O32: =IF(ISBLANK(H32),"",IF(ISNUMBER(H32),IF(AND(H32>=0,H32<250),IF($F32<>$H32,IF(H32=0,TRUE(),IF(MOD(H32,1)=0,TRUE(),FALSE())),FALSE()),FALSE()),FALSE())) -> TRUE | P32: =SUM(M31:M32) -> 1.33
M33: =IF(ISNUMBER(L33),IF(IF(F33>H33,1,"")=L33,I33,IF(IF(F33<H33,2,"")=L33,K33,IF(IF(F33=H33,0,"")=L33,J33,0))),"") | N33: =IF(ISBLANK(F33),"",IF(ISNUMBER(F33),IF(AND(F33>=0,F33<250),IF($F33<>$H33,IF(F33=0,TRUE(),IF(MOD(F33,1)=0,TRUE(),FALSE())),FALSE()),FALSE()),FALSE())) | O33: =IF(ISBLANK(H33),"",IF(ISNUMBER(H33),IF(AND(H33>=0,H33<250),IF($F33<>$H33,IF(H33=0,TRUE(),IF(MOD(H33,1)=0,TRUE(),FALSE())),FALSE()),FALSE()),FALSE()))
B34: Spiel 3 | C34: Ulm | D34: =IF(C34>0,":","") -> : | E34: Würzburg | F34: 99 | G34: =IF(ISNUMBER(F34),":","") -> : | H34: 86 | I34: 1.3 | K34: 3.4 | L34: 1 | M34: =IF(ISNUMBER(L34),IF(IF(F34>H34,1,"")=L34,I34,IF(IF(F34<H34,2,"")=L34,K34,IF(IF(F34=H34,0,"")=L34,J34,0))),"") -> 1.3 | N34: =IF(ISBLANK(F34),"",IF(ISNUMBER(F34),IF(AND(F34>=0,F34<250),IF($F34<>$H34,IF(F34=0,TRUE(),IF(MOD(F34,1)=0,TRUE(),FALSE())),FALSE()),FALSE()),FALSE())) -> TRUE | O34: =IF(ISBLANK(H34),"",IF(ISNUMBER(H34),IF(AND(H34>=0,H34<250),IF($F34<>$H34,IF(H34=0,TRUE(),IF(MOD(H34,1)=0,TRUE(),FALSE())),FALSE()),FALSE()),FALSE())) -> TRUE
C35: Bayern | D35: =IF(C35>0,":","") -> : | E35: Heidelberg | F35: 98 | G35: =IF(ISNUMBER(F35),":","") -> : | H35: 68 | I35: 1.14 | K35: 5.5 | L35: 1 | M35: =IF(ISNUMBER(L35),IF(IF(F35>H35,1,"")=L35,I35,IF(IF(F35<H35,2,"")=L35,K35,IF(IF(F35=H35,0,"")=L35,J35,0))),"") -> 1.14 | N35: =IF(ISBLANK(F35),"",IF(ISNUMBER(F35),IF(AND(F35>=0,F35<250),IF($F35<>$H35,IF(F35=0,TRUE(),IF(MOD(F35,1)=0,TRUE(),FALSE())),FALSE()),FALSE()),FALSE())) -> TRUE | O35: =IF(ISBLANK(H35),"",IF(ISNUMBER(H35),IF(AND(H35>=0,H35<250),IF($F35<>$H35,IF(H35=0,TRUE(),IF(MOD(H35,1)=0,TRUE(),FALSE())),FALSE()),FALSE()),FALSE())) -> TRUE | P35: =SUM(M34:M35) -> 2.44
M36: =IF(ISNUMBER(L36),IF(IF(F36>H36,1,"")=L36,I36,IF(IF(F36<H36,2,"")=L36,K36,IF(IF(F36=H36,0,"")=L36,J36,0))),"") | N36: =IF(ISBLANK(F36),"",IF(ISNUMBER(F36),IF(AND(F36>=0,F36<250),IF($F36<>$H36,IF(F36=0,TRUE(),IF(MOD(F36,1)=0,TRUE(),FALSE())),FALSE()),FALSE()),FALSE())) | O36: =IF(ISBLANK(H36),"",IF(ISNUMBER(H36),IF(AND(H36>=0,H36<250),IF($F36<>$H36,IF(H36=0,TRUE(),IF(MOD(H36,1)=0,TRUE(),FALSE())),FALSE()),FALSE()),FALSE()))
B37: Spiel 4 | C37: Würzburg | D37: =IF(C37>0,":","") -> : | E37: Ulm | F37: 78 | G37: =IF(ISNUMBER(F37),":","") -> : | H37: 77 | I37: 2.2 | K37: 1.65 | L37: 2 | M37: =IF(ISNUMBER(L37),IF(IF(F37>H37,1,"")=L37,I37,IF(IF(F37<H37,2,"")=L37,K37,IF(IF(F37=H37,0,"")=L37,J37,0))),"") -> 0 | N37: =IF(ISBLANK(F37),"",IF(ISNUMBER(F37),IF(AND(F37>=0,F37<250),IF($F37<>$H37,IF(F37=0,TRUE(),IF(MOD(F37,1)=0,TRUE(),FALSE())),FALSE()),FALSE()),FALSE())) -> TRUE | O37: =IF(ISBLANK(H37),"",IF(ISNUMBER(H37),IF(AND(H37>=0,H37<250),IF($F37<>$H37,IF(H37=0,TRUE(),IF(MOD(H37,1)=0,TRUE(),FALSE())),FALSE()),FALSE()),FALSE())) -> TRUE
C38: Heidelberg | D38: =IF(C38>0,":","") -> : | E38: Bayern | F38: 82 | G38: =IF(ISNUMBER(F38),":","") -> : | H38: 94 | I38: 3.8 | K38: 1.25 | L38: 2 | M38: =IF(ISNUMBER(L38),IF(IF(F38>H38,1,"")=L38,I38,IF(IF(F38<H38,2,"")=L38,K38,IF(IF(F38=H38,0,"")=L38,J38,0))),"") -> 1.25 | N38: =IF(ISBLANK(F38),"",IF(ISNUMBER(F38),IF(AND(F38>=0,F38<250),IF($F38<>$H38,IF(F38=0,TRUE(),IF(MOD(F38,1)=0,TRUE(),FALSE())),FALSE()),FALSE()),FALSE())) -> TRUE | O38: =IF(ISBLANK(H38),"",IF(ISNUMBER(H38),IF(AND(H38>=0,H38<250),IF($F38<>$H38,IF(H38=0,TRUE(),IF(MOD(H38,1)=0,TRUE(),FALSE())),FALSE()),FALSE()),FALSE())) -> TRUE | P38: =SUM(M37:M38) -> 1.25
M39: =IF(ISNUMBER(L39),IF(IF(F39>H39,1,"")=L39,I39,IF(IF(F39<H39,2,"")=L39,K39,IF(IF(F39=H39,0,"")=L39,J39,0))),"") | N39: =IF(ISBLANK(F39),"",IF(ISNUMBER(F39),IF(AND(F39>=0,F39<250),IF($F39<>$H39,IF(F39=0,TRUE(),IF(MOD(F39,1)=0,TRUE(),FALSE())),FALSE()),FALSE()),FALSE())) | O39: =IF(ISBLANK(H39),"",IF(ISNUMBER(H39),IF(AND(H39>=0,H39<250),IF($F39<>$H39,IF(H39=0,TRUE(),IF(MOD(H39,1)=0,TRUE(),FALSE())),FALSE()),FALSE()),FALSE()))
B40: Spiel 5 | C40: Ulm | D40: =IF(C40>0,":","") -> : | E40: Würzburg | F40: 91 | G40: =IF(ISNUMBER(F40),":","") -> : | H40: 84 | I40: 1.35 | K40: 3.1 | L40: 1 | M40: =IF(ISNUMBER(L40),IF(IF(F40>H40,1,"")=L40,I40,IF(IF(F40<H40,2,"")=L40,K40,IF(IF(F40=H40,0,"")=L40,J40,0))),"") -> 1.35 | N40: =IF(ISBLANK(F40),"",IF(ISNUMBER(F40),IF(AND(F40>=0,F40<250),IF($F40<>$H40,IF(F40=0,TRUE(),IF(MOD(F40,1)=0,TRUE(),FALSE())),FALSE()),FALSE()),FALSE())) -> TRUE | O40: =IF(ISBLANK(H40),"",IF(ISNUMBER(H40),IF(AND(H40>=0,H40<250),IF($F40<>$H40,IF(H40=0,TRUE(),IF(MOD(H40,1)=0,TRUE(),FALSE())),FALSE()),FALSE()),FALSE())) -> TRUE | P40: =SUM(M40) -> 1.35
...

Sheet Sirtobi89
A1: Sirtobi89 | B1: Spieltag | C1: Heim | E1: Auswärts | F1: Ergebnis | I1: 1 | J1: 2 | K1: 2 | L1: Tipp | M1: Richtig | N1: Gültigk. D | O1: Gültik. F | P1: Gesamt
B2: Play-Ins | C2: Berlin | D2: =IF(C2>0,":","") -> : | E2: MBC | F2: 81 | G2: =IF(ISNUMBER(F2),":","") -> : | H2: 78 | I2: 1.2 | K2: 4.5 | L2: 1 | M2: =IF(ISNUMBER(L2),IF(IF(F2>H2,1,"")=L2,I2,IF(IF(F2<H2,2,"")=L2,K2,IF(IF(F2=H2,0,"")=L2,J2,0))),"") -> 1.2 | N2: =IF(ISBLANK(F2),"",IF(ISNUMBER(F2),IF(AND(F2>=0,F2<250),IF($F2<>$H2,IF(F2=0,TRUE(),IF(MOD(F2,1)=0,TRUE(),FALSE())),FALSE()),FALSE()),FALSE())) -> TRUE | O2: =IF(ISBLANK(H2),"",IF(ISNUMBER(H2),IF(AND(H2>=0,H2<250),IF($F2<>$H2,IF(H2=0,TRUE(),IF(MOD(H2,1)=0,TRUE(),FALSE())),FALSE()),FALSE()),FALSE())) -> TRUE
C3: Oldenburg | D3: =IF(C3>0,":","") -> : | E3: Rostock | F3: 95 | G3: =IF(ISNUMBER(F3),":","") -> : | H3: 83 | I3: 1.65 | K3: 2.2 | L3: 1 | M3: =IF(ISNUMBER(L3),IF(IF(F3>H3,1,"")=L3,I3,IF(IF(F3<H3,2,"")=L3,K3,IF(IF(F3=H3,0,"")=L3,J3,0))),"") -> 1.65 | N3: =IF(ISBLANK(F3),"",IF(ISNUMBER(F3),IF(AND(F3>=0,F3<250),IF($F3<>$H3,IF(F3=0,TRUE(),IF(MOD(F3,1)=0,TRUE(),FALSE())),FALSE()),FALSE()),FALSE())) -> TRUE | O3: =IF(ISBLANK(H3),"",IF(ISNUMBER(H3),IF(AND(H3>=0,H3<250),IF($F3<>$H3,IF(H3=0,TRUE(),IF(MOD(H3,1)=0,TRUE(),FALSE())),FALSE()),FALSE()),FALSE())) -> TRUE
M4: =IF(ISNUMBER(L4),IF(IF(F4>H4,1,"")=L4,I4,IF(IF(F4<H4,2,"")=L4,K4,IF(IF(F4=H4,0,"")=L4,J4,0))),"") | N4: =IF(ISBLANK(F4),"",IF(ISNUMBER(F4),IF(AND(F4>=0,F4<250),IF($F4<>$H4,IF(F4=0,TRUE(),IF(MOD(F4,1)=0,TRUE(),FALSE())),FALSE()),FALSE()),FALSE())) | O4: =IF(ISBLANK(H4),"",IF(ISNUMBER(H4),IF(AND(H4>=0,H4<250),IF($F4<>$H4,IF(H4=0,TRUE(),IF(MOD(H4,1)=0,TRUE(),FALSE())),FALSE()),FALSE()),FALSE()))
C5: MBC | D5: =IF(C5>0,":","") -> : | E5: Oldenburg | F5: 110 | H5: 95 | I5: 1.55 | K5: 2.4 | M5: =IF(ISNUMBER(L5),IF(IF(F5>H5,1,"")=L5,I5,IF(IF(F5<H5,2,"")=L5,K5,IF(IF(F5=H5,0,"")=L5,J5,0))),"") | N5: =IF(ISBLANK(F5),"",IF(ISNUMBER(F5),IF(AND(F5>=0,F5<250),IF($F5<>$H5,IF(F5=0,TRUE(),IF(MOD(F5,1)=0,TRUE(),FALSE())),FALSE()),FALSE()),FALSE())) -> TRUE | O5: =IF(ISBLANK(H5),"",IF(ISNUMBER(H5),IF(AND(H5>=0,H5<250),IF($F5<>$H5,IF(H5=0,TRUE(),IF(MOD(H5,1)=0,TRUE(),FALSE())),FALSE()),FALSE()),FALSE())) -> TRUE | P5: =SUM(M2:M5) -> 2.85
M6: =IF(ISNUMBER(L6),IF(IF(F6>H6,1,"")=L6,I6,IF(IF(F6<H6,2,"")=L6,K6,IF(IF(F6=H6,0,"")=L6,J6,0))),"") | N6: =IF(ISBLANK(F6),"",IF(ISNUMBER(F6),IF(AND(F6>=0,F6<250),IF($F6<>$H6,IF(F6=0,TRUE(),IF(MOD(F6,1)=0,TRUE(),FALSE())),FALSE()),FALSE()),FALSE())) | O6: =IF(ISBLANK(H6),"",IF(ISNUMBER(H6),IF(AND(H6>=0,H6<250),IF($F6<>$H6,IF(H6=0,TRUE(),IF(MOD(H6,1)=0,TRUE(),FALSE())),FALSE()),FALSE()),FALSE()))
B7: Playoffs | C7: Chemnitz | D7: =IF(C7>0,":","") -> : | E7: Heidelberg | F7: 90 | G7: =IF(ISNUMBER(F7),":","") -> : | H7: 93 | I7: 1.4 | K7: 2.9 | L7: 1 | M7: =IF(ISNUMBER(L7),IF(IF(F7>H7,1,"")=L7,I7,IF(IF(F7<H7,2,"")=L7,K7,IF(IF(F7=H7,0,"")=L7,J7,0))),"") -> 0 | N7: =IF(ISBLANK(F7),"",IF(ISNUMBER(F7),IF(AND(F7>=0,F7<250),IF($F7<>$H7,IF(F7=0,TRUE(),IF(MOD(F7,1)=0,TRUE(),FALSE())),FALSE()),FALSE()),FALSE())) -> TRUE | O7: =IF(ISBLANK(H7),"",IF(ISNUMBER(H7),IF(AND(H7>=0,H7<250),IF($F7<>$H7,IF(H7=0,TRUE(),IF(MOD(H7,1)=0,TRUE(),FALSE())),FALSE()),FALSE()),FALSE())) -> TRUE
B8: 1. Runde | C8: ULM | D8: =IF(C8>0,":","") -> : | E8: ALBA | F8: 94 | G8: =IF(ISNUMBER(F8),":","") -> : | H8: 83 | I8: 1.55 | K8: 2.4 | L8: 1 | M8: =IF(ISNUMBER(L8),IF(IF(F8>H8,1,"")=L8,I8,IF(IF(F8<H8,2,"")=L8,K8,IF(IF(F8=H8,0,"")=L8,J8,0))),"") -> 1.55 | N8: =IF(ISBLANK(F8),"",IF(ISNUMBER(F8),IF(AND(F8>=0,F8<250),IF($F8<>$H8,IF(F8=0,TRUE(),IF(MOD(F8,1)=0,TRUE(),FALSE())),FALSE()),FALSE()),FALSE())) -> TRUE | O8: =IF(ISBLANK(H8),"",IF(ISNUMBER(H8),IF(AND(H8>=0,H8<250),IF($F8<>$H8,IF(H8=0,TRUE(),IF(MOD(H8,1)=0,TRUE(),FALSE())),FALSE()),FALSE()),FALSE())) -> TRUE
B9: Spiel 1 | C9: Bayern | D9: =IF(C9>0,":","") -> : | E9: MBC | F9: 78 | G9: =IF(ISNUMBER(F9),":","") -> : | H9: 60 | I9: 1.15 | K9: 5.2 | L9: 1 | M9: =IF(ISNUMBER(L9),IF(IF(F9>H9,1,"")=L9,I9,IF(IF(F9<H9,2,"")=L9,K9,IF(IF(F9=H9,0,"")=L9,J9,0))),"") -> 1.15 | N9: =IF(ISBLANK(F9),"",IF(ISNUMBER(F9),IF(AND(F9>=0,F9<250),IF($F9<>$H9,IF(F9=0,TRUE(),IF(MOD(F9,1)=0,TRUE(),FALSE())),FALSE()),FALSE()),FALSE())) -> TRUE | O9: =IF(ISBLANK(H9),"",IF(ISNUMBER(H9),IF(AND(H9>=0,H9<250),IF($F9<>$H9,IF(H9=0,TRUE(),IF(MOD(H9,1)=0,TRUE(),FALSE())),FALSE()),FALSE()),FALSE())) -> TRUE
C10: Braunschweig | D10: =IF(C10>0,":","") -> : | E10: Würzburg | F10: 92 | G10: =IF(ISNUMBER(F10),":","") -> : | H10: 79 | I10: 1.47 | K10: 2.6 | L10: 2 | M10: =IF(ISNUMBER(L10),IF(IF(F10>H10,1,"")=L10,I10,IF(IF(F10<H10,2,"")=L10,K10,IF(IF(F10=H10,0,"")=L10,J10,0))),"") -> 0 | N10: =IF(ISBLANK(F10),"",IF(ISNUMBER(F10),IF(AND(F10>=0,F10<250),IF($F10<>$H10,IF(F10=0,TRUE(),IF(MOD(F10,1)=0,TRUE(),FALSE())),FALSE()),FALSE()),FALSE())) -> TRUE | O10: =IF(ISBLANK(H10),"",IF(ISNUMBER(H10),IF(AND(H10>=0,H10<250),IF($F10<>$H10,IF(H10=0,TRUE(),IF(MOD(H10,1)=0,TRUE(),FALSE())),FALSE()),FALSE()),FALSE())) -> TRUE | P10: =SUM(M7:M10) -> 2.7
M11: =IF(ISNUMBER(L11),IF(IF(F11>H11,1,"")=L11,I11,IF(IF(F11<H11,2,"")=L11,K11,IF(IF(F11=H11,0,"")=L11,J11,0))),"") | N11: =IF(ISBLANK(F11),"",IF(ISNUMBER(F11),IF(AND(F11>=0,F11<250),IF($F11<>$H11,IF(F11=0,TRUE(),IF(MOD(F11,1)=0,TRUE(),FALSE())),FALSE()),FALSE()),FALSE())) | O11: =IF(ISBLANK(H11),"",IF(ISNUMBER(H11),IF(AND(H11>=0,H11<250),IF($F11<>$H11,IF(H11=0,TRUE(),IF(MOD(H11,1)=0,TRUE(),FALSE())),FALSE()),FALSE()),FALSE()))
B12: Playoffs | C12: Heidelberg | D12: =IF(C12>0,":","") -> : | E12: Chemnitz | F12: 74 | G12: =IF(ISNUMBER(F12),":","") -> : | H12: 70 | I12: 1.7 | K12: 2.1 | L12: 1 | M12: =IF(ISNUMBER(L12),IF(IF(F12>H12,1,"")=L12,I12,IF(IF(F12<H12,2,"")=L12,K12,IF(IF(F12=H12,0,"")=L12,J12,0))),"") -> 1.7 | N12: =IF(ISBLANK(F12),"",IF(ISNUMBER(F12),IF(AND(F12>=0,F12<250),IF($F12<>$H12,IF(F12=0,TRUE(),IF(MOD(F12,1)=0,TRUE(),FALSE())),FALSE()),FALSE()),FALSE())) -> TRUE | O12: =IF(ISBLANK(H12),"",IF(ISNUMBER(H12),IF(AND(H12>=0,H12<250),IF($F12<>$H12,IF(H12=0,TRUE(),IF(MOD(H12,1)=0,TRUE(),FALSE())),FALSE()),FALSE()),FALSE())) -> TRUE
B13: 1. Runde | C13: ALBA | D13: =IF(C13>0,":","") -> : | E13: ULM | F13: 62 | G13: =IF(ISNUMBER(F13),":","") -> : | H13: 74 | I13: 1.5 | K13: 2.55 | L13: 2 | M13: =IF(ISNUMBER(L13),IF(IF(F13>H13,1,"")=L13,I13,IF(IF(F13<H13,2,"")=L13,K13,IF(IF(F13=H13,0,"")=L13,J13,0))),"") -> 2.55 | N13: =IF(ISBLANK(F13),"",IF(ISNUMBER(F13),IF(AND(F13>=0,F13<250),IF($F13<>$H13,IF(F13=0,TRUE(),IF(MOD(F13,1)=0,TRUE(),FALSE())),FALSE()),FALSE()),FALSE())) -> TRUE | O13: =IF(ISBLANK(H13),"",IF(ISNUMBER(H13),IF(AND(H13>=0,H13<250),IF($F13<>$H13,IF(H13=0,TRUE(),IF(MOD(H13,1)=0,TRUE(),FALSE())),FALSE()),FALSE()),FALSE())) -> TRUE
B14: Spiel 2 | C14: MBC | D14: =IF(C14>0,":","") -> : | E14: Bayern | F14: 65 | G14: =IF(ISNUMBER(F14),":","") -> : | H14: 80 | I14: 3.4 | K14: 1.3 | L14: 2 | M14: =IF(ISNUMBER(L14),IF(IF(F14>H14,1,"")=L14,I14,IF(IF(F14<H14,2,"")=L14,K14,IF(IF(F14=H14,0,"")=L14,J14,0))),"") -> 1.3 | N14: =IF(ISBLANK(F14),"",IF(ISNUMBER(F14),IF(AND(F14>=0,F14<250),IF($F14<>$H14,IF(F14=0,TRUE(),IF(MOD(F14,1)=0,TRUE(),FALSE())),FALSE()),FALSE()),FALSE())) -> TRUE | O14: =IF(ISBLANK(H14),"",IF(ISNUMBER(H14),IF(AND(H14>=0,H14<250),IF($F14<>$H14,IF(H14=0,TRUE(),IF(MOD(H14,1)=0,TRUE(),FALSE())),FALSE()),FALSE()),FALSE())) -> TRUE
C15: Würzburg | D15: =IF(C15>0,":","") -> : | E15: Braunschweig | F15: 94 | G15: =IF(ISNUMBER(F15),":","") -> : | H15: 90 | I15: 1.57 | K15: 2.35 | L15: 1 | M15: =IF(ISNUMBER(L15),IF(IF(F15>H15,1,"")=L15,I15,IF(IF(F15<H15,2,"")=L15,K15,IF(IF(F15=H15,0,"")=L15,J15,0))),"") -> 1.57 | N15: =IF(ISBLANK(F15),"",IF(ISNUMBER(F15),IF(AND(F15>=0,F15<250),IF($F15<>$H15,IF(F15=0,TRUE(),IF(MOD(F15,1)=0,TRUE(),FALSE())),FALSE()),FALSE()),FALSE())) -> TRUE | O15: =IF(ISBLANK(H15),"",IF(ISNUMBER(H15),IF(AND(H15>=0,H15<250),IF($F15<>$H15,IF(H15=0,TRUE(),IF(MOD(H15,1)=0,TRUE(),FALSE())),FALSE()),FALSE()),FALSE())) -> TRUE | P15: =SUM(M12:M15) -> 7.12
M16: =IF(ISNUMBER(L16),IF(IF(F16>H16,1,"")=L16,I16,IF(IF(F16<H16,2,"")=L16,K16,IF(IF(F16=H16,0,"")=L16,J16,0))),"") | N16: =IF(ISBLANK(F16),"",IF(ISNUMBER(F16),IF(AND(F16>=0,F16<250),IF($F16<>$H16,IF(F16=0,TRUE(),IF(MOD(F16,1)=0,TRUE(),FALSE())),FALSE()),FALSE()),FALSE())) | O16: =IF(ISBLANK(H16),"",IF(ISNUMBER(H16),IF(AND(H16>=0,H16<250),IF($F16<>$H16,IF(H16=0,TRUE(),IF(MOD(H16,1)=0,TRUE(),FALSE())),FALSE()),FALSE()),FALSE()))
B17: Playoffs | C17: Bayern | D17: =IF(C17>0,":","") -> : | E17: MBC | F17: 80 | G17: =IF(ISNUMBER(F17),":","") -> : | H17: 69 | I17: 1.06 | K17: 8.5 | L17: 1 | M17: =IF(ISNUMBER(L17),IF(IF(F17>H17,1,"")=L17,I17,IF(IF(F17<H17,2,"")=L17,K17,IF(IF(F17=H17,0,"")=L17,J17,0))),"") -> 1.06 | N17: =IF(ISBLANK(F17),"",IF(ISNUMBER(F17),IF(AND(F17>=0,F17<250),IF($F17<>$H17,IF(F17=0,TRUE(),IF(MOD(F17,1)=0,TRUE(),FALSE())),FALSE()),FALSE()),FALSE())) -> TRUE | O17: =IF(ISBLANK(H17),"",IF(ISNUMBER(H17),IF(AND(H17>=0,H17<250),IF($F17<>$H17,IF(H17=0,TRUE(),IF(MOD(H17,1)=0,TRUE(),FALSE())),FALSE()),FALSE()),FALSE())) -> TRUE
B18: 1. Runde | C18: ULM | D18: =IF(C18>0,":","") -> : | E18: ALBA | F18: 93 | G18: =IF(ISNUMBER(F18),":","") -> : | H18: 84 | I18: 1.55 | K18: 2.4 | L18: 1 | M18: =IF(ISNUMBER(L18),IF(IF(F18>H18,1,"")=L18,I18,IF(IF(F18<H18,2,"")=L18,K18,IF(IF(F18=H18,0,"")=L18,J18,0))),"") -> 1.55 | N18: =IF(ISBLANK(F18),"",IF(ISNUMBER(F18),IF(AND(F18>=0,F18<250),IF($F18<>$H18,IF(F18=0,TRUE(),IF(MOD(F18,1)=0,TRUE(),FALSE())),FALSE()),FALSE()),FALSE())) -> TRUE | O18: =IF(ISBLANK(H18),"",IF(ISNUMBER(H18),IF(AND(H18>=0,H18<250),IF($F18<>$H18,IF(H18=0,TRUE(),IF(MOD(H18,1)=0,TRUE(),FALSE())),FALSE()),FALSE()),FALSE())) -> TRUE
B19: Spiel 3 | C19: Braunschweig | D19: =IF(C19>0,":","") -> : | E19: Würzburg | F19: 80 | G19: =IF(ISNUMBER(F19),":","") -> : | H19: 75 | I19: 1.5 | K19: 2.55 | L19: 1 | M19: =IF(ISNUMBER(L19),IF(IF(F19>H19,1,"")=L19,I19,IF(IF(F19<H19,2,"")=L19,K19,IF(IF(F19=H19,0,"")=L19,J19,0))),"") -> 1.5 | N19: =IF(ISBLANK(F19),"",IF(ISNUMBER(F19),IF(AND(F19>=0,F19<250),IF($F19<>$H19,IF(F19=0,TRUE(),IF(MOD(F19,1)=0,TRUE(),FALSE())),FALSE()),FALSE()),FALSE())) -> TRUE | O19: =IF(ISBLANK(H19),"",IF(ISNUMBER(H19),IF(AND(H19>=0,H19<250),IF($F19<>$H19,IF(H19=0,TRUE(),IF(MOD(H19,1)=0,TRUE(),FALSE())),FALSE()),FALSE()),FALSE())) -> TRUE
C20: Chemnitz | D20: =IF(C20>0,":","") -> : | E20: Heidelberg | F20: 97 | G20: =IF(ISNUMBER(F20),":","") -> : | H20: 88 | I20: 1.4 | K20: 2.9 | L20: 1 | M20: =IF(ISNUMBER(L20),IF(IF(F20>H20,1,"")=L20,I20,IF(IF(F20<H20,2,"")=L20,K20,IF(IF(F20=H20,0,"")=L20,J20,0))),"") -> 1.4 | N20: =IF(ISBLANK(F20),"",IF(ISNUMBER(F20),IF(AND(F20>=0,F20<250),IF($F20<>$H20,IF(F20=0,TRUE(),IF(MOD(F20,1)=0,TRUE(),FALSE())),FALSE()),FALSE()),FALSE())) -> TRUE | O20: =IF(ISBLANK(H20),"",IF(ISNUMBER(H20),IF(AND(H20>=0,H20<250),IF($F20<>$H20,IF(H20=0,TRUE(),IF(MOD(H20,1)=0,TRUE(),FALSE())),FALSE()),FALSE()),FALSE())) -> TRUE | P20: =SUM(M17:M20) -> 5.51
M21: =IF(ISNUMBER(L21),IF(IF(F21>H21,1,"")=L21,I21,IF(IF(F21<H21,2,"")=L21,K21,IF(IF(F21=H21,0,"")=L21,J21,0))),"") | N21: =IF(ISBLANK(F21),"",IF(ISNUMBER(F21),IF(AND(F21>=0,F21<250),IF($F21<>$H21,IF(F21=0,TRUE(),IF(MOD(F21,1)=0,TRUE(),FALSE())),FALSE()),FALSE()),FALSE())) | O21: =IF(ISBLANK(H21),"",IF(ISNUMBER(H21),IF(AND(H21>=0,H21<250),IF($F21<>$H21,IF(H21=0,TRUE(),IF(MOD(H21,1)=0,TRUE(),FALSE())),FALSE()),FALSE()),FALSE()))
