Workbook

Sheet Wertung
B2: NBA PO Quotenspiel 2025 | D2: Play-Ins | E2: PO 1st Rd | F2: PO 2nd Rd | G2: Gesamt
B3: 1 | C3: Mape | D3: =Mape!N5+Mape!N8 -> 6.52 | E3: =Mape!N17+Mape!N26+Mape!N35+Mape!N44+Mape!N51+Mape!N55+Mape!N58 -> 42.77 | F3: =Mape!N64+Mape!N69+Mape!N74+Mape!N79 -> 12.64 | G3: =SUM(D3:F3) -> 61.93
B4: 2 | C4: Steve | D4: =Steve!N5+Steve!N8 -> 7.67 | E4: =Steve!N17+Steve!N26+Steve!N35+Steve!N44+Steve!N51+Steve!N55+Steve!N58 -> 32.58 | F4: =Steve!N64+Steve!N69+Steve!N74+Steve!N79 -> 18.47 | G4: =SUM(D4:F4) -> 58.72
B5: 3 | C5: Kim_Unicorn | D5: =Kim_Unicorn!N5+Kim_Unicorn!N8 -> 7.15 | E5: =Kim_Unicorn!N17+Kim_Unicorn!N26+Kim_Unicorn!N35+Kim_Unicorn!N44+Kim_Unicorn!N51+Kim_Unicorn!N55+Kim_Unicorn!N58 -> 35.54 | F5: =Kim_Unicorn!N64+Kim_Unicorn!N69+Kim_Unicorn!N74+Kim_Unicorn!N79 -> 12.89 | G5: =SUM(D5:F5) -> 55.58
B6: 4 | C6: Monukly | D6: =Monukly!N5+Monukly!N8 -> 10.52 | E6: =Monukly!N17+Monukly!N26+Monukly!N35+Monukly!N44+Monukly!N51+Monukly!N55+Monukly!N58 -> 35.04 | F6: =Monukly!N64+Monukly!N69+Monukly!N74+Monukly!N79 -> 7.34 | G6: =SUM(D6:F6) -> 52.9
B7: 5 | C7: smashie | D7: =smashie!N5+smashie!N8 -> 4.6 | E7: =smashie!N17+smashie!N26+smashie!N35+smashie!N44+smashie!N51+smashie!N55+smashie!N58 -> 36.43 | F7: =smashie!N69+smashie!N74+smashie!N79 -> 8.91 | G7: =SUM(D7:F7) -> 49.94
B9: 6 | C9: gerhard | E9: =10+gerhard!N44+gerhard!N51+gerhard!N58 -> 15.57 | F9: =gerhard!N69+gerhard!N74+gerhard!N79 -> 8.71 | G9: =SUM(D9:F9) -> 24.28
B11: 7 | C11: Freaky91 | D11: =Freaky91!N5 -> 4 | G11: =SUM(D11:E11) -> 4

Sheet Steve
A1: Steve | B1: Spieltag | C1: Auswärts | E1: Heim | F1: Ergebnis | I1: 1 | J1: 2 | K1: 2 | L1: Tipp | M1: Richtig | N1: Gesamt | O1: Gültigk. D | P1: Gültik. F
B2: Play-Ins East | C2: Hawks | D2: =IF(C2>0,":","") -> : | E2: Magic | F2: 95 | G2: =IF(ISNUMBER(F2),":","") -> : | H2: 120 | I2: 2.6 | K2: 1.45 | L2: 1 | M2: =IF(ISNUMBER(L2),IF(IF(F2>H2,1,"")=L2,I2,IF(IF(F2<H2,2,"")=L2,K2,IF(IF(F2=H2,0,"")=L2,J2,0))),"") -> 0 | O2: =IF(ISBLANK(F2),"",IF(ISNUMBER(F2),IF(AND(F2>=0,F2<250),IF($F2<>$H2,IF(F2=0,TRUE(),IF(MOD(F2,1)=0,TRUE(),FALSE())),FALSE()),FALSE()),FALSE())) -> TRUE | P2: =IF(ISBLANK(H2),"",IF(ISNUMBER(H2),IF(AND(H2>=0,H2<250),IF($F2<>$H2,IF(H2=0,TRUE(),IF(MOD(H2,1)=0,TRUE(),FALSE())),FALSE()),FALSE()),FALSE())) -> TRUE
C3: Heat | D3: =IF(C3>0,":","") -> : | E3: Bulls | F3: 109 | G3: =IF(ISNUMBER(F3),":","") -> : | H3: 90 | I3: 1.97 | K3: 1.8 | L3: 1 | M3: =IF(ISNUMBER(L3),IF(IF(F3>H3,1,"")=L3,I3,IF(IF(F3<H3,2,"")=L3,K3,IF(IF(F3=H3,0,"")=L3,J3,0))),"") -> 1.97 | O3: =IF(ISBLANK(F3),"",IF(ISNUMBER(F3),IF(AND(F3>=0,F3<250),IF($F3<>$H3,IF(F3=0,TRUE(),IF(MOD(F3,1)=0,TRUE(),FALSE())),FALSE()),FALSE()),FALSE())) -> TRUE | P3: =IF(ISBLANK(H3),"",IF(ISNUMBER(H3),IF(AND(H3>=0,H3<250),IF($F3<>$H3,IF(H3=0,TRUE(),IF(MOD(H3,1)=0,TRUE(),FALSE())),FALSE()),FALSE()),FALSE())) -> TRUE
B4: Play-Ins West | C4: Grizzlies | D4: =IF(C4>0,":","") -> : | E4: Warriors | F4: 116 | G4: =IF(ISNUMBER(F4),":","") -> : | H4: 121 | I4: 3.3 | K4: 1.32 | L4: 2 | M4: =IF(ISNUMBER(L4),IF(IF(F4>H4,1,"")=L4,I4,IF(IF(F4<H4,2,"")=L4,K4,IF(IF(F4=H4,0,"")=L4,J4,0))),"") -> 1.32 | O4: =IF(ISBLANK(F4),"",IF(ISNUMBER(F4),IF(AND(F4>=0,F4<250),IF($F4<>$H4,IF(F4=0,TRUE(),IF(MOD(F4,1)=0,TRUE(),FALSE())),FALSE()),FALSE()),FALSE())) -> TRUE | P4: =IF(ISBLANK(H4),"",IF(ISNUMBER(H4),IF(AND(H4>=0,H4<250),IF($F4<>$H4,IF(H4=0,TRUE(),IF(MOD(H4,1)=0,TRUE(),FALSE())),FALSE()),FALSE()),FALSE())) -> TRUE
C5: Mavericks | D5: =IF(C5>0,":","") -> : | E5: Kings | F5: 120 | G5: =IF(ISNUMBER(F5),":","") -> : | H5: 106 | I5: 2.55 | K5: 1.5 | L5: 1 | M5: =IF(ISNUMBER(L5),IF(IF(F5>H5,1,"")=L5,I5,IF(IF(F5<H5,2,"")=L5,K5,IF(IF(F5=H5,0,"")=L5,J5,0))),"") -> 2.55 | N5: =SUM(M2:M5) -> 5.84 | O5: =IF(ISBLANK(F5),"",IF(ISNUMBER(F5),IF(AND(F5>=0,F5<250),IF($F5<>$H5,IF(F5=0,TRUE(),IF(MOD(F5,1)=0,TRUE(),FALSE())),FALSE()),FALSE()),FALSE())) -> TRUE | P5: =IF(ISBLANK(H5),"",IF(ISNUMBER(H5),IF(AND(H5>=0,H5<250),IF($F5<>$H5,IF(H5=0,TRUE(),IF(MOD(H5,1)=0,TRUE(),FALSE())),FALSE()),FALSE()),FALSE())) -> TRUE
D6: =IF(C6>0,":","") | G6: =IF(ISNUMBER(F6),":","") | M6: =IF(ISNUMBER(L6),IF(IF(F6>H6,1,"")=L6,I6,IF(IF(F6<H6,2,"")=L6,K6,IF(IF(F6=H6,0,"")=L6,J6,0))),"") | O6: =IF(ISBLANK(F6),"",IF(ISNUMBER(F6),IF(AND(F6>=0,F6<250),IF($F6<>$H6,IF(F6=0,TRUE(),IF(MOD(F6,1)=0,TRUE(),FALSE())),FALSE()),FALSE()),FALSE())) | P6: =IF(ISBLANK(H6),"",IF(ISNUMBER(H6),IF(AND(H6>=0,H6<250),IF($F6<>$H6,IF(H6=0,TRUE(),IF(MOD(H6,1)=0,TRUE(),FALSE())),FALSE()),FALSE()),FALSE()))
B7: Play-Ins East | C7: Heat | D7: =IF(C7>0,":","") -> : | E7: Hawks | F7: 123 | G7: =IF(ISNUMBER(F7),":","") -> : | H7: 114 | I7: 1.83 | K7: 1.93 | L7: 1 | M7: =IF(ISNUMBER(L7),IF(IF(F7>H7,1,"")=L7,I7,IF(IF(F7<H7,2,"")=L7,K7,IF(IF(F7=H7,0,"")=L7,J7,0))),"") -> 1.83 | O7: =IF(ISBLANK(F7),"",IF(ISNUMBER(F7),IF(AND(F7>=0,F7<250),IF($F7<>$H7,IF(F7=0,TRUE(),IF(MOD(F7,1)=0,TRUE(),FALSE())),FALSE()),FALSE()),FALSE())) -> TRUE | P7: =IF(ISBLANK(H7),"",IF(ISNUMBER(H7),IF(AND(H7>=0,H7<250),IF($F7<>$H7,IF(H7=0,TRUE(),IF(MOD(H7,1)=0,TRUE(),FALSE())),FALSE()),FALSE()),FALSE())) -> TRUE
B8: Play-Ins West | C8: Mavericks | D8: =IF(C8>0,":","") -> : | E8: Grizzlies | F8: 106 | G8: =IF(ISNUMBER(F8),":","") -> : | H8: 120 | I8: 2.9 | K8: 1.4 | L8: 1 | M8: =IF(ISNUMBER(L8),IF(IF(F8>H8,1,"")=L8,I8,IF(IF(F8<H8,2,"")=L8,K8,IF(IF(F8=H8,0,"")=L8,J8,0))),"") -> 0 | N8: =SUM(M7:M8) -> 1.83 | O8: =IF(ISBLANK(F8),"",IF(ISNUMBER(F8),IF(AND(F8>=0,F8<250),IF($F8<>$H8,IF(F8=0,TRUE(),IF(MOD(F8,1)=0,TRUE(),FALSE())),FALSE()),FALSE()),FALSE())) -> TRUE | P8: =IF(ISBLANK(H8),"",IF(ISNUMBER(H8),IF(AND(H8>=0,H8<250),IF($F8<>$H8,IF(H8=0,TRUE(),IF(MOD(H8,1)=0,TRUE(),FALSE())),FALSE()),FALSE()),FALSE())) -> TRUE
D9: =IF(C9>0,":","") | G9: =IF(ISNUMBER(F9),":","") | M9: =IF(ISNUMBER(L9),IF(IF(F9>H9,1,"")=L9,I9,IF(IF(F9<H9,2,"")=L9,K9,IF(IF(F9=H9,0,"")=L9,J9,0))),"") | O9: =IF(ISBLANK(F9),"",IF(ISNUMBER(F9),IF(AND(F9>=0,F9<250),IF($F9<>$H9,IF(F9=0,TRUE(),IF(MOD(F9,1)=0,TRUE(),FALSE())),FALSE()),FALSE()),FALSE())) | P9: =IF(ISBLANK(H9),"",IF(ISNUMBER(H9),IF(AND(H9>=0,H9<250),IF($F9<>$H9,IF(H9=0,TRUE(),IF(MOD(H9,1)=0,TRUE(),FALSE())),FALSE()),FALSE()),FALSE()))
B10: Playoffs | C10: Bucks | D10: =IF(C10>0,":","") -> : | E10: Pacers | F10: 98 | G10: =IF(ISNUMBER(F10),":","") -> : | H10: 117 | I10: 2.6 | K10: 1.47 | L10: 1 | M10: =IF(ISNUMBER(L10),IF(IF(F10>H10,1,"")=L10,I10,IF(IF(F10<H10,2,"")=L10,K10,IF(IF(F10=H10,0,"")=L10,J10,0))),"") -> 0 | O10: =IF(ISBLANK(F10),"",IF(ISNUMBER(F10),IF(AND(F10>=0,F10<250),IF($F10<>$H10,IF(F10=0,TRUE(),IF(MOD(F10,1)=0,TRUE(),FALSE())),FALSE()),FALSE()),FALSE())) -> TRUE | P10: =IF(ISBLANK(H10),"",IF(ISNUMBER(H10),IF(AND(H10>=0,H10<250),IF($F10<>$H10,IF(H10=0,TRUE(),IF(MOD(H10,1)=0,TRUE(),FALSE())),FALSE()),FALSE()),FALSE())) -> TRUE
B11: Erste Runde | C11: Clippers | D11: =IF(C11>0,":","") -> : | E11: Nuggets | F11: 110 | G11: =IF(ISNUMBER(F11),":","") -> : | H11: 112 | I11: 2.2 | K11: 1.63 | L11: 2 | M11: =IF(ISNUMBER(L11),IF(IF(F11>H11,1,"")=L11,I11,IF(IF(F11<H11,2,"")=L11,K11,IF(IF(F11=H11,0,"")=L11,J11,0))),"") -> 1.63 | O11: =IF(ISBLANK(F11),"",IF(ISNUMBER(F11),IF(AND(F11>=0,F11<250),IF($F11<>$H11,IF(F11=0,TRUE(),IF(MOD(F11,1)=0,TRUE(),FALSE())),FALSE()),FALSE()),FALSE())) -> TRUE | P11: =IF(ISBLANK(H11),"",IF(ISNUMBER(H11),IF(AND(H11>=0,H11<250),IF($F11<>$H11,IF(H11=0,TRUE(),IF(MOD(H11,1)=0,TRUE(),FALSE())),FALSE()),FALSE()),FALSE())) -> TRUE
B12: Spiel 1 | C12: Pistons | D12: =IF(C12>0,":","") -> : | E12: Knicks | F12: 112 | G12: =IF(ISNUMBER(F12),":","") -> : | H12: 123 | I12: 3.3 | K12: 1.32 | L12: 2 | M12: =IF(ISNUMBER(L12),IF(IF(F12>H12,1,"")=L12,I12,IF(IF(F12<H12,2,"")=L12,K12,IF(IF(F12=H12,0,"")=L12,#REF!,0))),"") -> 1.32 | O12: =IF(ISBLANK(F12),"",IF(ISNUMBER(F12),IF(AND(F12>=0,F12<250),IF($F12<>$H12,IF(F12=0,TRUE(),IF(MOD(F12,1)=0,TRUE(),FALSE())),FALSE()),FALSE()),FALSE())) -> TRUE | P12: =IF(ISBLANK(H12),"",IF(ISNUMBER(H12),IF(AND(H12>=0,H12<250),IF($F12<>$H12,IF(H12=0,TRUE(),IF(MOD(H12,1)=0,TRUE(),FALSE())),FALSE()),FALSE()),FALSE())) -> TRUE
C13: Timberwolves | D13: =IF(C13>0,":","") -> : | E13: Lakers | F13: 117 | G13: =IF(ISNUMBER(F13),":","") -> : | H13: 95 | I13: 2.5 | K13: 1.52 | L13: 2 | M13: =IF(ISNUMBER(L13),IF(IF(F13>H13,1,"")=L13,I13,IF(IF(F13<H13,2,"")=L13,K13,IF(IF(F13=H13,0,"")=L13,J13,0))),"") -> 0 | O13: =IF(ISBLANK(F13),"",IF(ISNUMBER(F13),IF(AND(F13>=0,F13<250),IF($F13<>$H13,IF(F13=0,TRUE(),IF(MOD(F13,1)=0,TRUE(),FALSE())),FALSE()),FALSE()),FALSE())) -> TRUE | P13: =IF(ISBLANK(H13),"",IF(ISNUMBER(H13),IF(AND(H13>=0,H13<250),IF($F13<>$H13,IF(H13=0,TRUE(),IF(MOD(H13,1)=0,TRUE(),FALSE())),FALSE()),FALSE()),FALSE())) -> TRUE
C14: Magic | D14: =IF(C14>0,":","") -> : | E14: Celtics | F14: 86 | G14: =IF(ISNUMBER(F14),":","") -> : | H14: 103 | I14: 7.8 | K14: 1.07 | L14: 2 | M14: =IF(ISNUMBER(L14),IF(IF(F14>H14,1,"")=L14,I14,IF(IF(F14<H14,2,"")=L14,K14,IF(IF(F14=H14,0,"")=L14,J14,0))),"") -> 1.07 | O14: =IF(ISBLANK(F14),"",IF(ISNUMBER(F14),IF(AND(F14>=0,F14<250),IF($F14<>$H14,IF(F14=0,TRUE(),IF(MOD(F14,1)=0,TRUE(),FALSE())),FALSE()),FALSE()),FALSE())) -> TRUE | P14: =IF(ISBLANK(H14),"",IF(ISNUMBER(H14),IF(AND(H14>=0,H14<250),IF($F14<>$H14,IF(H14=0,TRUE(),IF(MOD(H14,1)=0,TRUE(),FALSE())),FALSE()),FALSE()),FALSE())) -> TRUE
C15: Warriors | D15: =IF(C15>0,":","") -> : | E15: Rockets | F15: 95 | G15: =IF(ISNUMBER(F15),":","") -> : | H15: 85 | I15: 1.93 | K15: 1.83 | L15: 2 | M15: =IF(ISNUMBER(L15),IF(IF(F15>H15,1,"")=L15,I15,IF(IF(F15<H15,2,"")=L15,K15,IF(IF(F15=H15,0,"")=L15,J15,0))),"") -> 0 | O15: =IF(ISBLANK(F15),"",IF(ISNUMBER(F15),IF(AND(F15>=0,F15<250),IF($F15<>$H15,IF(F15=0,TRUE(),IF(MOD(F15,1)=0,TRUE(),FALSE())),FALSE()),FALSE()),FALSE())) -> TRUE | P15: =IF(ISBLANK(H15),"",IF(ISNUMBER(H15),IF(AND(H15>=0,H15<250),IF($F15<>$H15,IF(H15=0,TRUE(),IF(MOD(H15,1)=0,TRUE(),FALSE())),FALSE()),FALSE()),FALSE())) -> TRUE
C16: Grizzlies | D16: =IF(C16>0,":","") -> : | E16: Thunder | F16: 80 | G16: =IF(ISNUMBER(F16),":","") -> : | H16: 131 | I16: 5.5 | K16: 1.14 | L16: 2 | M16: =IF(ISNUMBER(L16),IF(IF(F16>H16,1,"")=L16,I16,IF(IF(F16<H16,2,"")=L16,K16,IF(IF(F16=H16,0,"")=L16,J16,0))),"") -> 1.14 | O16: =IF(ISBLANK(F16),"",IF(ISNUMBER(F16),IF(AND(F16>=0,F16<250),IF($F16<>$H16,IF(F16=0,TRUE(),IF(MOD(F16,1)=0,TRUE(),FALSE())),FALSE()),FALSE()),FALSE())) -> TRUE | P16: =IF(ISBLANK(H16),"",IF(ISNUMBER(H16),IF(AND(H16>=0,H16<250),IF($F16<>$H16,IF(H16=0,TRUE(),IF(MOD(H16,1)=0,TRUE(),FALSE())),FALSE()),FALSE()),FALSE())) -> TRUE
C17: Heat | D17: =IF(C17>0,":","") -> : | E17: Cavaliers | F17: 100 | G17: =IF(ISNUMBER(F17),":","") -> : | H17: 121 | I17: 6.5 | K17: 1.1 | L17: 2 | M17: =IF(ISNUMBER(L17),IF(IF(F17>H17,1,"")=L17,I17,IF(IF(F17<H17,2,"")=L17,K17,IF(IF(F17=H17,0,"")=L17,J17,0))),"") -> 1.1 | N17: =SUM(M10:M17) -> 6.26 | O17: =IF(ISBLANK(F17),"",IF(ISNUMBER(F17),IF(AND(F17>=0,F17<250),IF($F17<>$H17,IF(F17=0,TRUE(),IF(MOD(F17,1)=0,TRUE(),FALSE())),FALSE()),FALSE()),FALSE())) -> TRUE | P17: =IF(ISBLANK(H17),"",IF(ISNUMBER(H17),IF(AND(H17>=0,H17<250),IF($F17<>$H17,IF(H17=0,TRUE(),IF(MOD(H17,1)=0,TRUE(),FALSE())),FALSE()),FALSE()),FALSE())) -> TRUE
D18: =IF(C18>0,":","") | G18: =IF(ISNUMBER(F18),":","") | M18: =IF(ISNUMBER(L18),IF(IF(F18>H18,1,"")=L18,I18,IF(IF(F18<H18,2,"")=L18,K18,IF(IF(F18=H18,0,"")=L18,J18,0))),"") | O18: =IF(ISBLANK(F18),"",IF(ISNUMBER(F18),IF(AND(F18>=0,F18<250),IF($F18<>$H18,IF(F18=0,TRUE(),IF(MOD(F18,1)=0,TRUE(),FALSE())),FALSE()),FALSE()),FALSE())) | P18: =IF(ISBLANK(H18),"",IF(ISNUMBER(H18),IF(AND(H18>=0,H18<250),IF($F18<>$H18,IF(H18=0,TRUE(),IF(MOD(H18,1)=0,TRUE(),FALSE())),FALSE()),FALSE()),FALSE()))
B19: Playoffs | C19: Pistons | D19: =IF(C19>0,":","") -> : | E19: Knicks | F19: 100 | G19: =IF(ISNUMBER(F19),":","") -> : | H19: 94 | I19: 3 | K19: 1.37 | L19: 2 | M19: =IF(ISNUMBER(L19),IF(IF(F19>H19,1,"")=L19,I19,IF(IF(F19<H19,2,"")=L19,K19,IF(IF(F19=H19,0,"")=L19,J19,0))),"") -> 0 | O19: =IF(ISBLANK(F19),"",IF(ISNUMBER(F19),IF(AND(F19>=0,F19<250),IF($F19<>$H19,IF(F19=0,TRUE(),IF(MOD(F19,1)=0,TRUE(),FALSE())),FALSE()),FALSE()),FALSE())) -> TRUE | P19: =IF(ISBLANK(H19),"",IF(ISNUMBER(H19),IF(AND(H19>=0,H19<250),IF($F19<>$H19,IF(H19=0,TRUE(),IF(MOD(H19,1)=0,TRUE(),FALSE())),FALSE()),FALSE()),FALSE())) -> TRUE
B20: Erste Runde | C20: Clippers | D20: =IF(C20>0,":","") -> : | E20: Nuggets | F20: 105 | G20: =IF(ISNUMBER(F20),":","") -> : | H20: 102 | I20: 1.83 | K20: 1.93 | L20: 2 | M20: =IF(ISNUMBER(L20),IF(IF(F20>H20,1,"")=L20,I20,IF(IF(F20<H20,2,"")=L20,K20,IF(IF(F20=H20,0,"")=L20,J20,0))),"") -> 0 | O20: =IF(ISBLANK(F20),"",IF(ISNUMBER(F20),IF(AND(F20>=0,F20<250),IF($F20<>$H20,IF(F20=0,TRUE(),IF(MOD(F20,1)=0,TRUE(),FALSE())),FALSE()),FALSE()),FALSE())) -> TRUE | P20: =IF(ISBLANK(H20),"",IF(ISNUMBER(H20),IF(AND(H20>=0,H20<250),IF($F20<>$H20,IF(H20=0,TRUE(),IF(MOD(H20,1)=0,TRUE(),FALSE())),FALSE()),FALSE()),FALSE())) -> TRUE
B21: Spiel 2 | C21: Bucks | D21: =IF(C21>0,":","") -> : | E21: Pacers | F21: 115 | G21: =IF(ISNUMBER(F21),":","") -> : | H21: 123 | I21: 2.6 | K21: 1.47 | L21: 2 | M21: =IF(ISNUMBER(L21),IF(IF(F21>H21,1,"")=L21,I21,IF(IF(F21<H21,2,"")=L21,K21,IF(IF(F21=H21,0,"")=L21,J21,0))),"") -> 1.47 | O21: =IF(ISBLANK(F21),"",IF(ISNUMBER(F21),IF(AND(F21>=0,F21<250),IF($F21<>$H21,IF(F21=0,TRUE(),IF(MOD(F21,1)=0,TRUE(),FALSE())),FALSE()),FALSE()),FALSE())) -> TRUE | P21: =IF(ISBLANK(H21),"",IF(ISNUMBER(H21),IF(AND(H21>=0,H21<250),IF($F21<>$H21,IF(H21=0,TRUE(),IF(MOD(H21,1)=0,TRUE(),FALSE())),FALSE()),FALSE()),FALSE())) -> TRUE
C22: Grizzlies | D22: =IF(C22>0,":","") -> : | E22: Thunder | F22: 99 | G22: =IF(ISNUMBER(F22),":","") -> : | H22: 118 | I22: 8.5 | K22: 1.06 | L22: 2 | M22: =IF(ISNUMBER(L22),IF(IF(F22>H22,1,"")=L22,I22,IF(IF(F22<H22,2,"")=L22,K22,IF(IF(F22=H22,0,"")=L22,J22,0))),"") -> 1.06 | O22: =IF(ISBLANK(F22),"",IF(ISNUMBER(F22),IF(AND(F22>=0,F22<250),IF($F22<>$H22,IF(F22=0,TRUE(),IF(MOD(F22,1)=0,TRUE(),FALSE())),FALSE()),FALSE()),FALSE())) -> TRUE | P22: =IF(ISBLANK(H22),"",IF(ISNUMBER(H22),IF(AND(H22>=0,H22<250),IF($F22<>$H22,IF(H22=0,TRUE(),IF(MOD(H22,1)=0,TRUE(),FALSE())),FALSE()),FALSE()),FALSE())) -> TRUE
C23: Timberwolves | D23: =IF(C23>0,":","") -> : | E23: Lakers | F23: 85 | G23: =IF(ISNUMBER(F23),":","") -> : | H23: 94 | I23: 3.1 | K23: 1.35 | L23: 2 | M23: =IF(ISNUMBER(L23),IF(IF(F23>H23,1,"")=L23,I23,IF(IF(F23<H23,2,"")=L23,K23,IF(IF(F23=H23,0,"")=L23,J23,0))),"") -> 1.35 | O23: =IF(ISBLANK(F23),"",IF(ISNUMBER(F23),IF(AND(F23>=0,F23<250),IF($F23<>$H23,IF(F23=0,TRUE(),IF(MOD(F23,1)=0,TRUE(),FALSE())),FALSE()),FALSE()),FALSE())) -> TRUE | P23: =IF(ISBLANK(H23),"",IF(ISNUMBER(H23),IF(AND(H23>=0,H23<250),IF($F23<>$H23,IF(H23=0,TRUE(),IF(MOD(H23,1)=0,TRUE(),FALSE())),FALSE()),FALSE()),FALSE())) -> TRUE
C24: Magic | D24: =IF(C24>0,":","") -> : | E24: Celtics | F24: 100 | G24: =IF(ISNUMBER(F24),":","") -> : | H24: 109 | I24: 6.2 | K24: 1.11 | L24: 2 | M24: =IF(ISNUMBER(L24),IF(IF(F24>H24,1,"")=L24,I24,IF(IF(F24<H24,2,"")=L24,K24,IF(IF(F24=H24,0,"")=L24,J24,0))),"") -> 1.11 | O24: =IF(ISBLANK(F24),"",IF(ISNUMBER(F24),IF(AND(F24>=0,F24<250),IF($F24<>$H24,IF(F24=0,TRUE(),IF(MOD(F24,1)=0,TRUE(),FALSE())),FALSE()),FALSE()),FALSE())) -> TRUE | P24: =IF(ISBLANK(H24),"",IF(ISNUMBER(H24),IF(AND(H24>=0,H24<250),IF($F24<>$H24,IF(H24=0,TRUE(),IF(MOD(H24,1)=0,TRUE(),FALSE())),FALSE()),FALSE()),FALSE())) -> TRUE
C25: Heat | D25: =IF(C25>0,":","") -> : | E25: Cavaliers | F25: 112 | G25: =IF(ISNUMBER(F25),":","") -> : | H25: 121 | I25: 5.5 | K25: 1.14 | L25: 2 | M25: =IF(ISNUMBER(L25),IF(IF(F25>H25,1,"")=L25,I25,IF(IF(F25<H25,2,"")=L25,K25,IF(IF(F25=H25,0,"")=L25,J25,0))),"") -> 1.14 | O25: =IF(ISBLANK(F25),"",IF(ISNUMBER(F25),IF(AND(F25>=0,F25<250),IF($F25<>$H25,IF(F25=0,TRUE(),IF(MOD(F25,1)=0,TRUE(),FALSE())),FALSE()),FALSE()),FALSE())) -> TRUE | P25: =IF(ISBLANK(H25),"",IF(ISNUMBER(H25),IF(AND(H25>=0,H25<250),IF($F25<>$H25,IF(H25=0,TRUE(),IF(MOD(H25,1)=0,TRUE(),FALSE())),FALSE()),FALSE()),FALSE())) -> TRUE
C26: Warriors | D26: =IF(C26>0,":","") -> : | E26: Rockets | F26: 94 | G26: =IF(ISNUMBER(F26),":","") -> : | H26: 109 | I26: 2.1 | K26: 1.72 | L26: 1 | M26: =IF(ISNUMBER(L26),IF(IF(F26>H26,1,"")=L26,I26,IF(IF(F26<H26,2,"")=L26,K26,IF(IF(F26=H26,0,"")=L26,J26,0))),"") -> 0 | N26: =SUM(M19:M26) -> 6.13 | O26: =IF(ISBLANK(F26),"",IF(ISNUMBER(F26),IF(AND(F26>=0,F26<250),IF($F26<>$H26,IF(F26=0,TRUE(),IF(MOD(F26,1)=0,TRUE(),FALSE())),FALSE()),FALSE()),FALSE())) -> TRUE | P26: =IF(ISBLANK(H26),"",IF(ISNUMBER(H26),IF(AND(H26>=0,H26<250),IF($F26<>$H26,IF(H26=0,TRUE(),IF(MOD(H26,1)=0,TRUE(),FALSE())),FALSE()),FALSE()),FALSE())) -> TRUE
D27: =IF(C27>0,":","") | G27: =IF(ISNUMBER(F27),":","") | M27: =IF(ISNUMBER(L27),IF(IF(F27>H27,1,"")=L27,I27,IF(IF(F27<H27,2,"")=L27,K27,IF(IF(F27=H27,0,"")=L27,J27,0))),"") | O27: =IF(ISBLANK(F27),"",IF(ISNUMBER(F27),IF(AND(F27>=0,F27<250),IF($F27<>$H27,IF(F27=0,TRUE(),IF(MOD(F27,1)=0,TRUE(),FALSE())),FALSE()),FALSE()),FALSE())) | P27: =IF(ISBLANK(H27),"",IF(ISNUMBER(H27),IF(AND(H27>=0,H27<250),IF($F27<>$H27,IF(H27=0,TRUE(),IF(MOD(H27,1)=0,TRUE(),FALSE())),FALSE()),FALSE()),FALSE()))
B28: Playoffs | C28: Knicks | D28: =IF(C28>0,":","") -> : | E28: Pistons | F28: 118 | G28: =IF(ISNUMBER(F28),":","") -> : | H28: 116 | I28: 1.83 | K28: 1.93 | L28: 2 | M28: =IF(ISNUMBER(L28),IF(IF(F28>H28,1,"")=L28,I28,IF(IF(F28<H28,2,"")=L28,K28,IF(IF(F28=H28,0,"")=L28,J28,0))),"") -> 0 | O28: =IF(ISBLANK(F28),"",IF(ISNUMBER(F28),IF(AND(F28>=0,F28<250),IF($F28<>$H28,IF(F28=0,TRUE(),IF(MOD(F28,1)=0,TRUE(),FALSE())),FALSE()),FALSE()),FALSE())) -> TRUE | P28: =IF(ISBLANK(H28),"",IF(ISNUMBER(H28),IF(AND(H28>=0,H28<250),IF($F28<>$H28,IF(H28=0,TRUE(),IF(MOD(H28,1)=0,TRUE(),FALSE())),FALSE()),FALSE()),FALSE())) -> TRUE
B29: Erste Runde | C29: Thunder | D29: =IF(C29>0,":","") -> : | E29: Grizzlies | F29: 114 | G29: =IF(ISNUMBER(F29),":","") -> : | H29: 108 | I29: 1.2 | K29: 4.4 | L29: 1 | M29: =IF(ISNUMBER(L29),IF(IF(F29>H29,1,"")=L29,I29,IF(IF(F29<H29,2,"")=L29,K29,IF(IF(F29=H29,0,"")=L29,J29,0))),"") -> 1.2 | O29: =IF(ISBLANK(F29),"",IF(ISNUMBER(F29),IF(AND(F29>=0,F29<250),IF($F29<>$H29,IF(F29=0,TRUE(),IF(MOD(F29,1)=0,TRUE(),FALSE())),FALSE()),FALSE()),FALSE())) -> TRUE | P29: =IF(ISBLANK(H29),"",IF(ISNUMBER(H29),IF(AND(H29>=0,H29<250),IF($F29<>$H29,IF(H29=0,TRUE(),IF(MOD(H29,1)=0,TRUE(),FALSE())),FALSE()),FALSE()),FALSE())) -> TRUE
B30: Spiel 3 | C30: Nuggets | D30: =IF(C30>0,":","") -> : | E30: Clippers | F30: 83 | G30: =IF(ISNUMBER(F30),":","") -> : | H30: 117 | I30: 2.8 | K30: 1.42 | L30: 2 | M30: =IF(ISNUMBER(L30),IF(IF(F30>H30,1,"")=L30,I30,IF(IF(F30<H30,2,"")=L30,K30,IF(IF(F30=H30,0,"")=L30,J30,0))),"") -> 1.42 | O30: =IF(ISBLANK(F30),"",IF(ISNUMBER(F30),IF(AND(F30>=0,F30<250),IF($F30<>$H30,IF(F30=0,TRUE(),IF(MOD(F30,1)=0,TRUE(),FALSE())),FALSE()),FALSE()),FALSE())) -> TRUE | P30: =IF(ISBLANK(H30),"",IF(ISNUMBER(H30),IF(AND(H30>=0,H30<250),IF($F30<>$H30,IF(H30=0,TRUE(),IF(MOD(H30,1)=0,TRUE(),FALSE())),FALSE()),FALSE()),FALSE())) -> TRUE
C31: Celtics | D31: =IF(C31>0,":","") -> : | E31: Magic | F31: 93 | G31: =IF(ISNUMBER(F31),":","") -> : | H31: 95 | I31: 1.4 | K31: 2.9 | L31: 1 | M31: =IF(ISNUMBER(L31),IF(IF(F31>H31,1,"")=L31,I31,IF(IF(F31<H31,2,"")=L31,K31,IF(IF(F31=H31,0,"")=L31,J31,0))),"") -> 0 | O31: =IF(ISBLANK(F31),"",IF(ISNUMBER(F31),IF(AND(F31>=0,F31<250),IF($F31<>$H31,IF(F31=0,TRUE(),IF(MOD(F31,1)=0,TRUE(),FALSE())),FALSE()),FALSE()),FALSE())) -> TRUE | P31: =IF(ISBLANK(H31),"",IF(ISNUMBER(H31),IF(AND(H31>=0,H31<250),IF($F31<>$H31,IF(H31=0,TRUE(),IF(MOD(H31,1)=0,TRUE(),FALSE())),FALSE()),FALSE()),FALSE())) -> TRUE
C32: Pacers | D32: =IF(C32>0,":","") -> : | E32: Bucks | F32: 101 | G32: =IF(ISNUMBER(F32),":","") -> : | H32: 117 | I32: 2.8 | K32: 1.42 | L32: 2 | M32: =IF(ISNUMBER(L32),IF(IF(F32>H32,1,"")=L32,I32,IF(IF(F32<H32,2,"")=L32,K32,IF(IF(F32=H32,0,"")=L32,J32,0))),"") -> 1.42 | O32: =IF(ISBLANK(F32),"",IF(ISNUMBER(F32),IF(AND(F32>=0,F32<250),IF($F32<>$H32,IF(F32=0,TRUE(),IF(MOD(F32,1)=0,TRUE(),FALSE())),FALSE()),FALSE()),FALSE())) -> TRUE | P32: =IF(ISBLANK(H32),"",IF(ISNUMBER(H32),IF(AND(H32>=0,H32<250),IF($F32<>$H32,IF(H32=0,TRUE(),IF(MOD(H32,1)=0,TRUE(),FALSE())),FALSE()),FALSE()),FALSE())) -> TRUE
C33: Lakers | D33: =IF(C33>0,":","") -> : | E33: Timberwolves | F33: 104 | G33: =IF(ISNUMBER(F33),":","") -> : | H33: 116 | I33: 2.25 | K33: 1.62 | L33: 2 | M33: =IF(ISNUMBER(L33),IF(IF(F33>H33,1,"")=L33,I33,IF(IF(F33<H33,2,"")=L33,K33,IF(IF(F33=H33,0,"")=L33,J33,0))),"") -> 1.62 | O33: =IF(ISBLANK(F33),"",IF(ISNUMBER(F33),IF(AND(F33>=0,F33<250),IF($F33<>$H33,IF(F33=0,TRUE(),IF(MOD(F33,1)=0,TRUE(),FALSE())),FALSE()),FALSE()),FALSE())) -> TRUE | P33: =IF(ISBLANK(H33),"",IF(ISNUMBER(H33),IF(AND(H33>=0,H33<250),IF($F33<>$H33,IF(H33=0,TRUE(),IF(MOD(H33,1)=0,TRUE(),FALSE())),FALSE()),FALSE()),FALSE())) -> TRUE
C34: Cavaliers | D34: =IF(C34>0,":","") -> : | E34: Heat | F34: 124 | G34: =IF(ISNUMBER(F34),":","") -> : | H34: 87 | I34: 1.4 | K34: 2.9 | L34: 1 | M34: =IF(ISNUMBER(L34),IF(IF(F34>H34,1,"")=L34,I34,IF(IF(F34<H34,2,"")=L34,K34,IF(IF(F34=H34,0,"")=L34,J34,0))),"") -> 1.4 | O34: =IF(ISBLANK(F34),"",IF(ISNUMBER(F34),IF(AND(F34>=0,F34<250),IF($F34<>$H34,IF(F34=0,TRUE(),IF(MOD(F34,1)=0,TRUE(),FALSE())),FALSE()),FALSE()),FALSE())) -> TRUE | P34: =IF(ISBLANK(H34),"",IF(ISNUMBER(H34),IF(AND(H34>=0,H34<250),IF($F34<>$H34,IF(H34=0,TRUE(),IF(MOD(H34,1)=0,TRUE(),FALSE())),FALSE()),FALSE()),FALSE())) -> TRUE
C35: Rockets | D35: =IF(C35>0,":","") -> : | E35: Warriors | F35: 93 | G35: =IF(ISNUMBER(F35),":","") -> : | H35: 104 | I35: 2.25 | K35: 1.62 | L35: 2 | M35: =IF(ISNUMBER(L35),IF(IF(F35>H35,1,"")=L35,I35,IF(IF(F35<H35,2,"")=L35,K35,IF(IF(F35=H35,0,"")=L35,J35,0))),"") -> 1.62 | N35: =SUM(M28:M35) -> 8.68 | O35: =IF(ISBLANK(F35),"",IF(ISNUMBER(F35),IF(AND(F35>=0,F35<250),IF($F35<>$H35,IF(F35=0,TRUE(),IF(MOD(F35,1)=0,TRUE(),FALSE())),FALSE()),FALSE()),FALSE())) -> TRUE | P35: =IF(ISBLANK(H35),"",IF(ISNUMBER(H35),IF(AND(H35>=0,H35<250),IF($F35<>$H35,IF(H35=0,TRUE(),IF(MOD(H35,1)=0,TRUE(),FALSE())),FALSE()),FALSE()),FALSE())) -> TRUE
D36: =IF(C36>0,":","") | G36: =IF(ISNUMBER(F36),":","") | M36: =IF(ISNUMBER(L36),IF(IF(F36>H36,1,"")=L36,I36,IF(IF(F36<H36,2,"")=L36,K36,IF(IF(F36=H36,0,"")=L36,J36,0))),"") | O36: =IF(ISBLANK(F36),"",IF(ISNUMBER(F36),IF(AND(F36>=0,F36<250),IF($F36<>$H36,IF(F36=0,TRUE(),IF(MOD(F36,1)=0,TRUE(),FALSE())),FALSE()),FALSE()),FALSE())) | P36: =IF(ISBLANK(H36),"",IF(ISNUMBER(H36),IF(AND(H36>=0,H36<250),IF($F36<>$H36,IF(H36=0,TRUE(),IF(MOD(H36,1)=0,TRUE(),FALSE())),FALSE()),FALSE()),FALSE()))
B37: Playoffs | C37: Thunder | D37: =IF(C37>0,":","") -> : | E37: Grizzlies | F37: 117 | G37: =IF(ISNUMBER(F37),":","") -> : | H37: 115 | I37: 1.1 | K37: 6.7 | L37: 1 | M37: =IF(ISNUMBER(L37),IF(IF(F37>H37,1,"")=L37,I37,IF(IF(F37<H37,2,"")=L37,K37,IF(IF(F37=H37,0,"")=L37,J37,0))),"") -> 1.1 | O37: =IF(ISBLANK(F37),"",IF(ISNUMBER(F37),IF(AND(F37>=0,F37<250),IF($F37<>$H37,IF(F37=0,TRUE(),IF(MOD(F37,1)=0,TRUE(),FALSE())),FALSE()),FALSE()),FALSE())) -> TRUE | P37: =IF(ISBLANK(H37),"",IF(ISNUMBER(H37),IF(AND(H37>=0,H37<250),IF($F37<>$H37,IF(H37=0,TRUE(),IF(MOD(H37,1)=0,TRUE(),FALSE())),FALSE()),FALSE()),FALSE())) -> TRUE
B38: Erste Runde | C38: Nuggets | D38: =IF(C38>0,":","") -> : | E38: Clippers | F38: 101 | G38: =IF(ISNUMBER(F38),":","") -> : | H38: 99 | I38: 2.8 | K38: 1.42 | L38: 2 | M38: =IF(ISNUMBER(L38),IF(IF(F38>H38,1,"")=L38,I38,IF(IF(F38<H38,2,"")=L38,K38,IF(IF(F38=H38,0,"")=L38,J38,0))),"") -> 0 | O38: =IF(ISBLANK(F38),"",IF(ISNUMBER(F38),IF(AND(F38>=0,F38<250),IF($F38<>$H38,IF(F38=0,TRUE(),IF(MOD(F38,1)=0,TRUE(),FALSE())),FALSE()),FALSE()),FALSE())) -> TRUE | P38: =IF(ISBLANK(H38),"",IF(ISNUMBER(H38),IF(AND(H38>=0,H38<250),IF($F38<>$H38,IF(H38=0,TRUE(),IF(MOD(H38,1)=0,TRUE(),FALSE())),FALSE()),FALSE()),FALSE())) -> TRUE
B39: Spiel 4 | C39: Knicks | D39: =IF(C39>0,":","") -> : | E39: Pistons | F39: 94 | G39: =IF(ISNUMBER(F39),":","") -> : | H39: 93 | I39: 1.9 | K39: 1.87 | L39: 2 | M39: =IF(ISNUMBER(L39),IF(IF(F39>H39,1,"")=L39,I39,IF(IF(F39<H39,2,"")=L39,K39,IF(IF(F39=H39,0,"")=L39,J39,0))),"") -> 0 | O39: =IF(ISBLANK(F39),"",IF(ISNUMBER(F39),IF(AND(F39>=0,F39<250),IF($F39<>$H39,IF(F39=0,TRUE(),IF(MOD(F39,1)=0,TRUE(),FALSE())),FALSE()),FALSE()),FALSE())) -> TRUE | P39: =IF(ISBLANK(H39),"",IF(ISNUMBER(H39),IF(AND(H39>=0,H39<250),IF($F39<>$H39,IF(H39=0,TRUE(),IF(MOD(H39,1)=0,TRUE(),FALSE())),FALSE()),FALSE()),FALSE())) -> TRUE
C40: Lakers | D40: =IF(C40>0,":","") -> : | E40: Timberwolves | F40: 113 | G40: =IF(ISNUMBER(F40),":","") -> : | H40: 116 | I40: 2.3 | K40: 1.6 | L40: 2 | M40: =IF(ISNUMBER(L40),IF(IF(F40>H40,1,"")=L40,I40,IF(IF(F40<H40,2,"")=L40,K40,IF(IF(F40=H40,0,"")=L40,J40,0))),"") -> 1.6 | O40: =IF(ISBLANK(F40),"",IF(ISNUMBER(F40),IF(AND(F40>=0,F40<250),IF($F40<>$H40,IF(F40=0,TRUE(),IF(MOD(F40,1)=0,TRUE(),FALSE())),FALSE()),FALSE()),FALSE())) -> TRUE | P40: =IF(ISBLANK(H40),"",IF(ISNUMBER(H40),IF(AND(H40>=0,H40<250),IF($F40<>$H40,IF(H40=0,TRUE(),IF(MOD(H40,1)=0,TRUE(),FALSE())),FALSE()),FALSE()),FALSE())) -> TRUE
C41: Celtics | D41: =IF(C41>0,":","") -> : | E41: Magic | F41: 107 | G41: =IF(ISNUMBER(F41),":","") -> : | H41: 98 | I41: 1.32 | K41: 3.3 | L41: 2 | M41: =IF(ISNUMBER(L41),IF(IF(F41>H41,1,"")=L41,I41,IF(IF(F41<H41,2,"")=L41,K41,IF(IF(F41=H41,0,"")=L41,J41,0))),"") -> 0 | O41: =IF(ISBLANK(F41),"",IF(ISNUMBER(F41),IF(AND(F41>=0,F41<250),IF($F41<>$H41,IF(F41=0,TRUE(),IF(MOD(F41,1)=0,TRUE(),FALSE())),FALSE()),FALSE()),FALSE())) -> TRUE | P41: =IF(ISBLANK(H41),"",IF(ISNUMBER(H41),IF(AND(H41>=0,H41<250),IF($F41<>$H41,IF(H41=0,TRUE(),IF(MOD(H41,1)=0,TRUE(),FALSE())),FALSE()),FALSE()),FALSE())) -> TRUE
C42: Pacers | D42: =IF(C42>0,":","") -> : | E42: Bucks | F42: 129 | G42: =IF(ISNUMBER(F42),":","") -> : | H42: 103 | I42: 2.7 | K42: 1.45 | L42: 2 | M42: =IF(ISNUMBER(L42),IF(IF(F42>H42,1,"")=L42,I42,IF(IF(F42<H42,2,"")=L42,K42,IF(IF(F42=H42,0,"")=L42,J42,0))),"") -> 0 | O42: =IF(ISBLANK(F42),"",IF(ISNUMBER(F42),IF(AND(F42>=0,F42<250),IF($F42<>$H42,IF(F42=0,TRUE(),IF(MOD(F42,1)=0,TRUE(),FALSE())),FALSE()),FALSE()),FALSE())) -> TRUE | P42: =IF(ISBLANK(H42),"",IF(ISNUMBER(H42),IF(AND(H42>=0,H42<250),IF($F42<>$H42,IF(H42=0,TRUE(),IF(MOD(H42,1)=0,TRUE(),FALSE())),FALSE()),FALSE()),FALSE())) -> TRUE
C43: Rockets | D43: =IF(C43>0,":","") -> : | E43: Warriors | F43: 106 | G43: =IF(ISNUMBER(F43),":","") -> : | H43: 109 | I43: 2.4 | K43: 1.55 | L43: 2 | M43: =IF(ISNUMBER(L43),IF(IF(F43>H43,1,"")=L43,I43,IF(IF(F43<H43,2,"")=L43,K43,IF(IF(F43=H43,0,"")=L43,J43,0))),"") -> 1.55 | O43: =IF(ISBLANK(F43),"",IF(ISNUMBER(F43),IF(AND(F43>=0,F43<250),IF($F43<>$H43,IF(F43=0,TRUE(),IF(MOD(F43,1)=0,TRUE(),FALSE())),FALSE()),FALSE()),FALSE())) -> TRUE | P43: =IF(ISBLANK(H43),"",IF(ISNUMBER(H43),IF(AND(H43>=0,H43<250),IF($F43<>$H43,IF(H43=0,TRUE(),IF(MOD(H43,1)=0,TRUE(),FALSE())),FALSE()),FALSE()),FALSE())) -> TRUE
C44: Cavaliers | D44: =IF(C44>0,":","") -> : | E44: Heat | F44: 138 | G44: =IF(ISNUMBER(F44),":","") -> : | H44: 83 | I44: 1.22 | K44: 4.1 | L44: 1 | M44: =IF(ISNUMBER(L44),IF(IF(F44>H44,1,"")=L44,I44,IF(IF(F44<H44,2,"")=L44,K44,IF(IF(F44=H44,0,"")=L44,J44,0))),"") -> 1.22 | N44: =SUM(M37:M44) -> 5.47 | O44: =IF(ISBLANK(F44),"",IF(ISNUMBER(F44),IF(AND(F44>=0,F44<250),IF($F44<>$H44,IF(F44=0,TRUE(),IF(MOD(F44,1)=0,TRUE(),FALSE())),FALSE()),FALSE()),FALSE())) -> TRUE | P44: =IF(ISBLANK(H44),"",IF(ISNUMBER(H44),IF(AND(H44>=0,H44<250),IF($F44<>$H44,IF(H44=0,TRUE(),IF(MOD(H44,1)=0,TRUE(),FALSE())),FALSE()),FALSE()),FALSE())) -> TRUE
D45: =IF(C45>0,":","") | G45: =IF(ISNUMBER(F45),":","") | M45: =IF(ISNUMBER(L45),IF(IF(F45>H45,1,"")=L45,I45,IF(IF(F45<H45,2,"")=L45,K45,IF(IF(F45=H45,0,"")=L45,J45,0))),"") | O45: =IF(ISBLANK(F45),"",IF(ISNUMBER(F45),IF(AND(F45>=0,F45<250),IF($F45<>$H45,IF(F45=0,TRUE(),IF(MOD(F45,1)=0,TRUE(),FALSE())),FALSE()),FALSE()),FALSE())) | P45: =IF(ISBLANK(H45),"",IF(ISNUMBER(H45),IF(AND(H45>=0,H45<250),IF($F45<>$H45,IF(H45=0,TRUE(),IF(MOD(H45,1)=0,TRUE(),FALSE())),FALSE()),FALSE()),FALSE()))
B46: Playoffs | C46: Bucks | D46: =IF(C46>0,":","") -> : | E46: Pacers | F46: 118 | G46: =IF(ISNUMBER(F46),":","") -> : | H46: 119 | I46: 3.3 | K46: 1.32 | L46: 2 | M46: =IF(ISNUMBER(L46),IF(IF(F46>H46,1,"")=L46,I46,IF(IF(F46<H46,2,"")=L46,K46,IF(IF(F46=H46,0,"")=L46,J46,0))),"") -> 1.32 | O46: =IF(ISBLANK(F46),"",IF(ISNUMBER(F46),IF(AND(F46>=0,F46<250),IF($F46<>$H46,IF(F46=0,TRUE(),IF(MOD(F46,1)=0,TRUE(),FALSE())),FALSE()),FALSE()),FALSE())) -> TRUE | P46: =IF(ISBLANK(H46),"",IF(ISNUMBER(H46),IF(AND(H46>=0,H46<250),IF($F46<>$H46,IF(H46=0,TRUE(),IF(MOD(H46,1)=0,TRUE(),FALSE())),FALSE()),FALSE()),FALSE())) -> TRUE
B47: Erste Runde | C47: Pistons | D47: =IF(C47>0,":","") -> : | E47: Knicks | F47: 106 | G47: =IF(ISNUMBER(F47),":","") -> : | H47: 103 | I47: 2.8 | K47: 1.42 | L47: 2 | M47: =IF(ISNUMBER(L47),IF(IF(F47>H47,1,"")=L47,I47,IF(IF(F47<H47,2,"")=L47,K47,IF(IF(F47=H47,0,"")=L47,J47,0))),"") -> 0 | O47: =IF(ISBLANK(F47),"",IF(ISNUMBER(F47),IF(AND(F47>=0,F47<250),IF($F47<>$H47,IF(F47=0,TRUE(),IF(MOD(F47,1)=0,TRUE(),FALSE())),FALSE()),FALSE()),FALSE())) -> TRUE | P47: =IF(ISBLANK(H47),"",IF(ISNUMBER(H47),IF(AND(H47>=0,H47<250),IF($F47<>$H47,IF(H47=0,TRUE(),IF(MOD(H47,1)=0,TRUE(),FALSE())),FALSE()),FALSE()),FALSE())) -> TRUE
B48: Spiel 5 | C48: Magic | D48: =IF(C48>0,":","") -> : | E48: Celtics | F48: 89 | G48: =IF(ISNUMBER(F48),":","") -> : | H48: 120 | I48: 6 | K48: 1.12 | L48: 2 | M48: =IF(ISNUMBER(L48),IF(IF(F48>H48,1,"")=L48,I48,IF(IF(F48<H48,2,"")=L48,K48,IF(IF(F48=H48,0,"")=L48,J48,0))),"") -> 1.12 | O48: =IF(ISBLANK(F48),"",IF(ISNUMBER(F48),IF(AND(F48>=0,F48<250),IF($F48<>$H48,IF(F48=0,TRUE(),IF(MOD(F48,1)=0,TRUE(),FALSE())),FALSE()),FALSE()),FALSE())) -> TRUE | P48: =IF(ISBLANK(H48),"",IF(ISNUMBER(H48),IF(AND(H48>=0,H48<250),IF($F48<>$H48,IF(H48=0,TRUE(),IF(MOD(H48,1)=0,TRUE(),FALSE())),FALSE()),FALSE()),FALSE())) -> TRUE
C49: Clippers | D49: =IF(C49>0,":","") -> : | E49: Nuggets | F49: 115 | G49: =IF(ISNUMBER(F49),":","") -> : | H49: 131 | I49: 1.77 | K49: 2 | L49: 2 | M49: =IF(ISNUMBER(L49),IF(IF(F49>H49,1,"")=L49,I49,IF(IF(F49<H49,2,"")=L49,K49,IF(IF(F49=H49,0,"")=L49,J49,0))),"") -> 2 | O49: =IF(ISBLANK(F49),"",IF(ISNUMBER(F49),IF(AND(F49>=0,F49<250),IF($F49<>$H49,IF(F49=0,TRUE(),IF(MOD(F49,1)=0,TRUE(),FALSE())),FALSE()),FALSE()),FALSE())) -> TRUE | P49: =IF(ISBLANK(H49),"",IF(ISNUMBER(H49),IF(AND(H49>=0,H49<250),IF($F49<>$H49,IF(H49=0,TRUE(),IF(MOD(H49,1)=0,TRUE(),FALSE())),FALSE()),FALSE()),FALSE())) -> TRUE
C50: Timberwolves | D50: =IF(C50>0,":","") -> : | E50: Lakers | F50: 103 | G50: =IF(ISNUMBER(F50),":","") -> : | H50: 96 | I50: 3 | K50: 1.37 | L50: 2 | M50: =IF(ISNUMBER(L50),IF(IF(F50>H50,1,"")=L50,I50,IF(IF(F50<H50,2,"")=L50,K50,IF(IF(F50=H50,0,"")=L50,J50,0))),"") -> 0 | O50: =IF(ISBLANK(F50),"",IF(ISNUMBER(F50),IF(AND(F50>=0,F50<250),IF($F50<>$H50,IF(F50=0,TRUE(),IF(MOD(F50,1)=0,TRUE(),FALSE())),FALSE()),FALSE()),FALSE())) -> TRUE | P50: =IF(ISBLANK(H50),"",IF(ISNUMBER(H50),IF(AND(H50>=0,H50<250),IF($F50<>$H50,IF(H50=0,TRUE(),IF(MOD(H50,1)=0,TRUE(),FALSE())),FALSE()),FALSE()),FALSE())) -> TRUE
C51: Warriors | D51: =IF(C51>0,":","") -> : | E51: Rockets | F51: 116 | G51: =IF(ISNUMBER(F51),":","") -> : | H51: 131 | I51: 2.3 | K51: 1.6 | L51: 2 | M51: =IF(ISNUMBER(L51),IF(IF(F51>H51,1,"")=L51,I51,IF(IF(F51<H51,2,"")=L51,K51,IF(IF(F51=H51,0,"")=L51,J51,0))),"") -> 1.6 | N51: =SUM(M46:M51) -> 6.04 | O51: =IF(ISBLANK(F51),"",IF(ISNUMBER(F51),IF(AND(F51>=0,F51<250),IF($F51<>$H51,IF(F51=0,TRUE(),IF(MOD(F51,1)=0,TRUE(),FALSE())),FALSE()),FALSE()),FALSE())) -> TRUE | P51: =IF(ISBLANK(H51),"",IF(ISNUMBER(H51),IF(AND(H51>=0,H51<250),IF($F51<>$H51,IF(H51=0,TRUE(),IF(MOD(H51,1)=0,TRUE(),FALSE())),FALSE()),FALSE()),FALSE())) -> TRUE
D52: =IF(C52>0,":","") | G52: =IF(ISNUMBER(F52),":","") | M52: =IF(ISNUMBER(L52),IF(IF(F52>H52,1,"")=L52,I52,IF(IF(F52<H52,2,"")=L52,K52,IF(IF(F52=H52,0,"")=L52,J52,0))),"") | O52: =IF(ISBLANK(F52),"",IF(ISNUMBER(F52),IF(AND(F52>=0,F52<250),IF($F52<>$H52,IF(F52=0,TRUE(),IF(MOD(F52,1)=0,TRUE(),FALSE())),FALSE()),FALSE()),FALSE())) | P52: =IF(ISBLANK(H52),"",IF(ISNUMBER(H52),IF(AND(H52>=0,H52<250),IF($F52<>$H52,IF(H52=0,TRUE(),IF(MOD(H52,1)=0,TRUE(),FALSE())),FALSE()),FALSE()),FALSE()))
B53: Playoffs | C53: Knicks | D53: =IF(C53>0,":","") -> : | E53: Pistons | F53: 116 | G53: =IF(ISNUMBER(F53),":","") -> : | H53: 113 | I53: 1.93 | K53: 1.83 | M53: =IF(ISNUMBER(L53),IF(IF(F53>H53,1,"")=L53,I53,IF(IF(F53<H53,2,"")=L53,K53,IF(IF(F53=H53,0,"")=L53,J53,0))),"") | O53: =IF(ISBLANK(F53),"",IF(ISNUMBER(F53),IF(AND(F53>=0,F53<250),IF($F53<>$H53,IF(F53=0,TRUE(),IF(MOD(F53,1)=0,TRUE(),FALSE())),FALSE()),FALSE()),FALSE())) -> TRUE | P53: =IF(ISBLANK(H53),"",IF(ISNUMBER(H53),IF(AND(H53>=0,H53<250),IF($F53<>$H53,IF(H53=0,TRUE(),IF(MOD(H53,1)=0,TRUE(),FALSE())),FALSE()),FALSE()),FALSE())) -> TRUE
B54: Erste Runde | C54: Nuggets | D54: =IF(C54>0,":","") -> : | E54: Clippers | F54: 105 | G54: =IF(ISNUMBER(F54),":","") -> : | H54: 111 | I54: 3 | K54: 1.37 | M54: =IF(ISNUMBER(L54),IF(IF(F54>H54,1,"")=L54,I54,IF(IF(F54<H54,2,"")=L54,K54,IF(IF(F54=H54,0,"")=L54,J54,0))),"") | O54: =IF(ISBLANK(F54),"",IF(ISNUMBER(F54),IF(AND(F54>=0,F54<250),IF($F54<>$H54,IF(F54=0,TRUE(),IF(MOD(F54,1)=0,TRUE(),FALSE())),FALSE()),FALSE()),FALSE())) -> TRUE | P54: =IF(ISBLANK(H54),"",IF(ISNUMBER(H54),IF(AND(H54>=0,H54<250),IF($F54<>$H54,IF(H54=0,TRUE(),IF(MOD(H54,1)=0,TRUE(),FALSE())),FALSE()),FALSE()),FALSE())) -> TRUE
B55: Spiel 6 | C55: Rockets | D55: =IF(C55>0,":","") -> : | E55: Warriors | F55: 115 | G55: =IF(ISNUMBER(F55),":","") -> : | H55: 107 | I55: 2.6 | K55: 1.47 | L55: 2 | M55: =IF(ISNUMBER(L55),IF(IF(F55>H55,1,"")=L55,I55,IF(IF(F55<H55,2,"")=L55,K55,IF(IF(F55=H55,0,"")=L55,J55,0))),"") -> 0 | N55: =SUM(M53:M55) -> 0 | O55: =IF(ISBLANK(F55),"",IF(ISNUMBER(F55),IF(AND(F55>=0,F55<250),IF($F55<>$H55,IF(F55=0,TRUE(),IF(MOD(F55,1)=0,TRUE(),FALSE())),FALSE()),FALSE()),FALSE())) -> TRUE | P55: =IF(ISBLANK(H55),"",IF(ISNUMBER(H55),IF(AND(H55>=0,H55<250),IF($F55<>$H55,IF(H55=0,TRUE(),IF(MOD(H55,1)=0,TRUE(),FALSE())),FALSE()),FALSE()),FALSE())) -> TRUE
D56: =IF(C56>0,":","") | G56: =IF(ISNUMBER(F56),":","") | M56: =IF(ISNUMBER(L56),IF(IF(F56>H56,1,"")=L56,I56,IF(IF(F56<H56,2,"")=L56,K56,IF(IF(F56=H56,0,"")=L56,J56,0))),"") | O56: =IF(ISBLANK(F56),"",IF(ISNUMBER(F56),IF(AND(F56>=0,F56<250),IF($F56<>$H56,IF(F56=0,TRUE(),IF(MOD(F56,1)=0,TRUE(),FALSE())),FALSE()),FALSE()),FALSE())) | P56: =IF(ISBLANK(H56),"",IF(ISNUMBER(H56),IF(AND(H56>=0,H56<250),IF($F56<>$H56,IF(H56=0,TRUE(),IF(MOD(H56,1)=0,TRUE(),FALSE())),FALSE()),FALSE()),FALSE()))
B57: Playoffs | C57: Clippers | D57: =IF(C57>0,":","") -> : | E57: Nuggets | F57: 101 | H57: 120 | I57: 2 | K57: 1.77 | L57: 1 | M57: =IF(ISNUMBER(L57),IF(IF(F57>H57,1,"")=L57,I57,IF(IF(F57<H57,2,"")=L57,K57,IF(IF(F57=H57,0,"")=L57,J57,0))),"") -> 0 | O57: =IF(ISBLANK(F57),"",IF(ISNUMBER(F57),IF(AND(F57>=0,F57<250),IF($F57<>$H57,IF(F57=0,TRUE(),IF(MOD(F57,1)=0,TRUE(),FALSE())),FALSE()),FALSE()),FALSE())) -> TRUE | P57: =IF(ISBLANK(H57),"",IF(ISNUMBER(H57),IF(AND(H57>=0,H57<250),IF($F57<>$H57,IF(H57=0,TRUE(),IF(MOD(H57,1)=0,TRUE(),FALSE())),FALSE()),FALSE()),FALSE())) -> TRUE
B58: Erste Runde | C58: Warriors | D58: =IF(C58>0,":","") -> : | E58: Rockets | F58: 103 | H58: 89 | I58: 2 | L58: 2 | M58: =IF(ISNUMBER(L58),IF(IF(F58>H58,1,"")=L58,I58,IF(IF(F58<H58,2,"")=L58,K58,IF(IF(F58=H58,0,"")=L58,J58,0))),"") -> 0 | N58: =SUM(M57:M58) -> 0 | O58: =IF(ISBLANK(F58),"",IF(ISNUMBER(F58),IF(AND(F58>=0,F58<250),IF($F58<>$H58,IF(F58=0,TRUE(),IF(MOD(F58,1)=0,TRUE(),FALSE())),FALSE()),FALSE()),FALSE())) -> TRUE | P58: =IF(ISBLANK(H58),"",IF(ISNUMBER(H58),IF(AND(H58>=0,H58<250),IF($F58<>$H58,IF(H58=0,TRUE(),IF(MOD(H58,1)=0,TRUE(),FALSE())),FALSE()),FALSE()),FALSE())) -> TRUE
B59: Spiel 7 | D59: =IF(C59>0,":","") | M59: =IF(ISNUMBER(L59),IF(IF(F59>H59,1,"")=L59,I59,IF(IF(F59<H59,2,"")=L59,K59,IF(IF(F59=H59,0,"")=L59,J59,0))),"") | O59: =IF(ISBLANK(F59),"",IF(ISNUMBER(F59),IF(AND(F59>=0,F59<250),IF($F59<>$H59,IF(F59=0,TRUE(),IF(MOD(F59,1)=0,TRUE(),FALSE())),FALSE()),FALSE()),FALSE())) | P59: =IF(ISBLANK(H59),"",IF(ISNUMBER(H59),IF(AND(H59>=0,H59<250),IF($F59<>$H59,IF(H59=0,TRUE(),IF(MOD(H59,1)=0,TRUE(),FALSE())),FALSE()),FALSE()),FALSE()))
D60: =IF(C60>0,":","") | M60: =IF(ISNUMBER(L60),IF(IF(F60>H60,1,"")=L60,I60,IF(IF(F60<H60,2,"")=L60,K60,IF(IF(F60=H60,0,"")=L60,J60,0))),"") | O60: =IF(ISBLANK(F60),"",IF(ISNUMBER(F60),IF(AND(F60>=0,F60<250),IF($F60<>$H60,IF(F60=0,TRUE(),IF(MOD(F60,1)=0,TRUE(),FALSE())),FALSE()),FALSE()),FALSE())) | P60: =IF(ISBLANK(H60),"",IF(ISNUMBER(H60),IF(AND(H60>=0,H60<250),IF($F60<>$H60,IF(H60=0,TRUE(),IF(MOD(H60,1)=0,TRUE(),FALSE())),FALSE()),FALSE()),FALSE()))
B61: Playoffs | C61: Pacers | D61: =IF(C61>0,":","") -> : | E61: Cavaliers | F61: 121 | H61: 112 | I61: 3.8 | K61: 1.25 | L61: 2 | M61: =IF(ISNUMBER(L61),IF(IF(F61>H61,1,"")=L61,I61,IF(IF(F61<H61,2,"")=L61,K61,IF(IF(F61=H61,0,"")=L61,J61,0))),"") -> 0 | O61: =IF(ISBLANK(F61),"",IF(ISNUMBER(F61),IF(AND(F61>=0,F61<250),IF($F61<>$H61,IF(F61=0,TRUE(),IF(MOD(F61,1)=0,TRUE(),FALSE())),FALSE()),FALSE()),FALSE())) -> TRUE | P61: =IF(ISBLANK(H61),"",IF(ISNUMBER(H61),IF(AND(H61>=0,H61<250),IF($F61<>$H61,IF(H61=0,TRUE(),IF(MOD(H61,1)=0,TRUE(),FALSE())),FALSE()),FALSE()),FALSE())) -> TRUE
B62: Zweite Runde | C62: Knicks | D62: =IF(C62>0,":","") -> : | E62: Celtics | F62: 108 | H62: 105 | I62: 4.1 | K62: 1.22 | L62: 1 | M62: =IF(ISNUMBER(L62),IF(IF(F62>H62,1,"")=L62,I62,IF(IF(F62<H62,2,"")=L62,K62,IF(IF(F62=H62,0,"")=L62,J62,0))),"") -> 4.1 | O62: =IF(ISBLANK(F62),"",IF(ISNUMBER(F62),IF(AND(F62>=0,F62<250),IF($F62<>$H62,IF(F62=0,TRUE(),IF(MOD(F62,1)=0,TRUE(),FALSE())),FALSE()),FALSE()),FALSE())) -> TRUE | P62: =IF(ISBLANK(H62),"",IF(ISNUMBER(H62),IF(AND(H62>=0,H62<250),IF($F62<>$H62,IF(H62=0,TRUE(),IF(MOD(H62,1)=0,TRUE(),FALSE())),FALSE()),FALSE()),FALSE())) -> TRUE
B63: Spiel 1 | C63: Nuggets | D63: =IF(C63>0,":","") -> : | E63: Thunder | F63: 121 | H63: 119 | I63: 4.1 | K63: 1.22 | L63: 2 | M63: =IF(ISNUMBER(L63),IF(IF(F63>H63,1,"")=L63,I63,IF(IF(F63<H63,2,"")=L63,K63,IF(IF(F63=H63,0,"")=L63,J63,0))),"") -> 0 | O63: =IF(ISBLANK(F63),"",IF(ISNUMBER(F63),IF(AND(F63>=0,F63<250),IF($F63<>$H63,IF(F63=0,TRUE(),IF(MOD(F63,1)=0,TRUE(),FALSE())),FALSE()),FALSE()),FALSE())) -> TRUE | P63: =IF(ISBLANK(H63),"",IF(ISNUMBER(H63),IF(AND(H63>=0,H63<250),IF($F63<>$H63,IF(H63=0,TRUE(),IF(MOD(H63,1)=0,TRUE(),FALSE())),FALSE()),FALSE()),FALSE())) -> TRUE
C64: Warriors | D64: =IF(C64>0,":","") -> : | E64: Timberwolves | F64: 99 | G64: =IF(ISNUMBER(F64),":","") -> : | H64: 88 | I64: 3.2 | K64: 1.33 | L64: 2 | M64: =IF(ISNUMBER(L64),IF(IF(F64>H64,1,"")=L64,I64,IF(IF(F64<H64,2,"")=L64,K64,IF(IF(F64=H64,0,"")=L64,J64,0))),"") -> 0 | N64: =SUM(M61:M64) -> 4.1 | O64: =IF(ISBLANK(F64),"",IF(ISNUMBER(F64),IF(AND(F64>=0,F64<250),IF($F64<>$H64,IF(F64=0,TRUE(),IF(MOD(F64,1)=0,TRUE(),FALSE())),FALSE()),FALSE()),FALSE())) -> TRUE | P64: =IF(ISBLANK(H64),"",IF(ISNUMBER(H64),IF(AND(H64>=0,H64<250),IF($F64<>$H64,IF(H64=0,TRUE(),IF(MOD(H64,1)=0,TRUE(),FALSE())),FALSE()),FALSE()),FALSE())) -> TRUE
D65: =IF(C65>0,":","") | G65: =IF(ISNUMBER(F65),":","") | M65: =IF(ISNUMBER(L65),IF(IF(F65>H65,1,"")=L65,I65,IF(IF(F65<H65,2,"")=L65,K65,IF(IF(F65=H65,0,"")=L65,J65,0))),"") | O65: =IF(ISBLANK(F65),"",IF(ISNUMBER(F65),IF(AND(F65>=0,F65<250),IF($F65<>$H65,IF(F65=0,TRUE(),IF(MOD(F65,1)=0,TRUE(),FALSE())),FALSE()),FALSE()),FALSE())) | P65: =IF(ISBLANK(H65),"",IF(ISNUMBER(H65),IF(AND(H65>=0,H65<250),IF($F65<>$H65,IF(H65=0,TRUE(),IF(MOD(H65,1)=0,TRUE(),FALSE())),FALSE()),FALSE()),FALSE()))
B66: Playoffs | C66: Pacers | D66: =IF(C66>0,":","") -> : | E66: Cavaliers | F66: 120 | G66: =IF(ISNUMBER(F66),":","") -> : | H66: 119 | I66: 4.4 | K66: 1.2 | L66: 2 | M66: =IF(ISNUMBER(L66),IF(IF(F66>H66,1,"")=L66,I66,IF(IF(F66<H66,2,"")=L66,K66,IF(IF(F66=H66,0,"")=L66,J66,0))),"") -> 0 | O66: =IF(ISBLANK(F66),"",IF(ISNUMBER(F66),IF(AND(F66>=0,F66<250),IF($F66<>$H66,IF(F66=0,TRUE(),IF(MOD(F66,1)=0,TRUE(),FALSE())),FALSE()),FALSE()),FALSE())) -> TRUE | P66: =IF(ISBLANK(H66),"",IF(ISNUMBER(H66),IF(AND(H66>=0,H66<250),IF($F66<>$H66,IF(H66=0,TRUE(),IF(MOD(H66,1)=0,TRUE(),FALSE())),FALSE()),FALSE()),FALSE())) -> TRUE
B67: Zweite Runde | C67: Knicks | D67: =IF(C67>0,":","") -> : | E67: Celtics | F67: 91 | G67: =IF(ISNUMBER(F67),":","") -> : | H67: 90 | I67: 4.6 | K67: 1.18 | L67: 1 | M67: =IF(ISNUMBER(L67),IF(IF(F67>H67,1,"")=L67,I67,IF(IF(F67<H67,2,"")=L67,K67,IF(IF(F67=H67,0,"")=L67,J67,0))),"") -> 4.6 | O67: =IF(ISBLANK(F67),"",IF(ISNUMBER(F67),IF(AND(F67>=0,F67<250),IF($F67<>$H67,IF(F67=0,TRUE(),IF(MOD(F67,1)=0,TRUE(),FALSE())),FALSE()),FALSE()),FALSE())) -> TRUE | P67: =IF(ISBLANK(H67),"",IF(ISNUMBER(H67),IF(AND(H67>=0,H67<250),IF($F67<>$H67,IF(H67=0,TRUE(),IF(MOD(H67,1)=0,TRUE(),FALSE())),FALSE()),FALSE()),FALSE())) -> TRUE
B68: Spiel 2 | C68: Nuggets | D68: =IF(C68>0,":","") -> : | E68: Thunder | F68: 106 | G68: =IF(ISNUMBER(F68),":","") -> : | H68: 149 | I68: 4.6 | K68: 1.18 | L68: 2 | M68: =IF(ISNUMBER(L68),IF(IF(F68>H68,1,"")=L68,I68,IF(IF(F68<H68,2,"")=L68,K68,IF(IF(F68=H68,0,"")=L68,J68,0))),"") -> 1.18 | O68: =IF(ISBLANK(F68),"",IF(ISNUMBER(F68),IF(AND(F68>=0,F68<250),IF($F68<>$H68,IF(F68=0,TRUE(),IF(MOD(F68,1)=0,TRUE(),FALSE())),FALSE()),FALSE()),FALSE())) -> TRUE | P68: =IF(ISBLANK(H68),"",IF(ISNUMBER(H68),IF(AND(H68>=0,H68<250),IF($F68<>$H68,IF(H68=0,TRUE(),IF(MOD(H68,1)=0,TRUE(),FALSE())),FALSE()),FALSE()),FALSE())) -> TRUE
C69: Warriors | D69: =IF(C69>0,":","") -> : | E69: Timberwolves | F69: 93 | G69: =IF(ISNUMBER(F69),":","") -> : | H69: 117 | I69: 4.6 | K69: 1.18 | L69: 2 | M69: =IF(ISNUMBER(L69),IF(IF(F69>H69,1,"")=L69,I69,IF(IF(F69<H69,2,"")=L69,K69,IF(IF(F69=H69,0,"")=L69,J69,0))),"") -> 1.18 | N69: =SUM(M66:M69) -> 6.96 | O69: =IF(ISBLANK(F69),"",IF(ISNUMBER(F69),IF(AND(F69>=0,F69<250),IF($F69<>$H69,IF(F69=0,TRUE(),IF(MOD(F69,1)=0,TRUE(),FALSE())),FALSE()),FALSE()),FALSE())) -> TRUE | P69: =IF(ISBLANK(H69),"",IF(ISNUMBER(H69),IF(AND(H69>=0,H69<250),IF($F69<>$H69,IF(H69=0,TRUE(),IF(MOD(H69,1)=0,TRUE(),FALSE())),FALSE()),FALSE()),FALSE())) -> TRUE
D70: =IF(C70>0,":","") | G70: =IF(ISNUMBER(F70),":","") | M70: =IF(ISNUMBER(L70),IF(IF(F70>H70,1,"")=L70,I70,IF(IF(F70<H70,2,"")=L70,K70,IF(IF(F70=H70,0,"")=L70,J70,0))),"") | O70: =IF(ISBLANK(F70),"",IF(ISNUMBER(F70),IF(AND(F70>=0,F70<250),IF($F70<>$H70,IF(F70=0,TRUE(),IF(MOD(F70,1)=0,TRUE(),FALSE())),FALSE()),FALSE()),FALSE())) | P70: =IF(ISBLANK(H70),"",IF(ISNUMBER(H70),IF(AND(H70>=0,H70<250),IF($F70<>$H70,IF(H70=0,TRUE(),IF(MOD(H70,1)=0,TRUE(),FALSE())),FALSE()),FALSE()),FALSE()))
B71: Playoffs | C71: Cavaliers | D71: =IF(C71>0,":","") -> : | E71: Pacers | F71: 126 | G71: =IF(ISNUMBER(F71),":","") -> : | H71: 104 | I71: 1.37 | K71: 2.35 | L71: 2 | M71: =IF(ISNUMBER(L71),IF(IF(F71>H71,1,"")=L71,I71,IF(IF(F71<H71,2,"")=L71,K71,IF(IF(F71=H71,0,"")=L71,J71,0))),"") -> 0 | O71: =IF(ISBLANK(F71),"",IF(ISNUMBER(F71),IF(AND(F71>=0,F71<250),IF($F71<>$H71,IF(F71=0,TRUE(),IF(MOD(F71,1)=0,TRUE(),FALSE())),FALSE()),FALSE()),FALSE())) -> TRUE | P71: =IF(ISBLANK(H71),"",IF(ISNUMBER(H71),IF(AND(H71>=0,H71<250),IF($F71<>$H71,IF(H71=0,TRUE(),IF(MOD(H71,1)=0,TRUE(),FALSE())),FALSE()),FALSE()),FALSE())) -> TRUE
B72: Zweite Runde | C72: Thunder | D72: =IF(C72>0,":","") -> : | E72: Nuggets | F72: 104 | G72: =IF(ISNUMBER(F72),":","") -> : | H72: 113 | I72: 1.42 | K72: 2.8 | L72: 1 | M72: =IF(ISNUMBER(L72),IF(IF(F72>H72,1,"")=L72,I72,IF(IF(F72<H72,2,"")=L72,K72,IF(IF(F72=H72,0,"")=L72,J72,0))),"") -> 0 | O72: =IF(ISBLANK(F72),"",IF(ISNUMBER(F72),IF(AND(F72>=0,F72<250),IF($F72<>$H72,IF(F72=0,TRUE(),IF(MOD(F72,1)=0,TRUE(),FALSE())),FALSE()),FALSE()),FALSE())) -> TRUE | P72: =IF(ISBLANK(H72),"",IF(ISNUMBER(H72),IF(AND(H72>=0,H72<250),IF($F72<>$H72,IF(H72=0,TRUE(),IF(MOD(H72,1)=0,TRUE(),FALSE())),FALSE()),FALSE()),FALSE())) -> TRUE
B73: Spiel 3 | C73: Celtics | D73: =IF(C73>0,":","") -> : | E73: Knicks | F73: 115 | G73: =IF(ISNUMBER(F73),":","") -> : | H73: 93 | I73: 1.4 | K73: 2.9 | L73: 2 | M73: =IF(ISNUMBER(L73),IF(IF(F73>H73,1,"")=L73,I73,IF(IF(F73<H73,2,"")=L73,K73,IF(IF(F73=H73,0,"")=L73,J73,0))),"") -> 0 | O73: =IF(ISBLANK(F73),"",IF(ISNUMBER(F73),IF(AND(F73>=0,F73<250),IF($F73<>$H73,IF(F73=0,TRUE(),IF(MOD(F73,1)=0,TRUE(),FALSE())),FALSE()),FALSE()),FALSE())) -> TRUE | P73: =IF(ISBLANK(H73),"",IF(ISNUMBER(H73),IF(AND(H73>=0,H73<250),IF($F73<>$H73,IF(H73=0,TRUE(),IF(MOD(H73,1)=0,TRUE(),FALSE())),FALSE()),FALSE()),FALSE())) -> TRUE
C74: Timberwolves | D74: =IF(C74>0,":","") -> : | E74: Warriors | F74: 102 | G74: =IF(ISNUMBER(F74),":","") -> : | H74: 97 | I74: 1.47 | K74: 2.65 | L74: 1 | M74: =IF(ISNUMBER(L74),IF(IF(F74>H74,1,"")=L74,I74,IF(IF(F74<H74,2,"")=L74,K74,IF(IF(F74=H74,0,"")=L74,J74,0))),"") -> 1.47 | N74: =SUM(M71:M74) -> 1.47 | O74: =IF(ISBLANK(F74),"",IF(ISNUMBER(F74),IF(AND(F74>=0,F74<250),IF($F74<>$H74,IF(F74=0,TRUE(),IF(MOD(F74,1)=0,TRUE(),FALSE())),FALSE()),FALSE()),FALSE())) -> TRUE | P74: =IF(ISBLANK(H74),"",IF(ISNUMBER(H74),IF(AND(H74>=0,H74<250),IF($F74<>$H74,IF(H74=0,TRUE(),IF(MOD(H74,1)=0,TRUE(),FALSE())),FALSE()),FALSE()),FALSE())) -> TRUE
D75: =IF(C75>0,":","") | G75: =IF(ISNUMBER(F75),":","") | M75: =IF(ISNUMBER(L75),IF(IF(F75>H75,1,"")=L75,I75,IF(IF(F75<H75,2,"")=L75,K75,IF(IF(F75=H75,0,"")=L75,J75,0))),"") | O75: =IF(ISBLANK(F75),"",IF(ISNUMBER(F75),IF(AND(F75>=0,F75<250),IF($F75<>$H75,IF(F75=0,TRUE(),IF(MOD(F75,1)=0,TRUE(),FALSE())),FALSE()),FALSE()),FALSE())) | P75: =IF(ISBLANK(H75),"",IF(ISNUMBER(H75),IF(AND(H75>=0,H75<250),IF($F75<>$H75,IF(H75=0,TRUE(),IF(MOD(H75,1)=0,TRUE(),FALSE())),FALSE()),FALSE()),FALSE()))
B76: Playoffs | C76: Cavaliers | D76: =IF(C76>0,":","") -> : | E76: Pacers | F76: 109 | G76: =IF(ISNUMBER(F76),":","") -> : | H76: 129 | I76: 1.4 | K76: 2.9 | L76: 1 | M76: =IF(ISNUMBER(L76),IF(IF(F76>H76,1,"")=L76,I76,IF(IF(F76<H76,2,"")=L76,K76,IF(IF(F76=H76,0,"")=L76,J76,0))),"") -> 0 | O76: =IF(ISBLANK(F76),"",IF(ISNUMBER(F76),IF(AND(F76>=0,F76<250),IF($F76<>$H76,IF(F76=0,TRUE(),IF(MOD(F76,1)=0,TRUE(),FALSE())),FALSE()),FALSE()),FALSE())) -> TRUE | P76: =IF(ISBLANK(H76),"",IF(ISNUMBER(H76),IF(AND(H76>=0,H76<250),IF($F76<>$H76,IF(H76=0,TRUE(),IF(MOD(H76,1)=0,TRUE(),FALSE())),FALSE()),FALSE()),FALSE())) -> TRUE
B77: Zweite Runde | C77: Celtics | D77: =IF(C77>0,":","") -> : | E77: Knicks | F77: 113 | G77: =IF(ISNUMBER(F77),":","") -> : | H77: 121 | I77: 1.35 | K77: 3.1 | L77: 2 | M77: =IF(ISNUMBER(L77),IF(IF(F77>H77,1,"")=L77,I77,IF(IF(F77<H77,2,"")=L77,K77,IF(IF(F77=H77,0,"")=L77,J77,0))),"") -> 3.1 | O77: =IF(ISBLANK(F77),"",IF(ISNUMBER(F77),IF(AND(F77>=0,F77<250),IF($F77<>$H77,IF(F77=0,TRUE(),IF(MOD(F77,1)=0,TRUE(),FALSE())),FALSE()),FALSE()),FALSE())) -> TRUE | P77: =IF(ISBLANK(H77),"",IF(ISNUMBER(H77),IF(AND(H77>=0,H77<250),IF($F77<>$H77,IF(H77=0,TRUE(),IF(MOD(H77,1)=0,TRUE(),FALSE())),FALSE()),FALSE()),FALSE())) -> TRUE
B78: Spiel 4 | C78: Timberwolves | D78: =IF(C78>0,":","") -> : | E78: Warriors | F78: 117 | G78: =IF(ISNUMBER(F78),":","") -> : | H78: 114 | I78: 1.47 | K78: 2.6 | L78: 1 | M78: =IF(ISNUMBER(L78),IF(IF(F78>H78,1,"")=L78,I78,IF(IF(F78<H78,2,"")=L78,K78,IF(IF(F78=H78,0,"")=L78,J78,0))),"") -> 1.47 | O78: =IF(ISBLANK(F78),"",IF(ISNUMBER(F78),IF(AND(F78>=0,F78<250),IF($F78<>$H78,IF(F78=0,TRUE(),IF(MOD(F78,1)=0,TRUE(),FALSE())),FALSE()),FALSE()),FALSE())) -> TRUE | P78: =IF(ISBLANK(H78),"",IF(ISNUMBER(H78),IF(AND(H78>=0,H78<250),IF($F78<>$H78,IF(H78=0,TRUE(),IF(MOD(H78,1)=0,TRUE(),FALSE())),FALSE()),FALSE()),FALSE())) -> TRUE
C79: Thunder | D79: =IF(C79>0,":","") -> : | E79: Nuggets | F79: 92 | G79: =IF(ISNUMBER(F79),":","") -> : | H79: 87 | I79: 1.37 | K79: 3 | L79: 1 | M79: =IF(ISNUMBER(L79),IF(IF(F79>H79,1,"")=L79,I79,IF(IF(F79<H79,2,"")=L79,K79,IF(IF(F79=H79,0,"")=L79,J79,0))),"") -> 1.37 | N79: =SUM(M76:M79) -> 5.94 | O79: =IF(ISBLANK(F79),"",IF(ISNUMBER(F79),IF(AND(F79>=0,F79<250),IF($F79<>$H79,IF(F79=0,TRUE(),IF(MOD(F79,1)=0,TRUE(),FALSE())),FALSE()),FALSE()),FALSE())) -> TRUE | P79: =IF(ISBLANK(H79),"",IF(ISNUMBER(H79),IF(AND(H79>=0,H79<250),IF($F79<>$H79,IF(H79=0,TRUE(),IF(MOD(H79,1)=0,TRUE(),FALSE())),FALSE()),FALSE()),FALSE())) -> TRUE
D80: =IF(C80>0,":","") | G80: =IF(ISNUMBER(F80),":","") | M80: =IF(ISNUMBER(L80),IF(IF(F80>H80,1,"")=L80,I80,IF(IF(F80<H80,2,"")=L80,K80,IF(IF(F80=H80,0,"")=L80,J80,0))),"") | O80: =IF(ISBLANK(F80),"",IF(ISNUMBER(F80),IF(AND(F80>=0,F80<250),IF($F80<>$H80,IF(F80=0,TRUE(),IF(MOD(F80,1)=0,TRUE(),FALSE())),FALSE()),FALSE()),FALSE())) | P80: =IF(ISBLANK(H80),"",IF(ISNUMBER(H80),IF(AND(H80>=0,H80<250),IF($F80<>$H80,IF(H80=0,TRUE(),IF(MOD(H80,1)=0,TRUE(),FALSE())),FALSE()),FALSE()),FALSE()))
D81: =IF(C81>0,":","") | G81: =IF(ISNUMBER(F81),":","") | M81: =IF(ISNUMBER(L81),IF(IF(F81>H81,1,"")=L81,I81,IF(IF(F81<H81,2,"")=L81,K81,IF(IF(F81=H81,0,"")=L81,J81,0))),"") | O81: =IF(ISBLANK(F81),"",IF(ISNUMBER(F81),IF(AND(F81>=0,F81<250),IF($F81<>$H81,IF(F81=0,TRUE(),IF(MOD(F81,1)=0,TRUE(),FALSE())),FALSE()),FALSE()),FALSE())) | P81: =IF(ISBLANK(H81),"",IF(ISNUMBER(H81),IF(AND(H81>=0,H81<250),IF($F81<>$H81,IF(H81=0,TRUE(),IF(MOD(H81,1)=0,TRUE(),FALSE())),FALSE()),FALSE()),FALSE()))
D82: =IF(C82>0,":","") | G82: =IF(ISNUMBER(F82),":","") | M82: =IF(ISNUMBER(L82),IF(IF(F82>H82,1,"")=L82,I82,IF(IF(F82<H82,2,"")=L82,K82,IF(IF(F82=H82,0,"")=L82,J82,0))),"") | O82: =IF(ISBLANK(F82),"",IF(ISNUMBER(F82),IF(AND(F82>=0,F82<250),IF($F82<>$H82,IF(F82=0,TRUE(),IF(MOD(F82,1)=0,TRUE(),FALSE())),FALSE()),FALSE()),FALSE())) | P82: =IF(ISBLANK(H82),"",IF(ISNUMBER(H82),IF(AND(H82>=0,H82<250),IF($F82<>$H82,IF(H82=0,TRUE(),IF(MOD(H82,1)=0,TRUE(),FALSE())),FALSE()),FALSE()),FALSE()))
D83: =IF(C83>0,":","") | G83: =IF(ISNUMBER(F83),":","") | M83: =IF(ISNUMBER(L83),IF(IF(F83>H83,1,"")=L83,I83,IF(IF(F83<H83,2,"")=L83,K83,IF(IF(F83=H83,0,"")=L83,J83,0))),"") | O83: =IF(ISBLANK(F83),"",IF(ISNUMBER(F83),IF(AND(F83>=0,F83<250),IF($F83<>$H83,IF(F83=0,TRUE(),IF(MOD(F83,1)=0,TRUE(),FALSE())),FALSE()),FALSE()),FALSE())) | P83: =IF(ISBLANK(H83),"",IF(ISNUMBER(H83),IF(AND(H83>=0,H83<250),IF($F83<>$H83,IF(H83=0,TRUE(),IF(MOD(H83,1)=0,TRUE(),FALSE())),FALSE()),FALSE()),FALSE()))
D84: =IF(C84>0,":","") | G84: =IF(ISNUMBER(F84),":","") | M84: =IF(ISNUMBER(L84),IF(IF(F84>H84,1,"")=L84,I84,IF(IF(F84<H84,2,"")=L84,K84,IF(IF(F84=H84,0,"")=L84,J84,0))),"") | O84: =IF(ISBLANK(F84),"",IF(ISNUMBER(F84),IF(AND(F84>=0,F84<250),IF($F84<>$H84,IF(F84=0,TRUE(),IF(MOD(F84,1)=0,TRUE(),FALSE())),FALSE()),FALSE()),FALSE())) | P84: =IF(ISBLANK(H84),"",IF(ISNUMBER(H84),IF(AND(H84>=0,H84<250),IF($F84<>$H84,IF(H84=0,TRUE(),IF(MOD(H84,1)=0,TRUE(),FALSE())),FALSE()),FALSE()),FALSE()))
D85: =IF(C85>0,":","") | G85: =IF(ISNUMBER(F85),":","") | M85: =IF(ISNUMBER(L85),IF(IF(F85>H85,1,"")=L85,I85,IF(IF(F85<H85,2,"")=L85,K85,IF(IF(F85=H85,0,"")=L85,J85,0))),"") | O85: =IF(ISBLANK(F85),"",IF(ISNUMBER(F85),IF(AND(F85>=0,F85<250),IF($F85<>$H85,IF(F85=0,TRUE(),IF(MOD(F85,1)=0,TRUE(),FALSE())),FALSE()),FALSE()),FALSE())) | P85: =IF(ISBLANK(H85),"",IF(ISNUMBER(H85),IF(AND(H85>=0,H85<250),IF($F85<>$H85,IF(H85=0,TRUE(),IF(MOD(H85,1)=0,TRUE(),FALSE())),FALSE()),FALSE()),FALSE()))
D86: =IF(C86>0,":","") | G86: =IF(ISNUMBER(F86),":","") | M86: =IF(ISNUMBER(L86),IF(IF(F86>H86,1,"")=L86,I86,IF(IF(F86<H86,2,"")=L86,K86,IF(IF(F86=H86,0,"")=L86,J86,0))),"") | O86: =IF(ISBLANK(F86),"",IF(ISNUMBER(F86),IF(AND(F86>=0,F86<250),IF($F86<>$H86,IF(F86=0,TRUE(),IF(MOD(F86,1)=0,TRUE(),FALSE())),FALSE()),FALSE()),FALSE())) | P86: =IF(ISBLANK(H86),"",IF(ISNUMBER(H86),IF(AND(H86>=0,H86<250),IF($F86<>$H86,IF(H86=0,TRUE(),IF(MOD(H86,1)=0,TRUE(),FALSE())),FALSE()),FALSE()),FALSE()))
D87: =IF(C87>0,":","") | G87: =IF(ISNUMBER(F87),":","") | M87: =IF(ISNUMBER(L87),IF(IF(F87>H87,1,"")=L87,I87,IF(IF(F87<H87,2,"")=L87,K87,IF(IF(F87=H87,0,"")=L87,J87,0))),"") | O87: =IF(ISBLANK(F87),"",IF(ISNUMBER(F87),IF(AND(F87>=0,F87<250),IF($F87<>$H87,IF(F87=0,TRUE(),IF(MOD(F87,1)=0,TRUE(),FALSE())),FALSE()),FALSE()),FALSE())) | P87: =IF(ISBLANK(H87),"",IF(ISNUMBER(H87),IF(AND(H87>=0,H87<250),IF($F87<>$H87,IF(H87=0,TRUE(),IF(MOD(H87,1)=0,TRUE(),FALSE())),FALSE()),FALSE()),FALSE()))
D88: =IF(C88>0,":","") | G88: =IF(ISNUMBER(F88),":","") | M88: =IF(ISNUMBER(L88),IF(IF(F88>H88,1,"")=L88,I88,IF(IF(F88<H88,2,"")=L88,K88,IF(IF(F88=H88,0,"")=L88,J88,0))),"") | O88: =IF(ISBLANK(F88),"",IF(ISNUMBER(F88),IF(AND(F88>=0,F88<250),IF($F88<>$H88,IF(F88=0,TRUE(),IF(MOD(F88,1)=0,TRUE(),FALSE())),FALSE()),FALSE()),FALSE())) | P88: =IF(ISBLANK(H88),"",IF(ISNUMBER(H88),IF(AND(H88>=0,H88<250),IF($F88<>$H88,IF(H88=0,TRUE(),IF(MOD(H88,1)=0,TRUE(),FALSE())),FALSE()),FALSE()),FALSE()))
D89: =IF(C89>0,":","") | G89: =IF(ISNUMBER(F89),":","") | M89: =IF(ISNUMBER(L89),IF(IF(F89>H89,1,"")=L89,I89,IF(IF(F89<H89,2,"")=L89,K89,IF(IF(F89=H89,0,"")=L89,J89,0))),"") | O89: =IF(ISBLANK(F89),"",IF(ISNUMBER(F89),IF(AND(F89>=0,F89<250),IF($F89<>$H89,IF(F89=0,TRUE(),IF(MOD(F89,1)=0,TRUE(),FALSE())),FALSE()),FALSE()),FALSE())) | P89: =IF(ISBLANK(H89),"",IF(ISNUMBER(H89),IF(AND(H89>=0,H89<250),IF($F89<>$H89,IF(H89=0,TRUE(),IF(MOD(H89,1)=0,TRUE(),FALSE())),FALSE()),FALSE()),FALSE()))
D90: =IF(C90>0,":","") | G90: =IF(ISNUMBER(F90),":","") | M90: =IF(ISNUMBER(L90),IF(IF(F90>H90,1,"")=L90,I90,IF(IF(F90<H90,2,"")=L90,K90,IF(IF(F90=H90,0,"")=L90,J90,0))),"") | O90: =IF(ISBLANK(F90),"",IF(ISNUMBER(F90),IF(AND(F90>=0,F90<250),IF($F90<>$H90,IF(F90=0,TRUE(),IF(MOD(F90,1)=0,TRUE(),FALSE())),FALSE()),FALSE()),FALSE())) | P90: =IF(ISBLANK(H90),"",IF(ISNUMBER(H90),IF(AND(H90>=0,H90<250),IF($F90<>$H90,IF(H90=0,TRUE(),IF(MOD(H90,1)=0,TRUE(),FALSE())),FALSE()),FALSE()),FALSE()))
D91: =IF(C91>0,":","") | G91: =IF(ISNUMBER(F91),":","") | M91: =IF(ISNUMBER(L91),IF(IF(F91>H91,1,"")=L91,I91,IF(IF(F91<H91,2,"")=L91,K91,IF(IF(F91=H91,0,"")=L91,J91,0))),"") | O91: =IF(ISBLANK(F91),"",IF(ISNUMBER(F91),IF(AND(F91>=0,F91<250),IF($F91<>$H91,IF(F91=0,TRUE(),IF(MOD(F91,1)=0,TRUE(),FALSE())),FALSE()),FALSE()),FALSE())) | P91: =IF(ISBLANK(H91),"",IF(ISNUMBER(H91),IF(AND(H91>=0,H91<250),IF($F91<>$H91,IF(H91=0,TRUE(),IF(MOD(H91,1)=0,TRUE(),FALSE())),FALSE()),FALSE()),FALSE()))
... D100: =IF(C100>0,":","") | G100: =IF(ISNUMBER(F100),":","") | M100: =IF(ISNUMBER(L100),IF(IF(F100>H100,1,"")=L100,I100,IF(IF(F100<H100,2,"")=L100,K100,IF(IF(F100=H100,0,"")=L100,J100,0))),"") | O100: =IF(ISBLANK(F100),"",IF(ISNUMBER(F100),IF(AND(F100>=0,F100<250),IF($F100<>$H100,IF(F100=0,TRUE(),IF(MOD(F100,1)=0,TRUE(),FALSE())),FALSE()),FALSE()),FALSE())) | P100: =IF(ISBLANK(H100),"",IF(ISNUMBER(H100),IF(AND(H100>=0,H100<250),IF($F100<>$H100,IF(H100=0,TRUE(),IF(MOD(H100,1)=0,TRUE(),FALSE())),FALSE()),FALSE()),FALSE()))

Sheet smashie
A1: smashie | B1: Spieltag | C1: Auswärts | E1: Heim | F1: Ergebnis | I1: 1 | J1: 2 | K1: 2 | L1: Tipp | M1: Richtig | N1: Gesamt | O1: Gültigk. D | P1: Gültik. F
B2: Play-Ins East | C2: Hawks | D2: =IF(C2>0,":","") -> : | E2: Magic | F2: 95 | G2: =IF(ISNUMBER(F2),":","") -> : | H2: 120 | I2: 2.6 | K2: 1.45 | L2: 2 | M2: =IF(ISNUMBER(L2),IF(IF(F2>H2,1,"")=L2,I2,IF(IF(F2<H2,2,"")=L2,K2,IF(IF(F2=H2,0,"")=L2,J2,0))),"") -> 1.45 | O2: =IF(ISBLANK(F2),"",IF(ISNUMBER(F2),IF(AND(F2>=0,F2<250),IF($F2<>$H2,IF(F2=0,TRUE(),IF(MOD(F2,1)=0,TRUE(),FALSE())),FALSE()),FALSE()),FALSE())) -> TRUE | P2: =IF(ISBLANK(H2),"",IF(ISNUMBER(H2),IF(AND(H2>=0,H2<250),IF($F2<>$H2,IF(H2=0,TRUE(),IF(MOD(H2,1)=0,TRUE(),FALSE())),FALSE()),FALSE()),FALSE())) -> TRUE
C3: Heat | D3: =IF(C3>0,":","") -> : | E3: Bulls | F3: 109 | G3: =IF(ISNUMBER(F3),":","") -> : | H3: 90 | I3: 1.97 | K3: 1.8 | L3: 2 | M3: =IF(ISNUMBER(L3),IF(IF(F3>H3,1,"")=L3,I3,IF(IF(F3<H3,2,"")=L3,K3,IF(IF(F3=H3,0,"")=L3,J3,0))),"") -> 0 | O3: =IF(ISBLANK(F3),"",IF(ISNUMBER(F3),IF(AND(F3>=0,F3<250),IF($F3<>$H3,IF(F3=0,TRUE(),IF(MOD(F3,1)=0,TRUE(),FALSE())),FALSE()),FALSE()),FALSE())) -> TRUE | P3: =IF(ISBLANK(H3),"",IF(ISNUMBER(H3),IF(AND(H3>=0,H3<250),IF($F3<>$H3,IF(H3=0,TRUE(),IF(MOD(H3,1)=0,TRUE(),FALSE())),FALSE()),FALSE()),FALSE())) -> TRUE
B4: Play-Ins West | C4: Grizzlies | D4: =IF(C4>0,":","") -> : | E4: Warriors | F4: 116 | G4: =IF(ISNUMBER(F4),":","") -> : | H4: 121 | I4: 3.3 | K4: 1.32 | L4: 2 | M4: =IF(ISNUMBER(L4),IF(IF(F4>H4,1,"")=L4,I4,IF(IF(F4<H4,2,"")=L4,K4,IF(IF(F4=H4,0,"")=L4,J4,0))),"") -> 1.32 | O4: =IF(ISBLANK(F4),"",IF(ISNUMBER(F4),IF(AND(F4>=0,F4<250),IF($F4<>$H4,IF(F4=0,TRUE(),IF(MOD(F4,1)=0,TRUE(),FALSE())),FALSE()),FALSE()),FALSE())) -> TRUE | P4: =IF(ISBLANK(H4),"",IF(ISNUMBER(H4),IF(AND(H4>=0,H4<250),IF($F4<>$H4,IF(H4=0,TRUE(),IF(MOD(H4,1)=0,TRUE(),FALSE())),FALSE()),FALSE()),FALSE())) -> TRUE
C5: Mavericks | D5: =IF(C5>0,":","") -> : | E5: Kings | F5: 120 | G5: =IF(ISNUMBER(F5),":","") -> : | H5: 106 | I5: 2.55 | K5: 1.5 | L5: 2 | M5: =IF(ISNUMBER(L5),IF(IF(F5>H5,1,"")=L5,I5,IF(IF(F5<H5,2,"")=L5,K5,IF(IF(F5=H5,0,"")=L5,J5,0))),"") -> 0 | N5: =SUM(M2:M5) -> 2.77 | O5: =IF(ISBLANK(F5),"",IF(ISNUMBER(F5),IF(AND(F5>=0,F5<250),IF($F5<>$H5,IF(F5=0,TRUE(),IF(MOD(F5,1)=0,TRUE(),FALSE())),FALSE()),FALSE()),FALSE())) -> TRUE | P5: =IF(ISBLANK(H5),"",IF(ISNUMBER(H5),IF(AND(H5>=0,H5<250),IF($F5<>$H5,IF(H5=0,TRUE(),IF(MOD(H5,1)=0,TRUE(),FALSE())),FALSE()),FALSE()),FALSE())) -> TRUE
D6: =IF(C6>0,":","") | G6: =IF(ISNUMBER(F6),":","") | M6: =IF(ISNUMBER(L6),IF(IF(F6>H6,1,"")=L6,I6,IF(IF(F6<H6,2,"")=L6,K6,IF(IF(F6=H6,0,"")=L6,J6,0))),"") | O6: =IF(ISBLANK(F6),"",IF(ISNUMBER(F6),IF(AND(F6>=0,F6<250),IF($F6<>$H6,IF(F6=0,TRUE(),IF(MOD(F6,1)=0,TRUE(),FALSE())),FALSE()),FALSE()),FALSE())) | P6: =IF(ISBLANK(H6),"",IF(ISNUMBER(H6),IF(AND(H6>=0,H6<250),IF($F6<>$H6,IF(H6=0,TRUE(),IF(MOD(H6,1)=0,TRUE(),FALSE())),FALSE()),FALSE()),FALSE()))
B7: Play-Ins East | C7: Heat | D7: =IF(C7>0,":","") -> : | E7: Hawks | F7: 123 | G7: =IF(ISNUMBER(F7),":","") -> : | H7: 114 | I7: 1.83 | K7: 1.93 | L7: 1 | M7: =IF(ISNUMBER(L7),IF(IF(F7>H7,1,"")=L7,I7,IF(IF(F7<H7,2,"")=L7,K7,IF(IF(F7=H7,0,"")=L7,J7,0))),"") -> 1.83 | O7: =IF(ISBLANK(F7),"",IF(ISNUMBER(F7),IF(AND(F7>=0,F7<250),IF($F7<>$H7,IF(F7=0,TRUE(),IF(MOD(F7,1)=0,TRUE(),FALSE())),FALSE()),FALSE()),FALSE())) -> TRUE | P7: =IF(ISBLANK(H7),"",IF(ISNUMBER(H7),IF(AND(H7>=0,H7<250),IF($F7<>$H7,IF(H7=0,TRUE(),IF(MOD(H7,1)=0,TRUE(),FALSE())),FALSE()),FALSE()),FALSE())) -> TRUE
B8: Play-Ins West | C8: Mavericks | D8: =IF(C8>0,":","") -> : | E8: Grizzlies | F8: 106 | G8: =IF(ISNUMBER(F8),":","") -> : | H8: 120 | I8: 2.9 | K8: 1.4 | L8: 1 | M8: =IF(ISNUMBER(L8),IF(IF(F8>H8,1,"")=L8,I8,IF(IF(F8<H8,2,"")=L8,K8,IF(IF(F8=H8,0,"")=L8,J8,0))),"") -> 0 | N8: =SUM(M7:M8) -> 1.83 | O8: =IF(ISBLANK(F8),"",IF(ISNUMBER(F8),IF(AND(F8>=0,F8<250),IF($F8<>$H8,IF(F8=0,TRUE(),IF(MOD(F8,1)=0,TRUE(),FALSE())),FALSE()),FALSE()),FALSE())) -> TRUE | P8: =IF(ISBLANK(H8),"",IF(ISNUMBER(H8),IF(AND(H8>=0,H8<250),IF($F8<>$H8,IF(H8=0,TRUE(),IF(MOD(H8,1)=0,TRUE(),FALSE())),FALSE()),FALSE()),FALSE())) -> TRUE
D9: =IF(C9>0,":","") | G9: =IF(ISNUMBER(F9),":","") | M9: =IF(ISNUMBER(L9),IF(IF(F9>H9,1,"")=L9,I9,IF(IF(F9<H9,2,"")=L9,K9,IF(IF(F9=H9,0,"")=L9,J9,0))),"") | O9: =IF(ISBLANK(F9),"",IF(ISNUMBER(F9),IF(AND(F9>=0,F9<250),IF($F9<>$H9,IF(F9=0,TRUE(),IF(MOD(F9,1)=0,TRUE(),FALSE())),FALSE()),FALSE()),FALSE())) | P9: =IF(ISBLANK(H9),"",IF(ISNUMBER(H9),IF(AND(H9>=0,H9<250),IF($F9<>$H9,IF(H9=0,TRUE(),IF(MOD(H9,1)=0,TRUE(),FALSE())),FALSE()),FALSE()),FALSE()))
B10: Playoffs | C10: Bucks | D10: =IF(C10>0,":","") -> : | E10: Pacers | F10: 98 | G10: =IF(ISNUMBER(F10),":","") -> : | H10: 117 | I10: 2.6 | K10: 1.47 | L10: 2 | M10: =IF(ISNUMBER(L10),IF(IF(F10>H10,1,"")=L10,I10,IF(IF(F10<H10,2,"")=L10,K10,IF(IF(F10=H10,0,"")=L10,J10,0))),"") -> 1.47 | O10: =IF(ISBLANK(F10),"",IF(ISNUMBER(F10),IF(AND(F10>=0,F10<250),IF($F10<>$H10,IF(F10=0,TRUE(),IF(MOD(F10,1)=0,TRUE(),FALSE())),FALSE()),FALSE()),FALSE())) -> TRUE | P10: =IF(ISBLANK(H10),"",IF(ISNUMBER(H10),IF(AND(H10>=0,H10<250),IF($F10<>$H10,IF(H10=0,TRUE(),IF(MOD(H10,1)=0,TRUE(),FALSE())),FALSE()),FALSE()),FALSE())) -> TRUE
B11: Erste Runde | C11: Clippers | D11: =IF(C11>0,":","") -> : | E11: Nuggets | F11: 110 | G11: =IF(ISNUMBER(F11),":","") -> : | H11: 112 | I11: 2.2 | K11: 1.63 | L11: 2 | M11: =IF(ISNUMBER(L11),IF(IF(F11>H11,1,"")=L11,I11,IF(IF(F11<H11,2,"")=L11,K11,IF(IF(F11=H11,0,"")=L11,J11,0))),"") -> 1.63 | O11: =IF(ISBLANK(F11),"",IF(ISNUMBER(F11),IF(AND(F11>=0,F11<250),IF($F11<>$H11,IF(F11=0,TRUE(),IF(MOD(F11,1)=0,TRUE(),FALSE())),FALSE()),FALSE()),FALSE())) -> TRUE | P11: =IF(ISBLANK(H11),"",IF(ISNUMBER(H11),IF(AND(H11>=0,H11<250),IF($F11<>$H11,IF(H11=0,TRUE(),IF(MOD(H11,1)=0,TRUE(),FALSE())),FALSE()),FALSE()),FALSE())) -> TRUE
B12: Spiel 1 | C12: Pistons | D12: =IF(C12>0,":","") -> : | E12: Knicks | F12: 112 | G12: =IF(ISNUMBER(F12),":","") -> : | H12: 123 | I12: 3.3 | K12: 1.32 | L12: 1 | M12: =IF(ISNUMBER(L12),IF(IF(F12>H12,1,"")=L12,I12,IF(IF(F12<H12,2,"")=L12,K12,IF(IF(F12=H12,0,"")=L12,#REF!,0))),"") -> 0 | O12: =IF(ISBLANK(F12),"",IF(ISNUMBER(F12),IF(AND(F12>=0,F12<250),IF($F12<>$H12,IF(F12=0,TRUE(),IF(MOD(F12,1)=0,TRUE(),FALSE())),FALSE()),FALSE()),FALSE())) -> TRUE | P12: =IF(ISBLANK(H12),"",IF(ISNUMBER(H12),IF(AND(H12>=0,H12<250),IF($F12<>$H12,IF(H12=0,TRUE(),IF(MOD(H12,1)=0,TRUE(),FALSE())),FALSE()),FALSE()),FALSE())) -> TRUE
C13: Timberwolves | D13: =IF(C13>0,":","") -> : | E13: Lakers | F13: 117 | G13: =IF(ISNUMBER(F13),":","") -> : | H13: 95 | I13: 2.5 | K13: 1.52 | L13: 2 | M13: =IF(ISNUMBER(L13),IF(IF(F13>H13,1,"")=L13,I13,IF(IF(F13<H13,2,"")=L13,K13,IF(IF(F13=H13,0,"")=L13,J13,0))),"") -> 0 | O13: =IF(ISBLANK(F13),"",IF(ISNUMBER(F13),IF(AND(F13>=0,F13<250),IF($F13<>$H13,IF(F13=0,TRUE(),IF(MOD(F13,1)=0,TRUE(),FALSE())),FALSE()),FALSE()),FALSE())) -> TRUE | P13: =IF(ISBLANK(H13),"",IF(ISNUMBER(H13),IF(AND(H13>=0,H13<250),IF($F13<>$H13,IF(H13=0,TRUE(),IF(MOD(H13,1)=0,TRUE(),FALSE())),FALSE()),FALSE()),FALSE())) -> TRUE
C14: Magic | D14: =IF(C14>0,":","") -> : | E14: Celtics | F14: 86 | G14: =IF(ISNUMBER(F14),":","") -> : | H14: 103 | I14: 7.8 | K14: 1.07 | L14: 1 | M14: =IF(ISNUMBER(L14),IF(IF(F14>H14,1,"")=L14,I14,IF(IF(F14<H14,2,"")=L14,K14,IF(IF(F14=H14,0,"")=L14,J14,0))),"") -> 0 | O14: =IF(ISBLANK(F14),"",IF(ISNUMBER(F14),IF(AND(F14>=0,F14<250),IF($F14<>$H14,IF(F14=0,TRUE(),IF(MOD(F14,1)=0,TRUE(),FALSE())),FALSE()),FALSE()),FALSE())) -> TRUE | P14: =IF(ISBLANK(H14),"",IF(ISNUMBER(H14),IF(AND(H14>=0,H14<250),IF($F14<>$H14,IF(H14=0,TRUE(),IF(MOD(H14,1)=0,TRUE(),FALSE())),FALSE()),FALSE()),FALSE())) -> TRUE
C15: Warriors | D15: =IF(C15>0,":","") -> : | E15: Rockets | F15: 95 | G15: =IF(ISNUMBER(F15),":","") -> : | H15: 85 | I15: 1.93 | K15: 1.83 | L15: 2 | M15: =IF(ISNUMBER(L15),IF(IF(F15>H15,1,"")=L15,I15,IF(IF(F15<H15,2,"")=L15,K15,IF(IF(F15=H15,0,"")=L15,J15,0))),"") -> 0 | O15: =IF(ISBLANK(F15),"",IF(ISNUMBER(F15),IF(AND(F15>=0,F15<250),IF($F15<>$H15,IF(F15=0,TRUE(),IF(MOD(F15,1)=0,TRUE(),FALSE())),FALSE()),FALSE()),FALSE())) -> TRUE | P15: =IF(ISBLANK(H15),"",IF(ISNUMBER(H15),IF(AND(H15>=0,H15<250),IF($F15<>$H15,IF(H15=0,TRUE(),IF(MOD(H15,1)=0,TRUE(),FALSE())),FALSE()),FALSE()),FALSE())) -> TRUE
C16: Grizzlies | D16: =IF(C16>0,":","") -> : | E16: Thunder | F16: 80 | G16: =IF(ISNUMBER(F16),":","") -> : | H16: 131 | I16: 5.5 | K16: 1.14 | L16: 2 | M16: =IF(ISNUMBER(L16),IF(IF(F16>H16,1,"")=L16,I16,IF(IF(F16<H16,2,"")=L16,K16,IF(IF(F16=H16,0,"")=L16,J16,0))),"") -> 1.14 | O16: =IF(ISBLANK(F16),"",IF(ISNUMBER(F16),IF(AND(F16>=0,F16<250),IF($F16<>$H16,IF(F16=0,TRUE(),IF(MOD(F16,1)=0,TRUE(),FALSE())),FALSE()),FALSE()),FALSE())) -> TRUE | P16: =IF(ISBLANK(H16),"",IF(ISNUMBER(H16),IF(AND(H16>=0,H16<250),IF($F16<>$H16,IF(H16=0,TRUE(),IF(MOD(H16,1)=0,TRUE(),FALSE())),FALSE()),FALSE()),FALSE())) -> TRUE
C17: Heat | D17: =IF(C17>0,":","") -> : | E17: Cavaliers | F17: 100 | G17: =IF(ISNUMBER(F17),":","") -> : | H17: 121 | I17: 6.5 | K17: 1.1 | L17: 2 | M17: =IF(ISNUMBER(L17),IF(IF(F17>H17,1,"")=L17,I17,IF(IF(F17<H17,2,"")=L17,K17,IF(IF(F17=H17,0,"")=L17,J17,0))),"") -> 1.1 | N17: =SUM(M10:M17) -> 5.34 | O17: =IF(ISBLANK(F17),"",IF(ISNUMBER(F17),IF(AND(F17>=0,F17<250),IF($F17<>$H17,IF(F17=0,TRUE(),IF(MOD(F17,1)=0,TRUE(),FALSE())),FALSE()),FALSE()),FALSE())) -> TRUE | P17: =IF(ISBLANK(H17),"",IF(ISNUMBER(H17),IF(AND(H17>=0,H17<250),IF($F17<>$H17,IF(H17=0,TRUE(),IF(MOD(H17,1)=0,TRUE(),FALSE())),FALSE()),FALSE()),FALSE())) -> TRUE
D18: =IF(C18>0,":","") | G18: =IF(ISNUMBER(F18),":","") | M18: =IF(ISNUMBER(L18),IF(IF(F18>H18,1,"")=L18,I18,IF(IF(F18<H18,2,"")=L18,K18,IF(IF(F18=H18,0,"")=L18,J18,0))),"") | O18: =IF(ISBLANK(F18),"",IF(ISNUMBER(F18),IF(AND(F18>=0,F18<250),IF($F18<>$H18,IF(F18=0,TRUE(),IF(MOD(F18,1)=0,TRUE(),FALSE())),FALSE()),FALSE()),FALSE())) | P18: =IF(ISBLANK(H18),"",IF(ISNUMBER(H18),IF(AND(H18>=0,H18<250),IF($F18<>$H18,IF(H18=0,TRUE(),IF(MOD(H18,1)=0,TRUE(),FALSE())),FALSE()),FALSE()),FALSE()))
B19: Playoffs | C19: Pistons | D19: =IF(C19>0,":","") -> : | E19: Knicks | F19: 100 | G19: =IF(ISNUMBER(F19),":","") -> : | H19: 94 | I19: 3 | K19: 1.37 | M19: =IF(ISNUMBER(L19),IF(IF(F19>H19,1,"")=L19,I19,IF(IF(F19<H19,2,"")=L19,K19,IF(IF(F19=H19,0,"")=L19,J19,0))),"") | O19: =IF(ISBLANK(F19),"",IF(ISNUMBER(F19),IF(AND(F19>=0,F19<250),IF($F19<>$H19,IF(F19=0,TRUE(),IF(MOD(F19,1)=0,TRUE(),FALSE())),FALSE()),FALSE()),FALSE())) -> TRUE | P19: =IF(ISBLANK(H19),"",IF(ISNUMBER(H19),IF(AND(H19>=0,H19<250),IF($F19<>$H19,IF(H19=0,TRUE(),IF(MOD(H19,1)=0,TRUE(),FALSE())),FALSE()),FALSE()),FALSE())) -> TRUE
B20: Erste Runde | C20: Clippers | D20: =IF(C20>0,":","") -> : | E20: Nuggets | F20: 105 | G20: =IF(ISNUMBER(F20),":","") -> : | H20: 102 | I20: 1.83 | K20: 1.93 | M20: =IF(ISNUMBER(L20),IF(IF(F20>H20,1,"")=L20,I20,IF(IF(F20<H20,2,"")=L20,K20,IF(IF(F20=H20,0,"")=L20,J20,0))),"") | O20: =IF(ISBLANK(F20),"",IF(ISNUMBER(F20),IF(AND(F20>=0,F20<250),IF($F20<>$H20,IF(F20=0,TRUE(),IF(MOD(F20,1)=0,TRUE(),FALSE())),FALSE()),FALSE()),FALSE())) -> TRUE | P20: =IF(ISBLANK(H20),"",IF(ISNUMBER(H20),IF(AND(H20>=0,H20<250),IF($F20<>$H20,IF(H20=0,TRUE(),IF(MOD(H20,1)=0,TRUE(),FALSE())),FALSE()),FALSE()),FALSE())) -> TRUE
B21: Spiel 2 | C21: Bucks | D21: =IF(C21>0,":","") -> : | E21: Pacers | F21: 115 | G21: =IF(ISNUMBER(F21),":","") -> : | H21: 123 | I21: 2.6 | K21: 1.47 | L21: 2 | M21: =IF(ISNUMBER(L21),IF(IF(F21>H21,1,"")=L21,I21,IF(IF(F21<H21,2,"")=L21,K21,IF(IF(F21=H21,0,"")=L21,J21,0))),"") -> 1.47 | O21: =IF(ISBLANK(F21),"",IF(ISNUMBER(F21),IF(AND(F21>=0,F21<250),IF($F21<>$H21,IF(F21=0,TRUE(),IF(MOD(F21,1)=0,TRUE(),FALSE())),FALSE()),FALSE()),FALSE())) -> TRUE | P21: =IF(ISBLANK(H21),"",IF(ISNUMBER(H21),IF(AND(H21>=0,H21<250),IF($F21<>$H21,IF(H21=0,TRUE(),IF(MOD(H21,1)=0,TRUE(),FALSE())),FALSE()),FALSE()),FALSE())) -> TRUE
C22: Grizzlies | D22: =IF(C22>0,":","") -> : | E22: Thunder | F22: 99 | G22: =IF(ISNUMBER(F22),":","") -> : | H22: 118 | I22: 8.5 | K22: 1.06 | L22: 2 | M22: =IF(ISNUMBER(L22),IF(IF(F22>H22,1,"")=L22,I22,IF(IF(F22<H22,2,"")=L22,K22,IF(IF(F22=H22,0,"")=L22,J22,0))),"") -> 1.06 | O22: =IF(ISBLANK(F22),"",IF(ISNUMBER(F22),IF(AND(F22>=0,F22<250),IF($F22<>$H22,IF(F22=0,TRUE(),IF(MOD(F22,1)=0,TRUE(),FALSE())),FALSE()),FALSE()),FALSE())) -> TRUE | P22: =IF(ISBLANK(H22),"",IF(ISNUMBER(H22),IF(AND(H22>=0,H22<250),IF($F22<>$H22,IF(H22=0,TRUE(),IF(MOD(H22,1)=0,TRUE(),FALSE())),FALSE()),FALSE()),FALSE())) -> TRUE
C23: Timberwolves | D23: =IF(C23>0,":","") -> : | E23: Lakers | F23: 85 | G23: =IF(ISNUMBER(F23),":","") -> : | H23: 94 | I23: 3.1 | K23: 1.35 | L23: 2 | M23: =IF(ISNUMBER(L23),IF(IF(F23>H23,1,"")=L23,I23,IF(IF(F23<H23,2,"")=L23,K23,IF(IF(F23=H23,0,"")=L23,J23,0))),"") -> 1.35 | O23: =IF(ISBLANK(F23),"",IF(ISNUMBER(F23),IF(AND(F23>=0,F23<250),IF($F23<>$H23,IF(F23=0,TRUE(),IF(MOD(F23,1)=0,TRUE(),FALSE())),FALSE()),FALSE()),FALSE())) -> TRUE | P23: =IF(ISBLANK(H23),"",IF(ISNUMBER(H23),IF(AND(H23>=0,H23<250),IF($F23<>$H23,IF(H23=0,TRUE(),IF(MOD(H23,1)=0,TRUE(),FALSE())),FALSE()),FALSE()),FALSE())) -> TRUE
C24: Magic | D24: =IF(C24>0,":","") -> : | E24: Celtics | F24: 100 | G24: =IF(ISNUMBER(F24),":","") -> : | H24: 109 | I24: 6.2 | K24: 1.11 | L24: 2 | M24: =IF(ISNUMBER(L24),IF(IF(F24>H24,1,"")=L24,I24,IF(IF(F24<H24,2,"")=L24,K24,IF(IF(F24=H24,0,"")=L24,J24,0))),"") -> 1.11 | O24: =IF(ISBLANK(F24),"",IF(ISNUMBER(F24),IF(AND(F24>=0,F24<250),IF($F24<>$H24,IF(F24=0,TRUE(),IF(MOD(F24,1)=0,TRUE(),FALSE())),FALSE()),FALSE()),FALSE())) -> TRUE | P24: =IF(ISBLANK(H24),"",IF(ISNUMBER(H24),IF(AND(H24>=0,H24<250),IF($F24<>$H24,IF(H24=0,TRUE(),IF(MOD(H24,1)=0,TRUE(),FALSE())),FALSE()),FALSE()),FALSE())) -> TRUE
C25: Heat | D25: =IF(C25>0,":","") -> : | E25: Cavaliers | F25: 112 | G25: =IF(ISNUMBER(F25),":","") -> : | H25: 121 | I25: 5.5 | K25: 1.14 | L25: 2 | M25: =IF(ISNUMBER(L25),IF(IF(F25>H25,1,"")=L25,I25,IF(IF(F25<H25,2,"")=L25,K25,IF(IF(F25=H25,0,"")=L25,J25,0))),"") -> 1.14 | O25: =IF(ISBLANK(F25),"",IF(ISNUMBER(F25),IF(AND(F25>=0,F25<250),IF($F25<>$H25,IF(F25=0,TRUE(),IF(MOD(F25,1)=0,TRUE(),FALSE())),FALSE()),FALSE()),FALSE())) -> TRUE | P25: =IF(ISBLANK(H25),"",IF(ISNUMBER(H25),IF(AND(H25>=0,H25<250),IF($F25<>$H25,IF(H25=0,TRUE(),IF(MOD(H25,1)=0,TRUE(),FALSE())),FALSE()),FALSE()),FALSE())) -> TRUE
C26: Warriors | D26: =IF(C26>0,":","") -> : | E26: Rockets | F26: 94 | G26: =IF(ISNUMBER(F26),":","") -> : | H26: 109 | I26: 2.1 | K26: 1.72 | L26: 1 | M26: =IF(ISNUMBER(L26),IF(IF(F26>H26,1,"")=L26,I26,IF(IF(F26<H26,2,"")=L26,K26,IF(IF(F26=H26,0,"")=L26,J26,0))),"") -> 0 | N26: =SUM(M19:M26) -> 6.13 | O26: =IF(ISBLANK(F26),"",IF(ISNUMBER(F26),IF(AND(F26>=0,F26<250),IF($F26<>$H26,IF(F26=0,TRUE(),IF(MOD(F26,1)=0,TRUE(),FALSE())),FALSE()),FALSE()),FALSE())) -> TRUE | P26: =IF(ISBLANK(H26),"",IF(ISNUMBER(H26),IF(AND(H26>=0,H26<250),IF($F26<>$H26,IF(H26=0,TRUE(),IF(MOD(H26,1)=0,TRUE(),FALSE())),FALSE()),FALSE()),FALSE())) -> TRUE
D27: =IF(C27>0,":","") | G27: =IF(ISNUMBER(F27),":","") | M27: =IF(ISNUMBER(L27),IF(IF(F27>H27,1,"")=L27,I27,IF(IF(F27<H27,2,"")=L27,K27,IF(IF(F27=H27,0,"")=L27,J27,0))),"") | O27: =IF(ISBLANK(F27),"",IF(ISNUMBER(F27),IF(AND(F27>=0,F27<250),IF($F27<>$H27,IF(F27=0,TRUE(),IF(MOD(F27,1)=0,TRUE(),FALSE())),FALSE()),FALSE()),FALSE())) | P27: =IF(ISBLANK(H27),"",IF(ISNUMBER(H27),IF(AND(H27>=0,H27<250),IF($F27<>$H27,IF(H27=0,TRUE(),IF(MOD(H27,1)=0,TRUE(),FALSE())),FALSE()),FALSE()),FALSE()))
B28: Playoffs | C28: Knicks | D28: =IF(C28>0,":","") -> : | E28: Pistons | F28: 118 | G28: =IF(ISNUMBER(F28),":","") -> : | H28: 116 | I28: 1.83 | K28: 1.93 | L28: 2 | M28: =IF(ISNUMBER(L28),IF(IF(F28>H28,1,"")=L28,I28,IF(IF(F28<H28,2,"")=L28,K28,IF(IF(F28=H28,0,"")=L28,J28,0))),"") -> 0 | O28: =IF(ISBLANK(F28),"",IF(ISNUMBER(F28),IF(AND(F28>=0,F28<250),IF($F28<>$H28,IF(F28=0,TRUE(),IF(MOD(F28,1)=0,TRUE(),FALSE())),FALSE()),FALSE()),FALSE())) -> TRUE | P28: =IF(ISBLANK(H28),"",IF(ISNUMBER(H28),IF(AND(H28>=0,H28<250),IF($F28<>$H28,IF(H28=0,TRUE(),IF(MOD(H28,1)=0,TRUE(),FALSE())),FALSE()),FALSE()),FALSE())) -> TRUE
B29: Erste Runde | C29: Thunder | D29: =IF(C29>0,":","") -> : | E29: Grizzlies | F29: 114 | G29: =IF(ISNUMBER(F29),":","") -> : | H29: 108 | I29: 1.2 | K29: 4.4 | L29: 1 | M29: =IF(ISNUMBER(L29),IF(IF(F29>H29,1,"")=L29,I29,IF(IF(F29<H29,2,"")=L29,K29,IF(IF(F29=H29,0,"")=L29,J29,0))),"") -> 1.2 | O29: =IF(ISBLANK(F29),"",IF(ISNUMBER(F29),IF(AND(F29>=0,F29<250),IF($F29<>$H29,IF(F29=0,TRUE(),IF(MOD(F29,1)=0,TRUE(),FALSE())),FALSE()),FALSE()),FALSE())) -> TRUE | P29: =IF(ISBLANK(H29),"",IF(ISNUMBER(H29),IF(AND(H29>=0,H29<250),IF($F29<>$H29,IF(H29=0,TRUE(),IF(MOD(H29,1)=0,TRUE(),FALSE())),FALSE()),FALSE()),FALSE())) -> TRUE
B30: Spiel 3 | C30: Nuggets | D30: =IF(C30>0,":","") -> : | E30: Clippers | F30: 83 | G30: =IF(ISNUMBER(F30),":","") -> : | H30: 117 | I30: 2.8 | K30: 1.42 | L30: 2 | M30: =IF(ISNUMBER(L30),IF(IF(F30>H30,1,"")=L30,I30,IF(IF(F30<H30,2,"")=L30,K30,IF(IF(F30=H30,0,"")=L30,J30,0))),"") -> 1.42 | O30: =IF(ISBLANK(F30),"",IF(ISNUMBER(F30),IF(AND(F30>=0,F30<250),IF($F30<>$H30,IF(F30=0,TRUE(),IF(MOD(F30,1)=0,TRUE(),FALSE())),FALSE()),FALSE()),FALSE())) -> TRUE | P30: =IF(ISBLANK(H30),"",IF(ISNUMBER(H30),IF(AND(H30>=0,H30<250),IF($F30<>$H30,IF(H30=0,TRUE(),IF(MOD(H30,1)=0,TRUE(),FALSE())),FALSE()),FALSE()),FALSE())) -> TRUE
C31: Celtics | D31: =IF(C31>0,":","") -> : | E31: Magic | F31: 93 | G31: =IF(ISNUMBER(F31),":","") -> : | H31: 95 | I31: 1.4 | K31: 2.9 | L31: 2 | M31: =IF(ISNUMBER(L31),IF(IF(F31>H31,1,"")=L31,I31,IF(IF(F31<H31,2,"")=L31,K31,IF(IF(F31=H31,0,"")=L31,J31,0))),"") -> 2.9 | O31: =IF(ISBLANK(F31),"",IF(ISNUMBER(F31),IF(AND(F31>=0,F31<250),IF($F31<>$H31,IF(F31=0,TRUE(),IF(MOD(F31,1)=0,TRUE(),FALSE())),FALSE()),FALSE()),FALSE())) -> TRUE | P31: =IF(ISBLANK(H31),"",IF(ISNUMBER(H31),IF(AND(H31>=0,H31<250),IF($F31<>$H31,IF(H31=0,TRUE(),IF(MOD(H31,1)=0,TRUE(),FALSE())),FALSE()),FALSE()),FALSE())) -> TRUE
C32: Pacers | D32: =IF(C32>0,":","") -> : | E32: Bucks | F32: 101 | G32: =IF(ISNUMBER(F32),":","") -> : | H32: 117 | I32: 2.8 | K32: 1.42 | L32: 2 | M32: =IF(ISNUMBER(L32),IF(IF(F32>H32,1,"")=L32,I32,IF(IF(F32<H32,2,"")=L32,K32,IF(IF(F32=H32,0,"")=L32,J32,0))),"") -> 1.42 | O32: =IF(ISBLANK(F32),"",IF(ISNUMBER(F32),IF(AND(F32>=0,F32<250),IF($F32<>$H32,IF(F32=0,TRUE(),IF(MOD(F32,1)=0,TRUE(),FALSE())),FALSE()),FALSE()),FALSE())) -> TRUE | P32: =IF(ISBLANK(H32),"",IF(ISNUMBER(H32),IF(AND(H32>=0,H32<250),IF($F32<>$H32,IF(H32=0,TRUE(),IF(MOD(H32,1)=0,TRUE(),FALSE())),FALSE()),FALSE()),FALSE())) -> TRUE
C33: Lakers | D33: =IF(C33>0,":","") -> : | E33: Timberwolves | F33: 104 | G33: =IF(ISNUMBER(F33),":","") -> : | H33: 116 | I33: 2.25 | K33: 1.62 | L33: 1 | M33: =IF(ISNUMBER(L33),IF(IF(F33>H33,1,"")=L33,I33,IF(IF(F33<H33,2,"")=L33,K33,IF(IF(F33=H33,0,"")=L33,J33,0))),"") -> 0 | O33: =IF(ISBLANK(F33),"",IF(ISNUMBER(F33),IF(AND(F33>=0,F33<250),IF($F33<>$H33,IF(F33=0,TRUE(),IF(MOD(F33,1)=0,TRUE(),FALSE())),FALSE()),FALSE()),FALSE())) -> TRUE | P33: =IF(ISBLANK(H33),"",IF(ISNUMBER(H33),IF(AND(H33>=0,H33<250),IF($F33<>$H33,IF(H33=0,TRUE(),IF(MOD(H33,1)=0,TRUE(),FALSE())),FALSE()),FALSE()),FALSE())) -> TRUE
C34: Cavaliers | D34: =IF(C34>0,":","") -> : | E34: Heat | F34: 124 | G34: =IF(ISNUMBER(F34),":","") -> : | H34: 87 | I34: 1.4 | K34: 2.9 | L34: 2 | M34: =IF(ISNUMBER(L34),IF(IF(F34>H34,1,"")=L34,I34,IF(IF(F34<H34,2,"")=L34,K34,IF(IF(F34=H34,0,"")=L34,J34,0))),"") -> 0 | O34: =IF(ISBLANK(F34),"",IF(ISNUMBER(F34),IF(AND(F34>=0,F34<250),IF($F34<>$H34,IF(F34=0,TRUE(),IF(MOD(F34,1)=0,TRUE(),FALSE())),FALSE()),FALSE()),FALSE())) -> TRUE | P34: =IF(ISBLANK(H34),"",IF(ISNUMBER(H34),IF(AND(H34>=0,H34<250),IF($F34<>$H34,IF(H34=0,TRUE(),IF(MOD(H34,1)=0,TRUE(),FALSE())),FALSE()),FALSE()),FALSE())) -> TRUE
C35: Rockets | D35: =IF(C35>0,":","") -> : | E35: Warriors | F35: 93 | G35: =IF(ISNUMBER(F35),":","") -> : | H35: 104 | I35: 2.25 | K35: 1.62 | L35: 2 | M35: =IF(ISNUMBER(L35),IF(IF(F35>H35,1,"")=L35,I35,IF(IF(F35<H35,2,"")=L35,K35,IF(IF(F35=H35,0,"")=L35,J35,0))),"") -> 1.62 | N35: =SUM(M28:M35) -> 8.56 | O35: =IF(ISBLANK(F35),"",IF(ISNUMBER(F35),IF(AND(F35>=0,F35<250),IF($F35<>$H35,IF(F35=0,TRUE(),IF(MOD(F35,1)=0,TRUE(),FALSE())),FALSE()),FALSE()),FALSE())) -> TRUE | P35: =IF(ISBLANK(H35),"",IF(ISNUMBER(H35),IF(AND(H35>=0,H35<250),IF($F35<>$H35,IF(H35=0,TRUE(),IF(MOD(H35,1)=0,TRUE(),FALSE())),FALSE()),FALSE()),FALSE())) -> TRUE
D36: =IF(C36>0,":","") | G36: =IF(ISNUMBER(F36),":","") | M36: =IF(ISNUMBER(L36),IF(IF(F36>H36,1,"")=L36,I36,IF(IF(F36<H36,2,"")=L36,K36,IF(IF(F36=H36,0,"")=L36,J36,0))),"") | O36: =IF(ISBLANK(F36),"",IF(ISNUMBER(F36),IF(AND(F36>=0,F36<250),IF($F36<>$H36,IF(F36=0,TRUE(),IF(MOD(F36,1)=0,TRUE(),FALSE())),FALSE()),FALSE()),FALSE())) | P36: =IF(ISBLANK(H36),"",IF(ISNUMBER(H36),IF(AND(H36>=0,H36<250),IF($F36<>$H36,IF(H36=0,TRUE(),IF(MOD(H36,1)=0,TRUE(),FALSE())),FALSE()),FALSE()),FALSE()))
B37: Playoffs | C37: Thunder | D37: =IF(C37>0,":","") -> : | E37: Grizzlies | F37: 117 | G37: =IF(ISNUMBER(F37),":","") -> : | H37: 115 | I37: 1.1 | K37: 6.7 | L37: 1 | M37: =IF(ISNUMBER(L37),IF(IF(F37>H37,1,"")=L37,I37,IF(IF(F37<H37,2,"")=L37,K37,IF(IF(F37=H37,0,"")=L37,J37,0))),"") -> 1.1 | O37: =IF(ISBLANK(F37),"",IF(ISNUMBER(F37),IF(AND(F37>=0,F37<250),IF($F37<>$H37,IF(F37=0,TRUE(),IF(MOD(F37,1)=0,TRUE(),FALSE())),FALSE()),FALSE()),FALSE())) -> TRUE | P37: =IF(ISBLANK(H37),"",IF(ISNUMBER(H37),IF(AND(H37>=0,H37<250),IF($F37<>$H37,IF(H37=0,TRUE(),IF(MOD(H37,1)=0,TRUE(),FALSE())),FALSE()),FALSE()),FALSE())) -> TRUE
B38: Erste Runde | C38: Nuggets | D38: =IF(C38>0,":","") -> : | E38: Clippers | F38: 101 | G38: =IF(ISNUMBER(F38),":","") -> : | H38: 99 | I38: 2.8 | K38: 1.42 | L38: 2 | M38: =IF(ISNUMBER(L38),IF(IF(F38>H38,1,"")=L38,I38,IF(IF(F38<H38,2,"")=L38,K38,IF(IF(F38=H38,0,"")=L38,J38,0))),"") -> 0 | O38: =IF(ISBLANK(F38),"",IF(ISNUMBER(F38),IF(AND(F38>=0,F38<250),IF($F38<>$H38,IF(F38=0,TRUE(),IF(MOD(F38,1)=0,TRUE(),FALSE())),FALSE()),FALSE()),FALSE())) -> TRUE | P38: =IF(ISBLANK(H38),"",IF(ISNUMBER(H38),IF(AND(H38>=0,H38<250),IF($F38<>$H38,IF(H38=0,TRUE(),IF(MOD(H38,1)=0,TRUE(),FALSE())),FALSE()),FALSE()),FALSE())) -> TRUE
B39: Spiel 4 | C39: Knicks | D39: =IF(C39>0,":","") -> : | E39: Pistons | F39: 94 | G39: =IF(ISNUMBER(F39),":","") -> : | H39: 93 | I39: 1.9 | K39: 1.87 | L39: 2 | M39: =IF(ISNUMBER(L39),IF(IF(F39>H39,1,"")=L39,I39,IF(IF(F39<H39,2,"")=L39,K39,IF(IF(F39=H39,0,"")=L39,J39,0))),"") -> 0 | O39: =IF(ISBLANK(F39),"",IF(ISNUMBER(F39),IF(AND(F39>=0,F39<250),IF($F39<>$H39,IF(F39=0,TRUE(),IF(MOD(F39,1)=0,TRUE(),FALSE())),FALSE()),FALSE()),FALSE())) -> TRUE | P39: =IF(ISBLANK(H39),"",IF(ISNUMBER(H39),IF(AND(H39>=0,H39<250),IF($F39<>$H39,IF(H39=0,TRUE(),IF(MOD(H39,1)=0,TRUE(),FALSE())),FALSE()),FALSE()),FALSE())) -> TRUE
C40: Lakers | D40: =IF(C40>0,":","") -> : | E40: Timberwolves | F40: 113 | G40: =IF(ISNUMBER(F40),":","") -> : | H40: 116 | I40: 2.3 | K40: 1.6 | L40: 1 | M40: =IF(ISNUMBER(L40),IF(IF(F40>H40,1,"")=L40,I40,IF(IF(F40<H40,2,"")=L40,K40,IF(IF(F40=H40,0,"")=L40,J40,0))),"") -> 0 | O40: =IF(ISBLANK(F40),"",IF(ISNUMBER(F40),IF(AND(F40>=0,F40<250),IF($F40<>$H40,IF(F40=0,TRUE(),IF(MOD(F40,1)=0,TRUE(),FALSE())),FALSE()),FALSE()),FALSE())) -> TRUE | P40: =IF(ISBLANK(H40),"",IF(ISNUMBER(H40),IF(AND(H40>=0,H40<250),IF($F40<>$H40,IF(H40=0,TRUE(),IF(MOD(H40,1)=0,TRUE(),FALSE())),FALSE()),FALSE()),FALSE())) -> TRUE
C41: Celtics | D41: =IF(C41>0,":","") -> : | E41: Magic | F41: 107 | G41: =IF(ISNUMBER(F41),":","") -> : | H41: 98 | I41: 1.32 | K41: 3.3 | L41: 1 | M41: =IF(ISNUMBER(L41),IF(IF(F41>H41,1,"")=L41,I41,IF(IF(F41<H41,2,"")=L41,K41,IF(IF(F41=H41,0,"")=L41,J41,0))),"") -> 1.32 | O41: =IF(ISBLANK(F41),"",IF(ISNUMBER(F41),IF(AND(F41>=0,F41<250),IF($F41<>$H41,IF(F41=0,TRUE(),IF(MOD(F41,1)=0,TRUE(),FALSE())),FALSE()),FALSE()),FALSE())) -> TRUE | P41: =IF(ISBLANK(H41),"",IF(ISNUMBER(H41),IF(AND(H41>=0,H41<250),IF($F41<>$H41,IF(H41=0,TRUE(),IF(MOD(H41,1)=0,TRUE(),FALSE())),FALSE()),FALSE()),FALSE())) -> TRUE
C42: Pacers | D42: =IF(C42>0,":","") -> : | E42: Bucks | F42: 129 | G42: =IF(ISNUMBER(F42),":","") -> : | H42: 103 | I42: 2.7 | K42: 1.45 | L42: 2 | M42: =IF(ISNUMBER(L42),IF(IF(F42>H42,1,"")=L42,I42,IF(IF(F42<H42,2,"")=L42,K42,IF(IF(F42=H42,0,"")=L42,J42,0))),"") -> 0 | O42: =IF(ISBLANK(F42),"",IF(ISNUMBER(F42),IF(AND(F42>=0,F42<250),IF($F42<>$H42,IF(F42=0,TRUE(),IF(MOD(F42,1)=0,TRUE(),FALSE())),FALSE()),FALSE()),FALSE())) -> TRUE | P42: =IF(ISBLANK(H42),"",IF(ISNUMBER(H42),IF(AND(H42>=0,H42<250),IF($F42<>$H42,IF(H42=0,TRUE(),IF(MOD(H42,1)=0,TRUE(),FALSE())),FALSE()),FALSE()),FALSE())) -> TRUE
C43: Rockets | D43: =IF(C43>0,":","") -> : | E43: Warriors | F43: 106 | G43: =IF(ISNUMBER(F43),":","") -> : | H43: 109 | I43: 2.4 | K43: 1.55 | L43: 2 | M43: =IF(ISNUMBER(L43),IF(IF(F43>H43,1,"")=L43,I43,IF(IF(F43<H43,2,"")=L43,K43,IF(IF(F43=H43,0,"")=L43,J43,0))),"") -> 1.55 | O43: =IF(ISBLANK(F43),"",IF(ISNUMBER(F43),IF(AND(F43>=0,F43<250),IF($F43<>$H43,IF(F43=0,TRUE(),IF(MOD(F43,1)=0,TRUE(),FALSE())),FALSE()),FALSE()),FALSE())) -> TRUE | P43: =IF(ISBLANK(H43),"",IF(ISNUMBER(H43),IF(AND(H43>=0,H43<250),IF($F43<>$H43,IF(H43=0,TRUE(),IF(MOD(H43,1)=0,TRUE(),FALSE())),FALSE()),FALSE()),FALSE())) -> TRUE
C44: Cavaliers | D44: =IF(C44>0,":","") -> : | E44: Heat | F44: 138 | G44: =IF(ISNUMBER(F44),":","") -> : | H44: 83 | I44: 1.22 | K44: 4.1 | L44: 1 | M44: =IF(ISNUMBER(L44),IF(IF(F44>H44,1,"")=L44,I44,IF(IF(F44<H44,2,"")=L44,K44,IF(IF(F44=H44,0,"")=L44,J44,0))),"") -> 1.22 | N44: =SUM(M37:M44) -> 5.19 | O44: =IF(ISBLANK(F44),"",IF(ISNUMBER(F44),IF(AND(F44>=0,F44<250),IF($F44<>$H44,IF(F44=0,TRUE(),IF(MOD(F44,1)=0,TRUE(),FALSE())),FALSE()),FALSE()),FALSE())) -> TRUE | P44: =IF(ISBLANK(H44),"",IF(ISNUMBER(H44),IF(AND(H44>=0,H44<250),IF($F44<>$H44,IF(H44=0,TRUE(),IF(MOD(H44,1)=0,TRUE(),FALSE())),FALSE()),FALSE()),FALSE())) -> TRUE
D45: =IF(C45>0,":","") | G45: =IF(ISNUMBER(F45),":","") | M45: =IF(ISNUMBER(L45),IF(IF(F45>H45,1,"")=L45,I45,IF(IF(F45<H45,2,"")=L45,K45,IF(IF(F45=H45,0,"")=L45,J45,0))),"") | O45: =IF(ISBLANK(F45),"",IF(ISNUMBER(F45),IF(AND(F45>=0,F45<250),IF($F45<>$H45,IF(F45=0,TRUE(),IF(MOD(F45,1)=0,TRUE(),FALSE())),FALSE()),FALSE()),FALSE())) | P45: =IF(ISBLANK(H45),"",IF(ISNUMBER(H45),IF(AND(H45>=0,H45<250),IF($F45<>$H45,IF(H45=0,TRUE(),IF(MOD(H45,1)=0,TRUE(),FALSE())),FALSE()),FALSE()),FALSE()))
B46: Playoffs | C46: Bucks | D46: =IF(C46>0,":","") -> : | E46: Pacers | F46: 118 | G46: =IF(ISNUMBER(F46),":","") -> : | H46: 119 | I46: 3.3 | K46: 1.32 | L46: 2 | M46: =IF(ISNUMBER(L46),IF(IF(F46>H46,1,"")=L46,I46,IF(IF(F46<H46,2,"")=L46,K46,IF(IF(F46=H46,0,"")=L46,J46,0))),"") -> 1.32 | O46: =IF(ISBLANK(F46),"",IF(ISNUMBER(F46),IF(AND(F46>=0,F46<250),IF($F46<>$H46,IF(F46=0,TRUE(),IF(MOD(F46,1)=0,TRUE(),FALSE())),FALSE()),FALSE()),FALSE())) -> TRUE | P46: =IF(ISBLANK(H46),"",IF(ISNUMBER(H46),IF(AND(H46>=0,H46<250),IF($F46<>$H46,IF(H46=0,TRUE(),IF(MOD(H46,1)=0,TRUE(),FALSE())),FALSE()),FALSE()),FALSE())) -> TRUE
B47: Erste Runde | C47: Pistons | D47: =IF(C47>0,":","") -> : | E47: Knicks | F47: 106 | G47: =IF(ISNUMBER(F47),":","") -> : | H47: 103 | I47: 2.8 | K47: 1.42 | L47: 2 | M47: =IF(ISNUMBER(L47),IF(IF(F47>H47,1,"")=L47,I47,IF(IF(F47<H47,2,"")=L47,K47,IF(IF(F47=H47,0,"")=L47,J47,0))),"") -> 0 | O47: =IF(ISBLANK(F47),"",IF(ISNUMBER(F47),IF(AND(F47>=0,F47<250),IF($F47<>$H47,IF(F47=0,TRUE(),IF(MOD(F47,1)=0,TRUE(),FALSE())),FALSE()),FALSE()),FALSE())) -> TRUE | P47: =IF(ISBLANK(H47),"",IF(ISNUMBER(H47),IF(AND(H47>=0,H47<250),IF($F47<>$H47,IF(H47=0,TRUE(),IF(MOD(H47,1)=0,TRUE(),FALSE())),FALSE()),FALSE()),FALSE())) -> TRUE
B48: Spiel 5 | C48: Magic | D48: =IF(C48>0,":","") -> : | E48: Celtics | F48: 89 | G48: =IF(ISNUMBER(F48),":","") -> : | H48: 120 | I48: 6 | K48: 1.12 | L48: 2 | M48: =IF(ISNUMBER(L48),IF(IF(F48>H48,1,"")=L48,I48,IF(IF(F48<H48,2,"")=L48,K48,IF(IF(F48=H48,0,"")=L48,J48,0))),"") -> 1.12 | O48: =IF(ISBLANK(F48),"",IF(ISNUMBER(F48),IF(AND(F48>=0,F48<250),IF($F48<>$H48,IF(F48=0,TRUE(),IF(MOD(F48,1)=0,TRUE(),FALSE())),FALSE()),FALSE()),FALSE())) -> TRUE | P48: =IF(ISBLANK(H48),"",IF(ISNUMBER(H48),IF(AND(H48>=0,H48<250),IF($F48<>$H48,IF(H48=0,TRUE(),IF(MOD(H48,1)=0,TRUE(),FALSE())),FALSE()),FALSE()),FALSE())) -> TRUE
C49: Clippers | D49: =IF(C49>0,":","") -> : | E49: Nuggets | F49: 115 | G49: =IF(ISNUMBER(F49),":","") -> : | H49: 131 | I49: 1.77 | K49: 2 | L49: 2 | M49: =IF(ISNUMBER(L49),IF(IF(F49>H49,1,"")=L49,I49,IF(IF(F49<H49,2,"")=L49,K49,IF(IF(F49=H49,0,"")=L49,J49,0))),"") -> 2 | O49: =IF(ISBLANK(F49),"",IF(ISNUMBER(F49),IF(AND(F49>=0,F49<250),IF($F49<>$H49,IF(F49=0,TRUE(),IF(MOD(F49,1)=0,TRUE(),FALSE())),FALSE()),FALSE()),FALSE())) -> TRUE | P49: =IF(ISBLANK(H49),"",IF(ISNUMBER(H49),IF(AND(H49>=0,H49<250),IF($F49<>$H49,IF(H49=0,TRUE(),IF(MOD(H49,1)=0,TRUE(),FALSE())),FALSE()),FALSE()),FALSE())) -> TRUE
C50: Timberwolves | D50: =IF(C50>0,":","") -> : | E50: Lakers | F50: 103 | G50: =IF(ISNUMBER(F50),":","") -> : | H50: 96 | I50: 3 | K50: 1.37 | L50: 1 | M50: =IF(ISNUMBER(L50),IF(IF(F50>H50,1,"")=L50,I50,IF(IF(F50<H50,2,"")=L50,K50,IF(IF(F50=H50,0,"")=L50,J50,0))),"") -> 3 | O50: =IF(ISBLANK(F50),"",IF(ISNUMBER(F50),IF(AND(F50>=0,F50<250),IF($F50<>$H50,IF(F50=0,TRUE(),IF(MOD(F50,1)=0,TRUE(),FALSE())),FALSE()),FALSE()),FALSE())) -> TRUE | P50: =IF(ISBLANK(H50),"",IF(ISNUMBER(H50),IF(AND(H50>=0,H50<250),IF($F50<>$H50,IF(H50=0,TRUE(),IF(MOD(H50,1)=0,TRUE(),FALSE())),FALSE()),FALSE()),FALSE())) -> TRUE
C51: Warriors | D51: =IF(C51>0,":","") -> : | E51: Rockets | F51: 116 | G51: =IF(ISNUMBER(F51),":","") -> : | H51: 131 | I51: 2.3 | K51: 1.6 | L51: 1 | M51: =IF(ISNUMBER(L51),IF(IF(F51>H51,1,"")=L51,I51,IF(IF(F51<H51,2,"")=L51,K51,IF(IF(F51=H51,0,"")=L51,J51,0))),"") -> 0 | N51: =SUM(M46:M51) -> 7.44 | O51: =IF(ISBLANK(F51),"",IF(ISNUMBER(F51),IF(AND(F51>=0,F51<250),IF($F51<>$H51,IF(F51=0,TRUE(),IF(MOD(F51,1)=0,TRUE(),FALSE())),FALSE()),FALSE()),FALSE())) -> TRUE | P51: =IF(ISBLANK(H51),"",IF(ISNUMBER(H51),IF(AND(H51>=0,H51<250),IF($F51<>$H51,IF(H51=0,TRUE(),IF(MOD(H51,1)=0,TRUE(),FALSE())),FALSE()),FALSE()),FALSE())) -> TRUE
D52: =IF(C52>0,":","") | G52: =IF(ISNUMBER(F52),":","") | M52: =IF(ISNUMBER(L52),IF(IF(F52>H52,1,"")=L52,I52,IF(IF(F52<H52,2,"")=L52,K52,IF(IF(F52=H52,0,"")=L52,J52,0))),"") | O52: =IF(ISBLANK(F52),"",IF(ISNUMBER(F52),IF(AND(F52>=0,F52<250),IF($F52<>$H52,IF(F52=0,TRUE(),IF(MOD(F52,1)=0,TRUE(),FALSE())),FALSE()),FALSE()),FALSE())) | P52: =IF(ISBLANK(H52),"",IF(ISNUMBER(H52),IF(AND(H52>=0,H52<250),IF($F52<>$H52,IF(H52=0,TRUE(),IF(MOD(H52,1)=0,TRUE(),FALSE())),FALSE()),FALSE()),FALSE()))
B53: Playoffs | C53: Knicks | D53: =IF(C53>0,":","") -> : | E53: Pistons | F53: 116 | G53: =IF(ISNUMBER(F53),":","") -> : | H53: 113 | I53: 1.93 | K53: 1.83 | M53: =IF(ISNUMBER(L53),IF(IF(F53>H53,1,"")=L53,I53,IF(IF(F53<H53,2,"")=L53,K53,IF(IF(F53=H53,0,"")=L53,J53,0))),"") | O53: =IF(ISBLANK(F53),"",IF(ISNUMBER(F53),IF(AND(F53>=0,F53<250),IF($F53<>$H53,IF(F53=0,TRUE(),IF(MOD(F53,1)=0,TRUE(),FALSE())),FALSE()),FALSE()),FALSE())) -> TRUE | P53: =IF(ISBLANK(H53),"",IF(ISNUMBER(H53),IF(AND(H53>=0,H53<250),IF($F53<>$H53,IF(H53=0,TRUE(),IF(MOD(H53,1)=0,TRUE(),FALSE())),FALSE()),FALSE()),FALSE())) -> TRUE
B54: Erste Runde | C54: Nuggets | D54: =IF(C54>0,":","") -> : | E54: Clippers | F54: 105 | G54: =IF(ISNUMBER(F54),":","") -> : | H54: 111 | I54: 3 | K54: 1.37 | M54: =IF(ISNUMBER(L54),IF(IF(F54>H54,1,"")=L54,I54,IF(IF(F54<H54,2,"")=L54,K54,IF(IF(F54=H54,0,"")=L54,J54,0))),"") | O54: =IF(ISBLANK(F54),"",IF(ISNUMBER(F54),IF(AND(F54>=0,F54<250),IF($F54<>$H54,IF(F54=0,TRUE(),IF(MOD(F54,1)=0,TRUE(),FALSE())),FALSE()),FALSE()),FALSE())) -> TRUE | P54: =IF(ISBLANK(H54),"",IF(ISNUMBER(H54),IF(AND(H54>=0,H54<250),IF($F54<>$H54,IF(H54=0,TRUE(),IF(MOD(H54,1)=0,TRUE(),FALSE())),FALSE()),FALSE()),FALSE())) -> TRUE
B55: Spiel 6 | C55: Rockets | D55: =IF(C55>0,":","") -> : | E55: Warriors | F55: 115 | G55: =IF(ISNUMBER(F55),":","") -> : | H55: 107 | I55: 2.6 | K55: 1.47 | L55: 2 | M55: =IF(ISNUMBER(L55),IF(IF(F55>H55,1,"")=L55,I55,IF(IF(F55<H55,2,"")=L55,K55,IF(IF(F55=H55,0,"")=L55,J55,0))),"") -> 0 | N55: =SUM(M53:M55) -> 0 | O55: =IF(ISBLANK(F55),"",IF(ISNUMBER(F55),IF(AND(F55>=0,F55<250),IF($F55<>$H55,IF(F55=0,TRUE(),IF(MOD(F55,1)=0,TRUE(),FALSE())),FALSE()),FALSE()),FALSE())) -> TRUE | P55: =IF(ISBLANK(H55),"",IF(ISNUMBER(H55),IF(AND(H55>=0,H55<250),IF($F55<>$H55,IF(H55=0,TRUE(),IF(MOD(H55,1)=0,TRUE(),FALSE())),FALSE()),FALSE()),FALSE())) -> TRUE
D56: =IF(C56>0,":","") | G56: =IF(ISNUMBER(F56),":","") | M56: =IF(ISNUMBER(L56),IF(IF(F56>H56,1,"")=L56,I56,IF(IF(F56<H56,2,"")=L56,K56,IF(IF(F56=H56,0,"")=L56,J56,0))),"") | O56: =IF(ISBLANK(F56),"",IF(ISNUMBER(F56),IF(AND(F56>=0,F56<250),IF($F56<>$H56,IF(F56=0,TRUE(),IF(MOD(F56,1)=0,TRUE(),FALSE())),FALSE()),FALSE()),FALSE())) | P56: =IF(ISBLANK(H56),"",IF(ISNUMBER(H56),IF(AND(H56>=0,H56<250),IF($F56<>$H56,IF(H56=0,TRUE(),IF(MOD(H56,1)=0,TRUE(),FALSE())),FALSE()),FALSE()),FALSE()))
B57: Playoffs | C57: Clippers | D57: =IF(C57>0,":","") -> : | E57: Nuggets | F57: 101 | H57: 120 | I57: 2 | K57: 1.77 | L57: 2 | M57: =IF(ISNUMBER(L57),IF(IF(F57>H57,1,"")=L57,I57,IF(IF(F57<H57,2,"")=L57,K57,IF(IF(F57=H57,0,"")=L57,J57,0))),"") -> 1.77 | O57: =IF(ISBLANK(F57),"",IF(ISNUMBER(F57),IF(AND(F57>=0,F57<250),IF($F57<>$H57,IF(F57=0,TRUE(),IF(MOD(F57,1)=0,TRUE(),FALSE())),FALSE()),FALSE()),FALSE())) -> TRUE | P57: =IF(ISBLANK(H57),"",IF(ISNUMBER(H57),IF(AND(H57>=0,H57<250),IF($F57<>$H57,IF(H57=0,TRUE(),IF(MOD(H57,1)=0,TRUE(),FALSE())),FALSE()),FALSE()),FALSE())) -> TRUE
B58: Erste Runde | C58: Warriors | D58: =IF(C58>0,":","") -> : | E58: Rockets | F58: 103 | H58: 89 | I58: 2 | L58: 1 | M58: =IF(ISNUMBER(L58),IF(IF(F58>H58,1,"")=L58,I58,IF(IF(F58<H58,2,"")=L58,K58,IF(IF(F58=H58,0,"")=L58,J58,0))),"") -> 2 | N58: =SUM(M57:M58) -> 3.77 | O58: =IF(ISBLANK(F58),"",IF(ISNUMBER(F58),IF(AND(F58>=0,F58<250),IF($F58<>$H58,IF(F58=0,TRUE(),IF(MOD(F58,1)=0,TRUE(),FALSE())),FALSE()),FALSE()),FALSE())) -> TRUE | P58: =IF(ISBLANK(H58),"",IF(ISNUMBER(H58),IF(AND(H58>=0,H58<250),IF($F58<>$H58,IF(H58=0,TRUE(),IF(MOD(H58,1)=0,TRUE(),FALSE())),FALSE()),FALSE()),FALSE())) -> TRUE
B59: Spiel 7 | D59: =IF(C59>0,":","") | M59: =IF(ISNUMBER(L59),IF(IF(F59>H59,1,"")=L59,I59,IF(IF(F59<H59,2,"")=L59,K59,IF(IF(F59=H59,0,"")=L59,J59,0))),"") | O59: =IF(ISBLANK(F59),"",IF(ISNUMBER(F59),IF(AND(F59>=0,F59<250),IF($F59<>$H59,IF(F59=0,TRUE(),IF(MOD(F59,1)=0,TRUE(),FALSE())),FALSE()),FALSE()),FALSE())) | P59: =IF(ISBLANK(H59),"",IF(ISNUMBER(H59),IF(AND(H59>=0,H59<250),IF($F59<>$H59,IF(H59=0,TRUE(),IF(MOD(H59,1)=0,TRUE(),FALSE())),FALSE()),FALSE()),FALSE()))
D60: =IF(C60>0,":","") | M60: =IF(ISNUMBER(L60),IF(IF(F60>H60,1,"")=L60,I60,IF(IF(F60<H60,2,"")=L60,K60,IF(IF(F60=H60,0,"")=L60,J60,0))),"") | O60: =IF(ISBLANK(F60),"",IF(ISNUMBER(F60),IF(AND(F60>=0,F60<250),IF($F60<>$H60,IF(F60=0,TRUE(),IF(MOD(F60,1)=0,TRUE(),FALSE())),FALSE()),FALSE()),FALSE())) | P60: =IF(ISBLANK(H60),"",IF(ISNUMBER(H60),IF(AND(H60>=0,H60<250),IF($F60<>$H60,IF(H60=0,TRUE(),IF(MOD(H60,1)=0,TRUE(),FALSE())),FALSE()),FALSE()),FALSE()))
B61: Playoffs | C61: Pacers | D61: =IF(C61>0,":","") -> : | E61: Cavaliers | F61: 121 | H61: 112 | I61: 3.8 | K61: 1.25 | L61: 2 | M61: =IF(ISNUMBER(L61),IF(IF(F61>H61,1,"")=L61,I61,IF(IF(F61<H61,2,"")=L61,K61,IF(IF(F61=H61,0,"")=L61,J61,0))),"") -> 0 | O61: =IF(ISBLANK(F61),"",IF(ISNUMBER(F61),IF(AND(F61>=0,F61<250),IF($F61<>$H61,IF(F61=0,TRUE(),IF(MOD(F61,1)=0,TRUE(),FALSE())),FALSE()),FALSE()),FALSE())) -> TRUE | P61: =IF(ISBLANK(H61),"",IF(ISNUMBER(H61),IF(AND(H61>=0,H61<250),IF($F61<>$H61,IF(H61=0,TRUE(),IF(MOD(H61,1)=0,TRUE(),FALSE())),FALSE()),FALSE()),FALSE())) -> TRUE
B62: Zweite Runde | C62: Knicks | D62: =IF(C62>0,":","") -> : | E62: Celtics | F62: 108 | H62: 105 | I62: 4.1 | K62: 1.22 | L62: 2 | M62: =IF(ISNUMBER(L62),IF(IF(F62>H62,1,"")=L62,I62,IF(IF(F62<H62,2,"")=L62,K62,IF(IF(F62=H62,0,"")=L62,J62,0))),"") -> 0 | O62: =IF(ISBLANK(F62),"",IF(ISNUMBER(F62),IF(AND(F62>=0,F62<250),IF($F62<>$H62,IF(F62=0,TRUE(),IF(MOD(F62,1)=0,TRUE(),FALSE())),FALSE()),FALSE()),FALSE())) -> TRUE | P62: =IF(ISBLANK(H62),"",IF(ISNUMBER(H62),IF(AND(H62>=0,H62<250),IF($F62<>$H62,IF(H62=0,TRUE(),IF(MOD(H62,1)=0,TRUE(),FALSE())),FALSE()),FALSE()),FALSE())) -> TRUE
B63: Spiel 1 | C63: Nuggets | D63: =IF(C63>0,":","") -> : | E63: Thunder | F63: 121 | H63: 119 | I63: 4.1 | K63: 1.22 | L63: 2 | M63: =IF(ISNUMBER(L63),IF(IF(F63>H63,1,"")=L63,I63,IF(IF(F63<H63,2,"")=L63,K63,IF(IF(F63=H63,0,"")=L63,J63,0))),"") -> 0 | O63: =IF(ISBLANK(F63),"",IF(ISNUMBER(F63),IF(AND(F63>=0,F63<250),IF($F63<>$H63,IF(F63=0,TRUE(),IF(MOD(F63,1)=0,TRUE(),FALSE())),FALSE()),FALSE()),FALSE())) -> TRUE | P63: =IF(ISBLANK(H63),"",IF(ISNUMBER(H63),IF(AND(H63>=0,H63<250),IF($F63<>$H63,IF(H63=0,TRUE(),IF(MOD(H63,1)=0,TRUE(),FALSE())),FALSE()),FALSE()),FALSE())) -> TRUE
C64: Warriors | D64: =IF(C64>0,":","") -> : | E64: Timberwolves | F64: 99 | G64: =IF(ISNUMBER(F64),":","") -> : | H64: 88 | I64: 3.2 | K64: 1.33 | L64: 1 | M64: =IF(ISNUMBER(L64),IF(IF(F64>H64,1,"")=L64,I64,IF(IF(F64<H64,2,"")=L64,K64,IF(IF(F64=H64,0,"")=L64,J64,0))),"") -> 3.2 | N64: =SUM(M61:M64) -> 3.2 | O64: =IF(ISBLANK(F64),"",IF(ISNUMBER(F64),IF(AND(F64>=0,F64<250),IF($F64<>$H64,IF(F64=0,TRUE(),IF(MOD(F64,1)=0,TRUE(),FALSE())),FALSE()),FALSE()),FALSE())) -> TRUE | P64: =IF(ISBLANK(H64),"",IF(ISNUMBER(H64),IF(AND(H64>=0,H64<250),IF($F64<>$H64,IF(H64=0,TRUE(),IF(MOD(H64,1)=0,TRUE(),FALSE())),FALSE()),FALSE()),FALSE())) -> TRUE
D65: =IF(C65>0,":","") | G65: =IF(ISNUMBER(F65),":","") | M65: =IF(ISNUMBER(L65),IF(IF(F65>H65,1,"")=L65,I65,IF(IF(F65<H65,2,"")=L65,K65,IF(IF(F65=H65,0,"")=L65,J65,0))),"") | O65: =IF(ISBLANK(F65),"",IF(ISNUMBER(F65),IF(AND(F65>=0,F65<250),IF($F65<>$H65,IF(F65=0,TRUE(),IF(MOD(F65,1)=0,TRUE(),FALSE())),FALSE()),FALSE()),FALSE())) | P65: =IF(ISBLANK(H65),"",IF(ISNUMBER(H65),IF(AND(H65>=0,H65<250),IF($F65<>$H65,IF(H65=0,TRUE(),IF(MOD(H65,1)=0,TRUE(),FALSE())),FALSE()),FALSE()),FALSE()))
B66: Playoffs | C66: Pacers | D66: =IF(C66>0,":","") -> : | E66: Cavaliers | F66: 120 | G66: =IF(ISNUMBER(F66),":","") -> : | H66: 119 | I66: 4.4 | K66: 1.2 | L66: 2 | M66: =IF(ISNUMBER(L66),IF(IF(F66>H66,1,"")=L66,I66,IF(IF(F66<H66,2,"")=L66,K66,IF(IF(F66=H66,0,"")=L66,J66,0))),"") -> 0 | O66: =IF(ISBLANK(F66),"",IF(ISNUMBER(F66),IF(AND(F66>=0,F66<250),IF($F66<>$H66,IF(F66=0,TRUE(),IF(MOD(F66,1)=0,TRUE(),FALSE())),FALSE()),FALSE()),FALSE())) -> TRUE | P66: =IF(ISBLANK(H66),"",IF(ISNUMBER(H66),IF(AND(H66>=0,H66<250),IF($F66<>$H66,IF(H66=0,TRUE(),IF(MOD(H66,1)=0,TRUE(),FALSE())),FALSE()),FALSE()),FALSE())) -> TRUE
B67: Zweite Runde | C67: Knicks | D67: =IF(C67>0,":","") -> : | E67: Celtics | F67: 91 | G67: =IF(ISNUMBER(F67),":","") -> : | H67: 90 | I67: 4.6 | K67: 1.18 | L67: 1 | M67: =IF(ISNUMBER(L67),IF(IF(F67>H67,1,"")=L67,I67,IF(IF(F67<H67,2,"")=L67,K67,IF(IF(F67=H67,0,"")=L67,J67,0))),"") -> 4.6 | O67: =IF(ISBLANK(F67),"",IF(ISNUMBER(F67),IF(AND(F67>=0,F67<250),IF($F67<>$H67,IF(F67=0,TRUE(),IF(MOD(F67,1)=0,TRUE(),FALSE())),FALSE()),FALSE()),FALSE())) -> TRUE | P67: =IF(ISBLANK(H67),"",IF(ISNUMBER(H67),IF(AND(H67>=0,H67<250),IF($F67<>$H67,IF(H67=0,TRUE(),IF(MOD(H67,1)=0,TRUE(),FALSE())),FALSE()),FALSE()),FALSE())) -> TRUE
B68: Spiel 2 | C68: Nuggets | D68: =IF(C68>0,":","") -> : | E68: Thunder | F68: 106 | G68: =IF(ISNUMBER(F68),":","") -> : | H68: 149 | I68: 4.6 | K68: 1.18 | L68: 1 | M68: =IF(ISNUMBER(L68),IF(IF(F68>H68,1,"")=L68,I68,IF(IF(F68<H68,2,"")=L68,K68,IF(IF(F68=H68,0,"")=L68,J68,0))),"") -> 0 | O68: =IF(ISBLANK(F68),"",IF(ISNUMBER(F68),IF(AND(F68>=0,F68<250),IF($F68<>$H68,IF(F68=0,TRUE(),IF(MOD(F68,1)=0,TRUE(),FALSE())),FALSE()),FALSE()),FALSE())) -> TRUE | P68: =IF(ISBLANK(H68),"",IF(ISNUMBER(H68),IF(AND(H68>=0,H68<250),IF($F68<>$H68,IF(H68=0,TRUE(),IF(MOD(H68,1)=0,TRUE(),FALSE())),FALSE()),FALSE()),FALSE())) -> TRUE
C69: Warriors | D69: =IF(C69>0,":","") -> : | E69: Timberwolves | F69: 93 | G69: =IF(ISNUMBER(F69),":","") -> : | H69: 117 | I69: 4.6 | K69: 1.18 | L69: 1 | M69: =IF(ISNUMBER(L69),IF(IF(F69>H69,1,"")=L69,I69,IF(IF(F69<H69,2,"")=L69,K69,IF(IF(F69=H69,0,"")=L69,J69,0))),"") -> 0 | N69: =SUM(M66:M69) -> 4.6 | O69: =IF(ISBLANK(F69),"",IF(ISNUMBER(F69),IF(AND(F69>=0,F69<250),IF($F69<>$H69,IF(F69=0,TRUE(),IF(MOD(F69,1)=0,TRUE(),FALSE())),FALSE()),FALSE()),FALSE())) -> TRUE | P69: =IF(ISBLANK(H69),"",IF(ISNUMBER(H69),IF(AND(H69>=0,H69<250),IF($F69<>$H69,IF(H69=0,TRUE(),IF(MOD(H69,1)=0,TRUE(),FALSE())),FALSE()),FALSE()),FALSE())) -> TRUE
D70: =IF(C70>0,":","") | G70: =IF(ISNUMBER(F70),":","") | M70: =IF(ISNUMBER(L70),IF(IF(F70>H70,1,"")=L70,I70,IF(IF(F70<H70,2,"")=L70,K70,IF(IF(F70=H70,0,"")=L70,J70,0))),"") | O70: =IF(ISBLANK(F70),"",IF(ISNUMBER(F70),IF(AND(F70>=0,F70<250),IF($F70<>$H70,IF(F70=0,TRUE(),IF(MOD(F70,1)=0,TRUE(),FALSE())),FALSE()),FALSE()),FALSE())) | P70: =IF(ISBLANK(H70),"",IF(ISNUMBER(H70),IF(AND(H70>=0,H70<250),IF($F70<>$H70,IF(H70=0,TRUE(),IF(MOD(H70,1)=0,TRUE(),FALSE())),FALSE()),FALSE()),FALSE()))
B71: Playoffs | C71: Cavaliers | D71: =IF(C71>0,":","") -> : | E71: Pacers | F71: 126 | G71: =IF(ISNUMBER(F71),":","") -> : | H71: 104 | I71: 1.37 | K71: 2.35 | L71: 2 | M71: =IF(ISNUMBER(L71),IF(IF(F71>H71,1,"")=L71,I71,IF(IF(F71<H71,2,"")=L71,K71,IF(IF(F71=H71,0,"")=L71,J71,0))),"") -> 0 | O71: =IF(ISBLANK(F71),"",IF(ISNUMBER(F71),IF(AND(F71>=0,F71<250),IF($F71<>$H71,IF(F71=0,TRUE(),IF(MOD(F71,1)=0,TRUE(),FALSE())),FALSE()),FALSE()),FALSE())) -> TRUE | P71: =IF(ISBLANK(H71),"",IF(ISNUMBER(H71),IF(AND(H71>=0,H71<250),IF($F71<>$H71,IF(H71=0,TRUE(),IF(MOD(H71,1)=0,TRUE(),FALSE())),FALSE()),FALSE()),FALSE())) -> TRUE
B72: Zweite Runde | C72: Thunder | D72: =IF(C72>0,":","") -> : | E72: Nuggets | F72: 104 | G72: =IF(ISNUMBER(F72),":","") -> : | H72: 113 | I72: 1.42 | K72: 2.8 | L72: 1 | M72: =IF(ISNUMBER(L72),IF(IF(F72>H72,1,"")=L72,I72,IF(IF(F72<H72,2,"")=L72,K72,IF(IF(F72=H72,0,"")=L72,J72,0))),"") -> 0 | O72: =IF(ISBLANK(F72),"",IF(ISNUMBER(F72),IF(AND(F72>=0,F72<250),IF($F72<>$H72,IF(F72=0,TRUE(),IF(MOD(F72,1)=0,TRUE(),FALSE())),FALSE()),FALSE()),FALSE())) -> TRUE | P72: =IF(ISBLANK(H72),"",IF(ISNUMBER(H72),IF(AND(H72>=0,H72<250),IF($F72<>$H72,IF(H72=0,TRUE(),IF(MOD(H72,1)=0,TRUE(),FALSE())),FALSE()),FALSE()),FALSE())) -> TRUE
B73: Spiel 3 | C73: Celtics | D73: =IF(C73>0,":","") -> : | E73: Knicks | F73: 115 | G73: =IF(ISNUMBER(F73),":","") -> : | H73: 93 | I73: 1.4 | K73: 2.9 | L73: 2 | M73: =IF(ISNUMBER(L73),IF(IF(F73>H73,1,"")=L73,I73,IF(IF(F73<H73,2,"")=L73,K73,IF(IF(F73=H73,0,"")=L73,J73,0))),"") -> 0 | O73: =IF(ISBLANK(F73),"",IF(ISNUMBER(F73),IF(AND(F73>=0,F73<250),IF($F73<>$H73,IF(F73=0,TRUE(),IF(MOD(F73,1)=0,TRUE(),FALSE())),FALSE()),FALSE()),FALSE())) -> TRUE | P73: =IF(ISBLANK(H73),"",IF(ISNUMBER(H73),IF(AND(H73>=0,H73<250),IF($F73<>$H73,IF(H73=0,TRUE(),IF(MOD(H73,1)=0,TRUE(),FALSE())),FALSE()),FALSE()),FALSE())) -> TRUE
C74: Timberwolves | D74: =IF(C74>0,":","") -> : | E74: Warriors | F74: 102 | G74: =IF(ISNUMBER(F74),":","") -> : | H74: 97 | I74: 1.47 | K74: 2.65 | L74: 1 | M74: =IF(ISNUMBER(L74),IF(IF(F74>H74,1,"")=L74,I74,IF(IF(F74<H74,2,"")=L74,K74,IF(IF(F74=H74,0,"")=L74,J74,0))),"") -> 1.47 | N74: =SUM(M71:M74) -> 1.47 | O74: =IF(ISBLANK(F74),"",IF(ISNUMBER(F74),IF(AND(F74>=0,F74<250),IF($F74<>$H74,IF(F74=0,TRUE(),IF(MOD(F74,1)=0,TRUE(),FALSE())),FALSE()),FALSE()),FALSE())) -> TRUE | P74: =IF(ISBLANK(H74),"",IF(ISNUMBER(H74),IF(AND(H74>=0,H74<250),IF($F74<>$H74,IF(H74=0,TRUE(),IF(MOD(H74,1)=0,TRUE(),FALSE())),FALSE()),FALSE()),FALSE())) -> TRUE
D75: =IF(C75>0,":","") | G75: =IF(ISNUMBER(F75),":","") | M75: =IF(ISNUMBER(L75),IF(IF(F75>H75,1,"")=L75,I75,IF(IF(F75<H75,2,"")=L75,K75,IF(IF(F75=H75,0,"")=L75,J75,0))),"") | O75: =IF(ISBLANK(F75),"",IF(ISNUMBER(F75),IF(AND(F75>=0,F75<250),IF($F75<>$H75,IF(F75=0,TRUE(),IF(MOD(F75,1)=0,TRUE(),FALSE())),FALSE()),FALSE()),FALSE())) | P75: =IF(ISBLANK(H75),"",IF(ISNUMBER(H75),IF(AND(H75>=0,H75<250),IF($F75<>$H75,IF(H75=0,TRUE(),IF(MOD(H75,1)=0,TRUE(),FALSE())),FALSE()),FALSE()),FALSE()))
B76: Playoffs | C76: Cavaliers | D76: =IF(C76>0,":","") -> : | E76: Pacers | F76: 109 | G76: =IF(ISNUMBER(F76),":","") -> : | H76: 129 | I76: 1.4 | K76: 2.9 | L76: 1 | M76: =IF(ISNUMBER(L76),IF(IF(F76>H76,1,"")=L76,I76,IF(IF(F76<H76,2,"")=L76,K76,IF(IF(F76=H76,0,"")=L76,J76,0))),"") -> 0 | O76: =IF(ISBLANK(F76),"",IF(ISNUMBER(F76),IF(AND(F76>=0,F76<250),IF($F76<>$H76,IF(F76=0,TRUE(),IF(MOD(F76,1)=0,TRUE(),FALSE())),FALSE()),FALSE()),FALSE())) -> TRUE | P76: =IF(ISBLANK(H76),"",IF(ISNUMBER(H76),IF(AND(H76>=0,H76<250),IF($F76<>$H76,IF(H76=0,TRUE(),IF(MOD(H76,1)=0,TRUE(),FALSE())),FALSE()),FALSE()),FALSE())) -> TRUE
B77: Zweite Runde | C77: Celtics | D77: =IF(C77>0,":","") -> : | E77: Knicks | F77: 113 | G77: =IF(ISNUMBER(F77),":","") -> : | H77: 121 | I77: 1.35 | K77: 3.1 | L77: 1 | M77: =IF(ISNUMBER(L77),IF(IF(F77>H77,1,"")=L77,I77,IF(IF(F77<H77,2,"")=L77,K77,IF(IF(F77=H77,0,"")=L77,J77,0))),"") -> 0 | O77: =IF(ISBLANK(F77),"",IF(ISNUMBER(F77),IF(AND(F77>=0,F77<250),IF($F77<>$H77,IF(F77=0,TRUE(),IF(MOD(F77,1)=0,TRUE(),FALSE())),FALSE()),FALSE()),FALSE())) -> TRUE | P77: =IF(ISBLANK(H77),"",IF(ISNUMBER(H77),IF(AND(H77>=0,H77<250),IF($F77<>$H77,IF(H77=0,TRUE(),IF(MOD(H77,1)=0,TRUE(),FALSE())),FALSE()),FALSE()),FALSE())) -> TRUE
B78: Spiel 4 | C78: Timberwolves | D78: =IF(C78>0,":","") -> : | E78: Warriors | F78: 117 | G78: =IF(ISNUMBER(F78),":","") -> : | H78: 110 | I78: 1.47 | K78: 2.6 | L78: 1 | M78: =IF(ISNUMBER(L78),IF(IF(F78>H78,1,"")=L78,I78,IF(IF(F78<H78,2,"")=L78,K78,IF(IF(F78=H78,0,"")=L78,J78,0))),"") -> 1.47 | O78: =IF(ISBLANK(F78),"",IF(ISNUMBER(F78),IF(AND(F78>=0,F78<250),IF($F78<>$H78,IF(F78=0,TRUE(),IF(MOD(F78,1)=0,TRUE(),FALSE())),FALSE()),FALSE()),FALSE())) -> TRUE | P78: =IF(ISBLANK(H78),"",IF(ISNUMBER(H78),IF(AND(H78>=0,H78<250),IF($F78<>$H78,IF(H78=0,TRUE(),IF(MOD(H78,1)=0,TRUE(),FALSE())),FALSE()),FALSE()),FALSE())) -> TRUE
C79: Thunder | D79: =IF(C79>0,":","") -> : | E79: Nuggets | F79: 92 | G79: =IF(ISNUMBER(F79),":","") -> : | H79: 87 | I79: 1.37 | K79: 3 | L79: 1 | M79: =IF(ISNUMBER(L79),IF(IF(F79>H79,1,"")=L79,I79,IF(IF(F79<H79,2,"")=L79,K79,IF(IF(F79=H79,0,"")=L79,J79,0))),"") -> 1.37 | N79: =SUM(M76:M79) -> 2.84 | O79: =IF(ISBLANK(F79),"",IF(ISNUMBER(F79),IF(AND(F79>=0,F79<250),IF($F79<>$H79,IF(F79=0,TRUE(),IF(MOD(F79,1)=0,TRUE(),FALSE())),FALSE()),FALSE()),FALSE())) -> TRUE | P79: =IF(ISBLANK(H79),"",IF(ISNUMBER(H79),IF(AND(H79>=0,H79<250),IF($F79<>$H79,IF(H79=0,TRUE(),IF(MOD(H79,1)=0,TRUE(),FALSE())),FALSE()),FALSE()),FALSE())) -> TRUE
D80: =IF(C80>0,":","") | G80: =IF(ISNUMBER(F80),":","") | M80: =IF(ISNUMBER(L80),IF(IF(F80>H80,1,"")=L80,I80,IF(IF(F80<H80,2,"")=L80,K80,IF(IF(F80=H80,0,"")=L80,J80,0))),"") | O80: =IF(ISBLANK(F80),"",IF(ISNUMBER(F80),IF(AND(F80>=0,F80<250),IF($F80<>$H80,IF(F80=0,TRUE(),IF(MOD(F80,1)=0,TRUE(),FALSE())),FALSE()),FALSE()),FALSE())) | P80: =IF(ISBLANK(H80),"",IF(ISNUMBER(H80),IF(AND(H80>=0,H80<250),IF($F80<>$H80,IF(H80=0,TRUE(),IF(MOD(H80,1)=0,TRUE(),FALSE())),FALSE()),FALSE()),FALSE()))
D81: =IF(C81>0,":","") | G81: =IF(ISNUMBER(F81),":","") | M81: =IF(ISNUMBER(L81),IF(IF(F81>H81,1,"")=L81,I81,IF(IF(F81<H81,2,"")=L81,K81,IF(IF(F81=H81,0,"")=L81,J81,0))),"") | O81: =IF(ISBLANK(F81),"",IF(ISNUMBER(F81),IF(AND(F81>=0,F81<250),IF($F81<>$H81,IF(F81=0,TRUE(),IF(MOD(F81,1)=0,TRUE(),FALSE())),FALSE()),FALSE()),FALSE())) | P81: =IF(ISBLANK(H81),"",IF(ISNUMBER(H81),IF(AND(H81>=0,H81<250),IF($F81<>$H81,IF(H81=0,TRUE(),IF(MOD(H81,1)=0,TRUE(),FALSE())),FALSE()),FALSE()),FALSE()))
D82: =IF(C82>0,":","") | G82: =IF(ISNUMBER(F82),":","") | M82: =IF(ISNUMBER(L82),IF(IF(F82>H82,1,"")=L82,I82,IF(IF(F82<H82,2,"")=L82,K82,IF(IF(F82=H82,0,"")=L82,J82,0))),"") | O82: =IF(ISBLANK(F82),"",IF(ISNUMBER(F82),IF(AND(F82>=0,F82<250),IF($F82<>$H82,IF(F82=0,TRUE(),IF(MOD(F82,1)=0,TRUE(),FALSE())),FALSE()),FALSE()),FALSE())) | P82: =IF(ISBLANK(H82),"",IF(ISNUMBER(H82),IF(AND(H82>=0,H82<250),IF($F82<>$H82,IF(H82=0,TRUE(),IF(MOD(H82,1)=0,TRUE(),FALSE())),FALSE()),FALSE()),FALSE()))
D83: =IF(C83>0,":","") | G83: =IF(ISNUMBER(F83),":","") | M83: =IF(ISNUMBER(L83),IF(IF(F83>H83,1,"")=L83,I83,IF(IF(F83<H83,2,"")=L83,K83,IF(IF(F83=H83,0,"")=L83,J83,0))),"") | O83: =IF(ISBLANK(F83),"",IF(ISNUMBER(F83),IF(AND(F83>=0,F83<250),IF($F83<>$H83,IF(F83=0,TRUE(),IF(MOD(F83,1)=0,TRUE(),FALSE())),FALSE()),FALSE()),FALSE())) | P83: =IF(ISBLANK(H83),"",IF(ISNUMBER(H83),IF(AND(H83>=0,H83<250),IF($F83<>$H83,IF(H83=0,TRUE(),IF(MOD(H83,1)=0,TRUE(),FALSE())),FALSE()),FALSE()),FALSE()))
D84: =IF(C84>0,":","") | G84: =IF(ISNUMBER(F84),":","") | M84: =IF(ISNUMBER(L84),IF(IF(F84>H84,1,"")=L84,I84,IF(IF(F84<H84,2,"")=L84,K84,IF(IF(F84=H84,0,"")=L84,J84,0))),"") | O84: =IF(ISBLANK(F84),"",IF(ISNUMBER(F84),IF(AND(F84>=0,F84<250),IF($F84<>$H84,IF(F84=0,TRUE(),IF(MOD(F84,1)=0,TRUE(),FALSE())),FALSE()),FALSE()),FALSE())) | P84: =IF(ISBLANK(H84),"",IF(ISNUMBER(H84),IF(AND(H84>=0,H84<250),IF($F84<>$H84,IF(H84=0,TRUE(),IF(MOD(H84,1)=0,TRUE(),FALSE())),FALSE()),FALSE()),FALSE()))
D85: =IF(C85>0,":","") | G85: =IF(ISNUMBER(F85),":","") | M85: =IF(ISNUMBER(L85),IF(IF(F85>H85,1,"")=L85,I85,IF(IF(F85<H85,2,"")=L85,K85,IF(IF(F85=H85,0,"")=L85,J85,0))),"") | O85: =IF(ISBLANK(F85),"",IF(ISNUMBER(F85),IF(AND(F85>=0,F85<250),IF($F85<>$H85,IF(F85=0,TRUE(),IF(MOD(F85,1)=0,TRUE(),FALSE())),FALSE()),FALSE()),FALSE())) | P85: =IF(ISBLANK(H85),"",IF(ISNUMBER(H85),IF(AND(H85>=0,H85<250),IF($F85<>$H85,IF(H85=0,TRUE(),IF(MOD(H85,1)=0,TRUE(),FALSE())),FALSE()),FALSE()),FALSE()))
D86: =IF(C86>0,":","") | G86: =IF(ISNUMBER(F86),":","") | M86: =IF(ISNUMBER(L86),IF(IF(F86>H86,1,"")=L86,I86,IF(IF(F86<H86,2,"")=L86,K86,IF(IF(F86=H86,0,"")=L86,J86,0))),"") | O86: =IF(ISBLANK(F86),"",IF(ISNUMBER(F86),IF(AND(F86>=0,F86<250),IF($F86<>$H86,IF(F86=0,TRUE(),IF(MOD(F86,1)=0,TRUE(),FALSE())),FALSE()),FALSE()),FALSE())) | P86: =IF(ISBLANK(H86),"",IF(ISNUMBER(H86),IF(AND(H86>=0,H86<250),IF($F86<>$H86,IF(H86=0,TRUE(),IF(MOD(H86,1)=0,TRUE(),FALSE())),FALSE()),FALSE()),FALSE()))
D87: =IF(C87>0,":","") | G87: =IF(ISNUMBER(F87),":","") | M87: =IF(ISNUMBER(L87),IF(IF(F87>H87,1,"")=L87,I87,IF(IF(F87<H87,2,"")=L87,K87,IF(IF(F87=H87,0,"")=L87,J87,0))),"") | O87: =IF(ISBLANK(F87),"",IF(ISNUMBER(F87),IF(AND(F87>=0,F87<250),IF($F87<>$H87,IF(F87=0,TRUE(),IF(MOD(F87,1)=0,TRUE(),FALSE())),FALSE()),FALSE()),FALSE())) | P87: =IF(ISBLANK(H87),"",IF(ISNUMBER(H87),IF(AND(H87>=0,H87<250),IF($F87<>$H87,IF(H87=0,TRUE(),IF(MOD(H87,1)=0,TRUE(),FALSE())),FALSE()),FALSE()),FALSE()))
D88: =IF(C88>0,":","") | G88: =IF(ISNUMBER(F88),":","") | M88: =IF(ISNUMBER(L88),IF(IF(F88>H88,1,"")=L88,I88,IF(IF(F88<H88,2,"")=L88,K88,IF(IF(F88=H88,0,"")=L88,J88,0))),"") | O88: =IF(ISBLANK(F88),"",IF(ISNUMBER(F88),IF(AND(F88>=0,F88<250),IF($F88<>$H88,IF(F88=0,TRUE(),IF(MOD(F88,1)=0,TRUE(),FALSE())),FALSE()),FALSE()),FALSE())) | P88: =IF(ISBLANK(H88),"",IF(ISNUMBER(H88),IF(AND(H88>=0,H88<250),IF($F88<>$H88,IF(H88=0,TRUE(),IF(MOD(H88,1)=0,TRUE(),FALSE())),FALSE()),FALSE()),FALSE()))
D89: =IF(C89>0,":","") | G89: =IF(ISNUMBER(F89),":","") | M89: =IF(ISNUMBER(L89),IF(IF(F89>H89,1,"")=L89,I89,IF(IF(F89<H89,2,"")=L89,K89,IF(IF(F89=H89,0,"")=L89,J89,0))),"") | O89: =IF(ISBLANK(F89),"",IF(ISNUMBER(F89),IF(AND(F89>=0,F89<250),IF($F89<>$H89,IF(F89=0,TRUE(),IF(MOD(F89,1)=0,TRUE(),FALSE())),FALSE()),FALSE()),FALSE())) | P89: =IF(ISBLANK(H89),"",IF(ISNUMBER(H89),IF(AND(H89>=0,H89<250),IF($F89<>$H89,IF(H89=0,TRUE(),IF(MOD(H89,1)=0,TRUE(),FALSE())),FALSE()),FALSE()),FALSE()))
D90: =IF(C90>0,":","") | G90: =IF(ISNUMBER(F90),":","") | M90: =IF(ISNUMBER(L90),IF(IF(F90>H90,1,"")=L90,I90,IF(IF(F90<H90,2,"")=L90,K90,IF(IF(F90=H90,0,"")=L90,J90,0))),"") | O90: =IF(ISBLANK(F90),"",IF(ISNUMBER(F90),IF(AND(F90>=0,F90<250),IF($F90<>$H90,IF(F90=0,TRUE(),IF(MOD(F90,1)=0,TRUE(),FALSE())),FALSE()),FALSE()),FALSE())) | P90: =IF(ISBLANK(H90),"",IF(ISNUMBER(H90),IF(AND(H90>=0,H90<250),IF($F90<>$H90,IF(H90=0,TRUE(),IF(MOD(H90,1)=0,TRUE(),FALSE())),FALSE()),FALSE()),FALSE()))
D91: =IF(C91>0,":","") | G91: =IF(ISNUMBER(F91),":","") | M91: =IF(ISNUMBER(L91),IF(IF(F91>H91,1,"")=L91,I91,IF(IF(F91<H91,2,"")=L91,K91,IF(IF(F91=H91,0,"")=L91,J91,0))),"") | O91: =IF(ISBLANK(F91),"",IF(ISNUMBER(F91),IF(AND(F91>=0,F91<250),IF($F91<>$H91,IF(F91=0,TRUE(),IF(MOD(F91,1)=0,TRUE(),FALSE())),FALSE()),FALSE()),FALSE())) | P91: =IF(ISBLANK(H91),"",IF(ISNUMBER(H91),IF(AND(H91>=0,H91<250),IF($F91<>$H91,IF(H91=0,TRUE(),IF(MOD(H91,1)=0,TRUE(),FALSE())),FALSE()),FALSE()),FALSE()))
... D100: =IF(C100>0,":","") | G100: =IF(ISNUMBER(F100),":","") | M100: =IF(ISNUMBER(L100),IF(IF(F100>H100,1,"")=L100,I100,IF(IF(F100<H100,2,"")=L100,K100,IF(IF(F100=H100,0,"")=L100,J100,0))),"") | O100: =IF(ISBLANK(F100),"",IF(ISNUMBER(F100),IF(AND(F100>=0,F100<250),IF($F100<>$H100,IF(F100=0,TRUE(),IF(MOD(F100,1)=0,TRUE(),FALSE())),FALSE()),FALSE()),FALSE())) | P100: =IF(ISBLANK(H100),"",IF(ISNUMBER(H100),IF(AND(H100>=0,H100<250),IF($F100<>$H100,IF(H100=0,TRUE(),IF(MOD(H100,1)=0,TRUE(),FALSE())),FALSE()),FALSE()),FALSE()))

Sheet Freaky91
A1: Freaky91 | B1: Spieltag | C1: Auswärts | E1: Heim | F1: Ergebnis | I1: 1 | J1: 2 | K1: 2 | L1: Tipp | M1: Richtig | N1: Gesamt | O1: Gültigk. D | P1: Gültik. F
B2: Play-Ins East | C2: Hawks | D2: =IF(C2>0,":","") -> : | E2: Magic | F2: 95 | G2: =IF(ISNUMBER(F2),":","") -> : | H2: 120 | I2: 2.6 | K2: 1.45 | L2: 2 | M2: =IF(ISNUMBER(L2),IF(IF(F2>H2,1,"")=L2,I2,IF(IF(F2<H2,2,"")=L2,K2,IF(IF(F2=H2,0,"")=L2,J2,0))),"") -> 1.45 | O2: =IF(ISBLANK(F2),"",IF(ISNUMBER(F2),IF(AND(F2>=0,F2<250),IF($F2<>$H2,IF(F2=0,TRUE(),IF(MOD(F2,1)=0,TRUE(),FALSE())),FALSE()),FALSE()),FALSE())) -> TRUE | P2: =IF(ISBLANK(H2),"",IF(ISNUMBER(H2),IF(AND(H2>=0,H2<250),IF($F2<>$H2,IF(H2=0,TRUE(),IF(MOD(H2,1)=0,TRUE(),FALSE())),FALSE()),FALSE()),FALSE())) -> TRUE
C3: Heat | D3: =IF(C3>0,":","") -> : | E3: Bulls | F3: 109 | G3: =IF(ISNUMBER(F3),":","") -> : | H3: 90 | I3: 1.97 | K3: 1.8 | L3: 2 | M3: =IF(ISNUMBER(L3),IF(IF(F3>H3,1,"")=L3,I3,IF(IF(F3<H3,2,"")=L3,K3,IF(IF(F3=H3,0,"")=L3,J3,0))),"") -> 0 | O3: =IF(ISBLANK(F3),"",IF(ISNUMBER(F3),IF(AND(F3>=0,F3<250),IF($F3<>$H3,IF(F3=0,TRUE(),IF(MOD(F3,1)=0,TRUE(),FALSE())),FALSE()),FALSE()),FALSE())) -> TRUE | P3: =IF(ISBLANK(H3),"",IF(ISNUMBER(H3),IF(AND(H3>=0,H3<250),IF($F3<>$H3,IF(H3=0,TRUE(),IF(MOD(H3,1)=0,TRUE(),FALSE())),FALSE()),FALSE()),FALSE())) -> TRUE
B4: Play-Ins West | C4: Grizzlies | D4: =IF(C4>0,":","") -> : | E4: Warriors | F4: 116 | G4: =IF(ISNUMBER(F4),":","") -> : | H4: 121 | I4: 3.3 | K4: 1.32 | L4: 1 | M4: =IF(ISNUMBER(L4),IF(IF(F4>H4,1,"")=L4,I4,IF(IF(F4<H4,2,"")=L4,K4,IF(IF(F4=H4,0,"")=L4,J4,0))),"") -> 0 | O4: =IF(ISBLANK(F4),"",IF(ISNUMBER(F4),IF(AND(F4>=0,F4<250),IF($F4<>$H4,IF(F4=0,TRUE(),IF(MOD(F4,1)=0,TRUE(),FALSE())),FALSE()),FALSE()),FALSE())) -> TRUE | P4: =IF(ISBLANK(H4),"",IF(ISNUMBER(H4),IF(AND(H4>=0,H4<250),IF($F4<>$H4,IF(H4=0,TRUE(),IF(MOD(H4,1)=0,TRUE(),FALSE())),FALSE()),FALSE()),FALSE())) -> TRUE
C5: Mavericks | D5: =IF(C5>0,":","") -> : | E5: Kings | F5: 120 | G5: =IF(ISNUMBER(F5),":","") -> : | H5: 106 | I5: 2.55 | K5: 1.5 | L5: 1 | M5: =IF(ISNUMBER(L5),IF(IF(F5>H5,1,"")=L5,I5,IF(IF(F5<H5,2,"")=L5,K5,IF(IF(F5=H5,0,"")=L5,J5,0))),"") -> 2.55 | N5: =SUM(M2:M5) -> 4 | O5: =IF(ISBLANK(F5),"",IF(ISNUMBER(F5),IF(AND(F5>=0,F5<250),IF($F5<>$H5,IF(F5=0,TRUE(),IF(MOD(F5,1)=0,TRUE(),FALSE())),FALSE()),FALSE()),FALSE())) -> TRUE | P5: =IF(ISBLANK(H5),"",IF(ISNUMBER(H5),IF(AND(H5>=0,H5<250),IF($F5<>$H5,IF(H5=0,TRUE(),IF(MOD(H5,1)=0,TRUE(),FALSE())),FALSE()),FALSE()),FALSE())) -> TRUE
D6: =IF(C6>0,":","") | G6: =IF(ISNUMBER(F6),":","") | M6: =IF(ISNUMBER(L6),IF(IF(F6>H6,1,"")=L6,I6,IF(IF(F6<H6,2,"")=L6,K6,IF(IF(F6=H6,0,"")=L6,J6,0))),"") | O6: =IF(ISBLANK(F6),"",IF(ISNUMBER(F6),IF(AND(F6>=0,F6<250),IF($F6<>$H6,IF(F6=0,TRUE(),IF(MOD(F6,1)=0,TRUE(),FALSE())),FALSE()),FALSE()),FALSE())) | P6: =IF(ISBLANK(H6),"",IF(ISNUMBER(H6),IF(AND(H6>=0,H6<250),IF($F6<>$H6,IF(H6=0,TRUE(),IF(MOD(H6,1)=0,TRUE(),FALSE())),FALSE()),FALSE()),FALSE()))
B7: Play-Ins East | C7: Heat | D7: =IF(C7>0,":","") -> : | E7: Hawks | F7: 123 | G7: =IF(ISNUMBER(F7),":","") -> : | H7: 114 | I7: 1.83 | K7: 1.93 | M7: =IF(ISNUMBER(L7),IF(IF(F7>H7,1,"")=L7,I7,IF(IF(F7<H7,2,"")=L7,K7,IF(IF(F7=H7,0,"")=L7,J7,0))),"") | O7: =IF(ISBLANK(F7),"",IF(ISNUMBER(F7),IF(AND(F7>=0,F7<250),IF($F7<>$H7,IF(F7=0,TRUE(),IF(MOD(F7,1)=0,TRUE(),FALSE())),FALSE()),FALSE()),FALSE())) -> TRUE | P7: =IF(ISBLANK(H7),"",IF(ISNUMBER(H7),IF(AND(H7>=0,H7<250),IF($F7<>$H7,IF(H7=0,TRUE(),IF(MOD(H7,1)=0,TRUE(),FALSE())),FALSE()),FALSE()),FALSE())) -> TRUE
B8: Play-Ins West | C8: Mavericks | D8: =IF(C8>0,":","") -> : | E8: Grizzlies | F8: 106 | G8: =IF(ISNUMBER(F8),":","") -> : | H8: 120 | I8: 2.9 | K8: 1.4 | M8: =IF(ISNUMBER(L8),IF(IF(F8>H8,1,"")=L8,I8,IF(IF(F8<H8,2,"")=L8,K8,IF(IF(F8=H8,0,"")=L8,J8,0))),"") | N8: =SUM(M7:M8) -> 0 | O8: =IF(ISBLANK(F8),"",IF(ISNUMBER(F8),IF(AND(F8>=0,F8<250),IF($F8<>$H8,IF(F8=0,TRUE(),IF(MOD(F8,1)=0,TRUE(),FALSE())),FALSE()),FALSE()),FALSE())) -> TRUE | P8: =IF(ISBLANK(H8),"",IF(ISNUMBER(H8),IF(AND(H8>=0,H8<250),IF($F8<>$H8,IF(H8=0,TRUE(),IF(MOD(H8,1)=0,TRUE(),FALSE())),FALSE()),FALSE()),FALSE())) -> TRUE
D9: =IF(C9>0,":","") | G9: =IF(ISNUMBER(F9),":","") | M9: =IF(ISNUMBER(L9),IF(IF(F9>H9,1,"")=L9,I9,IF(IF(F9<H9,2,"")=L9,K9,IF(IF(F9=H9,0,"")=L9,J9,0))),"") | O9: =IF(ISBLANK(F9),"",IF(ISNUMBER(F9),IF(AND(F9>=0,F9<250),IF($F9<>$H9,IF(F9=0,TRUE(),IF(MOD(F9,1)=0,TRUE(),FALSE())),FALSE()),FALSE()),FALSE())) | P9: =IF(ISBLANK(H9),"",IF(ISNUMBER(H9),IF(AND(H9>=0,H9<250),IF($F9<>$H9,IF(H9=0,TRUE(),IF(MOD(H9,1)=0,TRUE(),FALSE())),FALSE()),FALSE()),FALSE()))
B10: Playoffs | C10: Bucks | D10: =IF(C10>0,":","") -> : | E10: Pacers | F10: 98 | G10: =IF(ISNUMBER(F10),":","") -> : | H10: 117 | I10: 2.6 | K10: 1.47 | M10: =IF(ISNUMBER(L10),IF(IF(F10>H10,1,"")=L10,I10,IF(IF(F10<H10,2,"")=L10,K10,IF(IF(F10=H10,0,"")=L10,J10,0))),"") | O10: =IF(ISBLANK(F10),"",IF(ISNUMBER(F10),IF(AND(F10>=0,F10<250),IF($F10<>$H10,IF(F10=0,TRUE(),IF(MOD(F10,1)=0,TRUE(),FALSE())),FALSE()),FALSE()),FALSE())) -> TRUE | P10: =IF(ISBLANK(H10),"",IF(ISNUMBER(H10),IF(AND(H10>=0,H10<250),IF($F10<>$H10,IF(H10=0,TRUE(),IF(MOD(H10,1)=0,TRUE(),FALSE())),FALSE()),FALSE()),FALSE())) -> TRUE
B11: Erste Runde | C11: Clippers | D11: =IF(C11>0,":","") -> : | E11: Nuggets | F11: 110 | G11: =IF(ISNUMBER(F11),":","") -> : | H11: 112 | I11: 2.2 | K11: 1.63 | M11: =IF(ISNUMBER(L11),IF(IF(F11>H11,1,"")=L11,I11,IF(IF(F11<H11,2,"")=L11,K11,IF(IF(F11=H11,0,"")=L11,J11,0))),"") | O11: =IF(ISBLANK(F11),"",IF(ISNUMBER(F11),IF(AND(F11>=0,F11<250),IF($F11<>$H11,IF(F11=0,TRUE(),IF(MOD(F11,1)=0,TRUE(),FALSE())),FALSE()),FALSE()),FALSE())) -> TRUE | P11: =IF(ISBLANK(H11),"",IF(ISNUMBER(H11),IF(AND(H11>=0,H11<250),IF($F11<>$H11,IF(H11=0,TRUE(),IF(MOD(H11,1)=0,TRUE(),FALSE())),FALSE()),FALSE()),FALSE())) -> TRUE
B12: Spiel 1 | C12: Pistons | D12: =IF(C12>0,":","") -> : | E12: Knicks | F12: 112 | G12: =IF(ISNUMBER(F12),":","") -> : | H12: 123 | I12: 3.3 | K12: 1.32 | M12: =IF(ISNUMBER(L12),IF(IF(F12>H12,1,"")=L12,I12,IF(IF(F12<H12,2,"")=L12,K12,IF(IF(F12=H12,0,"")=L12,#REF!,0))),"") | O12: =IF(ISBLANK(F12),"",IF(ISNUMBER(F12),IF(AND(F12>=0,F12<250),IF($F12<>$H12,IF(F12=0,TRUE(),IF(MOD(F12,1)=0,TRUE(),FALSE())),FALSE()),FALSE()),FALSE())) -> TRUE | P12: =IF(ISBLANK(H12),"",IF(ISNUMBER(H12),IF(AND(H12>=0,H12<250),IF($F12<>$H12,IF(H12=0,TRUE(),IF(MOD(H12,1)=0,TRUE(),FALSE())),FALSE()),FALSE()),FALSE())) -> TRUE
C13: Timberwolves | D13: =IF(C13>0,":","") -> : | E13: Lakers | F13: 117 | G13: =IF(ISNUMBER(F13),":","") -> : | H13: 95 | I13: 2.5 | K13: 1.52 | M13: =IF(ISNUMBER(L13),IF(IF(F13>H13,1,"")=L13,I13,IF(IF(F13<H13,2,"")=L13,K13,IF(IF(F13=H13,0,"")=L13,J13,0))),"") | O13: =IF(ISBLANK(F13),"",IF(ISNUMBER(F13),IF(AND(F13>=0,F13<250),IF($F13<>$H13,IF(F13=0,TRUE(),IF(MOD(F13,1)=0,TRUE(),FALSE())),FALSE()),FALSE()),FALSE())) -> TRUE | P13: =IF(ISBLANK(H13),"",IF(ISNUMBER(H13),IF(AND(H13>=0,H13<250),IF($F13<>$H13,IF(H13=0,TRUE(),IF(MOD(H13,1)=0,TRUE(),FALSE())),FALSE()),FALSE()),FALSE())) -> TRUE
C14: Magic | D14: =IF(C14>0,":","") -> : | E14: Celtics | F14: 86 | G14: =IF(ISNUMBER(F14),":","") -> : | H14: 103 | I14: 7.8 | K14: 1.07 | M14: =IF(ISNUMBER(L14),IF(IF(F14>H14,1,"")=L14,I14,IF(IF(F14<H14,2,"")=L14,K14,IF(IF(F14=H14,0,"")=L14,J14,0))),"") | O14: =IF(ISBLANK(F14),"",IF(ISNUMBER(F14),IF(AND(F14>=0,F14<250),IF($F14<>$H14,IF(F14=0,TRUE(),IF(MOD(F14,1)=0,TRUE(),FALSE())),FALSE()),FALSE()),FALSE())) -> TRUE | P14: =IF(ISBLANK(H14),"",IF(ISNUMBER(H14),IF(AND(H14>=0,H14<250),IF($F14<>$H14,IF(H14=0,TRUE(),IF(MOD(H14,1)=0,TRUE(),FALSE())),FALSE()),FALSE()),FALSE())) -> TRUE
C15: Warriors | D15: =IF(C15>0,":","") -> : | E15: Rockets | F15: 95 | G15: =IF(ISNUMBER(F15),":","") -> : | H15: 85 | I15: 1.93 | K15: 1.83 | M15: =IF(ISNUMBER(L15),IF(IF(F15>H15,1,"")=L15,I15,IF(IF(F15<H15,2,"")=L15,K15,IF(IF(F15=H15,0,"")=L15,J15,0))),"") | O15: =IF(ISBLANK(F15),"",IF(ISNUMBER(F15),IF(AND(F15>=0,F15<250),IF($F15<>$H15,IF(F15=0,TRUE(),IF(MOD(F15,1)=0,TRUE(),FALSE())),FALSE()),FALSE()),FALSE())) -> TRUE | P15: =IF(ISBLANK(H15),"",IF(ISNUMBER(H15),IF(AND(H15>=0,H15<250),IF($F15<>$H15,IF(H15=0,TRUE(),IF(MOD(H15,1)=0,TRUE(),FALSE())),FALSE()),FALSE()),FALSE())) -> TRUE
C16: Grizzlies | D16: =IF(C16>0,":","") -> : | E16: Thunder | F16: 80 | G16: =IF(ISNUMBER(F16),":","") -> : | H16: 131 | I16: 5.5 | K16: 1.14 | L16: 2 | M16: =IF(ISNUMBER(L16),IF(IF(F16>H16,1,"")=L16,I16,IF(IF(F16<H16,2,"")=L16,K16,IF(IF(F16=H16,0,"")=L16,J16,0))),"") -> 1.14 | O16: =IF(ISBLANK(F16),"",IF(ISNUMBER(F16),IF(AND(F16>=0,F16<250),IF($F16<>$H16,IF(F16=0,TRUE(),IF(MOD(F16,1)=0,TRUE(),FALSE())),FALSE()),FALSE()),FALSE())) -> TRUE | P16: =IF(ISBLANK(H16),"",IF(ISNUMBER(H16),IF(AND(H16>=0,H16<250),IF($F16<>$H16,IF(H16=0,TRUE(),IF(MOD(H16,1)=0,TRUE(),FALSE())),FALSE()),FALSE()),FALSE())) -> TRUE
C17: Heat | D17: =IF(C17>0,":","") -> : | E17: Cavaliers | F17: 100 | G17: =IF(ISNUMBER(F17),":","") -> : | H17: 121 | I17: 6.5 | K17: 1.1 | L17: 2 | M17: =IF(ISNUMBER(L17),IF(IF(F17>H17,1,"")=L17,I17,IF(IF(F17<H17,2,"")=L17,K17,IF(IF(F17=H17,0,"")=L17,J17,0))),"") -> 1.1 | N17: =SUM(M10:M17) -> 2.24 | O17: =IF(ISBLANK(F17),"",IF(ISNUMBER(F17),IF(AND(F17>=0,F17<250),IF($F17<>$H17,IF(F17=0,TRUE(),IF(MOD(F17,1)=0,TRUE(),FALSE())),FALSE()),FALSE()),FALSE())) -> TRUE | P17: =IF(ISBLANK(H17),"",IF(ISNUMBER(H17),IF(AND(H17>=0,H17<250),IF($F17<>$H17,IF(H17=0,TRUE(),IF(MOD(H17,1)=0,TRUE(),FALSE())),FALSE()),FALSE()),FALSE())) -> TRUE
D18: =IF(C18>0,":","") | G18: =IF(ISNUMBER(F18),":","") | M18: =IF(ISNUMBER(L18),IF(IF(F18>H18,1,"")=L18,I18,IF(IF(F18<H18,2,"")=L18,K18,IF(IF(F18=H18,0,"")=L18,J18,0))),"") | O18: =IF(ISBLANK(F18),"",IF(ISNUMBER(F18),IF(AND(F18>=0,F18<250),IF($F18<>$H18,IF(F18=0,TRUE(),IF(MOD(F18,1)=0,TRUE(),FALSE())),FALSE()),FALSE()),FALSE())) | P18: =IF(ISBLANK(H18),"",IF(ISNUMBER(H18),IF(AND(H18>=0,H18<250),IF($F18<>$H18,IF(H18=0,TRUE(),IF(MOD(H18,1)=0,TRUE(),FALSE())),FALSE()),FALSE()),FALSE()))
B19: Playoffs | C19: Pistons | D19: =IF(C19>0,":","") -> : | E19: Knicks | F19: 100 | G19: =IF(ISNUMBER(F19),":","") -> : | H19: 94 | I19: 3 | K19: 1.37 | M19: =IF(ISNUMBER(L19),IF(IF(F19>H19,1,"")=L19,I19,IF(IF(F19<H19,2,"")=L19,K19,IF(IF(F19=H19,0,"")=L19,J19,0))),"") | O19: =IF(ISBLANK(F19),"",IF(ISNUMBER(F19),IF(AND(F19>=0,F19<250),IF($F19<>$H19,IF(F19=0,TRUE(),IF(MOD(F19,1)=0,TRUE(),FALSE())),FALSE()),FALSE()),FALSE())) -> TRUE | P19: =IF(ISBLANK(H19),"",IF(ISNUMBER(H19),IF(AND(H19>=0,H19<250),IF($F19<>$H19,IF(H19=0,TRUE(),IF(MOD(H19,1)=0,TRUE(),FALSE())),FALSE()),FALSE()),FALSE())) -> TRUE
B20: Erste Runde | C20: Clippers | D20: =IF(C20>0,":","") -> : | E20: Nuggets | F20: 105 | G20: =IF(ISNUMBER(F20),":","") -> : | H20: 102 | I20: 1.83 | K20: 1.93 | M20: =IF(ISNUMBER(L20),IF(IF(F20>H20,1,"")=L20,I20,IF(IF(F20<H20,2,"")=L20,K20,IF(IF(F20=H20,0,"")=L20,J20,0))),"") | O20: =IF(ISBLANK(F20),"",IF(ISNUMBER(F20),IF(AND(F20>=0,F20<250),IF($F20<>$H20,IF(F20=0,TRUE(),IF(MOD(F20,1)=0,TRUE(),FALSE())),FALSE()),FALSE()),FALSE())) -> TRUE | P20: =IF(ISBLANK(H20),"",IF(ISNUMBER(H20),IF(AND(H20>=0,H20<250),IF($F20<>$H20,IF(H20=0,TRUE(),IF(MOD(H20,1)=0,TRUE(),FALSE())),FALSE()),FALSE()),FALSE())) -> TRUE
B21: Spiel 2 | C21: Bucks | D21: =IF(C21>0,":","") -> : | E21: Pacers | F21: 115 | G21: =IF(ISNUMBER(F21),":","") -> : | H21: 123 | I21: 2.6 | K21: 1.47 | M21: =IF(ISNUMBER(L21),IF(IF(F21>H21,1,"")=L21,I21,IF(IF(F21<H21,2,"")=L21,K21,IF(IF(F21=H21,0,"")=L21,J21,0))),"") | O21: =IF(ISBLANK(F21),"",IF(ISNUMBER(F21),IF(AND(F21>=0,F21<250),IF($F21<>$H21,IF(F21=0,TRUE(),IF(MOD(F21,1)=0,TRUE(),FALSE())),FALSE()),FALSE()),FALSE())) -> TRUE | P21: =IF(ISBLANK(H21),"",IF(ISNUMBER(H21),IF(AND(H21>=0,H21<250),IF($F21<>$H21,IF(H21=0,TRUE(),IF(MOD(H21,1)=0,TRUE(),FALSE())),FALSE()),FALSE()),FALSE())) -> TRUE
C22: Grizzlies | D22: =IF(C22>0,":","") -> : | E22: Thunder | F22: 99 | G22: =IF(ISNUMBER(F22),":","") -> : | H22: 118 | I22: 8.5 | K22: 1.06 | M22: =IF(ISNUMBER(L22),IF(IF(F22>H22,1,"")=L22,I22,IF(IF(F22<H22,2,"")=L22,K22,IF(IF(F22=H22,0,"")=L22,J22,0))),"") | O22: =IF(ISBLANK(F22),"",IF(ISNUMBER(F22),IF(AND(F22>=0,F22<250),IF($F22<>$H22,IF(F22=0,TRUE(),IF(MOD(F22,1)=0,TRUE(),FALSE())),FALSE()),FALSE()),FALSE())) -> TRUE | P22: =IF(ISBLANK(H22),"",IF(ISNUMBER(H22),IF(AND(H22>=0,H22<250),IF($F22<>$H22,IF(H22=0,TRUE(),IF(MOD(H22,1)=0,TRUE(),FALSE())),FALSE()),FALSE()),FALSE())) -> TRUE
C23: Timberwolves | D23: =IF(C23>0,":","") -> : | E23: Lakers | F23: 85 | G23: =IF(ISNUMBER(F23),":","") -> : | H23: 94 | I23: 3.1 | K23: 1.35 | M23: =IF(ISNUMBER(L23),IF(IF(F23>H23,1,"")=L23,I23,IF(IF(F23<H23,2,"")=L23,K23,IF(IF(F23=H23,0,"")=L23,J23,0))),"") | O23: =IF(ISBLANK(F23),"",IF(ISNUMBER(F23),IF(AND(F23>=0,F23<250),IF($F23<>$H23,IF(F23=0,TRUE(),IF(MOD(F23,1)=0,TRUE(),FALSE())),FALSE()),FALSE()),FALSE())) -> TRUE | P23: =IF(ISBLANK(H23),"",IF(ISNUMBER(H23),IF(AND(H23>=0,H23<250),IF($F23<>$H23,IF(H23=0,TRUE(),IF(MOD(H23,1)=0,TRUE(),FALSE())),FALSE()),FALSE()),FALSE())) -> TRUE
C24: Magic | D24: =IF(C24>0,":","") -> : | E24: Celtics | F24: 100 | G24: =IF(ISNUMBER(F24),":","") -> : | H24: 109 | I24: 6.2 | K24: 1.11 | M24: =IF(ISNUMBER(L24),IF(IF(F24>H24,1,"")=L24,I24,IF(IF(F24<H24,2,"")=L24,K24,IF(IF(F24=H24,0,"")=L24,J24,0))),"") | O24: =IF(ISBLANK(F24),"",IF(ISNUMBER(F24),IF(AND(F24>=0,F24<250),IF($F24<>$H24,IF(F24=0,TRUE(),IF(MOD(F24,1)=0,TRUE(),FALSE())),FALSE()),FALSE()),FALSE())) -> TRUE | P24: =IF(ISBLANK(H24),"",IF(ISNUMBER(H24),IF(AND(H24>=0,H24<250),IF($F24<>$H24,IF(H24=0,TRUE(),IF(MOD(H24,1)=0,TRUE(),FALSE())),FALSE()),FALSE()),FALSE())) -> TRUE
C25: Heat | D25: =IF(C25>0,":","") -> : | E25: Cavaliers | F25: 112 | G25: =IF(ISNUMBER(F25),":","") -> : | H25: 121 | I25: 5.5 | K25: 1.14 | M25: =IF(ISNUMBER(L25),IF(IF(F25>H25,1,"")=L25,I25,IF(IF(F25<H25,2,"")=L25,K25,IF(IF(F25=H25,0,"")=L25,J25,0))),"") | O25: =IF(ISBLANK(F25),"",IF(ISNUMBER(F25),IF(AND(F25>=0,F25<250),IF($F25<>$H25,IF(F25=0,TRUE(),IF(MOD(F25,1)=0,TRUE(),FALSE())),FALSE()),FALSE()),FALSE())) -> TRUE | P25: =IF(ISBLANK(H25),"",IF(ISNUMBER(H25),IF(AND(H25>=0,H25<250),IF($F25<>$H25,IF(H25=0,TRUE(),IF(MOD(H25,1)=0,TRUE(),FALSE())),FALSE()),FALSE()),FALSE())) -> TRUE
C26: Warriors | D26: =IF(C26>0,":","") -> : | E26: Rockets | F26: 94 | G26: =IF(ISNUMBER(F26),":","") -> : | H26: 109 | I26: 2.1 | K26: 1.72 | M26: =IF(ISNUMBER(L26),IF(IF(F26>H26,1,"")=L26,I26,IF(IF(F26<H26,2,"")=L26,K26,IF(IF(F26=H26,0,"")=L26,J26,0))),"") | N26: =SUM(M19:M26) -> 0 | O26: =IF(ISBLANK(F26),"",IF(ISNUMBER(F26),IF(AND(F26>=0,F26<250),IF($F26<>$H26,IF(F26=0,TRUE(),IF(MOD(F26,1)=0,TRUE(),FALSE())),FALSE()),FALSE()),FALSE())) -> TRUE | P26: =IF(ISBLANK(H26),"",IF(ISNUMBER(H26),IF(AND(H26>=0,H26<250),IF($F26<>$H26,IF(H26=0,TRUE(),IF(MOD(H26,1)=0,TRUE(),FALSE())),FALSE()),FALSE()),FALSE())) -> TRUE
D27: =IF(C27>0,":","") | G27: =IF(ISNUMBER(F27),":","") | M27: =IF(ISNUMBER(L27),IF(IF(F27>H27,1,"")=L27,I27,IF(IF(F27<H27,2,"")=L27,K27,IF(IF(F27=H27,0,"")=L27,J27,0))),"") | O27: =IF(ISBLANK(F27),"",IF(ISNUMBER(F27),IF(AND(F27>=0,F27<250),IF($F27<>$H27,IF(F27=0,TRUE(),IF(MOD(F27,1)=0,TRUE(),FALSE())),FALSE()),FALSE()),FALSE())) | P27: =IF(ISBLANK(H27),"",IF(ISNUMBER(H27),IF(AND(H27>=0,H27<250),IF($F27<>$H27,IF(H27=0,TRUE(),IF(MOD(H27,1)=0,TRUE(),FALSE())),FALSE()),FALSE()),FALSE()))
B28: Playoffs | C28: Knicks | D28: =IF(C28>0,":","") -> : | E28: Pistons | F28: 118 | G28: =IF(ISNUMBER(F28),":","") -> : | H28: 116 | I28: 1.83 | K28: 1.93 | M28: =IF(ISNUMBER(L28),IF(IF(F28>H28,1,"")=L28,I28,IF(IF(F28<H28,2,"")=L28,K28,IF(IF(F28=H28,0,"")=L28,J28,0))),"") | O28: =IF(ISBLANK(F28),"",IF(ISNUMBER(F28),IF(AND(F28>=0,F28<250),IF($F28<>$H28,IF(F28=0,TRUE(),IF(MOD(F28,1)=0,TRUE(),FALSE())),FALSE()),FALSE()),FALSE())) -> TRUE | P28: =IF(ISBLANK(H28),"",IF(ISNUMBER(H28),IF(AND(H28>=0,H28<250),IF($F28<>$H28,IF(H28=0,TRUE(),IF(MOD(H28,1)=0,TRUE(),FALSE())),FALSE()),FALSE()),FALSE())) -> TRUE
B29: Erste Runde | C29: Thunder | D29: =IF(C29>0,":","") -> : | E29: Grizzlies | F29: 114 | G29: =IF(ISNUMBER(F29),":","") -> : | H29: 108 | I29: 1.2 | K29: 4.4 | M29: =IF(ISNUMBER(L29),IF(IF(F29>H29,1,"")=L29,I29,IF(IF(F29<H29,2,"")=L29,K29,IF(IF(F29=H29,0,"")=L29,J29,0))),"") | O29: =IF(ISBLANK(F29),"",IF(ISNUMBER(F29),IF(AND(F29>=0,F29<250),IF($F29<>$H29,IF(F29=0,TRUE(),IF(MOD(F29,1)=0,TRUE(),FALSE())),FALSE()),FALSE()),FALSE())) -> TRUE | P29: =IF(ISBLANK(H29),"",IF(ISNUMBER(H29),IF(AND(H29>=0,H29<250),IF($F29<>$H29,IF(H29=0,TRUE(),IF(MOD(H29,1)=0,TRUE(),FALSE())),FALSE()),FALSE()),FALSE())) -> TRUE
B30: Spiel 3 | C30: Nuggets | D30: =IF(C30>0,":","") -> : | E30: Clippers | F30: 83 | G30: =IF(ISNUMBER(F30),":","") -> : | H30: 117 | I30: 2.8 | K30: 1.42 | M30: =IF(ISNUMBER(L30),IF(IF(F30>H30,1,"")=L30,I30,IF(IF(F30<H30,2,"")=L30,K30,IF(IF(F30=H30,0,"")=L30,J30,0))),"") | O30: =IF(ISBLANK(F30),"",IF(ISNUMBER(F30),IF(AND(F30>=0,F30<250),IF($F30<>$H30,IF(F30=0,TRUE(),IF(MOD(F30,1)=0,TRUE(),FALSE())),FALSE()),FALSE()),FALSE())) -> TRUE | P30: =IF(ISBLANK(H30),"",IF(ISNUMBER(H30),IF(AND(H30>=0,H30<250),IF($F30<>$H30,IF(H30=0,TRUE(),IF(MOD(H30,1)=0,TRUE(),FALSE())),FALSE()),FALSE()),FALSE())) -> TRUE
C31: Celtics | D31: =IF(C31>0,":","") -> : | E31: Magic | F31: 93 | G31: =IF(ISNUMBER(F31),":","") -> : | H31: 95 | I31: 1.4 | K31: 2.9 | M31: =IF(ISNUMBER(L31),IF(IF(F31>H31,1,"")=L31,I31,IF(IF(F31<H31,2,"")=L31,K31,IF(IF(F31=H31,0,"")=L31,J31,0))),"") | O31: =IF(ISBLANK(F31),"",IF(ISNUMBER(F31),IF(AND(F31>=0,F31<250),IF($F31<>$H31,IF(F31=0,TRUE(),IF(MOD(F31,1)=0,TRUE(),FALSE())),FALSE()),FALSE()),FALSE())) -> TRUE | P31: =IF(ISBLANK(H31),"",IF(ISNUMBER(H31),IF(AND(H31>=0,H31<250),IF($F31<>$H31,IF(H31=0,TRUE(),IF(MOD(H31,1)=0,TRUE(),FALSE())),FALSE()),FALSE()),FALSE())) -> TRUE
C32: Pacers | D32: =IF(C32>0,":","") -> : | E32: Bucks | F32: 101 | G32: =IF(ISNUMBER(F32),":","") -> : | H32: 117 | I32: 2.8 | K32: 1.42 | M32: =IF(ISNUMBER(L32),IF(IF(F32>H32,1,"")=L32,I32,IF(IF(F32<H32,2,"")=L32,K32,IF(IF(F32=H32,0,"")=L32,J32,0))),"") | O32: =IF(ISBLANK(F32),"",IF(ISNUMBER(F32),IF(AND(F32>=0,F32<250),IF($F32<>$H32,IF(F32=0,TRUE(),IF(MOD(F32,1)=0,TRUE(),FALSE())),FALSE()),FALSE()),FALSE())) -> TRUE | P32: =IF(ISBLANK(H32),"",IF(ISNUMBER(H32),IF(AND(H32>=0,H32<250),IF($F32<>$H32,IF(H32=0,TRUE(),IF(MOD(H32,1)=0,TRUE(),FALSE())),FALSE()),FALSE()),FALSE())) -> TRUE
C33: Lakers | D33: =IF(C33>0,":","") -> : | E33: Timberwolves | F33: 104 | G33: =IF(ISNUMBER(F33),":","") -> : | H33: 116 | I33: 2.25 | K33: 1.62 | M33: =IF(ISNUMBER(L33),IF(IF(F33>H33,1,"")=L33,I33,IF(IF(F33<H33,2,"")=L33,K33,IF(IF(F33=H33,0,"")=L33,J33,0))),"") | O33: =IF(ISBLANK(F33),"",IF(ISNUMBER(F33),IF(AND(F33>=0,F33<250),IF($F33<>$H33,IF(F33=0,TRUE(),IF(MOD(F33,1)=0,TRUE(),FALSE())),FALSE()),FALSE()),FALSE())) -> TRUE | P33: =IF(ISBLANK(H33),"",IF(ISNUMBER(H33),IF(AND(H33>=0,H33<250),IF($F33<>$H33,IF(H33=0,TRUE(),IF(MOD(H33,1)=0,TRUE(),FALSE())),FALSE()),FALSE()),FALSE())) -> TRUE
C34: Cavaliers | D34: =IF(C34>0,":","") -> : | E34: Heat | F34: 124 | G34: =IF(ISNUMBER(F34),":","") -> : | H34: 87 | I34: 1.4 | K34: 2.9 | M34: =IF(ISNUMBER(L34),IF(IF(F34>H34,1,"")=L34,I34,IF(IF(F34<H34,2,"")=L34,K34,IF(IF(F34=H34,0,"")=L34,J34,0))),"") | O34: =IF(ISBLANK(F34),"",IF(ISNUMBER(F34),IF(AND(F34>=0,F34<250),IF($F34<>$H34,IF(F34=0,TRUE(),IF(MOD(F34,1)=0,TRUE(),FALSE())),FALSE()),FALSE()),FALSE())) -> TRUE | P34: =IF(ISBLANK(H34),"",IF(ISNUMBER(H34),IF(AND(H34>=0,H34<250),IF($F34<>$H34,IF(H34=0,TRUE(),IF(MOD(H34,1)=0,TRUE(),FALSE())),FALSE()),FALSE()),FALSE())) -> TRUE
C35: Rockets | D35: =IF(C35>0,":","") -> : | E35: Warriors | F35: 93 | G35: =IF(ISNUMBER(F35),":","") -> : | H35: 104 | I35: 2.25 | K35: 1.62 | M35: =IF(ISNUMBER(L35),IF(IF(F35>H35,1,"")=L35,I35,IF(IF(F35<H35,2,"")=L35,K35,IF(IF(F35=H35,0,"")=L35,J35,0))),"") | O35: =IF(ISBLANK(F35),"",IF(ISNUMBER(F35),IF(AND(F35>=0,F35<250),IF($F35<>$H35,IF(F35=0,TRUE(),IF(MOD(F35,1)=0,TRUE(),FALSE())),FALSE()),FALSE()),FALSE())) -> TRUE | P35: =IF(ISBLANK(H35),"",IF(ISNUMBER(H35),IF(AND(H35>=0,H35<250),IF($F35<>$H35,IF(H35=0,TRUE(),IF(MOD(H35,1)=0,TRUE(),FALSE())),FALSE()),FALSE()),FALSE())) -> TRUE
D36: =IF(C36>0,":","") | G36: =IF(ISNUMBER(F36),":","") | M36: =IF(ISNUMBER(L36),IF(IF(F36>H36,1,"")=L36,I36,IF(IF(F36<H36,2,"")=L36,K36,IF(IF(F36=H36,0,"")=L36,J36,0))),"") | O36: =IF(ISBLANK(F36),"",IF(ISNUMBER(F36),IF(AND(F36>=0,F36<250),IF($F36<>$H36,IF(F36=0,TRUE(),IF(MOD(F36,1)=0,TRUE(),FALSE())),FALSE()),FALSE()),FALSE())) | P36: =IF(ISBLANK(H36),"",IF(ISNUMBER(H36),IF(AND(H36>=0,H36<250),IF($F36<>$H36,IF(H36=0,TRUE(),IF(MOD(H36,1)=0,TRUE(),FALSE())),FALSE()),FALSE()),FALSE()))
B37: Playoffs | C37: Thunder | D37: =IF(C37>0,":","") -> : | E37: Grizzlies | F37: 117 | G37: =IF(ISNUMBER(F37),":","") -> : | H37: 115 | I37: 1.1 | K37: 6.7 | M37: =IF(ISNUMBER(L37),IF(IF(F37>H37,1,"")=L37,I37,IF(IF(F37<H37,2,"")=L37,K37,IF(IF(F37=H37,0,"")=L37,J37,0))),"") | O37: =IF(ISBLANK(F37),"",IF(ISNUMBER(F37),IF(AND(F37>=0,F37<250),IF($F37<>$H37,IF(F37=0,TRUE(),IF(MOD(F37,1)=0,TRUE(),FALSE())),FALSE()),FALSE()),FALSE())) -> TRUE | P37: =IF(ISBLANK(H37),"",IF(ISNUMBER(H37),IF(AND(H37>=0,H37<250),IF($F37<>$H37,IF(H37=0,TRUE(),IF(MOD(H37,1)=0,TRUE(),FALSE())),FALSE()),FALSE()),FALSE())) -> TRUE
B38: Erste Runde | C38: Nuggets | D38: =IF(C38>0,":","") -> : | E38: Clippers | F38: 101 | G38: =IF(ISNUMBER(F38),":","") -> : | H38: 99 | I38: 2.8 | K38: 1.42 | M38: =IF(ISNUMBER(L38),IF(IF(F38>H38,1,"")=L38,I38,IF(IF(F38<H38,2,"")=L38,K38,IF(IF(F38=H38,0,"")=L38,J38,0))),"") | O38: =IF(ISBLANK(F38),"",IF(ISNUMBER(F38),IF(AND(F38>=0,F38<250),IF($F38<>$H38,IF(F38=0,TRUE(),IF(MOD(F38,1)=0,TRUE(),FALSE())),FALSE()),FALSE()),FALSE())) -> TRUE | P38: =IF(ISBLANK(H38),"",IF(ISNUMBER(H38),IF(AND(H38>=0,H38<250),IF($F38<>$H38,IF(H38=0,TRUE(),IF(MOD(H38,1)=0,TRUE(),FALSE())),FALSE()),FALSE()),FALSE())) -> TRUE
B39: Spiel 4 | C39: Knicks | D39: =IF(C39>0,":","") -> : | E39: Pistons | F39: 94 | G39: =IF(ISNUMBER(F39),":","") -> : | H39: 93 | I39: 1.9 | K39: 1.87 | M39: =IF(ISNUMBER(L39),IF(IF(F39>H39,1,"")=L39,I39,IF(IF(F39<H39,2,"")=L39,K39,IF(IF(F39=H39,0,"")=L39,J39,0))),"") | O39: =IF(ISBLANK(F39),"",IF(ISNUMBER(F39),IF(AND(F39>=0,F39<250),IF($F39<>$H39,IF(F39=0,TRUE(),IF(MOD(F39,1)=0,TRUE(),FALSE())),FALSE()),FALSE()),FALSE())) -> TRUE | P39: =IF(ISBLANK(H39),"",IF(ISNUMBER(H39),IF(AND(H39>=0,H39<250),IF($F39<>$H39,IF(H39=0,TRUE(),IF(MOD(H39,1)=0,TRUE(),FALSE())),FALSE()),FALSE()),FALSE())) -> TRUE
C40: Lakers | D40: =IF(C40>0,":","") -> : | E40: Timberwolves | F40: 113 | G40: =IF(ISNUMBER(F40),":","") -> : | H40: 116 | I40: 2.3 | K40: 1.6 | M40: =IF(ISNUMBER(L40),IF(IF(F40>H40,1,"")=L40,I40,IF(IF(F40<H40,2,"")=L40,K40,IF(IF(F40=H40,0,"")=L40,J40,0))),"") | O40: =IF(ISBLANK(F40),"",IF(ISNUMBER(F40),IF(AND(F40>=0,F40<250),IF($F40<>$H40,IF(F40=0,TRUE(),IF(MOD(F40,1)=0,TRUE(),FALSE())),FALSE()),FALSE()),FALSE())) -> TRUE | P40: =IF(ISBLANK(H40),"",IF(ISNUMBER(H40),IF(AND(H40>=0,H40<250),IF($F40<>$H40,IF(H40=0,TRUE(),IF(MOD(H40,1)=0,TRUE(),FALSE())),FALSE()),FALSE()),FALSE())) -> TRUE
C41: Celtics | D41: =IF(C41>0,":","") -> : | E41: Magic | F41: 107 | G41: =IF(ISNUMBER(F41),":","") -> : | H41: 98 | I41: 1.32 | K41: 3.3 | M41: =IF(ISNUMBER(L41),IF(IF(F41>H41,1,"")=L41,I41,IF(IF(F41<H41,2,"")=L41,K41,IF(IF(F41=H41,0,"")=L41,J41,0))),"") | O41: =IF(ISBLANK(F41),"",IF(ISNUMBER(F41),IF(AND(F41>=0,F41<250),IF($F41<>$H41,IF(F41=0,TRUE(),IF(MOD(F41,1)=0,TRUE(),FALSE())),FALSE()),FALSE()),FALSE())) -> TRUE | P41: =IF(ISBLANK(H41),"",IF(ISNUMBER(H41),IF(AND(H41>=0,H41<250),IF($F41<>$H41,IF(H41=0,TRUE(),IF(MOD(H41,1)=0,TRUE(),FALSE())),FALSE()),FALSE()),FALSE())) -> TRUE
C42: Pacers | D42: =IF(C42>0,":","") -> : | E42: Bucks | F42: 129 | G42: =IF(ISNUMBER(F42),":","") -> : | H42: 103 | I42: 2.7 | K42: 1.45 | M42: =IF(ISNUMBER(L42),IF(IF(F42>H42,1,"")=L42,I42,IF(IF(F42<H42,2,"")=L42,K42,IF(IF(F42=H42,0,"")=L42,J42,0))),"") | O42: =IF(ISBLANK(F42),"",IF(ISNUMBER(F42),IF(AND(F42>=0,F42<250),IF($F42<>$H42,IF(F42=0,TRUE(),IF(MOD(F42,1)=0,TRUE(),FALSE())),FALSE()),FALSE()),FALSE())) -> TRUE | P42: =IF(ISBLANK(H42),"",IF(ISNUMBER(H42),IF(AND(H42>=0,H42<250),IF($F42<>$H42,IF(H42=0,TRUE(),IF(MOD(H42,1)=0,TRUE(),FALSE())),FALSE()),FALSE()),FALSE())) -> TRUE
C43: Rockets | D43: =IF(C43>0,":","") -> : | E43: Warriors | F43: 106 | G43: =IF(ISNUMBER(F43),":","") -> : | H43: 109 | I43: 2.4 | K43: 1.55 | M43: =IF(ISNUMBER(L43),IF(IF(F43>H43,1,"")=L43,I43,IF(IF(F43<H43,2,"")=L43,K43,IF(IF(F43=H43,0,"")=L43,J43,0))),"") | O43: =IF(ISBLANK(F43),"",IF(ISNUMBER(F43),IF(AND(F43>=0,F43<250),IF($F43<>$H43,IF(F43=0,TRUE(),IF(MOD(F43,1)=0,TRUE(),FALSE())),FALSE()),FALSE()),FALSE())) -> TRUE | P43: =IF(ISBLANK(H43),"",IF(ISNUMBER(H43),IF(AND(H43>=0,H43<250),IF($F43<>$H43,IF(H43=0,TRUE(),IF(MOD(H43,1)=0,TRUE(),FALSE())),FALSE()),FALSE()),FALSE())) -> TRUE
C44: Cavaliers | D44: =IF(C44>0,":","") -> : | E44: Heat | F44: 138 | G44: =IF(ISNUMBER(F44),":","") -> : | H44: 83 | I44: 1.22 | K44: 4.1 | M44: =IF(ISNUMBER(L44),IF(IF(F44>H44,1,"")=L44,I44,IF(IF(F44<H44,2,"")=L44,K44,IF(IF(F44=H44,0,"")=L44,J44,0))),"") | N44: =SUM(M37:M44) -> 0 | O44: =IF(ISBLANK(F44),"",IF(ISNUMBER(F44),IF(AND(F44>=0,F44<250),IF($F44<>$H44,IF(F44=0,TRUE(),IF(MOD(F44,1)=0,TRUE(),FALSE())),FALSE()),FALSE()),FALSE())) -> TRUE | P44: =IF(ISBLANK(H44),"",IF(ISNUMBER(H44),IF(AND(H44>=0,H44<250),IF($F44<>$H44,IF(H44=0,TRUE(),IF(MOD(H44,1)=0,TRUE(),FALSE())),FALSE()),FALSE()),FALSE())) -> TRUE
D45: =IF(C45>0,":","") | G45: =IF(ISNUMBER(F45),":","") | M45: =IF(ISNUMBER(L45),IF(IF(F45>H45,1,"")=L45,I45,IF(IF(F45<H45,2,"")=L45,K45,IF(IF(F45=H45,0,"")=L45,J45,0))),"") | O45: =IF(ISBLANK(F45),"",IF(ISNUMBER(F45),IF(AND(F45>=0,F45<250),IF($F45<>$H45,IF(F45=0,TRUE(),IF(MOD(F45,1)=0,TRUE(),FALSE())),FALSE()),FALSE()),FALSE())) | P45: =IF(ISBLANK(H45),"",IF(ISNUMBER(H45),IF(AND(H45>=0,H45<250),IF($F45<>$H45,IF(H45=0,TRUE(),IF(MOD(H45,1)=0,TRUE(),FALSE())),FALSE()),FALSE()),FALSE()))
B46: Playoffs | C46: Bucks | D46: =IF(C46>0,":","") -> : | E46: Pacers | F46: 118 | G46: =IF(ISNUMBER(F46),":","") -> : | H46: 119 | I46: 3.3 | K46: 1.32 | M46: =IF(ISNUMBER(L46),IF(IF(F46>H46,1,"")=L46,I46,IF(IF(F46<H46,2,"")=L46,K46,IF(IF(F46=H46,0,"")=L46,J46,0))),"") | O46: =IF(ISBLANK(F46),"",IF(ISNUMBER(F46),IF(AND(F46>=0,F46<250),IF($F46<>$H46,IF(F46=0,TRUE(),IF(MOD(F46,1)=0,TRUE(),FALSE())),FALSE()),FALSE()),FALSE())) -> TRUE | P46: =IF(ISBLANK(H46),"",IF(ISNUMBER(H46),IF(AND(H46>=0,H46<250),IF($F46<>$H46,IF(H46=0,TRUE(),IF(MOD(H46,1)=0,TRUE(),FALSE())),FALSE()),FALSE()),FALSE())) -> TRUE
B47: Erste Runde | C47: Pistons | D47: =IF(C47>0,":","") -> : | E47: Knicks | F47: 106 | G47: =IF(ISNUMBER(F47),":","") -> : | H47: 103 | I47: 2.8 | K47: 1.42 | M47: =IF(ISNUMBER(L47),IF(IF(F47>H47,1,"")=L47,I47,IF(IF(F47<H47,2,"")=L47,K47,IF(IF(F47=H47,0,"")=L47,J47,0))),"") | O47: =IF(ISBLANK(F47),"",IF(ISNUMBER(F47),IF(AND(F47>=0,F47<250),IF($F47<>$H47,IF(F47=0,TRUE(),IF(MOD(F47,1)=0,TRUE(),FALSE())),FALSE()),FALSE()),FALSE())) -> TRUE | P47: =IF(ISBLANK(H47),"",IF(ISNUMBER(H47),IF(AND(H47>=0,H47<250),IF($F47<>$H47,IF(H47=0,TRUE(),IF(MOD(H47,1)=0,TRUE(),FALSE())),FALSE()),FALSE()),FALSE())) -> TRUE
B48: Spiel 5 | C48: Magic | D48: =IF(C48>0,":","") -> : | E48: Celtics | F48: 89 | G48: =IF(ISNUMBER(F48),":","") -> : | H48: 120 | I48: 6 | K48: 1.12 | M48: =IF(ISNUMBER(L48),IF(IF(F48>H48,1,"")=L48,I48,IF(IF(F48<H48,2,"")=L48,K48,IF(IF(F48=H48,0,"")=L48,J48,0))),"") | O48: =IF(ISBLANK(F48),"",IF(ISNUMBER(F48),IF(AND(F48>=0,F48<250),IF($F48<>$H48,IF(F48=0,TRUE(),IF(MOD(F48,1)=0,TRUE(),FALSE())),FALSE()),FALSE()),FALSE())) -> TRUE | P48: =IF(ISBLANK(H48),"",IF(ISNUMBER(H48),IF(AND(H48>=0,H48<250),IF($F48<>$H48,IF(H48=0,TRUE(),IF(MOD(H48,1)=0,TRUE(),FALSE())),FALSE()),FALSE()),FALSE())) -> TRUE
C49: Clippers | D49: =IF(C49>0,":","") -> : | E49: Nuggets | F49: 115 | G49: =IF(ISNUMBER(F49),":","") -> : | H49: 131 | I49: 1.77 | K49: 2 | M49: =IF(ISNUMBER(L49),IF(IF(F49>H49,1,"")=L49,I49,IF(IF(F49<H49,2,"")=L49,K49,IF(IF(F49=H49,0,"")=L49,J49,0))),"") | O49: =IF(ISBLANK(F49),"",IF(ISNUMBER(F49),IF(AND(F49>=0,F49<250),IF($F49<>$H49,IF(F49=0,TRUE(),IF(MOD(F49,1)=0,TRUE(),FALSE())),FALSE()),FALSE()),FALSE())) -> TRUE | P49: =IF(ISBLANK(H49),"",IF(ISNUMBER(H49),IF(AND(H49>=0,H49<250),IF($F49<>$H49,IF(H49=0,TRUE(),IF(MOD(H49,1)=0,TRUE(),FALSE())),FALSE()),FALSE()),FALSE())) -> TRUE
C50: Timberwolves | D50: =IF(C50>0,":","") -> : | E50: Lakers | F50: 103 | G50: =IF(ISNUMBER(F50),":","") -> : | H50: 96 | I50: 3 | K50: 1.37 | M50: =IF(ISNUMBER(L50),IF(IF(F50>H50,1,"")=L50,I50,IF(IF(F50<H50,2,"")=L50,K50,IF(IF(F50=H50,0,"")=L50,J50,0))),"") | O50: =IF(ISBLANK(F50),"",IF(ISNUMBER(F50),IF(AND(F50>=0,F50<250),IF($F50<>$H50,IF(F50=0,TRUE(),IF(MOD(F50,1)=0,TRUE(),FALSE())),FALSE()),FALSE()),FALSE())) -> TRUE | P50: =IF(ISBLANK(H50),"",IF(ISNUMBER(H50),IF(AND(H50>=0,H50<250),IF($F50<>$H50,IF(H50=0,TRUE(),IF(MOD(H50,1)=0,TRUE(),FALSE())),FALSE()),FALSE()),FALSE())) -> TRUE
C51: Warriors | D51: =IF(C51>0,":","") -> : | E51: Rockets | F51: 116 | G51: =IF(ISNUMBER(F51),":","") -> : | H51: 131 | I51: 2.3 | K51: 1.6 | M51: =IF(ISNUMBER(L51),IF(IF(F51>H51,1,"")=L51,I51,IF(IF(F51<H51,2,"")=L51,K51,IF(IF(F51=H51,0,"")=L51,J51,0))),"") | N51: =SUM(M46:M51) -> 0 | O51: =IF(ISBLANK(F51),"",IF(ISNUMBER(F51),IF(AND(F51>=0,F51<250),IF($F51<>$H51,IF(F51=0,TRUE(),IF(MOD(F51,1)=0,TRUE(),FALSE())),FALSE()),FALSE()),FALSE())) -> TRUE | P51: =IF(ISBLANK(H51),"",IF(ISNUMBER(H51),IF(AND(H51>=0,H51<250),IF($F51<>$H51,IF(H51=0,TRUE(),IF(MOD(H51,1)=0,TRUE(),FALSE())),FALSE()),FALSE()),FALSE())) -> TRUE
D52: =IF(C52>0,":","") | G52: =IF(ISNUMBER(F52),":","") | M52: =IF(ISNUMBER(L52),IF(IF(F52>H52,1,"")=L52,I52,IF(IF(F52<H52,2,"")=L52,K52,IF(IF(F52=H52,0,"")=L52,J52,0))),"") | O52: =IF(ISBLANK(F52),"",IF(ISNUMBER(F52),IF(AND(F52>=0,F52<250),IF($F52<>$H52,IF(F52=0,TRUE(),IF(MOD(F52,1)=0,TRUE(),FALSE())),FALSE()),FALSE()),FALSE())) | P52: =IF(ISBLANK(H52),"",IF(ISNUMBER(H52),IF(AND(H52>=0,H52<250),IF($F52<>$H52,IF(H52=0,TRUE(),IF(MOD(H52,1)=0,TRUE(),FALSE())),FALSE()),FALSE()),FALSE()))
B53: Playoffs | C53: Knicks | D53: =IF(C53>0,":","") -> : | E53: Pistons | F53: 116 | G53: =IF(ISNUMBER(F53),":","") -> : | H53: 113 | I53: 1.93 | K53: 1.83 | M53: =IF(ISNUMBER(L53),IF(IF(F53>H53,1,"")=L53,I53,IF(IF(F53<H53,2,"")=L53,K53,IF(IF(F53=H53,0,"")=L53,J53,0))),"") | O53: =IF(ISBLANK(F53),"",IF(ISNUMBER(F53),IF(AND(F53>=0,F53<250),IF($F53<>$H53,IF(F53=0,TRUE(),IF(MOD(F53,1)=0,TRUE(),FALSE())),FALSE()),FALSE()),FALSE())) -> TRUE | P53: =IF(ISBLANK(H53),"",IF(ISNUMBER(H53),IF(AND(H53>=0,H53<250),IF($F53<>$H53,IF(H53=0,TRUE(),IF(MOD(H53,1)=0,TRUE(),FALSE())),FALSE()),FALSE()),FALSE())) -> TRUE
B54: Erste Runde | C54: Nuggets | D54: =IF(C54>0,":","") -> : | E54: Clippers | F54: 105 | G54: =IF(ISNUMBER(F54),":","") -> : | H54: 111 | I54: 3 | K54: 1.37 | M54: =IF(ISNUMBER(L54),IF(IF(F54>H54,1,"")=L54,I54,IF(IF(F54<H54,2,"")=L54,K54,IF(IF(F54=H54,0,"")=L54,J54,0))),"") | O54: =IF(ISBLANK(F54),"",IF(ISNUMBER(F54),IF(AND(F54>=0,F54<250),IF($F54<>$H54,IF(F54=0,TRUE(),IF(MOD(F54,1)=0,TRUE(),FALSE())),FALSE()),FALSE()),FALSE())) -> TRUE | P54: =IF(ISBLANK(H54),"",IF(ISNUMBER(H54),IF(AND(H54>=0,H54<250),IF($F54<>$H54,IF(H54=0,TRUE(),IF(MOD(H54,1)=0,TRUE(),FALSE())),FALSE()),FALSE()),FALSE())) -> TRUE
B55: Spiel 6 | C55: Rockets | D55: =IF(C55>0,":","") -> : | E55: Warriors | F55: 115 | G55: =IF(ISNUMBER(F55),":","") -> : | H55: 107 | I55: 2.6 | K55: 1.47 | M55: =IF(ISNUMBER(L55),IF(IF(F55>H55,1,"")=L55,I55,IF(IF(F55<H55,2,"")=L55,K55,IF(IF(F55=H55,0,"")=L55,J55,0))),"") | O55: =IF(ISBLANK(F55),"",IF(ISNUMBER(F55),IF(AND(F55>=0,F55<250),IF($F55<>$H55,IF(F55=0,TRUE(),IF(MOD(F55,1)=0,TRUE(),FALSE())),FALSE()),FALSE()),FALSE())) -> TRUE | P55: =IF(ISBLANK(H55),"",IF(ISNUMBER(H55),IF(AND(H55>=0,H55<250),IF($F55<>$H55,IF(H55=0,TRUE(),IF(MOD(H55,1)=0,TRUE(),FALSE())),FALSE()),FALSE()),FALSE())) -> TRUE
D56: =IF(C56>0,":","") | G56: =IF(ISNUMBER(F56),":","") | M56: =IF(ISNUMBER(L56),IF(IF(F56>H56,1,"")=L56,I56,IF(IF(F56<H56,2,"")=L56,K56,IF(IF(F56=H56,0,"")=L56,J56,0))),"") | O56: =IF(ISBLANK(F56),"",IF(ISNUMBER(F56),IF(AND(F56>=0,F56<250),IF($F56<>$H56,IF(F56=0,TRUE(),IF(MOD(F56,1)=0,TRUE(),FALSE())),FALSE()),FALSE()),FALSE())) | P56: =IF(ISBLANK(H56),"",IF(ISNUMBER(H56),IF(AND(H56>=0,H56<250),IF($F56<>$H56,IF(H56=0,TRUE(),IF(MOD(H56,1)=0,TRUE(),FALSE())),FALSE()),FALSE()),FALSE()))
B57: Playoffs | C57: Clippers | D57: =IF(C57>0,":","") -> : | E57: Nuggets | F57: 101 | H57: 120 | I57: 2 | K57: 1.77 | M57: =IF(ISNUMBER(L57),IF(IF(F57>H57,1,"")=L57,I57,IF(IF(F57<H57,2,"")=L57,K57,IF(IF(F57=H57,0,"")=L57,J57,0))),"") | O57: =IF(ISBLANK(F57),"",IF(ISNUMBER(F57),IF(AND(F57>=0,F57<250),IF($F57<>$H57,IF(F57=0,TRUE(),IF(MOD(F57,1)=0,TRUE(),FALSE())),FALSE()),FALSE()),FALSE())) -> TRUE | P57: =IF(ISBLANK(H57),"",IF(ISNUMBER(H57),IF(AND(H57>=0,H57<250),IF($F57<>$H57,IF(H57=0,TRUE(),IF(MOD(H57,1)=0,TRUE(),FALSE())),FALSE()),FALSE()),FALSE())) -> TRUE
B58: Erste Runde | C58: Warriors | D58: =IF(C58>0,":","") -> : | E58: Rockets | F58: 103 | H58: 89 | I58: 2 | M58: =IF(ISNUMBER(L58),IF(IF(F58>H58,1,"")=L58,I58,IF(IF(F58<H58,2,"")=L58,K58,IF(IF(F58=H58,0,"")=L58,J58,0))),"") | N58: =SUM(M57:M58) -> 0 | O58: =IF(ISBLANK(F58),"",IF(ISNUMBER(F58),IF(AND(F58>=0,F58<250),IF($F58<>$H58,IF(F58=0,TRUE(),IF(MOD(F58,1)=0,TRUE(),FALSE())),FALSE()),FALSE()),FALSE())) -> TRUE | P58: =IF(ISBLANK(H58),"",IF(ISNUMBER(H58),IF(AND(H58>=0,H58<250),IF($F58<>$H58,IF(H58=0,TRUE(),IF(MOD(H58,1)=0,TRUE(),FALSE())),FALSE()),FALSE()),FALSE())) -> TRUE
B59: Spiel 7 | D59: =IF(C59>0,":","") | M59: =IF(ISNUMBER(L59),IF(IF(F59>H59,1,"")=L59,I59,IF(IF(F59<H59,2,"")=L59,K59,IF(IF(F59=H59,0,"")=L59,J59,0))),"") | O59: =IF(ISBLANK(F59),"",IF(ISNUMBER(F59),IF(AND(F59>=0,F59<250),IF($F59<>$H59,IF(F59=0,TRUE(),IF(MOD(F59,1)=0,TRUE(),FALSE())),FALSE()),FALSE()),FALSE())) | P59: =IF(ISBLANK(H59),"",IF(ISNUMBER(H59),IF(AND(H59>=0,H59<250),IF($F59<>$H59,IF(H59=0,TRUE(),IF(MOD(H59,1)=0,TRUE(),FALSE())),FALSE()),FALSE()),FALSE()))
D60: =IF(C60>0,":","") | M60: =IF(ISNUMBER(L60),IF(IF(F60>H60,1,"")=L60,I60,IF(IF(F60<H60,2,"")=L60,K60,IF(IF(F60=H60,0,"")=L60,J60,0))),"") | O60: =IF(ISBLANK(F60),"",IF(ISNUMBER(F60),IF(AND(F60>=0,F60<250),IF($F60<>$H60,IF(F60=0,TRUE(),IF(MOD(F60,1)=0,TRUE(),FALSE())),FALSE()),FALSE()),FALSE())) | P60: =IF(ISBLANK(H60),"",IF(ISNUMBER(H60),IF(AND(H60>=0,H60<250),IF($F60<>$H60,IF(H60=0,TRUE(),IF(MOD(H60,1)=0,TRUE(),FALSE())),FALSE()),FALSE()),FALSE()))
B61: Playoffs | C61: Pacers | D61: =IF(C61>0,":","") -> : | E61: Cavaliers | F61: 121 | H61: 112 | I61: 3.8 | K61: 1.25 | M61: =IF(ISNUMBER(L61),IF(IF(F61>H61,1,"")=L61,I61,IF(IF(F61<H61,2,"")=L61,K61,IF(IF(F61=H61,0,"")=L61,J61,0))),"") | O61: =IF(ISBLANK(F61),"",IF(ISNUMBER(F61),IF(AND(F61>=0,F61<250),IF($F61<>$H61,IF(F61=0,TRUE(),IF(MOD(F61,1)=0,TRUE(),FALSE())),FALSE()),FALSE()),FALSE())) -> TRUE | P61: =IF(ISBLANK(H61),"",IF(ISNUMBER(H61),IF(AND(H61>=0,H61<250),IF($F61<>$H61,IF(H61=0,TRUE(),IF(MOD(H61,1)=0,TRUE(),FALSE())),FALSE()),FALSE()),FALSE())) -> TRUE
B62: Zweite Runde | C62: Knicks | D62: =IF(C62>0,":","") -> : | E62: Celtics | F62: 108 | H62: 105 | I62: 4.1 | K62: 1.22 | M62: =IF(ISNUMBER(L62),IF(IF(F62>H62,1,"")=L62,I62,IF(IF(F62<H62,2,"")=L62,K62,IF(IF(F62=H62,0,"")=L62,J62,0))),"") | O62: =IF(ISBLANK(F62),"",IF(ISNUMBER(F62),IF(AND(F62>=0,F62<250),IF($F62<>$H62,IF(F62=0,TRUE(),IF(MOD(F62,1)=0,TRUE(),FALSE())),FALSE()),FALSE()),FALSE())) -> TRUE | P62: =IF(ISBLANK(H62),"",IF(ISNUMBER(H62),IF(AND(H62>=0,H62<250),IF($F62<>$H62,IF(H62=0,TRUE(),IF(MOD(H62,1)=0,TRUE(),FALSE())),FALSE()),FALSE()),FALSE())) -> TRUE
B63: Spiel 1 | C63: Nuggets | D63: =IF(C63>0,":","") -> : | E63: Thunder | F63: 121 | H63: 119 | I63: 4.1 | K63: 1.22 | M63: =IF(ISNUMBER(L63),IF(IF(F63>H63,1,"")=L63,I63,IF(IF(F63<H63,2,"")=L63,K63,IF(IF(F63=H63,0,"")=L63,J63,0))),"") | O63: =IF(ISBLANK(F63),"",IF(ISNUMBER(F63),IF(AND(F63>=0,F63<250),IF($F63<>$H63,IF(F63=0,TRUE(),IF(MOD(F63,1)=0,TRUE(),FALSE())),FALSE()),FALSE()),FALSE())) -> TRUE | P63: =IF(ISBLANK(H63),"",IF(ISNUMBER(H63),IF(AND(H63>=0,H63<250),IF($F63<>$H63,IF(H63=0,TRUE(),IF(MOD(H63,1)=0,TRUE(),FALSE())),FALSE()),FALSE()),FALSE())) -> TRUE
C64: Warriors | D64: =IF(C64>0,":","") -> : | E64: Timberwolves | F64: 99 | G64: =IF(ISNUMBER(F64),":","") -> : | H64: 88 | I64: 3.2 | K64: 1.33 | M64: =IF(ISNUMBER(L64),IF(IF(F64>H64,1,"")=L64,I64,IF(IF(F64<H64,2,"")=L64,K64,IF(IF(F64=H64,0,"")=L64,J64,0))),"") | O64: =IF(ISBLANK(F64),"",IF(ISNUMBER(F64),IF(AND(F64>=0,F64<250),IF($F64<>$H64,IF(F64=0,TRUE(),IF(MOD(F64,1)=0,TRUE(),FALSE())),FALSE()),FALSE()),FALSE())) -> TRUE | P64: =IF(ISBLANK(H64),"",IF(ISNUMBER(H64),IF(AND(H64>=0,H64<250),IF($F64<>$H64,IF(H64=0,TRUE(),IF(MOD(H64,1)=0,TRUE(),FALSE())),FALSE()),FALSE()),FALSE())) -> TRUE
D65: =IF(C65>0,":","") | G65: =IF(ISNUMBER(F65),":","") | M65: =IF(ISNUMBER(L65),IF(IF(F65>H65,1,"")=L65,I65,IF(IF(F65<H65,2,"")=L65,K65,IF(IF(F65=H65,0,"")=L65,J65,0))),"") | O65: =IF(ISBLANK(F65),"",IF(ISNUMBER(F65),IF(AND(F65>=0,F65<250),IF($F65<>$H65,IF(F65=0,TRUE(),IF(MOD(F65,1)=0,TRUE(),FALSE())),FALSE()),FALSE()),FALSE())) | P65: =IF(ISBLANK(H65),"",IF(ISNUMBER(H65),IF(AND(H65>=0,H65<250),IF($F65<>$H65,IF(H65=0,TRUE(),IF(MOD(H65,1)=0,TRUE(),FALSE())),FALSE()),FALSE()),FALSE()))
B66: Playoffs | C66: Pacers | D66: =IF(C66>0,":","") -> : | E66: Cavaliers | F66: 120 | G66: =IF(ISNUMBER(F66),":","") -> : | H66: 119 | I66: 4.4 | K66: 1.2 | M66: =IF(ISNUMBER(L66),IF(IF(F66>H66,1,"")=L66,I66,IF(IF(F66<H66,2,"")=L66,K66,IF(IF(F66=H66,0,"")=L66,J66,0))),"") | O66: =IF(ISBLANK(F66),"",IF(ISNUMBER(F66),IF(AND(F66>=0,F66<250),IF($F66<>$H66,IF(F66=0,TRUE(),IF(MOD(F66,1)=0,TRUE(),FALSE())),FALSE()),FALSE()),FALSE())) -> TRUE | P66: =IF(ISBLANK(H66),"",IF(ISNUMBER(H66),IF(AND(H66>=0,H66<250),IF($F66<>$H66,IF(H66=0,TRUE(),IF(MOD(H66,1)=0,TRUE(),FALSE())),FALSE()),FALSE()),FALSE())) -> TRUE
B67: Zweite Runde | C67: Knicks | D67: =IF(C67>0,":","") -> : | E67: Celtics | F67: 91 | G67: =IF(ISNUMBER(F67),":","") -> : | H67: 90 | I67: 4.6 | K67: 1.18 | M67: =IF(ISNUMBER(L67),IF(IF(F67>H67,1,"")=L67,I67,IF(IF(F67<H67,2,"")=L67,K67,IF(IF(F67=H67,0,"")=L67,J67,0))),"") | O67: =IF(ISBLANK(F67),"",IF(ISNUMBER(F67),IF(AND(F67>=0,F67<250),IF($F67<>$H67,IF(F67=0,TRUE(),IF(MOD(F67,1)=0,TRUE(),FALSE())),FALSE()),FALSE()),FALSE())) -> TRUE | P67: =IF(ISBLANK(H67),"",IF(ISNUMBER(H67),IF(AND(H67>=0,H67<250),IF($F67<>$H67,IF(H67=0,TRUE(),IF(MOD(H67,1)=0,TRUE(),FALSE())),FALSE()),FALSE()),FALSE())) -> TRUE
B68: Spiel 2 | C68: Nuggets | D68: =IF(C68>0,":","") -> : | E68: Thunder | F68: 106 | G68: =IF(ISNUMBER(F68),":","") -> : | H68: 149 | I68: 4.6 | K68: 1.18 | M68: =IF(ISNUMBER(L68),IF(IF(F68>H68,1,"")=L68,I68,IF(IF(F68<H68,2,"")=L68,K68,IF(IF(F68=H68,0,"")=L68,J68,0))),"") | O68: =IF(ISBLANK(F68),"",IF(ISNUMBER(F68),IF(AND(F68>=0,F68<250),IF($F68<>$H68,IF(F68=0,TRUE(),IF(MOD(F68,1)=0,TRUE(),FALSE())),FALSE()),FALSE()),FALSE())) -> TRUE | P68: =IF(ISBLANK(H68),"",IF(ISNUMBER(H68),IF(AND(H68>=0,H68<250),IF($F68<>$H68,IF(H68=0,TRUE(),IF(MOD(H68,1)=0,TRUE(),FALSE())),FALSE()),FALSE()),FALSE())) -> TRUE
C69: Warriors | D69: =IF(C69>0,":","") -> : | E69: Timberwolves | F69: 93 | G69: =IF(ISNUMBER(F69),":","") -> : | H69: 117 | I69: 4.6 | K69: 1.18 | M69: =IF(ISNUMBER(L69),IF(IF(F69>H69,1,"")=L69,I69,IF(IF(F69<H69,2,"")=L69,K69,IF(IF(F69=H69,0,"")=L69,J69,0))),"") | N69: =SUM(M66:M69) -> 0 | O69: =IF(ISBLANK(F69),"",IF(ISNUMBER(F69),IF(AND(F69>=0,F69<250),IF($F69<>$H69,IF(F69=0,TRUE(),IF(MOD(F69,1)=0,TRUE(),FALSE())),FALSE()),FALSE()),FALSE())) -> TRUE | P69: =IF(ISBLANK(H69),"",IF(ISNUMBER(H69),IF(AND(H69>=0,H69<250),IF($F69<>$H69,IF(H69=0,TRUE(),IF(MOD(H69,1)=0,TRUE(),FALSE())),FALSE()),FALSE()),FALSE())) -> TRUE
D70: =IF(C70>0,":","") | G70: =IF(ISNUMBER(F70),":","") | M70: =IF(ISNUMBER(L70),IF(IF(F70>H70,1,"")=L70,I70,IF(IF(F70<H70,2,"")=L70,K70,IF(IF(F70=H70,0,"")=L70,J70,0))),"") | O70: =IF(ISBLANK(F70),"",IF(ISNUMBER(F70),IF(AND(F70>=0,F70<250),IF($F70<>$H70,IF(F70=0,TRUE(),IF(MOD(F70,1)=0,TRUE(),FALSE())),FALSE()),FALSE()),FALSE())) | P70: =IF(ISBLANK(H70),"",IF(ISNUMBER(H70),IF(AND(H70>=0,H70<250),IF($F70<>$H70,IF(H70=0,TRUE(),IF(MOD(H70,1)=0,TRUE(),FALSE())),FALSE()),FALSE()),FALSE()))
B71: Playoffs | C71: Cavaliers | D71: =IF(C71>0,":","") -> : | E71: Pacers | F71: 126 | G71: =IF(ISNUMBER(F71),":","") -> : | H71: 104 | I71: 1.37 | K71: 2.35 | M71: =IF(ISNUMBER(L71),IF(IF(F71>H71,1,"")=L71,I71,IF(IF(F71<H71,2,"")=L71,K71,IF(IF(F71=H71,0,"")=L71,J71,0))),"") | O71: =IF(ISBLANK(F71),"",IF(ISNUMBER(F71),IF(AND(F71>=0,F71<250),IF($F71<>$H71,IF(F71=0,TRUE(),IF(MOD(F71,1)=0,TRUE(),FALSE())),FALSE()),FALSE()),FALSE())) -> TRUE | P71: =IF(ISBLANK(H71),"",IF(ISNUMBER(H71),IF(AND(H71>=0,H71<250),IF($F71<>$H71,IF(H71=0,TRUE(),IF(MOD(H71,1)=0,TRUE(),FALSE())),FALSE()),FALSE()),FALSE())) -> TRUE
B72: Zweite Runde | C72: Thunder | D72: =IF(C72>0,":","") -> : | E72: Nuggets | F72: 104 | G72: =IF(ISNUMBER(F72),":","") -> : | H72: 113 | I72: 1.42 | K72: 2.8 | M72: =IF(ISNUMBER(L72),IF(IF(F72>H72,1,"")=L72,I72,IF(IF(F72<H72,2,"")=L72,K72,IF(IF(F72=H72,0,"")=L72,J72,0))),"") | O72: =IF(ISBLANK(F72),"",IF(ISNUMBER(F72),IF(AND(F72>=0,F72<250),IF($F72<>$H72,IF(F72=0,TRUE(),IF(MOD(F72,1)=0,TRUE(),FALSE())),FALSE()),FALSE()),FALSE())) -> TRUE | P72: =IF(ISBLANK(H72),"",IF(ISNUMBER(H72),IF(AND(H72>=0,H72<250),IF($F72<>$H72,IF(H72=0,TRUE(),IF(MOD(H72,1)=0,TRUE(),FALSE())),FALSE()),FALSE()),FALSE())) -> TRUE
B73: Spiel 3 | C73: Celtics | D73: =IF(C73>0,":","") -> : | E73: Knicks | F73: 115 | G73: =IF(ISNUMBER(F73),":","") -> : | H73: 93 | I73: 1.4 | K73: 2.9 | M73: =IF(ISNUMBER(L73),IF(IF(F73>H73,1,"")=L73,I73,IF(IF(F73<H73,2,"")=L73,K73,IF(IF(F73=H73,0,"")=L73,J73,0))),"") | O73: =IF(ISBLANK(F73),"",IF(ISNUMBER(F73),IF(AND(F73>=0,F73<250),IF($F73<>$H73,IF(F73=0,TRUE(),IF(MOD(F73,1)=0,TRUE(),FALSE())),FALSE()),FALSE()),FALSE())) -> TRUE | P73: =IF(ISBLANK(H73),"",IF(ISNUMBER(H73),IF(AND(H73>=0,H73<250),IF($F73<>$H73,IF(H73=0,TRUE(),IF(MOD(H73,1)=0,TRUE(),FALSE())),FALSE()),FALSE()),FALSE())) -> TRUE
C74: Timberwolves | D74: =IF(C74>0,":","") -> : | E74: Warriors | F74: 102 | G74: =IF(ISNUMBER(F74),":","") -> : | H74: 97 | I74: 1.47 | K74: 2.65 | M74: =IF(ISNUMBER(L74),IF(IF(F74>H74,1,"")=L74,I74,IF(IF(F74<H74,2,"")=L74,K74,IF(IF(F74=H74,0,"")=L74,J74,0))),"") | O74: =IF(ISBLANK(F74),"",IF(ISNUMBER(F74),IF(AND(F74>=0,F74<250),IF($F74<>$H74,IF(F74=0,TRUE(),IF(MOD(F74,1)=0,TRUE(),FALSE())),FALSE()),FALSE()),FALSE())) -> TRUE | P74: =IF(ISBLANK(H74),"",IF(ISNUMBER(H74),IF(AND(H74>=0,H74<250),IF($F74<>$H74,IF(H74=0,TRUE(),IF(MOD(H74,1)=0,TRUE(),FALSE())),FALSE()),FALSE()),FALSE())) -> TRUE
D75: =IF(C75>0,":","") | G75: =IF(ISNUMBER(F75),":","") | M75: =IF(ISNUMBER(L75),IF(IF(F75>H75,1,"")=L75,I75,IF(IF(F75<H75,2,"")=L75,K75,IF(IF(F75=H75,0,"")=L75,J75,0))),"") | O75: =IF(ISBLANK(F75),"",IF(ISNUMBER(F75),IF(AND(F75>=0,F75<250),IF($F75<>$H75,IF(F75=0,TRUE(),IF(MOD(F75,1)=0,TRUE(),FALSE())),FALSE()),FALSE()),FALSE())) | P75: =IF(ISBLANK(H75),"",IF(ISNUMBER(H75),IF(AND(H75>=0,H75<250),IF($F75<>$H75,IF(H75=0,TRUE(),IF(MOD(H75,1)=0,TRUE(),FALSE())),FALSE()),FALSE()),FALSE()))
B76: Playoffs | C76: Cavaliers | D76: =IF(C76>0,":","") -> : | E76: Pacers | F76: 109 | G76: =IF(ISNUMBER(F76),":","") -> : | H76: 129 | I76: 1.4 | K76: 2.9 | M76: =IF(ISNUMBER(L76),IF(IF(F76>H76,1,"")=L76,I76,IF(IF(F76<H76,2,"")=L76,K76,IF(IF(F76=H76,0,"")=L76,J76,0))),"") | O76: =IF(ISBLANK(F76),"",IF(ISNUMBER(F76),IF(AND(F76>=0,F76<250),IF($F76<>$H76,IF(F76=0,TRUE(),IF(MOD(F76,1)=0,TRUE(),FALSE())),FALSE()),FALSE()),FALSE())) -> TRUE | P76: =IF(ISBLANK(H76),"",IF(ISNUMBER(H76),IF(AND(H76>=0,H76<250),IF($F76<>$H76,IF(H76=0,TRUE(),IF(MOD(H76,1)=0,TRUE(),FALSE())),FALSE()),FALSE()),FALSE())) -> TRUE
B77: Zweite Runde | C77: Celtics | D77: =IF(C77>0,":","") -> : | E77: Knicks | F77: 113 | G77: =IF(ISNUMBER(F77),":","") -> : | H77: 121 | I77: 1.35 | K77: 3.1 | M77: =IF(ISNUMBER(L77),IF(IF(F77>H77,1,"")=L77,I77,IF(IF(F77<H77,2,"")=L77,K77,IF(IF(F77=H77,0,"")=L77,J77,0))),"") | O77: =IF(ISBLANK(F77),"",IF(ISNUMBER(F77),IF(AND(F77>=0,F77<250),IF($F77<>$H77,IF(F77=0,TRUE(),IF(MOD(F77,1)=0,TRUE(),FALSE())),FALSE()),FALSE()),FALSE())) -> TRUE | P77: =IF(ISBLANK(H77),"",IF(ISNUMBER(H77),IF(AND(H77>=0,H77<250),IF($F77<>$H77,IF(H77=0,TRUE(),IF(MOD(H77,1)=0,TRUE(),FALSE())),FALSE()),FALSE()),FALSE())) -> TRUE
B78: Spiel 4 | C78: Timberwolves | D78: =IF(C78>0,":","") -> : | E78: Warriors | F78: 117 | G78: =IF(ISNUMBER(F78),":","") -> : | H78: 110 | I78: 1.47 | K78: 2.6 | M78: =IF(ISNUMBER(L78),IF(IF(F78>H78,1,"")=L78,I78,IF(IF(F78<H78,2,"")=L78,K78,IF(IF(F78=H78,0,"")=L78,J78,0))),"") | O78: =IF(ISBLANK(F78),"",IF(ISNUMBER(F78),IF(AND(F78>=0,F78<250),IF($F78<>$H78,IF(F78=0,TRUE(),IF(MOD(F78,1)=0,TRUE(),FALSE())),FALSE()),FALSE()),FALSE())) -> TRUE | P78: =IF(ISBLANK(H78),"",IF(ISNUMBER(H78),IF(AND(H78>=0,H78<250),IF($F78<>$H78,IF(H78=0,TRUE(),IF(MOD(H78,1)=0,TRUE(),FALSE())),FALSE()),FALSE()),FALSE())) -> TRUE
C79: Thunder | D79: =IF(C79>0,":","") -> : | E79: Nuggets | F79: 92 | G79: =IF(ISNUMBER(F79),":","") -> : | H79: 87 | I79: 1.37 | K79: 3 | M79: =IF(ISNUMBER(L79),IF(IF(F79>H79,1,"")=L79,I79,IF(IF(F79<H79,2,"")=L79,K79,IF(IF(F79=H79,0,"")=L79,J79,0))),"") | O79: =IF(ISBLANK(F79),"",IF(ISNUMBER(F79),IF(AND(F79>=0,F79<250),IF($F79<>$H79,IF(F79=0,TRUE(),IF(MOD(F79,1)=0,TRUE(),FALSE())),FALSE()),FALSE()),FALSE())) -> TRUE | P79: =IF(ISBLANK(H79),"",IF(ISNUMBER(H79),IF(AND(H79>=0,H79<250),IF($F79<>$H79,IF(H79=0,TRUE(),IF(MOD(H79,1)=0,TRUE(),FALSE())),FALSE()),FALSE()),FALSE())) -> TRUE
D80: =IF(C80>0,":","") | G80: =IF(ISNUMBER(F80),":","") | M80: =IF(ISNUMBER(L80),IF(IF(F80>H80,1,"")=L80,I80,IF(IF(F80<H80,2,"")=L80,K80,IF(IF(F80=H80,0,"")=L80,J80,0))),"") | O80: =IF(ISBLANK(F80),"",IF(ISNUMBER(F80),IF(AND(F80>=0,F80<250),IF($F80<>$H80,IF(F80=0,TRUE(),IF(MOD(F80,1)=0,TRUE(),FALSE())),FALSE()),FALSE()),FALSE())) | P80: =IF(ISBLANK(H80),"",IF(ISNUMBER(H80),IF(AND(H80>=0,H80<250),IF($F80<>$H80,IF(H80=0,TRUE(),IF(MOD(H80,1)=0,TRUE(),FALSE())),FALSE()),FALSE()),FALSE()))
D81: =IF(C81>0,":","") | G81: =IF(ISNUMBER(F81),":","") | M81: =IF(ISNUMBER(L81),IF(IF(F81>H81,1,"")=L81,I81,IF(IF(F81<H81,2,"")=L81,K81,IF(IF(F81=H81,0,"")=L81,J81,0))),"") | O81: =IF(ISBLANK(F81),"",IF(ISNUMBER(F81),IF(AND(F81>=0,F81<250),IF($F81<>$H81,IF(F81=0,TRUE(),IF(MOD(F81,1)=0,TRUE(),FALSE())),FALSE()),FALSE()),FALSE())) | P81: =IF(ISBLANK(H81),"",IF(ISNUMBER(H81),IF(AND(H81>=0,H81<250),IF($F81<>$H81,IF(H81=0,TRUE(),IF(MOD(H81,1)=0,TRUE(),FALSE())),FALSE()),FALSE()),FALSE()))
D82: =IF(C82>0,":","") | G82: =IF(ISNUMBER(F82),":","") | M82: =IF(ISNUMBER(L82),IF(IF(F82>H82,1,"")=L82,I82,IF(IF(F82<H82,2,"")=L82,K82,IF(IF(F82=H82,0,"")=L82,J82,0))),"") | O82: =IF(ISBLANK(F82),"",IF(ISNUMBER(F82),IF(AND(F82>=0,F82<250),IF($F82<>$H82,IF(F82=0,TRUE(),IF(MOD(F82,1)=0,TRUE(),FALSE())),FALSE()),FALSE()),FALSE())) | P82: =IF(ISBLANK(H82),"",IF(ISNUMBER(H82),IF(AND(H82>=0,H82<250),IF($F82<>$H82,IF(H82=0,TRUE(),IF(MOD(H82,1)=0,TRUE(),FALSE())),FALSE()),FALSE()),FALSE()))
D83: =IF(C83>0,":","") | G83: =IF(ISNUMBER(F83),":","") | M83: =IF(ISNUMBER(L83),IF(IF(F83>H83,1,"")=L83,I83,IF(IF(F83<H83,2,"")=L83,K83,IF(IF(F83=H83,0,"")=L83,J83,0))),"") | O83: =IF(ISBLANK(F83),"",IF(ISNUMBER(F83),IF(AND(F83>=0,F83<250),IF($F83<>$H83,IF(F83=0,TRUE(),IF(MOD(F83,1)=0,TRUE(),FALSE())),FALSE()),FALSE()),FALSE())) | P83: =IF(ISBLANK(H83),"",IF(ISNUMBER(H83),IF(AND(H83>=0,H83<250),IF($F83<>$H83,IF(H83=0,TRUE(),IF(MOD(H83,1)=0,TRUE(),FALSE())),FALSE()),FALSE()),FALSE()))
D84: =IF(C84>0,":","") | G84: =IF(ISNUMBER(F84),":","") | M84: =IF(ISNUMBER(L84),IF(IF(F84>H84,1,"")=L84,I84,IF(IF(F84<H84,2,"")=L84,K84,IF(IF(F84=H84,0,"")=L84,J84,0))),"") | O84: =IF(ISBLANK(F84),"",IF(ISNUMBER(F84),IF(AND(F84>=0,F84<250),IF($F84<>$H84,IF(F84=0,TRUE(),IF(MOD(F84,1)=0,TRUE(),FALSE())),FALSE()),FALSE()),FALSE())) | P84: =IF(ISBLANK(H84),"",IF(ISNUMBER(H84),IF(AND(H84>=0,H84<250),IF($F84<>$H84,IF(H84=0,TRUE(),IF(MOD(H84,1)=0,TRUE(),FALSE())),FALSE()),FALSE()),FALSE()))
D85: =IF(C85>0,":","") | G85: =IF(ISNUMBER(F85),":","") | M85: =IF(ISNUMBER(L85),IF(IF(F85>H85,1,"")=L85,I85,IF(IF(F85<H85,2,"")=L85,K85,IF(IF(F85=H85,0,"")=L85,J85,0))),"") | O85: =IF(ISBLANK(F85),"",IF(ISNUMBER(F85),IF(AND(F85>=0,F85<250),IF($F85<>$H85,IF(F85=0,TRUE(),IF(MOD(F85,1)=0,TRUE(),FALSE())),FALSE()),FALSE()),FALSE())) | P85: =IF(ISBLANK(H85),"",IF(ISNUMBER(H85),IF(AND(H85>=0,H85<250),IF($F85<>$H85,IF(H85=0,TRUE(),IF(MOD(H85,1)=0,TRUE(),FALSE())),FALSE()),FALSE()),FALSE()))
D86: =IF(C86>0,":","") | G86: =IF(ISNUMBER(F86),":","") | M86: =IF(ISNUMBER(L86),IF(IF(F86>H86,1,"")=L86,I86,IF(IF(F86<H86,2,"")=L86,K86,IF(IF(F86=H86,0,"")=L86,J86,0))),"") | O86: =IF(ISBLANK(F86),"",IF(ISNUMBER(F86),IF(AND(F86>=0,F86<250),IF($F86<>$H86,IF(F86=0,TRUE(),IF(MOD(F86,1)=0,TRUE(),FALSE())),FALSE()),FALSE()),FALSE())) | P86: =IF(ISBLANK(H86),"",IF(ISNUMBER(H86),IF(AND(H86>=0,H86<250),IF($F86<>$H86,IF(H86=0,TRUE(),IF(MOD(H86,1)=0,TRUE(),FALSE())),FALSE()),FALSE()),FALSE()))
D87: =IF(C87>0,":","") | G87: =IF(ISNUMBER(F87),":","") | M87: =IF(ISNUMBER(L87),IF(IF(F87>H87,1,"")=L87,I87,IF(IF(F87<H87,2,"")=L87,K87,IF(IF(F87=H87,0,"")=L87,J87,0))),"") | O87: =IF(ISBLANK(F87),"",IF(ISNUMBER(F87),IF(AND(F87>=0,F87<250),IF($F87<>$H87,IF(F87=0,TRUE(),IF(MOD(F87,1)=0,TRUE(),FALSE())),FALSE()),FALSE()),FALSE())) | P87: =IF(ISBLANK(H87),"",IF(ISNUMBER(H87),IF(AND(H87>=0,H87<250),IF($F87<>$H87,IF(H87=0,TRUE(),IF(MOD(H87,1)=0,TRUE(),FALSE())),FALSE()),FALSE()),FALSE()))
D88: =IF(C88>0,":","") | G88: =IF(ISNUMBER(F88),":","") | M88: =IF(ISNUMBER(L88),IF(IF(F88>H88,1,"")=L88,I88,IF(IF(F88<H88,2,"")=L88,K88,IF(IF(F88=H88,0,"")=L88,J88,0))),"") | O88: =IF(ISBLANK(F88),"",IF(ISNUMBER(F88),IF(AND(F88>=0,F88<250),IF($F88<>$H88,IF(F88=0,TRUE(),IF(MOD(F88,1)=0,TRUE(),FALSE())),FALSE()),FALSE()),FALSE())) | P88: =IF(ISBLANK(H88),"",IF(ISNUMBER(H88),IF(AND(H88>=0,H88<250),IF($F88<>$H88,IF(H88=0,TRUE(),IF(MOD(H88,1)=0,TRUE(),FALSE())),FALSE()),FALSE()),FALSE()))
D89: =IF(C89>0,":","") | G89: =IF(ISNUMBER(F89),":","") | M89: =IF(ISNUMBER(L89),IF(IF(F89>H89,1,"")=L89,I89,IF(IF(F89<H89,2,"")=L89,K89,IF(IF(F89=H89,0,"")=L89,J89,0))),"") | O89: =IF(ISBLANK(F89),"",IF(ISNUMBER(F89),IF(AND(F89>=0,F89<250),IF($F89<>$H89,IF(F89=0,TRUE(),IF(MOD(F89,1)=0,TRUE(),FALSE())),FALSE()),FALSE()),FALSE())) | P89: =IF(ISBLANK(H89),"",IF(ISNUMBER(H89),IF(AND(H89>=0,H89<250),IF($F89<>$H89,IF(H89=0,TRUE(),IF(MOD(H89,1)=0,TRUE(),FALSE())),FALSE()),FALSE()),FALSE()))
D90: =IF(C90>0,":","") | G90: =IF(ISNUMBER(F90),":","") | M90: =IF(ISNUMBER(L90),IF(IF(F90>H90,1,"")=L90,I90,IF(IF(F90<H90,2,"")=L90,K90,IF(IF(F90=H90,0,"")=L90,J90,0))),"") | O90: =IF(ISBLANK(F90),"",IF(ISNUMBER(F90),IF(AND(F90>=0,F90<250),IF($F90<>$H90,IF(F90=0,TRUE(),IF(MOD(F90,1)=0,TRUE(),FALSE())),FALSE()),FALSE()),FALSE())) | P90: =IF(ISBLANK(H90),"",IF(ISNUMBER(H90),IF(AND(H90>=0,H90<250),IF($F90<>$H90,IF(H90=0,TRUE(),IF(MOD(H90,1)=0,TRUE(),FALSE())),FALSE()),FALSE()),FALSE()))
D91: =IF(C91>0,":","") | G91: =IF(ISNUMBER(F91),":","") | M91: =IF(ISNUMBER(L91),IF(IF(F91>H91,1,"")=L91,I91,IF(IF(F91<H91,2,"")=L91,K91,IF(IF(F91=H91,0,"")=L91,J91,0))),"") | O91: =IF(ISBLANK(F91),"",IF(ISNUMBER(F91),IF(AND(F91>=0,F91<250),IF($F91<>$H91,IF(F91=0,TRUE(),IF(MOD(F91,1)=0,TRUE(),FALSE())),FALSE()),FALSE()),FALSE())) | P91: =IF(ISBLANK(H91),"",IF(ISNUMBER(H91),IF(AND(H91>=0,H91<250),IF($F91<>$H91,IF(H91=0,TRUE(),IF(MOD(H91,1)=0,TRUE(),FALSE())),FALSE()),FALSE()),FALSE()))
... D100: =IF(C100>0,":","") | G100: =IF(ISNUMBER(F100),":","") | M100: =IF(ISNUMBER(L100),IF(IF(F100>H100,1,"")=L100,I100,IF(IF(F100<H100,2,"")=L100,K100,IF(IF(F100=H100,0,"")=L100,J100,0))),"") | O100: =IF(ISBLANK(F100),"",IF(ISNUMBER(F100),IF(AND(F100>=0,F100<250),IF($F100<>$H100,IF(F100=0,TRUE(),IF(MOD(F100,1)=0,TRUE(),FALSE())),FALSE()),FALSE()),FALSE())) | P100: =IF(ISBLANK(H100),"",IF(ISNUMBER(H100),IF(AND(H100>=0,H100<250),IF($F100<>$H100,IF(H100=0,TRUE(),IF(MOD(H100,1)=0,TRUE(),FALSE())),FALSE()),FALSE()),FALSE()))

Sheet Kim_Unicorn
A1: Kim_Unicorn | B1: Spieltag | C1: Auswärts | E1: Heim | F1: Ergebnis | I1: 1 | J1: 2 | K1: 2 | L1: Tipp | M1: Richtig | N1: Gesamt | O1: Gültigk. D | P1: Gültik. F
B2: Play-Ins East | C2: Hawks | D2: =IF(C2>0,":","") -> : | E2: Magic | F2: 95 | G2: =IF(ISNUMBER(F2),":","") -> : | H2: 120 | I2: 2.6 | K2: 1.45 | L2: 2 | M2: =IF(ISNUMBER(L2),IF(IF(F2>H2,1,"")=L2,I2,IF(IF(F2<H2,2,"")=L2,K2,IF(IF(F2=H2,0,"")=L2,J2,0))),"") -> 1.45 | O2: =IF(ISBLANK(F2),"",IF(ISNUMBER(F2),IF(AND(F2>=0,F2<250),IF($F2<>$H2,IF(F2=0,TRUE(),IF(MOD(F2,1)=0,TRUE(),FALSE())),FALSE()),FALSE()),FALSE())) -> TRUE | P2: =IF(ISBLANK(H2),"",IF(ISNUMBER(H2),IF(AND(H2>=0,H2<250),IF($F2<>$H2,IF(H2=0,TRUE(),IF(MOD(H2,1)=0,TRUE(),FALSE())),FALSE()),FALSE()),FALSE())) -> TRUE
C3: Heat | D3: =IF(C3>0,":","") -> : | E3: Bulls | F3: 109 | G3: =IF(ISNUMBER(F3),":","") -> : | H3: 90 | I3: 1.97 | K3: 1.8 | L3: 2 | M3: =IF(ISNUMBER(L3),IF(IF(F3>H3,1,"")=L3,I3,IF(IF(F3<H3,2,"")=L3,K3,IF(IF(F3=H3,0,"")=L3,J3,0))),"") -> 0 | O3: =IF(ISBLANK(F3),"",IF(ISNUMBER(F3),IF(AND(F3>=0,F3<250),IF($F3<>$H3,IF(F3=0,TRUE(),IF(MOD(F3,1)=0,TRUE(),FALSE())),FALSE()),FALSE()),FALSE())) -> TRUE | P3: =IF(ISBLANK(H3),"",IF(ISNUMBER(H3),IF(AND(H3>=0,H3<250),IF($F3<>$H3,IF(H3=0,TRUE(),IF(MOD(H3,1)=0,TRUE(),FALSE())),FALSE()),FALSE()),FALSE())) -> TRUE
B4: Play-Ins West | C4: Grizzlies | D4: =IF(C4>0,":","") -> : | E4: Warriors | F4: 116 | G4: =IF(ISNUMBER(F4),":","") -> : | H4: 121 | I4: 3.3 | K4: 1.32 | L4: 2 | M4: =IF(ISNUMBER(L4),IF(IF(F4>H4,1,"")=L4,I4,IF(IF(F4<H4,2,"")=L4,K4,IF(IF(F4=H4,0,"")=L4,J4,0))),"") -> 1.32 | O4: =IF(ISBLANK(F4),"",IF(ISNUMBER(F4),IF(AND(F4>=0,F4<250),IF($F4<>$H4,IF(F4=0,TRUE(),IF(MOD(F4,1)=0,TRUE(),FALSE())),FALSE()),FALSE()),FALSE())) -> TRUE | P4: =IF(ISBLANK(H4),"",IF(ISNUMBER(H4),IF(AND(H4>=0,H4<250),IF($F4<>$H4,IF(H4=0,TRUE(),IF(MOD(H4,1)=0,TRUE(),FALSE())),FALSE()),FALSE()),FALSE())) -> TRUE
C5: Mavericks | D5: =IF(C5>0,":","") -> : | E5: Kings | F5: 120 | G5: =IF(ISNUMBER(F5),":","") -> : | H5: 106 | I5: 2.55 | K5: 1.5 | L5: 1 | M5: =IF(ISNUMBER(L5),IF(IF(F5>H5,1,"")=L5,I5,IF(IF(F5<H5,2,"")=L5,K5,IF(IF(F5=H5,0,"")=L5,J5,0))),"") -> 2.55 | N5: =SUM(M2:M5) -> 5.32 | O5: =IF(ISBLANK(F5),"",IF(ISNUMBER(F5),IF(AND(F5>=0,F5<250),IF($F5<>$H5,IF(F5=0,TRUE(),IF(MOD(F5,1)=0,TRUE(),FALSE())),FALSE()),FALSE()),FALSE())) -> TRUE | P5: =IF(ISBLANK(H5),"",IF(ISNUMBER(H5),IF(AND(H5>=0,H5<250),IF($F5<>$H5,IF(H5=0,TRUE(),IF(MOD(H5,1)=0,TRUE(),FALSE())),FALSE()),FALSE()),FALSE())) -> TRUE
D6: =IF(C6>0,":","") | G6: =IF(ISNUMBER(F6),":","") | M6: =IF(ISNUMBER(L6),IF(IF(F6>H6,1,"")=L6,I6,IF(IF(F6<H6,2,"")=L6,K6,IF(IF(F6=H6,0,"")=L6,J6,0))),"") | O6: =IF(ISBLANK(F6),"",IF(ISNUMBER(F6),IF(AND(F6>=0,F6<250),IF($F6<>$H6,IF(F6=0,TRUE(),IF(MOD(F6,1)=0,TRUE(),FALSE())),FALSE()),FALSE()),FALSE())) | P6: =IF(ISBLANK(H6),"",IF(ISNUMBER(H6),IF(AND(H6>=0,H6<250),IF($F6<>$H6,IF(H6=0,TRUE(),IF(MOD(H6,1)=0,TRUE(),FALSE())),FALSE()),FALSE()),FALSE()))
B7: Play-Ins East | C7: Heat | D7: =IF(C7>0,":","") -> : | E7: Hawks | F7: 123 | G7: =IF(ISNUMBER(F7),":","") -> : | H7: 114 | I7: 1.83 | K7: 1.93 | L7: 1 | M7: =IF(ISNUMBER(L7),IF(IF(F7>H7,1,"")=L7,I7,IF(IF(F7<H7,2,"")=L7,K7,IF(IF(F7=H7,0,"")=L7,J7,0))),"") -> 1.83 | O7: =IF(ISBLANK(F7),"",IF(ISNUMBER(F7),IF(AND(F7>=0,F7<250),IF($F7<>$H7,IF(F7=0,TRUE(),IF(MOD(F7,1)=0,TRUE(),FALSE())),FALSE()),FALSE()),FALSE())) -> TRUE | P7: =IF(ISBLANK(H7),"",IF(ISNUMBER(H7),IF(AND(H7>=0,H7<250),IF($F7<>$H7,IF(H7=0,TRUE(),IF(MOD(H7,1)=0,TRUE(),FALSE())),FALSE()),FALSE()),FALSE())) -> TRUE
B8: Play-Ins West | C8: Mavericks | D8: =IF(C8>0,":","") -> : | E8: Grizzlies | F8: 106 | G8: =IF(ISNUMBER(F8),":","") -> : | H8: 120 | I8: 2.9 | K8: 1.4 | L8: 1 | M8: =IF(ISNUMBER(L8),IF(IF(F8>H8,1,"")=L8,I8,IF(IF(F8<H8,2,"")=L8,K8,IF(IF(F8=H8,0,"")=L8,J8,0))),"") -> 0 | N8: =SUM(M7:M8) -> 1.83 | O8: =IF(ISBLANK(F8),"",IF(ISNUMBER(F8),IF(AND(F8>=0,F8<250),IF($F8<>$H8,IF(F8=0,TRUE(),IF(MOD(F8,1)=0,TRUE(),FALSE())),FALSE()),FALSE()),FALSE())) -> TRUE | P8: =IF(ISBLANK(H8),"",IF(ISNUMBER(H8),IF(AND(H8>=0,H8<250),IF($F8<>$H8,IF(H8=0,TRUE(),IF(MOD(H8,1)=0,TRUE(),FALSE())),FALSE()),FALSE()),FALSE())) -> TRUE
D9: =IF(C9>0,":","") | G9: =IF(ISNUMBER(F9),":","") | M9: =IF(ISNUMBER(L9),IF(IF(F9>H9,1,"")=L9,I9,IF(IF(F9<H9,2,"")=L9,K9,IF(IF(F9=H9,0,"")=L9,J9,0))),"") | O9: =IF(ISBLANK(F9),"",IF(ISNUMBER(F9),IF(AND(F9>=0,F9<250),IF($F9<>$H9,IF(F9=0,TRUE(),IF(MOD(F9,1)=0,TRUE(),FALSE())),FALSE()),FALSE()),FALSE())) | P9: =IF(ISBLANK(H9),"",IF(ISNUMBER(H9),IF(AND(H9>=0,H9<250),IF($F9<>$H9,IF(H9=0,TRUE(),IF(MOD(H9,1)=0,TRUE(),FALSE())),FALSE()),FALSE()),FALSE()))
B10: Playoffs | C10: Bucks | D10: =IF(C10>0,":","") -> : | E10: Pacers | F10: 98 | G10: =IF(ISNUMBER(F10),":","") -> : | H10: 117 | I10: 2.6 | K10: 1.47 | L10: 1 | M10: =IF(ISNUMBER(L10),IF(IF(F10>H10,1,"")=L10,I10,IF(IF(F10<H10,2,"")=L10,K10,IF(IF(F10=H10,0,"")=L10,J10,0))),"") -> 0 | O10: =IF(ISBLANK(F10),"",IF(ISNUMBER(F10),IF(AND(F10>=0,F10<250),IF($F10<>$H10,IF(F10=0,TRUE(),IF(MOD(F10,1)=0,TRUE(),FALSE())),FALSE()),FALSE()),FALSE())) -> TRUE | P10: =IF(ISBLANK(H10),"",IF(ISNUMBER(H10),IF(AND(H10>=0,H10<250),IF($F10<>$H10,IF(H10=0,TRUE(),IF(MOD(H10,1)=0,TRUE(),FALSE())),FALSE()),FALSE()),FALSE())) -> TRUE
B11: Erste Runde | C11: Clippers | D11: =IF(C11>0,":","") -> : | E11: Nuggets | F11: 110 | G11: =IF(ISNUMBER(F11),":","") -> : | H11: 112 | I11: 2.2 | K11: 1.63 | L11: 2 | M11: =IF(ISNUMBER(L11),IF(IF(F11>H11,1,"")=L11,I11,IF(IF(F11<H11,2,"")=L11,K11,IF(IF(F11=H11,0,"")=L11,J11,0))),"") -> 1.63 | O11: =IF(ISBLANK(F11),"",IF(ISNUMBER(F11),IF(AND(F11>=0,F11<250),IF($F11<>$H11,IF(F11=0,TRUE(),IF(MOD(F11,1)=0,TRUE(),FALSE())),FALSE()),FALSE()),FALSE())) -> TRUE | P11: =IF(ISBLANK(H11),"",IF(ISNUMBER(H11),IF(AND(H11>=0,H11<250),IF($F11<>$H11,IF(H11=0,TRUE(),IF(MOD(H11,1)=0,TRUE(),FALSE())),FALSE()),FALSE()),FALSE())) -> TRUE
B12: Spiel 1 | C12: Pistons | D12: =IF(C12>0,":","") -> : | E12: Knicks | F12: 112 | G12: =IF(ISNUMBER(F12),":","") -> : | H12: 123 | I12: 3.3 | K12: 1.32 | L12: 2 | M12: =IF(ISNUMBER(L12),IF(IF(F12>H12,1,"")=L12,I12,IF(IF(F12<H12,2,"")=L12,K12,IF(IF(F12=H12,0,"")=L12,#REF!,0))),"") -> 1.32 | O12: =IF(ISBLANK(F12),"",IF(ISNUMBER(F12),IF(AND(F12>=0,F12<250),IF($F12<>$H12,IF(F12=0,TRUE(),IF(MOD(F12,1)=0,TRUE(),FALSE())),FALSE()),FALSE()),FALSE())) -> TRUE | P12: =IF(ISBLANK(H12),"",IF(ISNUMBER(H12),IF(AND(H12>=0,H12<250),IF($F12<>$H12,IF(H12=0,TRUE(),IF(MOD(H12,1)=0,TRUE(),FALSE())),FALSE()),FALSE()),FALSE())) -> TRUE
C13: Timberwolves | D13: =IF(C13>0,":","") -> : | E13: Lakers | F13: 117 | G13: =IF(ISNUMBER(F13),":","") -> : | H13: 95 | I13: 2.5 | K13: 1.52 | L13: 1 | M13: =IF(ISNUMBER(L13),IF(IF(F13>H13,1,"")=L13,I13,IF(IF(F13<H13,2,"")=L13,K13,IF(IF(F13=H13,0,"")=L13,J13,0))),"") -> 2.5 | O13: =IF(ISBLANK(F13),"",IF(ISNUMBER(F13),IF(AND(F13>=0,F13<250),IF($F13<>$H13,IF(F13=0,TRUE(),IF(MOD(F13,1)=0,TRUE(),FALSE())),FALSE()),FALSE()),FALSE())) -> TRUE | P13: =IF(ISBLANK(H13),"",IF(ISNUMBER(H13),IF(AND(H13>=0,H13<250),IF($F13<>$H13,IF(H13=0,TRUE(),IF(MOD(H13,1)=0,TRUE(),FALSE())),FALSE()),FALSE()),FALSE())) -> TRUE
C14: Magic | D14: =IF(C14>0,":","") -> : | E14: Celtics | F14: 86 | G14: =IF(ISNUMBER(F14),":","") -> : | H14: 103 | I14: 7.8 | K14: 1.07 | L14: 2 | M14: =IF(ISNUMBER(L14),IF(IF(F14>H14,1,"")=L14,I14,IF(IF(F14<H14,2,"")=L14,K14,IF(IF(F14=H14,0,"")=L14,J14,0))),"") -> 1.07 | O14: =IF(ISBLANK(F14),"",IF(ISNUMBER(F14),IF(AND(F14>=0,F14<250),IF($F14<>$H14,IF(F14=0,TRUE(),IF(MOD(F14,1)=0,TRUE(),FALSE())),FALSE()),FALSE()),FALSE())) -> TRUE | P14: =IF(ISBLANK(H14),"",IF(ISNUMBER(H14),IF(AND(H14>=0,H14<250),IF($F14<>$H14,IF(H14=0,TRUE(),IF(MOD(H14,1)=0,TRUE(),FALSE())),FALSE()),FALSE()),FALSE())) -> TRUE
C15: Warriors | D15: =IF(C15>0,":","") -> : | E15: Rockets | F15: 95 | G15: =IF(ISNUMBER(F15),":","") -> : | H15: 85 | I15: 1.93 | K15: 1.83 | L15: 1 | M15: =IF(ISNUMBER(L15),IF(IF(F15>H15,1,"")=L15,I15,IF(IF(F15<H15,2,"")=L15,K15,IF(IF(F15=H15,0,"")=L15,J15,0))),"") -> 1.93 | O15: =IF(ISBLANK(F15),"",IF(ISNUMBER(F15),IF(AND(F15>=0,F15<250),IF($F15<>$H15,IF(F15=0,TRUE(),IF(MOD(F15,1)=0,TRUE(),FALSE())),FALSE()),FALSE()),FALSE())) -> TRUE | P15: =IF(ISBLANK(H15),"",IF(ISNUMBER(H15),IF(AND(H15>=0,H15<250),IF($F15<>$H15,IF(H15=0,TRUE(),IF(MOD(H15,1)=0,TRUE(),FALSE())),FALSE()),FALSE()),FALSE())) -> TRUE
C16: Grizzlies | D16: =IF(C16>0,":","") -> : | E16: Thunder | F16: 80 | G16: =IF(ISNUMBER(F16),":","") -> : | H16: 131 | I16: 5.5 | K16: 1.14 | L16: 2 | M16: =IF(ISNUMBER(L16),IF(IF(F16>H16,1,"")=L16,I16,IF(IF(F16<H16,2,"")=L16,K16,IF(IF(F16=H16,0,"")=L16,J16,0))),"") -> 1.14 | O16: =IF(ISBLANK(F16),"",IF(ISNUMBER(F16),IF(AND(F16>=0,F16<250),IF($F16<>$H16,IF(F16=0,TRUE(),IF(MOD(F16,1)=0,TRUE(),FALSE())),FALSE()),FALSE()),FALSE())) -> TRUE | P16: =IF(ISBLANK(H16),"",IF(ISNUMBER(H16),IF(AND(H16>=0,H16<250),IF($F16<>$H16,IF(H16=0,TRUE(),IF(MOD(H16,1)=0,TRUE(),FALSE())),FALSE()),FALSE()),FALSE())) -> TRUE
C17: Heat | D17: =IF(C17>0,":","") -> : | E17: Cavaliers | F17: 100 | G17: =IF(ISNUMBER(F17),":","") -> : | H17: 121 | I17: 6.5 | K17: 1.1 | L17: 2 | M17: =IF(ISNUMBER(L17),IF(IF(F17>H17,1,"")=L17,I17,IF(IF(F17<H17,2,"")=L17,K17,IF(IF(F17=H17,0,"")=L17,J17,0))),"") -> 1.1 | N17: =SUM(M10:M17) -> 10.69 | O17: =IF(ISBLANK(F17),"",IF(ISNUMBER(F17),IF(AND(F17>=0,F17<250),IF($F17<>$H17,IF(F17=0,TRUE(),IF(MOD(F17,1)=0,TRUE(),FALSE())),FALSE()),FALSE()),FALSE())) -> TRUE | P17: =IF(ISBLANK(H17),"",IF(ISNUMBER(H17),IF(AND(H17>=0,H17<250),IF($F17<>$H17,IF(H17=0,TRUE(),IF(MOD(H17,1)=0,TRUE(),FALSE())),FALSE()),FALSE()),FALSE())) -> TRUE
D18: =IF(C18>0,":","") | G18: =IF(ISNUMBER(F18),":","") | M18: =IF(ISNUMBER(L18),IF(IF(F18>H18,1,"")=L18,I18,IF(IF(F18<H18,2,"")=L18,K18,IF(IF(F18=H18,0,"")=L18,J18,0))),"") | O18: =IF(ISBLANK(F18),"",IF(ISNUMBER(F18),IF(AND(F18>=0,F18<250),IF($F18<>$H18,IF(F18=0,TRUE(),IF(MOD(F18,1)=0,TRUE(),FALSE())),FALSE()),FALSE()),FALSE())) | P18: =IF(ISBLANK(H18),"",IF(ISNUMBER(H18),IF(AND(H18>=0,H18<250),IF($F18<>$H18,IF(H18=0,TRUE(),IF(MOD(H18,1)=0,TRUE(),FALSE())),FALSE()),FALSE()),FALSE()))
B19: Playoffs | C19: Pistons | D19: =IF(C19>0,":","") -> : | E19: Knicks | F19: 100 | G19: =IF(ISNUMBER(F19),":","") -> : | H19: 94 | I19: 3 | K19: 1.37 | L19: 2 | M19: =IF(ISNUMBER(L19),IF(IF(F19>H19,1,"")=L19,I19,IF(IF(F19<H19,2,"")=L19,K19,IF(IF(F19=H19,0,"")=L19,J19,0))),"") -> 0 | O19: =IF(ISBLANK(F19),"",IF(ISNUMBER(F19),IF(AND(F19>=0,F19<250),IF($F19<>$H19,IF(F19=0,TRUE(),IF(MOD(F19,1)=0,TRUE(),FALSE())),FALSE()),FALSE()),FALSE())) -> TRUE | P19: =IF(ISBLANK(H19),"",IF(ISNUMBER(H19),IF(AND(H19>=0,H19<250),IF($F19<>$H19,IF(H19=0,TRUE(),IF(MOD(H19,1)=0,TRUE(),FALSE())),FALSE()),FALSE()),FALSE())) -> TRUE
B20: Erste Runde | C20: Clippers | D20: =IF(C20>0,":","") -> : | E20: Nuggets | F20: 105 | G20: =IF(ISNUMBER(F20),":","") -> : | H20: 102 | I20: 1.83 | K20: 1.93 | L20: 2 | M20: =IF(ISNUMBER(L20),IF(IF(F20>H20,1,"")=L20,I20,IF(IF(F20<H20,2,"")=L20,K20,IF(IF(F20=H20,0,"")=L20,J20,0))),"") -> 0 | O20: =IF(ISBLANK(F20),"",IF(ISNUMBER(F20),IF(AND(F20>=0,F20<250),IF($F20<>$H20,IF(F20=0,TRUE(),IF(MOD(F20,1)=0,TRUE(),FALSE())),FALSE()),FALSE()),FALSE())) -> TRUE | P20: =IF(ISBLANK(H20),"",IF(ISNUMBER(H20),IF(AND(H20>=0,H20<250),IF($F20<>$H20,IF(H20=0,TRUE(),IF(MOD(H20,1)=0,TRUE(),FALSE())),FALSE()),FALSE()),FALSE())) -> TRUE
B21: Spiel 2 | C21: Bucks | D21: =IF(C21>0,":","") -> : | E21: Pacers | F21: 115 | G21: =IF(ISNUMBER(F21),":","") -> : | H21: 123 | I21: 2.6 | K21: 1.47 | L21: 2 | M21: =IF(ISNUMBER(L21),IF(IF(F21>H21,1,"")=L21,I21,IF(IF(F21<H21,2,"")=L21,K21,IF(IF(F21=H21,0,"")=L21,J21,0))),"") -> 1.47 | O21: =IF(ISBLANK(F21),"",IF(ISNUMBER(F21),IF(AND(F21>=0,F21<250),IF($F21<>$H21,IF(F21=0,TRUE(),IF(MOD(F21,1)=0,TRUE(),FALSE())),FALSE()),FALSE()),FALSE())) -> TRUE | P21: =IF(ISBLANK(H21),"",IF(ISNUMBER(H21),IF(AND(H21>=0,H21<250),IF($F21<>$H21,IF(H21=0,TRUE(),IF(MOD(H21,1)=0,TRUE(),FALSE())),FALSE()),FALSE()),FALSE())) -> TRUE
C22: Grizzlies | D22: =IF(C22>0,":","") -> : | E22: Thunder | F22: 99 | G22: =IF(ISNUMBER(F22),":","") -> : | H22: 118 | I22: 8.5 | K22: 1.06 | L22: 2 | M22: =IF(ISNUMBER(L22),IF(IF(F22>H22,1,"")=L22,I22,IF(IF(F22<H22,2,"")=L22,K22,IF(IF(F22=H22,0,"")=L22,J22,0))),"") -> 1.06 | O22: =IF(ISBLANK(F22),"",IF(ISNUMBER(F22),IF(AND(F22>=0,F22<250),IF($F22<>$H22,IF(F22=0,TRUE(),IF(MOD(F22,1)=0,TRUE(),FALSE())),FALSE()),FALSE()),FALSE())) -> TRUE | P22: =IF(ISBLANK(H22),"",IF(ISNUMBER(H22),IF(AND(H22>=0,H22<250),IF($F22<>$H22,IF(H22=0,TRUE(),IF(MOD(H22,1)=0,TRUE(),FALSE())),FALSE()),FALSE()),FALSE())) -> TRUE
C23: Timberwolves | D23: =IF(C23>0,":","") -> : | E23: Lakers | F23: 85 | G23: =IF(ISNUMBER(F23),":","") -> : | H23: 94 | I23: 3.1 | K23: 1.35 | L23: 2 | M23: =IF(ISNUMBER(L23),IF(IF(F23>H23,1,"")=L23,I23,IF(IF(F23<H23,2,"")=L23,K23,IF(IF(F23=H23,0,"")=L23,J23,0))),"") -> 1.35 | O23: =IF(ISBLANK(F23),"",IF(ISNUMBER(F23),IF(AND(F23>=0,F23<250),IF($F23<>$H23,IF(F23=0,TRUE(),IF(MOD(F23,1)=0,TRUE(),FALSE())),FALSE()),FALSE()),FALSE())) -> TRUE | P23: =IF(ISBLANK(H23),"",IF(ISNUMBER(H23),IF(AND(H23>=0,H23<250),IF($F23<>$H23,IF(H23=0,TRUE(),IF(MOD(H23,1)=0,TRUE(),FALSE())),FALSE()),FALSE()),FALSE())) -> TRUE
C24: Magic | D24: =IF(C24>0,":","") -> : | E24: Celtics | F24: 100 | G24: =IF(ISNUMBER(F24),":","") -> : | H24: 109 | I24: 6.2 | K24: 1.11 | L24: 2 | M24: =IF(ISNUMBER(L24),IF(IF(F24>H24,1,"")=L24,I24,IF(IF(F24<H24,2,"")=L24,K24,IF(IF(F24=H24,0,"")=L24,J24,0))),"") -> 1.11 | O24: =IF(ISBLANK(F24),"",IF(ISNUMBER(F24),IF(AND(F24>=0,F24<250),IF($F24<>$H24,IF(F24=0,TRUE(),IF(MOD(F24,1)=0,TRUE(),FALSE())),FALSE()),FALSE()),FALSE())) -> TRUE | P24: =IF(ISBLANK(H24),"",IF(ISNUMBER(H24),IF(AND(H24>=0,H24<250),IF($F24<>$H24,IF(H24=0,TRUE(),IF(MOD(H24,1)=0,TRUE(),FALSE())),FALSE()),FALSE()),FALSE())) -> TRUE
C25: Heat | D25: =IF(C25>0,":","") -> : | E25: Cavaliers | F25: 112 | G25: =IF(ISNUMBER(F25),":","") -> : | H25: 121 | I25: 5.5 | K25: 1.14 | L25: 2 | M25: =IF(ISNUMBER(L25),IF(IF(F25>H25,1,"")=L25,I25,IF(IF(F25<H25,2,"")=L25,K25,IF(IF(F25=H25,0,"")=L25,J25,0))),"") -> 1.14 | O25: =IF(ISBLANK(F25),"",IF(ISNUMBER(F25),IF(AND(F25>=0,F25<250),IF($F25<>$H25,IF(F25=0,TRUE(),IF(MOD(F25,1)=0,TRUE(),FALSE())),FALSE()),FALSE()),FALSE())) -> TRUE | P25: =IF(ISBLANK(H25),"",IF(ISNUMBER(H25),IF(AND(H25>=0,H25<250),IF($F25<>$H25,IF(H25=0,TRUE(),IF(MOD(H25,1)=0,TRUE(),FALSE())),FALSE()),FALSE()),FALSE())) -> TRUE
C26: Warriors | D26: =IF(C26>0,":","") -> : | E26: Rockets | F26: 94 | G26: =IF(ISNUMBER(F26),":","") -> : | H26: 109 | I26: 2.1 | K26: 1.72 | L26: 1 | M26: =IF(ISNUMBER(L26),IF(IF(F26>H26,1,"")=L26,I26,IF(IF(F26<H26,2,"")=L26,K26,IF(IF(F26=H26,0,"")=L26,J26,0))),"") -> 0 | N26: =SUM(M19:M26) -> 6.13 | O26: =IF(ISBLANK(F26),"",IF(ISNUMBER(F26),IF(AND(F26>=0,F26<250),IF($F26<>$H26,IF(F26=0,TRUE(),IF(MOD(F26,1)=0,TRUE(),FALSE())),FALSE()),FALSE()),FALSE())) -> TRUE | P26: =IF(ISBLANK(H26),"",IF(ISNUMBER(H26),IF(AND(H26>=0,H26<250),IF($F26<>$H26,IF(H26=0,TRUE(),IF(MOD(H26,1)=0,TRUE(),FALSE())),FALSE()),FALSE()),FALSE())) -> TRUE
D27: =IF(C27>0,":","") | G27: =IF(ISNUMBER(F27),":","") | M27: =IF(ISNUMBER(L27),IF(IF(F27>H27,1,"")=L27,I27,IF(IF(F27<H27,2,"")=L27,K27,IF(IF(F27=H27,0,"")=L27,J27,0))),"") | O27: =IF(ISBLANK(F27),"",IF(ISNUMBER(F27),IF(AND(F27>=0,F27<250),IF($F27<>$H27,IF(F27=0,TRUE(),IF(MOD(F27,1)=0,TRUE(),FALSE())),FALSE()),FALSE()),FALSE())) | P27: =IF(ISBLANK(H27),"",IF(ISNUMBER(H27),IF(AND(H27>=0,H27<250),IF($F27<>$H27,IF(H27=0,TRUE(),IF(MOD(H27,1)=0,TRUE(),FALSE())),FALSE()),FALSE()),FALSE()))
B28: Playoffs | C28: Knicks | D28: =IF(C28>0,":","") -> : | E28: Pistons | F28: 118 | G28: =IF(ISNUMBER(F28),":","") -> : | H28: 116 | I28: 1.83 | K28: 1.93 | M28: =IF(ISNUMBER(L28),IF(IF(F28>H28,1,"")=L28,I28,IF(IF(F28<H28,2,"")=L28,K28,IF(IF(F28=H28,0,"")=L28,J28,0))),"") | O28: =IF(ISBLANK(F28),"",IF(ISNUMBER(F28),IF(AND(F28>=0,F28<250),IF($F28<>$H28,IF(F28=0,TRUE(),IF(MOD(F28,1)=0,TRUE(),FALSE())),FALSE()),FALSE()),FALSE())) -> TRUE | P28: =IF(ISBLANK(H28),"",IF(ISNUMBER(H28),IF(AND(H28>=0,H28<250),IF($F28<>$H28,IF(H28=0,TRUE(),IF(MOD(H28,1)=0,TRUE(),FALSE())),FALSE()),FALSE()),FALSE())) -> TRUE
B29: Erste Runde | C29: Thunder | D29: =IF(C29>0,":","") -> : | E29: Grizzlies | F29: 114 | G29: =IF(ISNUMBER(F29),":","") -> : | H29: 108 | I29: 1.2 | K29: 4.4 | M29: =IF(ISNUMBER(L29),IF(IF(F29>H29,1,"")=L29,I29,IF(IF(F29<H29,2,"")=L29,K29,IF(IF(F29=H29,0,"")=L29,J29,0))),"") | O29: =IF(ISBLANK(F29),"",IF(ISNUMBER(F29),IF(AND(F29>=0,F29<250),IF($F29<>$H29,IF(F29=0,TRUE(),IF(MOD(F29,1)=0,TRUE(),FALSE())),FALSE()),FALSE()),FALSE())) -> TRUE | P29: =IF(ISBLANK(H29),"",IF(ISNUMBER(H29),IF(AND(H29>=0,H29<250),IF($F29<>$H29,IF(H29=0,TRUE(),IF(MOD(H29,1)=0,TRUE(),FALSE())),FALSE()),FALSE()),FALSE())) -> TRUE
B30: Spiel 3 | C30: Nuggets | D30: =IF(C30>0,":","") -> : | E30: Clippers | F30: 83 | G30: =IF(ISNUMBER(F30),":","") -> : | H30: 117 | I30: 2.8 | K30: 1.42 | M30: =IF(ISNUMBER(L30),IF(IF(F30>H30,1,"")=L30,I30,IF(IF(F30<H30,2,"")=L30,K30,IF(IF(F30=H30,0,"")=L30,J30,0))),"") | O30: =IF(ISBLANK(F30),"",IF(ISNUMBER(F30),IF(AND(F30>=0,F30<250),IF($F30<>$H30,IF(F30=0,TRUE(),IF(MOD(F30,1)=0,TRUE(),FALSE())),FALSE()),FALSE()),FALSE())) -> TRUE | P30: =IF(ISBLANK(H30),"",IF(ISNUMBER(H30),IF(AND(H30>=0,H30<250),IF($F30<>$H30,IF(H30=0,TRUE(),IF(MOD(H30,1)=0,TRUE(),FALSE())),FALSE()),FALSE()),FALSE())) -> TRUE
C31: Celtics | D31: =IF(C31>0,":","") -> : | E31: Magic | F31: 93 | G31: =IF(ISNUMBER(F31),":","") -> : | H31: 95 | I31: 1.4 | K31: 2.9 | L31: 2 | M31: =IF(ISNUMBER(L31),IF(IF(F31>H31,1,"")=L31,I31,IF(IF(F31<H31,2,"")=L31,K31,IF(IF(F31=H31,0,"")=L31,J31,0))),"") -> 2.9 | O31: =IF(ISBLANK(F31),"",IF(ISNUMBER(F31),IF(AND(F31>=0,F31<250),IF($F31<>$H31,IF(F31=0,TRUE(),IF(MOD(F31,1)=0,TRUE(),FALSE())),FALSE()),FALSE()),FALSE())) -> TRUE | P31: =IF(ISBLANK(H31),"",IF(ISNUMBER(H31),IF(AND(H31>=0,H31<250),IF($F31<>$H31,IF(H31=0,TRUE(),IF(MOD(H31,1)=0,TRUE(),FALSE())),FALSE()),FALSE()),FALSE())) -> TRUE
C32: Pacers | D32: =IF(C32>0,":","") -> : | E32: Bucks | F32: 101 | G32: =IF(ISNUMBER(F32),":","") -> : | H32: 117 | I32: 2.8 | K32: 1.42 | L32: 2 | M32: =IF(ISNUMBER(L32),IF(IF(F32>H32,1,"")=L32,I32,IF(IF(F32<H32,2,"")=L32,K32,IF(IF(F32=H32,0,"")=L32,J32,0))),"") -> 1.42 | O32: =IF(ISBLANK(F32),"",IF(ISNUMBER(F32),IF(AND(F32>=0,F32<250),IF($F32<>$H32,IF(F32=0,TRUE(),IF(MOD(F32,1)=0,TRUE(),FALSE())),FALSE()),FALSE()),FALSE())) -> TRUE | P32: =IF(ISBLANK(H32),"",IF(ISNUMBER(H32),IF(AND(H32>=0,H32<250),IF($F32<>$H32,IF(H32=0,TRUE(),IF(MOD(H32,1)=0,TRUE(),FALSE())),FALSE()),FALSE()),FALSE())) -> TRUE
C33: Lakers | D33: =IF(C33>0,":","") -> : | E33: Timberwolves | F33: 104 | G33: =IF(ISNUMBER(F33),":","") -> : | H33: 116 | I33: 2.25 | K33: 1.62 | L33: 1 | M33: =IF(ISNUMBER(L33),IF(IF(F33>H33,1,"")=L33,I33,IF(IF(F33<H33,2,"")=L33,K33,IF(IF(F33=H33,0,"")=L33,J33,0))),"") -> 0 | O33: =IF(ISBLANK(F33),"",IF(ISNUMBER(F33),IF(AND(F33>=0,F33<250),IF($F33<>$H33,IF(F33=0,TRUE(),IF(MOD(F33,1)=0,TRUE(),FALSE())),FALSE()),FALSE()),FALSE())) -> TRUE | P33: =IF(ISBLANK(H33),"",IF(ISNUMBER(H33),IF(AND(H33>=0,H33<250),IF($F33<>$H33,IF(H33=0,TRUE(),IF(MOD(H33,1)=0,TRUE(),FALSE())),FALSE()),FALSE()),FALSE())) -> TRUE
C34: Cavaliers | D34: =IF(C34>0,":","") -> : | E34: Heat | F34: 124 | G34: =IF(ISNUMBER(F34),":","") -> : | H34: 87 | I34: 1.4 | K34: 2.9 | L34: 1 | M34: =IF(ISNUMBER(L34),IF(IF(F34>H34,1,"")=L34,I34,IF(IF(F34<H34,2,"")=L34,K34,IF(IF(F34=H34,0,"")=L34,J34,0))),"") -> 1.4 | O34: =IF(ISBLANK(F34),"",IF(ISNUMBER(F34),IF(AND(F34>=0,F34<250),IF($F34<>$H34,IF(F34=0,TRUE(),IF(MOD(F34,1)=0,TRUE(),FALSE())),FALSE()),FALSE()),FALSE())) -> TRUE | P34: =IF(ISBLANK(H34),"",IF(ISNUMBER(H34),IF(AND(H34>=0,H34<250),IF($F34<>$H34,IF(H34=0,TRUE(),IF(MOD(H34,1)=0,TRUE(),FALSE())),FALSE()),FALSE()),FALSE())) -> TRUE
C35: Rockets | D35: =IF(C35>0,":","") -> : | E35: Warriors | F35: 93 | G35: =IF(ISNUMBER(F35),":","") -> : | H35: 104 | I35: 2.25 | K35: 1.62 | L35: 1 | M35: =IF(ISNUMBER(L35),IF(IF(F35>H35,1,"")=L35,I35,IF(IF(F35<H35,2,"")=L35,K35,IF(IF(F35=H35,0,"")=L35,J35,0))),"") -> 0 | N35: =SUM(M28:M35) -> 5.72 | O35: =IF(ISBLANK(F35),"",IF(ISNUMBER(F35),IF(AND(F35>=0,F35<250),IF($F35<>$H35,IF(F35=0,TRUE(),IF(MOD(F35,1)=0,TRUE(),FALSE())),FALSE()),FALSE()),FALSE())) -> TRUE | P35: =IF(ISBLANK(H35),"",IF(ISNUMBER(H35),IF(AND(H35>=0,H35<250),IF($F35<>$H35,IF(H35=0,TRUE(),IF(MOD(H35,1)=0,TRUE(),FALSE())),FALSE()),FALSE()),FALSE())) -> TRUE
D36: =IF(C36>0,":","") | G36: =IF(ISNUMBER(F36),":","") | M36: =IF(ISNUMBER(L36),IF(IF(F36>H36,1,"")=L36,I36,IF(IF(F36<H36,2,"")=L36,K36,IF(IF(F36=H36,0,"")=L36,J36,0))),"") | O36: =IF(ISBLANK(F36),"",IF(ISNUMBER(F36),IF(AND(F36>=0,F36<250),IF($F36<>$H36,IF(F36=0,TRUE(),IF(MOD(F36,1)=0,TRUE(),FALSE())),FALSE()),FALSE()),FALSE())) | P36: =IF(ISBLANK(H36),"",IF(ISNUMBER(H36),IF(AND(H36>=0,H36<250),IF($F36<>$H36,IF(H36=0,TRUE(),IF(MOD(H36,1)=0,TRUE(),FALSE())),FALSE()),FALSE()),FALSE()))
B37: Playoffs | C37: Thunder | D37: =IF(C37>0,":","") -> : | E37: Grizzlies | F37: 117 | G37: =IF(ISNUMBER(F37),":","") -> : | H37: 115 | I37: 1.1 | K37: 6.7 | L37: 1 | M37: =IF(ISNUMBER(L37),IF(IF(F37>H37,1,"")=L37,I37,IF(IF(F37<H37,2,"")=L37,K37,IF(IF(F37=H37,0,"")=L37,J37,0))),"") -> 1.1 | O37: =IF(ISBLANK(F37),"",IF(ISNUMBER(F37),IF(AND(F37>=0,F37<250),IF($F37<>$H37,IF(F37=0,TRUE(),IF(MOD(F37,1)=0,TRUE(),FALSE())),FALSE()),FALSE()),FALSE())) -> TRUE | P37: =IF(ISBLANK(H37),"",IF(ISNUMBER(H37),IF(AND(H37>=0,H37<250),IF($F37<>$H37,IF(H37=0,TRUE(),IF(MOD(H37,1)=0,TRUE(),FALSE())),FALSE()),FALSE()),FALSE())) -> TRUE
B38: Erste Runde | C38: Nuggets | D38: =IF(C38>0,":","") -> : | E38: Clippers | F38: 101 | G38: =IF(ISNUMBER(F38),":","") -> : | H38: 99 | I38: 2.8 | K38: 1.42 | L38: 2 | M38: =IF(ISNUMBER(L38),IF(IF(F38>H38,1,"")=L38,I38,IF(IF(F38<H38,2,"")=L38,K38,IF(IF(F38=H38,0,"")=L38,J38,0))),"") -> 0 | O38: =IF(ISBLANK(F38),"",IF(ISNUMBER(F38),IF(AND(F38>=0,F38<250),IF($F38<>$H38,IF(F38=0,TRUE(),IF(MOD(F38,1)=0,TRUE(),FALSE())),FALSE()),FALSE()),FALSE())) -> TRUE | P38: =IF(ISBLANK(H38),"",IF(ISNUMBER(H38),IF(AND(H38>=0,H38<250),IF($F38<>$H38,IF(H38=0,TRUE(),IF(MOD(H38,1)=0,TRUE(),FALSE())),FALSE()),FALSE()),FALSE())) -> TRUE
B39: Spiel 4 | C39: Knicks | D39: =IF(C39>0,":","") -> : | E39: Pistons | F39: 94 | G39: =IF(ISNUMBER(F39),":","") -> : | H39: 93 | I39: 1.9 | K39: 1.87 | L39: 2 | M39: =IF(ISNUMBER(L39),IF(IF(F39>H39,1,"")=L39,I39,IF(IF(F39<H39,2,"")=L39,K39,IF(IF(F39=H39,0,"")=L39,J39,0))),"") -> 0 | O39: =IF(ISBLANK(F39),"",IF(ISNUMBER(F39),IF(AND(F39>=0,F39<250),IF($F39<>$H39,IF(F39=0,TRUE(),IF(MOD(F39,1)=0,TRUE(),FALSE())),FALSE()),FALSE()),FALSE())) -> TRUE | P39: =IF(ISBLANK(H39),"",IF(ISNUMBER(H39),IF(AND(H39>=0,H39<250),IF($F39<>$H39,IF(H39=0,TRUE(),IF(MOD(H39,1)=0,TRUE(),FALSE())),FALSE()),FALSE()),FALSE())) -> TRUE
C40: Lakers | D40: =IF(C40>0,":","") -> : | E40: Timberwolves | F40: 113 | G40: =IF(ISNUMBER(F40),":","") -> : | H40: 116 | I40: 2.3 | K40: 1.6 | L40: 2 | M40: =IF(ISNUMBER(L40),IF(IF(F40>H40,1,"")=L40,I40,IF(IF(F40<H40,2,"")=L40,K40,IF(IF(F40=H40,0,"")=L40,J40,0))),"") -> 1.6 | O40: =IF(ISBLANK(F40),"",IF(ISNUMBER(F40),IF(AND(F40>=0,F40<250),IF($F40<>$H40,IF(F40=0,TRUE(),IF(MOD(F40,1)=0,TRUE(),FALSE())),FALSE()),FALSE()),FALSE())) -> TRUE | P40: =IF(ISBLANK(H40),"",IF(ISNUMBER(H40),IF(AND(H40>=0,H40<250),IF($F40<>$H40,IF(H40=0,TRUE(),IF(MOD(H40,1)=0,TRUE(),FALSE())),FALSE()),FALSE()),FALSE())) -> TRUE
C41: Celtics | D41: =IF(C41>0,":","") -> : | E41: Magic | F41: 107 | G41: =IF(ISNUMBER(F41),":","") -> : | H41: 98 | I41: 1.32 | K41: 3.3 | L41: 1 | M41: =IF(ISNUMBER(L41),IF(IF(F41>H41,1,"")=L41,I41,IF(IF(F41<H41,2,"")=L41,K41,IF(IF(F41=H41,0,"")=L41,J41,0))),"") -> 1.32 | O41: =IF(ISBLANK(F41),"",IF(ISNUMBER(F41),IF(AND(F41>=0,F41<250),IF($F41<>$H41,IF(F41=0,TRUE(),IF(MOD(F41,1)=0,TRUE(),FALSE())),FALSE()),FALSE()),FALSE())) -> TRUE | P41: =IF(ISBLANK(H41),"",IF(ISNUMBER(H41),IF(AND(H41>=0,H41<250),IF($F41<>$H41,IF(H41=0,TRUE(),IF(MOD(H41,1)=0,TRUE(),FALSE())),FALSE()),FALSE()),FALSE())) -> TRUE
C42: Pacers | D42: =IF(C42>0,":","") -> : | E42: Bucks | F42: 129 | G42: =IF(ISNUMBER(F42),":","") -> : | H42: 103 | I42: 2.7 | K42: 1.45 | L42: 2 | M42: =IF(ISNUMBER(L42),IF(IF(F42>H42,1,"")=L42,I42,IF(IF(F42<H42,2,"")=L42,K42,IF(IF(F42=H42,0,"")=L42,J42,0))),"") -> 0 | O42: =IF(ISBLANK(F42),"",IF(ISNUMBER(F42),IF(AND(F42>=0,F42<250),IF($F42<>$H42,IF(F42=0,TRUE(),IF(MOD(F42,1)=0,TRUE(),FALSE())),FALSE()),FALSE()),FALSE())) -> TRUE | P42: =IF(ISBLANK(H42),"",IF(ISNUMBER(H42),IF(AND(H42>=0,H42<250),IF($F42<>$H42,IF(H42=0,TRUE(),IF(MOD(H42,1)=0,TRUE(),FALSE())),FALSE()),FALSE()),FALSE())) -> TRUE
C43: Rockets | D43: =IF(C43>0,":","") -> : | E43: Warriors | F43: 106 | G43: =IF(ISNUMBER(F43),":","") -> : | H43: 109 | I43: 2.4 | K43: 1.55 | L43: 2 | M43: =IF(ISNUMBER(L43),IF(IF(F43>H43,1,"")=L43,I43,IF(IF(F43<H43,2,"")=L43,K43,IF(IF(F43=H43,0,"")=L43,J43,0))),"") -> 1.55 | O43: =IF(ISBLANK(F43),"",IF(ISNUMBER(F43),IF(AND(F43>=0,F43<250),IF($F43<>$H43,IF(F43=0,TRUE(),IF(MOD(F43,1)=0,TRUE(),FALSE())),FALSE()),FALSE()),FALSE())) -> TRUE | P43: =IF(ISBLANK(H43),"",IF(ISNUMBER(H43),IF(AND(H43>=0,H43<250),IF($F43<>$H43,IF(H43=0,TRUE(),IF(MOD(H43,1)=0,TRUE(),FALSE())),FALSE()),FALSE()),FALSE())) -> TRUE
C44: Cavaliers | D44: =IF(C44>0,":","") -> : | E44: Heat | F44: 138 | G44: =IF(ISNUMBER(F44),":","") -> : | H44: 83 | I44: 1.22 | K44: 4.1 | L44: 1 | M44: =IF(ISNUMBER(L44),IF(IF(F44>H44,1,"")=L44,I44,IF(IF(F44<H44,2,"")=L44,K44,IF(IF(F44=H44,0,"")=L44,J44,0))),"") -> 1.22 | N44: =SUM(M37:M44) -> 6.79 | O44: =IF(ISBLANK(F44),"",IF(ISNUMBER(F44),IF(AND(F44>=0,F44<250),IF($F44<>$H44,IF(F44=0,TRUE(),IF(MOD(F44,1)=0,TRUE(),FALSE())),FALSE()),FALSE()),FALSE())) -> TRUE | P44: =IF(ISBLANK(H44),"",IF(ISNUMBER(H44),IF(AND(H44>=0,H44<250),IF($F44<>$H44,IF(H44=0,TRUE(),IF(MOD(H44,1)=0,TRUE(),FALSE())),FALSE()),FALSE()),FALSE())) -> TRUE
D45: =IF(C45>0,":","") | G45: =IF(ISNUMBER(F45),":","") | M45: =IF(ISNUMBER(L45),IF(IF(F45>H45,1,"")=L45,I45,IF(IF(F45<H45,2,"")=L45,K45,IF(IF(F45=H45,0,"")=L45,J45,0))),"") | O45: =IF(ISBLANK(F45),"",IF(ISNUMBER(F45),IF(AND(F45>=0,F45<250),IF($F45<>$H45,IF(F45=0,TRUE(),IF(MOD(F45,1)=0,TRUE(),FALSE())),FALSE()),FALSE()),FALSE())) | P45: =IF(ISBLANK(H45),"",IF(ISNUMBER(H45),IF(AND(H45>=0,H45<250),IF($F45<>$H45,IF(H45=0,TRUE(),IF(MOD(H45,1)=0,TRUE(),FALSE())),FALSE()),FALSE()),FALSE()))
B46: Playoffs | C46: Bucks | D46: =IF(C46>0,":","") -> : | E46: Pacers | F46: 118 | G46: =IF(ISNUMBER(F46),":","") -> : | H46: 119 | I46: 3.3 | K46: 1.32 | L46: 2 | M46: =IF(ISNUMBER(L46),IF(IF(F46>H46,1,"")=L46,I46,IF(IF(F46<H46,2,"")=L46,K46,IF(IF(F46=H46,0,"")=L46,J46,0))),"") -> 1.32 | O46: =IF(ISBLANK(F46),"",IF(ISNUMBER(F46),IF(AND(F46>=0,F46<250),IF($F46<>$H46,IF(F46=0,TRUE(),IF(MOD(F46,1)=0,TRUE(),FALSE())),FALSE()),FALSE()),FALSE())) -> TRUE | P46: =IF(ISBLANK(H46),"",IF(ISNUMBER(H46),IF(AND(H46>=0,H46<250),IF($F46<>$H46,IF(H46=0,TRUE(),IF(MOD(H46,1)=0,TRUE(),FALSE())),FALSE()),FALSE()),FALSE())) -> TRUE
B47: Erste Runde | C47: Pistons | D47: =IF(C47>0,":","") -> : | E47: Knicks | F47: 106 | G47: =IF(ISNUMBER(F47),":","") -> : | H47: 103 | I47: 2.8 | K47: 1.42 | L47: 2 | M47: =IF(ISNUMBER(L47),IF(IF(F47>H47,1,"")=L47,I47,IF(IF(F47<H47,2,"")=L47,K47,IF(IF(F47=H47,0,"")=L47,J47,0))),"") -> 0 | O47: =IF(ISBLANK(F47),"",IF(ISNUMBER(F47),IF(AND(F47>=0,F47<250),IF($F47<>$H47,IF(F47=0,TRUE(),IF(MOD(F47,1)=0,TRUE(),FALSE())),FALSE()),FALSE()),FALSE())) -> TRUE | P47: =IF(ISBLANK(H47),"",IF(ISNUMBER(H47),IF(AND(H47>=0,H47<250),IF($F47<>$H47,IF(H47=0,TRUE(),IF(MOD(H47,1)=0,TRUE(),FALSE())),FALSE()),FALSE()),FALSE())) -> TRUE
B48: Spiel 5 | C48: Magic | D48: =IF(C48>0,":","") -> : | E48: Celtics | F48: 89 | G48: =IF(ISNUMBER(F48),":","") -> : | H48: 120 | I48: 6 | K48: 1.12 | L48: 2 | M48: =IF(ISNUMBER(L48),IF(IF(F48>H48,1,"")=L48,I48,IF(IF(F48<H48,2,"")=L48,K48,IF(IF(F48=H48,0,"")=L48,J48,0))),"") -> 1.12 | O48: =IF(ISBLANK(F48),"",IF(ISNUMBER(F48),IF(AND(F48>=0,F48<250),IF($F48<>$H48,IF(F48=0,TRUE(),IF(MOD(F48,1)=0,TRUE(),FALSE())),FALSE()),FALSE()),FALSE())) -> TRUE | P48: =IF(ISBLANK(H48),"",IF(ISNUMBER(H48),IF(AND(H48>=0,H48<250),IF($F48<>$H48,IF(H48=0,TRUE(),IF(MOD(H48,1)=0,TRUE(),FALSE())),FALSE()),FALSE()),FALSE())) -> TRUE
C49: Clippers | D49: =IF(C49>0,":","") -> : | E49: Nuggets | F49: 115 | G49: =IF(ISNUMBER(F49),":","") -> : | H49: 131 | I49: 1.77 | K49: 2 | L49: 2 | M49: =IF(ISNUMBER(L49),IF(IF(F49>H49,1,"")=L49,I49,IF(IF(F49<H49,2,"")=L49,K49,IF(IF(F49=H49,0,"")=L49,J49,0))),"") -> 2 | O49: =IF(ISBLANK(F49),"",IF(ISNUMBER(F49),IF(AND(F49>=0,F49<250),IF($F49<>$H49,IF(F49=0,TRUE(),IF(MOD(F49,1)=0,TRUE(),FALSE())),FALSE()),FALSE()),FALSE())) -> TRUE | P49: =IF(ISBLANK(H49),"",IF(ISNUMBER(H49),IF(AND(H49>=0,H49<250),IF($F49<>$H49,IF(H49=0,TRUE(),IF(MOD(H49,1)=0,TRUE(),FALSE())),FALSE()),FALSE()),FALSE())) -> TRUE
C50: Timberwolves | D50: =IF(C50>0,":","") -> : | E50: Lakers | F50: 103 | G50: =IF(ISNUMBER(F50),":","") -> : | H50: 96 | I50: 3 | K50: 1.37 | L50: 2 | M50: =IF(ISNUMBER(L50),IF(IF(F50>H50,1,"")=L50,I50,IF(IF(F50<H50,2,"")=L50,K50,IF(IF(F50=H50,0,"")=L50,J50,0))),"") -> 0 | O50: =IF(ISBLANK(F50),"",IF(ISNUMBER(F50),IF(AND(F50>=0,F50<250),IF($F50<>$H50,IF(F50=0,TRUE(),IF(MOD(F50,1)=0,TRUE(),FALSE())),FALSE()),FALSE()),FALSE())) -> TRUE | P50: =IF(ISBLANK(H50),"",IF(ISNUMBER(H50),IF(AND(H50>=0,H50<250),IF($F50<>$H50,IF(H50=0,TRUE(),IF(MOD(H50,1)=0,TRUE(),FALSE())),FALSE()),FALSE()),FALSE())) -> TRUE
C51: Warriors | D51: =IF(C51>0,":","") -> : | E51: Rockets | F51: 116 | G51: =IF(ISNUMBER(F51),":","") -> : | H51: 131 | I51: 2.3 | K51: 1.6 | L51: 1 | M51: =IF(ISNUMBER(L51),IF(IF(F51>H51,1,"")=L51,I51,IF(IF(F51<H51,2,"")=L51,K51,IF(IF(F51=H51,0,"")=L51,J51,0))),"") -> 0 | N51: =SUM(M46:M51) -> 4.44 | O51: =IF(ISBLANK(F51),"",IF(ISNUMBER(F51),IF(AND(F51>=0,F51<250),IF($F51<>$H51,IF(F51=0,TRUE(),IF(MOD(F51,1)=0,TRUE(),FALSE())),FALSE()),FALSE()),FALSE())) -> TRUE | P51: =IF(ISBLANK(H51),"",IF(ISNUMBER(H51),IF(AND(H51>=0,H51<250),IF($F51<>$H51,IF(H51=0,TRUE(),IF(MOD(H51,1)=0,TRUE(),FALSE())),FALSE()),FALSE()),FALSE())) -> TRUE
D52: =IF(C52>0,":","") | G52: =IF(ISNUMBER(F52),":","") | M52: =IF(ISNUMBER(L52),IF(IF(F52>H52,1,"")=L52,I52,IF(IF(F52<H52,2,"")=L52,K52,IF(IF(F52=H52,0,"")=L52,J52,0))),"") | O52: =IF(ISBLANK(F52),"",IF(ISNUMBER(F52),IF(AND(F52>=0,F52<250),IF($F52<>$H52,IF(F52=0,TRUE(),IF(MOD(F52,1)=0,TRUE(),FALSE())),FALSE()),FALSE()),FALSE())) | P52: =IF(ISBLANK(H52),"",IF(ISNUMBER(H52),IF(AND(H52>=0,H52<250),IF($F52<>$H52,IF(H52=0,TRUE(),IF(MOD(H52,1)=0,TRUE(),FALSE())),FALSE()),FALSE()),FALSE()))
B53: Playoffs | C53: Knicks | D53: =IF(C53>0,":","") -> : | E53: Pistons | F53: 116 | G53: =IF(ISNUMBER(F53),":","") -> : | H53: 113 | I53: 1.93 | K53: 1.83 | L53: 2 | M53: =IF(ISNUMBER(L53),IF(IF(F53>H53,1,"")=L53,I53,IF(IF(F53<H53,2,"")=L53,K53,IF(IF(F53=H53,0,"")=L53,J53,0))),"") -> 0 | O53: =IF(ISBLANK(F53),"",IF(ISNUMBER(F53),IF(AND(F53>=0,F53<250),IF($F53<>$H53,IF(F53=0,TRUE(),IF(MOD(F53,1)=0,TRUE(),FALSE())),FALSE()),FALSE()),FALSE())) -> TRUE | P53: =IF(ISBLANK(H53),"",IF(ISNUMBER(H53),IF(AND(H53>=0,H53<250),IF($F53<>$H53,IF(H53=0,TRUE(),IF(MOD(H53,1)=0,TRUE(),FALSE())),FALSE()),FALSE()),FALSE())) -> TRUE
B54: Erste Runde | C54: Nuggets | D54: =IF(C54>0,":","") -> : | E54: Clippers | F54: 105 | G54: =IF(ISNUMBER(F54),":","") -> : | H54: 111 | I54: 3 | K54: 1.37 | L54: 1 | M54: =IF(ISNUMBER(L54),IF(IF(F54>H54,1,"")=L54,I54,IF(IF(F54<H54,2,"")=L54,K54,IF(IF(F54=H54,0,"")=L54,J54,0))),"") -> 0 | O54: =IF(ISBLANK(F54),"",IF(ISNUMBER(F54),IF(AND(F54>=0,F54<250),IF($F54<>$H54,IF(F54=0,TRUE(),IF(MOD(F54,1)=0,TRUE(),FALSE())),FALSE()),FALSE()),FALSE())) -> TRUE | P54: =IF(ISBLANK(H54),"",IF(ISNUMBER(H54),IF(AND(H54>=0,H54<250),IF($F54<>$H54,IF(H54=0,TRUE(),IF(MOD(H54,1)=0,TRUE(),FALSE())),FALSE()),FALSE()),FALSE())) -> TRUE
B55: Spiel 6 | C55: Rockets | D55: =IF(C55>0,":","") -> : | E55: Warriors | F55: 115 | G55: =IF(ISNUMBER(F55),":","") -> : | H55: 107 | I55: 2.6 | K55: 1.47 | L55: 2 | M55: =IF(ISNUMBER(L55),IF(IF(F55>H55,1,"")=L55,I55,IF(IF(F55<H55,2,"")=L55,K55,IF(IF(F55=H55,0,"")=L55,J55,0))),"") -> 0 | N55: =SUM(M53:M55) -> 0 | O55: =IF(ISBLANK(F55),"",IF(ISNUMBER(F55),IF(AND(F55>=0,F55<250),IF($F55<>$H55,IF(F55=0,TRUE(),IF(MOD(F55,1)=0,TRUE(),FALSE())),FALSE()),FALSE()),FALSE())) -> TRUE | P55: =IF(ISBLANK(H55),"",IF(ISNUMBER(H55),IF(AND(H55>=0,H55<250),IF($F55<>$H55,IF(H55=0,TRUE(),IF(MOD(H55,1)=0,TRUE(),FALSE())),FALSE()),FALSE()),FALSE())) -> TRUE
D56: =IF(C56>0,":","") | G56: =IF(ISNUMBER(F56),":","") | M56: =IF(ISNUMBER(L56),IF(IF(F56>H56,1,"")=L56,I56,IF(IF(F56<H56,2,"")=L56,K56,IF(IF(F56=H56,0,"")=L56,J56,0))),"") | O56: =IF(ISBLANK(F56),"",IF(ISNUMBER(F56),IF(AND(F56>=0,F56<250),IF($F56<>$H56,IF(F56=0,TRUE(),IF(MOD(F56,1)=0,TRUE(),FALSE())),FALSE()),FALSE()),FALSE())) | P56: =IF(ISBLANK(H56),"",IF(ISNUMBER(H56),IF(AND(H56>=0,H56<250),IF($F56<>$H56,IF(H56=0,TRUE(),IF(MOD(H56,1)=0,TRUE(),FALSE())),FALSE()),FALSE()),FALSE()))
B57: Playoffs | C57: Clippers | D57: =IF(C57>0,":","") -> : | E57: Nuggets | F57: 101 | H57: 120 | I57: 2 | K57: 1.77 | L57: 2 | M57: =IF(ISNUMBER(L57),IF(IF(F57>H57,1,"")=L57,I57,IF(IF(F57<H57,2,"")=L57,K57,IF(IF(F57=H57,0,"")=L57,J57,0))),"") -> 1.77 | O57: =IF(ISBLANK(F57),"",IF(ISNUMBER(F57),IF(AND(F57>=0,F57<250),IF($F57<>$H57,IF(F57=0,TRUE(),IF(MOD(F57,1)=0,TRUE(),FALSE())),FALSE()),FALSE()),FALSE())) -> TRUE | P57: =IF(ISBLANK(H57),"",IF(ISNUMBER(H57),IF(AND(H57>=0,H57<250),IF($F57<>$H57,IF(H57=0,TRUE(),IF(MOD(H57,1)=0,TRUE(),FALSE())),FALSE()),FALSE()),FALSE())) -> TRUE
B58: Erste Runde | C58: Warriors | D58: =IF(C58>0,":","") -> : | E58: Rockets | F58: 103 | H58: 89 | I58: 2 | L58: 2 | M58: =IF(ISNUMBER(L58),IF(IF(F58>H58,1,"")=L58,I58,IF(IF(F58<H58,2,"")=L58,K58,IF(IF(F58=H58,0,"")=L58,J58,0))),"") -> 0 | N58: =SUM(M57:M58) -> 1.77 | O58: =IF(ISBLANK(F58),"",IF(ISNUMBER(F58),IF(AND(F58>=0,F58<250),IF($F58<>$H58,IF(F58=0,TRUE(),IF(MOD(F58,1)=0,TRUE(),FALSE())),FALSE()),FALSE()),FALSE())) -> TRUE | P58: =IF(ISBLANK(H58),"",IF(ISNUMBER(H58),IF(AND(H58>=0,H58<250),IF($F58<>$H58,IF(H58=0,TRUE(),IF(MOD(H58,1)=0,TRUE(),FALSE())),FALSE()),FALSE()),FALSE())) -> TRUE
B59: Spiel 7 | D59: =IF(C59>0,":","") | M59: =IF(ISNUMBER(L59),IF(IF(F59>H59,1,"")=L59,I59,IF(IF(F59<H59,2,"")=L59,K59,IF(IF(F59=H59,0,"")=L59,J59,0))),"") | O59: =IF(ISBLANK(F59),"",IF(ISNUMBER(F59),IF(AND(F59>=0,F59<250),IF($F59<>$H59,IF(F59=0,TRUE(),IF(MOD(F59,1)=0,TRUE(),FALSE())),FALSE()),FALSE()),FALSE())) | P59: =IF(ISBLANK(H59),"",IF(ISNUMBER(H59),IF(AND(H59>=0,H59<250),IF($F59<>$H59,IF(H59=0,TRUE(),IF(MOD(H59,1)=0,TRUE(),FALSE())),FALSE()),FALSE()),FALSE()))
D60: =IF(C60>0,":","") | M60: =IF(ISNUMBER(L60),IF(IF(F60>H60,1,"")=L60,I60,IF(IF(F60<H60,2,"")=L60,K60,IF(IF(F60=H60,0,"")=L60,J60,0))),"") | O60: =IF(ISBLANK(F60),"",IF(ISNUMBER(F60),IF(AND(F60>=0,F60<250),IF($F60<>$H60,IF(F60=0,TRUE(),IF(MOD(F60,1)=0,TRUE(),FALSE())),FALSE()),FALSE()),FALSE())) | P60: =IF(ISBLANK(H60),"",IF(ISNUMBER(H60),IF(AND(H60>=0,H60<250),IF($F60<>$H60,IF(H60=0,TRUE(),IF(MOD(H60,1)=0,TRUE(),FALSE())),FALSE()),FALSE()),FALSE()))
B61: Playoffs | C61: Pacers | D61: =IF(C61>0,":","") -> : | E61: Cavaliers | F61: 121 | H61: 112 | I61: 3.8 | K61: 1.25 | L61: 2 | M61: =IF(ISNUMBER(L61),IF(IF(F61>H61,1,"")=L61,I61,IF(IF(F61<H61,2,"")=L61,K61,IF(IF(F61=H61,0,"")=L61,J61,0))),"") -> 0 | O61: =IF(ISBLANK(F61),"",IF(ISNUMBER(F61),IF(AND(F61>=0,F61<250),IF($F61<>$H61,IF(F61=0,TRUE(),IF(MOD(F61,1)=0,TRUE(),FALSE())),FALSE()),FALSE()),FALSE())) -> TRUE | P61: =IF(ISBLANK(H61),"",IF(ISNUMBER(H61),IF(AND(H61>=0,H61<250),IF($F61<>$H61,IF(H61=0,TRUE(),IF(MOD(H61,1)=0,TRUE(),FALSE())),FALSE()),FALSE()),FALSE())) -> TRUE
B62: Zweite Runde | C62: Knicks | D62: =IF(C62>0,":","") -> : | E62: Celtics | F62: 108 | H62: 105 | I62: 4.1 | K62: 1.22 | L62: 2 | M62: =IF(ISNUMBER(L62),IF(IF(F62>H62,1,"")=L62,I62,IF(IF(F62<H62,2,"")=L62,K62,IF(IF(F62=H62,0,"")=L62,J62,0))),"") -> 0 | O62: =IF(ISBLANK(F62),"",IF(ISNUMBER(F62),IF(AND(F62>=0,F62<250),IF($F62<>$H62,IF(F62=0,TRUE(),IF(MOD(F62,1)=0,TRUE(),FALSE())),FALSE()),FALSE()),FALSE())) -> TRUE | P62: =IF(ISBLANK(H62),"",IF(ISNUMBER(H62),IF(AND(H62>=0,H62<250),IF($F62<>$H62,IF(H62=0,TRUE(),IF(MOD(H62,1)=0,TRUE(),FALSE())),FALSE()),FALSE()),FALSE())) -> TRUE
B63: Spiel 1 | C63: Nuggets | D63: =IF(C63>0,":","") -> : | E63: Thunder | F63: 121 | H63: 119 | I63: 4.1 | K63: 1.22 | M63: =IF(ISNUMBER(L63),IF(IF(F63>H63,1,"")=L63,I63,IF(IF(F63<H63,2,"")=L63,K63,IF(IF(F63=H63,0,"")=L63,J63,0))),"") | O63: =IF(ISBLANK(F63),"",IF(ISNUMBER(F63),IF(AND(F63>=0,F63<250),IF($F63<>$H63,IF(F63=0,TRUE(),IF(MOD(F63,1)=0,TRUE(),FALSE())),FALSE()),FALSE()),FALSE())) -> TRUE | P63: =IF(ISBLANK(H63),"",IF(ISNUMBER(H63),IF(AND(H63>=0,H63<250),IF($F63<>$H63,IF(H63=0,TRUE(),IF(MOD(H63,1)=0,TRUE(),FALSE())),FALSE()),FALSE()),FALSE())) -> TRUE
C64: Warriors | D64: =IF(C64>0,":","") -> : | E64: Timberwolves | F64: 99 | G64: =IF(ISNUMBER(F64),":","") -> : | H64: 88 | I64: 3.2 | K64: 1.33 | L64: 1 | M64: =IF(ISNUMBER(L64),IF(IF(F64>H64,1,"")=L64,I64,IF(IF(F64<H64,2,"")=L64,K64,IF(IF(F64=H64,0,"")=L64,J64,0))),"") -> 3.2 | N64: =SUM(M61:M64) -> 3.2 | O64: =IF(ISBLANK(F64),"",IF(ISNUMBER(F64),IF(AND(F64>=0,F64<250),IF($F64<>$H64,IF(F64=0,TRUE(),IF(MOD(F64,1)=0,TRUE(),FALSE())),FALSE()),FALSE()),FALSE())) -> TRUE | P64: =IF(ISBLANK(H64),"",IF(ISNUMBER(H64),IF(AND(H64>=0,H64<250),IF($F64<>$H64,IF(H64=0,TRUE(),IF(MOD(H64,1)=0,TRUE(),FALSE())),FALSE()),FALSE()),FALSE())) -> TRUE
D65: =IF(C65>0,":","") | G65: =IF(ISNUMBER(F65),":","") | M65: =IF(ISNUMBER(L65),IF(IF(F65>H65,1,"")=L65,I65,IF(IF(F65<H65,2,"")=L65,K65,IF(IF(F65=H65,0,"")=L65,J65,0))),"") | O65: =IF(ISBLANK(F65),"",IF(ISNUMBER(F65),IF(AND(F65>=0,F65<250),IF($F65<>$H65,IF(F65=0,TRUE(),IF(MOD(F65,1)=0,TRUE(),FALSE())),FALSE()),FALSE()),FALSE())) | P65: =IF(ISBLANK(H65),"",IF(ISNUMBER(H65),IF(AND(H65>=0,H65<250),IF($F65<>$H65,IF(H65=0,TRUE(),IF(MOD(H65,1)=0,TRUE(),FALSE())),FALSE()),FALSE()),FALSE()))
B66: Playoffs | C66: Pacers | D66: =IF(C66>0,":","") -> : | E66: Cavaliers | F66: 120 | G66: =IF(ISNUMBER(F66),":","") -> : | H66: 119 | I66: 4.4 | K66: 1.2 | L66: 2 | M66: =IF(ISNUMBER(L66),IF(IF(F66>H66,1,"")=L66,I66,IF(IF(F66<H66,2,"")=L66,K66,IF(IF(F66=H66,0,"")=L66,J66,0))),"") -> 0 | O66: =IF(ISBLANK(F66),"",IF(ISNUMBER(F66),IF(AND(F66>=0,F66<250),IF($F66<>$H66,IF(F66=0,TRUE(),IF(MOD(F66,1)=0,TRUE(),FALSE())),FALSE()),FALSE()),FALSE())) -> TRUE | P66: =IF(ISBLANK(H66),"",IF(ISNUMBER(H66),IF(AND(H66>=0,H66<250),IF($F66<>$H66,IF(H66=0,TRUE(),IF(MOD(H66,1)=0,TRUE(),FALSE())),FALSE()),FALSE()),FALSE())) -> TRUE
B67: Zweite Runde | C67: Knicks | D67: =IF(C67>0,":","") -> : | E67: Celtics | F67: 91 | G67: =IF(ISNUMBER(F67),":","") -> : | H67: 90 | I67: 4.6 | K67: 1.18 | L67: 2 | M67: =IF(ISNUMBER(L67),IF(IF(F67>H67,1,"")=L67,I67,IF(IF(F67<H67,2,"")=L67,K67,IF(IF(F67=H67,0,"")=L67,J67,0))),"") -> 0 | O67: =IF(ISBLANK(F67),"",IF(ISNUMBER(F67),IF(AND(F67>=0,F67<250),IF($F67<>$H67,IF(F67=0,TRUE(),IF(MOD(F67,1)=0,TRUE(),FALSE())),FALSE()),FALSE()),FALSE())) -> TRUE | P67: =IF(ISBLANK(H67),"",IF(ISNUMBER(H67),IF(AND(H67>=0,H67<250),IF($F67<>$H67,IF(H67=0,TRUE(),IF(MOD(H67,1)=0,TRUE(),FALSE())),FALSE()),FALSE()),FALSE())) -> TRUE
B68: Spiel 2 | C68: Nuggets | D68: =IF(C68>0,":","") -> : | E68: Thunder | F68: 106 | G68: =IF(ISNUMBER(F68),":","") -> : | H68: 149 | I68: 4.6 | K68: 1.18 | L68: 1 | M68: =IF(ISNUMBER(L68),IF(IF(F68>H68,1,"")=L68,I68,IF(IF(F68<H68,2,"")=L68,K68,IF(IF(F68=H68,0,"")=L68,J68,0))),"") -> 0 | O68: =IF(ISBLANK(F68),"",IF(ISNUMBER(F68),IF(AND(F68>=0,F68<250),IF($F68<>$H68,IF(F68=0,TRUE(),IF(MOD(F68,1)=0,TRUE(),FALSE())),FALSE()),FALSE()),FALSE())) -> TRUE | P68: =IF(ISBLANK(H68),"",IF(ISNUMBER(H68),IF(AND(H68>=0,H68<250),IF($F68<>$H68,IF(H68=0,TRUE(),IF(MOD(H68,1)=0,TRUE(),FALSE())),FALSE()),FALSE()),FALSE())) -> TRUE
C69: Warriors | D69: =IF(C69>0,":","") -> : | E69: Timberwolves | F69: 93 | G69: =IF(ISNUMBER(F69),":","") -> : | H69: 117 | I69: 4.6 | K69: 1.18 | L69: 2 | M69: =IF(ISNUMBER(L69),IF(IF(F69>H69,1,"")=L69,I69,IF(IF(F69<H69,2,"")=L69,K69,IF(IF(F69=H69,0,"")=L69,J69,0))),"") -> 1.18 | N69: =SUM(M66:M69) -> 1.18 | O69: =IF(ISBLANK(F69),"",IF(ISNUMBER(F69),IF(AND(F69>=0,F69<250),IF($F69<>$H69,IF(F69=0,TRUE(),IF(MOD(F69,1)=0,TRUE(),FALSE())),FALSE()),FALSE()),FALSE())) -> TRUE | P69: =IF(ISBLANK(H69),"",IF(ISNUMBER(H69),IF(AND(H69>=0,H69<250),IF($F69<>$H69,IF(H69=0,TRUE(),IF(MOD(H69,1)=0,TRUE(),FALSE())),FALSE()),FALSE()),FALSE())) -> TRUE
D70: =IF(C70>0,":","") | G70: =IF(ISNUMBER(F70),":","") | M70: =IF(ISNUMBER(L70),IF(IF(F70>H70,1,"")=L70,I70,IF(IF(F70<H70,2,"")=L70,K70,IF(IF(F70=H70,0,"")=L70,J70,0))),"") | O70: =IF(ISBLANK(F70),"",IF(ISNUMBER(F70),IF(AND(F70>=0,F70<250),IF($F70<>$H70,IF(F70=0,TRUE(),IF(MOD(F70,1)=0,TRUE(),FALSE())),FALSE()),FALSE()),FALSE())) | P70: =IF(ISBLANK(H70),"",IF(ISNUMBER(H70),IF(AND(H70>=0,H70<250),IF($F70<>$H70,IF(H70=0,TRUE(),IF(MOD(H70,1)=0,TRUE(),FALSE())),FALSE()),FALSE()),FALSE()))
