Workbook

Sheet Wertung
B2: NBA PO Quotenspiel 2025 | D2: Play-Ins | E2: PO 1st Rd | F2: PO 2nd Rd | G2: Gesamt
B3: 1 | C3: Mape | D3: =Mape!N5+Mape!N8 -> 6.52 | E3: =Mape!N17+Mape!N26+Mape!N35+Mape!N44+Mape!N51+Mape!N55+Mape!N58 -> 42.77 | F3: =Mape!N64+Mape!N69+Mape!N74+Mape!N79 -> 12.64 | G3: =SUM(D3:F3) -> 61.93
B4: 2 | C4: Steve | D4: =Steve!N5+Steve!N8 -> 7.67 | E4: =Steve!N17+Steve!N26+Steve!N35+Steve!N44+Steve!N51+Steve!N55+Steve!N58 -> 32.58 | F4: =Steve!N64+Steve!N69+Steve!N74+Steve!N79 -> 18.47 | G4: =SUM(D4:F4) -> 58.72
B5: 3 | C5: Kim_Unicorn | D5: =Kim_Unicorn!N5+Kim_Unicorn!N8 -> 7.15 | E5: =Kim_Unicorn!N17+Kim_Unicorn!N26+Kim_Unicorn!N35+Kim_Unicorn!N44+Kim_Unicorn!N51+Kim_Unicorn!N55+Kim_Unicorn!N58 -> 35.54 | F5: =Kim_Unicorn!N64+Kim_Unicorn!N69+Kim_Unicorn!N74+Kim_Unicorn!N79 -> 12.89 | G5: =SUM(D5:F5) -> 55.58
B6: 4 | C6: Monukly | D6: =Monukly!N5+Monukly!N8 -> 10.52 | E6: =Monukly!N17+Monukly!N26+Monukly!N35+Monukly!N44+Monukly!N51+Monukly!N55+Monukly!N58 -> 35.04 | F6: =Monukly!N64+Monukly!N69+Monukly!N74+Monukly!N79 -> 7.34 | G6: =SUM(D6:F6) -> 52.9
B7: 5 | C7: smashie | D7: =smashie!N5+smashie!N8 -> 4.6 | E7: =smashie!N17+smashie!N26+smashie!N35+smashie!N44+smashie!N51+smashie!N55+smashie!N58 -> 36.43 | F7: =smashie!N69+smashie!N74+smashie!N79 -> 8.91 | G7: =SUM(D7:F7) -> 49.94
B9: 6 | C9: gerhard | E9: =10+gerhard!N44+gerhard!N51+gerhard!N58 -> 15.57 | F9: =gerhard!N69+gerhard!N74+gerhard!N79 -> 8.71 | G9: =SUM(D9:F9) -> 24.28
B11: 7 | C11: Freaky91 | D11: =Freaky91!N5 -> 4 | G11: =SUM(D11:E11) -> 4

Sheet Steve
A1: Steve | B1: Spieltag | C1: Auswärts | E1: Heim | F1: Ergebnis | I1: 1 | J1: 2 | K1: 2 | L1: Tipp | M1: Richtig | N1: Gesamt | O1: Gültigk. D | P1: Gültik. F
B2: Play-Ins East | C2: Hawks | D2: =IF(C2>0,":","") -> : | E2: Magic | F2: 95 | G2: =IF(ISNUMBER(F2),":","") -> : | H2: 120 | I2: 2.6 | K2: 1.45 | L2: 1 | M2: =IF(ISNUMBER(L2),IF(IF(F2>H2,1,"")=L2,I2,IF(IF(F2<H2,2,"")=L2,K2,IF(IF(F2=H2,0,"")=L2,J2,0))),"") -> 0 | O2: =IF(ISBLANK(F2),"",IF(ISNUMBER(F2),IF(AND(F2>=0,F2<250),IF($F2<>$H2,IF(F2=0,TRUE(),IF(MOD(F2,1)=0,TRUE(),FALSE())),FALSE()),FALSE()),FALSE())) -> TRUE | P2: =IF(ISBLANK(H2),"",IF(ISNUMBER(H2),IF(AND(H2>=0,H2<250),IF($F2<>$H2,IF(H2=0,TRUE(),IF(MOD(H2,1)=0,TRUE(),FALSE())),FALSE()),FALSE()),FALSE())) -> TRUE
C3: Heat | D3: =IF(C3>0,":","") -> : | E3: Bulls | F3: 109 | G3: =IF(ISNUMBER(F3),":","") -> : | H3: 90 | I3: 1.97 | K3: 1.8 | L3: 1 | M3: =IF(ISNUMBER(L3),IF(IF(F3>H3,1,"")=L3,I3,IF(IF(F3<H3,2,"")=L3,K3,IF(IF(F3=H3,0,"")=L3,J3,0))),"") -> 1.97 | O3: =IF(ISBLANK(F3),"",IF(ISNUMBER(F3),IF(AND(F3>=0,F3<250),IF($F3<>$H3,IF(F3=0,TRUE(),IF(MOD(F3,1)=0,TRUE(),FALSE())),FALSE()),FALSE()),FALSE())) -> TRUE | P3: =IF(ISBLANK(H3),"",IF(ISNUMBER(H3),IF(AND(H3>=0,H3<250),IF($F3<>$H3,IF(H3=0,TRUE(),IF(MOD(H3,1)=0,TRUE(),FALSE())),FALSE()),FALSE()),FALSE())) -> TRUE
B4: Play-Ins West | C4: Grizzlies | D4: =IF(C4>0,":","") -> : | E4: Warriors | F4: 116 | G4: =IF(ISNUMBER(F4),":","") -> : | H4: 121 | I4: 3.3 | K4: 1.32 | L4: 2 | M4: =IF(ISNUMBER(L4),IF(IF(F4>H4,1,"")=L4,I4,IF(IF(F4<H4,2,"")=L4,K4,IF(IF(F4=H4,0,"")=L4,J4,0))),"") -> 1.32 | O4: =IF(ISBLANK(F4),"",IF(ISNUMBER(F4),IF(AND(F4>=0,F4<250),IF($F4<>$H4,IF(F4=0,TRUE(),IF(MOD(F4,1)=0,TRUE(),FALSE())),FALSE()),FALSE()),FALSE())) -> TRUE | P4: =IF(ISBLANK(H4),"",IF(ISNUMBER(H4),IF(AND(H4>=0,H4<250),IF($F4<>$H4,IF(H4=0,TRUE(),IF(MOD(H4,1)=0,TRUE(),FALSE())),FALSE()),FALSE()),FALSE())) -> TRUE
C5: Mavericks | D5: =IF(C5>0,":","") -> : | E5: Kings | F5: 120 | G5: =IF(ISNUMBER(F5),":","") -> : | H5: 106 | I5: 2.55 | K5: 1.5 | L5: 1 | M5: =IF(ISNUMBER(L5),IF(IF(F5>H5,1,"")=L5,I5,IF(IF(F5<H5,2,"")=L5,K5,IF(IF(F5=H5,0,"")=L5,J5,0))),"") -> 2.55 | N5: =SUM(M2:M5) -> 5.84 | O5: =IF(ISBLANK(F5),"",IF(ISNUMBER(F5),IF(AND(F5>=0,F5<250),IF($F5<>$H5,IF(F5=0,TRUE(),IF(MOD(F5,1)=0,TRUE(),FALSE())),FALSE()),FALSE()),FALSE())) -> TRUE | P5: =IF(ISBLANK(H5),"",IF(ISNUMBER(H5),IF(AND(H5>=0,H5<250),IF($F5<>$H5,IF(H5=0,TRUE(),IF(MOD(H5,1)=0,TRUE(),FALSE())),FALSE()),FALSE()),FALSE())) -> TRUE
D6: =IF(C6>0,":","") | G6: =IF(ISNUMBER(F6),":","") | M6: =IF(ISNUMBER(L6),IF(IF(F6>H6,1,"")=L6,I6,IF(IF(F6<H6,2,"")=L6,K6,IF(IF(F6=H6,0,"")=L6,J6,0))),"") | O6: =IF(ISBLANK(F6),"",IF(ISNUMBER(F6),IF(AND(F6>=0,F6<250),IF($F6<>$H6,IF(F6=0,TRUE(),IF(MOD(F6,1)=0,TRUE(),FALSE())),FALSE()),FALSE()),FALSE())) | P6: =IF(ISBLANK(H6),"",IF(ISNUMBER(H6),IF(AND(H6>=0,H6<250),IF($F6<>$H6,IF(H6=0,TRUE(),IF(MOD(H6,1)=0,TRUE(),FALSE())),FALSE()),FALSE()),FALSE()))
B7: Play-Ins East | C7: Heat | D7: =IF(C7>0,":","") -> : | E7: Hawks | F7: 123 | G7: =IF(ISNUMBER(F7),":","") -> : | H7: 114 | I7: 1.83 | K7: 1.93 | L7: 1 | M7: =IF(ISNUMBER(L7),IF(IF(F7>H7,1,"")=L7,I7,IF(IF(F7<H7,2,"")=L7,K7,IF(IF(F7=H7,0,"")=L7,J7,0))),"") -> 1.83 | O7: =IF(ISBLANK(F7),"",IF(ISNUMBER(F7),IF(AND(F7>=0,F7<250),IF($F7<>$H7,IF(F7=0,TRUE(),IF(MOD(F7,1)=0,TRUE(),FALSE())),FALSE()),FALSE()),FALSE())) -> TRUE | P7: =IF(ISBLANK(H7),"",IF(ISNUMBER(H7),IF(AND(H7>=0,H7<250),IF($F7<>$H7,IF(H7=0,TRUE(),IF(MOD(H7,1)=0,TRUE(),FALSE())),FALSE()),FALSE()),FALSE())) -> TRUE
B8: Play-Ins West | C8: Mavericks | D8: =IF(C8>0,":","") -> : | E8: Grizzlies | F8: 106 | G8: =IF(ISNUMBER(F8),":","") -> : | H8: 120 | I8: 2.9 | K8: 1.4 | L8: 1 | M8: =IF(ISNUMBER(L8),IF(IF(F8>H8,1,"")=L8,I8,IF(IF(F8<H8,2,"")=L8,K8,IF(IF(F8=H8,0,"")=L8,J8,0))),"") -> 0 | N8: =SUM(M7:M8) -> 1.83 | O8: =IF(ISBLANK(F8),"",IF(ISNUMBER(F8),IF(AND(F8>=0,F8<250),IF($F8<>$H8,IF(F8=0,TRUE(),IF(MOD(F8,1)=0,TRUE(),FALSE())),FALSE()),FALSE()),FALSE())) -> TRUE | P8: =IF(ISBLANK(H8),"",IF(ISNUMBER(H8),IF(AND(H8>=0,H8<250),IF($F8<>$H8,IF(H8=0,TRUE(),IF(MOD(H8,1)=0,TRUE(),FALSE())),FALSE()),FALSE()),FALSE())) -> TRUE
D9: =IF(C9>0,":","") | G9: =IF(ISNUMBER(F9),":","") | M9: =IF(ISNUMBER(L9),IF(IF(F9>H9,1,"")=L9,I9,IF(IF(F9<H9,2,"")=L9,K9,IF(IF(F9=H9,0,"")=L9,J9,0))),"") | O9: =IF(ISBLANK(F9),"",IF(ISNUMBER(F9),IF(AND(F9>=0,F9<250),IF($F9<>$H9,IF(F9=0,TRUE(),IF(MOD(F9,1)=0,TRUE(),FALSE())),FALSE()),FALSE()),FALSE())) | P9: =IF(ISBLANK(H9),"",IF(ISNUMBER(H9),IF(AND(H9>=0,H9<250),IF($F9<>$H9,IF(H9=0,TRUE(),IF(MOD(H9,1)=0,TRUE(),FALSE())),FALSE()),FALSE()),FALSE()))
B10: Playoffs | C10: Bucks | D10: =IF(C10>0,":","") -> : | E10: Pacers | F10: 98 | G10: =IF(ISNUMBER(F10),":","") -> : | H10: 117 | I10: 2.6 | K10: 1.47 | L10: 1 | M10: =IF(ISNUMBER(L10),IF(IF(F10>H10,1,"")=L10,I10,IF(IF(F10<H10,2,"")=L10,K10,IF(IF(F10=H10,0,"")=L10,J10,0))),"") -> 0 | O10: =IF(ISBLANK(F10),"",IF(ISNUMBER(F10),IF(AND(F10>=0,F10<250),IF($F10<>$H10,IF(F10=0,TRUE(),IF(MOD(F10,1)=0,TRUE(),FALSE())),FALSE()),FALSE()),FALSE())) -> TRUE | P10: =IF(ISBLANK(H10),"",IF(ISNUMBER(H10),IF(AND(H10>=0,H10<250),IF($F10<>$H10,IF(H10=0,TRUE(),IF(MOD(H10,1)=0,TRUE(),FALSE())),FALSE()),FALSE()),FALSE())) -> TRUE
B11: Erste Runde | C11: Clippers | D11: =IF(C11>0,":","") -> : | E11: Nuggets | F11: 110 | G11: =IF(ISNUMBER(F11),":","") -> : | H11: 112 | I11: 2.2 | K11: 1.63 | L11: 2 | M11: =IF(ISNUMBER(L11),IF(IF(F11>H11,1,"")=L11,I11,IF(IF(F11<H11,2,"")=L11,K11,IF(IF(F11=H11,0,"")=L11,J11,0))),"") -> 1.63 | O11: =IF(ISBLANK(F11),"",IF(ISNUMBER(F11),IF(AND(F11>=0,F11<250),IF($F11<>$H11,IF(F11=0,TRUE(),IF(MOD(F11,1)=0,TRUE(),FALSE())),FALSE()),FALSE()),FALSE())) -> TRUE | P11: =IF(ISBLANK(H11),"",IF(ISNUMBER(H11),IF(AND(H11>=0,H11<250),IF($F11<>$H11,IF(H11=0,TRUE(),IF(MOD(H11,1)=0,TRUE(),FALSE())),FALSE()),FALSE()),FALSE())) -> TRUE
B12: Spiel 1 | C12: Pistons | D12: =IF(C12>0,":","") -> : | E12: Knicks | F12: 112 | G12: =IF(ISNUMBER(F12),":","") -> : | H12: 123 | I12: 3.3 | K12: 1.32 | L12: 2 | M12: =IF(ISNUMBER(L12),IF(IF(F12>H12,1,"")=L12,I12,IF(IF(F12<H12,2,"")=L12,K12,IF(IF(F12=H12,0,"")=L12,#REF!,0))),"") -> 1.32 | O12: =IF(ISBLANK(F12),"",IF(ISNUMBER(F12),IF(AND(F12>=0,F12<250),IF($F12<>$H12,IF(F12=0,TRUE(),IF(MOD(F12,1)=0,TRUE(),FALSE())),FALSE()),FALSE()),FALSE())) -> TRUE | P12: =IF(ISBLANK(H12),"",IF(ISNUMBER(H12),IF(AND(H12>=0,H12<250),IF($F12<>$H12,IF(H12=0,TRUE(),IF(MOD(H12,1)=0,TRUE(),FALSE())),FALSE()),FALSE()),FALSE())) -> TRUE
C13: Timberwolves | D13: =IF(C13>0,":","") -> : | E13: Lakers | F13: 117 | G13: =IF(ISNUMBER(F13),":","") -> : | H13: 95 | I13: 2.5 | K13: 1.52 | L13: 2 | M13: =IF(ISNUMBER(L13),IF(IF(F13>H13,1,"")=L13,I13,IF(IF(F13<H13,2,"")=L13,K13,IF(IF(F13=H13,0,"")=L13,J13,0))),"") -> 0 | O13: =IF(ISBLANK(F13),"",IF(ISNUMBER(F13),IF(AND(F13>=0,F13<250),IF($F13<>$H13,IF(F13=0,TRUE(),IF(MOD(F13,1)=0,TRUE(),FALSE())),FALSE()),FALSE()),FALSE())) -> TRUE | P13: =IF(ISBLANK(H13),"",IF(ISNUMBER(H13),IF(AND(H13>=0,H13<250),IF($F13<>$H13,IF(H13=0,TRUE(),IF(MOD(H13,1)=0,TRUE(),FALSE())),FALSE()),FALSE()),FALSE())) -> TRUE
C14: Magic | D14: =IF(C14>0,":","") -> : | E14: Celtics | F14: 86 | G14: =IF(ISNUMBER(F14),":","") -> : | H14: 103 | I14: 7.8 | K14: 1.07 | L14: 2 | M14: =IF(ISNUMBER(L14),IF(IF(F14>H14,1,"")=L14,I14,IF(IF(F14<H14,2,"")=L14,K14,IF(IF(F14=H14,0,"")=L14,J14,0))),"") -> 1.07 | O14: =IF(ISBLANK(F14),"",IF(ISNUMBER(F14),IF(AND(F14>=0,F14<250),IF($F14<>$H14,IF(F14=0,TRUE(),IF(MOD(F14,1)=0,TRUE(),FALSE())),FALSE()),FALSE()),FALSE())) -> TRUE | P14: =IF(ISBLANK(H14),"",IF(ISNUMBER(H14),IF(AND(H14>=0,H14<250),IF($F14<>$H14,IF(H14=0,TRUE(),IF(MOD(H14,1)=0,TRUE(),FALSE())),FALSE()),FALSE()),FALSE())) -> TRUE
C15: Warriors | D15: =IF(C15>0,":","") -> : | E15: Rockets | F15: 95 | G15: =IF(ISNUMBER(F15),":","") -> : | H15: 85 | I15: 1.93 | K15: 1.83 | L15: 2 | M15: =IF(ISNUMBER(L15),IF(IF(F15>H15,1,"")=L15,I15,IF(IF(F15<H15,2,"")=L15,K15,IF(IF(F15=H15,0,"")=L15,J15,0))),"") -> 0 | O15: =IF(ISBLANK(F15),"",IF(ISNUMBER(F15),IF(AND(F15>=0,F15<250),IF($F15<>$H15,IF(F15=0,TRUE(),IF(MOD(F15,1)=0,TRUE(),FALSE())),FALSE()),FALSE()),FALSE())) -> TRUE | P15: =IF(ISBLANK(H15),"",IF(ISNUMBER(H15),IF(AND(H15>=0,H15<250),IF($F15<>$H15,IF(H15=0,TRUE(),IF(MOD(H15,1)=0,TRUE(),FALSE())),FALSE()),FALSE()),FALSE())) -> TRUE
C16: Grizzlies | D16: =IF(C16>0,":","") -> : | E16: Thunder | F16: 80 | G16: =IF(ISNUMBER(F16),":","") -> : | H16: 131 | I16: 5.5 | K16: 1.14 | L16: 2 | M16: =IF(ISNUMBER(L16),IF(IF(F16>H16,1,"")=L16,I16,IF(IF(F16<H16,2,"")=L16,K16,IF(IF(F16=H16,0,"")=L16,J16,0))),"") -> 1.14 | O16: =IF(ISBLANK(F16),"",IF(ISNUMBER(F16),IF(AND(F16>=0,F16<250),IF($F16<>$H16,IF(F16=0,TRUE(),IF(MOD(F16,1)=0,TRUE(),FALSE())),FALSE()),FALSE()),FALSE())) -> TRUE | P16: =IF(ISBLANK(H16),"",IF(ISNUMBER(H16),IF(AND(H16>=0,H16<250),IF($F16<>$H16,IF(H16=0,TRUE(),IF(MOD(H16,1)=0,TRUE(),FALSE())),FALSE()),FALSE()),FALSE())) -> TRUE
C17: Heat | D17: =IF(C17>0,":","") -> : | E17: Cavaliers | F17: 100 | G17: =IF(ISNUMBER(F17),":","") -> : | H17: 121 | I17: 6.5 | K17: 1.1 | L17: 2 | M17: =IF(ISNUMBER(L17),IF(IF(F17>H17,1,"")=L17,I17,IF(IF(F17<H17,2,"")=L17,K17,IF(IF(F17=H17,0,"")=L17,J17,0))),"") -> 1.1 | N17: =SUM(M10:M17) -> 6.26 | O17: =IF(ISBLANK(F17),"",IF(ISNUMBER(F17),IF(AND(F17>=0,F17<250),IF($F17<>$H17,IF(F17=0,TRUE(),IF(MOD(F17,1)=0,TRUE(),FALSE())),FALSE()),FALSE()),FALSE())) -> TRUE | P17: =IF(ISBLANK(H17),"",IF(ISNUMBER(H17),IF(AND(H17>=0,H17<250),IF($F17<>$H17,IF(H17=0,TRUE(),IF(MOD(H17,1)=0,TRUE(),FALSE())),FALSE()),FALSE()),FALSE())) -> TRUE
D18: =IF(C18>0,":","") | G18: =IF(ISNUMBER(F18),":","") | M18: =IF(ISNUMBER(L18),IF(IF(F18>H18,1,"")=L18,I18,IF(IF(F18<H18,2,"")=L18,K18,IF(IF(F18=H18,0,"")=L18,J18,0))),"") | O18: =IF(ISBLANK(F18),"",IF(ISNUMBER(F18),IF(AND(F18>=0,F18<250),IF($F18<>$H18,IF(F18=0,TRUE(),IF(MOD(F18,1)=0,TRUE(),FALSE())),FALSE()),FALSE()),FALSE())) | P18: =IF(ISBLANK(H18),"",IF(ISNUMBER(H18),IF(AND(H18>=0,H18<250),IF($F18<>$H18,IF(H18=0,TRUE(),IF(MOD(H18,1)=0,TRUE(),FALSE())),FALSE()),FALSE()),FALSE()))
B19: Playoffs | C19: Pistons | D19: =IF(C19>0,":","") -> : | E19: Knicks | F19: 100 | G19: =IF(ISNUMBER(F19),":","") -> : | H19: 94 | I19: 3 | K19: 1.37 | L19: 2 | M19: =IF(ISNUMBER(L19),IF(IF(F19>H19,1,"")=L19,I19,IF(IF(F19<H19,2,"")=L19,K19,IF(IF(F19=H19,0,"")=L19,J19,0))),"") -> 0 | O19: =IF(ISBLANK(F19),"",IF(ISNUMBER(F19),IF(AND(F19>=0,F19<250),IF($F19<>$H19,IF(F19=0,TRUE(),IF(MOD(F19,1)=0,TRUE(),FALSE())),FALSE()),FALSE()),FALSE())) -> TRUE | P19: =IF(ISBLANK(H19),"",IF(ISNUMBER(H19),IF(AND(H19>=0,H19<250),IF($F19<>$H19,IF(H19=0,TRUE(),IF(MOD(H19,1)=0,TRUE(),FALSE())),FALSE()),FALSE()),FALSE())) -> TRUE
B20: Erste Runde | C20: Clippers | D20: =IF(C20>0,":","") -> : | E20: Nuggets | F20: 105 | G20: =IF(ISNUMBER(F20),":","") -> : | H20: 102 | I20: 1.83 | K20: 1.93 | L20: 2 | M20: =IF(ISNUMBER(L20),IF(IF(F20>H20,1,"")=L20,I20,IF(IF(F20<H20,2,"")=L20,K20,IF(IF(F20=H20,0,"")=L20,J20,0))),"") -> 0 | O20: =IF(ISBLANK(F20),"",IF(ISNUMBER(F20),IF(AND(F20>=0,F20<250),IF($F20<>$H20,IF(F20=0,TRUE(),IF(MOD(F20,1)=0,TRUE(),FALSE())),FALSE()),FALSE()),FALSE())) -> TRUE | P20: =IF(ISBLANK(H20),"",IF(ISNUMBER(H20),IF(AND(H20>=0,H20<250),IF($F20<>$H20,IF(H20=0,TRUE(),IF(MOD(H20,1)=0,TRUE(),FALSE())),FALSE()),FALSE()),FALSE())) -> TRUE
B21: Spiel 2 | C21: Bucks | D21: =IF(C21>0,":","") -> : | E21: Pacers | F21: 115 | G21: =IF(ISNUMBER(F21),":","") -> : | H21: 123 | I21: 2.6 | K21: 1.47 | L21: 2 | M21: =IF(ISNUMBER(L21),IF(IF(F21>H21,1,"")=L21,I21,IF(IF(F21<H21,2,"")=L21,K21,IF(IF(F21=H21,0,"")=L21,J21,0))),"") -> 1.47 | O21: =IF(ISBLANK(F21),"",IF(ISNUMBER(F21),IF(AND(F21>=0,F21<250),IF($F21<>$H21,IF(F21=0,TRUE(),IF(MOD(F21,1)=0,TRUE(),FALSE())),FALSE()),FALSE()),FALSE())) -> TRUE | P21: =IF(ISBLANK(H21),"",IF(ISNUMBER(H21),IF(AND(H21>=0,H21<250),IF($F21<>$H21,IF(H21=0,TRUE(),IF(MOD(H21,1)=0,TRUE(),FALSE())),FALSE()),FALSE()),FALSE())) -> TRUE
C22: Grizzlies | D22: =IF(C22>0,":","") -> : | E22: Thunder | F22: 99 | G22: =IF(ISNUMBER(F22),":","") -> : | H22: 118 | I22: 8.5 | K22: 1.06 | L22: 2 | M22: =IF(ISNUMBER(L22),IF(IF(F22>H22,1,"")=L22,I22,IF(IF(F22<H22,2,"")=L22,K22,IF(IF(F22=H22,0,"")=L22,J22,0))),"") -> 1.06 | O22: =IF(ISBLANK(F22),"",IF(ISNUMBER(F22),IF(AND(F22>=0,F22<250),IF($F22<>$H22,IF(F22=0,TRUE(),IF(MOD(F22,1)=0,TRUE(),FALSE())),FALSE()),FALSE()),FALSE())) -> TRUE | P22: =IF(ISBLANK(H22),"",IF(ISNUMBER(H22),IF(AND(H22>=0,H22<250),IF($F22<>$H22,IF(H22=0,TRUE(),IF(MOD(H22,1)=0,TRUE(),FALSE())),FALSE()),FALSE()),FALSE())) -> TRUE
C23: Timberwolves | D23: =IF(C23>0,":","") -> : | E23: Lakers | F23: 85 | G23: =IF(ISNUMBER(F23),":","") -> : | H23: 94 | I23: 3.1 | K23: 1.35 | L23: 2 | M23: =IF(ISNUMBER(L23),IF(IF(F23>H23,1,"")=L23,I23,IF(IF(F23<H23,2,"")=L23,K23,IF(IF(F23=H23,0,"")=L23,J23,0))),"") -> 1.35 | O23: =IF(ISBLANK(F23),"",IF(ISNUMBER(F23),IF(AND(F23>=0,F23<250),IF($F23<>$H23,IF(F23=0,TRUE(),IF(MOD(F23,1)=0,TRUE(),FALSE())),FALSE()),FALSE()),FALSE())) -> TRUE | P23: =IF(ISBLANK(H23),"",IF(ISNUMBER(H23),IF(AND(H23>=0,H23<250),IF($F23<>$H23,IF(H23=0,TRUE(),IF(MOD(H23,1)=0,TRUE(),FALSE())),FALSE()),FALSE()),FALSE())) -> TRUE
C24: Magic | D24: =IF(C24>0,":","") -> : | E24: Celtics | F24: 100 | G24: =IF(ISNUMBER(F24),":","") -> : | H24: 109 | I24: 6.2 | K24: 1.11 | L24: 2 | M24: =IF(ISNUMBER(L24),IF(IF(F24>H24,1,"")=L24,I24,IF(IF(F24<H24,2,"")=L24,K24,IF(IF(F24=H24,0,"")=L24,J24,0))),"") -> 1.11 | O24: =IF(ISBLANK(F24),"",IF(ISNUMBER(F24),IF(AND(F24>=0,F24<250),IF($F24<>$H24,IF(F24=0,TRUE(),IF(MOD(F24,1)=0,TRUE(),FALSE())),FALSE()),FALSE()),FALSE())) -> TRUE | P24: =IF(ISBLANK(H24),"",IF(ISNUMBER(H24),IF(AND(H24>=0,H24<250),IF($F24<>$H24,IF(H24=0,TRUE(),IF(MOD(H24,1)=0,TRUE(),FALSE())),FALSE()),FALSE()),FALSE())) -> TRUE
C25: Heat | D25: =IF(C25>0,":","") -> : | E25: Cavaliers | F25: 112 | G25: =IF(ISNUMBER(F25),":","") -> : | H25: 121 | I25: 5.5 | K25: 1.14 | L25: 2 | M25: =IF(ISNUMBER(L25),IF(IF(F25>H25,1,"")=L25,I25,IF(IF(F25<H25,2,"")=L25,K25,IF(IF(F25=H25,0,"")=L25,J25,0))),"") -> 1.14 | O25: =IF(ISBLANK(F25),"",IF(ISNUMBER(F25),IF(AND(F25>=0,F25<250),IF($F25<>$H25,IF(F25=0,TRUE(),IF(MOD(F25,1)=0,TRUE(),FALSE())),FALSE()),FALSE()),FALSE())) -> TRUE | P25: =IF(ISBLANK(H25),"",IF(ISNUMBER(H25),IF(AND(H25>=0,H25<250),IF($F25<>$H25,IF(H25=0,TRUE(),IF(MOD(H25,1)=0,TRUE(),FALSE())),FALSE()),FALSE()),FALSE())) -> TRUE
C26: Warriors | D26: =IF(C26>0,":","") -> : | E26: Rockets | F26: 94 | G26: =IF(ISNUMBER(F26),":","") -> : | H26: 109 | I26: 2.1 | K26: 1.72 | L26: 1 | M26: =IF(ISNUMBER(L26),IF(IF(F26>H26,1,"")=L26,I26,IF(IF(F26<H26,2,"")=L26,K26,IF(IF(F26=H26,0,"")=L26,J26,0))),"") -> 0 | N26: =SUM(M19:M26) -> 6.13 | O26: =IF(ISBLANK(F26),"",IF(ISNUMBER(F26),IF(AND(F26>=0,F26<250),IF($F26<>$H26,IF(F26=0,TRUE(),IF(MOD(F26,1)=0,TRUE(),FALSE())),FALSE()),FALSE()),FALSE())) -> TRUE | P26: =IF(ISBLANK(H26),"",IF(ISNUMBER(H26),IF(AND(H26>=0,H26<250),IF($F26<>$H26,IF(H26=0,TRUE(),IF(MOD(H26,1)=0,TRUE(),FALSE())),FALSE()),FALSE()),FALSE())) -> TRUE
D27: =IF(C27>0,":","") | G27: =IF(ISNUMBER(F27),":","") | M27: =IF(ISNUMBER(L27),IF(IF(F27>H27,1,"")=L27,I27,IF(IF(F27<H27,2,"")=L27,K27,IF(IF(F27=H27,0,"")=L27,J27,0))),"") | O27: =IF(ISBLANK(F27),"",IF(ISNUMBER(F27),IF(AND(F27>=0,F27<250),IF($F27<>$H27,IF(F27=0,TRUE(),IF(MOD(F27,1)=0,TRUE(),FALSE())),FALSE()),FALSE()),FALSE())) | P27: =IF(ISBLANK(H27),"",IF(ISNUMBER(H27),IF(AND(H27>=0,H27<250),IF($F27<>$H27,IF(H27=0,TRUE(),IF(MOD(H27,1)=0,TRUE(),FALSE())),FALSE()),FALSE()),FALSE()))
B28: Playoffs | C28: Knicks | D28: =IF(C28>0,":","") -> : | E28: Pistons | F28: 118 | G28: =IF(ISNUMBER(F28),":","") -> : | H28: 116 | I28: 1.83 | K28: 1.93 | L28: 2 | M28: =IF(ISNUMBER(L28),IF(IF(F28>H28,1,"")=L28,I28,IF(IF(F28<H28,2,"")=L28,K28,IF(IF(F28=H28,0,"")=L28,J28,0))),"") -> 0 | O28: =IF(ISBLANK(F28),"",IF(ISNUMBER(F28),IF(AND(F28>=0,F28<250),IF($F28<>$H28,IF(F28=0,TRUE(),IF(MOD(F28,1)=0,TRUE(),FALSE())),FALSE()),FALSE()),FALSE())) -> TRUE | P28: =IF(ISBLANK(H28),"",IF(ISNUMBER(H28),IF(AND(H28>=0,H28<250),IF($F28<>$H28,IF(H28=0,TRUE(),IF(MOD(H28,1)=0,TRUE(),FALSE())),FALSE()),FALSE()),FALSE())) -> TRUE
B29: Erste Runde | C29: Thunder | D29: =IF(C29>0,":","") -> : | E29: Grizzlies | F29: 114 | G29: =IF(ISNUMBER(F29),":","") -> : | H29: 108 | I29: 1.2 | K29: 4.4 | L29: 1 | M29: =IF(ISNUMBER(L29),IF(IF(F29>H29,1,"")=L29,I29,IF(IF(F29<H29,2,"")=L29,K29,IF(IF(F29=H29,0,"")=L29,J29,0))),"") -> 1.2 | O29: =IF(ISBLANK(F29),"",IF(ISNUMBER(F29),IF(AND(F29>=0,F29<250),IF($F29<>$H29,IF(F29=0,TRUE(),IF(MOD(F29,1)=0,TRUE(),FALSE())),FALSE()),FALSE()),FALSE())) -> TRUE | P29: =IF(ISBLANK(H29),"",IF(ISNUMBER(H29),IF(AND(H29>=0,H29<250),IF($F29<>$H29,IF(H29=0,TRUE(),IF(MOD(H29,1)=0,TRUE(),FALSE())),FALSE()),FALSE()),FALSE())) -> TRUE
B30: Spiel 3 | C30: Nuggets | D30: =IF(C30>0,":","") -> : | E30: Clippers | F30: 83 | G30: =IF(ISNUMBER(F30),":","") -> : | H30: 117 | I30: 2.8 | K30: 1.42 | L30: 2 | M30: =IF(ISNUMBER(L30),IF(IF(F30>H30,1,"")=L30,I30,IF(IF(F30<H30,2,"")=L30,K30,IF(IF(F30=H30,0,"")=L30,J30,0))),"") -> 1.42 | O30: =IF(ISBLANK(F30),"",IF(ISNUMBER(F30),IF(AND(F30>=0,F30<250),IF($F30<>$H30,IF(F30=0,TRUE(),IF(MOD(F30,1)=0,TRUE(),FALSE())),FALSE()),FALSE()),FALSE())) -> TRUE | P30: =IF(ISBLANK(H30),"",IF(ISNUMBER(H30),IF(AND(H30>=0,H30<250),IF($F30<>$H30,IF(H30=0,TRUE(),IF(MOD(H30,1)=0,TRUE(),FALSE())),FALSE()),FALSE()),FALSE())) -> TRUE
C31: Celtics | D31: =IF(C31>0,":","") -> : | E31: Magic | F31: 93 | G31: =IF(ISNUMBER(F31),":","") -> : | H31: 95 | I31: 1.4 | K31: 2.9 | L31: 1 | M31: =IF(ISNUMBER(L31),IF(IF(F31>H31,1,"")=L31,I31,IF(IF(F31<H31,2,"")=L31,K31,IF(IF(F31=H31,0,"")=L31,J31,0))),"") -> 0 | O31: =IF(ISBLANK(F31),"",IF(ISNUMBER(F31),IF(AND(F31>=0,F31<250),IF($F31<>$H31,IF(F31=0,TRUE(),IF(MOD(F31,1)=0,TRUE(),FALSE())),FALSE()),FALSE()),FALSE())) -> TRUE | P31: =IF(ISBLANK(H31),"",IF(ISNUMBER(H31),IF(AND(H31>=0,H31<250),IF($F31<>$H31,IF(H31=0,TRUE(),IF(MOD(H31,1)=0,TRUE(),FALSE())),FALSE()),FALSE()),FALSE())) -> TRUE
C32: Pacers | D32: =IF(C32>0,":","") -> : | E32: Bucks | F32: 101 | G32: =IF(ISNUMBER(F32),":","") -> : | H32: 117 | I32: 2.8 | K32: 1.42 | L32: 2 | M32: =IF(ISNUMBER(L32),IF(IF(F32>H32,1,"")=L32,I32,IF(IF(F32<H32,2,"")=L32,K32,IF(IF(F32=H32,0,"")=L32,J32,0))),"") -> 1.42 | O32: =IF(ISBLANK(F32),"",IF(ISNUMBER(F32),IF(AND(F32>=0,F32<250),IF($F32<>$H32,IF(F32=0,TRUE(),IF(MOD(F32,1)=0,TRUE(),FALSE())),FALSE()),FALSE()),FALSE())) -> TRUE | P32: =IF(ISBLANK(H32),"",IF(ISNUMBER(H32),IF(AND(H32>=0,H32<250),IF($F32<>$H32,IF(H32=0,TRUE(),IF(MOD(H32,1)=0,TRUE(),FALSE())),FALSE()),FALSE()),FALSE())) -> TRUE
C33: Lakers | D33: =IF(C33>0,":","") -> : | E33: Timberwolves | F33: 104 | G33: =IF(ISNUMBER(F33),":","") -> : | H33: 116 | I33: 2.25 | K33: 1.62 | L33: 2 | M33: =IF(ISNUMBER(L33),IF(IF(F33>H33,1,"")=L33,I33,IF(IF(F33<H33,2,"")=L33,K33,IF(IF(F33=H33,0,"")=L33,J33,0))),"") -> 1.62 | O33: =IF(ISBLANK(F33),"",IF(ISNUMBER(F33),IF(AND(F33>=0,F33<250),IF($F33<>$H33,IF(F33=0,TRUE(),IF(MOD(F33,1)=0,TRUE(),FALSE())),FALSE()),FALSE()),FALSE())) -> TRUE | P33: =IF(ISBLANK(H33),"",IF(ISNUMBER(H33),IF(AND(H33>=0,H33<250),IF($F33<>$H33,IF(H33=0,TRUE(),IF(MOD(H33,1)=0,TRUE(),FALSE())),FALSE()),FALSE()),FALSE())) -> TRUE
C34: Cavaliers | D34: =IF(C34>0,":","") -> : | E34: Heat | F34: 124 | G34: =IF(ISNUMBER(F34),":","") -> : | H34: 87 | I34: 1.4 | K34: 2.9 | L34: 1 | M34: =IF(ISNUMBER(L34),IF(IF(F34>H34,1,"")=L34,I34,IF(IF(F34<H34,2,"")=L34,K34,IF(IF(F34=H34,0,"")=L34,J34,0))),"") -> 1.4 | O34: =IF(ISBLANK(F34),"",IF(ISNUMBER(F34),IF(AND(F34>=0,F34<250),IF($F34<>$H34,IF(F34=0,TRUE(),IF(MOD(F34,1)=0,TRUE(),FALSE())),FALSE()),FALSE()),FALSE())) -> TRUE | P34: =IF(ISBLANK(H34),"",IF(ISNUMBER(H34),IF(AND(H34>=0,H34<250),IF($F34<>$H34,IF(H34=0,TRUE(),IF(MOD(H34,1)=0,TRUE(),FALSE())),FALSE()),FALSE()),FALSE())) -> TRUE
C35: Rockets | D35: =IF(C35>0,":","") -> : | E35: Warriors | F35: 93 | G35: =IF(ISNUMBER(F35),":","") -> : | H35: 104 | I35: 2.25 | K35: 1.62 | L35: 2 | M35: =IF(ISNUMBER(L35),IF(IF(F35>H35,1,"")=L35,I35,IF(IF(F35<H35,2,"")=L35,K35,IF(IF(F35=H35,0,"")=L35,J35,0))),"") -> 1.62 | N35: =SUM(M28:M35) -> 8.68 | O35: =IF(ISBLANK(F35),"",IF(ISNUMBER(F35),IF(AND(F35>=0,F35<250),IF($F35<>$H35,IF(F35=0,TRUE(),IF(MOD(F35,1)=0,TRUE(),FALSE())),FALSE()),FALSE()),FALSE())) -> TRUE | P35: =IF(ISBLANK(H35),"",IF(ISNUMBER(H35),IF(AND(H35>=0,H35<250),IF($F35<>$H35,IF(H35=0,TRUE(),IF(MOD(H35,1)=0,TRUE(),FALSE())),FALSE()),FALSE()),FALSE())) -> TRUE
D36: =IF(C36>0,":","") | G36: =IF(ISNUMBER(F36),":","") | M36: =IF(ISNUMBER(L36),IF(IF(F36>H36,1,"")=L36,I36,IF(IF(F36<H36,2,"")=L36,K36,IF(IF(F36=H36,0,"")=L36,J36,0))),"") | O36: =IF(ISBLANK(F36),"",IF(ISNUMBER(F36),IF(AND(F36>=0,F36<250),IF($F36<>$H36,IF(F36=0,TRUE(),IF(MOD(F36,1)=0,TRUE(),FALSE())),FALSE()),FALSE()),FALSE())) | P36: =IF(ISBLANK(H36),"",IF(ISNUMBER(H36),IF(AND(H36>=0,H36<250),IF($F36<>$H36,IF(H36=0,TRUE(),IF(MOD(H36,1)=0,TRUE(),FALSE())),FALSE()),FALSE()),FALSE()))
B37: Playoffs | C37: Thunder | D37: =IF(C37>0,":","") -> : | E37: Grizzlies | F37: 117 | G37: =IF(ISNUMBER(F37),":","") -> : | H37: 115 | I37: 1.1 | K37: 6.7 | L37: 1 | M37: =IF(ISNUMBER(L37),IF(IF(F37>H37,1,"")=L37,I37,IF(IF(F37<H37,2,"")=L37,K37,IF(IF(F37=H37,0,"")=L37,J37,0))),"") -> 1.1 | O37: =IF(ISBLANK(F37),"",IF(ISNUMBER(F37),IF(AND(F37>=0,F37<250),IF($F37<>$H37,IF(F37=0,TRUE(),IF(MOD(F37,1)=0,TRUE(),FALSE())),FALSE()),FALSE()),FALSE())) -> TRUE | P37: =IF(ISBLANK(H37),"",IF(ISNUMBER(H37),IF(AND(H37>=0,H37<250),IF($F37<>$H37,IF(H37=0,TRUE(),IF(MOD(H37,1)=0,TRUE(),FALSE())),FALSE()),FALSE()),FALSE())) -> TRUE
B38: Erste Runde | C38: Nuggets | D38: =IF(C38>0,":","") -> : | E38: Clippers | F38: 101 | G38: =IF(ISNUMBER(F38),":","") -> : | H38: 99 | I38: 2.8 | K38: 1.42 | L38: 2 | M38: =IF(ISNUMBER(L38),IF(IF(F38>H38,1,"")=L38,I38,IF(IF(F38<H38,2,"")=L38,K38,IF(IF(F38=H38,0,"")=L38,J38,0))),"") -> 0 | O38: =IF(ISBLANK(F38),"",IF(ISNUMBER(F38),IF(AND(F38>=0,F38<250),IF($F38<>$H38,IF(F38=0,TRUE(),IF(MOD(F38,1)=0,TRUE(),FALSE())),FALSE()),FALSE()),FALSE())) -> TRUE | P38: =IF(ISBLANK(H38),"",IF(ISNUMBER(H38),IF(AND(H38>=0,H38<250),IF($F38<>$H38,IF(H38=0,TRUE(),IF(MOD(H38,1)=0,TRUE(),FALSE())),FALSE()),FALSE()),FALSE())) -> TRUE
B39: Spiel 4 | C39: Knicks | D39: =IF(C39>0,":","") -> : | E39: Pistons | F39: 94 | G39: =IF(ISNUMBER(F39),":","") -> : | H39: 93 | I39: 1.9 | K39: 1.87 | L39: 2 | M39: =IF(ISNUMBER(L39),IF(IF(F39>H39,1,"")=L39,I39,IF(IF(F39<H39,2,"")=L39,K39,IF(IF(F39=H39,0,"")=L39,J39,0))),"") -> 0 | O39: =IF(ISBLANK(F39),"",IF(ISNUMBER(F39),IF(AND(F39>=0,F39<250),IF($F39<>$H39,IF(F39=0,TRUE(),IF(MOD(F39,1)=0,TRUE(),FALSE())),FALSE()),FALSE()),FALSE())) -> TRUE | P39: =IF(ISBLANK(H39),"",IF(ISNUMBER(H39),IF(AND(H39>=0,H39<250),IF($F39<>$H39,IF(H39=0,TRUE(),IF(MOD(H39,1)=0,TRUE(),FALSE())),FALSE()),FALSE()),FALSE())) -> TRUE
C40: Lakers | D40: =IF(C40>0,":","") -> : | E40: Timberwolves | F40: 113 | G40: =IF(ISNUMBER(F40),":","") -> : | H40: 116 | I40: 2.3 | K40: 1.6 | L40: 2 | M40: =IF(ISNUMBER(L40),IF(IF(F40>H40,1,"")=L40,I40,IF(IF(F40<H40,2,"")=L40,K40,IF(IF(F40=H40,0,"")=L40,J40,0))),"") -> 1.6 | O40: =IF(ISBLANK(F40),"",IF(ISNUMBER(F40),IF(AND(F40>=0,F40<250),IF($F40<>$H40,IF(F40=0,TRUE(),IF(MOD(F40,1)=0,TRUE(),FALSE())),FALSE()),FALSE()),FALSE())) -> TRUE | P40: =IF(ISBLANK(H40),"",IF(ISNUMBER(H40),IF(AND(H40>=0,H40<250),IF($F40<>$H40,IF(H40=0,TRUE(),IF(MOD(H40,1)=0,TRUE(),FALSE())),FALSE()),FALSE()),FALSE())) -> TRUE
...

Sheet smashie
A1: smashie | B1: Spieltag | C1: Auswärts | E1: Heim | F1: Ergebnis | I1: 1 | J1: 2 | K1: 2 | L1: Tipp | M1: Richtig | N1: Gesamt | O1: Gültigk. D | P1: Gültik. F
B2: Play-Ins East | C2: Hawks | D2: =IF(C2>0,":","") -> : | E2: Magic | F2: 95 | G2: =IF(ISNUMBER(F2),":","") -> : | H2: 120 | I2: 2.6 | K2: 1.45 | L2: 2 | M2: =IF(ISNUMBER(L2),IF(IF(F2>H2,1,"")=L2,I2,IF(IF(F2<H2,2,"")=L2,K2,IF(IF(F2=H2,0,"")=L2,J2,0))),"") -> 1.45 | O2: =IF(ISBLANK(F2),"",IF(ISNUMBER(F2),IF(AND(F2>=0,F2<250),IF($F2<>$H2,IF(F2=0,TRUE(),IF(MOD(F2,1)=0,TRUE(),FALSE())),FALSE()),FALSE()),FALSE())) -> TRUE | P2: =IF(ISBLANK(H2),"",IF(ISNUMBER(H2),IF(AND(H2>=0,H2<250),IF($F2<>$H2,IF(H2=0,TRUE(),IF(MOD(H2,1)=0,TRUE(),FALSE())),FALSE()),FALSE()),FALSE())) -> TRUE
C3: Heat | D3: =IF(C3>0,":","") -> : | E3: Bulls | F3: 109 | G3: =IF(ISNUMBER(F3),":","") -> : | H3: 90 | I3: 1.97 | K3: 1.8 | L3: 2 | M3: =IF(ISNUMBER(L3),IF(IF(F3>H3,1,"")=L3,I3,IF(IF(F3<H3,2,"")=L3,K3,IF(IF(F3=H3,0,"")=L3,J3,0))),"") -> 0 | O3: =IF(ISBLANK(F3),"",IF(ISNUMBER(F3),IF(AND(F3>=0,F3<250),IF($F3<>$H3,IF(F3=0,TRUE(),IF(MOD(F3,1)=0,TRUE(),FALSE())),FALSE()),FALSE()),FALSE())) -> TRUE | P3: =IF(ISBLANK(H3),"",IF(ISNUMBER(H3),IF(AND(H3>=0,H3<250),IF($F3<>$H3,IF(H3=0,TRUE(),IF(MOD(H3,1)=0,TRUE(),FALSE())),FALSE()),FALSE()),FALSE())) -> TRUE
B4: Play-Ins West | C4: Grizzlies | D4: =IF(C4>0,":","") -> : | E4: Warriors | F4: 116 | G4: =IF(ISNUMBER(F4),":","") -> : | H4: 121 | I4: 3.3 | K4: 1.32 | L4: 2 | M4: =IF(ISNUMBER(L4),IF(IF(F4>H4,1,"")=L4,I4,IF(IF(F4<H4,2,"")=L4,K4,IF(IF(F4=H4,0,"")=L4,J4,0))),"") -> 1.32 | O4: =IF(ISBLANK(F4),"",IF(ISNUMBER(F4),IF(AND(F4>=0,F4<250),IF($F4<>$H4,IF(F4=0,TRUE(),IF(MOD(F4,1)=0,TRUE(),FALSE())),FALSE()),FALSE()),FALSE())) -> TRUE | P4: =IF(ISBLANK(H4),"",IF(ISNUMBER(H4),IF(AND(H4>=0,H4<250),IF($F4<>$H4,IF(H4=0,TRUE(),IF(MOD(H4,1)=0,TRUE(),FALSE())),FALSE()),FALSE()),FALSE())) -> TRUE
C5: Mavericks | D5: =IF(C5>0,":","") -> : | E5: Kings | F5: 120 | G5: =IF(ISNUMBER(F5),":","") -> : | H5: 106 | I5: 2.55 | K5: 1.5 | L5: 2 | M5: =IF(ISNUMBER(L5),IF(IF(F5>H5,1,"")=L5,I5,IF(IF(F5<H5,2,"")=L5,K5,IF(IF(F5=H5,0,"")=L5,J5,0))),"") -> 0 | N5: =SUM(M2:M5) -> 2.77 | O5: =IF(ISBLANK(F5),"",IF(ISNUMBER(F5),IF(AND(F5>=0,F5<250),IF($F5<>$H5,IF(F5=0,TRUE(),IF(MOD(F5,1)=0,TRUE(),FALSE())),FALSE()),FALSE()),FALSE())) -> TRUE | P5: =IF(ISBLANK(H5),"",IF(ISNUMBER(H5),IF(AND(H5>=0,H5<250),IF($F5<>$H5,IF(H5=0,TRUE(),IF(MOD(H5,1)=0,TRUE(),FALSE())),FALSE()),FALSE()),FALSE())) -> TRUE
D6: =IF(C6>0,":","") | G6: =IF(ISNUMBER(F6),":","") | M6: =IF(ISNUMBER(L6),IF(IF(F6>H6,1,"")=L6,I6,IF(IF(F6<H6,2,"")=L6,K6,IF(IF(F6=H6,0,"")=L6,J6,0))),"") | O6: =IF(ISBLANK(F6),"",IF(ISNUMBER(F6),IF(AND(F6>=0,F6<250),IF($F6<>$H6,IF(F6=0,TRUE(),IF(MOD(F6,1)=0,TRUE(),FALSE())),FALSE()),FALSE()),FALSE())) | P6: =IF(ISBLANK(H6),"",IF(ISNUMBER(H6),IF(AND(H6>=0,H6<250),IF($F6<>$H6,IF(H6=0,TRUE(),IF(MOD(H6,1)=0,TRUE(),FALSE())),FALSE()),FALSE()),FALSE()))
B7: Play-Ins East | C7: Heat | D7: =IF(C7>0,":","") -> : | E7: Hawks | F7: 123 | G7: =IF(ISNUMBER(F7),":","") -> : | H7: 114 | I7: 1.83 | K7: 1.93 | L7: 1 | M7: =IF(ISNUMBER(L7),IF(IF(F7>H7,1,"")=L7,I7,IF(IF(F7<H7,2,"")=L7,K7,IF(IF(F7=H7,0,"")=L7,J7,0))),"") -> 1.83 | O7: =IF(ISBLANK(F7),"",IF(ISNUMBER(F7),IF(AND(F7>=0,F7<250),IF($F7<>$H7,IF(F7=0,TRUE(),IF(MOD(F7,1)=0,TRUE(),FALSE())),FALSE()),FALSE()),FALSE())) -> TRUE | P7: =IF(ISBLANK(H7),"",IF(ISNUMBER(H7),IF(AND(H7>=0,H7<250),IF($F7<>$H7,IF(H7=0,TRUE(),IF(MOD(H7,1)=0,TRUE(),FALSE())),FALSE()),FALSE()),FALSE())) -> TRUE
B8: Play-Ins West | C8: Mavericks | D8: =IF(C8>0,":","") -> : | E8: Grizzlies | F8: 106 | G8: =IF(ISNUMBER(F8),":","") -> : | H8: 120 | I8: 2.9 | K8: 1.4 | L8: 1 | M8: =IF(ISNUMBER(L8),IF(IF(F8>H8,1,"")=L8,I8,IF(IF(F8<H8,2,"")=L8,K8,IF(IF(F8=H8,0,"")=L8,J8,0))),"") -> 0 | N8: =SUM(M7:M8) -> 1.83 | O8: =IF(ISBLANK(F8),"",IF(ISNUMBER(F8),IF(AND(F8>=0,F8<250),IF($F8<>$H8,IF(F8=0,TRUE(),IF(MOD(F8,1)=0,TRUE(),FALSE())),FALSE()),FALSE()),FALSE())) -> TRUE | P8: =IF(ISBLANK(H8),"",IF(ISNUMBER(H8),IF(AND(H8>=0,H8<250),IF($F8<>$H8,IF(H8=0,TRUE(),IF(MOD(H8,1)=0,TRUE(),FALSE())),FALSE()),FALSE()),FALSE())) -> TRUE
D9: =IF(C9>0,":","") | G9: =IF(ISNUMBER(F9),":","") | M9: =IF(ISNUMBER(L9),IF(IF(F9>H9,1,"")=L9,I9,IF(IF(F9<H9,2,"")=L9,K9,IF(IF(F9=H9,0,"")=L9,J9,0))),"") | O9: =IF(ISBLANK(F9),"",IF(ISNUMBER(F9),IF(AND(F9>=0,F9<250),IF($F9<>$H9,IF(F9=0,TRUE(),IF(MOD(F9,1)=0,TRUE(),FALSE())),FALSE()),FALSE()),FALSE())) | P9: =IF(ISBLANK(H9),"",IF(ISNUMBER(H9),IF(AND(H9>=0,H9<250),IF($F9<>$H9,IF(H9=0,TRUE(),IF(MOD(H9,1)=0,TRUE(),FALSE())),FALSE()),FALSE()),FALSE()))
B10: Playoffs | C10: Bucks | D10: =IF(C10>0,":","") -> : | E10: Pacers | F10: 98 | G10: =IF(ISNUMBER(F10),":","") -> : | H10: 117 | I10: 2.6 | K10: 1.47 | L10: 2 | M10: =IF(ISNUMBER(L10),IF(IF(F10>H10,1,"")=L10,I10,IF(IF(F10<H10,2,"")=L10,K10,IF(IF(F10=H10,0,"")=L10,J10,0))),"") -> 1.47 | O10: =IF(ISBLANK(F10),"",IF(ISNUMBER(F10),IF(AND(F10>=0,F10<250),IF($F10<>$H10,IF(F10=0,TRUE(),IF(MOD(F10,1)=0,TRUE(),FALSE())),FALSE()),FALSE()),FALSE())) -> TRUE | P10: =IF(ISBLANK(H10),"",IF(ISNUMBER(H10),IF(AND(H10>=0,H10<250),IF($F10<>$H10,IF(H10=0,TRUE(),IF(MOD(H10,1)=0,TRUE(),FALSE())),FALSE()),FALSE()),FALSE())) -> TRUE
B11: Erste Runde | C11: Clippers | D11: =IF(C11>0,":","") -> : | E11: Nuggets | F11: 110 | G11: =IF(ISNUMBER(F11),":","") -> : | H11: 112 | I11: 2.2 | K11: 1.63 | L11: 2 | M11: =IF(ISNUMBER(L11),IF(IF(F11>H11,1,"")=L11,I11,IF(IF(F11<H11,2,"")=L11,K11,IF(IF(F11=H11,0,"")=L11,J11,0))),"") -> 1.63 | O11: =IF(ISBLANK(F11),"",IF(ISNUMBER(F11),IF(AND(F11>=0,F11<250),IF($F11<>$H11,IF(F11=0,TRUE(),IF(MOD(F11,1)=0,TRUE(),FALSE())),FALSE()),FALSE()),FALSE())) -> TRUE | P11: =IF(ISBLANK(H11),"",IF(ISNUMBER(H11),IF(AND(H11>=0,H11<250),IF($F11<>$H11,IF(H11=0,TRUE(),IF(MOD(H11,1)=0,TRUE(),FALSE())),FALSE()),FALSE()),FALSE())) -> TRUE
B12: Spiel 1 | C12: Pistons | D12: =IF(C12>0,":","") -> : | E12: Knicks | F12: 112 | G12: =IF(ISNUMBER(F12),":","") -> : | H12: 123 | I12: 3.3 | K12: 1.32 | L12: 1 | M12: =IF(ISNUMBER(L12),IF(IF(F12>H12,1,"")=L12,I12,IF(IF(F12<H12,2,"")=L12,K12,IF(IF(F12=H12,0,"")=L12,#REF!,0))),"") -> 0 | O12: =IF(ISBLANK(F12),"",IF(ISNUMBER(F12),IF(AND(F12>=0,F12<250),IF($F12<>$H12,IF(F12=0,TRUE(),IF(MOD(F12,1)=0,TRUE(),FALSE())),FALSE()),FALSE()),FALSE())) -> TRUE | P12: =IF(ISBLANK(H12),"",IF(ISNUMBER(H12),IF(AND(H12>=0,H12<250),IF($F12<>$H12,IF(H12=0,TRUE(),IF(MOD(H12,1)=0,TRUE(),FALSE())),FALSE()),FALSE()),FALSE())) -> TRUE
C13: Timberwolves | D13: =IF(C13>0,":","") -> : | E13: Lakers | F13: 117 | G13: =IF(ISNUMBER(F13),":","") -> : | H13: 95 | I13: 2.5 | K13: 1.52 | L13: 2 | M13: =IF(ISNUMBER(L13),IF(IF(F13>H13,1,"")=L13,I13,IF(IF(F13<H13,2,"")=L13,K13,IF(IF(F13=H13,0,"")=L13,J13,0))),"") -> 0 | O13: =IF(ISBLANK(F13),"",IF(ISNUMBER(F13),IF(AND(F13>=0,F13<250),IF($F13<>$H13,IF(F13=0,TRUE(),IF(MOD(F13,1)=0,TRUE(),FALSE())),FALSE()),FALSE()),FALSE())) -> TRUE | P13: =IF(ISBLANK(H13),"",IF(ISNUMBER(H13),IF(AND(H13>=0,H13<250),IF($F13<>$H13,IF(H13=0,TRUE(),IF(MOD(H13,1)=0,TRUE(),FALSE())),FALSE()),FALSE()),FALSE())) -> TRUE
C14: Magic | D14: =IF(C14>0,":","") -> : | E14: Celtics | F14: 86 | G14: =IF(ISNUMBER(F14),":","") -> : | H14: 103 | I14: 7.8 | K14: 1.07 | L14: 1 | M14: =IF(ISNUMBER(L14),IF(IF(F14>H14,1,"")=L14,I14,IF(IF(F14<H14,2,"")=L14,K14,IF(IF(F14=H14,0,"")=L14,J14,0))),"") -> 0 | O14: =IF(ISBLANK(F14),"",IF(ISNUMBER(F14),IF(AND(F14>=0,F14<250),IF($F14<>$H14,IF(F14=0,TRUE(),IF(MOD(F14,1)=0,TRUE(),FALSE())),FALSE()),FALSE()),FALSE())) -> TRUE | P14: =IF(ISBLANK(H14),"",IF(ISNUMBER(H14),IF(AND(H14>=0,H14<250),IF($F14<>$H14,IF(H14=0,TRUE(),IF(MOD(H14,1)=0,TRUE(),FALSE())),FALSE()),FALSE()),FALSE())) -> TRUE
C15: Warriors | D15: =IF(C15>0,":","") -> : | E15: Rockets | F15: 95 | G15: =IF(ISNUMBER(F15),":","") -> : | H15: 85 | I15: 1.93 | K15: 1.83 | L15: 2 | M15: =IF(ISNUMBER(L15),IF(IF(F15>H15,1,"")=L15,I15,IF(IF(F15<H15,2,"")=L15,K15,IF(IF(F15=H15,0,"")=L15,J15,0))),"") -> 0 | O15: =IF(ISBLANK(F15),"",IF(ISNUMBER(F15),IF(AND(F15>=0,F15<250),IF($F15<>$H15,IF(F15=0,TRUE(),IF(MOD(F15,1)=0,TRUE(),FALSE())),FALSE()),FALSE()),FALSE())) -> TRUE | P15: =IF(ISBLANK(H15),"",IF(ISNUMBER(H15),IF(AND(H15>=0,H15<250),IF($F15<>$H15,IF(H15=0,TRUE(),IF(MOD(H15,1)=0,TRUE(),FALSE())),FALSE()),FALSE()),FALSE())) -> TRUE
C16: Grizzlies | D16: =IF(C16>0,":","") -> : | E16: Thunder | F16: 80 | G16: =IF(ISNUMBER(F16),":","") -> : | H16: 131 | I16: 5.5 | K16: 1.14 | L16: 2 | M16: =IF(ISNUMBER(L16),IF(IF(F16>H16,1,"")=L16,I16,IF(IF(F16<H16,2,"")=L16,K16,IF(IF(F16=H16,0,"")=L16,J16,0))),"") -> 1.14 | O16: =IF(ISBLANK(F16),"",IF(ISNUMBER(F16),IF(AND(F16>=0,F16<250),IF($F16<>$H16,IF(F16=0,TRUE(),IF(MOD(F16,1)=0,TRUE(),FALSE())),FALSE()),FALSE()),FALSE())) -> TRUE | P16: =IF(ISBLANK(H16),"",IF(ISNUMBER(H16),IF(AND(H16>=0,H16<250),IF($F16<>$H16,IF(H16=0,TRUE(),IF(MOD(H16,1)=0,TRUE(),FALSE())),FALSE()),FALSE()),FALSE())) -> TRUE
C17: Heat | D17: =IF(C17>0,":","") -> : | E17: Cavaliers | F17: 100 | G17: =IF(ISNUMBER(F17),":","") -> : | H17: 121 | I17: 6.5 | K17: 1.1 | L17: 2 | M17: =IF(ISNUMBER(L17),IF(IF(F17>H17,1,"")=L17,I17,IF(IF(F17<H17,2,"")=L17,K17,IF(IF(F17=H17,0,"")=L17,J17,0))),"") -> 1.1 | N17: =SUM(M10:M17) -> 5.34 | O17: =IF(ISBLANK(F17),"",IF(ISNUMBER(F17),IF(AND(F17>=0,F17<250),IF($F17<>$H17,IF(F17=0,TRUE(),IF(MOD(F17,1)=0,TRUE(),FALSE())),FALSE()),FALSE()),FALSE())) -> TRUE | P17: =IF(ISBLANK(H17),"",IF(ISNUMBER(H17),IF(AND(H17>=0,H17<250),IF($F17<>$H17,IF(H17=0,TRUE(),IF(MOD(H17,1)=0,TRUE(),FALSE())),FALSE()),FALSE()),FALSE())) -> TRUE
D18: =IF(C18>0,":","") | G18: =IF(ISNUMBER(F18),":","") | M18: =IF(ISNUMBER(L18),IF(IF(F18>H18,1,"")=L18,I18,IF(IF(F18<H18,2,"")=L18,K18,IF(IF(F18=H18,0,"")=L18,J18,0))),"") | O18: =IF(ISBLANK(F18),"",IF(ISNUMBER(F18),IF(AND(F18>=0,F18<250),IF($F18<>$H18,IF(F18=0,TRUE(),IF(MOD(F18,1)=0,TRUE(),FALSE())),FALSE()),FALSE()),FALSE())) | P18: =IF(ISBLANK(H18),"",IF(ISNUMBER(H18),IF(AND(H18>=0,H18<250),IF($F18<>$H18,IF(H18=0,TRUE(),IF(MOD(H18,1)=0,TRUE(),FALSE())),FALSE()),FALSE()),FALSE()))
B19: Playoffs | C19: Pistons | D19: =IF(C19>0,":","") -> : | E19: Knicks | F19: 100 | G19: =IF(ISNUMBER(F19),":","") -> : | H19: 94 | I19: 3 | K19: 1.37 | M19: =IF(ISNUMBER(L19),IF(IF(F19>H19,1,"")=L19,I19,IF(IF(F19<H19,2,"")=L19,K19,IF(IF(F19=H19,0,"")=L19,J19,0))),"") | O19: =IF(ISBLANK(F19),"",IF(ISNUMBER(F19),IF(AND(F19>=0,F19<250),IF($F19<>$H19,IF(F19=0,TRUE(),IF(MOD(F19,1)=0,TRUE(),FALSE())),FALSE()),FALSE()),FALSE())) -> TRUE | P19: =IF(ISBLANK(H19),"",IF(ISNUMBER(H19),IF(AND(H19>=0,H19<250),IF($F19<>$H19,IF(H19=0,TRUE(),IF(MOD(H19,1)=0,TRUE(),FALSE())),FALSE()),FALSE()),FALSE())) -> TRUE
B20: Erste Runde | C20: Clippers | D20: =IF(C20>0,":","") -> : | E20: Nuggets | F20: 105 | G20: =IF(ISNUMBER(F20),":","") -> : | H20: 102 | I20: 1.83 | K20: 1.93 | M20: =IF(ISNUMBER(L20),IF(IF(F20>H20,1,"")=L20,I20,IF(IF(F20<H20,2,"")=L20,K20,IF(IF(F20=H20,0,"")=L20,J20,0))),"") | O20: =IF(ISBLANK(F20),"",IF(ISNUMBER(F20),IF(AND(F20>=0,F20<250),IF($F20<>$H20,IF(F20=0,TRUE(),IF(MOD(F20,1)=0,TRUE(),FALSE())),FALSE()),FALSE()),FALSE())) -> TRUE | P20: =IF(ISBLANK(H20),"",IF(ISNUMBER(H20),IF(AND(H20>=0,H20<250),IF($F20<>$H20,IF(H20=0,TRUE(),IF(MOD(H20,1)=0,TRUE(),FALSE())),FALSE()),FALSE()),FALSE())) -> TRUE
B21: Spiel 2 | C21: Bucks | D21: =IF(C21>0,":","") -> : | E21: Pacers | F21: 115 | G21: =IF(ISNUMBER(F21),":","") -> : | H21: 123 | I21: 2.6 | K21: 1.47 | L21: 2 | M21: =IF(ISNUMBER(L21),IF(IF(F21>H21,1,"")=L21,I21,IF(IF(F21<H21,2,"")=L21,K21,IF(IF(F21=H21,0,"")=L21,J21,0))),"") -> 1.47 | O21: =IF(ISBLANK(F21),"",IF(ISNUMBER(F21),IF(AND(F21>=0,F21<250),IF($F21<>$H21,IF(F21=0,TRUE(),IF(MOD(F21,1)=0,TRUE(),FALSE())),FALSE()),FALSE()),FALSE())) -> TRUE | P21: =IF(ISBLANK(H21),"",IF(ISNUMBER(H21),IF(AND(H21>=0,H21<250),IF($F21<>$H21,IF(H21=0,TRUE(),IF(MOD(H21,1)=0,TRUE(),FALSE())),FALSE()),FALSE()),FALSE())) -> TRUE
C22: Grizzlies | D22: =IF(C22>0,":","") -> : | E22: Thunder | F22: 99 | G22: =IF(ISNUMBER(F22),":","") -> : | H22: 118 | I22: 8.5 | K22: 1.06 | L22: 2 | M22: =IF(ISNUMBER(L22),IF(IF(F22>H22,1,"")=L22,I22,IF(IF(F22<H22,2,"")=L22,K22,IF(IF(F22=H22,0,"")=L22,J22,0))),"") -> 1.06 | O22: =IF(ISBLANK(F22),"",IF(ISNUMBER(F22),IF(AND(F22>=0,F22<250),IF($F22<>$H22,IF(F22=0,TRUE(),IF(MOD(F22,1)=0,TRUE(),FALSE())),FALSE()),FALSE()),FALSE())) -> TRUE | P22: =IF(ISBLANK(H22),"",IF(ISNUMBER(H22),IF(AND(H22>=0,H22<250),IF($F22<>$H22,IF(H22=0,TRUE(),IF(MOD(H22,1)=0,TRUE(),FALSE())),FALSE()),FALSE()),FALSE())) -> TRUE
C23: Timberwolves | D23: =IF(C23>0,":","") -> : | E23: Lakers | F23: 85 | G23: =IF(ISNUMBER(F23),":","") -> : | H23: 94 | I23: 3.1 | K23: 1.35 | L23: 2 | M23: =IF(ISNUMBER(L23),IF(IF(F23>H23,1,"")=L23,I23,IF(IF(F23<H23,2,"")=L23,K23,IF(IF(F23=H23,0,"")=L23,J23,0))),"") -> 1.35 | O23: =IF(ISBLANK(F23),"",IF(ISNUMBER(F23),IF(AND(F23>=0,F23<250),IF($F23<>$H23,IF(F23=0,TRUE(),IF(MOD(F23,1)=0,TRUE(),FALSE())),FALSE()),FALSE()),FALSE())) -> TRUE | P23: =IF(ISBLANK(H23),"",IF(ISNUMBER(H23),IF(AND(H23>=0,H23<250),IF($F23<>$H23,IF(H23=0,TRUE(),IF(MOD(H23,1)=0,TRUE(),FALSE())),FALSE()),FALSE()),FALSE())) -> TRUE
C24: Magic | D24: =IF(C24>0,":","") -> : | E24: Celtics | F24: 100 | G24: =IF(ISNUMBER(F24),":","") -> : | H24: 109 | I24: 6.2 | K24: 1.11 | L24: 2 | M24: =IF(ISNUMBER(L24),IF(IF(F24>H24,1,"")=L24,I24,IF(IF(F24<H24,2,"")=L24,K24,IF(IF(F24=H24,0,"")=L24,J24,0))),"") -> 1.11 | O24: =IF(ISBLANK(F24),"",IF(ISNUMBER(F24),IF(AND(F24>=0,F24<250),IF($F24<>$H24,IF(F24=0,TRUE(),IF(MOD(F24,1)=0,TRUE(),FALSE())),FALSE()),FALSE()),FALSE())) -> TRUE | P24: =IF(ISBLANK(H24),"",IF(ISNUMBER(H24),IF(AND(H24>=0,H24<250),IF($F24<>$H24,IF(H24=0,TRUE(),IF(MOD(H24,1)=0,TRUE(),FALSE())),FALSE()),FALSE()),FALSE())) -> TRUE
C25: Heat | D25: =IF(C25>0,":","") -> : | E25: Cavaliers | F25: 112 | G25: =IF(ISNUMBER(F25),":","") -> : | H25: 121 | I25: 5.5 | K25: 1.14 | L25: 2 | M25: =IF(ISNUMBER(L25),IF(IF(F25>H25,1,"")=L25,I25,IF(IF(F25<H25,2,"")=L25,K25,IF(IF(F25=H25,0,"")=L25,J25,0))),"") -> 1.14 | O25: =IF(ISBLANK(F25),"",IF(ISNUMBER(F25),IF(AND(F25>=0,F25<250),IF($F25<>$H25,IF(F25=0,TRUE(),IF(MOD(F25,1)=0,TRUE(),FALSE())),FALSE()),FALSE()),FALSE())) -> TRUE | P25: =IF(ISBLANK(H25),"",IF(ISNUMBER(H25),IF(AND(H25>=0,H25<250),IF($F25<>$H25,IF(H25=0,TRUE(),IF(MOD(H25,1)=0,TRUE(),FALSE())),FALSE()),FALSE()),FALSE())) -> TRUE
C26: Warriors | D26: =IF(C26>0,":","") -> : | E26: Rockets | F26: 94 | G26: =IF(ISNUMBER(F26),":","") -> : | H26: 109 | I26: 2.1 | K26: 1.72 | L26: 1 | M26: =IF(ISNUMBER(L26),IF(IF(F26>H26,1,"")=L26,I26,IF(IF(F26<H26,2,"")=L26,K26,IF(IF(F26=H26,0,"")=L26,J26,0))),"") -> 0 | N26: =SUM(M19:M26) -> 6.13 | O26: =IF(ISBLANK(F26),"",IF(ISNUMBER(F26),IF(AND(F26>=0,F26<250),IF($F26<>$H26,IF(F26=0,TRUE(),IF(MOD(F26,1)=0,TRUE(),FALSE())),FALSE()),FALSE()),FALSE())) -> TRUE | P26: =IF(ISBLANK(H26),"",IF(ISNUMBER(H26),IF(AND(H26>=0,H26<250),IF($F26<>$H26,IF(H26=0,TRUE(),IF(MOD(H26,1)=0,TRUE(),FALSE())),FALSE()),FALSE()),FALSE())) -> TRUE
D27: =IF(C27>0,":","") | G27: =IF(ISNUMBER(F27),":","") | M27: =IF(ISNUMBER(L27),IF(IF(F27>H27,1,"")=L27,I27,IF(IF(F27<H27,2,"")=L27,K27,IF(IF(F27=H27,0,"")=L27,J27,0))),"") | O27: =IF(ISBLANK(F27),"",IF(ISNUMBER(F27),IF(AND(F27>=0,F27<250),IF($F27<>$H27,IF(F27=0,TRUE(),IF(MOD(F27,1)=0,TRUE(),FALSE())),FALSE()),FALSE()),FALSE())) | P27: =IF(ISBLANK(H27),"",IF(ISNUMBER(H27),IF(AND(H27>=0,H27<250),IF($F27<>$H27,IF(H27=0,TRUE(),IF(MOD(H27,1)=0,TRUE(),FALSE())),FALSE()),FALSE()),FALSE()))
B28: Playoffs | C28: Knicks | D28: =IF(C28>0,":","") -> : | E28: Pistons | F28: 118 | G28: =IF(ISNUMBER(F28),":","") -> : | H28: 116 | I28: 1.83 | K28: 1.93 | L28: 2 | M28: =IF(ISNUMBER(L28),IF(IF(F28>H28,1,"")=L28,I28,IF(IF(F28<H28,2,"")=L28,K28,IF(IF(F28=H28,0,"")=L28,J28,0))),"") -> 0 | O28: =IF(ISBLANK(F28),"",IF(ISNUMBER(F28),IF(AND(F28>=0,F28<250),IF($F28<>$H28,IF(F28=0,TRUE(),IF(MOD(F28,1)=0,TRUE(),FALSE())),FALSE()),FALSE()),FALSE())) -> TRUE | P28: =IF(ISBLANK(H28),"",IF(ISNUMBER(H28),IF(AND(H28>=0,H28<250),IF($F28<>$H28,IF(H28=0,TRUE(),IF(MOD(H28,1)=0,TRUE(),FALSE())),FALSE()),FALSE()),FALSE())) -> TRUE
B29: Erste Runde | C29: Thunder | D29: =IF(C29>0,":","") -> : | E29: Grizzlies | F29: 114 | G29: =IF(ISNUMBER(F29),":","") -> : | H29: 108 | I29: 1.2 | K29: 4.4 | L29: 1 | M29: =IF(ISNUMBER(L29),IF(IF(F29>H29,1,"")=L29,I29,IF(IF(F29<H29,2,"")=L29,K29,IF(IF(F29=H29,0,"")=L29,J29,0))),"") -> 1.2 | O29: =IF(ISBLANK(F29),"",IF(ISNUMBER(F29),IF(AND(F29>=0,F29<250),IF($F29<>$H29,IF(F29=0,TRUE(),IF(MOD(F29,1)=0,TRUE(),FALSE())),FALSE()),FALSE()),FALSE())) -> TRUE | P29: =IF(ISBLANK(H29),"",IF(ISNUMBER(H29),IF(AND(H29>=0,H29<250),IF($F29<>$H29,IF(H29=0,TRUE(),IF(MOD(H29,1)=0,TRUE(),FALSE())),FALSE()),FALSE()),FALSE())) -> TRUE
B30: Spiel 3 | C30: Nuggets | D30: =IF(C30>0,":","") -> : | E30: Clippers | F30: 83 | G30: =IF(ISNUMBER(F30),":","") -> : | H30: 117 | I30: 2.8 | K30: 1.42 | L30: 2 | M30: =IF(ISNUMBER(L30),IF(IF(F30>H30,1,"")=L30,I30,IF(IF(F30<H30,2,"")=L30,K30,IF(IF(F30=H30,0,"")=L30,J30,0))),"") -> 1.42 | O30: =IF(ISBLANK(F30),"",IF(ISNUMBER(F30),IF(AND(F30>=0,F30<250),IF($F30<>$H30,IF(F30=0,TRUE(),IF(MOD(F30,1)=0,TRUE(),FALSE())),FALSE()),FALSE()),FALSE())) -> TRUE | P30: =IF(ISBLANK(H30),"",IF(ISNUMBER(H30),IF(AND(H30>=0,H30<250),IF($F30<>$H30,IF(H30=0,TRUE(),IF(MOD(H30,1)=0,TRUE(),FALSE())),FALSE()),FALSE()),FALSE())) -> TRUE
C31: Celtics | D31: =IF(C31>0,":","") -> : | E31: Magic | F31: 93 | G31: =IF(ISNUMBER(F31),":","") -> : | H31: 95 | I31: 1.4 | K31: 2.9 | L31: 2 | M31: =IF(ISNUMBER(L31),IF(IF(F31>H31,1,"")=L31,I31,IF(IF(F31<H31,2,"")=L31,K31,IF(IF(F31=H31,0,"")=L31,J31,0))),"") -> 2.9 | O31: =IF(ISBLANK(F31),"",IF(ISNUMBER(F31),IF(AND(F31>=0,F31<250),IF($F31<>$H31,IF(F31=0,TRUE(),IF(MOD(F31,1)=0,TRUE(),FALSE())),FALSE()),FALSE()),FALSE())) -> TRUE | P31: =IF(ISBLANK(H31),"",IF(ISNUMBER(H31),IF(AND(H31>=0,H31<250),IF($F31<>$H31,IF(H31=0,TRUE(),IF(MOD(H31,1)=0,TRUE(),FALSE())),FALSE()),FALSE()),FALSE())) -> TRUE
C32: Pacers | D32: =IF(C32>0,":","") -> : | E32: Bucks | F32: 101 | G32: =IF(ISNUMBER(F32),":","") -> : | H32: 117 | I32: 2.8 | K32: 1.42 | L32: 2 | M32: =IF(ISNUMBER(L32),IF(IF(F32>H32,1,"")=L32,I32,IF(IF(F32<H32,2,"")=L32,K32,IF(IF(F32=H32,0,"")=L32,J32,0))),"") -> 1.42 | O32: =IF(ISBLANK(F32),"",IF(ISNUMBER(F32),IF(AND(F32>=0,F32<250),IF($F32<>$H32,IF(F32=0,TRUE(),IF(MOD(F32,1)=0,TRUE(),FALSE())),FALSE()),FALSE()),FALSE())) -> TRUE | P32: =IF(ISBLANK(H32),"",IF(ISNUMBER(H32),IF(AND(H32>=0,H32<250),IF($F32<>$H32,IF(H32=0,TRUE(),IF(MOD(H32,1)=0,TRUE(),FALSE())),FALSE()),FALSE()),FALSE())) -> TRUE
C33: Lakers | D33: =IF(C33>0,":","") -> : | E33: Timberwolves | F33: 104 | G33: =IF(ISNUMBER(F33),":","") -> : | H33: 116 | I33: 2.25 | K33: 1.62 | L33: 1 | M33: =IF(ISNUMBER(L33),IF(IF(F33>H33,1,"")=L33,I33,IF(IF(F33<H33,2,"")=L33,K33,IF(IF(F33=H33,0,"")=L33,J33,0))),"") -> 0 | O33: =IF(ISBLANK(F33),"",IF(ISNUMBER(F33),IF(AND(F33>=0,F33<250),IF($F33<>$H33,IF(F33=0,TRUE(),IF(MOD(F33,1)=0,TRUE(),FALSE())),FALSE()),FALSE()),FALSE())) -> TRUE | P33: =IF(ISBLANK(H33),"",IF(ISNUMBER(H33),IF(AND(H33>=0,H33<250),IF($F33<>$H33,IF(H33=0,TRUE(),IF(MOD(H33,1)=0,TRUE(),FALSE())),FALSE()),FALSE()),FALSE())) -> TRUE
C34: Cavaliers | D34: =IF(C34>0,":","") -> : | E34: Heat | F34: 124 | G34: =IF(ISNUMBER(F34),":","") -> : | H34: 87 | I34: 1.4 | K34: 2.9 | L34: 2 | M34: =IF(ISNUMBER(L34),IF(IF(F34>H34,1,"")=L34,I34,IF(IF(F34<H34,2,"")=L34,K34,IF(IF(F34=H34,0,"")=L34,J34,0))),"") -> 0 | O34: =IF(ISBLANK(F34),"",IF(ISNUMBER(F34),IF(AND(F34>=0,F34<250),IF($F34<>$H34,IF(F34=0,TRUE(),IF(MOD(F34,1)=0,TRUE(),FALSE())),FALSE()),FALSE()),FALSE())) -> TRUE | P34: =IF(ISBLANK(H34),"",IF(ISNUMBER(H34),IF(AND(H34>=0,H34<250),IF($F34<>$H34,IF(H34=0,TRUE(),IF(MOD(H34,1)=0,TRUE(),FALSE())),FALSE()),FALSE()),FALSE())) -> TRUE
C35: Rockets | D35: =IF(C35>0,":","") -> : | E35: Warriors | F35: 93 | G35: =IF(ISNUMBER(F35),":","") -> : | H35: 104 | I35: 2.25 | K35: 1.62 | L35: 2 | M35: =IF(ISNUMBER(L35),IF(IF(F35>H35,1,"")=L35,I35,IF(IF(F35<H35,2,"")=L35,K35,IF(IF(F35=H35,0,"")=L35,J35,0))),"") -> 1.62 | N35: =SUM(M28:M35) -> 8.56 | O35: =IF(ISBLANK(F35),"",IF(ISNUMBER(F35),IF(AND(F35>=0,F35<250),IF($F35<>$H35,IF(F35=0,TRUE(),IF(MOD(F35,1)=0,TRUE(),FALSE())),FALSE()),FALSE()),FALSE())) -> TRUE | P35: =IF(ISBLANK(H35),"",IF(ISNUMBER(H35),IF(AND(H35>=0,H35<250),IF($F35<>$H35,IF(H35=0,TRUE(),IF(MOD(H35,1)=0,TRUE(),FALSE())),FALSE()),FALSE()),FALSE())) -> TRUE
D36: =IF(C36>0,":","") | G36: =IF(ISNUMBER(F36),":","") | M36: =IF(ISNUMBER(L36),IF(IF(F36>H36,1,"")=L36,I36,IF(IF(F36<H36,2,"")=L36,K36,IF(IF(F36=H36,0,"")=L36,J36,0))),"") | O36: =IF(ISBLANK(F36),"",IF(ISNUMBER(F36),IF(AND(F36>=0,F36<250),IF($F36<>$H36,IF(F36=0,TRUE(),IF(MOD(F36,1)=0,TRUE(),FALSE())),FALSE()),FALSE()),FALSE())) | P36: =IF(ISBLANK(H36),"",IF(ISNUMBER(H36),IF(AND(H36>=0,H36<250),IF($F36<>$H36,IF(H36=0,TRUE(),IF(MOD(H36,1)=0,TRUE(),FALSE())),FALSE()),FALSE()),FALSE()))
B37: Playoffs | C37: Thunder | D37: =IF(C37>0,":","") -> : | E37: Grizzlies | F37: 117 | G37: =IF(ISNUMBER(F37),":","") -> : | H37: 115 | I37: 1.1 | K37: 6.7 | L37: 1 | M37: =IF(ISNUMBER(L37),IF(IF(F37>H37,1,"")=L37,I37,IF(IF(F37<H37,2,"")=L37,K37,IF(IF(F37=H37,0,"")=L37,J37,0))),"") -> 1.1 | O37: =IF(ISBLANK(F37),"",IF(ISNUMBER(F37),IF(AND(F37>=0,F37<250),IF($F37<>$H37,IF(F37=0,TRUE(),IF(MOD(F37,1)=0,TRUE(),FALSE())),FALSE()),FALSE()),FALSE())) -> TRUE | P37: =IF(ISBLANK(H37),"",IF(ISNUMBER(H37),IF(AND(H37>=0,H37<250),IF($F37<>$H37,IF(H37=0,TRUE(),IF(MOD(H37,1)=0,TRUE(),FALSE())),FALSE()),FALSE()),FALSE())) -> TRUE
B38: Erste Runde | C38: Nuggets | D38: =IF(C38>0,":","") -> : | E38: Clippers | F38: 101 | G38: =IF(ISNUMBER(F38),":","") -> : | H38: 99 | I38: 2.8 | K38: 1.42 | L38: 2 | M38: =IF(ISNUMBER(L38),IF(IF(F38>H38,1,"")=L38,I38,IF(IF(F38<H38,2,"")=L38,K38,IF(IF(F38=H38,0,"")=L38,J38,0))),"") -> 0 | O38: =IF(ISBLANK(F38),"",IF(ISNUMBER(F38),IF(AND(F38>=0,F38<250),IF($F38<>$H38,IF(F38=0,TRUE(),IF(MOD(F38,1)=0,TRUE(),FALSE())),FALSE()),FALSE()),FALSE())) -> TRUE | P38: =IF(ISBLANK(H38),"",IF(ISNUMBER(H38),IF(AND(H38>=0,H38<250),IF($F38<>$H38,IF(H38=0,TRUE(),IF(MOD(H38,1)=0,TRUE(),FALSE())),FALSE()),FALSE()),FALSE())) -> TRUE
B39: Spiel 4 | C39: Knicks | D39: =IF(C39>0,":","") -> : | E39: Pistons | F39: 94 | G39: =IF(ISNUMBER(F39),":","") -> : | H39: 93 | I39: 1.9 | K39: 1.87 | L39: 2 | M39: =IF(ISNUMBER(L39),IF(IF(F39>H39,1,"")=L39,I39,IF(IF(F39<H39,2,"")=L39,K39,IF(IF(F39=H39,0,"")=L39,J39,0))),"") -> 0 | O39: =IF(ISBLANK(F39),"",IF(ISNUMBER(F39),IF(AND(F39>=0,F39<250),IF($F39<>$H39,IF(F39=0,TRUE(),IF(MOD(F39,1)=0,TRUE(),FALSE())),FALSE()),FALSE()),FALSE())) -> TRUE | P39: =IF(ISBLANK(H39),"",IF(ISNUMBER(H39),IF(AND(H39>=0,H39<250),IF($F39<>$H39,IF(H39=0,TRUE(),IF(MOD(H39,1)=0,TRUE(),FALSE())),FALSE()),FALSE()),FALSE())) -> TRUE
C40: Lakers | D40: =IF(C40>0,":","") -> : | E40: Timberwolves | F40: 113 | G40: =IF(ISNUMBER(F40),":","") -> : | H40: 116 | I40: 2.3 | K40: 1.6 | L40: 1 | M40: =IF(ISNUMBER(L40),IF(IF(F40>H40,1,"")=L40,I40,IF(IF(F40<H40,2,"")=L40,K40,IF(IF(F40=H40,0,"")=L40,J40,0))),"") -> 0 | O40: =IF(ISBLANK(F40),"",IF(ISNUMBER(F40),IF(AND(F40>=0,F40<250),IF($F40<>$H40,IF(F40=0,TRUE(),IF(MOD(F40,1)=0,TRUE(),FALSE())),FALSE()),FALSE()),FALSE())) -> TRUE | P40: =IF(ISBLANK(H40),"",IF(ISNUMBER(H40),IF(AND(H40>=0,H40<250),IF($F40<>$H40,IF(H40=0,TRUE(),IF(MOD(H40,1)=0,TRUE(),FALSE())),FALSE()),FALSE()),FALSE())) -> TRUE
...

Sheet Freaky91
A1: Freaky91 | B1: Spieltag | C1: Auswärts | E1: Heim | F1: Ergebnis | I1: 1 | J1: 2 | K1: 2 | L1: Tipp | M1: Richtig | N1: Gesamt | O1: Gültigk. D | P1: Gültik. F
B2: Play-Ins East | C2: Hawks | D2: =IF(C2>0,":","") -> : | E2: Magic | F2: 95 | G2: =IF(ISNUMBER(F2),":","") -> : | H2: 120 | I2: 2.6 | K2: 1.45 | L2: 2 | M2: =IF(ISNUMBER(L2),IF(IF(F2>H2,1,"")=L2,I2,IF(IF(F2<H2,2,"")=L2,K2,IF(IF(F2=H2,0,"")=L2,J2,0))),"") -> 1.45 | O2: =IF(ISBLANK(F2),"",IF(ISNUMBER(F2),IF(AND(F2>=0,F2<250),IF($F2<>$H2,IF(F2=0,TRUE(),IF(MOD(F2,1)=0,TRUE(),FALSE())),FALSE()),FALSE()),FALSE())) -> TRUE | P2: =IF(ISBLANK(H2),"",IF(ISNUMBER(H2),IF(AND(H2>=0,H2<250),IF($F2<>$H2,IF(H2=0,TRUE(),IF(MOD(H2,1)=0,TRUE(),FALSE())),FALSE()),FALSE()),FALSE())) -> TRUE
C3: Heat | D3: =IF(C3>0,":","") -> : | E3: Bulls | F3: 109 | G3: =IF(ISNUMBER(F3),":","") -> : | H3: 90 | I3: 1.97 | K3: 1.8 | L3: 2 | M3: =IF(ISNUMBER(L3),IF(IF(F3>H3,1,"")=L3,I3,IF(IF(F3<H3,2,"")=L3,K3,IF(IF(F3=H3,0,"")=L3,J3,0))),"") -> 0 | O3: =IF(ISBLANK(F3),"",IF(ISNUMBER(F3),IF(AND(F3>=0,F3<250),IF($F3<>$H3,IF(F3=0,TRUE(),IF(MOD(F3,1)=0,TRUE(),FALSE())),FALSE()),FALSE()),FALSE())) -> TRUE | P3: =IF(ISBLANK(H3),"",IF(ISNUMBER(H3),IF(AND(H3>=0,H3<250),IF($F3<>$H3,IF(H3=0,TRUE(),IF(MOD(H3,1)=0,TRUE(),FALSE())),FALSE()),FALSE()),FALSE())) -> TRUE
B4: Play-Ins West | C4: Grizzlies | D4: =IF(C4>0,":","") -> : | E4: Warriors | F4: 116 | G4: =IF(ISNUMBER(F4),":","") -> : | H4: 121 | I4: 3.3 | K4: 1.32 | L4: 1 | M4: =IF(ISNUMBER(L4),IF(IF(F4>H4,1,"")=L4,I4,IF(IF(F4<H4,2,"")=L4,K4,IF(IF(F4=H4,0,"")=L4,J4,0))),"") -> 0 | O4: =IF(ISBLANK(F4),"",IF(ISNUMBER(F4),IF(AND(F4>=0,F4<250),IF($F4<>$H4,IF(F4=0,TRUE(),IF(MOD(F4,1)=0,TRUE(),FALSE())),FALSE()),FALSE()),FALSE())) -> TRUE | P4: =IF(ISBLANK(H4),"",IF(ISNUMBER(H4),IF(AND(H4>=0,H4<250),IF($F4<>$H4,IF(H4=0,TRUE(),IF(MOD(H4,1)=0,TRUE(),FALSE())),FALSE()),FALSE()),FALSE())) -> TRUE
C5: Mavericks | D5: =IF(C5>0,":","") -> : | E5: Kings | F5: 120 | G5: =IF(ISNUMBER(F5),":","") -> : | H5: 106 | I5: 2.55 | K5: 1.5 | L5: 1 | M5: =IF(ISNUMBER(L5),IF(IF(F5>H5,1,"")=L5,I5,IF(IF(F5<H5,2,"")=L5,K5,IF(IF(F5=H5,0,"")=L5,J5,0))),"") -> 2.55 | N5: =SUM(M2:M5) -> 4 | O5: =IF(ISBLANK(F5),"",IF(ISNUMBER(F5),IF(AND(F5>=0,F5<250),IF($F5<>$H5,IF(F5=0,TRUE(),IF(MOD(F5,1)=0,TRUE(),FALSE())),FALSE()),FALSE()),FALSE())) -> TRUE | P5: =IF(ISBLANK(H5),"",IF(ISNUMBER(H5),IF(AND(H5>=0,H5<250),IF($F5<>$H5,IF(H5=0,TRUE(),IF(MOD(H5,1)=0,TRUE(),FALSE())),FALSE()),FALSE()),FALSE())) -> TRUE
D6: =IF(C6>0,":","") | G6: =IF(ISNUMBER(F6),":","") | M6: =IF(ISNUMBER(L6),IF(IF(F6>H6,1,"")=L6,I6,IF(IF(F6<H6,2,"")=L6,K6,IF(IF(F6=H6,0,"")=L6,J6,0))),"") | O6: =IF(ISBLANK(F6),"",IF(ISNUMBER(F6),IF(AND(F6>=0,F6<250),IF($F6<>$H6,IF(F6=0,TRUE(),IF(MOD(F6,1)=0,TRUE(),FALSE())),FALSE()),FALSE()),FALSE())) | P6: =IF(ISBLANK(H6),"",IF(ISNUMBER(H6),IF(AND(H6>=0,H6<250),IF($F6<>$H6,IF(H6=0,TRUE(),IF(MOD(H6,1)=0,TRUE(),FALSE())),FALSE()),FALSE()),FALSE()))
B7: Play-Ins East | C7: Heat | D7: =IF(C7>0,":","") -> : | E7: Hawks | F7: 123 | G7: =IF(ISNUMBER(F7),":","") -> : | H7: 114 | I7: 1.83 | K7: 1.93 | M7: =IF(ISNUMBER(L7),IF(IF(F7>H7,1,"")=L7,I7,IF(IF(F7<H7,2,"")=L7,K7,IF(IF(F7=H7,0,"")=L7,J7,0))),"") | O7: =IF(ISBLANK(F7),"",IF(ISNUMBER(F7),IF(AND(F7>=0,F7<250),IF($F7<>$H7,IF(F7=0,TRUE(),IF(MOD(F7,1)=0,TRUE(),FALSE())),FALSE()),FALSE()),FALSE())) -> TRUE | P7: =IF(ISBLANK(H7),"",IF(ISNUMBER(H7),IF(AND(H7>=0,H7<250),IF($F7<>$H7,IF(H7=0,TRUE(),IF(MOD(H7,1)=0,TRUE(),FALSE())),FALSE()),FALSE()),FALSE())) -> TRUE
B8: Play-Ins West | C8: Mavericks | D8: =IF(C8>0,":","") -> : | E8: Grizzlies | F8: 106 | G8: =IF(ISNUMBER(F8),":","") -> : | H8: 120 | I8: 2.9 | K8: 1.4 | M8: =IF(ISNUMBER(L8),IF(IF(F8>H8,1,"")=L8,I8,IF(IF(F8<H8,2,"")=L8,K8,IF(IF(F8=H8,0,"")=L8,J8,0))),"") | N8: =SUM(M7:M8) -> 0 | O8: =IF(ISBLANK(F8),"",IF(ISNUMBER(F8),IF(AND(F8>=0,F8<250),IF($F8<>$H8,IF(F8=0,TRUE(),IF(MOD(F8,1)=0,TRUE(),FALSE())),FALSE()),FALSE()),FALSE())) -> TRUE | P8: =IF(ISBLANK(H8),"",IF(ISNUMBER(H8),IF(AND(H8>=0,H8<250),IF($F8<>$H8,IF(H8=0,TRUE(),IF(MOD(H8,1)=0,TRUE(),FALSE())),FALSE()),FALSE()),FALSE())) -> TRUE
D9: =IF(C9>0,":","") | G9: =IF(ISNUMBER(F9),":","") | M9: =IF(ISNUMBER(L9),IF(IF(F9>H9,1,"")=L9,I9,IF(IF(F9<H9,2,"")=L9,K9,IF(IF(F9=H9,0,"")=L9,J9,0))),"") | O9: =IF(ISBLANK(F9),"",IF(ISNUMBER(F9),IF(AND(F9>=0,F9<250),IF($F9<>$H9,IF(F9=0,TRUE(),IF(MOD(F9,1)=0,TRUE(),FALSE())),FALSE()),FALSE()),FALSE())) | P9: =IF(ISBLANK(H9),"",IF(ISNUMBER(H9),IF(AND(H9>=0,H9<250),IF($F9<>$H9,IF(H9=0,TRUE(),IF(MOD(H9,1)=0,TRUE(),FALSE())),FALSE()),FALSE()),FALSE()))
B10: Playoffs | C10: Bucks | D10: =IF(C10>0,":","") -> : | E10: Pacers | F10: 98 | G10: =IF(ISNUMBER(F10),":","") -> : | H10: 117 | I10: 2.6 | K10: 1.47 | M10: =IF(ISNUMBER(L10),IF(IF(F10>H10,1,"")=L10,I10,IF(IF(F10<H10,2,"")=L10,K10,IF(IF(F10=H10,0,"")=L10,J10,0))),"") | O10: =IF(ISBLANK(F10),"",IF(ISNUMBER(F10),IF(AND(F10>=0,F10<250),IF($F10<>$H10,IF(F10=0,TRUE(),IF(MOD(F10,1)=0,TRUE(),FALSE())),FALSE()),FALSE()),FALSE())) -> TRUE | P10: =IF(ISBLANK(H10),"",IF(ISNUMBER(H10),IF(AND(H10>=0,H10<250),IF($F10<>$H10,IF(H10=0,TRUE(),IF(MOD(H10,1)=0,TRUE(),FALSE())),FALSE()),FALSE()),FALSE())) -> TRUE
B11: Erste Runde | C11: Clippers | D11: =IF(C11>0,":","") -> : | E11: Nuggets | F11: 110 | G11: =IF(ISNUMBER(F11),":","") -> : | H11: 112 | I11: 2.2 | K11: 1.63 | M11: =IF(ISNUMBER(L11),IF(IF(F11>H11,1,"")=L11,I11,IF(IF(F11<H11,2,"")=L11,K11,IF(IF(F11=H11,0,"")=L11,J11,0))),"") | O11: =IF(ISBLANK(F11),"",IF(ISNUMBER(F11),IF(AND(F11>=0,F11<250),IF($F11<>$H11,IF(F11=0,TRUE(),IF(MOD(F11,1)=0,TRUE(),FALSE())),FALSE()),FALSE()),FALSE())) -> TRUE | P11: =IF(ISBLANK(H11),"",IF(ISNUMBER(H11),IF(AND(H11>=0,H11<250),IF($F11<>$H11,IF(H11=0,TRUE(),IF(MOD(H11,1)=0,TRUE(),FALSE())),FALSE()),FALSE()),FALSE())) -> TRUE
B12: Spiel 1 | C12: Pistons | D12: =IF(C12>0,":","") -> : | E12: Knicks | F12: 112 | G12: =IF(ISNUMBER(F12),":","") -> : | H12: 123 | I12: 3.3 | K12: 1.32 | M12: =IF(ISNUMBER(L12),IF(IF(F12>H12,1,"")=L12,I12,IF(IF(F12<H12,2,"")=L12,K12,IF(IF(F12=H12,0,"")=L12,#REF!,0))),"") | O12: =IF(ISBLANK(F12),"",IF(ISNUMBER(F12),IF(AND(F12>=0,F12<250),IF($F12<>$H12,IF(F12=0,TRUE(),IF(MOD(F12,1)=0,TRUE(),FALSE())),FALSE()),FALSE()),FALSE())) -> TRUE | P12: =IF(ISBLANK(H12),"",IF(ISNUMBER(H12),IF(AND(H12>=0,H12<250),IF($F12<>$H12,IF(H12=0,TRUE(),IF(MOD(H12,1)=0,TRUE(),FALSE())),FALSE()),FALSE()),FALSE())) -> TRUE
C13: Timberwolves | D13: =IF(C13>0,":","") -> : | E13: Lakers | F13: 117 | G13: =IF(ISNUMBER(F13),":","") -> : | H13: 95 | I13: 2.5 | K13: 1.52 | M13: =IF(ISNUMBER(L13),IF(IF(F13>H13,1,"")=L13,I13,IF(IF(F13<H13,2,"")=L13,K13,IF(IF(F13=H13,0,"")=L13,J13,0))),"") | O13: =IF(ISBLANK(F13),"",IF(ISNUMBER(F13),IF(AND(F13>=0,F13<250),IF($F13<>$H13,IF(F13=0,TRUE(),IF(MOD(F13,1)=0,TRUE(),FALSE())),FALSE()),FALSE()),FALSE())) -> TRUE | P13: =IF(ISBLANK(H13),"",IF(ISNUMBER(H13),IF(AND(H13>=0,H13<250),IF($F13<>$H13,IF(H13=0,TRUE(),IF(MOD(H13,1)=0,TRUE(),FALSE())),FALSE()),FALSE()),FALSE())) -> TRUE
C14: Magic | D14: =IF(C14>0,":","") -> : | E14: Celtics | F14: 86 | G14: =IF(ISNUMBER(F14),":","") -> : | H14: 103 | I14: 7.8 | K14: 1.07 | M14: =IF(ISNUMBER(L14),IF(IF(F14>H14,1,"")=L14,I14,IF(IF(F14<H14,2,"")=L14,K14,IF(IF(F14=H14,0,"")=L14,J14,0))),"") | O14: =IF(ISBLANK(F14),"",IF(ISNUMBER(F14),IF(AND(F14>=0,F14<250),IF($F14<>$H14,IF(F14=0,TRUE(),IF(MOD(F14,1)=0,TRUE(),FALSE())),FALSE()),FALSE()),FALSE())) -> TRUE | P14: =IF(ISBLANK(H14),"",IF(ISNUMBER(H14),IF(AND(H14>=0,H14<250),IF($F14<>$H14,IF(H14=0,TRUE(),IF(MOD(H14,1)=0,TRUE(),FALSE())),FALSE()),FALSE()),FALSE())) -> TRUE
C15: Warriors | D15: =IF(C15>0,":","") -> : | E15: Rockets | F15: 95 | G15: =IF(ISNUMBER(F15),":","") -> : | H15: 85 | I15: 1.93 | K15: 1.83 | M15: =IF(ISNUMBER(L15),IF(IF(F15>H15,1,"")=L15,I15,IF(IF(F15<H15,2,"")=L15,K15,IF(IF(F15=H15,0,"")=L15,J15,0))),"") | O15: =IF(ISBLANK(F15),"",IF(ISNUMBER(F15),IF(AND(F15>=0,F15<250),IF($F15<>$H15,IF(F15=0,TRUE(),IF(MOD(F15,1)=0,TRUE(),FALSE())),FALSE()),FALSE()),FALSE())) -> TRUE | P15: =IF(ISBLANK(H15),"",IF(ISNUMBER(H15),IF(AND(H15>=0,H15<250),IF($F15<>$H15,IF(H15=0,TRUE(),IF(MOD(H15,1)=0,TRUE(),FALSE())),FALSE()),FALSE()),FALSE())) -> TRUE
C16: Grizzlies | D16: =IF(C16>0,":","") -> : | E16: Thunder | F16: 80 | G16: =IF(ISNUMBER(F16),":","") -> : | H16: 131 | I16: 5.5 | K16: 1.14 | L16: 2 | M16: =IF(ISNUMBER(L16),IF(IF(F16>H16,1,"")=L16,I16,IF(IF(F16<H16,2,"")=L16,K16,IF(IF(F16=H16,0,"")=L16,J16,0))),"") -> 1.14 | O16: =IF(ISBLANK(F16),"",IF(ISNUMBER(F16),IF(AND(F16>=0,F16<250),IF($F16<>$H16,IF(F16=0,TRUE(),IF(MOD(F16,1)=0,TRUE(),FALSE())),FALSE()),FALSE()),FALSE())) -> TRUE | P16: =IF(ISBLANK(H16),"",IF(ISNUMBER(H16),IF(AND(H16>=0,H16<250),IF($F16<>$H16,IF(H16=0,TRUE(),IF(MOD(H16,1)=0,TRUE(),FALSE())),FALSE()),FALSE()),FALSE())) -> TRUE
C17: Heat | D17: =IF(C17>0,":","") -> : | E17: Cavaliers | F17: 100 | G17: =IF(ISNUMBER(F17),":","") -> : | H17: 121 | I17: 6.5 | K17: 1.1 | L17: 2 | M17: =IF(ISNUMBER(L17),IF(IF(F17>H17,1,"")=L17,I17,IF(IF(F17<H17,2,"")=L17,K17,IF(IF(F17=H17,0,"")=L17,J17,0))),"") -> 1.1 | N17: =SUM(M10:M17) -> 2.24 | O17: =IF(ISBLANK(F17),"",IF(ISNUMBER(F17),IF(AND(F17>=0,F17<250),IF($F17<>$H17,IF(F17=0,TRUE(),IF(MOD(F17,1)=0,TRUE(),FALSE())),FALSE()),FALSE()),FALSE())) -> TRUE | P17: =IF(ISBLANK(H17),"",IF(ISNUMBER(H17),IF(AND(H17>=0,H17<250),IF($F17<>$H17,IF(H17=0,TRUE(),IF(MOD(H17,1)=0,TRUE(),FALSE())),FALSE()),FALSE()),FALSE())) -> TRUE
D18: =IF(C18>0,":","") | G18: =IF(ISNUMBER(F18),":","") | M18: =IF(ISNUMBER(L18),IF(IF(F18>H18,1,"")=L18,I18,IF(IF(F18<H18,2,"")=L18,K18,IF(IF(F18=H18,0,"")=L18,J18,0))),"") | O18: =IF(ISBLANK(F18),"",IF(ISNUMBER(F18),IF(AND(F18>=0,F18<250),IF($F18<>$H18,IF(F18=0,TRUE(),IF(MOD(F18,1)=0,TRUE(),FALSE())),FALSE()),FALSE()),FALSE())) | P18: =IF(ISBLANK(H18),"",IF(ISNUMBER(H18),IF(AND(H18>=0,H18<250),IF($F18<>$H18,IF(H18=0,TRUE(),IF(MOD(H18,1)=0,TRUE(),FALSE())),FALSE()),FALSE()),FALSE()))
B19: Playoffs | C19: Pistons | D19: =IF(C19>0,":","") -> : | E19: Knicks | F19: 100 | G19: =IF(ISNUMBER(F19),":","") -> : | H19: 94 | I19: 3 | K19: 1.37 | M19: =IF(ISNUMBER(L19),IF(IF(F19>H19,1,"")=L19,I19,IF(IF(F19<H19,2,"")=L19,K19,IF(IF(F19=H19,0,"")=L19,J19,0))),"") | O19: =IF(ISBLANK(F19),"",IF(ISNUMBER(F19),IF(AND(F19>=0,F19<250),IF($F19<>$H19,IF(F19=0,TRUE(),IF(MOD(F19,1)=0,TRUE(),FALSE())),FALSE()),FALSE()),FALSE())) -> TRUE | P19: =IF(ISBLANK(H19),"",IF(ISNUMBER(H19),IF(AND(H19>=0,H19<250),IF($F19<>$H19,IF(H19=0,TRUE(),IF(MOD(H19,1)=0,TRUE(),FALSE())),FALSE()),FALSE()),FALSE())) -> TRUE
B20: Erste Runde | C20: Clippers | D20: =IF(C20>0,":","") -> : | E20: Nuggets | F20: 105 | G20: =IF(ISNUMBER(F20),":","") -> : | H20: 102 | I20: 1.83 | K20: 1.93 | M20: =IF(ISNUMBER(L20),IF(IF(F20>H20,1,"")=L20,I20,IF(IF(F20<H20,2,"")=L20,K20,IF(IF(F20=H20,0,"")=L20,J20,0))),"") | O20: =IF(ISBLANK(F20),"",IF(ISNUMBER(F20),IF(AND(F20>=0,F20<250),IF($F20<>$H20,IF(F20=0,TRUE(),IF(MOD(F20,1)=0,TRUE(),FALSE())),FALSE()),FALSE()),FALSE())) -> TRUE | P20: =IF(ISBLANK(H20),"",IF(ISNUMBER(H20),IF(AND(H20>=0,H20<250),IF($F20<>$H20,IF(H20=0,TRUE(),IF(MOD(H20,1)=0,TRUE(),FALSE())),FALSE()),FALSE()),FALSE())) -> TRUE
B21: Spiel 2 | C21: Bucks | D21: =IF(C21>0,":","") -> : | E21: Pacers | F21: 115 | G21: =IF(ISNUMBER(F21),":","") -> : | H21: 123 | I21: 2.6 | K21: 1.47 | M21: =IF(ISNUMBER(L21),IF(IF(F21>H21,1,"")=L21,I21,IF(IF(F21<H21,2,"")=L21,K21,IF(IF(F21=H21,0,"")=L21,J21,0))),"") | O21: =IF(ISBLANK(F21),"",IF(ISNUMBER(F21),IF(AND(F21>=0,F21<250),IF($F21<>$H21,IF(F21=0,TRUE(),IF(MOD(F21,1)=0,TRUE(),FALSE())),FALSE()),FALSE()),FALSE())) -> TRUE | P21: =IF(ISBLANK(H21),"",IF(ISNUMBER(H21),IF(AND(H21>=0,H21<250),IF($F21<>$H21,IF(H21=0,TRUE(),IF(MOD(H21,1)=0,TRUE(),FALSE())),FALSE()),FALSE()),FALSE())) -> TRUE
