Workbook

Sheet Monat XY
K1: Stunden normal versteuert | L1: Stunden 25% Steuerfrei | M1: Stunden 5% Steuerpflichtig | N1: Stunden 30% Steuerfrei

Sheet Datenbank
A1: Wochentag | B1: Tag | C1: Kommt | D1: Geht | E1: Pause | F1: Kommt | G1: Geht | H1: Freizeit | I1: Kommt | J1: Geht | K1: Pause | L1: Kommt | M1: Geht | N1: Gewertete Stunden | P1: Stunden normal versteuert - 06.00 bis 23.00 | Q1: Stunden 25% Steuerfrei - 23.00 bis 00.00 und 04.00 bis 06.00 | R1: Stunden 5% Steuerpflichtig - 23.00 bis 00.00 und 04.00 bis 06.00 | S1: Stunden 30% Steuerfrei - 00.00 bis 04.00 | Y1: 0.8125 | Z1: bis | AA1: 0.95833333 | AB1: 0
Y2: 0.95833333 | Z2: bis | AA2: 0 | AB2: 0.25 | AC2: Steuerfrei | AD2: 5% Steuerpflichtig
A3: Freitag | B3: 43497 | C3: 0 | D3: 0.020833333 | F3: 0.038194444 | G3: 0.16666667 | I3: 0.8125 | J3: 0.90277778 | L3: 0.91666667 | M3: 1 | N3: ='Anzahl Stunden'!J3 -> 7.75 | Y3: 0 | Z3: bis | AA3: 0.16666667 | AB3: 0.3 | AC3: Steuerfrei
A4: Samstag | B4: 43498 | C4: 0 | D4: 0.020833333 | F4: 0.038194444 | G4: 0.16666667 | I4: 0.8125 | J4: 0.90277778 | L4: 0.91666667 | M4: 1 | N4: ='Anzahl Stunden'!J4 -> 7.75
A5: Sonntag | B5: 43499 | N5: ='Anzahl Stunden'!J5 -> 0
A6: Montag | B6: 43500 | I6: 0.8125 | J6: 0.90277778 | L6: 0.91666667 | M6: 1 | N6: ='Anzahl Stunden'!J6 -> 4.1666667
A7: Dienstag | B7: 43501 | C7: 0 | D7: 0.020833333 | F7: 0.038194444 | G7: 0.16666667 | I7: 0.8125 | J7: 0.90277778 | L7: 0.91666667 | M7: 1 | N7: ='Anzahl Stunden'!J7 -> 7.75
A8: Mittwoch | B8: 43502 | C8: 0 | D8: 0.020833333 | F8: 0.038194444 | G8: 0.16666667 | I8: 0.8125 | J8: 0.90277778 | L8: 0.91666667 | M8: 1 | N8: ='Anzahl Stunden'!J8 -> 7.75
A9: Donnerstag | B9: 43503 | C9: 0 | D9: 0.020833333 | F9: 0.038194444 | G9: 0.16666667 | I9: 0.8125 | J9: 0.90277778 | L9: 0.91666667 | M9: 1 | N9: ='Anzahl Stunden'!J9 -> 7.75
A10: Freitag | B10: 43504 | C10: 0 | D10: 0.020833333 | F10: 0.038194444 | G10: 0.16666667 | I10: 0.8125 | J10: 0.90277778 | L10: 0.91666667 | M10: 1 | N10: ='Anzahl Stunden'!J10 -> 7.75
A11: Samstag | B11: 43505 | C11: 0 | D11: 0.020833333 | F11: 0.038194444 | G11: 0.16666667 | N11: ='Anzahl Stunden'!J11 -> 3.5833333
A12: Sonntag | B12: 43506 | N12: ='Anzahl Stunden'!J12 -> 0
A13: Montag | B13: 43507 | I13: 0.8125 | J13: 0.90277778 | L13: 0.91666667 | M13: 1 | N13: ='Anzahl Stunden'!J13 -> 4.1666667
A14: Dienstag | B14: 43508 | C14: 0 | D14: 0.020833333 | F14: 0.038194444 | G14: 0.16666667 | I14: 0.8125 | J14: 0.90277778 | L14: 0.91666667 | M14: 1 | N14: ='Anzahl Stunden'!J14 -> 7.75
A15: Mittwoch | B15: 43509 | C15: 0 | D15: 0.020833333 | F15: 0.038194444 | G15: 0.16666667 | I15: 0.8125 | J15: 0.90277778 | L15: 0.91666667 | M15: 1 | N15: ='Anzahl Stunden'!J15 -> 7.75
A16: Donnerstag | B16: 43510 | C16: 0 | D16: 0.020833333 | F16: 0.038194444 | G16: 0.16666667 | I16: 0.8125 | J16: 0.90277778 | L16: 0.91666667 | M16: 1 | N16: ='Anzahl Stunden'!J16 -> 7.75
A17: Freitag | B17: 43511 | C17: 0 | D17: 0.020833333 | F17: 0.038194444 | G17: 0.16666667 | I17: 0.8125 | J17: 0.90277778 | L17: 0.91666667 | M17: 1 | N17: ='Anzahl Stunden'!J17 -> 7.75
A18: Samstag | B18: 43512 | C18: 0 | D18: 0.020833333 | F18: 0.038194444 | G18: 0.16666667 | N18: ='Anzahl Stunden'!J18 -> 3.5833333
A19: Sonntag | B19: 43513 | N19: ='Anzahl Stunden'!J19 -> 0
A20: Montag | B20: 43514 | I20: 0.8125 | J20: 0.90277778 | L20: 0.91666667 | M20: 1 | N20: ='Anzahl Stunden'!J20 -> 4.1666667
A21: Dienstag | B21: 43515 | C21: 0 | D21: 0.020833333 | F21: 0.038194444 | G21: 0.16666667 | I21: 0.8125 | J21: 0.90277778 | L21: 0.91666667 | M21: 1 | N21: ='Anzahl Stunden'!J21 -> 7.75
A22: Mittwoch | B22: 43516 | C22: 0 | D22: 0.020833333 | F22: 0.038194444 | G22: 0.16666667 | I22: 0.8125 | J22: 0.90277778 | L22: 0.91666667 | M22: 1 | N22: ='Anzahl Stunden'!J22 -> 7.75
A23: Donnerstag | B23: 43517 | C23: 0 | D23: 0.020833333 | F23: 0.038194444 | G23: 0.16666667 | I23: 0.8125 | J23: 0.90277778 | L23: 0.91666667 | M23: 1 | N23: ='Anzahl Stunden'!J23 -> 7.75
A24: Freitag | B24: 43518 | C24: 0 | D24: 0.020833333 | F24: 0.038194444 | G24: 0.16666667 | I24: 0.8125 | J24: 0.90277778 | L24: 0.91666667 | M24: 1 | N24: ='Anzahl Stunden'!J24 -> 7.75
A25: Samstag | B25: 43519 | C25: 0 | D25: 0.020833333 | F25: 0.038194444 | G25: 0.16666667 | N25: ='Anzahl Stunden'!J25 -> 3.5833333
A26: Sonntag | B26: 43520 | N26: ='Anzahl Stunden'!J26 -> 0
A27: Montag | B27: 43521 | I27: 0.8125 | J27: 0.90277778 | L27: 0.91666667 | M27: 1 | N27: ='Anzahl Stunden'!J27 -> 4.1666667
A28: Dienstag | B28: 43522 | C28: 0 | D28: 0.020833333 | F28: 0.038194444 | G28: 0.16666667 | I28: 0.8125 | J28: 0.90277778 | L28: 0.91666667 | M28: 1 | N28: ='Anzahl Stunden'!J28 -> 7.75
A29: Mittwoch | B29: 43523 | C29: 0 | D29: 0.020833333 | F29: 0.038194444 | G29: 0.16666667 | I29: 0.8125 | J29: 0.90277778 | L29: 0.91666667 | M29: 1 | N29: ='Anzahl Stunden'!J29 -> 7.75
A30: Donnerstag | B30: 43524 | C30: 0 | D30: 0.020833333 | F30: 0.038194444 | G30: 0.16666667 | I30: 0.8125 | J30: 0.90277778 | L30: 0.91666667 | M30: 1 | N30: ='Anzahl Stunden'!J30 -> 7.75

Sheet Anzahl Stunden
A1: Arbeit | B1: Pause | C1: Arbeit | F1: Arbeit | G1: Pause | H1: Arbeit | J1: Summe
A2: 00:00 bis 00:30 | B2: 00:30 bis 00:55 | C2: 00:55 bis 04:00 | F2: 19:30 bis 21:40 | G2: 21:40 bis 22:00 | H2: 22:00 bis 24:00
A3: =(Datenbank!D3-Datenbank!C3)*24 -> 0.5 | C3: =(Datenbank!G3-Datenbank!F3)*24 -> 3.0833333 | F3: =(Datenbank!J3-Datenbank!I3)*24 -> 2.1666667 | H3: =(Datenbank!M3-Datenbank!L3)*24 -> 2 | J3: =SUM(A3:H3) -> 7.75
A4: =(Datenbank!D4-Datenbank!C4)*24 -> 0.5 | C4: =(Datenbank!G4-Datenbank!F4)*24 -> 3.0833333 | F4: =(Datenbank!J4-Datenbank!I4)*24 -> 2.1666667 | H4: =(Datenbank!M4-Datenbank!L4)*24 -> 2 | J4: =SUM(A4:H4) -> 7.75
A5: =(Datenbank!D5-Datenbank!C5)*24 -> 0 | C5: =(Datenbank!G5-Datenbank!F5)*24 -> 0 | F5: =(Datenbank!J5-Datenbank!I5)*24 -> 0 | H5: =(Datenbank!M5-Datenbank!L5)*24 -> 0 | J5: =SUM(A5:H5) -> 0
A6: =(Datenbank!D6-Datenbank!C6)*24 -> 0 | C6: =(Datenbank!G6-Datenbank!F6)*24 -> 0 | F6: =(Datenbank!J6-Datenbank!I6)*24 -> 2.1666667 | H6: =(Datenbank!M6-Datenbank!L6)*24 -> 2 | J6: =SUM(A6:H6) -> 4.1666667
A7: =(Datenbank!D7-Datenbank!C7)*24 -> 0.5 | C7: =(Datenbank!G7-Datenbank!F7)*24 -> 3.0833333 | F7: =(Datenbank!J7-Datenbank!I7)*24 -> 2.1666667 | H7: =(Datenbank!M7-Datenbank!L7)*24 -> 2 | J7: =SUM(A7:H7) -> 7.75
A8: =(Datenbank!D8-Datenbank!C8)*24 -> 0.5 | C8: =(Datenbank!G8-Datenbank!F8)*24 -> 3.0833333 | F8: =(Datenbank!J8-Datenbank!I8)*24 -> 2.1666667 | H8: =(Datenbank!M8-Datenbank!L8)*24 -> 2 | J8: =SUM(A8:H8) -> 7.75
A9: =(Datenbank!D9-Datenbank!C9)*24 -> 0.5 | C9: =(Datenbank!G9-Datenbank!F9)*24 -> 3.0833333 | F9: =(Datenbank!J9-Datenbank!I9)*24 -> 2.1666667 | H9: =(Datenbank!M9-Datenbank!L9)*24 -> 2 | J9: =SUM(A9:H9) -> 7.75
A10: =(Datenbank!D10-Datenbank!C10)*24 -> 0.5 | C10: =(Datenbank!G10-Datenbank!F10)*24 -> 3.0833333 | F10: =(Datenbank!J10-Datenbank!I10)*24 -> 2.1666667 | H10: =(Datenbank!M10-Datenbank!L10)*24 -> 2 | J10: =SUM(A10:H10) -> 7.75
A11: =(Datenbank!D11-Datenbank!C11)*24 -> 0.5 | C11: =(Datenbank!G11-Datenbank!F11)*24 -> 3.0833333 | F11: =(Datenbank!J11-Datenbank!I11)*24 -> 0 | H11: =(Datenbank!M11-Datenbank!L11)*24 -> 0 | J11: =SUM(A11:H11) -> 3.5833333
A12: =(Datenbank!D12-Datenbank!C12)*24 -> 0 | C12: =(Datenbank!G12-Datenbank!F12)*24 -> 0 | F12: =(Datenbank!J12-Datenbank!I12)*24 -> 0 | H12: =(Datenbank!M12-Datenbank!L12)*24 -> 0 | J12: =SUM(A12:H12) -> 0
A13: =(Datenbank!D13-Datenbank!C13)*24 -> 0 | C13: =(Datenbank!G13-Datenbank!F13)*24 -> 0 | F13: =(Datenbank!J13-Datenbank!I13)*24 -> 2.1666667 | H13: =(Datenbank!M13-Datenbank!L13)*24 -> 2 | J13: =SUM(A13:H13) -> 4.1666667
A14: =(Datenbank!D14-Datenbank!C14)*24 -> 0.5 | C14: =(Datenbank!G14-Datenbank!F14)*24 -> 3.0833333 | F14: =(Datenbank!J14-Datenbank!I14)*24 -> 2.1666667 | H14: =(Datenbank!M14-Datenbank!L14)*24 -> 2 | J14: =SUM(A14:H14) -> 7.75
... A30: =(Datenbank!D30-Datenbank!C30)*24 -> 0.5 | C30: =(Datenbank!G30-Datenbank!F30)*24 -> 3.0833333 | F30: =(Datenbank!J30-Datenbank!I30)*24 -> 2.1666667 | H30: =(Datenbank!M30-Datenbank!L30)*24 -> 2 | J30: =SUM(A30:H30) -> 7.75

Sheet Berechnung Zuschläge
A1: Stunden 30% Steuerfrei | B1: Stunden normal versteuert | C1: Stunden 25% Steuerfrei | D1: Stunden 5% Steuerpflichtig | E1: Stunden 25% Steuerfrei | F1: Stunden 5% Steuerpflichtig
A2: 00.00 | B2: 06.00 | C2: 23.00 | D2: 23.00 | E2: 00.00 | F2: 00.00
A3: 04.00 | B3: 23.00 | C3: 00.00 | D3: 00.00 | E3: 04.00 | F3: 04.00
