Workbook

Sheet Monat XY
A1: Monat | B1: September
A2: Jahr | B2: 2018
A4: Zeilenbeschriftungen | B4: Summe von Stunden 30% Steuerfrei | C4: Summe von Stunden 25% Steuerfrei | D4: Summe von Stunden 5% Steuerpflichtig
A5: 1 | B5: 0 | C5: 0 | D5: 0
A6: 2 | B6: 0 | C6: 0 | D6: 0
A7: 3 | B7: 0 | C7: 1 | D7: 1
A8: 4 | B8: 3.5833333 | C8: 1 | D8: 1
A9: 5 | B9: 3.5833333 | C9: 7.9936058e-15 | D9: 7.9936058e-15
A10: 6 | B10: 0 | C10: 0 | D10: 0
A11: 7 | B11: 0 | C11: 0 | D11: 0
A12: 8 | B12: 0 | C12: 0 | D12: 0
A13: 9 | B13: 0 | C13: 0 | D13: 0
A14: 10 | B14: 0 | C14: 0 | D14: 0
A15: 11 | B15: 0 | C15: 1 | D15: 1
A16: 12 | B16: 3.5833333 | C16: 1 | D16: 1
... A34: 30 | B34: 0 | C34: 0 | D34: 0
A35: Gesamtergebnis | B35: 57.333333 | C35: 16 | D35: 16

Sheet Datenbank
A1: Wochentag | B1: Tag | C1: Monat | D1: Jahr | E1: Kommt | F1: Geht | G1: Kommt 2 | H1: Geht 2 | I1: Gewertete Stunden | J1: Fehlgrund | K1: Stunden normal versteuert | L1: Stunden 30% Steuerfrei | M1: Stunden 25% Steuerfrei | N1: Stunden 5% Steuerpflichtig
A2: Samstag | B2: 1 | C2: September | D2: 2018 | I2: =Formeln!W3 -> 0 | L2: =Formeln!X3 -> 0 | M2: =Formeln!Y3 -> 0 | N2: =Formeln!Z3 -> 0
A3: Sonntag | B3: 2 | C3: September | D3: 2018 | I3: =Formeln!W4 -> 0 | L3: =Formeln!X4 -> 0 | M3: =Formeln!Y4 -> 0 | N3: =Formeln!Z4 -> 0
A4: Montag | B4: 3 | C4: September | D4: 2018 | E4: 0.8125 | I4: =Formeln!W5 -> 4.1666667 | L4: =Formeln!X5 -> 0 | M4: =Formeln!Y5 -> 1 | N4: =Formeln!Z5 -> 1
A5: Dienstag | B5: 4 | C5: September | D5: 2018 | F5: 0.16666667 | G5: 0.8125 | I5: =Formeln!W6 -> 7.75 | L5: =Formeln!X6 -> 3.5833333 | M5: =Formeln!Y6 -> 1 | N5: =Formeln!Z6 -> 1
A6: Mittwoch | B6: 5 | C6: September | D6: 2018 | F6: 0.16666667 | I6: =Formeln!W7 -> 3.5833333 | L6: =Formeln!X7 -> 3.5833333 | M6: =Formeln!Y7 -> 7.9936058e-15 | N6: =Formeln!Z7 -> 7.9936058e-15
A7: Donnerstag | B7: 6 | C7: September | D7: 2018 | I7: =Formeln!W8 -> 0 | J7: Urlaub ganzer Tag | L7: =Formeln!X8 -> 0 | M7: =Formeln!Y8 -> 0 | N7: =Formeln!Z8 -> 0
A8: Freitag | B8: 7 | C8: September | D8: 2018 | I8: =Formeln!W9 -> 0 | J8: Urlaub ganzer Tag | L8: =Formeln!X9 -> 0 | M8: =Formeln!Y9 -> 0 | N8: =Formeln!Z9 -> 0
A9: Samstag | B9: 8 | C9: September | D9: 2018 | I9: =Formeln!W10 -> 0 | J9: Urlaub ganzer Tag | L9: =Formeln!X10 -> 0 | M9: =Formeln!Y10 -> 0 | N9: =Formeln!Z10 -> 0
A10: Sonntag | B10: 9 | C10: September | D10: 2018 | I10: =Formeln!W11 -> 0 | L10: =Formeln!X11 -> 0 | M10: =Formeln!Y11 -> 0 | N10: =Formeln!Z11 -> 0
A11: Montag | B11: 10 | C11: September | D11: 2018 | I11: =Formeln!W12 -> 0 | L11: =Formeln!X12 -> 0 | M11: =Formeln!Y12 -> 0 | N11: =Formeln!Z12 -> 0
A12: Dienstag | B12: 11 | C12: September | D12: 2018 | G12: 0.8125 | I12: =Formeln!W13 -> 4.1666667 | J12: Urlaub ganzer Tag | L12: =Formeln!X13 -> 0 | M12: =Formeln!Y13 -> 1 | N12: =Formeln!Z13 -> 1
A13: Mittwoch | B13: 12 | C13: September | D13: 2018 | F13: 0.16666667 | G13: 0.8125 | I13: =Formeln!W14 -> 7.75 | L13: =Formeln!X14 -> 3.5833333 | M13: =Formeln!Y14 -> 1 | N13: =Formeln!Z14 -> 1
A14: Donnerstag | B14: 13 | C14: September | D14: 2018 | F14: 0.16666667 | G14: 0.8125 | I14: =Formeln!W15 -> 7.75 | L14: =Formeln!X15 -> 3.5833333 | M14: =Formeln!Y15 -> 1 | N14: =Formeln!Z15 -> 1
A15: Freitag | B15: 14 | C15: September | D15: 2018 | F15: 0.16666667 | G15: 0.8125 | I15: =Formeln!W16 -> 7.75 | L15: =Formeln!X16 -> 3.5833333 | M15: =Formeln!Y16 -> 1 | N15: =Formeln!Z16 -> 1
A16: Samstag | B16: 15 | C16: September | D16: 2018 | F16: 0.16666667 | I16: =Formeln!W17 -> 3.5833333 | L16: =Formeln!X17 -> 3.5833333 | M16: =Formeln!Y17 -> 7.9936058e-15 | N16: =Formeln!Z17 -> 7.9936058e-15
A17: Sonntag | B17: 16 | C17: September | D17: 2018 | I17: =Formeln!W18 -> 0 | L17: =Formeln!X18 -> 0 | M17: =Formeln!Y18 -> 0 | N17: =Formeln!Z18 -> 0
A18: Montag | B18: 17 | C18: September | D18: 2018 | E18: 0.8125 | I18: =Formeln!W19 -> 4.1666667 | L18: =Formeln!X19 -> 0 | M18: =Formeln!Y19 -> 1 | N18: =Formeln!Z19 -> 1
A19: Dienstag | B19: 18 | C19: September | D19: 2018 | F19: 0.16666667 | G19: 0.8125 | I19: =Formeln!W20 -> 7.75 | L19: =Formeln!X20 -> 3.5833333 | M19: =Formeln!Y20 -> 1 | N19: =Formeln!Z20 -> 1
A20: Mittwoch | B20: 19 | C20: September | D20: 2018 | F20: 0.16666667 | G20: 0.8125 | I20: =Formeln!W21 -> 7.75 | L20: =Formeln!X21 -> 3.5833333 | M20: =Formeln!Y21 -> 1 | N20: =Formeln!Z21 -> 1
A21: Donnerstag | B21: 20 | C21: September | D21: 2018 | F21: 0.16666667 | G21: 0.8125 | I21: =Formeln!W22 -> 7.75 | L21: =Formeln!X22 -> 3.5833333 | M21: =Formeln!Y22 -> 1 | N21: =Formeln!Z22 -> 1
A22: Freitag | B22: 21 | C22: September | D22: 2018 | F22: 0.16666667 | G22: 0.8125 | I22: =Formeln!W23 -> 7.75 | L22: =Formeln!X23 -> 3.5833333 | M22: =Formeln!Y23 -> 1 | N22: =Formeln!Z23 -> 1
A23: Samstag | B23: 22 | C23: September | D23: 2018 | F23: 0.16666667 | I23: =Formeln!W24 -> 3.5833333 | L23: =Formeln!X24 -> 3.5833333 | M23: =Formeln!Y24 -> 7.9936058e-15 | N23: =Formeln!Z24 -> 7.9936058e-15
A24: Sonntag | B24: 23 | C24: September | D24: 2018 | I24: =Formeln!W25 -> 0 | L24: =Formeln!X25 -> 0 | M24: =Formeln!Y25 -> 0 | N24: =Formeln!Z25 -> 0
A25: Montag | B25: 24 | C25: September | D25: 2018 | E25: 0.8125 | I25: =Formeln!W26 -> 4.1666667 | L25: =Formeln!X26 -> 0 | M25: =Formeln!Y26 -> 1 | N25: =Formeln!Z26 -> 1
A26: Dienstag | B26: 25 | C26: September | D26: 2018 | F26: 0.16666667 | G26: 0.8125 | I26: =Formeln!W27 -> 7.75 | L26: =Formeln!X27 -> 3.5833333 | M26: =Formeln!Y27 -> 1 | N26: =Formeln!Z27 -> 1
A27: Mittwoch | B27: 26 | C27: September | D27: 2018 | F27: 0.16666667 | G27: 0.8125 | I27: =Formeln!W28 -> 7.75 | L27: =Formeln!X28 -> 3.5833333 | M27: =Formeln!Y28 -> 1 | N27: =Formeln!Z28 -> 1
A28: Donnerstag | B28: 27 | C28: September | D28: 2018 | F28: 0.16666667 | G28: 0.8125 | I28: =Formeln!W29 -> 7.75 | L28: =Formeln!X29 -> 3.5833333 | M28: =Formeln!Y29 -> 1 | N28: =Formeln!Z29 -> 1
A29: Freitag | B29: 28 | C29: September | D29: 2018 | F29: 0.16666667 | G29: 0.8125 | I29: =Formeln!W30 -> 7.75 | L29: =Formeln!X30 -> 3.5833333 | M29: =Formeln!Y30 -> 1 | N29: =Formeln!Z30 -> 1
A30: Samstag | B30: 29 | C30: September | D30: 2018 | F30: 0.16666667 | I30: =Formeln!W31 -> 3.5833333 | L30: =Formeln!X31 -> 3.5833333 | M30: =Formeln!Y31 -> 7.9936058e-15 | N30: =Formeln!Z31 -> 7.9936058e-15
A31: Sonntag | B31: 30 | C31: September | D31: 2018 | I31: =Formeln!W32 -> 0 | L31: =Formeln!X32 -> 0 | M31: =Formeln!Y32 -> 0 | N31: =Formeln!Z32 -> 0
A32: Montag | B32: 1 | C32: Oktober | D32: 2018 | E32: 0.8125 | I32: =Formeln!W33 -> 4.1666667 | L32: =Formeln!X33 -> 0 | M32: =Formeln!Y33 -> 1 | N32: =Formeln!Z33 -> 1
A33: Dienstag | B33: 2 | C33: Oktober | D33: 2018 | F33: 0.16666667 | I33: =Formeln!W34 -> 3.5833333 | L33: =Formeln!X34 -> 3.5833333 | M33: =Formeln!Y34 -> 7.9936058e-15 | N33: =Formeln!Z34 -> 7.9936058e-15
A34: Mittwoch | B34: 3 | C34: Oktober | D34: 2018 | I34: =Formeln!W35 -> 0 | J34: Feiertag | L34: =Formeln!X35 -> 0 | M34: =Formeln!Y35 -> 0 | N34: =Formeln!Z35 -> 0
A35: Donnerstag | B35: 4 | C35: Oktober | D35: 2018 | E35: 0 | F35: 0.32638889 | G35: 0.8125 | I35: =Formeln!W36 -> 11.5 | L35: =Formeln!X36 -> 4 | M35: =Formeln!Y36 -> 2.5 | N35: =Formeln!Z36 -> 2.5
A36: Freitag | B36: 5 | C36: Oktober | D36: 2018 | F36: 0.16666667 | G36: 0.8125 | I36: =Formeln!W37 -> 7.75 | L36: =Formeln!X37 -> 3.5833333 | M36: =Formeln!Y37 -> 1 | N36: =Formeln!Z37 -> 1
A37: Samstag | B37: 6 | C37: Oktober | D37: 2018 | F37: 0.16666667 | I37: =Formeln!W38 -> 3.5833333 | L37: =Formeln!X38 -> 3.5833333 | M37: =Formeln!Y38 -> 7.9936058e-15 | N37: =Formeln!Z38 -> 7.9936058e-15
A38: Sonntag | B38: 7 | C38: Oktober | D38: 2018 | I38: =Formeln!W39 -> 0 | L38: =Formeln!X39 -> 0 | M38: =Formeln!Y39 -> 0 | N38: =Formeln!Z39 -> 0
A39: Montag | B39: 8 | C39: Oktober | D39: 2018 | E39: 0.8125 | I39: =Formeln!W40 -> 4.1666667 | L39: =Formeln!X40 -> 0 | M39: =Formeln!Y40 -> 1 | N39: =Formeln!Z40 -> 1
A40: Dienstag | B40: 9 | C40: Oktober | D40: 2018 | F40: 0.16666667 | G40: 0.8125 | I40: =Formeln!W41 -> 7.75 | L40: =Formeln!X41 -> 3.5833333 | M40: =Formeln!Y41 -> 1 | N40: =Formeln!Z41 -> 1
...

Sheet Formeln
A1: Wochentag | B1: Datum | C1: Schicht | D1: Kommt | E1: Geht | F1: Pause | G1: Kommt2 | H1: Geht3 | I1: Freizeit | J1: Kommt | K1: Geht4 | L1: Pause5 | M1: Kommt 6 | N1: Geht7 | O1: Arbeit | P1: Pause8 | Q1: Arbeit9 | R1: Freizeit10 | S1: Arbeit11 | T1: Pause12 | U1: Arbeit13 | V1: Platzhalter 2 | W1: Summe | X1: Summe 30% Steuerfrei | Y1: Summe - 25% Steuerfrei | Z1: Summe - 5% Steuerpflichtig | AA1: Platzhalter 4 | AB1: Slot 1 - 30% Steuerfrei | AC1: Spalte14 | AD1: Spalte15 | AE1: Slot 2 - 30% Steuerfrei | AF1: Spalte16 | AG1: Spalte17 | AH1: Slot 3 - 30% Steuerfrei | AI1: Spalte18 | AJ1: Spalte19 | AK1: Slot 4 - 30% Steuerfrei | AL1: Spalte20 | AM1: Formeln Steuern 1 | AN1: Slot 1 - 25% Steuerfrei | AO1: Spalte21 | AP1: Spalte22 | AQ1: Slot 2 - 25% Steuerfrei | AR1: Spalte23 | AS1: Spalte24 | AT1: Slot 3 - 25% Steuerfrei | AU1: Spalte25 | AV1: Spalte26 | AW1: Slot 4 - 25% Steuerfrei | AX1: Spalte27 | AY1: Formeln Steuern 2 | AZ1: Slot 1 - 25% Steuerfrei28 | BA1: Spalte29 | BB1: Spalte30 | BC1: Slot 2 - 25% Steuerfrei31 | BD1: Spalte32 | BE1: Spalte33 | BF1: Slot 3 - 25% Steuerfrei34 | BG1: Spalte35 | BH1: Spalte36 | BI1: Slot 4 - 25% Steuerfrei37 | BJ1: Spalte38 | BK1: Formeln Steuern 3 | BL1: Slot 1 - 5% Steuerpflichtig | BM1: Spalte39 | BN1: Spalte40 | BO1: Slot 2 - 5% Steuerpflichtig | BP1: Spalte41 | BQ1: Spalte42 | BR1: Slot 3 - 5% Steuerpflichtig | BS1: Spalte43 | BT1: Spalte44 | BU1: Slot 4 - 5% Steuerpflichtig | BV1: Spalte45 | BW1: Formeln Steuern 4 | BX1: Slot 1 - 5% Steuerpflichtig46 | BY1: Spalte47 | BZ1: Spalte48 | CA1: Slot 2 - 5% Steuerpflichtig49 | CB1: Spalte50 | CC1: Spalte51 | CD1: Slot 3 - 5% Steuerpflichtig52 | CE1: Spalte53 | CF1: Spalte54 | CG1: Slot 4 - 5% Steuerpflichtig55 | CH1: Spalte56 | CI1: Formeln Steuern 5
O2: 00:00 bis 00:30 | P2: 00:30 bis 00:55 | Q2: 00:55 bis 04:00 | S2: 19:30 bis 21:40 | T2: 21:40 bis 22:00 | U2: 22:00 bis 24:00 | X2: 00.00 bis 04.00 | Y2: 23.00 bis 00.00 und 04.00 bis 06.00 | Z2: 23.00 bis 00.00 und 04.00 bis 06.00 | AB2: 0 | AC2: 0.16666667 | AE2: 0 | AF2: 0.16666667 | AH2: 0 | AI2: 0.16666667 | AK2: 0 | AL2: 0.16666667 | AN2: 0.95833333 | AO2: 1 | AQ2: 0.95833333 | AR2: 1 | AT2: 0.95833333 | AU2: 1 | AW2: 0.95833333 | AX2: 1 | AZ2: 0.16666667 | BA2: 0.25 | BC2: 0.16666667 | BD2: 0.25 | BF2: 0.16666667 | BG2: 0.25 | BI2: 0.16666667 | BJ2: 0.25 | BL2: 0.95833333 | BM2: 1 | BO2: 0.95833333 | BP2: 1 | BR2: 0.95833333 | BS2: 1 | BU2: 0.95833333 | BV2: 1 | BX2: 0.16666667 | BY2: 0.25 | CA2: 0.16666667 | CB2: 0.25 | CD2: 0.16666667 | CE2: 0.25 | CG2: 0.16666667 | CH2: 0.25
A3: Samstag | B3: 43344 | O3: =(Formeln!E3-Formeln!D3)*24 -> 0 | Q3: =(Formeln!H3-Formeln!G3)*24 -> 0 | S3: =(Formeln!K3-Formeln!J3)*24 -> 0 | U3: =(Formeln!N3-Formeln!M3)*24 -> 0 | W3: =SUM(O3:U3) -> 0 | X3: =SUM(AB3:AK3) -> 0 | Y3: =SUM(AN3:BI3) -> 0 | Z3: =SUM(BL3:CG3) -> 0 | AB3: =IF(AND(D3>=$AB$2,E3>=$AC$2,D3<$AC$2),$AC$2-D3,IF(AND(D3<=$AB$2,E3<=$AC$2,E3>$AB$2),$AB$2+E3,IF(AND(D3>=$AB$2,E3<=$AC$2),E3-D3,IF(AND(D3=$AB$2,E3>=$AC$2),D3+$AC$2,0))))*24 -> 0 | AE3: =IF(AND(G3>=$AB$2,H3>=$AC$2,G3<$AC$2),$AC$2-G3,IF(AND(G3<=$AB$2,H3<=$AC$2,H3>$AB$2),$AB$2+H3,IF(AND(G3>=$AB$2,H3<=$AC$2),H3-G3,IF(AND(G3=$AB$2,H3>=$AC$2),G3+$AC$2,0))))*24 -> 0 | AH3: =IF(AND(J3>=$AB$2,K3>=$AC$2,J3<$AC$2),$AC$2-J3,IF(AND(J3<=$AB$2,K3<=$AC$2,K3>$AB$2),$AB$2+K3,IF(AND(J3>=$AB$2,K3<=$AC$2),K3-J3,IF(AND(J3=$AB$2,K3>=$AC$2),J3+$AC$2,0))))*24 -> 0 | AK3: =IF(AND(M3>=$AB$2,N3>=$AC$2,M3<$AC$2),$AC$2-M3,IF(AND(M3<=$AB$2,N3<=$AC$2,N3>$AB$2),$AB$2+N3,IF(AND(M3>=$AB$2,N3<=$AC$2),N3-M3,IF(AND(M3=$AB$2,N3>=$AC$2),M3+$AC$2,0))))*24 -> 0 | AN3: =IF(AND(D3>=AN$2,E3>=AO$2,D3<AO$2),AO$2-D3,IF(AND(D3<=AN$2,E3<=AO$2,E3>=AN$2),E3-AN$2,IF(AND(D3>=AN$2,E3<=AO$2),E3-D3,IF(AND(D3=AN$2,D3>=AO$2),D3+AO$2,0))))*24 -> 0 | AQ3: =IF(AND(G3>=AQ$2,H3>=AR$2,G3<AR$2),AR$2-G3,IF(AND(G3<=AQ$2,H3<=AR$2,H3>=AQ$2),H3-AQ$2,IF(AND(G3>=AQ$2,H3<=AR$2),H3-G3,IF(AND(G3=AQ$2,G3>=AR$2),G3+AR$2,0))))*24 -> 0 | AT3: =IF(AND(J3>=AT$2,K3>=AU$2,J3<AU$2),AU$2-J3,IF(AND(J3<=AT$2,K3<=AU$2,K3>=AT$2),K3-AT$2,IF(AND(J3>=AT$2,K3<=AU$2),K3-J3,IF(AND(J3=AT$2,J3>=AU$2),J3+AU$2,0))))*24 -> 0 | AW3: =IF(AND(M3>=AW$2,N3>=AX$2,M3<AX$2),AX$2-M3,IF(AND(M3<=AW$2,N3<=AX$2,N3>=AW$2),N3-AW$2,IF(AND(M3>=AW$2,N3<=AX$2),N3-M3,IF(AND(M3=AW$2,M3>=AX$2),M3+AX$2,0))))*24 -> 0 | AZ3: =IF(AND(D3>=AZ$2,E3>=BA$2,D3<BA$2),BA$2-D3,IF(AND(D3<=AZ$2,E3<=BA$2,E3>=AZ$2),E3-AZ$2,IF(AND(D3>=AZ$2,E3<=BA$2),E3-D3,IF(AND(D3=AZ$2,D3>=BA$2),D3+BA$2,0))))*24 -> 0 | BC3: =IF(AND(G3>=BC$2,H3>=BD$2,G3<BD$2),BD$2-G3,IF(AND(G3<=BC$2,H3<=BD$2,H3>=BC$2),H3-BC$2,IF(AND(G3>=BC$2,H3<=BD$2),H3-G3,IF(AND(G3=BC$2,G3>=BD$2),G3+BD$2,0))))*24 -> 0 | BF3: =IF(AND(J3>=BF$2,K3>=BG$2,J3<BG$2),BG$2-J3,IF(AND(J3<=BF$2,K3<=BG$2,K3>=BF$2),K3-BF$2,IF(AND(J3>=BF$2,K3<=BG$2),K3-J3,IF(AND(J3=BF$2,J3>=BG$2),J3+BG$2,0))))*24 -> 0 | BI3: =IF(AND(M3>=BI$2,N3>=BJ$2,M3<BJ$2),BJ$2-M3,IF(AND(M3<=BI$2,N3<=BJ$2,N3>=BI$2),N3-BI$2,IF(AND(M3>=BI$2,N3<=BJ$2),N3-M3,IF(AND(M3=BI$2,M3>=BJ$2),M3+BJ$2,0))))*24 -> 0 | BL3: =IF(AND(D3>=BL$2,E3>=BM$2,D3<BM$2),BM$2-D3,IF(AND(D3<=BL$2,E3<=BM$2,E3>=BL$2),E3-BL$2,IF(AND(D3>=BL$2,E3<=BM1),E3-D3,IF(AND(D3=BL$2,D3>=BM$2),D3+BM$2,0))))*24 -> 0 | BO3: =IF(AND(G3>=BO$2,H3>=BP$2,G3<BP$2),BP$2-G3,IF(AND(G3<=BO$2,H3<=BP$2,H3>=BO$2),H3-BO$2,IF(AND(G3>=BO$2,H3<=BP1),H3-G3,IF(AND(G3=BO$2,G3>=BP$2),G3+BP$2,0))))*24 -> 0 | BR3: =IF(AND(J3>=BR$2,K3>=BS$2,J3<BS$2),BS$2-J3,IF(AND(J3<=BR$2,K3<=BS$2,K3>=BR$2),K3-BR$2,IF(AND(J3>=BR$2,K3<=BS1),K3-J3,IF(AND(J3=BR$2,J3>=BS$2),J3+BS$2,0))))*24 -> 0 | BU3: =IF(AND(M3>=BU$2,N3>=BV$2,M3<BV$2),BV$2-M3,IF(AND(M3<=BU$2,N3<=BV$2,N3>=BU$2),N3-BU$2,IF(AND(M3>=BU$2,N3<=BV1),N3-M3,IF(AND(M3=BU$2,M3>=BV$2),M3+BV$2,0))))*24 -> 0 | BX3: =IF(AND(D3>=BX$2,E3>=BY$2,D3<BY$2),BY$2-D3,IF(AND(D3<=BX$2,E3<=BY$2,E3>=BX$2),E3-BX$2,IF(AND(D3>=BX$2,E3<=BY$2),E3-D3,IF(AND(D3=BX$2,D3>=BY$2),D3+BY$2,0))))*24 -> 0 | CA3: =IF(AND(G3>=CA$2,H3>=CB$2,G3<CB$2),CB$2-G3,IF(AND(G3<=CA$2,H3<=CB$2,H3>=CA$2),H3-CA$2,IF(AND(G3>=CA$2,H3<=CB$2),H3-G3,IF(AND(G3=CA$2,G3>=CB$2),G3+CB$2,0))))*24 -> 0 | CD3: =IF(AND(J3>=CD$2,K3>=CE$2,J3<CE$2),CE$2-J3,IF(AND(J3<=CD$2,K3<=CE$2,K3>=CD$2),K3-CD$2,IF(AND(J3>=CD$2,K3<=CE$2),K3-J3,IF(AND(J3=CD$2,J3>=CE$2),J3+CE$2,0))))*24 -> 0 | CG3: =IF(AND(M3>=CG$2,N3>=CH$2,M3<CH$2),CH$2-M3,IF(AND(M3<=CG$2,N3<=CH$2,N3>=CG$2),N3-CG$2,IF(AND(M3>=CG$2,N3<=CH$2),N3-M3,IF(AND(M3=CG$2,M3>=CH$2),M3+CH$2,0))))*24 -> 0
A4: Sonntag | B4: 43345 | O4: =(Formeln!E4-Formeln!D4)*24 -> 0 | Q4: =(Formeln!H4-Formeln!G4)*24 -> 0 | S4: =(Formeln!K4-Formeln!J4)*24 -> 0 | U4: =(Formeln!N4-Formeln!M4)*24 -> 0 | W4: =SUM(O4:U4) -> 0 | X4: =SUM(AB4:AK4) -> 0 | Y4: =SUM(AN4:BI4) -> 0 | Z4: =SUM(BL4:CG4) -> 0 | AB4: =IF(AND(D4>=$AB$2,E4>=$AC$2,D4<$AC$2),$AC$2-D4,IF(AND(D4<=$AB$2,E4<=$AC$2,E4>$AB$2),$AB$2+E4,IF(AND(D4>=$AB$2,E4<=$AC$2),E4-D4,IF(AND(D4=$AB$2,E4>=$AC$2),D4+$AC$2,0))))*24 -> 0 | AE4: =IF(AND(G4>=$AB$2,H4>=$AC$2,G4<$AC$2),$AC$2-G4,IF(AND(G4<=$AB$2,H4<=$AC$2,H4>$AB$2),$AB$2+H4,IF(AND(G4>=$AB$2,H4<=$AC$2),H4-G4,IF(AND(G4=$AB$2,H4>=$AC$2),G4+$AC$2,0))))*24 -> 0 | AH4: =IF(AND(J4>=$AB$2,K4>=$AC$2,J4<$AC$2),$AC$2-J4,IF(AND(J4<=$AB$2,K4<=$AC$2,K4>$AB$2),$AB$2+K4,IF(AND(J4>=$AB$2,K4<=$AC$2),K4-J4,IF(AND(J4=$AB$2,K4>=$AC$2),J4+$AC$2,0))))*24 -> 0 | AK4: =IF(AND(M4>=$AB$2,N4>=$AC$2,M4<$AC$2),$AC$2-M4,IF(AND(M4<=$AB$2,N4<=$AC$2,N4>$AB$2),$AB$2+N4,IF(AND(M4>=$AB$2,N4<=$AC$2),N4-M4,IF(AND(M4=$AB$2,N4>=$AC$2),M4+$AC$2,0))))*24 -> 0 | AN4: =IF(AND(D4>=AN$2,E4>=AO$2,D4<AO$2),AO$2-D4,IF(AND(D4<=AN$2,E4<=AO$2,E4>=AN$2),E4-AN$2,IF(AND(D4>=AN$2,E4<=AO$2),E4-D4,IF(AND(D4=AN$2,D4>=AO$2),D4+AO$2,0))))*24 -> 0 | AQ4: =IF(AND(G4>=AQ$2,H4>=AR$2,G4<AR$2),AR$2-G4,IF(AND(G4<=AQ$2,H4<=AR$2,H4>=AQ$2),H4-AQ$2,IF(AND(G4>=AQ$2,H4<=AR$2),H4-G4,IF(AND(G4=AQ$2,G4>=AR$2),G4+AR$2,0))))*24 -> 0 | AT4: =IF(AND(J4>=AT$2,K4>=AU$2,J4<AU$2),AU$2-J4,IF(AND(J4<=AT$2,K4<=AU$2,K4>=AT$2),K4-AT$2,IF(AND(J4>=AT$2,K4<=AU$2),K4-J4,IF(AND(J4=AT$2,J4>=AU$2),J4+AU$2,0))))*24 -> 0 | AW4: =IF(AND(M4>=AW$2,N4>=AX$2,M4<AX$2),AX$2-M4,IF(AND(M4<=AW$2,N4<=AX$2,N4>=AW$2),N4-AW$2,IF(AND(M4>=AW$2,N4<=AX$2),N4-M4,IF(AND(M4=AW$2,M4>=AX$2),M4+AX$2,0))))*24 -> 0 | AZ4: =IF(AND(D4>=AZ$2,E4>=BA$2,D4<BA$2),BA$2-D4,IF(AND(D4<=AZ$2,E4<=BA$2,E4>=AZ$2),E4-AZ$2,IF(AND(D4>=AZ$2,E4<=BA$2),E4-D4,IF(AND(D4=AZ$2,D4>=BA$2),D4+BA$2,0))))*24 -> 0 | BC4: =IF(AND(G4>=BC$2,H4>=BD$2,G4<BD$2),BD$2-G4,IF(AND(G4<=BC$2,H4<=BD$2,H4>=BC$2),H4-BC$2,IF(AND(G4>=BC$2,H4<=BD$2),H4-G4,IF(AND(G4=BC$2,G4>=BD$2),G4+BD$2,0))))*24 -> 0 | BF4: =IF(AND(J4>=BF$2,K4>=BG$2,J4<BG$2),BG$2-J4,IF(AND(J4<=BF$2,K4<=BG$2,K4>=BF$2),K4-BF$2,IF(AND(J4>=BF$2,K4<=BG$2),K4-J4,IF(AND(J4=BF$2,J4>=BG$2),J4+BG$2,0))))*24 -> 0 | BI4: =IF(AND(M4>=BI$2,N4>=BJ$2,M4<BJ$2),BJ$2-M4,IF(AND(M4<=BI$2,N4<=BJ$2,N4>=BI$2),N4-BI$2,IF(AND(M4>=BI$2,N4<=BJ$2),N4-M4,IF(AND(M4=BI$2,M4>=BJ$2),M4+BJ$2,0))))*24 -> 0 | BL4: =IF(AND(D4>=BL$2,E4>=BM$2,D4<BM$2),BM$2-D4,IF(AND(D4<=BL$2,E4<=BM$2,E4>=BL$2),E4-BL$2,IF(AND(D4>=BL$2,E4<=BM2),E4-D4,IF(AND(D4=BL$2,D4>=BM$2),D4+BM$2,0))))*24 -> 0 | BO4: =IF(AND(G4>=BO$2,H4>=BP$2,G4<BP$2),BP$2-G4,IF(AND(G4<=BO$2,H4<=BP$2,H4>=BO$2),H4-BO$2,IF(AND(G4>=BO$2,H4<=BP2),H4-G4,IF(AND(G4=BO$2,G4>=BP$2),G4+BP$2,0))))*24 -> 0 | BR4: =IF(AND(J4>=BR$2,K4>=BS$2,J4<BS$2),BS$2-J4,IF(AND(J4<=BR$2,K4<=BS$2,K4>=BR$2),K4-BR$2,IF(AND(J4>=BR$2,K4<=BS2),K4-J4,IF(AND(J4=BR$2,J4>=BS$2),J4+BS$2,0))))*24 -> 0 | BU4: =IF(AND(M4>=BU$2,N4>=BV$2,M4<BV$2),BV$2-M4,IF(AND(M4<=BU$2,N4<=BV$2,N4>=BU$2),N4-BU$2,IF(AND(M4>=BU$2,N4<=BV2),N4-M4,IF(AND(M4=BU$2,M4>=BV$2),M4+BV$2,0))))*24 -> 0 | BX4: =IF(AND(D4>=BX$2,E4>=BY$2,D4<BY$2),BY$2-D4,IF(AND(D4<=BX$2,E4<=BY$2,E4>=BX$2),E4-BX$2,IF(AND(D4>=BX$2,E4<=BY$2),E4-D4,IF(AND(D4=BX$2,D4>=BY$2),D4+BY$2,0))))*24 -> 0 | CA4: =IF(AND(G4>=CA$2,H4>=CB$2,G4<CB$2),CB$2-G4,IF(AND(G4<=CA$2,H4<=CB$2,H4>=CA$2),H4-CA$2,IF(AND(G4>=CA$2,H4<=CB$2),H4-G4,IF(AND(G4=CA$2,G4>=CB$2),G4+CB$2,0))))*24 -> 0 | CD4: =IF(AND(J4>=CD$2,K4>=CE$2,J4<CE$2),CE$2-J4,IF(AND(J4<=CD$2,K4<=CE$2,K4>=CD$2),K4-CD$2,IF(AND(J4>=CD$2,K4<=CE$2),K4-J4,IF(AND(J4=CD$2,J4>=CE$2),J4+CE$2,0))))*24 -> 0 | CG4: =IF(AND(M4>=CG$2,N4>=CH$2,M4<CH$2),CH$2-M4,IF(AND(M4<=CG$2,N4<=CH$2,N4>=CG$2),N4-CG$2,IF(AND(M4>=CG$2,N4<=CH$2),N4-M4,IF(AND(M4=CG$2,M4>=CH$2),M4+CH$2,0))))*24 -> 0
A5: Montag | B5: 43346 | J5: 0.8125 | K5: 0.90277778 | M5: 0.91666667 | N5: 1 | O5: =(Formeln!E5-Formeln!D5)*24 -> 0 | Q5: =(Formeln!H5-Formeln!G5)*24 -> 0 | S5: =(Formeln!K5-Formeln!J5)*24 -> 2.1666667 | U5: =(Formeln!N5-Formeln!M5)*24 -> 2 | W5: =SUM(O5:U5) -> 4.1666667 | X5: =SUM(AB5:AK5) -> 0 | Y5: =SUM(AN5:BI5) -> 1 | Z5: =SUM(BL5:CG5) -> 1 | AB5: =IF(AND(D5>=$AB$2,E5>=$AC$2,D5<$AC$2),$AC$2-D5,IF(AND(D5<=$AB$2,E5<=$AC$2,E5>$AB$2),$AB$2+E5,IF(AND(D5>=$AB$2,E5<=$AC$2),E5-D5,IF(AND(D5=$AB$2,E5>=$AC$2),D5+$AC$2,0))))*24 -> 0 | AE5: =IF(AND(G5>=$AB$2,H5>=$AC$2,G5<$AC$2),$AC$2-G5,IF(AND(G5<=$AB$2,H5<=$AC$2,H5>$AB$2),$AB$2+H5,IF(AND(G5>=$AB$2,H5<=$AC$2),H5-G5,IF(AND(G5=$AB$2,H5>=$AC$2),G5+$AC$2,0))))*24 -> 0 | AH5: =IF(AND(J5>=$AB$2,K5>=$AC$2,J5<$AC$2),$AC$2-J5,IF(AND(J5<=$AB$2,K5<=$AC$2,K5>$AB$2),$AB$2+K5,IF(AND(J5>=$AB$2,K5<=$AC$2),K5-J5,IF(AND(J5=$AB$2,K5>=$AC$2),J5+$AC$2,0))))*24 -> 0 | AK5: =IF(AND(M5>=$AB$2,N5>=$AC$2,M5<$AC$2),$AC$2-M5,IF(AND(M5<=$AB$2,N5<=$AC$2,N5>$AB$2),$AB$2+N5,IF(AND(M5>=$AB$2,N5<=$AC$2),N5-M5,IF(AND(M5=$AB$2,N5>=$AC$2),M5+$AC$2,0))))*24 -> 0 | AN5: =IF(AND(D5>=AN$2,E5>=AO$2,D5<AO$2),AO$2-D5,IF(AND(D5<=AN$2,E5<=AO$2,E5>=AN$2),E5-AN$2,IF(AND(D5>=AN$2,E5<=AO$2),E5-D5,IF(AND(D5=AN$2,D5>=AO$2),D5+AO$2,0))))*24 -> 0 | AQ5: =IF(AND(G5>=AQ$2,H5>=AR$2,G5<AR$2),AR$2-G5,IF(AND(G5<=AQ$2,H5<=AR$2,H5>=AQ$2),H5-AQ$2,IF(AND(G5>=AQ$2,H5<=AR$2),H5-G5,IF(AND(G5=AQ$2,G5>=AR$2),G5+AR$2,0))))*24 -> 0 | AT5: =IF(AND(J5>=AT$2,K5>=AU$2,J5<AU$2),AU$2-J5,IF(AND(J5<=AT$2,K5<=AU$2,K5>=AT$2),K5-AT$2,IF(AND(J5>=AT$2,K5<=AU$2),K5-J5,IF(AND(J5=AT$2,J5>=AU$2),J5+AU$2,0))))*24 -> 0 | AW5: =IF(AND(M5>=AW$2,N5>=AX$2,M5<AX$2),AX$2-M5,IF(AND(M5<=AW$2,N5<=AX$2,N5>=AW$2),N5-AW$2,IF(AND(M5>=AW$2,N5<=AX$2),N5-M5,IF(AND(M5=AW$2,M5>=AX$2),M5+AX$2,0))))*24 -> 1 | AZ5: =IF(AND(D5>=AZ$2,E5>=BA$2,D5<BA$2),BA$2-D5,IF(AND(D5<=AZ$2,E5<=BA$2,E5>=AZ$2),E5-AZ$2,IF(AND(D5>=AZ$2,E5<=BA$2),E5-D5,IF(AND(D5=AZ$2,D5>=BA$2),D5+BA$2,0))))*24 -> 0 | BC5: =IF(AND(G5>=BC$2,H5>=BD$2,G5<BD$2),BD$2-G5,IF(AND(G5<=BC$2,H5<=BD$2,H5>=BC$2),H5-BC$2,IF(AND(G5>=BC$2,H5<=BD$2),H5-G5,IF(AND(G5=BC$2,G5>=BD$2),G5+BD$2,0))))*24 -> 0 | BF5: =IF(AND(J5>=BF$2,K5>=BG$2,J5<BG$2),BG$2-J5,IF(AND(J5<=BF$2,K5<=BG$2,K5>=BF$2),K5-BF$2,IF(AND(J5>=BF$2,K5<=BG$2),K5-J5,IF(AND(J5=BF$2,J5>=BG$2),J5+BG$2,0))))*24 -> 0 | BI5: =IF(AND(M5>=BI$2,N5>=BJ$2,M5<BJ$2),BJ$2-M5,IF(AND(M5<=BI$2,N5<=BJ$2,N5>=BI$2),N5-BI$2,IF(AND(M5>=BI$2,N5<=BJ$2),N5-M5,IF(AND(M5=BI$2,M5>=BJ$2),M5+BJ$2,0))))*24 -> 0 | BL5: =IF(AND(D5>=BL$2,E5>=BM$2,D5<BM$2),BM$2-D5,IF(AND(D5<=BL$2,E5<=BM$2,E5>=BL$2),E5-BL$2,IF(AND(D5>=BL$2,E5<=BM3),E5-D5,IF(AND(D5=BL$2,D5>=BM$2),D5+BM$2,0))))*24 -> 0 | BO5: =IF(AND(G5>=BO$2,H5>=BP$2,G5<BP$2),BP$2-G5,IF(AND(G5<=BO$2,H5<=BP$2,H5>=BO$2),H5-BO$2,IF(AND(G5>=BO$2,H5<=BP3),H5-G5,IF(AND(G5=BO$2,G5>=BP$2),G5+BP$2,0))))*24 -> 0 | BR5: =IF(AND(J5>=BR$2,K5>=BS$2,J5<BS$2),BS$2-J5,IF(AND(J5<=BR$2,K5<=BS$2,K5>=BR$2),K5-BR$2,IF(AND(J5>=BR$2,K5<=BS3),K5-J5,IF(AND(J5=BR$2,J5>=BS$2),J5+BS$2,0))))*24 -> 0 | BU5: =IF(AND(M5>=BU$2,N5>=BV$2,M5<BV$2),BV$2-M5,IF(AND(M5<=BU$2,N5<=BV$2,N5>=BU$2),N5-BU$2,IF(AND(M5>=BU$2,N5<=BV3),N5-M5,IF(AND(M5=BU$2,M5>=BV$2),M5+BV$2,0))))*24 -> 1 | BX5: =IF(AND(D5>=BX$2,E5>=BY$2,D5<BY$2),BY$2-D5,IF(AND(D5<=BX$2,E5<=BY$2,E5>=BX$2),E5-BX$2,IF(AND(D5>=BX$2,E5<=BY$2),E5-D5,IF(AND(D5=BX$2,D5>=BY$2),D5+BY$2,0))))*24 -> 0 | CA5: =IF(AND(G5>=CA$2,H5>=CB$2,G5<CB$2),CB$2-G5,IF(AND(G5<=CA$2,H5<=CB$2,H5>=CA$2),H5-CA$2,IF(AND(G5>=CA$2,H5<=CB$2),H5-G5,IF(AND(G5=CA$2,G5>=CB$2),G5+CB$2,0))))*24 -> 0 | CD5: =IF(AND(J5>=CD$2,K5>=CE$2,J5<CE$2),CE$2-J5,IF(AND(J5<=CD$2,K5<=CE$2,K5>=CD$2),K5-CD$2,IF(AND(J5>=CD$2,K5<=CE$2),K5-J5,IF(AND(J5=CD$2,J5>=CE$2),J5+CE$2,0))))*24 -> 0 | CG5: =IF(AND(M5>=CG$2,N5>=CH$2,M5<CH$2),CH$2-M5,IF(AND(M5<=CG$2,N5<=CH$2,N5>=CG$2),N5-CG$2,IF(AND(M5>=CG$2,N5<=CH$2),N5-M5,IF(AND(M5=CG$2,M5>=CH$2),M5+CH$2,0))))*24 -> 0
A6: Dienstag | B6: 43347 | C6: fDNS | D6: 0 | E6: 0.020833333 | G6: 0.038194444 | H6: 0.16666667 | J6: 0.8125 | K6: 0.90277778 | M6: 0.91666667 | N6: 1 | O6: =(Formeln!E6-Formeln!D6)*24 -> 0.5 | Q6: =(Formeln!H6-Formeln!G6)*24 -> 3.0833333 | S6: =(Formeln!K6-Formeln!J6)*24 -> 2.1666667 | U6: =(Formeln!N6-Formeln!M6)*24 -> 2 | W6: =SUM(O6:U6) -> 7.75 | X6: =SUM(AB6:AK6) -> 3.5833333 | Y6: =SUM(AN6:BI6) -> 1 | Z6: =SUM(BL6:CG6) -> 1 | AB6: =IF(AND(D6>=$AB$2,E6>=$AC$2,D6<$AC$2),$AC$2-D6,IF(AND(D6<=$AB$2,E6<=$AC$2,E6>$AB$2),$AB$2+E6,IF(AND(D6>=$AB$2,E6<=$AC$2),E6-D6,IF(AND(D6=$AB$2,E6>=$AC$2),D6+$AC$2,0))))*24 -> 0.5 | AE6: =IF(AND(G6>=$AB$2,H6>=$AC$2,G6<$AC$2),$AC$2-G6,IF(AND(G6<=$AB$2,H6<=$AC$2,H6>$AB$2),$AB$2+H6,IF(AND(G6>=$AB$2,H6<=$AC$2),H6-G6,IF(AND(G6=$AB$2,H6>=$AC$2),G6+$AC$2,0))))*24 -> 3.0833333 | AH6: =IF(AND(J6>=$AB$2,K6>=$AC$2,J6<$AC$2),$AC$2-J6,IF(AND(J6<=$AB$2,K6<=$AC$2,K6>$AB$2),$AB$2+K6,IF(AND(J6>=$AB$2,K6<=$AC$2),K6-J6,IF(AND(J6=$AB$2,K6>=$AC$2),J6+$AC$2,0))))*24 -> 0 | AK6: =IF(AND(M6>=$AB$2,N6>=$AC$2,M6<$AC$2),$AC$2-M6,IF(AND(M6<=$AB$2,N6<=$AC$2,N6>$AB$2),$AB$2+N6,IF(AND(M6>=$AB$2,N6<=$AC$2),N6-M6,IF(AND(M6=$AB$2,N6>=$AC$2),M6+$AC$2,0))))*24 -> 0 | AN6: =IF(AND(D6>=AN$2,E6>=AO$2,D6<AO$2),AO$2-D6,IF(AND(D6<=AN$2,E6<=AO$2,E6>=AN$2),E6-AN$2,IF(AND(D6>=AN$2,E6<=AO$2),E6-D6,IF(AND(D6=AN$2,D6>=AO$2),D6+AO$2,0))))*24 -> 0 | AQ6: =IF(AND(G6>=AQ$2,H6>=AR$2,G6<AR$2),AR$2-G6,IF(AND(G6<=AQ$2,H6<=AR$2,H6>=AQ$2),H6-AQ$2,IF(AND(G6>=AQ$2,H6<=AR$2),H6-G6,IF(AND(G6=AQ$2,G6>=AR$2),G6+AR$2,0))))*24 -> 0 | AT6: =IF(AND(J6>=AT$2,K6>=AU$2,J6<AU$2),AU$2-J6,IF(AND(J6<=AT$2,K6<=AU$2,K6>=AT$2),K6-AT$2,IF(AND(J6>=AT$2,K6<=AU$2),K6-J6,IF(AND(J6=AT$2,J6>=AU$2),J6+AU$2,0))))*24 -> 0 | AW6: =IF(AND(M6>=AW$2,N6>=AX$2,M6<AX$2),AX$2-M6,IF(AND(M6<=AW$2,N6<=AX$2,N6>=AW$2),N6-AW$2,IF(AND(M6>=AW$2,N6<=AX$2),N6-M6,IF(AND(M6=AW$2,M6>=AX$2),M6+AX$2,0))))*24 -> 1 | AZ6: =IF(AND(D6>=AZ$2,E6>=BA$2,D6<BA$2),BA$2-D6,IF(AND(D6<=AZ$2,E6<=BA$2,E6>=AZ$2),E6-AZ$2,IF(AND(D6>=AZ$2,E6<=BA$2),E6-D6,IF(AND(D6=AZ$2,D6>=BA$2),D6+BA$2,0))))*24 -> 0 | BC6: =IF(AND(G6>=BC$2,H6>=BD$2,G6<BD$2),BD$2-G6,IF(AND(G6<=BC$2,H6<=BD$2,H6>=BC$2),H6-BC$2,IF(AND(G6>=BC$2,H6<=BD$2),H6-G6,IF(AND(G6=BC$2,G6>=BD$2),G6+BD$2,0))))*24 -> 7.9936058e-15 | BF6: =IF(AND(J6>=BF$2,K6>=BG$2,J6<BG$2),BG$2-J6,IF(AND(J6<=BF$2,K6<=BG$2,K6>=BF$2),K6-BF$2,IF(AND(J6>=BF$2,K6<=BG$2),K6-J6,IF(AND(J6=BF$2,J6>=BG$2),J6+BG$2,0))))*24 -> 0 | BI6: =IF(AND(M6>=BI$2,N6>=BJ$2,M6<BJ$2),BJ$2-M6,IF(AND(M6<=BI$2,N6<=BJ$2,N6>=BI$2),N6-BI$2,IF(AND(M6>=BI$2,N6<=BJ$2),N6-M6,IF(AND(M6=BI$2,M6>=BJ$2),M6+BJ$2,0))))*24 -> 0 | BL6: =IF(AND(D6>=BL$2,E6>=BM$2,D6<BM$2),BM$2-D6,IF(AND(D6<=BL$2,E6<=BM$2,E6>=BL$2),E6-BL$2,IF(AND(D6>=BL$2,E6<=BM4),E6-D6,IF(AND(D6=BL$2,D6>=BM$2),D6+BM$2,0))))*24 -> 0 | BO6: =IF(AND(G6>=BO$2,H6>=BP$2,G6<BP$2),BP$2-G6,IF(AND(G6<=BO$2,H6<=BP$2,H6>=BO$2),H6-BO$2,IF(AND(G6>=BO$2,H6<=BP4),H6-G6,IF(AND(G6=BO$2,G6>=BP$2),G6+BP$2,0))))*24 -> 0 | BR6: =IF(AND(J6>=BR$2,K6>=BS$2,J6<BS$2),BS$2-J6,IF(AND(J6<=BR$2,K6<=BS$2,K6>=BR$2),K6-BR$2,IF(AND(J6>=BR$2,K6<=BS4),K6-J6,IF(AND(J6=BR$2,J6>=BS$2),J6+BS$2,0))))*24 -> 0 | BU6: =IF(AND(M6>=BU$2,N6>=BV$2,M6<BV$2),BV$2-M6,IF(AND(M6<=BU$2,N6<=BV$2,N6>=BU$2),N6-BU$2,IF(AND(M6>=BU$2,N6<=BV4),N6-M6,IF(AND(M6=BU$2,M6>=BV$2),M6+BV$2,0))))*24 -> 1 | BX6: =IF(AND(D6>=BX$2,E6>=BY$2,D6<BY$2),BY$2-D6,IF(AND(D6<=BX$2,E6<=BY$2,E6>=BX$2),E6-BX$2,IF(AND(D6>=BX$2,E6<=BY$2),E6-D6,IF(AND(D6=BX$2,D6>=BY$2),D6+BY$2,0))))*24 -> 0 | CA6: =IF(AND(G6>=CA$2,H6>=CB$2,G6<CB$2),CB$2-G6,IF(AND(G6<=CA$2,H6<=CB$2,H6>=CA$2),H6-CA$2,IF(AND(G6>=CA$2,H6<=CB$2),H6-G6,IF(AND(G6=CA$2,G6>=CB$2),G6+CB$2,0))))*24 -> 7.9936058e-15 | CD6: =IF(AND(J6>=CD$2,K6>=CE$2,J6<CE$2),CE$2-J6,IF(AND(J6<=CD$2,K6<=CE$2,K6>=CD$2),K6-CD$2,IF(AND(J6>=CD$2,K6<=CE$2),K6-J6,IF(AND(J6=CD$2,J6>=CE$2),J6+CE$2,0))))*24 -> 0 | CG6: =IF(AND(M6>=CG$2,N6>=CH$2,M6<CH$2),CH$2-M6,IF(AND(M6<=CG$2,N6<=CH$2,N6>=CG$2),N6-CG$2,IF(AND(M6>=CG$2,N6<=CH$2),N6-M6,IF(AND(M6=CG$2,M6>=CH$2),M6+CH$2,0))))*24 -> 0
A7: Mittwoch | B7: 43348 | C7: fDNS | D7: 0 | E7: 0.020833333 | G7: 0.038194444 | H7: 0.16666667 | O7: =(Formeln!E7-Formeln!D7)*24 -> 0.5 | Q7: =(Formeln!H7-Formeln!G7)*24 -> 3.0833333 | S7: =(Formeln!K7-Formeln!J7)*24 -> 0 | U7: =(Formeln!N7-Formeln!M7)*24 -> 0 | W7: =SUM(O7:U7) -> 3.5833333 | X7: =SUM(AB7:AK7) -> 3.5833333 | Y7: =SUM(AN7:BI7) -> 7.9936058e-15 | Z7: =SUM(BL7:CG7) -> 7.9936058e-15 | AB7: =IF(AND(D7>=$AB$2,E7>=$AC$2,D7<$AC$2),$AC$2-D7,IF(AND(D7<=$AB$2,E7<=$AC$2,E7>$AB$2),$AB$2+E7,IF(AND(D7>=$AB$2,E7<=$AC$2),E7-D7,IF(AND(D7=$AB$2,E7>=$AC$2),D7+$AC$2,0))))*24 -> 0.5 | AE7: =IF(AND(G7>=$AB$2,H7>=$AC$2,G7<$AC$2),$AC$2-G7,IF(AND(G7<=$AB$2,H7<=$AC$2,H7>$AB$2),$AB$2+H7,IF(AND(G7>=$AB$2,H7<=$AC$2),H7-G7,IF(AND(G7=$AB$2,H7>=$AC$2),G7+$AC$2,0))))*24 -> 3.0833333 | AH7: =IF(AND(J7>=$AB$2,K7>=$AC$2,J7<$AC$2),$AC$2-J7,IF(AND(J7<=$AB$2,K7<=$AC$2,K7>$AB$2),$AB$2+K7,IF(AND(J7>=$AB$2,K7<=$AC$2),K7-J7,IF(AND(J7=$AB$2,K7>=$AC$2),J7+$AC$2,0))))*24 -> 0 | AK7: =IF(AND(M7>=$AB$2,N7>=$AC$2,M7<$AC$2),$AC$2-M7,IF(AND(M7<=$AB$2,N7<=$AC$2,N7>$AB$2),$AB$2+N7,IF(AND(M7>=$AB$2,N7<=$AC$2),N7-M7,IF(AND(M7=$AB$2,N7>=$AC$2),M7+$AC$2,0))))*24 -> 0 | AN7: =IF(AND(D7>=AN$2,E7>=AO$2,D7<AO$2),AO$2-D7,IF(AND(D7<=AN$2,E7<=AO$2,E7>=AN$2),E7-AN$2,IF(AND(D7>=AN$2,E7<=AO$2),E7-D7,IF(AND(D7=AN$2,D7>=AO$2),D7+AO$2,0))))*24 -> 0 | AQ7: =IF(AND(G7>=AQ$2,H7>=AR$2,G7<AR$2),AR$2-G7,IF(AND(G7<=AQ$2,H7<=AR$2,H7>=AQ$2),H7-AQ$2,IF(AND(G7>=AQ$2,H7<=AR$2),H7-G7,IF(AND(G7=AQ$2,G7>=AR$2),G7+AR$2,0))))*24 -> 0 | AT7: =IF(AND(J7>=AT$2,K7>=AU$2,J7<AU$2),AU$2-J7,IF(AND(J7<=AT$2,K7<=AU$2,K7>=AT$2),K7-AT$2,IF(AND(J7>=AT$2,K7<=AU$2),K7-J7,IF(AND(J7=AT$2,J7>=AU$2),J7+AU$2,0))))*24 -> 0 | AW7: =IF(AND(M7>=AW$2,N7>=AX$2,M7<AX$2),AX$2-M7,IF(AND(M7<=AW$2,N7<=AX$2,N7>=AW$2),N7-AW$2,IF(AND(M7>=AW$2,N7<=AX$2),N7-M7,IF(AND(M7=AW$2,M7>=AX$2),M7+AX$2,0))))*24 -> 0 | AZ7: =IF(AND(D7>=AZ$2,E7>=BA$2,D7<BA$2),BA$2-D7,IF(AND(D7<=AZ$2,E7<=BA$2,E7>=AZ$2),E7-AZ$2,IF(AND(D7>=AZ$2,E7<=BA$2),E7-D7,IF(AND(D7=AZ$2,D7>=BA$2),D7+BA$2,0))))*24 -> 0 | BC7: =IF(AND(G7>=BC$2,H7>=BD$2,G7<BD$2),BD$2-G7,IF(AND(G7<=BC$2,H7<=BD$2,H7>=BC$2),H7-BC$2,IF(AND(G7>=BC$2,H7<=BD$2),H7-G7,IF(AND(G7=BC$2,G7>=BD$2),G7+BD$2,0))))*24 -> 7.9936058e-15 | BF7: =IF(AND(J7>=BF$2,K7>=BG$2,J7<BG$2),BG$2-J7,IF(AND(J7<=BF$2,K7<=BG$2,K7>=BF$2),K7-BF$2,IF(AND(J7>=BF$2,K7<=BG$2),K7-J7,IF(AND(J7=BF$2,J7>=BG$2),J7+BG$2,0))))*24 -> 0 | BI7: =IF(AND(M7>=BI$2,N7>=BJ$2,M7<BJ$2),BJ$2-M7,IF(AND(M7<=BI$2,N7<=BJ$2,N7>=BI$2),N7-BI$2,IF(AND(M7>=BI$2,N7<=BJ$2),N7-M7,IF(AND(M7=BI$2,M7>=BJ$2),M7+BJ$2,0))))*24 -> 0 | BL7: =IF(AND(D7>=BL$2,E7>=BM$2,D7<BM$2),BM$2-D7,IF(AND(D7<=BL$2,E7<=BM$2,E7>=BL$2),E7-BL$2,IF(AND(D7>=BL$2,E7<=BM5),E7-D7,IF(AND(D7=BL$2,D7>=BM$2),D7+BM$2,0))))*24 -> 0 | BO7: =IF(AND(G7>=BO$2,H7>=BP$2,G7<BP$2),BP$2-G7,IF(AND(G7<=BO$2,H7<=BP$2,H7>=BO$2),H7-BO$2,IF(AND(G7>=BO$2,H7<=BP5),H7-G7,IF(AND(G7=BO$2,G7>=BP$2),G7+BP$2,0))))*24 -> 0 | BR7: =IF(AND(J7>=BR$2,K7>=BS$2,J7<BS$2),BS$2-J7,IF(AND(J7<=BR$2,K7<=BS$2,K7>=BR$2),K7-BR$2,IF(AND(J7>=BR$2,K7<=BS5),K7-J7,IF(AND(J7=BR$2,J7>=BS$2),J7+BS$2,0))))*24 -> 0 | BU7: =IF(AND(M7>=BU$2,N7>=BV$2,M7<BV$2),BV$2-M7,IF(AND(M7<=BU$2,N7<=BV$2,N7>=BU$2),N7-BU$2,IF(AND(M7>=BU$2,N7<=BV5),N7-M7,IF(AND(M7=BU$2,M7>=BV$2),M7+BV$2,0))))*24 -> 0 | BX7: =IF(AND(D7>=BX$2,E7>=BY$2,D7<BY$2),BY$2-D7,IF(AND(D7<=BX$2,E7<=BY$2,E7>=BX$2),E7-BX$2,IF(AND(D7>=BX$2,E7<=BY$2),E7-D7,IF(AND(D7=BX$2,D7>=BY$2),D7+BY$2,0))))*24 -> 0 | CA7: =IF(AND(G7>=CA$2,H7>=CB$2,G7<CB$2),CB$2-G7,IF(AND(G7<=CA$2,H7<=CB$2,H7>=CA$2),H7-CA$2,IF(AND(G7>=CA$2,H7<=CB$2),H7-G7,IF(AND(G7=CA$2,G7>=CB$2),G7+CB$2,0))))*24 -> 7.9936058e-15 | CD7: =IF(AND(J7>=CD$2,K7>=CE$2,J7<CE$2),CE$2-J7,IF(AND(J7<=CD$2,K7<=CE$2,K7>=CD$2),K7-CD$2,IF(AND(J7>=CD$2,K7<=CE$2),K7-J7,IF(AND(J7=CD$2,J7>=CE$2),J7+CE$2,0))))*24 -> 0 | CG7: =IF(AND(M7>=CG$2,N7>=CH$2,M7<CH$2),CH$2-M7,IF(AND(M7<=CG$2,N7<=CH$2,N7>=CG$2),N7-CG$2,IF(AND(M7>=CG$2,N7<=CH$2),N7-M7,IF(AND(M7=CG$2,M7>=CH$2),M7+CH$2,0))))*24 -> 0
A8: Donnerstag | B8: 43349 | O8: =(Formeln!E8-Formeln!D8)*24 -> 0 | Q8: =(Formeln!H8-Formeln!G8)*24 -> 0 | S8: =(Formeln!K8-Formeln!J8)*24 -> 0 | U8: =(Formeln!N8-Formeln!M8)*24 -> 0 | W8: =SUM(O8:U8) -> 0 | X8: =SUM(AB8:AK8) -> 0 | Y8: =SUM(AN8:BI8) -> 0 | Z8: =SUM(BL8:CG8) -> 0 | AB8: =IF(AND(D8>=$AB$2,E8>=$AC$2,D8<$AC$2),$AC$2-D8,IF(AND(D8<=$AB$2,E8<=$AC$2,E8>$AB$2),$AB$2+E8,IF(AND(D8>=$AB$2,E8<=$AC$2),E8-D8,IF(AND(D8=$AB$2,E8>=$AC$2),D8+$AC$2,0))))*24 -> 0 | AE8: =IF(AND(G8>=$AB$2,H8>=$AC$2,G8<$AC$2),$AC$2-G8,IF(AND(G8<=$AB$2,H8<=$AC$2,H8>$AB$2),$AB$2+H8,IF(AND(G8>=$AB$2,H8<=$AC$2),H8-G8,IF(AND(G8=$AB$2,H8>=$AC$2),G8+$AC$2,0))))*24 -> 0 | AH8: =IF(AND(J8>=$AB$2,K8>=$AC$2,J8<$AC$2),$AC$2-J8,IF(AND(J8<=$AB$2,K8<=$AC$2,K8>$AB$2),$AB$2+K8,IF(AND(J8>=$AB$2,K8<=$AC$2),K8-J8,IF(AND(J8=$AB$2,K8>=$AC$2),J8+$AC$2,0))))*24 -> 0 | AK8: =IF(AND(M8>=$AB$2,N8>=$AC$2,M8<$AC$2),$AC$2-M8,IF(AND(M8<=$AB$2,N8<=$AC$2,N8>$AB$2),$AB$2+N8,IF(AND(M8>=$AB$2,N8<=$AC$2),N8-M8,IF(AND(M8=$AB$2,N8>=$AC$2),M8+$AC$2,0))))*24 -> 0 | AN8: =IF(AND(D8>=AN$2,E8>=AO$2,D8<AO$2),AO$2-D8,IF(AND(D8<=AN$2,E8<=AO$2,E8>=AN$2),E8-AN$2,IF(AND(D8>=AN$2,E8<=AO$2),E8-D8,IF(AND(D8=AN$2,D8>=AO$2),D8+AO$2,0))))*24 -> 0 | AQ8: =IF(AND(G8>=AQ$2,H8>=AR$2,G8<AR$2),AR$2-G8,IF(AND(G8<=AQ$2,H8<=AR$2,H8>=AQ$2),H8-AQ$2,IF(AND(G8>=AQ$2,H8<=AR$2),H8-G8,IF(AND(G8=AQ$2,G8>=AR$2),G8+AR$2,0))))*24 -> 0 | AT8: =IF(AND(J8>=AT$2,K8>=AU$2,J8<AU$2),AU$2-J8,IF(AND(J8<=AT$2,K8<=AU$2,K8>=AT$2),K8-AT$2,IF(AND(J8>=AT$2,K8<=AU$2),K8-J8,IF(AND(J8=AT$2,J8>=AU$2),J8+AU$2,0))))*24 -> 0 | AW8: =IF(AND(M8>=AW$2,N8>=AX$2,M8<AX$2),AX$2-M8,IF(AND(M8<=AW$2,N8<=AX$2,N8>=AW$2),N8-AW$2,IF(AND(M8>=AW$2,N8<=AX$2),N8-M8,IF(AND(M8=AW$2,M8>=AX$2),M8+AX$2,0))))*24 -> 0 | AZ8: =IF(AND(D8>=AZ$2,E8>=BA$2,D8<BA$2),BA$2-D8,IF(AND(D8<=AZ$2,E8<=BA$2,E8>=AZ$2),E8-AZ$2,IF(AND(D8>=AZ$2,E8<=BA$2),E8-D8,IF(AND(D8=AZ$2,D8>=BA$2),D8+BA$2,0))))*24 -> 0 | BC8: =IF(AND(G8>=BC$2,H8>=BD$2,G8<BD$2),BD$2-G8,IF(AND(G8<=BC$2,H8<=BD$2,H8>=BC$2),H8-BC$2,IF(AND(G8>=BC$2,H8<=BD$2),H8-G8,IF(AND(G8=BC$2,G8>=BD$2),G8+BD$2,0))))*24 -> 0 | BF8: =IF(AND(J8>=BF$2,K8>=BG$2,J8<BG$2),BG$2-J8,IF(AND(J8<=BF$2,K8<=BG$2,K8>=BF$2),K8-BF$2,IF(AND(J8>=BF$2,K8<=BG$2),K8-J8,IF(AND(J8=BF$2,J8>=BG$2),J8+BG$2,0))))*24 -> 0 | BI8: =IF(AND(M8>=BI$2,N8>=BJ$2,M8<BJ$2),BJ$2-M8,IF(AND(M8<=BI$2,N8<=BJ$2,N8>=BI$2),N8-BI$2,IF(AND(M8>=BI$2,N8<=BJ$2),N8-M8,IF(AND(M8=BI$2,M8>=BJ$2),M8+BJ$2,0))))*24 -> 0 | BL8: =IF(AND(D8>=BL$2,E8>=BM$2,D8<BM$2),BM$2-D8,IF(AND(D8<=BL$2,E8<=BM$2,E8>=BL$2),E8-BL$2,IF(AND(D8>=BL$2,E8<=BM6),E8-D8,IF(AND(D8=BL$2,D8>=BM$2),D8+BM$2,0))))*24 -> 0 | BO8: =IF(AND(G8>=BO$2,H8>=BP$2,G8<BP$2),BP$2-G8,IF(AND(G8<=BO$2,H8<=BP$2,H8>=BO$2),H8-BO$2,IF(AND(G8>=BO$2,H8<=BP6),H8-G8,IF(AND(G8=BO$2,G8>=BP$2),G8+BP$2,0))))*24 -> 0 | BR8: =IF(AND(J8>=BR$2,K8>=BS$2,J8<BS$2),BS$2-J8,IF(AND(J8<=BR$2,K8<=BS$2,K8>=BR$2),K8-BR$2,IF(AND(J8>=BR$2,K8<=BS6),K8-J8,IF(AND(J8=BR$2,J8>=BS$2),J8+BS$2,0))))*24 -> 0 | BU8: =IF(AND(M8>=BU$2,N8>=BV$2,M8<BV$2),BV$2-M8,IF(AND(M8<=BU$2,N8<=BV$2,N8>=BU$2),N8-BU$2,IF(AND(M8>=BU$2,N8<=BV6),N8-M8,IF(AND(M8=BU$2,M8>=BV$2),M8+BV$2,0))))*24 -> 0 | BX8: =IF(AND(D8>=BX$2,E8>=BY$2,D8<BY$2),BY$2-D8,IF(AND(D8<=BX$2,E8<=BY$2,E8>=BX$2),E8-BX$2,IF(AND(D8>=BX$2,E8<=BY$2),E8-D8,IF(AND(D8=BX$2,D8>=BY$2),D8+BY$2,0))))*24 -> 0 | CA8: =IF(AND(G8>=CA$2,H8>=CB$2,G8<CB$2),CB$2-G8,IF(AND(G8<=CA$2,H8<=CB$2,H8>=CA$2),H8-CA$2,IF(AND(G8>=CA$2,H8<=CB$2),H8-G8,IF(AND(G8=CA$2,G8>=CB$2),G8+CB$2,0))))*24 -> 0 | CD8: =IF(AND(J8>=CD$2,K8>=CE$2,J8<CE$2),CE$2-J8,IF(AND(J8<=CD$2,K8<=CE$2,K8>=CD$2),K8-CD$2,IF(AND(J8>=CD$2,K8<=CE$2),K8-J8,IF(AND(J8=CD$2,J8>=CE$2),J8+CE$2,0))))*24 -> 0 | CG8: =IF(AND(M8>=CG$2,N8>=CH$2,M8<CH$2),CH$2-M8,IF(AND(M8<=CG$2,N8<=CH$2,N8>=CG$2),N8-CG$2,IF(AND(M8>=CG$2,N8<=CH$2),N8-M8,IF(AND(M8=CG$2,M8>=CH$2),M8+CH$2,0))))*24 -> 0
A9: Freitag | B9: 43350 | O9: =(Formeln!E9-Formeln!D9)*24 -> 0 | Q9: =(Formeln!H9-Formeln!G9)*24 -> 0 | S9: =(Formeln!K9-Formeln!J9)*24 -> 0 | U9: =(Formeln!N9-Formeln!M9)*24 -> 0 | W9: =SUM(O9:U9) -> 0 | X9: =SUM(AB9:AK9) -> 0 | Y9: =SUM(AN9:BI9) -> 0 | Z9: =SUM(BL9:CG9) -> 0 | AB9: =IF(AND(D9>=$AB$2,E9>=$AC$2,D9<$AC$2),$AC$2-D9,IF(AND(D9<=$AB$2,E9<=$AC$2,E9>$AB$2),$AB$2+E9,IF(AND(D9>=$AB$2,E9<=$AC$2),E9-D9,IF(AND(D9=$AB$2,E9>=$AC$2),D9+$AC$2,0))))*24 -> 0 | AE9: =IF(AND(G9>=$AB$2,H9>=$AC$2,G9<$AC$2),$AC$2-G9,IF(AND(G9<=$AB$2,H9<=$AC$2,H9>$AB$2),$AB$2+H9,IF(AND(G9>=$AB$2,H9<=$AC$2),H9-G9,IF(AND(G9=$AB$2,H9>=$AC$2),G9+$AC$2,0))))*24 -> 0 | AH9: =IF(AND(J9>=$AB$2,K9>=$AC$2,J9<$AC$2),$AC$2-J9,IF(AND(J9<=$AB$2,K9<=$AC$2,K9>$AB$2),$AB$2+K9,IF(AND(J9>=$AB$2,K9<=$AC$2),K9-J9,IF(AND(J9=$AB$2,K9>=$AC$2),J9+$AC$2,0))))*24 -> 0 | AK9: =IF(AND(M9>=$AB$2,N9>=$AC$2,M9<$AC$2),$AC$2-M9,IF(AND(M9<=$AB$2,N9<=$AC$2,N9>$AB$2),$AB$2+N9,IF(AND(M9>=$AB$2,N9<=$AC$2),N9-M9,IF(AND(M9=$AB$2,N9>=$AC$2),M9+$AC$2,0))))*24 -> 0 | AN9: =IF(AND(D9>=AN$2,E9>=AO$2,D9<AO$2),AO$2-D9,IF(AND(D9<=AN$2,E9<=AO$2,E9>=AN$2),E9-AN$2,IF(AND(D9>=AN$2,E9<=AO$2),E9-D9,IF(AND(D9=AN$2,D9>=AO$2),D9+AO$2,0))))*24 -> 0 | AQ9: =IF(AND(G9>=AQ$2,H9>=AR$2,G9<AR$2),AR$2-G9,IF(AND(G9<=AQ$2,H9<=AR$2,H9>=AQ$2),H9-AQ$2,IF(AND(G9>=AQ$2,H9<=AR$2),H9-G9,IF(AND(G9=AQ$2,G9>=AR$2),G9+AR$2,0))))*24 -> 0 | AT9: =IF(AND(J9>=AT$2,K9>=AU$2,J9<AU$2),AU$2-J9,IF(AND(J9<=AT$2,K9<=AU$2,K9>=AT$2),K9-AT$2,IF(AND(J9>=AT$2,K9<=AU$2),K9-J9,IF(AND(J9=AT$2,J9>=AU$2),J9+AU$2,0))))*24 -> 0 | AW9: =IF(AND(M9>=AW$2,N9>=AX$2,M9<AX$2),AX$2-M9,IF(AND(M9<=AW$2,N9<=AX$2,N9>=AW$2),N9-AW$2,IF(AND(M9>=AW$2,N9<=AX$2),N9-M9,IF(AND(M9=AW$2,M9>=AX$2),M9+AX$2,0))))*24 -> 0 | AZ9: =IF(AND(D9>=AZ$2,E9>=BA$2,D9<BA$2),BA$2-D9,IF(AND(D9<=AZ$2,E9<=BA$2,E9>=AZ$2),E9-AZ$2,IF(AND(D9>=AZ$2,E9<=BA$2),E9-D9,IF(AND(D9=AZ$2,D9>=BA$2),D9+BA$2,0))))*24 -> 0 | BC9: =IF(AND(G9>=BC$2,H9>=BD$2,G9<BD$2),BD$2-G9,IF(AND(G9<=BC$2,H9<=BD$2,H9>=BC$2),H9-BC$2,IF(AND(G9>=BC$2,H9<=BD$2),H9-G9,IF(AND(G9=BC$2,G9>=BD$2),G9+BD$2,0))))*24 -> 0 | BF9: =IF(AND(J9>=BF$2,K9>=BG$2,J9<BG$2),BG$2-J9,IF(AND(J9<=BF$2,K9<=BG$2,K9>=BF$2),K9-BF$2,IF(AND(J9>=BF$2,K9<=BG$2),K9-J9,IF(AND(J9=BF$2,J9>=BG$2),J9+BG$2,0))))*24 -> 0 | BI9: =IF(AND(M9>=BI$2,N9>=BJ$2,M9<BJ$2),BJ$2-M9,IF(AND(M9<=BI$2,N9<=BJ$2,N9>=BI$2),N9-BI$2,IF(AND(M9>=BI$2,N9<=BJ$2),N9-M9,IF(AND(M9=BI$2,M9>=BJ$2),M9+BJ$2,0))))*24 -> 0 | BL9: =IF(AND(D9>=BL$2,E9>=BM$2,D9<BM$2),BM$2-D9,IF(AND(D9<=BL$2,E9<=BM$2,E9>=BL$2),E9-BL$2,IF(AND(D9>=BL$2,E9<=BM7),E9-D9,IF(AND(D9=BL$2,D9>=BM$2),D9+BM$2,0))))*24 -> 0 | BO9: =IF(AND(G9>=BO$2,H9>=BP$2,G9<BP$2),BP$2-G9,IF(AND(G9<=BO$2,H9<=BP$2,H9>=BO$2),H9-BO$2,IF(AND(G9>=BO$2,H9<=BP7),H9-G9,IF(AND(G9=BO$2,G9>=BP$2),G9+BP$2,0))))*24 -> 0 | BR9: =IF(AND(J9>=BR$2,K9>=BS$2,J9<BS$2),BS$2-J9,IF(AND(J9<=BR$2,K9<=BS$2,K9>=BR$2),K9-BR$2,IF(AND(J9>=BR$2,K9<=BS7),K9-J9,IF(AND(J9=BR$2,J9>=BS$2),J9+BS$2,0))))*24 -> 0 | BU9: =IF(AND(M9>=BU$2,N9>=BV$2,M9<BV$2),BV$2-M9,IF(AND(M9<=BU$2,N9<=BV$2,N9>=BU$2),N9-BU$2,IF(AND(M9>=BU$2,N9<=BV7),N9-M9,IF(AND(M9=BU$2,M9>=BV$2),M9+BV$2,0))))*24 -> 0 | BX9: =IF(AND(D9>=BX$2,E9>=BY$2,D9<BY$2),BY$2-D9,IF(AND(D9<=BX$2,E9<=BY$2,E9>=BX$2),E9-BX$2,IF(AND(D9>=BX$2,E9<=BY$2),E9-D9,IF(AND(D9=BX$2,D9>=BY$2),D9+BY$2,0))))*24 -> 0 | CA9: =IF(AND(G9>=CA$2,H9>=CB$2,G9<CB$2),CB$2-G9,IF(AND(G9<=CA$2,H9<=CB$2,H9>=CA$2),H9-CA$2,IF(AND(G9>=CA$2,H9<=CB$2),H9-G9,IF(AND(G9=CA$2,G9>=CB$2),G9+CB$2,0))))*24 -> 0 | CD9: =IF(AND(J9>=CD$2,K9>=CE$2,J9<CE$2),CE$2-J9,IF(AND(J9<=CD$2,K9<=CE$2,K9>=CD$2),K9-CD$2,IF(AND(J9>=CD$2,K9<=CE$2),K9-J9,IF(AND(J9=CD$2,J9>=CE$2),J9+CE$2,0))))*24 -> 0 | CG9: =IF(AND(M9>=CG$2,N9>=CH$2,M9<CH$2),CH$2-M9,IF(AND(M9<=CG$2,N9<=CH$2,N9>=CG$2),N9-CG$2,IF(AND(M9>=CG$2,N9<=CH$2),N9-M9,IF(AND(M9=CG$2,M9>=CH$2),M9+CH$2,0))))*24 -> 0
A10: Samstag | B10: 43351 | O10: =(Formeln!E10-Formeln!D10)*24 -> 0 | Q10: =(Formeln!H10-Formeln!G10)*24 -> 0 | S10: =(Formeln!K10-Formeln!J10)*24 -> 0 | U10: =(Formeln!N10-Formeln!M10)*24 -> 0 | W10: =SUM(O10:U10) -> 0 | X10: =SUM(AB10:AK10) -> 0 | Y10: =SUM(AN10:BI10) -> 0 | Z10: =SUM(BL10:CG10) -> 0 | AB10: =IF(AND(D10>=$AB$2,E10>=$AC$2,D10<$AC$2),$AC$2-D10,IF(AND(D10<=$AB$2,E10<=$AC$2,E10>$AB$2),$AB$2+E10,IF(AND(D10>=$AB$2,E10<=$AC$2),E10-D10,IF(AND(D10=$AB$2,E10>=$AC$2),D10+$AC$2,0))))*24 -> 0 | AE10: =IF(AND(G10>=$AB$2,H10>=$AC$2,G10<$AC$2),$AC$2-G10,IF(AND(G10<=$AB$2,H10<=$AC$2,H10>$AB$2),$AB$2+H10,IF(AND(G10>=$AB$2,H10<=$AC$2),H10-G10,IF(AND(G10=$AB$2,H10>=$AC$2),G10+$AC$2,0))))*24 -> 0 | AH10: =IF(AND(J10>=$AB$2,K10>=$AC$2,J10<$AC$2),$AC$2-J10,IF(AND(J10<=$AB$2,K10<=$AC$2,K10>$AB$2),$AB$2+K10,IF(AND(J10>=$AB$2,K10<=$AC$2),K10-J10,IF(AND(J10=$AB$2,K10>=$AC$2),J10+$AC$2,0))))*24 -> 0 | AK10: =IF(AND(M10>=$AB$2,N10>=$AC$2,M10<$AC$2),$AC$2-M10,IF(AND(M10<=$AB$2,N10<=$AC$2,N10>$AB$2),$AB$2+N10,IF(AND(M10>=$AB$2,N10<=$AC$2),N10-M10,IF(AND(M10=$AB$2,N10>=$AC$2),M10+$AC$2,0))))*24 -> 0 | AN10: =IF(AND(D10>=AN$2,E10>=AO$2,D10<AO$2),AO$2-D10,IF(AND(D10<=AN$2,E10<=AO$2,E10>=AN$2),E10-AN$2,IF(AND(D10>=AN$2,E10<=AO$2),E10-D10,IF(AND(D10=AN$2,D10>=AO$2),D10+AO$2,0))))*24 -> 0 | AQ10: =IF(AND(G10>=AQ$2,H10>=AR$2,G10<AR$2),AR$2-G10,IF(AND(G10<=AQ$2,H10<=AR$2,H10>=AQ$2),H10-AQ$2,IF(AND(G10>=AQ$2,H10<=AR$2),H10-G10,IF(AND(G10=AQ$2,G10>=AR$2),G10+AR$2,0))))*24 -> 0 | AT10: =IF(AND(J10>=AT$2,K10>=AU$2,J10<AU$2),AU$2-J10,IF(AND(J10<=AT$2,K10<=AU$2,K10>=AT$2),K10-AT$2,IF(AND(J10>=AT$2,K10<=AU$2),K10-J10,IF(AND(J10=AT$2,J10>=AU$2),J10+AU$2,0))))*24 -> 0 | AW10: =IF(AND(M10>=AW$2,N10>=AX$2,M10<AX$2),AX$2-M10,IF(AND(M10<=AW$2,N10<=AX$2,N10>=AW$2),N10-AW$2,IF(AND(M10>=AW$2,N10<=AX$2),N10-M10,IF(AND(M10=AW$2,M10>=AX$2),M10+AX$2,0))))*24 -> 0 | AZ10: =IF(AND(D10>=AZ$2,E10>=BA$2,D10<BA$2),BA$2-D10,IF(AND(D10<=AZ$2,E10<=BA$2,E10>=AZ$2),E10-AZ$2,IF(AND(D10>=AZ$2,E10<=BA$2),E10-D10,IF(AND(D10=AZ$2,D10>=BA$2),D10+BA$2,0))))*24 -> 0 | BC10: =IF(AND(G10>=BC$2,H10>=BD$2,G10<BD$2),BD$2-G10,IF(AND(G10<=BC$2,H10<=BD$2,H10>=BC$2),H10-BC$2,IF(AND(G10>=BC$2,H10<=BD$2),H10-G10,IF(AND(G10=BC$2,G10>=BD$2),G10+BD$2,0))))*24 -> 0 | BF10: =IF(AND(J10>=BF$2,K10>=BG$2,J10<BG$2),BG$2-J10,IF(AND(J10<=BF$2,K10<=BG$2,K10>=BF$2),K10-BF$2,IF(AND(J10>=BF$2,K10<=BG$2),K10-J10,IF(AND(J10=BF$2,J10>=BG$2),J10+BG$2,0))))*24 -> 0 | BI10: =IF(AND(M10>=BI$2,N10>=BJ$2,M10<BJ$2),BJ$2-M10,IF(AND(M10<=BI$2,N10<=BJ$2,N10>=BI$2),N10-BI$2,IF(AND(M10>=BI$2,N10<=BJ$2),N10-M10,IF(AND(M10=BI$2,M10>=BJ$2),M10+BJ$2,0))))*24 -> 0 | BL10: =IF(AND(D10>=BL$2,E10>=BM$2,D10<BM$2),BM$2-D10,IF(AND(D10<=BL$2,E10<=BM$2,E10>=BL$2),E10-BL$2,IF(AND(D10>=BL$2,E10<=BM8),E10-D10,IF(AND(D10=BL$2,D10>=BM$2),D10+BM$2,0))))*24 -> 0 | BO10: =IF(AND(G10>=BO$2,H10>=BP$2,G10<BP$2),BP$2-G10,IF(AND(G10<=BO$2,H10<=BP$2,H10>=BO$2),H10-BO$2,IF(AND(G10>=BO$2,H10<=BP8),H10-G10,IF(AND(G10=BO$2,G10>=BP$2),G10+BP$2,0))))*24 -> 0 | BR10: =IF(AND(J10>=BR$2,K10>=BS$2,J10<BS$2),BS$2-J10,IF(AND(J10<=BR$2,K10<=BS$2,K10>=BR$2),K10-BR$2,IF(AND(J10>=BR$2,K10<=BS8),K10-J10,IF(AND(J10=BR$2,J10>=BS$2),J10+BS$2,0))))*24 -> 0 | BU10: =IF(AND(M10>=BU$2,N10>=BV$2,M10<BV$2),BV$2-M10,IF(AND(M10<=BU$2,N10<=BV$2,N10>=BU$2),N10-BU$2,IF(AND(M10>=BU$2,N10<=BV8),N10-M10,IF(AND(M10=BU$2,M10>=BV$2),M10+BV$2,0))))*24 -> 0 | BX10: =IF(AND(D10>=BX$2,E10>=BY$2,D10<BY$2),BY$2-D10,IF(AND(D10<=BX$2,E10<=BY$2,E10>=BX$2),E10-BX$2,IF(AND(D10>=BX$2,E10<=BY$2),E10-D10,IF(AND(D10=BX$2,D10>=BY$2),D10+BY$2,0))))*24 -> 0 | CA10: =IF(AND(G10>=CA$2,H10>=CB$2,G10<CB$2),CB$2-G10,IF(AND(G10<=CA$2,H10<=CB$2,H10>=CA$2),H10-CA$2,IF(AND(G10>=CA$2,H10<=CB$2),H10-G10,IF(AND(G10=CA$2,G10>=CB$2),G10+CB$2,0))))*24 -> 0 | CD10: =IF(AND(J10>=CD$2,K10>=CE$2,J10<CE$2),CE$2-J10,IF(AND(J10<=CD$2,K10<=CE$2,K10>=CD$2),K10-CD$2,IF(AND(J10>=CD$2,K10<=CE$2),K10-J10,IF(AND(J10=CD$2,J10>=CE$2),J10+CE$2,0))))*24 -> 0 | CG10: =IF(AND(M10>=CG$2,N10>=CH$2,M10<CH$2),CH$2-M10,IF(AND(M10<=CG$2,N10<=CH$2,N10>=CG$2),N10-CG$2,IF(AND(M10>=CG$2,N10<=CH$2),N10-M10,IF(AND(M10=CG$2,M10>=CH$2),M10+CH$2,0))))*24 -> 0
A11: Sonntag | B11: 43352 | O11: =(Formeln!E11-Formeln!D11)*24 -> 0 | Q11: =(Formeln!H11-Formeln!G11)*24 -> 0 | S11: =(Formeln!K11-Formeln!J11)*24 -> 0 | U11: =(Formeln!N11-Formeln!M11)*24 -> 0 | W11: =SUM(O11:U11) -> 0 | X11: =SUM(AB11:AK11) -> 0 | Y11: =SUM(AN11:BI11) -> 0 | Z11: =SUM(BL11:CG11) -> 0 | AB11: =IF(AND(D11>=$AB$2,E11>=$AC$2,D11<$AC$2),$AC$2-D11,IF(AND(D11<=$AB$2,E11<=$AC$2,E11>$AB$2),$AB$2+E11,IF(AND(D11>=$AB$2,E11<=$AC$2),E11-D11,IF(AND(D11=$AB$2,E11>=$AC$2),D11+$AC$2,0))))*24 -> 0 | AE11: =IF(AND(G11>=$AB$2,H11>=$AC$2,G11<$AC$2),$AC$2-G11,IF(AND(G11<=$AB$2,H11<=$AC$2,H11>$AB$2),$AB$2+H11,IF(AND(G11>=$AB$2,H11<=$AC$2),H11-G11,IF(AND(G11=$AB$2,H11>=$AC$2),G11+$AC$2,0))))*24 -> 0 | AH11: =IF(AND(J11>=$AB$2,K11>=$AC$2,J11<$AC$2),$AC$2-J11,IF(AND(J11<=$AB$2,K11<=$AC$2,K11>$AB$2),$AB$2+K11,IF(AND(J11>=$AB$2,K11<=$AC$2),K11-J11,IF(AND(J11=$AB$2,K11>=$AC$2),J11+$AC$2,0))))*24 -> 0 | AK11: =IF(AND(M11>=$AB$2,N11>=$AC$2,M11<$AC$2),$AC$2-M11,IF(AND(M11<=$AB$2,N11<=$AC$2,N11>$AB$2),$AB$2+N11,IF(AND(M11>=$AB$2,N11<=$AC$2),N11-M11,IF(AND(M11=$AB$2,N11>=$AC$2),M11+$AC$2,0))))*24 -> 0 | AN11: =IF(AND(D11>=AN$2,E11>=AO$2,D11<AO$2),AO$2-D11,IF(AND(D11<=AN$2,E11<=AO$2,E11>=AN$2),E11-AN$2,IF(AND(D11>=AN$2,E11<=AO$2),E11-D11,IF(AND(D11=AN$2,D11>=AO$2),D11+AO$2,0))))*24 -> 0 | AQ11: =IF(AND(G11>=AQ$2,H11>=AR$2,G11<AR$2),AR$2-G11,IF(AND(G11<=AQ$2,H11<=AR$2,H11>=AQ$2),H11-AQ$2,IF(AND(G11>=AQ$2,H11<=AR$2),H11-G11,IF(AND(G11=AQ$2,G11>=AR$2),G11+AR$2,0))))*24 -> 0 | AT11: =IF(AND(J11>=AT$2,K11>=AU$2,J11<AU$2),AU$2-J11,IF(AND(J11<=AT$2,K11<=AU$2,K11>=AT$2),K11-AT$2,IF(AND(J11>=AT$2,K11<=AU$2),K11-J11,IF(AND(J11=AT$2,J11>=AU$2),J11+AU$2,0))))*24 -> 0 | AW11: =IF(AND(M11>=AW$2,N11>=AX$2,M11<AX$2),AX$2-M11,IF(AND(M11<=AW$2,N11<=AX$2,N11>=AW$2),N11-AW$2,IF(AND(M11>=AW$2,N11<=AX$2),N11-M11,IF(AND(M11=AW$2,M11>=AX$2),M11+AX$2,0))))*24 -> 0 | AZ11: =IF(AND(D11>=AZ$2,E11>=BA$2,D11<BA$2),BA$2-D11,IF(AND(D11<=AZ$2,E11<=BA$2,E11>=AZ$2),E11-AZ$2,IF(AND(D11>=AZ$2,E11<=BA$2),E11-D11,IF(AND(D11=AZ$2,D11>=BA$2),D11+BA$2,0))))*24 -> 0 | BC11: =IF(AND(G11>=BC$2,H11>=BD$2,G11<BD$2),BD$2-G11,IF(AND(G11<=BC$2,H11<=BD$2,H11>=BC$2),H11-BC$2,IF(AND(G11>=BC$2,H11<=BD$2),H11-G11,IF(AND(G11=BC$2,G11>=BD$2),G11+BD$2,0))))*24 -> 0 | BF11: =IF(AND(J11>=BF$2,K11>=BG$2,J11<BG$2),BG$2-J11,IF(AND(J11<=BF$2,K11<=BG$2,K11>=BF$2),K11-BF$2,IF(AND(J11>=BF$2,K11<=BG$2),K11-J11,IF(AND(J11=BF$2,J11>=BG$2),J11+BG$2,0))))*24 -> 0 | BI11: =IF(AND(M11>=BI$2,N11>=BJ$2,M11<BJ$2),BJ$2-M11,IF(AND(M11<=BI$2,N11<=BJ$2,N11>=BI$2),N11-BI$2,IF(AND(M11>=BI$2,N11<=BJ$2),N11-M11,IF(AND(M11=BI$2,M11>=BJ$2),M11+BJ$2,0))))*24 -> 0 | BL11: =IF(AND(D11>=BL$2,E11>=BM$2,D11<BM$2),BM$2-D11,IF(AND(D11<=BL$2,E11<=BM$2,E11>=BL$2),E11-BL$2,IF(AND(D11>=BL$2,E11<=BM9),E11-D11,IF(AND(D11=BL$2,D11>=BM$2),D11+BM$2,0))))*24 -> 0 | BO11: =IF(AND(G11>=BO$2,H11>=BP$2,G11<BP$2),BP$2-G11,IF(AND(G11<=BO$2,H11<=BP$2,H11>=BO$2),H11-BO$2,IF(AND(G11>=BO$2,H11<=BP9),H11-G11,IF(AND(G11=BO$2,G11>=BP$2),G11+BP$2,0))))*24 -> 0 | BR11: =IF(AND(J11>=BR$2,K11>=BS$2,J11<BS$2),BS$2-J11,IF(AND(J11<=BR$2,K11<=BS$2,K11>=BR$2),K11-BR$2,IF(AND(J11>=BR$2,K11<=BS9),K11-J11,IF(AND(J11=BR$2,J11>=BS$2),J11+BS$2,0))))*24 -> 0 | BU11: =IF(AND(M11>=BU$2,N11>=BV$2,M11<BV$2),BV$2-M11,IF(AND(M11<=BU$2,N11<=BV$2,N11>=BU$2),N11-BU$2,IF(AND(M11>=BU$2,N11<=BV9),N11-M11,IF(AND(M11=BU$2,M11>=BV$2),M11+BV$2,0))))*24 -> 0 | BX11: =IF(AND(D11>=BX$2,E11>=BY$2,D11<BY$2),BY$2-D11,IF(AND(D11<=BX$2,E11<=BY$2,E11>=BX$2),E11-BX$2,IF(AND(D11>=BX$2,E11<=BY$2),E11-D11,IF(AND(D11=BX$2,D11>=BY$2),D11+BY$2,0))))*24 -> 0 | CA11: =IF(AND(G11>=CA$2,H11>=CB$2,G11<CB$2),CB$2-G11,IF(AND(G11<=CA$2,H11<=CB$2,H11>=CA$2),H11-CA$2,IF(AND(G11>=CA$2,H11<=CB$2),H11-G11,IF(AND(G11=CA$2,G11>=CB$2),G11+CB$2,0))))*24 -> 0 | CD11: =IF(AND(J11>=CD$2,K11>=CE$2,J11<CE$2),CE$2-J11,IF(AND(J11<=CD$2,K11<=CE$2,K11>=CD$2),K11-CD$2,IF(AND(J11>=CD$2,K11<=CE$2),K11-J11,IF(AND(J11=CD$2,J11>=CE$2),J11+CE$2,0))))*24 -> 0 | CG11: =IF(AND(M11>=CG$2,N11>=CH$2,M11<CH$2),CH$2-M11,IF(AND(M11<=CG$2,N11<=CH$2,N11>=CG$2),N11-CG$2,IF(AND(M11>=CG$2,N11<=CH$2),N11-M11,IF(AND(M11=CG$2,M11>=CH$2),M11+CH$2,0))))*24 -> 0
A12: Montag | B12: 43353 | O12: =(Formeln!E12-Formeln!D12)*24 -> 0 | Q12: =(Formeln!H12-Formeln!G12)*24 -> 0 | S12: =(Formeln!K12-Formeln!J12)*24 -> 0 | U12: =(Formeln!N12-Formeln!M12)*24 -> 0 | W12: =SUM(O12:U12) -> 0 | X12: =SUM(AB12:AK12) -> 0 | Y12: =SUM(AN12:BI12) -> 0 | Z12: =SUM(BL12:CG12) -> 0 | AB12: =IF(AND(D12>=$AB$2,E12>=$AC$2,D12<$AC$2),$AC$2-D12,IF(AND(D12<=$AB$2,E12<=$AC$2,E12>$AB$2),$AB$2+E12,IF(AND(D12>=$AB$2,E12<=$AC$2),E12-D12,IF(AND(D12=$AB$2,E12>=$AC$2),D12+$AC$2,0))))*24 -> 0 | AE12: =IF(AND(G12>=$AB$2,H12>=$AC$2,G12<$AC$2),$AC$2-G12,IF(AND(G12<=$AB$2,H12<=$AC$2,H12>$AB$2),$AB$2+H12,IF(AND(G12>=$AB$2,H12<=$AC$2),H12-G12,IF(AND(G12=$AB$2,H12>=$AC$2),G12+$AC$2,0))))*24 -> 0 | AH12: =IF(AND(J12>=$AB$2,K12>=$AC$2,J12<$AC$2),$AC$2-J12,IF(AND(J12<=$AB$2,K12<=$AC$2,K12>$AB$2),$AB$2+K12,IF(AND(J12>=$AB$2,K12<=$AC$2),K12-J12,IF(AND(J12=$AB$2,K12>=$AC$2),J12+$AC$2,0))))*24 -> 0 | AK12: =IF(AND(M12>=$AB$2,N12>=$AC$2,M12<$AC$2),$AC$2-M12,IF(AND(M12<=$AB$2,N12<=$AC$2,N12>$AB$2),$AB$2+N12,IF(AND(M12>=$AB$2,N12<=$AC$2),N12-M12,IF(AND(M12=$AB$2,N12>=$AC$2),M12+$AC$2,0))))*24 -> 0 | AN12: =IF(AND(D12>=AN$2,E12>=AO$2,D12<AO$2),AO$2-D12,IF(AND(D12<=AN$2,E12<=AO$2,E12>=AN$2),E12-AN$2,IF(AND(D12>=AN$2,E12<=AO$2),E12-D12,IF(AND(D12=AN$2,D12>=AO$2),D12+AO$2,0))))*24 -> 0 | AQ12: =IF(AND(G12>=AQ$2,H12>=AR$2,G12<AR$2),AR$2-G12,IF(AND(G12<=AQ$2,H12<=AR$2,H12>=AQ$2),H12-AQ$2,IF(AND(G12>=AQ$2,H12<=AR$2),H12-G12,IF(AND(G12=AQ$2,G12>=AR$2),G12+AR$2,0))))*24 -> 0 | AT12: =IF(AND(J12>=AT$2,K12>=AU$2,J12<AU$2),AU$2-J12,IF(AND(J12<=AT$2,K12<=AU$2,K12>=AT$2),K12-AT$2,IF(AND(J12>=AT$2,K12<=AU$2),K12-J12,IF(AND(J12=AT$2,J12>=AU$2),J12+AU$2,0))))*24 -> 0 | AW12: =IF(AND(M12>=AW$2,N12>=AX$2,M12<AX$2),AX$2-M12,IF(AND(M12<=AW$2,N12<=AX$2,N12>=AW$2),N12-AW$2,IF(AND(M12>=AW$2,N12<=AX$2),N12-M12,IF(AND(M12=AW$2,M12>=AX$2),M12+AX$2,0))))*24 -> 0 | AZ12: =IF(AND(D12>=AZ$2,E12>=BA$2,D12<BA$2),BA$2-D12,IF(AND(D12<=AZ$2,E12<=BA$2,E12>=AZ$2),E12-AZ$2,IF(AND(D12>=AZ$2,E12<=BA$2),E12-D12,IF(AND(D12=AZ$2,D12>=BA$2),D12+BA$2,0))))*24 -> 0 | BC12: =IF(AND(G12>=BC$2,H12>=BD$2,G12<BD$2),BD$2-G12,IF(AND(G12<=BC$2,H12<=BD$2,H12>=BC$2),H12-BC$2,IF(AND(G12>=BC$2,H12<=BD$2),H12-G12,IF(AND(G12=BC$2,G12>=BD$2),G12+BD$2,0))))*24 -> 0 | BF12: =IF(AND(J12>=BF$2,K12>=BG$2,J12<BG$2),BG$2-J12,IF(AND(J12<=BF$2,K12<=BG$2,K12>=BF$2),K12-BF$2,IF(AND(J12>=BF$2,K12<=BG$2),K12-J12,IF(AND(J12=BF$2,J12>=BG$2),J12+BG$2,0))))*24 -> 0 | BI12: =IF(AND(M12>=BI$2,N12>=BJ$2,M12<BJ$2),BJ$2-M12,IF(AND(M12<=BI$2,N12<=BJ$2,N12>=BI$2),N12-BI$2,IF(AND(M12>=BI$2,N12<=BJ$2),N12-M12,IF(AND(M12=BI$2,M12>=BJ$2),M12+BJ$2,0))))*24 -> 0 | BL12: =IF(AND(D12>=BL$2,E12>=BM$2,D12<BM$2),BM$2-D12,IF(AND(D12<=BL$2,E12<=BM$2,E12>=BL$2),E12-BL$2,IF(AND(D12>=BL$2,E12<=BM10),E12-D12,IF(AND(D12=BL$2,D12>=BM$2),D12+BM$2,0))))*24 -> 0 | BO12: =IF(AND(G12>=BO$2,H12>=BP$2,G12<BP$2),BP$2-G12,IF(AND(G12<=BO$2,H12<=BP$2,H12>=BO$2),H12-BO$2,IF(AND(G12>=BO$2,H12<=BP10),H12-G12,IF(AND(G12=BO$2,G12>=BP$2),G12+BP$2,0))))*24 -> 0 | BR12: =IF(AND(J12>=BR$2,K12>=BS$2,J12<BS$2),BS$2-J12,IF(AND(J12<=BR$2,K12<=BS$2,K12>=BR$2),K12-BR$2,IF(AND(J12>=BR$2,K12<=BS10),K12-J12,IF(AND(J12=BR$2,J12>=BS$2),J12+BS$2,0))))*24 -> 0 | BU12: =IF(AND(M12>=BU$2,N12>=BV$2,M12<BV$2),BV$2-M12,IF(AND(M12<=BU$2,N12<=BV$2,N12>=BU$2),N12-BU$2,IF(AND(M12>=BU$2,N12<=BV10),N12-M12,IF(AND(M12=BU$2,M12>=BV$2),M12+BV$2,0))))*24 -> 0 | BX12: =IF(AND(D12>=BX$2,E12>=BY$2,D12<BY$2),BY$2-D12,IF(AND(D12<=BX$2,E12<=BY$2,E12>=BX$2),E12-BX$2,IF(AND(D12>=BX$2,E12<=BY$2),E12-D12,IF(AND(D12=BX$2,D12>=BY$2),D12+BY$2,0))))*24 -> 0 | CA12: =IF(AND(G12>=CA$2,H12>=CB$2,G12<CB$2),CB$2-G12,IF(AND(G12<=CA$2,H12<=CB$2,H12>=CA$2),H12-CA$2,IF(AND(G12>=CA$2,H12<=CB$2),H12-G12,IF(AND(G12=CA$2,G12>=CB$2),G12+CB$2,0))))*24 -> 0 | CD12: =IF(AND(J12>=CD$2,K12>=CE$2,J12<CE$2),CE$2-J12,IF(AND(J12<=CD$2,K12<=CE$2,K12>=CD$2),K12-CD$2,IF(AND(J12>=CD$2,K12<=CE$2),K12-J12,IF(AND(J12=CD$2,J12>=CE$2),J12+CE$2,0))))*24 -> 0 | CG12: =IF(AND(M12>=CG$2,N12>=CH$2,M12<CH$2),CH$2-M12,IF(AND(M12<=CG$2,N12<=CH$2,N12>=CG$2),N12-CG$2,IF(AND(M12>=CG$2,N12<=CH$2),N12-M12,IF(AND(M12=CG$2,M12>=CH$2),M12+CH$2,0))))*24 -> 0
A13: Dienstag | B13: 43354 | J13: 0.8125 | K13: 0.90277778 | M13: 0.91666667 | N13: 1 | O13: =(Formeln!E13-Formeln!D13)*24 -> 0 | Q13: =(Formeln!H13-Formeln!G13)*24 -> 0 | S13: =(Formeln!K13-Formeln!J13)*24 -> 2.1666667 | U13: =(Formeln!N13-Formeln!M13)*24 -> 2 | W13: =SUM(O13:U13) -> 4.1666667 | X13: =SUM(AB13:AK13) -> 0 | Y13: =SUM(AN13:BI13) -> 1 | Z13: =SUM(BL13:CG13) -> 1 | AB13: =IF(AND(D13>=$AB$2,E13>=$AC$2,D13<$AC$2),$AC$2-D13,IF(AND(D13<=$AB$2,E13<=$AC$2,E13>$AB$2),$AB$2+E13,IF(AND(D13>=$AB$2,E13<=$AC$2),E13-D13,IF(AND(D13=$AB$2,E13>=$AC$2),D13+$AC$2,0))))*24 -> 0 | AE13: =IF(AND(G13>=$AB$2,H13>=$AC$2,G13<$AC$2),$AC$2-G13,IF(AND(G13<=$AB$2,H13<=$AC$2,H13>$AB$2),$AB$2+H13,IF(AND(G13>=$AB$2,H13<=$AC$2),H13-G13,IF(AND(G13=$AB$2,H13>=$AC$2),G13+$AC$2,0))))*24 -> 0 | AH13: =IF(AND(J13>=$AB$2,K13>=$AC$2,J13<$AC$2),$AC$2-J13,IF(AND(J13<=$AB$2,K13<=$AC$2,K13>$AB$2),$AB$2+K13,IF(AND(J13>=$AB$2,K13<=$AC$2),K13-J13,IF(AND(J13=$AB$2,K13>=$AC$2),J13+$AC$2,0))))*24 -> 0 | AK13: =IF(AND(M13>=$AB$2,N13>=$AC$2,M13<$AC$2),$AC$2-M13,IF(AND(M13<=$AB$2,N13<=$AC$2,N13>$AB$2),$AB$2+N13,IF(AND(M13>=$AB$2,N13<=$AC$2),N13-M13,IF(AND(M13=$AB$2,N13>=$AC$2),M13+$AC$2,0))))*24 -> 0 | AN13: =IF(AND(D13>=AN$2,E13>=AO$2,D13<AO$2),AO$2-D13,IF(AND(D13<=AN$2,E13<=AO$2,E13>=AN$2),E13-AN$2,IF(AND(D13>=AN$2,E13<=AO$2),E13-D13,IF(AND(D13=AN$2,D13>=AO$2),D13+AO$2,0))))*24 -> 0 | AQ13: =IF(AND(G13>=AQ$2,H13>=AR$2,G13<AR$2),AR$2-G13,IF(AND(G13<=AQ$2,H13<=AR$2,H13>=AQ$2),H13-AQ$2,IF(AND(G13>=AQ$2,H13<=AR$2),H13-G13,IF(AND(G13=AQ$2,G13>=AR$2),G13+AR$2,0))))*24 -> 0 | AT13: =IF(AND(J13>=AT$2,K13>=AU$2,J13<AU$2),AU$2-J13,IF(AND(J13<=AT$2,K13<=AU$2,K13>=AT$2),K13-AT$2,IF(AND(J13>=AT$2,K13<=AU$2),K13-J13,IF(AND(J13=AT$2,J13>=AU$2),J13+AU$2,0))))*24 -> 0 | AW13: =IF(AND(M13>=AW$2,N13>=AX$2,M13<AX$2),AX$2-M13,IF(AND(M13<=AW$2,N13<=AX$2,N13>=AW$2),N13-AW$2,IF(AND(M13>=AW$2,N13<=AX$2),N13-M13,IF(AND(M13=AW$2,M13>=AX$2),M13+AX$2,0))))*24 -> 1 | AZ13: =IF(AND(D13>=AZ$2,E13>=BA$2,D13<BA$2),BA$2-D13,IF(AND(D13<=AZ$2,E13<=BA$2,E13>=AZ$2),E13-AZ$2,IF(AND(D13>=AZ$2,E13<=BA$2),E13-D13,IF(AND(D13=AZ$2,D13>=BA$2),D13+BA$2,0))))*24 -> 0 | BC13: =IF(AND(G13>=BC$2,H13>=BD$2,G13<BD$2),BD$2-G13,IF(AND(G13<=BC$2,H13<=BD$2,H13>=BC$2),H13-BC$2,IF(AND(G13>=BC$2,H13<=BD$2),H13-G13,IF(AND(G13=BC$2,G13>=BD$2),G13+BD$2,0))))*24 -> 0 | BF13: =IF(AND(J13>=BF$2,K13>=BG$2,J13<BG$2),BG$2-J13,IF(AND(J13<=BF$2,K13<=BG$2,K13>=BF$2),K13-BF$2,IF(AND(J13>=BF$2,K13<=BG$2),K13-J13,IF(AND(J13=BF$2,J13>=BG$2),J13+BG$2,0))))*24 -> 0 | BI13: =IF(AND(M13>=BI$2,N13>=BJ$2,M13<BJ$2),BJ$2-M13,IF(AND(M13<=BI$2,N13<=BJ$2,N13>=BI$2),N13-BI$2,IF(AND(M13>=BI$2,N13<=BJ$2),N13-M13,IF(AND(M13=BI$2,M13>=BJ$2),M13+BJ$2,0))))*24 -> 0 | BL13: =IF(AND(D13>=BL$2,E13>=BM$2,D13<BM$2),BM$2-D13,IF(AND(D13<=BL$2,E13<=BM$2,E13>=BL$2),E13-BL$2,IF(AND(D13>=BL$2,E13<=BM11),E13-D13,IF(AND(D13=BL$2,D13>=BM$2),D13+BM$2,0))))*24 -> 0 | BO13: =IF(AND(G13>=BO$2,H13>=BP$2,G13<BP$2),BP$2-G13,IF(AND(G13<=BO$2,H13<=BP$2,H13>=BO$2),H13-BO$2,IF(AND(G13>=BO$2,H13<=BP11),H13-G13,IF(AND(G13=BO$2,G13>=BP$2),G13+BP$2,0))))*24 -> 0 | BR13: =IF(AND(J13>=BR$2,K13>=BS$2,J13<BS$2),BS$2-J13,IF(AND(J13<=BR$2,K13<=BS$2,K13>=BR$2),K13-BR$2,IF(AND(J13>=BR$2,K13<=BS11),K13-J13,IF(AND(J13=BR$2,J13>=BS$2),J13+BS$2,0))))*24 -> 0 | BU13: =IF(AND(M13>=BU$2,N13>=BV$2,M13<BV$2),BV$2-M13,IF(AND(M13<=BU$2,N13<=BV$2,N13>=BU$2),N13-BU$2,IF(AND(M13>=BU$2,N13<=BV11),N13-M13,IF(AND(M13=BU$2,M13>=BV$2),M13+BV$2,0))))*24 -> 1 | BX13: =IF(AND(D13>=BX$2,E13>=BY$2,D13<BY$2),BY$2-D13,IF(AND(D13<=BX$2,E13<=BY$2,E13>=BX$2),E13-BX$2,IF(AND(D13>=BX$2,E13<=BY$2),E13-D13,IF(AND(D13=BX$2,D13>=BY$2),D13+BY$2,0))))*24 -> 0 | CA13: =IF(AND(G13>=CA$2,H13>=CB$2,G13<CB$2),CB$2-G13,IF(AND(G13<=CA$2,H13<=CB$2,H13>=CA$2),H13-CA$2,IF(AND(G13>=CA$2,H13<=CB$2),H13-G13,IF(AND(G13=CA$2,G13>=CB$2),G13+CB$2,0))))*24 -> 0 | CD13: =IF(AND(J13>=CD$2,K13>=CE$2,J13<CE$2),CE$2-J13,IF(AND(J13<=CD$2,K13<=CE$2,K13>=CD$2),K13-CD$2,IF(AND(J13>=CD$2,K13<=CE$2),K13-J13,IF(AND(J13=CD$2,J13>=CE$2),J13+CE$2,0))))*24 -> 0 | CG13: =IF(AND(M13>=CG$2,N13>=CH$2,M13<CH$2),CH$2-M13,IF(AND(M13<=CG$2,N13<=CH$2,N13>=CG$2),N13-CG$2,IF(AND(M13>=CG$2,N13<=CH$2),N13-M13,IF(AND(M13=CG$2,M13>=CH$2),M13+CH$2,0))))*24 -> 0
A14: Mittwoch | B14: 43355 | C14: fDNS | D14: 0 | E14: 0.020833333 | G14: 0.038194444 | H14: 0.16666667 | J14: 0.8125 | K14: 0.90277778 | M14: 0.91666667 | N14: 1 | O14: =(Formeln!E14-Formeln!D14)*24 -> 0.5 | Q14: =(Formeln!H14-Formeln!G14)*24 -> 3.0833333 | S14: =(Formeln!K14-Formeln!J14)*24 -> 2.1666667 | U14: =(Formeln!N14-Formeln!M14)*24 -> 2 | W14: =SUM(O14:U14) -> 7.75 | X14: =SUM(AB14:AK14) -> 3.5833333 | Y14: =SUM(AN14:BI14) -> 1 | Z14: =SUM(BL14:CG14) -> 1 | AB14: =IF(AND(D14>=$AB$2,E14>=$AC$2,D14<$AC$2),$AC$2-D14,IF(AND(D14<=$AB$2,E14<=$AC$2,E14>$AB$2),$AB$2+E14,IF(AND(D14>=$AB$2,E14<=$AC$2),E14-D14,IF(AND(D14=$AB$2,E14>=$AC$2),D14+$AC$2,0))))*24 -> 0.5 | AE14: =IF(AND(G14>=$AB$2,H14>=$AC$2,G14<$AC$2),$AC$2-G14,IF(AND(G14<=$AB$2,H14<=$AC$2,H14>$AB$2),$AB$2+H14,IF(AND(G14>=$AB$2,H14<=$AC$2),H14-G14,IF(AND(G14=$AB$2,H14>=$AC$2),G14+$AC$2,0))))*24 -> 3.0833333 | AH14: =IF(AND(J14>=$AB$2,K14>=$AC$2,J14<$AC$2),$AC$2-J14,IF(AND(J14<=$AB$2,K14<=$AC$2,K14>$AB$2),$AB$2+K14,IF(AND(J14>=$AB$2,K14<=$AC$2),K14-J14,IF(AND(J14=$AB$2,K14>=$AC$2),J14+$AC$2,0))))*24 -> 0 | AK14: =IF(AND(M14>=$AB$2,N14>=$AC$2,M14<$AC$2),$AC$2-M14,IF(AND(M14<=$AB$2,N14<=$AC$2,N14>$AB$2),$AB$2+N14,IF(AND(M14>=$AB$2,N14<=$AC$2),N14-M14,IF(AND(M14=$AB$2,N14>=$AC$2),M14+$AC$2,0))))*24 -> 0 | AN14: =IF(AND(D14>=AN$2,E14>=AO$2,D14<AO$2),AO$2-D14,IF(AND(D14<=AN$2,E14<=AO$2,E14>=AN$2),E14-AN$2,IF(AND(D14>=AN$2,E14<=AO$2),E14-D14,IF(AND(D14=AN$2,D14>=AO$2),D14+AO$2,0))))*24 -> 0 | AQ14: =IF(AND(G14>=AQ$2,H14>=AR$2,G14<AR$2),AR$2-G14,IF(AND(G14<=AQ$2,H14<=AR$2,H14>=AQ$2),H14-AQ$2,IF(AND(G14>=AQ$2,H14<=AR$2),H14-G14,IF(AND(G14=AQ$2,G14>=AR$2),G14+AR$2,0))))*24 -> 0 | AT14: =IF(AND(J14>=AT$2,K14>=AU$2,J14<AU$2),AU$2-J14,IF(AND(J14<=AT$2,K14<=AU$2,K14>=AT$2),K14-AT$2,IF(AND(J14>=AT$2,K14<=AU$2),K14-J14,IF(AND(J14=AT$2,J14>=AU$2),J14+AU$2,0))))*24 -> 0 | AW14: =IF(AND(M14>=AW$2,N14>=AX$2,M14<AX$2),AX$2-M14,IF(AND(M14<=AW$2,N14<=AX$2,N14>=AW$2),N14-AW$2,IF(AND(M14>=AW$2,N14<=AX$2),N14-M14,IF(AND(M14=AW$2,M14>=AX$2),M14+AX$2,0))))*24 -> 1 | AZ14: =IF(AND(D14>=AZ$2,E14>=BA$2,D14<BA$2),BA$2-D14,IF(AND(D14<=AZ$2,E14<=BA$2,E14>=AZ$2),E14-AZ$2,IF(AND(D14>=AZ$2,E14<=BA$2),E14-D14,IF(AND(D14=AZ$2,D14>=BA$2),D14+BA$2,0))))*24 -> 0 | BC14: =IF(AND(G14>=BC$2,H14>=BD$2,G14<BD$2),BD$2-G14,IF(AND(G14<=BC$2,H14<=BD$2,H14>=BC$2),H14-BC$2,IF(AND(G14>=BC$2,H14<=BD$2),H14-G14,IF(AND(G14=BC$2,G14>=BD$2),G14+BD$2,0))))*24 -> 7.9936058e-15 | BF14: =IF(AND(J14>=BF$2,K14>=BG$2,J14<BG$2),BG$2-J14,IF(AND(J14<=BF$2,K14<=BG$2,K14>=BF$2),K14-BF$2,IF(AND(J14>=BF$2,K14<=BG$2),K14-J14,IF(AND(J14=BF$2,J14>=BG$2),J14+BG$2,0))))*24 -> 0 | BI14: =IF(AND(M14>=BI$2,N14>=BJ$2,M14<BJ$2),BJ$2-M14,IF(AND(M14<=BI$2,N14<=BJ$2,N14>=BI$2),N14-BI$2,IF(AND(M14>=BI$2,N14<=BJ$2),N14-M14,IF(AND(M14=BI$2,M14>=BJ$2),M14+BJ$2,0))))*24 -> 0 | BL14: =IF(AND(D14>=BL$2,E14>=BM$2,D14<BM$2),BM$2-D14,IF(AND(D14<=BL$2,E14<=BM$2,E14>=BL$2),E14-BL$2,IF(AND(D14>=BL$2,E14<=BM12),E14-D14,IF(AND(D14=BL$2,D14>=BM$2),D14+BM$2,0))))*24 -> 0 | BO14: =IF(AND(G14>=BO$2,H14>=BP$2,G14<BP$2),BP$2-G14,IF(AND(G14<=BO$2,H14<=BP$2,H14>=BO$2),H14-BO$2,IF(AND(G14>=BO$2,H14<=BP12),H14-G14,IF(AND(G14=BO$2,G14>=BP$2),G14+BP$2,0))))*24 -> 0 | BR14: =IF(AND(J14>=BR$2,K14>=BS$2,J14<BS$2),BS$2-J14,IF(AND(J14<=BR$2,K14<=BS$2,K14>=BR$2),K14-BR$2,IF(AND(J14>=BR$2,K14<=BS12),K14-J14,IF(AND(J14=BR$2,J14>=BS$2),J14+BS$2,0))))*24 -> 0 | BU14: =IF(AND(M14>=BU$2,N14>=BV$2,M14<BV$2),BV$2-M14,IF(AND(M14<=BU$2,N14<=BV$2,N14>=BU$2),N14-BU$2,IF(AND(M14>=BU$2,N14<=BV12),N14-M14,IF(AND(M14=BU$2,M14>=BV$2),M14+BV$2,0))))*24 -> 1 | BX14: =IF(AND(D14>=BX$2,E14>=BY$2,D14<BY$2),BY$2-D14,IF(AND(D14<=BX$2,E14<=BY$2,E14>=BX$2),E14-BX$2,IF(AND(D14>=BX$2,E14<=BY$2),E14-D14,IF(AND(D14=BX$2,D14>=BY$2),D14+BY$2,0))))*24 -> 0 | CA14: =IF(AND(G14>=CA$2,H14>=CB$2,G14<CB$2),CB$2-G14,IF(AND(G14<=CA$2,H14<=CB$2,H14>=CA$2),H14-CA$2,IF(AND(G14>=CA$2,H14<=CB$2),H14-G14,IF(AND(G14=CA$2,G14>=CB$2),G14+CB$2,0))))*24 -> 7.9936058e-15 | CD14: =IF(AND(J14>=CD$2,K14>=CE$2,J14<CE$2),CE$2-J14,IF(AND(J14<=CD$2,K14<=CE$2,K14>=CD$2),K14-CD$2,IF(AND(J14>=CD$2,K14<=CE$2),K14-J14,IF(AND(J14=CD$2,J14>=CE$2),J14+CE$2,0))))*24 -> 0 | CG14: =IF(AND(M14>=CG$2,N14>=CH$2,M14<CH$2),CH$2-M14,IF(AND(M14<=CG$2,N14<=CH$2,N14>=CG$2),N14-CG$2,IF(AND(M14>=CG$2,N14<=CH$2),N14-M14,IF(AND(M14=CG$2,M14>=CH$2),M14+CH$2,0))))*24 -> 0
