Workbook

Sheet Monat XY
A1: Monat | B1: September
A2: Jahr | B2: 2018
A4: Zeilenbeschriftungen | B4: Summe von Stunden 30% Steuerfrei | C4: Summe von Stunden 25% Steuerfrei | D4: Summe von Stunden 5% Steuerpflichtig
A5: 1 | B5: 0 | C5: 0 | D5: 0
A6: 2 | B6: 0 | C6: 0 | D6: 0
A7: 3 | B7: 0 | C7: 1 | D7: 1
A8: 4 | B8: 3.5833333 | C8: 1 | D8: 1
A9: 5 | B9: 3.5833333 | C9: 7.9936058e-15 | D9: 7.9936058e-15
A10: 6 | B10: 0 | C10: 0 | D10: 0
A11: 7 | B11: 0 | C11: 0 | D11: 0
A12: 8 | B12: 0 | C12: 0 | D12: 0
A13: 9 | B13: 0 | C13: 0 | D13: 0
A14: 10 | B14: 0 | C14: 0 | D14: 0
A15: 11 | B15: 0 | C15: 1 | D15: 1
A16: 12 | B16: 3.5833333 | C16: 1 | D16: 1
... A34: 30 | B34: 0 | C34: 0 | D34: 0
A35: Gesamtergebnis | B35: 57.333333 | C35: 16 | D35: 16

Sheet Datenbank
A1: Wochentag | B1: Tag | C1: Monat | D1: Jahr | E1: Kommt | F1: Geht | G1: Kommt 2 | H1: Geht 2 | I1: Gewertete Stunden | J1: Fehlgrund | K1: Stunden normal versteuert | L1: Stunden 30% Steuerfrei | M1: Stunden 25% Steuerfrei | N1: Stunden 5% Steuerpflichtig
A2: Samstag | B2: 1 | C2: September | D2: 2018 | I2: =Formeln!W3 -> 0 | L2: =Formeln!X3 -> 0 | M2: =Formeln!Y3 -> 0 | N2: =Formeln!Z3 -> 0
A3: Sonntag | B3: 2 | C3: September | D3: 2018 | I3: =Formeln!W4 -> 0 | L3: =Formeln!X4 -> 0 | M3: =Formeln!Y4 -> 0 | N3: =Formeln!Z4 -> 0
A4: Montag | B4: 3 | C4: September | D4: 2018 | E4: 0.8125 | I4: =Formeln!W5 -> 4.1666667 | L4: =Formeln!X5 -> 0 | M4: =Formeln!Y5 -> 1 | N4: =Formeln!Z5 -> 1
A5: Dienstag | B5: 4 | C5: September | D5: 2018 | F5: 0.16666667 | G5: 0.8125 | I5: =Formeln!W6 -> 7.75 | L5: =Formeln!X6 -> 3.5833333 | M5: =Formeln!Y6 -> 1 | N5: =Formeln!Z6 -> 1
A6: Mittwoch | B6: 5 | C6: September | D6: 2018 | F6: 0.16666667 | I6: =Formeln!W7 -> 3.5833333 | L6: =Formeln!X7 -> 3.5833333 | M6: =Formeln!Y7 -> 7.9936058e-15 | N6: =Formeln!Z7 -> 7.9936058e-15
A7: Donnerstag | B7: 6 | C7: September | D7: 2018 | I7: =Formeln!W8 -> 0 | J7: Urlaub ganzer Tag | L7: =Formeln!X8 -> 0 | M7: =Formeln!Y8 -> 0 | N7: =Formeln!Z8 -> 0
A8: Freitag | B8: 7 | C8: September | D8: 2018 | I8: =Formeln!W9 -> 0 | J8: Urlaub ganzer Tag | L8: =Formeln!X9 -> 0 | M8: =Formeln!Y9 -> 0 | N8: =Formeln!Z9 -> 0
A9: Samstag | B9: 8 | C9: September | D9: 2018 | I9: =Formeln!W10 -> 0 | J9: Urlaub ganzer Tag | L9: =Formeln!X10 -> 0 | M9: =Formeln!Y10 -> 0 | N9: =Formeln!Z10 -> 0
A10: Sonntag | B10: 9 | C10: September | D10: 2018 | I10: =Formeln!W11 -> 0 | L10: =Formeln!X11 -> 0 | M10: =Formeln!Y11 -> 0 | N10: =Formeln!Z11 -> 0
A11: Montag | B11: 10 | C11: September | D11: 2018 | I11: =Formeln!W12 -> 0 | L11: =Formeln!X12 -> 0 | M11: =Formeln!Y12 -> 0 | N11: =Formeln!Z12 -> 0
A12: Dienstag | B12: 11 | C12: September | D12: 2018 | G12: 0.8125 | I12: =Formeln!W13 -> 4.1666667 | J12: Urlaub ganzer Tag | L12: =Formeln!X13 -> 0 | M12: =Formeln!Y13 -> 1 | N12: =Formeln!Z13 -> 1
A13: Mittwoch | B13: 12 | C13: September | D13: 2018 | F13: 0.16666667 | G13: 0.8125 | I13: =Formeln!W14 -> 7.75 | L13: =Formeln!X14 -> 3.5833333 | M13: =Formeln!Y14 -> 1 | N13: =Formeln!Z14 -> 1
A14: Donnerstag | B14: 13 | C14: September | D14: 2018 | F14: 0.16666667 | G14: 0.8125 | I14: =Formeln!W15 -> 7.75 | L14: =Formeln!X15 -> 3.5833333 | M14: =Formeln!Y15 -> 1 | N14: =Formeln!Z15 -> 1
A15: Freitag | B15: 14 | C15: September | D15: 2018 | F15: 0.16666667 | G15: 0.8125 | I15: =Formeln!W16 -> 7.75 | L15: =Formeln!X16 -> 3.5833333 | M15: =Formeln!Y16 -> 1 | N15: =Formeln!Z16 -> 1
A16: Samstag | B16: 15 | C16: September | D16: 2018 | F16: 0.16666667 | I16: =Formeln!W17 -> 3.5833333 | L16: =Formeln!X17 -> 3.5833333 | M16: =Formeln!Y17 -> 7.9936058e-15 | N16: =Formeln!Z17 -> 7.9936058e-15
A17: Sonntag | B17: 16 | C17: September | D17: 2018 | I17: =Formeln!W18 -> 0 | L17: =Formeln!X18 -> 0 | M17: =Formeln!Y18 -> 0 | N17: =Formeln!Z18 -> 0
A18: Montag | B18: 17 | C18: September | D18: 2018 | E18: 0.8125 | I18: =Formeln!W19 -> 4.1666667 | L18: =Formeln!X19 -> 0 | M18: =Formeln!Y19 -> 1 | N18: =Formeln!Z19 -> 1
A19: Dienstag | B19: 18 | C19: September | D19: 2018 | F19: 0.16666667 | G19: 0.8125 | I19: =Formeln!W20 -> 7.75 | L19: =Formeln!X20 -> 3.5833333 | M19: =Formeln!Y20 -> 1 | N19: =Formeln!Z20 -> 1
A20: Mittwoch | B20: 19 | C20: September | D20: 2018 | F20: 0.16666667 | G20: 0.8125 | I20: =Formeln!W21 -> 7.75 | L20: =Formeln!X21 -> 3.5833333 | M20: =Formeln!Y21 -> 1 | N20: =Formeln!Z21 -> 1
A21: Donnerstag | B21: 20 | C21: September | D21: 2018 | F21: 0.16666667 | G21: 0.8125 | I21: =Formeln!W22 -> 7.75 | L21: =Formeln!X22 -> 3.5833333 | M21: =Formeln!Y22 -> 1 | N21: =Formeln!Z22 -> 1
A22: Freitag | B22: 21 | C22: September | D22: 2018 | F22: 0.16666667 | G22: 0.8125 | I22: =Formeln!W23 -> 7.75 | L22: =Formeln!X23 -> 3.5833333 | M22: =Formeln!Y23 -> 1 | N22: =Formeln!Z23 -> 1
A23: Samstag | B23: 22 | C23: September | D23: 2018 | F23: 0.16666667 | I23: =Formeln!W24 -> 3.5833333 | L23: =Formeln!X24 -> 3.5833333 | M23: =Formeln!Y24 -> 7.9936058e-15 | N23: =Formeln!Z24 -> 7.9936058e-15
A24: Sonntag | B24: 23 | C24: September | D24: 2018 | I24: =Formeln!W25 -> 0 | L24: =Formeln!X25 -> 0 | M24: =Formeln!Y25 -> 0 | N24: =Formeln!Z25 -> 0
A25: Montag | B25: 24 | C25: September | D25: 2018 | E25: 0.8125 | I25: =Formeln!W26 -> 4.1666667 | L25: =Formeln!X26 -> 0 | M25: =Formeln!Y26 -> 1 | N25: =Formeln!Z26 -> 1
A26: Dienstag | B26: 25 | C26: September | D26: 2018 | F26: 0.16666667 | G26: 0.8125 | I26: =Formeln!W27 -> 7.75 | L26: =Formeln!X27 -> 3.5833333 | M26: =Formeln!Y27 -> 1 | N26: =Formeln!Z27 -> 1
A27: Mittwoch | B27: 26 | C27: September | D27: 2018 | F27: 0.16666667 | G27: 0.8125 | I27: =Formeln!W28 -> 7.75 | L27: =Formeln!X28 -> 3.5833333 | M27: =Formeln!Y28 -> 1 | N27: =Formeln!Z28 -> 1
A28: Donnerstag | B28: 27 | C28: September | D28: 2018 | F28: 0.16666667 | G28: 0.8125 | I28: =Formeln!W29 -> 7.75 | L28: =Formeln!X29 -> 3.5833333 | M28: =Formeln!Y29 -> 1 | N28: =Formeln!Z29 -> 1
A29: Freitag | B29: 28 | C29: September | D29: 2018 | F29: 0.16666667 | G29: 0.8125 | I29: =Formeln!W30 -> 7.75 | L29: =Formeln!X30 -> 3.5833333 | M29: =Formeln!Y30 -> 1 | N29: =Formeln!Z30 -> 1
A30: Samstag | B30: 29 | C30: September | D30: 2018 | F30: 0.16666667 | I30: =Formeln!W31 -> 3.5833333 | L30: =Formeln!X31 -> 3.5833333 | M30: =Formeln!Y31 -> 7.9936058e-15 | N30: =Formeln!Z31 -> 7.9936058e-15
A31: Sonntag | B31: 30 | C31: September | D31: 2018 | I31: =Formeln!W32 -> 0 | L31: =Formeln!X32 -> 0 | M31: =Formeln!Y32 -> 0 | N31: =Formeln!Z32 -> 0
A32: Montag | B32: 1 | C32: Oktober | D32: 2018 | E32: 0.8125 | I32: =Formeln!W33 -> 4.1666667 | L32: =Formeln!X33 -> 0 | M32: =Formeln!Y33 -> 1 | N32: =Formeln!Z33 -> 1
A33: Dienstag | B33: 2 | C33: Oktober | D33: 2018 | F33: 0.16666667 | I33: =Formeln!W34 -> 3.5833333 | L33: =Formeln!X34 -> 3.5833333 | M33: =Formeln!Y34 -> 7.9936058e-15 | N33: =Formeln!Z34 -> 7.9936058e-15
A34: Mittwoch | B34: 3 | C34: Oktober | D34: 2018 | I34: =Formeln!W35 -> 0 | J34: Feiertag | L34: =Formeln!X35 -> 0 | M34: =Formeln!Y35 -> 0 | N34: =Formeln!Z35 -> 0
A35: Donnerstag | B35: 4 | C35: Oktober | D35: 2018 | E35: 0 | F35: 0.32638889 | G35: 0.8125 | I35: =Formeln!W36 -> 11.5 | L35: =Formeln!X36 -> 4 | M35: =Formeln!Y36 -> 2.5 | N35: =Formeln!Z36 -> 2.5
A36: Freitag | B36: 5 | C36: Oktober | D36: 2018 | F36: 0.16666667 | G36: 0.8125 | I36: =Formeln!W37 -> 7.75 | L36: =Formeln!X37 -> 3.5833333 | M36: =Formeln!Y37 -> 1 | N36: =Formeln!Z37 -> 1
A37: Samstag | B37: 6 | C37: Oktober | D37: 2018 | F37: 0.16666667 | I37: =Formeln!W38 -> 3.5833333 | L37: =Formeln!X38 -> 3.5833333 | M37: =Formeln!Y38 -> 7.9936058e-15 | N37: =Formeln!Z38 -> 7.9936058e-15
A38: Sonntag | B38: 7 | C38: Oktober | D38: 2018 | I38: =Formeln!W39 -> 0 | L38: =Formeln!X39 -> 0 | M38: =Formeln!Y39 -> 0 | N38: =Formeln!Z39 -> 0
A39: Montag | B39: 8 | C39: Oktober | D39: 2018 | E39: 0.8125 | I39: =Formeln!W40 -> 4.1666667 | L39: =Formeln!X40 -> 0 | M39: =Formeln!Y40 -> 1 | N39: =Formeln!Z40 -> 1
A40: Dienstag | B40: 9 | C40: Oktober | D40: 2018 | F40: 0.16666667 | G40: 0.8125 | I40: =Formeln!W41 -> 7.75 | L40: =Formeln!X41 -> 3.5833333 | M40: =Formeln!Y41 -> 1 | N40: =Formeln!Z41 -> 1
A41: Mittwoch | B41: 10 | C41: Oktober | D41: 2018 | F41: 0.16666667 | I41: =Formeln!W42 -> 3.5833333 | L41: =Formeln!X42 -> 3.5833333 | M41: =Formeln!Y42 -> 7.9936058e-15 | N41: =Formeln!Z42 -> 7.9936058e-15
A42: Donnerstag | B42: 11 | C42: Oktober | D42: 2018 | I42: =Formeln!W43 -> 0 | J42: Urlaub ganzer Tag | L42: =Formeln!X43 -> 0 | M42: =Formeln!Y43 -> 0 | N42: =Formeln!Z43 -> 0
A43: Freitag | B43: 12 | C43: Oktober | D43: 2018 | I43: =Formeln!W44 -> 0 | J43: Urlaub ganzer Tag | L43: =Formeln!X44 -> 0 | M43: =Formeln!Y44 -> 0 | N43: =Formeln!Z44 -> 0
A44: Samstag | B44: 13 | C44: Oktober | D44: 2018 | I44: =Formeln!W45 -> 0 | J44: Urlaub ganzer Tag | L44: =Formeln!X45 -> 0 | M44: =Formeln!Y45 -> 0 | N44: =Formeln!Z45 -> 0
A45: Sonntag | B45: 14 | C45: Oktober | D45: 2018 | I45: =Formeln!W46 -> 0 | L45: =Formeln!X46 -> 0 | M45: =Formeln!Y46 -> 0 | N45: =Formeln!Z46 -> 0
A46: Montag | B46: 15 | C46: Oktober | D46: 2018 | E46: 0.8125 | I46: =Formeln!W47 -> 4.1666667 | L46: =Formeln!X47 -> 0 | M46: =Formeln!Y47 -> 1 | N46: =Formeln!Z47 -> 1
A47: Dienstag | B47: 16 | C47: Oktober | D47: 2018 | F47: 0.16666667 | G47: 0.8125 | I47: =Formeln!W48 -> 7.75 | L47: =Formeln!X48 -> 3.5833333 | M47: =Formeln!Y48 -> 1 | N47: =Formeln!Z48 -> 1
A48: Mittwoch | B48: 17 | C48: Oktober | D48: 2018 | F48: 0.16666667 | G48: 0.8125 | I48: =Formeln!W49 -> 7.75 | L48: =Formeln!X49 -> 3.5833333 | M48: =Formeln!Y49 -> 1 | N48: =Formeln!Z49 -> 1
A49: Donnerstag | B49: 18 | C49: Oktober | D49: 2018 | F49: 0.16666667 | G49: 0.8125 | I49: =Formeln!W50 -> 7.75 | L49: =Formeln!X50 -> 3.5833333 | M49: =Formeln!Y50 -> 1 | N49: =Formeln!Z50 -> 1
A50: Freitag | B50: 19 | C50: Oktober | D50: 2018 | F50: 0.16666667 | G50: 0.8125 | I50: =Formeln!W51 -> 7.75 | L50: =Formeln!X51 -> 3.5833333 | M50: =Formeln!Y51 -> 1 | N50: =Formeln!Z51 -> 1
A51: Samstag | B51: 20 | C51: Oktober | D51: 2018 | F51: 0.16666667 | I51: =Formeln!W52 -> 3.5833333 | L51: =Formeln!X52 -> 3.5833333 | M51: =Formeln!Y52 -> 7.9936058e-15 | N51: =Formeln!Z52 -> 7.9936058e-15
A52: Sonntag | B52: 21 | C52: Oktober | D52: 2018 | I52: =Formeln!W53 -> 0 | L52: =Formeln!X53 -> 0 | M52: =Formeln!Y53 -> 0 | N52: =Formeln!Z53 -> 0
A53: Montag | B53: 22 | C53: Oktober | D53: 2018 | E53: 0.8125 | I53: =Formeln!W54 -> 4.1666667 | L53: =Formeln!X54 -> 0 | M53: =Formeln!Y54 -> 1 | N53: =Formeln!Z54 -> 1
A54: Dienstag | B54: 23 | C54: Oktober | D54: 2018 | F54: 0.16666667 | G54: 0.8125 | I54: =Formeln!W55 -> 7.75 | L54: =Formeln!X55 -> 3.5833333 | M54: =Formeln!Y55 -> 1 | N54: =Formeln!Z55 -> 1
A55: Mittwoch | B55: 24 | C55: Oktober | D55: 2018 | F55: 0.16666667 | G55: 0.8125 | I55: =Formeln!W56 -> 7.75 | L55: =Formeln!X56 -> 3.5833333 | M55: =Formeln!Y56 -> 1 | N55: =Formeln!Z56 -> 1
A56: Donnerstag | B56: 25 | C56: Oktober | D56: 2018 | F56: 0.16666667 | G56: 0.8125 | I56: =Formeln!W57 -> 7.75 | L56: =Formeln!X57 -> 3.5833333 | M56: =Formeln!Y57 -> 1 | N56: =Formeln!Z57 -> 1
A57: Freitag | B57: 26 | C57: Oktober | D57: 2018 | F57: 0.16666667 | G57: 0.8125 | I57: =Formeln!W58 -> 7.75 | L57: =Formeln!X58 -> 3.5833333 | M57: =Formeln!Y58 -> 1 | N57: =Formeln!Z58 -> 1
A58: Samstag | B58: 27 | C58: Oktober | D58: 2018 | F58: 0.16666667 | I58: =Formeln!W59 -> 3.5833333 | L58: =Formeln!X59 -> 3.5833333 | M58: =Formeln!Y59 -> 7.9936058e-15 | N58: =Formeln!Z59 -> 7.9936058e-15
A59: Sonntag | B59: 28 | C59: Oktober | D59: 2018 | I59: =Formeln!W60 -> 0 | L59: =Formeln!X60 -> 0 | M59: =Formeln!Y60 -> 0 | N59: =Formeln!Z60 -> 0
A60: Montag | B60: 29 | C60: Oktober | D60: 2018 | I60: =Formeln!W61 -> 0 | L60: =Formeln!X61 -> 0 | M60: =Formeln!Y61 -> 0 | N60: =Formeln!Z61 -> 0
A61: Dienstag | B61: 30 | C61: Oktober | D61: 2018 | I61: =Formeln!W62 -> 0 | J61: Urlaub ganzer Tag | L61: =Formeln!X62 -> 0 | M61: =Formeln!Y62 -> 0 | N61: =Formeln!Z62 -> 0
A62: Mittwoch | B62: 31 | C62: Oktober | D62: 2018 | I62: =Formeln!W63 -> 0 | J62: Feiertag | L62: =Formeln!X63 -> 0 | M62: =Formeln!Y63 -> 0 | N62: =Formeln!Z63 -> 0
A63: Donnerstag | B63: 1 | C63: November | D63: 2018 | E63: 0.8125 | I63: =Formeln!W64 -> 4.1666667 | J63: Urlaub ganzer Tag | L63: =Formeln!X64 -> 0 | M63: =Formeln!Y64 -> 1 | N63: =Formeln!Z64 -> 1
A64: Freitag | B64: 2 | C64: November | D64: 2018 | F64: 0.16666667 | G64: 0.8125 | I64: =Formeln!W65 -> 7.75 | L64: =Formeln!X65 -> 3.5833333 | M64: =Formeln!Y65 -> 1 | N64: =Formeln!Z65 -> 1
A65: Samstag | B65: 3 | C65: November | D65: 2018 | F65: 0.25 | I65: =Formeln!W66 -> 5.5833333 | L65: =Formeln!X66 -> 3.5833333 | M65: =Formeln!Y66 -> 2 | N65: =Formeln!Z66 -> 2
A66: Sonntag | B66: 4 | C66: November | D66: 2018 | I66: =Formeln!W67 -> 0 | L66: =Formeln!X67 -> 0 | M66: =Formeln!Y67 -> 0 | N66: =Formeln!Z67 -> 0
A67: Montag | B67: 5 | C67: November | D67: 2018 | E67: 0.8125 | I67: =Formeln!W68 -> 4.1666667 | L67: =Formeln!X68 -> 0 | M67: =Formeln!Y68 -> 1 | N67: =Formeln!Z68 -> 1
A68: Dienstag | B68: 6 | C68: November | D68: 2018 | F68: 0.16666667 | G68: 0.8125 | I68: =Formeln!W69 -> 7.75 | L68: =Formeln!X69 -> 3.5833333 | M68: =Formeln!Y69 -> 1 | N68: =Formeln!Z69 -> 1
A69: Mittwoch | B69: 7 | C69: November | D69: 2018 | F69: 0.16666667 | G69: 0.8125 | I69: =Formeln!W70 -> 7.75 | L69: =Formeln!X70 -> 3.5833333 | M69: =Formeln!Y70 -> 1 | N69: =Formeln!Z70 -> 1
A70: Donnerstag | B70: 8 | C70: November | D70: 2018 | F70: 0.16666667 | G70: 0.8125 | I70: =Formeln!W71 -> 7.75 | L70: =Formeln!X71 -> 3.5833333 | M70: =Formeln!Y71 -> 1 | N70: =Formeln!Z71 -> 1
A71: Freitag | B71: 9 | C71: November | D71: 2018 | F71: 0.16666667 | G71: 0.8125 | I71: =Formeln!W72 -> 7.75 | L71: =Formeln!X72 -> 3.5833333 | M71: =Formeln!Y72 -> 1 | N71: =Formeln!Z72 -> 1
A72: Samstag | B72: 10 | C72: November | D72: 2018 | F72: 0.16666667 | I72: =Formeln!W73 -> 3.5833333 | L72: =Formeln!X73 -> 3.5833333 | M72: =Formeln!Y73 -> 7.9936058e-15 | N72: =Formeln!Z73 -> 7.9936058e-15
A73: Sonntag | B73: 11 | C73: November | D73: 2018 | I73: =Formeln!W74 -> 0 | L73: =Formeln!X74 -> 0 | M73: =Formeln!Y74 -> 0 | N73: =Formeln!Z74 -> 0
A74: Montag | B74: 12 | C74: November | D74: 2018 | E74: 0.8125 | I74: =Formeln!W75 -> 4.1666667 | L74: =Formeln!X75 -> 0 | M74: =Formeln!Y75 -> 1 | N74: =Formeln!Z75 -> 1
A75: Dienstag | B75: 13 | C75: November | D75: 2018 | F75: 0.16666667 | G75: 0.8125 | I75: =Formeln!W76 -> 7.75 | L75: =Formeln!X76 -> 3.5833333 | M75: =Formeln!Y76 -> 1 | N75: =Formeln!Z76 -> 1
A76: Mittwoch | B76: 14 | C76: November | D76: 2018 | F76: 0.16666667 | G76: 0.8125 | I76: =Formeln!W77 -> 7.75 | L76: =Formeln!X77 -> 3.5833333 | M76: =Formeln!Y77 -> 1 | N76: =Formeln!Z77 -> 1
A77: Donnerstag | B77: 15 | C77: November | D77: 2018 | F77: 0.16666667 | G77: 0.8125 | I77: =Formeln!W78 -> 7.75 | L77: =Formeln!X78 -> 3.5833333 | M77: =Formeln!Y78 -> 1 | N77: =Formeln!Z78 -> 1
A78: Freitag | B78: 16 | C78: November | D78: 2018 | F78: 0.16666667 | G78: 0.8125 | I78: =Formeln!W79 -> 7.75 | L78: =Formeln!X79 -> 3.5833333 | M78: =Formeln!Y79 -> 1 | N78: =Formeln!Z79 -> 1
A79: Samstag | B79: 17 | C79: November | D79: 2018 | F79: 0.16666667 | I79: =Formeln!W80 -> 3.5833333 | L79: =Formeln!X80 -> 3.5833333 | M79: =Formeln!Y80 -> 7.9936058e-15 | N79: =Formeln!Z80 -> 7.9936058e-15
A80: Sonntag | B80: 18 | C80: November | D80: 2018 | I80: =Formeln!W81 -> 0 | L80: =Formeln!X81 -> 0 | M80: =Formeln!Y81 -> 0 | N80: =Formeln!Z81 -> 0
A81: Montag | B81: 19 | C81: November | D81: 2018 | E81: 0.82291667 | I81: =Formeln!W82 -> 4.1666667 | L81: =Formeln!X82 -> 0 | M81: =Formeln!Y82 -> 1 | N81: =Formeln!Z82 -> 1
A82: Dienstag | B82: 20 | C82: November | D82: 2018 | F82: 0.16666667 | I82: =Formeln!W83 -> 3.5833333 | L82: =Formeln!X83 -> 3.5833333 | M82: =Formeln!Y83 -> 7.9936058e-15 | N82: =Formeln!Z83 -> 7.9936058e-15
A83: Mittwoch | B83: 21 | C83: November | D83: 2018 | I83: =Formeln!W84 -> 0 | J83: Feiertag | L83: =Formeln!X84 -> 0 | M83: =Formeln!Y84 -> 0 | N83: =Formeln!Z84 -> 0
A84: Donnerstag | B84: 22 | C84: November | D84: 2018 | E84: 0.8125 | I84: =Formeln!W85 -> 4.1666667 | J84: Urlaub ganzer Tag | L84: =Formeln!X85 -> 0 | M84: =Formeln!Y85 -> 1 | N84: =Formeln!Z85 -> 1
A85: Freitag | B85: 23 | C85: November | D85: 2018 | F85: 0.16666667 | G85: 0.8125 | I85: =Formeln!W86 -> 7.75 | L85: =Formeln!X86 -> 3.5833333 | M85: =Formeln!Y86 -> 1 | N85: =Formeln!Z86 -> 1
A86: Samstag | B86: 24 | C86: November | D86: 2018 | F86: 0.16666667 | I86: =Formeln!W87 -> 3.5833333 | L86: =Formeln!X87 -> 3.5833333 | M86: =Formeln!Y87 -> 7.9936058e-15 | N86: =Formeln!Z87 -> 7.9936058e-15
A87: Sonntag | B87: 25 | C87: November | D87: 2018 | I87: =Formeln!W88 -> 0 | L87: =Formeln!X88 -> 0 | M87: =Formeln!Y88 -> 0 | N87: =Formeln!Z88 -> 0
A88: Montag | B88: 26 | C88: November | D88: 2018 | E88: 0.8125 | I88: =Formeln!W89 -> 4.1666667 | L88: =Formeln!X89 -> 0 | M88: =Formeln!Y89 -> 1 | N88: =Formeln!Z89 -> 1
A89: Dienstag | B89: 27 | C89: November | D89: 2018 | F89: 0.16666667 | G89: 0.8125 | I89: =Formeln!W90 -> 7.75 | L89: =Formeln!X90 -> 3.5833333 | M89: =Formeln!Y90 -> 1 | N89: =Formeln!Z90 -> 1
A90: Mittwoch | B90: 28 | C90: November | D90: 2018 | F90: 0.16666667 | G90: 0.8125 | I90: =Formeln!W91 -> 7.75 | L90: =Formeln!X91 -> 3.5833333 | M90: =Formeln!Y91 -> 1 | N90: =Formeln!Z91 -> 1
A91: Donnerstag | B91: 29 | C91: November | D91: 2018 | F91: 0.16666667 | G91: 0.8125 | I91: =Formeln!W92 -> 7.75 | L91: =Formeln!X92 -> 3.5833333 | M91: =Formeln!Y92 -> 1 | N91: =Formeln!Z92 -> 1
A92: Freitag | B92: 30 | C92: November | D92: 2018 | F92: 0.16666667 | G92: 0.8125 | I92: =Formeln!W93 -> 7.75 | L92: =Formeln!X93 -> 3.5833333 | M92: =Formeln!Y93 -> 1 | N92: =Formeln!Z93 -> 1
A93: Samstag | B93: 1 | C93: Dezember | D93: 2018 | F93: 0.16666667 | I93: =Formeln!W94 -> 3.5833333 | L93: =Formeln!X94 -> 3.5833333 | M93: =Formeln!Y94 -> 7.9936058e-15 | N93: =Formeln!Z94 -> 7.9936058e-15
A94: Sonntag | B94: 2 | C94: Dezember | D94: 2018 | I94: =Formeln!W95 -> 0 | L94: =Formeln!X95 -> 0 | M94: =Formeln!Y95 -> 0 | N94: =Formeln!Z95 -> 0
A95: Montag | B95: 3 | C95: Dezember | D95: 2018 | E95: 0.8125 | I95: =Formeln!W96 -> 4.1666667 | L95: =Formeln!X96 -> 0 | M95: =Formeln!Y96 -> 1 | N95: =Formeln!Z96 -> 1
A96: Dienstag | B96: 4 | C96: Dezember | D96: 2018 | F96: 0.16666667 | G96: 0.8125 | I96: =Formeln!W97 -> 7.75 | L96: =Formeln!X97 -> 3.5833333 | M96: =Formeln!Y97 -> 1 | N96: =Formeln!Z97 -> 1
A97: Mittwoch | B97: 5 | C97: Dezember | D97: 2018 | F97: 0.16666667 | G97: 0.8125 | I97: =Formeln!W98 -> 7.75 | L97: =Formeln!X98 -> 3.5833333 | M97: =Formeln!Y98 -> 1 | N97: =Formeln!Z98 -> 1
A98: Donnerstag | B98: 6 | C98: Dezember | D98: 2018 | F98: 0.16666667 | G98: 0.8125 | I98: =Formeln!W99 -> 7.75 | L98: =Formeln!X99 -> 3.5833333 | M98: =Formeln!Y99 -> 1 | N98: =Formeln!Z99 -> 1
A99: Freitag | B99: 7 | C99: Dezember | D99: 2018 | F99: 0.16666667 | G99: 0.8125 | I99: =Formeln!W100 -> 7.75 | L99: =Formeln!X100 -> 3.5833333 | M99: =Formeln!Y100 -> 1 | N99: =Formeln!Z100 -> 1
A100: Samstag | B100: 8 | C100: Dezember | D100: 2018 | F100: 0.16666667 | I100: =Formeln!W101 -> 3.5833333 | L100: =Formeln!X101 -> 3.5833333 | M100: =Formeln!Y101 -> 7.9936058e-15 | N100: =Formeln!Z101 -> 7.9936058e-15
...

Sheet Formeln
A1: Wochentag | B1: Datum | C1: Schicht | D1: Kommt | E1: Geht | F1: Pause | G1: Kommt2 | H1: Geht3 | I1: Freizeit | J1: Kommt | K1: Geht4 | L1: Pause5 | M1: Kommt 6 | N1: Geht7 | O1: Arbeit | P1: Pause8 | Q1: Arbeit9 | R1: Freizeit10 | S1: Arbeit11 | T1: Pause12 | U1: Arbeit13 | V1: Platzhalter 2 | W1: Summe | X1: Summe 30% Steuerfrei | Y1: Summe - 25% Steuerfrei | Z1: Summe - 5% Steuerpflichtig | AA1: Platzhalter 4 | AB1: Slot 1 - 30% Steuerfrei | AC1: Spalte14 | AD1: Spalte15 | AE1: Slot 2 - 30% Steuerfrei | AF1: Spalte16 | AG1: Spalte17 | AH1: Slot 3 - 30% Steuerfrei | AI1: Spalte18 | AJ1: Spalte19 | AK1: Slot 4 - 30% Steuerfrei | AL1: Spalte20 | AM1: Formeln Steuern 1 | AN1: Slot 1 - 25% Steuerfrei | AO1: Spalte21 | AP1: Spalte22 | AQ1: Slot 2 - 25% Steuerfrei | AR1: Spalte23 | AS1: Spalte24 | AT1: Slot 3 - 25% Steuerfrei | AU1: Spalte25 | AV1: Spalte26 | AW1: Slot 4 - 25% Steuerfrei | AX1: Spalte27 | AY1: Formeln Steuern 2 | AZ1: Slot 1 - 25% Steuerfrei28 | BA1: Spalte29 | BB1: Spalte30 | BC1: Slot 2 - 25% Steuerfrei31 | BD1: Spalte32 | BE1: Spalte33 | BF1: Slot 3 - 25% Steuerfrei34 | BG1: Spalte35 | BH1: Spalte36 | BI1: Slot 4 - 25% Steuerfrei37 | BJ1: Spalte38 | BK1: Formeln Steuern 3 | BL1: Slot 1 - 5% Steuerpflichtig | BM1: Spalte39 | BN1: Spalte40 | BO1: Slot 2 - 5% Steuerpflichtig | BP1: Spalte41 | BQ1: Spalte42 | BR1: Slot 3 - 5% Steuerpflichtig | BS1: Spalte43 | BT1: Spalte44 | BU1: Slot 4 - 5% Steuerpflichtig | BV1: Spalte45 | BW1: Formeln Steuern 4 | BX1: Slot 1 - 5% Steuerpflichtig46 | BY1: Spalte47 | BZ1: Spalte48 | CA1: Slot 2 - 5% Steuerpflichtig49 | CB1: Spalte50 | CC1: Spalte51 | CD1: Slot 3 - 5% Steuerpflichtig52 | CE1: Spalte53 | CF1: Spalte54 | CG1: Slot 4 - 5% Steuerpflichtig55 | CH1: Spalte56 | CI1: Formeln Steuern 5
O2: 00:00 bis 00:30 | P2: 00:30 bis 00:55 | Q2: 00:55 bis 04:00 | S2: 19:30 bis 21:40 | T2: 21:40 bis 22:00 | U2: 22:00 bis 24:00 | X2: 00.00 bis 04.00 | Y2: 23.00 bis 00.00 und 04.00 bis 06.00 | Z2: 23.00 bis 00.00 und 04.00 bis 06.00 | AB2: 0 | AC2: 0.16666667 | AE2: 0 | AF2: 0.16666667 | AH2: 0 | AI2: 0.16666667 | AK2: 0 | AL2: 0.16666667 | AN2: 0.95833333 | AO2: 1 | AQ2: 0.95833333 | AR2: 1 | AT2: 0.95833333 | AU2: 1 | AW2: 0.95833333 | AX2: 1 | AZ2: 0.16666667 | BA2: 0.25 | BC2: 0.16666667 | BD2: 0.25 | BF2: 0.16666667 | BG2: 0.25 | BI2: 0.16666667 | BJ2: 0.25 | BL2: 0.95833333 | BM2: 1 | BO2: 0.95833333 | BP2: 1 | BR2: 0.95833333 | BS2: 1 | BU2: 0.95833333 | BV2: 1 | BX2: 0.16666667 | BY2: 0.25 | CA2: 0.16666667 | CB2: 0.25 | CD2: 0.16666667 | CE2: 0.25 | CG2: 0.16666667 | CH2: 0.25
A3: Samstag | B3: 43344 | O3: =(Formeln!E3-Formeln!D3)*24 -> 0 | Q3: =(Formeln!H3-Formeln!G3)*24 -> 0 | S3: =(Formeln!K3-Formeln!J3)*24 -> 0 | U3: =(Formeln!N3-Formeln!M3)*24 -> 0 | W3: =SUM(O3:U3) -> 0 | X3: =SUM(AB3:AK3) -> 0 | Y3: =SUM(AN3:BI3) -> 0 | Z3: =SUM(BL3:CG3) -> 0 | AB3: =IF(AND(D3>=$AB$2,E3>=$AC$2,D3<$AC$2),$AC$2-D3,IF(AND(D3<=$AB$2,E3<=$AC$2,E3>$AB$2),$AB$2+E3,IF(AND(D3>=$AB$2,E3<=$AC$2),E3-D3,IF(AND(D3=$AB$2,E3>=$AC$2),D3+$AC$2,0))))*24 -> 0 | AE3: =IF(AND(G3>=$AB$2,H3>=$AC$2,G3<$AC$2),$AC$2-G3,IF(AND(G3<=$AB$2,H3<=$AC$2,H3>$AB$2),$AB$2+H3,IF(AND(G3>=$AB$2,H3<=$AC$2),H3-G3,IF(AND(G3=$AB$2,H3>=$AC$2),G3+$AC$2,0))))*24 -> 0 | AH3: =IF(AND(J3>=$AB$2,K3>=$AC$2,J3<$AC$2),$AC$2-J3,IF(AND(J3<=$AB$2,K3<=$AC$2,K3>$AB$2),$AB$2+K3,IF(AND(J3>=$AB$2,K3<=$AC$2),K3-J3,IF(AND(J3=$AB$2,K3>=$AC$2),J3+$AC$2,0))))*24 -> 0 | AK3: =IF(AND(M3>=$AB$2,N3>=$AC$2,M3<$AC$2),$AC$2-M3,IF(AND(M3<=$AB$2,N3<=$AC$2,N3>$AB$2),$AB$2+N3,IF(AND(M3>=$AB$2,N3<=$AC$2),N3-M3,IF(AND(M3=$AB$2,N3>=$AC$2),M3+$AC$2,0))))*24 -> 0 | AN3: =IF(AND(D3>=AN$2,E3>=AO$2,D3<AO$2),AO$2-D3,IF(AND(D3<=AN$2,E3<=AO$2,E3>=AN$2),E3-AN$2,IF(AND(D3>=AN$2,E3<=AO$2),E3-D3,IF(AND(D3=AN$2,D3>=AO$2),D3+AO$2,0))))*24 -> 0 | AQ3: =IF(AND(G3>=AQ$2,H3>=AR$2,G3<AR$2),AR$2-G3,IF(AND(G3<=AQ$2,H3<=AR$2,H3>=AQ$2),H3-AQ$2,IF(AND(G3>=AQ$2,H3<=AR$2),H3-G3,IF(AND(G3=AQ$2,G3>=AR$2),G3+AR$2,0))))*24 -> 0 | AT3: =IF(AND(J3>=AT$2,K3>=AU$2,J3<AU$2),AU$2-J3,IF(AND(J3<=AT$2,K3<=AU$2,K3>=AT$2),K3-AT$2,IF(AND(J3>=AT$2,K3<=AU$2),K3-J3,IF(AND(J3=AT$2,J3>=AU$2),J3+AU$2,0))))*24 -> 0 | AW3: =IF(AND(M3>=AW$2,N3>=AX$2,M3<AX$2),AX$2-M3,IF(AND(M3<=AW$2,N3<=AX$2,N3>=AW$2),N3-AW$2,IF(AND(M3>=AW$2,N3<=AX$2),N3-M3,IF(AND(M3=AW$2,M3>=AX$2),M3+AX$2,0))))*24 -> 0 | AZ3: =IF(AND(D3>=AZ$2,E3>=BA$2,D3<BA$2),BA$2-D3,IF(AND(D3<=AZ$2,E3<=BA$2,E3>=AZ$2),E3-AZ$2,IF(AND(D3>=AZ$2,E3<=BA$2),E3-D3,IF(AND(D3=AZ$2,D3>=BA$2),D3+BA$2,0))))*24 -> 0 | BC3: =IF(AND(G3>=BC$2,H3>=BD$2,G3<BD$2),BD$2-G3,IF(AND(G3<=BC$2,H3<=BD$2,H3>=BC$2),H3-BC$2,IF(AND(G3>=BC$2,H3<=BD$2),H3-G3,IF(AND(G3=BC$2,G3>=BD$2),G3+BD$2,0))))*24 -> 0 | BF3: =IF(AND(J3>=BF$2,K3>=BG$2,J3<BG$2),BG$2-J3,IF(AND(J3<=BF$2,K3<=BG$2,K3>=BF$2),K3-BF$2,IF(AND(J3>=BF$2,K3<=BG$2),K3-J3,IF(AND(J3=BF$2,J3>=BG$2),J3+BG$2,0))))*24 -> 0 | BI3: =IF(AND(M3>=BI$2,N3>=BJ$2,M3<BJ$2),BJ$2-M3,IF(AND(M3<=BI$2,N3<=BJ$2,N3>=BI$2),N3-BI$2,IF(AND(M3>=BI$2,N3<=BJ$2),N3-M3,IF(AND(M3=BI$2,M3>=BJ$2),M3+BJ$2,0))))*24 -> 0 | BL3: =IF(AND(D3>=BL$2,E3>=BM$2,D3<BM$2),BM$2-D3,IF(AND(D3<=BL$2,E3<=BM$2,E3>=BL$2),E3-BL$2,IF(AND(D3>=BL$2,E3<=BM1),E3-D3,IF(AND(D3=BL$2,D3>=BM$2),D3+BM$2,0))))*24 -> 0 | BO3: =IF(AND(G3>=BO$2,H3>=BP$2,G3<BP$2),BP$2-G3,IF(AND(G3<=BO$2,H3<=BP$2,H3>=BO$2),H3-BO$2,IF(AND(G3>=BO$2,H3<=BP1),H3-G3,IF(AND(G3=BO$2,G3>=BP$2),G3+BP$2,0))))*24 -> 0 | BR3: =IF(AND(J3>=BR$2,K3>=BS$2,J3<BS$2),BS$2-J3,IF(AND(J3<=BR$2,K3<=BS$2,K3>=BR$2),K3-BR$2,IF(AND(J3>=BR$2,K3<=BS1),K3-J3,IF(AND(J3=BR$2,J3>=BS$2),J3+BS$2,0))))*24 -> 0 | BU3: =IF(AND(M3>=BU$2,N3>=BV$2,M3<BV$2),BV$2-M3,IF(AND(M3<=BU$2,N3<=BV$2,N3>=BU$2),N3-BU$2,IF(AND(M3>=BU$2,N3<=BV1),N3-M3,IF(AND(M3=BU$2,M3>=BV$2),M3+BV$2,0))))*24 -> 0 | BX3: =IF(AND(D3>=BX$2,E3>=BY$2,D3<BY$2),BY$2-D3,IF(AND(D3<=BX$2,E3<=BY$2,E3>=BX$2),E3-BX$2,IF(AND(D3>=BX$2,E3<=BY$2),E3-D3,IF(AND(D3=BX$2,D3>=BY$2),D3+BY$2,0))))*24 -> 0 | CA3: =IF(AND(G3>=CA$2,H3>=CB$2,G3<CB$2),CB$2-G3,IF(AND(G3<=CA$2,H3<=CB$2,H3>=CA$2),H3-CA$2,IF(AND(G3>=CA$2,H3<=CB$2),H3-G3,IF(AND(G3=CA$2,G3>=CB$2),G3+CB$2,0))))*24 -> 0 | CD3: =IF(AND(J3>=CD$2,K3>=CE$2,J3<CE$2),CE$2-J3,IF(AND(J3<=CD$2,K3<=CE$2,K3>=CD$2),K3-CD$2,IF(AND(J3>=CD$2,K3<=CE$2),K3-J3,IF(AND(J3=CD$2,J3>=CE$2),J3+CE$2,0))))*24 -> 0 | CG3: =IF(AND(M3>=CG$2,N3>=CH$2,M3<CH$2),CH$2-M3,IF(AND(M3<=CG$2,N3<=CH$2,N3>=CG$2),N3-CG$2,IF(AND(M3>=CG$2,N3<=CH$2),N3-M3,IF(AND(M3=CG$2,M3>=CH$2),M3+CH$2,0))))*24 -> 0
A4: Sonntag | B4: 43345 | O4: =(Formeln!E4-Formeln!D4)*24 -> 0 | Q4: =(Formeln!H4-Formeln!G4)*24 -> 0 | S4: =(Formeln!K4-Formeln!J4)*24 -> 0 | U4: =(Formeln!N4-Formeln!M4)*24 -> 0 | W4: =SUM(O4:U4) -> 0 | X4: =SUM(AB4:AK4) -> 0 | Y4: =SUM(AN4:BI4) -> 0 | Z4: =SUM(BL4:CG4) -> 0 | AB4: =IF(AND(D4>=$AB$2,E4>=$AC$2,D4<$AC$2),$AC$2-D4,IF(AND(D4<=$AB$2,E4<=$AC$2,E4>$AB$2),$AB$2+E4,IF(AND(D4>=$AB$2,E4<=$AC$2),E4-D4,IF(AND(D4=$AB$2,E4>=$AC$2),D4+$AC$2,0))))*24 -> 0 | AE4: =IF(AND(G4>=$AB$2,H4>=$AC$2,G4<$AC$2),$AC$2-G4,IF(AND(G4<=$AB$2,H4<=$AC$2,H4>$AB$2),$AB$2+H4,IF(AND(G4>=$AB$2,H4<=$AC$2),H4-G4,IF(AND(G4=$AB$2,H4>=$AC$2),G4+$AC$2,0))))*24 -> 0 | AH4: =IF(AND(J4>=$AB$2,K4>=$AC$2,J4<$AC$2),$AC$2-J4,IF(AND(J4<=$AB$2,K4<=$AC$2,K4>$AB$2),$AB$2+K4,IF(AND(J4>=$AB$2,K4<=$AC$2),K4-J4,IF(AND(J4=$AB$2,K4>=$AC$2),J4+$AC$2,0))))*24 -> 0 | AK4: =IF(AND(M4>=$AB$2,N4>=$AC$2,M4<$AC$2),$AC$2-M4,IF(AND(M4<=$AB$2,N4<=$AC$2,N4>$AB$2),$AB$2+N4,IF(AND(M4>=$AB$2,N4<=$AC$2),N4-M4,IF(AND(M4=$AB$2,N4>=$AC$2),M4+$AC$2,0))))*24 -> 0 | AN4: =IF(AND(D4>=AN$2,E4>=AO$2,D4<AO$2),AO$2-D4,IF(AND(D4<=AN$2,E4<=AO$2,E4>=AN$2),E4-AN$2,IF(AND(D4>=AN$2,E4<=AO$2),E4-D4,IF(AND(D4=AN$2,D4>=AO$2),D4+AO$2,0))))*24 -> 0 | AQ4: =IF(AND(G4>=AQ$2,H4>=AR$2,G4<AR$2),AR$2-G4,IF(AND(G4<=AQ$2,H4<=AR$2,H4>=AQ$2),H4-AQ$2,IF(AND(G4>=AQ$2,H4<=AR$2),H4-G4,IF(AND(G4=AQ$2,G4>=AR$2),G4+AR$2,0))))*24 -> 0 | AT4: =IF(AND(J4>=AT$2,K4>=AU$2,J4<AU$2),AU$2-J4,IF(AND(J4<=AT$2,K4<=AU$2,K4>=AT$2),K4-AT$2,IF(AND(J4>=AT$2,K4<=AU$2),K4-J4,IF(AND(J4=AT$2,J4>=AU$2),J4+AU$2,0))))*24 -> 0 | AW4: =IF(AND(M4>=AW$2,N4>=AX$2,M4<AX$2),AX$2-M4,IF(AND(M4<=AW$2,N4<=AX$2,N4>=AW$2),N4-AW$2,IF(AND(M4>=AW$2,N4<=AX$2),N4-M4,IF(AND(M4=AW$2,M4>=AX$2),M4+AX$2,0))))*24 -> 0 | AZ4: =IF(AND(D4>=AZ$2,E4>=BA$2,D4<BA$2),BA$2-D4,IF(AND(D4<=AZ$2,E4<=BA$2,E4>=AZ$2),E4-AZ$2,IF(AND(D4>=AZ$2,E4<=BA$2),E4-D4,IF(AND(D4=AZ$2,D4>=BA$2),D4+BA$2,0))))*24 -> 0 | BC4: =IF(AND(G4>=BC$2,H4>=BD$2,G4<BD$2),BD$2-G4,IF(AND(G4<=BC$2,H4<=BD$2,H4>=BC$2),H4-BC$2,IF(AND(G4>=BC$2,H4<=BD$2),H4-G4,IF(AND(G4=BC$2,G4>=BD$2),G4+BD$2,0))))*24 -> 0 | BF4: =IF(AND(J4>=BF$2,K4>=BG$2,J4<BG$2),BG$2-J4,IF(AND(J4<=BF$2,K4<=BG$2,K4>=BF$2),K4-BF$2,IF(AND(J4>=BF$2,K4<=BG$2),K4-J4,IF(AND(J4=BF$2,J4>=BG$2),J4+BG$2,0))))*24 -> 0 | BI4: =IF(AND(M4>=BI$2,N4>=BJ$2,M4<BJ$2),BJ$2-M4,IF(AND(M4<=BI$2,N4<=BJ$2,N4>=BI$2),N4-BI$2,IF(AND(M4>=BI$2,N4<=BJ$2),N4-M4,IF(AND(M4=BI$2,M4>=BJ$2),M4+BJ$2,0))))*24 -> 0 | BL4: =IF(AND(D4>=BL$2,E4>=BM$2,D4<BM$2),BM$2-D4,IF(AND(D4<=BL$2,E4<=BM$2,E4>=BL$2),E4-BL$2,IF(AND(D4>=BL$2,E4<=BM2),E4-D4,IF(AND(D4=BL$2,D4>=BM$2),D4+BM$2,0))))*24 -> 0 | BO4: =IF(AND(G4>=BO$2,H4>=BP$2,G4<BP$2),BP$2-G4,IF(AND(G4<=BO$2,H4<=BP$2,H4>=BO$2),H4-BO$2,IF(AND(G4>=BO$2,H4<=BP2),H4-G4,IF(AND(G4=BO$2,G4>=BP$2),G4+BP$2,0))))*24 -> 0 | BR4: =IF(AND(J4>=BR$2,K4>=BS$2,J4<BS$2),BS$2-J4,IF(AND(J4<=BR$2,K4<=BS$2,K4>=BR$2),K4-BR$2,IF(AND(J4>=BR$2,K4<=BS2),K4-J4,IF(AND(J4=BR$2,J4>=BS$2),J4+BS$2,0))))*24 -> 0 | BU4: =IF(AND(M4>=BU$2,N4>=BV$2,M4<BV$2),BV$2-M4,IF(AND(M4<=BU$2,N4<=BV$2,N4>=BU$2),N4-BU$2,IF(AND(M4>=BU$2,N4<=BV2),N4-M4,IF(AND(M4=BU$2,M4>=BV$2),M4+BV$2,0))))*24 -> 0 | BX4: =IF(AND(D4>=BX$2,E4>=BY$2,D4<BY$2),BY$2-D4,IF(AND(D4<=BX$2,E4<=BY$2,E4>=BX$2),E4-BX$2,IF(AND(D4>=BX$2,E4<=BY$2),E4-D4,IF(AND(D4=BX$2,D4>=BY$2),D4+BY$2,0))))*24 -> 0 | CA4: =IF(AND(G4>=CA$2,H4>=CB$2,G4<CB$2),CB$2-G4,IF(AND(G4<=CA$2,H4<=CB$2,H4>=CA$2),H4-CA$2,IF(AND(G4>=CA$2,H4<=CB$2),H4-G4,IF(AND(G4=CA$2,G4>=CB$2),G4+CB$2,0))))*24 -> 0 | CD4: =IF(AND(J4>=CD$2,K4>=CE$2,J4<CE$2),CE$2-J4,IF(AND(J4<=CD$2,K4<=CE$2,K4>=CD$2),K4-CD$2,IF(AND(J4>=CD$2,K4<=CE$2),K4-J4,IF(AND(J4=CD$2,J4>=CE$2),J4+CE$2,0))))*24 -> 0 | CG4: =IF(AND(M4>=CG$2,N4>=CH$2,M4<CH$2),CH$2-M4,IF(AND(M4<=CG$2,N4<=CH$2,N4>=CG$2),N4-CG$2,IF(AND(M4>=CG$2,N4<=CH$2),N4-M4,IF(AND(M4=CG$2,M4>=CH$2),M4+CH$2,0))))*24 -> 0
A5: Montag | B5: 43346 | J5: 0.8125 | K5: 0.90277778 | M5: 0.91666667 | N5: 1 | O5: =(Formeln!E5-Formeln!D5)*24 -> 0 | Q5: =(Formeln!H5-Formeln!G5)*24 -> 0 | S5: =(Formeln!K5-Formeln!J5)*24 -> 2.1666667 | U5: =(Formeln!N5-Formeln!M5)*24 -> 2 | W5: =SUM(O5:U5) -> 4.1666667 | X5: =SUM(AB5:AK5) -> 0 | Y5: =SUM(AN5:BI5) -> 1 | Z5: =SUM(BL5:CG5) -> 1 | AB5: =IF(AND(D5>=$AB$2,E5>=$AC$2,D5<$AC$2),$AC$2-D5,IF(AND(D5<=$AB$2,E5<=$AC$2,E5>$AB$2),$AB$2+E5,IF(AND(D5>=$AB$2,E5<=$AC$2),E5-D5,IF(AND(D5=$AB$2,E5>=$AC$2),D5+$AC$2,0))))*24 -> 0 | AE5: =IF(AND(G5>=$AB$2,H5>=$AC$2,G5<$AC$2),$AC$2-G5,IF(AND(G5<=$AB$2,H5<=$AC$2,H5>$AB$2),$AB$2+H5,IF(AND(G5>=$AB$2,H5<=$AC$2),H5-G5,IF(AND(G5=$AB$2,H5>=$AC$2),G5+$AC$2,0))))*24 -> 0 | AH5: =IF(AND(J5>=$AB$2,K5>=$AC$2,J5<$AC$2),$AC$2-J5,IF(AND(J5<=$AB$2,K5<=$AC$2,K5>$AB$2),$AB$2+K5,IF(AND(J5>=$AB$2,K5<=$AC$2),K5-J5,IF(AND(J5=$AB$2,K5>=$AC$2),J5+$AC$2,0))))*24 -> 0 | AK5: =IF(AND(M5>=$AB$2,N5>=$AC$2,M5<$AC$2),$AC$2-M5,IF(AND(M5<=$AB$2,N5<=$AC$2,N5>$AB$2),$AB$2+N5,IF(AND(M5>=$AB$2,N5<=$AC$2),N5-M5,IF(AND(M5=$AB$2,N5>=$AC$2),M5+$AC$2,0))))*24 -> 0 | AN5: =IF(AND(D5>=AN$2,E5>=AO$2,D5<AO$2),AO$2-D5,IF(AND(D5<=AN$2,E5<=AO$2,E5>=AN$2),E5-AN$2,IF(AND(D5>=AN$2,E5<=AO$2),E5-D5,IF(AND(D5=AN$2,D5>=AO$2),D5+AO$2,0))))*24 -> 0 | AQ5: =IF(AND(G5>=AQ$2,H5>=AR$2,G5<AR$2),AR$2-G5,IF(AND(G5<=AQ$2,H5<=AR$2,H5>=AQ$2),H5-AQ$2,IF(AND(G5>=AQ$2,H5<=AR$2),H5-G5,IF(AND(G5=AQ$2,G5>=AR$2),G5+AR$2,0))))*24 -> 0 | AT5: =IF(AND(J5>=AT$2,K5>=AU$2,J5<AU$2),AU$2-J5,IF(AND(J5<=AT$2,K5<=AU$2,K5>=AT$2),K5-AT$2,IF(AND(J5>=AT$2,K5<=AU$2),K5-J5,IF(AND(J5=AT$2,J5>=AU$2),J5+AU$2,0))))*24 -> 0 | AW5: =IF(AND(M5>=AW$2,N5>=AX$2,M5<AX$2),AX$2-M5,IF(AND(M5<=AW$2,N5<=AX$2,N5>=AW$2),N5-AW$2,IF(AND(M5>=AW$2,N5<=AX$2),N5-M5,IF(AND(M5=AW$2,M5>=AX$2),M5+AX$2,0))))*24 -> 1 | AZ5: =IF(AND(D5>=AZ$2,E5>=BA$2,D5<BA$2),BA$2-D5,IF(AND(D5<=AZ$2,E5<=BA$2,E5>=AZ$2),E5-AZ$2,IF(AND(D5>=AZ$2,E5<=BA$2),E5-D5,IF(AND(D5=AZ$2,D5>=BA$2),D5+BA$2,0))))*24 -> 0 | BC5: =IF(AND(G5>=BC$2,H5>=BD$2,G5<BD$2),BD$2-G5,IF(AND(G5<=BC$2,H5<=BD$2,H5>=BC$2),H5-BC$2,IF(AND(G5>=BC$2,H5<=BD$2),H5-G5,IF(AND(G5=BC$2,G5>=BD$2),G5+BD$2,0))))*24 -> 0 | BF5: =IF(AND(J5>=BF$2,K5>=BG$2,J5<BG$2),BG$2-J5,IF(AND(J5<=BF$2,K5<=BG$2,K5>=BF$2),K5-BF$2,IF(AND(J5>=BF$2,K5<=BG$2),K5-J5,IF(AND(J5=BF$2,J5>=BG$2),J5+BG$2,0))))*24 -> 0 | BI5: =IF(AND(M5>=BI$2,N5>=BJ$2,M5<BJ$2),BJ$2-M5,IF(AND(M5<=BI$2,N5<=BJ$2,N5>=BI$2),N5-BI$2,IF(AND(M5>=BI$2,N5<=BJ$2),N5-M5,IF(AND(M5=BI$2,M5>=BJ$2),M5+BJ$2,0))))*24 -> 0 | BL5: =IF(AND(D5>=BL$2,E5>=BM$2,D5<BM$2),BM$2-D5,IF(AND(D5<=BL$2,E5<=BM$2,E5>=BL$2),E5-BL$2,IF(AND(D5>=BL$2,E5<=BM3),E5-D5,IF(AND(D5=BL$2,D5>=BM$2),D5+BM$2,0))))*24 -> 0 | BO5: =IF(AND(G5>=BO$2,H5>=BP$2,G5<BP$2),BP$2-G5,IF(AND(G5<=BO$2,H5<=BP$2,H5>=BO$2),H5-BO$2,IF(AND(G5>=BO$2,H5<=BP3),H5-G5,IF(AND(G5=BO$2,G5>=BP$2),G5+BP$2,0))))*24 -> 0 | BR5: =IF(AND(J5>=BR$2,K5>=BS$2,J5<BS$2),BS$2-J5,IF(AND(J5<=BR$2,K5<=BS$2,K5>=BR$2),K5-BR$2,IF(AND(J5>=BR$2,K5<=BS3),K5-J5,IF(AND(J5=BR$2,J5>=BS$2),J5+BS$2,0))))*24 -> 0 | BU5: =IF(AND(M5>=BU$2,N5>=BV$2,M5<BV$2),BV$2-M5,IF(AND(M5<=BU$2,N5<=BV$2,N5>=BU$2),N5-BU$2,IF(AND(M5>=BU$2,N5<=BV3),N5-M5,IF(AND(M5=BU$2,M5>=BV$2),M5+BV$2,0))))*24 -> 1 | BX5: =IF(AND(D5>=BX$2,E5>=BY$2,D5<BY$2),BY$2-D5,IF(AND(D5<=BX$2,E5<=BY$2,E5>=BX$2),E5-BX$2,IF(AND(D5>=BX$2,E5<=BY$2),E5-D5,IF(AND(D5=BX$2,D5>=BY$2),D5+BY$2,0))))*24 -> 0 | CA5: =IF(AND(G5>=CA$2,H5>=CB$2,G5<CB$2),CB$2-G5,IF(AND(G5<=CA$2,H5<=CB$2,H5>=CA$2),H5-CA$2,IF(AND(G5>=CA$2,H5<=CB$2),H5-G5,IF(AND(G5=CA$2,G5>=CB$2),G5+CB$2,0))))*24 -> 0 | CD5: =IF(AND(J5>=CD$2,K5>=CE$2,J5<CE$2),CE$2-J5,IF(AND(J5<=CD$2,K5<=CE$2,K5>=CD$2),K5-CD$2,IF(AND(J5>=CD$2,K5<=CE$2),K5-J5,IF(AND(J5=CD$2,J5>=CE$2),J5+CE$2,0))))*24 -> 0 | CG5: =IF(AND(M5>=CG$2,N5>=CH$2,M5<CH$2),CH$2-M5,IF(AND(M5<=CG$2,N5<=CH$2,N5>=CG$2),N5-CG$2,IF(AND(M5>=CG$2,N5<=CH$2),N5-M5,IF(AND(M5=CG$2,M5>=CH$2),M5+CH$2,0))))*24 -> 0
A6: Dienstag | B6: 43347 | C6: fDNS | D6: 0 | E6: 0.020833333 | G6: 0.038194444 | H6: 0.16666667 | J6: 0.8125 | K6: 0.90277778 | M6: 0.91666667 | N6: 1 | O6: =(Formeln!E6-Formeln!D6)*24 -> 0.5 | Q6: =(Formeln!H6-Formeln!G6)*24 -> 3.0833333 | S6: =(Formeln!K6-Formeln!J6)*24 -> 2.1666667 | U6: =(Formeln!N6-Formeln!M6)*24 -> 2 | W6: =SUM(O6:U6) -> 7.75 | X6: =SUM(AB6:AK6) -> 3.5833333 | Y6: =SUM(AN6:BI6) -> 1 | Z6: =SUM(BL6:CG6) -> 1 | AB6: =IF(AND(D6>=$AB$2,E6>=$AC$2,D6<$AC$2),$AC$2-D6,IF(AND(D6<=$AB$2,E6<=$AC$2,E6>$AB$2),$AB$2+E6,IF(AND(D6>=$AB$2,E6<=$AC$2),E6-D6,IF(AND(D6=$AB$2,E6>=$AC$2),D6+$AC$2,0))))*24 -> 0.5 | AE6: =IF(AND(G6>=$AB$2,H6>=$AC$2,G6<$AC$2),$AC$2-G6,IF(AND(G6<=$AB$2,H6<=$AC$2,H6>$AB$2),$AB$2+H6,IF(AND(G6>=$AB$2,H6<=$AC$2),H6-G6,IF(AND(G6=$AB$2,H6>=$AC$2),G6+$AC$2,0))))*24 -> 3.0833333 | AH6: =IF(AND(J6>=$AB$2,K6>=$AC$2,J6<$AC$2),$AC$2-J6,IF(AND(J6<=$AB$2,K6<=$AC$2,K6>$AB$2),$AB$2+K6,IF(AND(J6>=$AB$2,K6<=$AC$2),K6-J6,IF(AND(J6=$AB$2,K6>=$AC$2),J6+$AC$2,0))))*24 -> 0 | AK6: =IF(AND(M6>=$AB$2,N6>=$AC$2,M6<$AC$2),$AC$2-M6,IF(AND(M6<=$AB$2,N6<=$AC$2,N6>$AB$2),$AB$2+N6,IF(AND(M6>=$AB$2,N6<=$AC$2),N6-M6,IF(AND(M6=$AB$2,N6>=$AC$2),M6+$AC$2,0))))*24 -> 0 | AN6: =IF(AND(D6>=AN$2,E6>=AO$2,D6<AO$2),AO$2-D6,IF(AND(D6<=AN$2,E6<=AO$2,E6>=AN$2),E6-AN$2,IF(AND(D6>=AN$2,E6<=AO$2),E6-D6,IF(AND(D6=AN$2,D6>=AO$2),D6+AO$2,0))))*24 -> 0 | AQ6: =IF(AND(G6>=AQ$2,H6>=AR$2,G6<AR$2),AR$2-G6,IF(AND(G6<=AQ$2,H6<=AR$2,H6>=AQ$2),H6-AQ$2,IF(AND(G6>=AQ$2,H6<=AR$2),H6-G6,IF(AND(G6=AQ$2,G6>=AR$2),G6+AR$2,0))))*24 -> 0 | AT6: =IF(AND(J6>=AT$2,K6>=AU$2,J6<AU$2),AU$2-J6,IF(AND(J6<=AT$2,K6<=AU$2,K6>=AT$2),K6-AT$2,IF(AND(J6>=AT$2,K6<=AU$2),K6-J6,IF(AND(J6=AT$2,J6>=AU$2),J6+AU$2,0))))*24 -> 0 | AW6: =IF(AND(M6>=AW$2,N6>=AX$2,M6<AX$2),AX$2-M6,IF(AND(M6<=AW$2,N6<=AX$2,N6>=AW$2),N6-AW$2,IF(AND(M6>=AW$2,N6<=AX$2),N6-M6,IF(AND(M6=AW$2,M6>=AX$2),M6+AX$2,0))))*24 -> 1 | AZ6: =IF(AND(D6>=AZ$2,E6>=BA$2,D6<BA$2),BA$2-D6,IF(AND(D6<=AZ$2,E6<=BA$2,E6>=AZ$2),E6-AZ$2,IF(AND(D6>=AZ$2,E6<=BA$2),E6-D6,IF(AND(D6=AZ$2,D6>=BA$2),D6+BA$2,0))))*24 -> 0 | BC6: =IF(AND(G6>=BC$2,H6>=BD$2,G6<BD$2),BD$2-G6,IF(AND(G6<=BC$2,H6<=BD$2,H6>=BC$2),H6-BC$2,IF(AND(G6>=BC$2,H6<=BD$2),H6-G6,IF(AND(G6=BC$2,G6>=BD$2),G6+BD$2,0))))*24 -> 7.9936058e-15 | BF6: =IF(AND(J6>=BF$2,K6>=BG$2,J6<BG$2),BG$2-J6,IF(AND(J6<=BF$2,K6<=BG$2,K6>=BF$2),K6-BF$2,IF(AND(J6>=BF$2,K6<=BG$2),K6-J6,IF(AND(J6=BF$2,J6>=BG$2),J6+BG$2,0))))*24 -> 0 | BI6: =IF(AND(M6>=BI$2,N6>=BJ$2,M6<BJ$2),BJ$2-M6,IF(AND(M6<=BI$2,N6<=BJ$2,N6>=BI$2),N6-BI$2,IF(AND(M6>=BI$2,N6<=BJ$2),N6-M6,IF(AND(M6=BI$2,M6>=BJ$2),M6+BJ$2,0))))*24 -> 0 | BL6: =IF(AND(D6>=BL$2,E6>=BM$2,D6<BM$2),BM$2-D6,IF(AND(D6<=BL$2,E6<=BM$2,E6>=BL$2),E6-BL$2,IF(AND(D6>=BL$2,E6<=BM4),E6-D6,IF(AND(D6=BL$2,D6>=BM$2),D6+BM$2,0))))*24 -> 0 | BO6: =IF(AND(G6>=BO$2,H6>=BP$2,G6<BP$2),BP$2-G6,IF(AND(G6<=BO$2,H6<=BP$2,H6>=BO$2),H6-BO$2,IF(AND(G6>=BO$2,H6<=BP4),H6-G6,IF(AND(G6=BO$2,G6>=BP$2),G6+BP$2,0))))*24 -> 0 | BR6: =IF(AND(J6>=BR$2,K6>=BS$2,J6<BS$2),BS$2-J6,IF(AND(J6<=BR$2,K6<=BS$2,K6>=BR$2),K6-BR$2,IF(AND(J6>=BR$2,K6<=BS4),K6-J6,IF(AND(J6=BR$2,J6>=BS$2),J6+BS$2,0))))*24 -> 0 | BU6: =IF(AND(M6>=BU$2,N6>=BV$2,M6<BV$2),BV$2-M6,IF(AND(M6<=BU$2,N6<=BV$2,N6>=BU$2),N6-BU$2,IF(AND(M6>=BU$2,N6<=BV4),N6-M6,IF(AND(M6=BU$2,M6>=BV$2),M6+BV$2,0))))*24 -> 1 | BX6: =IF(AND(D6>=BX$2,E6>=BY$2,D6<BY$2),BY$2-D6,IF(AND(D6<=BX$2,E6<=BY$2,E6>=BX$2),E6-BX$2,IF(AND(D6>=BX$2,E6<=BY$2),E6-D6,IF(AND(D6=BX$2,D6>=BY$2),D6+BY$2,0))))*24 -> 0 | CA6: =IF(AND(G6>=CA$2,H6>=CB$2,G6<CB$2),CB$2-G6,IF(AND(G6<=CA$2,H6<=CB$2,H6>=CA$2),H6-CA$2,IF(AND(G6>=CA$2,H6<=CB$2),H6-G6,IF(AND(G6=CA$2,G6>=CB$2),G6+CB$2,0))))*24 -> 7.9936058e-15 | CD6: =IF(AND(J6>=CD$2,K6>=CE$2,J6<CE$2),CE$2-J6,IF(AND(J6<=CD$2,K6<=CE$2,K6>=CD$2),K6-CD$2,IF(AND(J6>=CD$2,K6<=CE$2),K6-J6,IF(AND(J6=CD$2,J6>=CE$2),J6+CE$2,0))))*24 -> 0 | CG6: =IF(AND(M6>=CG$2,N6>=CH$2,M6<CH$2),CH$2-M6,IF(AND(M6<=CG$2,N6<=CH$2,N6>=CG$2),N6-CG$2,IF(AND(M6>=CG$2,N6<=CH$2),N6-M6,IF(AND(M6=CG$2,M6>=CH$2),M6+CH$2,0))))*24 -> 0
A7: Mittwoch | B7: 43348 | C7: fDNS | D7: 0 | E7: 0.020833333 | G7: 0.038194444 | H7: 0.16666667 | O7: =(Formeln!E7-Formeln!D7)*24 -> 0.5 | Q7: =(Formeln!H7-Formeln!G7)*24 -> 3.0833333 | S7: =(Formeln!K7-Formeln!J7)*24 -> 0 | U7: =(Formeln!N7-Formeln!M7)*24 -> 0 | W7: =SUM(O7:U7) -> 3.5833333 | X7: =SUM(AB7:AK7) -> 3.5833333 | Y7: =SUM(AN7:BI7) -> 7.9936058e-15 | Z7: =SUM(BL7:CG7) -> 7.9936058e-15 | AB7: =IF(AND(D7>=$AB$2,E7>=$AC$2,D7<$AC$2),$AC$2-D7,IF(AND(D7<=$AB$2,E7<=$AC$2,E7>$AB$2),$AB$2+E7,IF(AND(D7>=$AB$2,E7<=$AC$2),E7-D7,IF(AND(D7=$AB$2,E7>=$AC$2),D7+$AC$2,0))))*24 -> 0.5 | AE7: =IF(AND(G7>=$AB$2,H7>=$AC$2,G7<$AC$2),$AC$2-G7,IF(AND(G7<=$AB$2,H7<=$AC$2,H7>$AB$2),$AB$2+H7,IF(AND(G7>=$AB$2,H7<=$AC$2),H7-G7,IF(AND(G7=$AB$2,H7>=$AC$2),G7+$AC$2,0))))*24 -> 3.0833333 | AH7: =IF(AND(J7>=$AB$2,K7>=$AC$2,J7<$AC$2),$AC$2-J7,IF(AND(J7<=$AB$2,K7<=$AC$2,K7>$AB$2),$AB$2+K7,IF(AND(J7>=$AB$2,K7<=$AC$2),K7-J7,IF(AND(J7=$AB$2,K7>=$AC$2),J7+$AC$2,0))))*24 -> 0 | AK7: =IF(AND(M7>=$AB$2,N7>=$AC$2,M7<$AC$2),$AC$2-M7,IF(AND(M7<=$AB$2,N7<=$AC$2,N7>$AB$2),$AB$2+N7,IF(AND(M7>=$AB$2,N7<=$AC$2),N7-M7,IF(AND(M7=$AB$2,N7>=$AC$2),M7+$AC$2,0))))*24 -> 0 | AN7: =IF(AND(D7>=AN$2,E7>=AO$2,D7<AO$2),AO$2-D7,IF(AND(D7<=AN$2,E7<=AO$2,E7>=AN$2),E7-AN$2,IF(AND(D7>=AN$2,E7<=AO$2),E7-D7,IF(AND(D7=AN$2,D7>=AO$2),D7+AO$2,0))))*24 -> 0 | AQ7: =IF(AND(G7>=AQ$2,H7>=AR$2,G7<AR$2),AR$2-G7,IF(AND(G7<=AQ$2,H7<=AR$2,H7>=AQ$2),H7-AQ$2,IF(AND(G7>=AQ$2,H7<=AR$2),H7-G7,IF(AND(G7=AQ$2,G7>=AR$2),G7+AR$2,0))))*24 -> 0 | AT7: =IF(AND(J7>=AT$2,K7>=AU$2,J7<AU$2),AU$2-J7,IF(AND(J7<=AT$2,K7<=AU$2,K7>=AT$2),K7-AT$2,IF(AND(J7>=AT$2,K7<=AU$2),K7-J7,IF(AND(J7=AT$2,J7>=AU$2),J7+AU$2,0))))*24 -> 0 | AW7: =IF(AND(M7>=AW$2,N7>=AX$2,M7<AX$2),AX$2-M7,IF(AND(M7<=AW$2,N7<=AX$2,N7>=AW$2),N7-AW$2,IF(AND(M7>=AW$2,N7<=AX$2),N7-M7,IF(AND(M7=AW$2,M7>=AX$2),M7+AX$2,0))))*24 -> 0 | AZ7: =IF(AND(D7>=AZ$2,E7>=BA$2,D7<BA$2),BA$2-D7,IF(AND(D7<=AZ$2,E7<=BA$2,E7>=AZ$2),E7-AZ$2,IF(AND(D7>=AZ$2,E7<=BA$2),E7-D7,IF(AND(D7=AZ$2,D7>=BA$2),D7+BA$2,0))))*24 -> 0 | BC7: =IF(AND(G7>=BC$2,H7>=BD$2,G7<BD$2),BD$2-G7,IF(AND(G7<=BC$2,H7<=BD$2,H7>=BC$2),H7-BC$2,IF(AND(G7>=BC$2,H7<=BD$2),H7-G7,IF(AND(G7=BC$2,G7>=BD$2),G7+BD$2,0))))*24 -> 7.9936058e-15 | BF7: =IF(AND(J7>=BF$2,K7>=BG$2,J7<BG$2),BG$2-J7,IF(AND(J7<=BF$2,K7<=BG$2,K7>=BF$2),K7-BF$2,IF(AND(J7>=BF$2,K7<=BG$2),K7-J7,IF(AND(J7=BF$2,J7>=BG$2),J7+BG$2,0))))*24 -> 0 | BI7: =IF(AND(M7>=BI$2,N7>=BJ$2,M7<BJ$2),BJ$2-M7,IF(AND(M7<=BI$2,N7<=BJ$2,N7>=BI$2),N7-BI$2,IF(AND(M7>=BI$2,N7<=BJ$2),N7-M7,IF(AND(M7=BI$2,M7>=BJ$2),M7+BJ$2,0))))*24 -> 0 | BL7: =IF(AND(D7>=BL$2,E7>=BM$2,D7<BM$2),BM$2-D7,IF(AND(D7<=BL$2,E7<=BM$2,E7>=BL$2),E7-BL$2,IF(AND(D7>=BL$2,E7<=BM5),E7-D7,IF(AND(D7=BL$2,D7>=BM$2),D7+BM$2,0))))*24 -> 0 | BO7: =IF(AND(G7>=BO$2,H7>=BP$2,G7<BP$2),BP$2-G7,IF(AND(G7<=BO$2,H7<=BP$2,H7>=BO$2),H7-BO$2,IF(AND(G7>=BO$2,H7<=BP5),H7-G7,IF(AND(G7=BO$2,G7>=BP$2),G7+BP$2,0))))*24 -> 0 | BR7: =IF(AND(J7>=BR$2,K7>=BS$2,J7<BS$2),BS$2-J7,IF(AND(J7<=BR$2,K7<=BS$2,K7>=BR$2),K7-BR$2,IF(AND(J7>=BR$2,K7<=BS5),K7-J7,IF(AND(J7=BR$2,J7>=BS$2),J7+BS$2,0))))*24 -> 0 | BU7: =IF(AND(M7>=BU$2,N7>=BV$2,M7<BV$2),BV$2-M7,IF(AND(M7<=BU$2,N7<=BV$2,N7>=BU$2),N7-BU$2,IF(AND(M7>=BU$2,N7<=BV5),N7-M7,IF(AND(M7=BU$2,M7>=BV$2),M7+BV$2,0))))*24 -> 0 | BX7: =IF(AND(D7>=BX$2,E7>=BY$2,D7<BY$2),BY$2-D7,IF(AND(D7<=BX$2,E7<=BY$2,E7>=BX$2),E7-BX$2,IF(AND(D7>=BX$2,E7<=BY$2),E7-D7,IF(AND(D7=BX$2,D7>=BY$2),D7+BY$2,0))))*24 -> 0 | CA7: =IF(AND(G7>=CA$2,H7>=CB$2,G7<CB$2),CB$2-G7,IF(AND(G7<=CA$2,H7<=CB$2,H7>=CA$2),H7-CA$2,IF(AND(G7>=CA$2,H7<=CB$2),H7-G7,IF(AND(G7=CA$2,G7>=CB$2),G7+CB$2,0))))*24 -> 7.9936058e-15 | CD7: =IF(AND(J7>=CD$2,K7>=CE$2,J7<CE$2),CE$2-J7,IF(AND(J7<=CD$2,K7<=CE$2,K7>=CD$2),K7-CD$2,IF(AND(J7>=CD$2,K7<=CE$2),K7-J7,IF(AND(J7=CD$2,J7>=CE$2),J7+CE$2,0))))*24 -> 0 | CG7: =IF(AND(M7>=CG$2,N7>=CH$2,M7<CH$2),CH$2-M7,IF(AND(M7<=CG$2,N7<=CH$2,N7>=CG$2),N7-CG$2,IF(AND(M7>=CG$2,N7<=CH$2),N7-M7,IF(AND(M7=CG$2,M7>=CH$2),M7+CH$2,0))))*24 -> 0
A8: Donnerstag | B8: 43349 | O8: =(Formeln!E8-Formeln!D8)*24 -> 0 | Q8: =(Formeln!H8-Formeln!G8)*24 -> 0 | S8: =(Formeln!K8-Formeln!J8)*24 -> 0 | U8: =(Formeln!N8-Formeln!M8)*24 -> 0 | W8: =SUM(O8:U8) -> 0 | X8: =SUM(AB8:AK8) -> 0 | Y8: =SUM(AN8:BI8) -> 0 | Z8: =SUM(BL8:CG8) -> 0 | AB8: =IF(AND(D8>=$AB$2,E8>=$AC$2,D8<$AC$2),$AC$2-D8,IF(AND(D8<=$AB$2,E8<=$AC$2,E8>$AB$2),$AB$2+E8,IF(AND(D8>=$AB$2,E8<=$AC$2),E8-D8,IF(AND(D8=$AB$2,E8>=$AC$2),D8+$AC$2,0))))*24 -> 0 | AE8: =IF(AND(G8>=$AB$2,H8>=$AC$2,G8<$AC$2),$AC$2-G8,IF(AND(G8<=$AB$2,H8<=$AC$2,H8>$AB$2),$AB$2+H8,IF(AND(G8>=$AB$2,H8<=$AC$2),H8-G8,IF(AND(G8=$AB$2,H8>=$AC$2),G8+$AC$2,0))))*24 -> 0 | AH8: =IF(AND(J8>=$AB$2,K8>=$AC$2,J8<$AC$2),$AC$2-J8,IF(AND(J8<=$AB$2,K8<=$AC$2,K8>$AB$2),$AB$2+K8,IF(AND(J8>=$AB$2,K8<=$AC$2),K8-J8,IF(AND(J8=$AB$2,K8>=$AC$2),J8+$AC$2,0))))*24 -> 0 | AK8: =IF(AND(M8>=$AB$2,N8>=$AC$2,M8<$AC$2),$AC$2-M8,IF(AND(M8<=$AB$2,N8<=$AC$2,N8>$AB$2),$AB$2+N8,IF(AND(M8>=$AB$2,N8<=$AC$2),N8-M8,IF(AND(M8=$AB$2,N8>=$AC$2),M8+$AC$2,0))))*24 -> 0 | AN8: =IF(AND(D8>=AN$2,E8>=AO$2,D8<AO$2),AO$2-D8,IF(AND(D8<=AN$2,E8<=AO$2,E8>=AN$2),E8-AN$2,IF(AND(D8>=AN$2,E8<=AO$2),E8-D8,IF(AND(D8=AN$2,D8>=AO$2),D8+AO$2,0))))*24 -> 0 | AQ8: =IF(AND(G8>=AQ$2,H8>=AR$2,G8<AR$2),AR$2-G8,IF(AND(G8<=AQ$2,H8<=AR$2,H8>=AQ$2),H8-AQ$2,IF(AND(G8>=AQ$2,H8<=AR$2),H8-G8,IF(AND(G8=AQ$2,G8>=AR$2),G8+AR$2,0))))*24 -> 0 | AT8: =IF(AND(J8>=AT$2,K8>=AU$2,J8<AU$2),AU$2-J8,IF(AND(J8<=AT$2,K8<=AU$2,K8>=AT$2),K8-AT$2,IF(AND(J8>=AT$2,K8<=AU$2),K8-J8,IF(AND(J8=AT$2,J8>=AU$2),J8+AU$2,0))))*24 -> 0 | AW8: =IF(AND(M8>=AW$2,N8>=AX$2,M8<AX$2),AX$2-M8,IF(AND(M8<=AW$2,N8<=AX$2,N8>=AW$2),N8-AW$2,IF(AND(M8>=AW$2,N8<=AX$2),N8-M8,IF(AND(M8=AW$2,M8>=AX$2),M8+AX$2,0))))*24 -> 0 | AZ8: =IF(AND(D8>=AZ$2,E8>=BA$2,D8<BA$2),BA$2-D8,IF(AND(D8<=AZ$2,E8<=BA$2,E8>=AZ$2),E8-AZ$2,IF(AND(D8>=AZ$2,E8<=BA$2),E8-D8,IF(AND(D8=AZ$2,D8>=BA$2),D8+BA$2,0))))*24 -> 0 | BC8: =IF(AND(G8>=BC$2,H8>=BD$2,G8<BD$2),BD$2-G8,IF(AND(G8<=BC$2,H8<=BD$2,H8>=BC$2),H8-BC$2,IF(AND(G8>=BC$2,H8<=BD$2),H8-G8,IF(AND(G8=BC$2,G8>=BD$2),G8+BD$2,0))))*24 -> 0 | BF8: =IF(AND(J8>=BF$2,K8>=BG$2,J8<BG$2),BG$2-J8,IF(AND(J8<=BF$2,K8<=BG$2,K8>=BF$2),K8-BF$2,IF(AND(J8>=BF$2,K8<=BG$2),K8-J8,IF(AND(J8=BF$2,J8>=BG$2),J8+BG$2,0))))*24 -> 0 | BI8: =IF(AND(M8>=BI$2,N8>=BJ$2,M8<BJ$2),BJ$2-M8,IF(AND(M8<=BI$2,N8<=BJ$2,N8>=BI$2),N8-BI$2,IF(AND(M8>=BI$2,N8<=BJ$2),N8-M8,IF(AND(M8=BI$2,M8>=BJ$2),M8+BJ$2,0))))*24 -> 0 | BL8: =IF(AND(D8>=BL$2,E8>=BM$2,D8<BM$2),BM$2-D8,IF(AND(D8<=BL$2,E8<=BM$2,E8>=BL$2),E8-BL$2,IF(AND(D8>=BL$2,E8<=BM6),E8-D8,IF(AND(D8=BL$2,D8>=BM$2),D8+BM$2,0))))*24 -> 0 | BO8: =IF(AND(G8>=BO$2,H8>=BP$2,G8<BP$2),BP$2-G8,IF(AND(G8<=BO$2,H8<=BP$2,H8>=BO$2),H8-BO$2,IF(AND(G8>=BO$2,H8<=BP6),H8-G8,IF(AND(G8=BO$2,G8>=BP$2),G8+BP$2,0))))*24 -> 0 | BR8: =IF(AND(J8>=BR$2,K8>=BS$2,J8<BS$2),BS$2-J8,IF(AND(J8<=BR$2,K8<=BS$2,K8>=BR$2),K8-BR$2,IF(AND(J8>=BR$2,K8<=BS6),K8-J8,IF(AND(J8=BR$2,J8>=BS$2),J8+BS$2,0))))*24 -> 0 | BU8: =IF(AND(M8>=BU$2,N8>=BV$2,M8<BV$2),BV$2-M8,IF(AND(M8<=BU$2,N8<=BV$2,N8>=BU$2),N8-BU$2,IF(AND(M8>=BU$2,N8<=BV6),N8-M8,IF(AND(M8=BU$2,M8>=BV$2),M8+BV$2,0))))*24 -> 0 | BX8: =IF(AND(D8>=BX$2,E8>=BY$2,D8<BY$2),BY$2-D8,IF(AND(D8<=BX$2,E8<=BY$2,E8>=BX$2),E8-BX$2,IF(AND(D8>=BX$2,E8<=BY$2),E8-D8,IF(AND(D8=BX$2,D8>=BY$2),D8+BY$2,0))))*24 -> 0 | CA8: =IF(AND(G8>=CA$2,H8>=CB$2,G8<CB$2),CB$2-G8,IF(AND(G8<=CA$2,H8<=CB$2,H8>=CA$2),H8-CA$2,IF(AND(G8>=CA$2,H8<=CB$2),H8-G8,IF(AND(G8=CA$2,G8>=CB$2),G8+CB$2,0))))*24 -> 0 | CD8: =IF(AND(J8>=CD$2,K8>=CE$2,J8<CE$2),CE$2-J8,IF(AND(J8<=CD$2,K8<=CE$2,K8>=CD$2),K8-CD$2,IF(AND(J8>=CD$2,K8<=CE$2),K8-J8,IF(AND(J8=CD$2,J8>=CE$2),J8+CE$2,0))))*24 -> 0 | CG8: =IF(AND(M8>=CG$2,N8>=CH$2,M8<CH$2),CH$2-M8,IF(AND(M8<=CG$2,N8<=CH$2,N8>=CG$2),N8-CG$2,IF(AND(M8>=CG$2,N8<=CH$2),N8-M8,IF(AND(M8=CG$2,M8>=CH$2),M8+CH$2,0))))*24 -> 0
A9: Freitag | B9: 43350 | O9: =(Formeln!E9-Formeln!D9)*24 -> 0 | Q9: =(Formeln!H9-Formeln!G9)*24 -> 0 | S9: =(Formeln!K9-Formeln!J9)*24 -> 0 | U9: =(Formeln!N9-Formeln!M9)*24 -> 0 | W9: =SUM(O9:U9) -> 0 | X9: =SUM(AB9:AK9) -> 0 | Y9: =SUM(AN9:BI9) -> 0 | Z9: =SUM(BL9:CG9) -> 0 | AB9: =IF(AND(D9>=$AB$2,E9>=$AC$2,D9<$AC$2),$AC$2-D9,IF(AND(D9<=$AB$2,E9<=$AC$2,E9>$AB$2),$AB$2+E9,IF(AND(D9>=$AB$2,E9<=$AC$2),E9-D9,IF(AND(D9=$AB$2,E9>=$AC$2),D9+$AC$2,0))))*24 -> 0 | AE9: =IF(AND(G9>=$AB$2,H9>=$AC$2,G9<$AC$2),$AC$2-G9,IF(AND(G9<=$AB$2,H9<=$AC$2,H9>$AB$2),$AB$2+H9,IF(AND(G9>=$AB$2,H9<=$AC$2),H9-G9,IF(AND(G9=$AB$2,H9>=$AC$2),G9+$AC$2,0))))*24 -> 0 | AH9: =IF(AND(J9>=$AB$2,K9>=$AC$2,J9<$AC$2),$AC$2-J9,IF(AND(J9<=$AB$2,K9<=$AC$2,K9>$AB$2),$AB$2+K9,IF(AND(J9>=$AB$2,K9<=$AC$2),K9-J9,IF(AND(J9=$AB$2,K9>=$AC$2),J9+$AC$2,0))))*24 -> 0 | AK9: =IF(AND(M9>=$AB$2,N9>=$AC$2,M9<$AC$2),$AC$2-M9,IF(AND(M9<=$AB$2,N9<=$AC$2,N9>$AB$2),$AB$2+N9,IF(AND(M9>=$AB$2,N9<=$AC$2),N9-M9,IF(AND(M9=$AB$2,N9>=$AC$2),M9+$AC$2,0))))*24 -> 0 | AN9: =IF(AND(D9>=AN$2,E9>=AO$2,D9<AO$2),AO$2-D9,IF(AND(D9<=AN$2,E9<=AO$2,E9>=AN$2),E9-AN$2,IF(AND(D9>=AN$2,E9<=AO$2),E9-D9,IF(AND(D9=AN$2,D9>=AO$2),D9+AO$2,0))))*24 -> 0 | AQ9: =IF(AND(G9>=AQ$2,H9>=AR$2,G9<AR$2),AR$2-G9,IF(AND(G9<=AQ$2,H9<=AR$2,H9>=AQ$2),H9-AQ$2,IF(AND(G9>=AQ$2,H9<=AR$2),H9-G9,IF(AND(G9=AQ$2,G9>=AR$2),G9+AR$2,0))))*24 -> 0 | AT9: =IF(AND(J9>=AT$2,K9>=AU$2,J9<AU$2),AU$2-J9,IF(AND(J9<=AT$2,K9<=AU$2,K9>=AT$2),K9-AT$2,IF(AND(J9>=AT$2,K9<=AU$2),K9-J9,IF(AND(J9=AT$2,J9>=AU$2),J9+AU$2,0))))*24 -> 0 | AW9: =IF(AND(M9>=AW$2,N9>=AX$2,M9<AX$2),AX$2-M9,IF(AND(M9<=AW$2,N9<=AX$2,N9>=AW$2),N9-AW$2,IF(AND(M9>=AW$2,N9<=AX$2),N9-M9,IF(AND(M9=AW$2,M9>=AX$2),M9+AX$2,0))))*24 -> 0 | AZ9: =IF(AND(D9>=AZ$2,E9>=BA$2,D9<BA$2),BA$2-D9,IF(AND(D9<=AZ$2,E9<=BA$2,E9>=AZ$2),E9-AZ$2,IF(AND(D9>=AZ$2,E9<=BA$2),E9-D9,IF(AND(D9=AZ$2,D9>=BA$2),D9+BA$2,0))))*24 -> 0 | BC9: =IF(AND(G9>=BC$2,H9>=BD$2,G9<BD$2),BD$2-G9,IF(AND(G9<=BC$2,H9<=BD$2,H9>=BC$2),H9-BC$2,IF(AND(G9>=BC$2,H9<=BD$2),H9-G9,IF(AND(G9=BC$2,G9>=BD$2),G9+BD$2,0))))*24 -> 0 | BF9: =IF(AND(J9>=BF$2,K9>=BG$2,J9<BG$2),BG$2-J9,IF(AND(J9<=BF$2,K9<=BG$2,K9>=BF$2),K9-BF$2,IF(AND(J9>=BF$2,K9<=BG$2),K9-J9,IF(AND(J9=BF$2,J9>=BG$2),J9+BG$2,0))))*24 -> 0 | BI9: =IF(AND(M9>=BI$2,N9>=BJ$2,M9<BJ$2),BJ$2-M9,IF(AND(M9<=BI$2,N9<=BJ$2,N9>=BI$2),N9-BI$2,IF(AND(M9>=BI$2,N9<=BJ$2),N9-M9,IF(AND(M9=BI$2,M9>=BJ$2),M9+BJ$2,0))))*24 -> 0 | BL9: =IF(AND(D9>=BL$2,E9>=BM$2,D9<BM$2),BM$2-D9,IF(AND(D9<=BL$2,E9<=BM$2,E9>=BL$2),E9-BL$2,IF(AND(D9>=BL$2,E9<=BM7),E9-D9,IF(AND(D9=BL$2,D9>=BM$2),D9+BM$2,0))))*24 -> 0 | BO9: =IF(AND(G9>=BO$2,H9>=BP$2,G9<BP$2),BP$2-G9,IF(AND(G9<=BO$2,H9<=BP$2,H9>=BO$2),H9-BO$2,IF(AND(G9>=BO$2,H9<=BP7),H9-G9,IF(AND(G9=BO$2,G9>=BP$2),G9+BP$2,0))))*24 -> 0 | BR9: =IF(AND(J9>=BR$2,K9>=BS$2,J9<BS$2),BS$2-J9,IF(AND(J9<=BR$2,K9<=BS$2,K9>=BR$2),K9-BR$2,IF(AND(J9>=BR$2,K9<=BS7),K9-J9,IF(AND(J9=BR$2,J9>=BS$2),J9+BS$2,0))))*24 -> 0 | BU9: =IF(AND(M9>=BU$2,N9>=BV$2,M9<BV$2),BV$2-M9,IF(AND(M9<=BU$2,N9<=BV$2,N9>=BU$2),N9-BU$2,IF(AND(M9>=BU$2,N9<=BV7),N9-M9,IF(AND(M9=BU$2,M9>=BV$2),M9+BV$2,0))))*24 -> 0 | BX9: =IF(AND(D9>=BX$2,E9>=BY$2,D9<BY$2),BY$2-D9,IF(AND(D9<=BX$2,E9<=BY$2,E9>=BX$2),E9-BX$2,IF(AND(D9>=BX$2,E9<=BY$2),E9-D9,IF(AND(D9=BX$2,D9>=BY$2),D9+BY$2,0))))*24 -> 0 | CA9: =IF(AND(G9>=CA$2,H9>=CB$2,G9<CB$2),CB$2-G9,IF(AND(G9<=CA$2,H9<=CB$2,H9>=CA$2),H9-CA$2,IF(AND(G9>=CA$2,H9<=CB$2),H9-G9,IF(AND(G9=CA$2,G9>=CB$2),G9+CB$2,0))))*24 -> 0 | CD9: =IF(AND(J9>=CD$2,K9>=CE$2,J9<CE$2),CE$2-J9,IF(AND(J9<=CD$2,K9<=CE$2,K9>=CD$2),K9-CD$2,IF(AND(J9>=CD$2,K9<=CE$2),K9-J9,IF(AND(J9=CD$2,J9>=CE$2),J9+CE$2,0))))*24 -> 0 | CG9: =IF(AND(M9>=CG$2,N9>=CH$2,M9<CH$2),CH$2-M9,IF(AND(M9<=CG$2,N9<=CH$2,N9>=CG$2),N9-CG$2,IF(AND(M9>=CG$2,N9<=CH$2),N9-M9,IF(AND(M9=CG$2,M9>=CH$2),M9+CH$2,0))))*24 -> 0
A10: Samstag | B10: 43351 | O10: =(Formeln!E10-Formeln!D10)*24 -> 0 | Q10: =(Formeln!H10-Formeln!G10)*24 -> 0 | S10: =(Formeln!K10-Formeln!J10)*24 -> 0 | U10: =(Formeln!N10-Formeln!M10)*24 -> 0 | W10: =SUM(O10:U10) -> 0 | X10: =SUM(AB10:AK10) -> 0 | Y10: =SUM(AN10:BI10) -> 0 | Z10: =SUM(BL10:CG10) -> 0 | AB10: =IF(AND(D10>=$AB$2,E10>=$AC$2,D10<$AC$2),$AC$2-D10,IF(AND(D10<=$AB$2,E10<=$AC$2,E10>$AB$2),$AB$2+E10,IF(AND(D10>=$AB$2,E10<=$AC$2),E10-D10,IF(AND(D10=$AB$2,E10>=$AC$2),D10+$AC$2,0))))*24 -> 0 | AE10: =IF(AND(G10>=$AB$2,H10>=$AC$2,G10<$AC$2),$AC$2-G10,IF(AND(G10<=$AB$2,H10<=$AC$2,H10>$AB$2),$AB$2+H10,IF(AND(G10>=$AB$2,H10<=$AC$2),H10-G10,IF(AND(G10=$AB$2,H10>=$AC$2),G10+$AC$2,0))))*24 -> 0 | AH10: =IF(AND(J10>=$AB$2,K10>=$AC$2,J10<$AC$2),$AC$2-J10,IF(AND(J10<=$AB$2,K10<=$AC$2,K10>$AB$2),$AB$2+K10,IF(AND(J10>=$AB$2,K10<=$AC$2),K10-J10,IF(AND(J10=$AB$2,K10>=$AC$2),J10+$AC$2,0))))*24 -> 0 | AK10: =IF(AND(M10>=$AB$2,N10>=$AC$2,M10<$AC$2),$AC$2-M10,IF(AND(M10<=$AB$2,N10<=$AC$2,N10>$AB$2),$AB$2+N10,IF(AND(M10>=$AB$2,N10<=$AC$2),N10-M10,IF(AND(M10=$AB$2,N10>=$AC$2),M10+$AC$2,0))))*24 -> 0 | AN10: =IF(AND(D10>=AN$2,E10>=AO$2,D10<AO$2),AO$2-D10,IF(AND(D10<=AN$2,E10<=AO$2,E10>=AN$2),E10-AN$2,IF(AND(D10>=AN$2,E10<=AO$2),E10-D10,IF(AND(D10=AN$2,D10>=AO$2),D10+AO$2,0))))*24 -> 0 | AQ10: =IF(AND(G10>=AQ$2,H10>=AR$2,G10<AR$2),AR$2-G10,IF(AND(G10<=AQ$2,H10<=AR$2,H10>=AQ$2),H10-AQ$2,IF(AND(G10>=AQ$2,H10<=AR$2),H10-G10,IF(AND(G10=AQ$2,G10>=AR$2),G10+AR$2,0))))*24 -> 0 | AT10: =IF(AND(J10>=AT$2,K10>=AU$2,J10<AU$2),AU$2-J10,IF(AND(J10<=AT$2,K10<=AU$2,K10>=AT$2),K10-AT$2,IF(AND(J10>=AT$2,K10<=AU$2),K10-J10,IF(AND(J10=AT$2,J10>=AU$2),J10+AU$2,0))))*24 -> 0 | AW10: =IF(AND(M10>=AW$2,N10>=AX$2,M10<AX$2),AX$2-M10,IF(AND(M10<=AW$2,N10<=AX$2,N10>=AW$2),N10-AW$2,IF(AND(M10>=AW$2,N10<=AX$2),N10-M10,IF(AND(M10=AW$2,M10>=AX$2),M10+AX$2,0))))*24 -> 0 | AZ10: =IF(AND(D10>=AZ$2,E10>=BA$2,D10<BA$2),BA$2-D10,IF(AND(D10<=AZ$2,E10<=BA$2,E10>=AZ$2),E10-AZ$2,IF(AND(D10>=AZ$2,E10<=BA$2),E10-D10,IF(AND(D10=AZ$2,D10>=BA$2),D10+BA$2,0))))*24 -> 0 | BC10: =IF(AND(G10>=BC$2,H10>=BD$2,G10<BD$2),BD$2-G10,IF(AND(G10<=BC$2,H10<=BD$2,H10>=BC$2),H10-BC$2,IF(AND(G10>=BC$2,H10<=BD$2),H10-G10,IF(AND(G10=BC$2,G10>=BD$2),G10+BD$2,0))))*24 -> 0 | BF10: =IF(AND(J10>=BF$2,K10>=BG$2,J10<BG$2),BG$2-J10,IF(AND(J10<=BF$2,K10<=BG$2,K10>=BF$2),K10-BF$2,IF(AND(J10>=BF$2,K10<=BG$2),K10-J10,IF(AND(J10=BF$2,J10>=BG$2),J10+BG$2,0))))*24 -> 0 | BI10: =IF(AND(M10>=BI$2,N10>=BJ$2,M10<BJ$2),BJ$2-M10,IF(AND(M10<=BI$2,N10<=BJ$2,N10>=BI$2),N10-BI$2,IF(AND(M10>=BI$2,N10<=BJ$2),N10-M10,IF(AND(M10=BI$2,M10>=BJ$2),M10+BJ$2,0))))*24 -> 0 | BL10: =IF(AND(D10>=BL$2,E10>=BM$2,D10<BM$2),BM$2-D10,IF(AND(D10<=BL$2,E10<=BM$2,E10>=BL$2),E10-BL$2,IF(AND(D10>=BL$2,E10<=BM8),E10-D10,IF(AND(D10=BL$2,D10>=BM$2),D10+BM$2,0))))*24 -> 0 | BO10: =IF(AND(G10>=BO$2,H10>=BP$2,G10<BP$2),BP$2-G10,IF(AND(G10<=BO$2,H10<=BP$2,H10>=BO$2),H10-BO$2,IF(AND(G10>=BO$2,H10<=BP8),H10-G10,IF(AND(G10=BO$2,G10>=BP$2),G10+BP$2,0))))*24 -> 0 | BR10: =IF(AND(J10>=BR$2,K10>=BS$2,J10<BS$2),BS$2-J10,IF(AND(J10<=BR$2,K10<=BS$2,K10>=BR$2),K10-BR$2,IF(AND(J10>=BR$2,K10<=BS8),K10-J10,IF(AND(J10=BR$2,J10>=BS$2),J10+BS$2,0))))*24 -> 0 | BU10: =IF(AND(M10>=BU$2,N10>=BV$2,M10<BV$2),BV$2-M10,IF(AND(M10<=BU$2,N10<=BV$2,N10>=BU$2),N10-BU$2,IF(AND(M10>=BU$2,N10<=BV8),N10-M10,IF(AND(M10=BU$2,M10>=BV$2),M10+BV$2,0))))*24 -> 0 | BX10: =IF(AND(D10>=BX$2,E10>=BY$2,D10<BY$2),BY$2-D10,IF(AND(D10<=BX$2,E10<=BY$2,E10>=BX$2),E10-BX$2,IF(AND(D10>=BX$2,E10<=BY$2),E10-D10,IF(AND(D10=BX$2,D10>=BY$2),D10+BY$2,0))))*24 -> 0 | CA10: =IF(AND(G10>=CA$2,H10>=CB$2,G10<CB$2),CB$2-G10,IF(AND(G10<=CA$2,H10<=CB$2,H10>=CA$2),H10-CA$2,IF(AND(G10>=CA$2,H10<=CB$2),H10-G10,IF(AND(G10=CA$2,G10>=CB$2),G10+CB$2,0))))*24 -> 0 | CD10: =IF(AND(J10>=CD$2,K10>=CE$2,J10<CE$2),CE$2-J10,IF(AND(J10<=CD$2,K10<=CE$2,K10>=CD$2),K10-CD$2,IF(AND(J10>=CD$2,K10<=CE$2),K10-J10,IF(AND(J10=CD$2,J10>=CE$2),J10+CE$2,0))))*24 -> 0 | CG10: =IF(AND(M10>=CG$2,N10>=CH$2,M10<CH$2),CH$2-M10,IF(AND(M10<=CG$2,N10<=CH$2,N10>=CG$2),N10-CG$2,IF(AND(M10>=CG$2,N10<=CH$2),N10-M10,IF(AND(M10=CG$2,M10>=CH$2),M10+CH$2,0))))*24 -> 0
A11: Sonntag | B11: 43352 | O11: =(Formeln!E11-Formeln!D11)*24 -> 0 | Q11: =(Formeln!H11-Formeln!G11)*24 -> 0 | S11: =(Formeln!K11-Formeln!J11)*24 -> 0 | U11: =(Formeln!N11-Formeln!M11)*24 -> 0 | W11: =SUM(O11:U11) -> 0 | X11: =SUM(AB11:AK11) -> 0 | Y11: =SUM(AN11:BI11) -> 0 | Z11: =SUM(BL11:CG11) -> 0 | AB11: =IF(AND(D11>=$AB$2,E11>=$AC$2,D11<$AC$2),$AC$2-D11,IF(AND(D11<=$AB$2,E11<=$AC$2,E11>$AB$2),$AB$2+E11,IF(AND(D11>=$AB$2,E11<=$AC$2),E11-D11,IF(AND(D11=$AB$2,E11>=$AC$2),D11+$AC$2,0))))*24 -> 0 | AE11: =IF(AND(G11>=$AB$2,H11>=$AC$2,G11<$AC$2),$AC$2-G11,IF(AND(G11<=$AB$2,H11<=$AC$2,H11>$AB$2),$AB$2+H11,IF(AND(G11>=$AB$2,H11<=$AC$2),H11-G11,IF(AND(G11=$AB$2,H11>=$AC$2),G11+$AC$2,0))))*24 -> 0 | AH11: =IF(AND(J11>=$AB$2,K11>=$AC$2,J11<$AC$2),$AC$2-J11,IF(AND(J11<=$AB$2,K11<=$AC$2,K11>$AB$2),$AB$2+K11,IF(AND(J11>=$AB$2,K11<=$AC$2),K11-J11,IF(AND(J11=$AB$2,K11>=$AC$2),J11+$AC$2,0))))*24 -> 0 | AK11: =IF(AND(M11>=$AB$2,N11>=$AC$2,M11<$AC$2),$AC$2-M11,IF(AND(M11<=$AB$2,N11<=$AC$2,N11>$AB$2),$AB$2+N11,IF(AND(M11>=$AB$2,N11<=$AC$2),N11-M11,IF(AND(M11=$AB$2,N11>=$AC$2),M11+$AC$2,0))))*24 -> 0 | AN11: =IF(AND(D11>=AN$2,E11>=AO$2,D11<AO$2),AO$2-D11,IF(AND(D11<=AN$2,E11<=AO$2,E11>=AN$2),E11-AN$2,IF(AND(D11>=AN$2,E11<=AO$2),E11-D11,IF(AND(D11=AN$2,D11>=AO$2),D11+AO$2,0))))*24 -> 0 | AQ11: =IF(AND(G11>=AQ$2,H11>=AR$2,G11<AR$2),AR$2-G11,IF(AND(G11<=AQ$2,H11<=AR$2,H11>=AQ$2),H11-AQ$2,IF(AND(G11>=AQ$2,H11<=AR$2),H11-G11,IF(AND(G11=AQ$2,G11>=AR$2),G11+AR$2,0))))*24 -> 0 | AT11: =IF(AND(J11>=AT$2,K11>=AU$2,J11<AU$2),AU$2-J11,IF(AND(J11<=AT$2,K11<=AU$2,K11>=AT$2),K11-AT$2,IF(AND(J11>=AT$2,K11<=AU$2),K11-J11,IF(AND(J11=AT$2,J11>=AU$2),J11+AU$2,0))))*24 -> 0 | AW11: =IF(AND(M11>=AW$2,N11>=AX$2,M11<AX$2),AX$2-M11,IF(AND(M11<=AW$2,N11<=AX$2,N11>=AW$2),N11-AW$2,IF(AND(M11>=AW$2,N11<=AX$2),N11-M11,IF(AND(M11=AW$2,M11>=AX$2),M11+AX$2,0))))*24 -> 0 | AZ11: =IF(AND(D11>=AZ$2,E11>=BA$2,D11<BA$2),BA$2-D11,IF(AND(D11<=AZ$2,E11<=BA$2,E11>=AZ$2),E11-AZ$2,IF(AND(D11>=AZ$2,E11<=BA$2),E11-D11,IF(AND(D11=AZ$2,D11>=BA$2),D11+BA$2,0))))*24 -> 0 | BC11: =IF(AND(G11>=BC$2,H11>=BD$2,G11<BD$2),BD$2-G11,IF(AND(G11<=BC$2,H11<=BD$2,H11>=BC$2),H11-BC$2,IF(AND(G11>=BC$2,H11<=BD$2),H11-G11,IF(AND(G11=BC$2,G11>=BD$2),G11+BD$2,0))))*24 -> 0 | BF11: =IF(AND(J11>=BF$2,K11>=BG$2,J11<BG$2),BG$2-J11,IF(AND(J11<=BF$2,K11<=BG$2,K11>=BF$2),K11-BF$2,IF(AND(J11>=BF$2,K11<=BG$2),K11-J11,IF(AND(J11=BF$2,J11>=BG$2),J11+BG$2,0))))*24 -> 0 | BI11: =IF(AND(M11>=BI$2,N11>=BJ$2,M11<BJ$2),BJ$2-M11,IF(AND(M11<=BI$2,N11<=BJ$2,N11>=BI$2),N11-BI$2,IF(AND(M11>=BI$2,N11<=BJ$2),N11-M11,IF(AND(M11=BI$2,M11>=BJ$2),M11+BJ$2,0))))*24 -> 0 | BL11: =IF(AND(D11>=BL$2,E11>=BM$2,D11<BM$2),BM$2-D11,IF(AND(D11<=BL$2,E11<=BM$2,E11>=BL$2),E11-BL$2,IF(AND(D11>=BL$2,E11<=BM9),E11-D11,IF(AND(D11=BL$2,D11>=BM$2),D11+BM$2,0))))*24 -> 0 | BO11: =IF(AND(G11>=BO$2,H11>=BP$2,G11<BP$2),BP$2-G11,IF(AND(G11<=BO$2,H11<=BP$2,H11>=BO$2),H11-BO$2,IF(AND(G11>=BO$2,H11<=BP9),H11-G11,IF(AND(G11=BO$2,G11>=BP$2),G11+BP$2,0))))*24 -> 0 | BR11: =IF(AND(J11>=BR$2,K11>=BS$2,J11<BS$2),BS$2-J11,IF(AND(J11<=BR$2,K11<=BS$2,K11>=BR$2),K11-BR$2,IF(AND(J11>=BR$2,K11<=BS9),K11-J11,IF(AND(J11=BR$2,J11>=BS$2),J11+BS$2,0))))*24 -> 0 | BU11: =IF(AND(M11>=BU$2,N11>=BV$2,M11<BV$2),BV$2-M11,IF(AND(M11<=BU$2,N11<=BV$2,N11>=BU$2),N11-BU$2,IF(AND(M11>=BU$2,N11<=BV9),N11-M11,IF(AND(M11=BU$2,M11>=BV$2),M11+BV$2,0))))*24 -> 0 | BX11: =IF(AND(D11>=BX$2,E11>=BY$2,D11<BY$2),BY$2-D11,IF(AND(D11<=BX$2,E11<=BY$2,E11>=BX$2),E11-BX$2,IF(AND(D11>=BX$2,E11<=BY$2),E11-D11,IF(AND(D11=BX$2,D11>=BY$2),D11+BY$2,0))))*24 -> 0 | CA11: =IF(AND(G11>=CA$2,H11>=CB$2,G11<CB$2),CB$2-G11,IF(AND(G11<=CA$2,H11<=CB$2,H11>=CA$2),H11-CA$2,IF(AND(G11>=CA$2,H11<=CB$2),H11-G11,IF(AND(G11=CA$2,G11>=CB$2),G11+CB$2,0))))*24 -> 0 | CD11: =IF(AND(J11>=CD$2,K11>=CE$2,J11<CE$2),CE$2-J11,IF(AND(J11<=CD$2,K11<=CE$2,K11>=CD$2),K11-CD$2,IF(AND(J11>=CD$2,K11<=CE$2),K11-J11,IF(AND(J11=CD$2,J11>=CE$2),J11+CE$2,0))))*24 -> 0 | CG11: =IF(AND(M11>=CG$2,N11>=CH$2,M11<CH$2),CH$2-M11,IF(AND(M11<=CG$2,N11<=CH$2,N11>=CG$2),N11-CG$2,IF(AND(M11>=CG$2,N11<=CH$2),N11-M11,IF(AND(M11=CG$2,M11>=CH$2),M11+CH$2,0))))*24 -> 0
A12: Montag | B12: 43353 | O12: =(Formeln!E12-Formeln!D12)*24 -> 0 | Q12: =(Formeln!H12-Formeln!G12)*24 -> 0 | S12: =(Formeln!K12-Formeln!J12)*24 -> 0 | U12: =(Formeln!N12-Formeln!M12)*24 -> 0 | W12: =SUM(O12:U12) -> 0 | X12: =SUM(AB12:AK12) -> 0 | Y12: =SUM(AN12:BI12) -> 0 | Z12: =SUM(BL12:CG12) -> 0 | AB12: =IF(AND(D12>=$AB$2,E12>=$AC$2,D12<$AC$2),$AC$2-D12,IF(AND(D12<=$AB$2,E12<=$AC$2,E12>$AB$2),$AB$2+E12,IF(AND(D12>=$AB$2,E12<=$AC$2),E12-D12,IF(AND(D12=$AB$2,E12>=$AC$2),D12+$AC$2,0))))*24 -> 0 | AE12: =IF(AND(G12>=$AB$2,H12>=$AC$2,G12<$AC$2),$AC$2-G12,IF(AND(G12<=$AB$2,H12<=$AC$2,H12>$AB$2),$AB$2+H12,IF(AND(G12>=$AB$2,H12<=$AC$2),H12-G12,IF(AND(G12=$AB$2,H12>=$AC$2),G12+$AC$2,0))))*24 -> 0 | AH12: =IF(AND(J12>=$AB$2,K12>=$AC$2,J12<$AC$2),$AC$2-J12,IF(AND(J12<=$AB$2,K12<=$AC$2,K12>$AB$2),$AB$2+K12,IF(AND(J12>=$AB$2,K12<=$AC$2),K12-J12,IF(AND(J12=$AB$2,K12>=$AC$2),J12+$AC$2,0))))*24 -> 0 | AK12: =IF(AND(M12>=$AB$2,N12>=$AC$2,M12<$AC$2),$AC$2-M12,IF(AND(M12<=$AB$2,N12<=$AC$2,N12>$AB$2),$AB$2+N12,IF(AND(M12>=$AB$2,N12<=$AC$2),N12-M12,IF(AND(M12=$AB$2,N12>=$AC$2),M12+$AC$2,0))))*24 -> 0 | AN12: =IF(AND(D12>=AN$2,E12>=AO$2,D12<AO$2),AO$2-D12,IF(AND(D12<=AN$2,E12<=AO$2,E12>=AN$2),E12-AN$2,IF(AND(D12>=AN$2,E12<=AO$2),E12-D12,IF(AND(D12=AN$2,D12>=AO$2),D12+AO$2,0))))*24 -> 0 | AQ12: =IF(AND(G12>=AQ$2,H12>=AR$2,G12<AR$2),AR$2-G12,IF(AND(G12<=AQ$2,H12<=AR$2,H12>=AQ$2),H12-AQ$2,IF(AND(G12>=AQ$2,H12<=AR$2),H12-G12,IF(AND(G12=AQ$2,G12>=AR$2),G12+AR$2,0))))*24 -> 0 | AT12: =IF(AND(J12>=AT$2,K12>=AU$2,J12<AU$2),AU$2-J12,IF(AND(J12<=AT$2,K12<=AU$2,K12>=AT$2),K12-AT$2,IF(AND(J12>=AT$2,K12<=AU$2),K12-J12,IF(AND(J12=AT$2,J12>=AU$2),J12+AU$2,0))))*24 -> 0 | AW12: =IF(AND(M12>=AW$2,N12>=AX$2,M12<AX$2),AX$2-M12,IF(AND(M12<=AW$2,N12<=AX$2,N12>=AW$2),N12-AW$2,IF(AND(M12>=AW$2,N12<=AX$2),N12-M12,IF(AND(M12=AW$2,M12>=AX$2),M12+AX$2,0))))*24 -> 0 | AZ12: =IF(AND(D12>=AZ$2,E12>=BA$2,D12<BA$2),BA$2-D12,IF(AND(D12<=AZ$2,E12<=BA$2,E12>=AZ$2),E12-AZ$2,IF(AND(D12>=AZ$2,E12<=BA$2),E12-D12,IF(AND(D12=AZ$2,D12>=BA$2),D12+BA$2,0))))*24 -> 0 | BC12: =IF(AND(G12>=BC$2,H12>=BD$2,G12<BD$2),BD$2-G12,IF(AND(G12<=BC$2,H12<=BD$2,H12>=BC$2),H12-BC$2,IF(AND(G12>=BC$2,H12<=BD$2),H12-G12,IF(AND(G12=BC$2,G12>=BD$2),G12+BD$2,0))))*24 -> 0 | BF12: =IF(AND(J12>=BF$2,K12>=BG$2,J12<BG$2),BG$2-J12,IF(AND(J12<=BF$2,K12<=BG$2,K12>=BF$2),K12-BF$2,IF(AND(J12>=BF$2,K12<=BG$2),K12-J12,IF(AND(J12=BF$2,J12>=BG$2),J12+BG$2,0))))*24 -> 0 | BI12: =IF(AND(M12>=BI$2,N12>=BJ$2,M12<BJ$2),BJ$2-M12,IF(AND(M12<=BI$2,N12<=BJ$2,N12>=BI$2),N12-BI$2,IF(AND(M12>=BI$2,N12<=BJ$2),N12-M12,IF(AND(M12=BI$2,M12>=BJ$2),M12+BJ$2,0))))*24 -> 0 | BL12: =IF(AND(D12>=BL$2,E12>=BM$2,D12<BM$2),BM$2-D12,IF(AND(D12<=BL$2,E12<=BM$2,E12>=BL$2),E12-BL$2,IF(AND(D12>=BL$2,E12<=BM10),E12-D12,IF(AND(D12=BL$2,D12>=BM$2),D12+BM$2,0))))*24 -> 0 | BO12: =IF(AND(G12>=BO$2,H12>=BP$2,G12<BP$2),BP$2-G12,IF(AND(G12<=BO$2,H12<=BP$2,H12>=BO$2),H12-BO$2,IF(AND(G12>=BO$2,H12<=BP10),H12-G12,IF(AND(G12=BO$2,G12>=BP$2),G12+BP$2,0))))*24 -> 0 | BR12: =IF(AND(J12>=BR$2,K12>=BS$2,J12<BS$2),BS$2-J12,IF(AND(J12<=BR$2,K12<=BS$2,K12>=BR$2),K12-BR$2,IF(AND(J12>=BR$2,K12<=BS10),K12-J12,IF(AND(J12=BR$2,J12>=BS$2),J12+BS$2,0))))*24 -> 0 | BU12: =IF(AND(M12>=BU$2,N12>=BV$2,M12<BV$2),BV$2-M12,IF(AND(M12<=BU$2,N12<=BV$2,N12>=BU$2),N12-BU$2,IF(AND(M12>=BU$2,N12<=BV10),N12-M12,IF(AND(M12=BU$2,M12>=BV$2),M12+BV$2,0))))*24 -> 0 | BX12: =IF(AND(D12>=BX$2,E12>=BY$2,D12<BY$2),BY$2-D12,IF(AND(D12<=BX$2,E12<=BY$2,E12>=BX$2),E12-BX$2,IF(AND(D12>=BX$2,E12<=BY$2),E12-D12,IF(AND(D12=BX$2,D12>=BY$2),D12+BY$2,0))))*24 -> 0 | CA12: =IF(AND(G12>=CA$2,H12>=CB$2,G12<CB$2),CB$2-G12,IF(AND(G12<=CA$2,H12<=CB$2,H12>=CA$2),H12-CA$2,IF(AND(G12>=CA$2,H12<=CB$2),H12-G12,IF(AND(G12=CA$2,G12>=CB$2),G12+CB$2,0))))*24 -> 0 | CD12: =IF(AND(J12>=CD$2,K12>=CE$2,J12<CE$2),CE$2-J12,IF(AND(J12<=CD$2,K12<=CE$2,K12>=CD$2),K12-CD$2,IF(AND(J12>=CD$2,K12<=CE$2),K12-J12,IF(AND(J12=CD$2,J12>=CE$2),J12+CE$2,0))))*24 -> 0 | CG12: =IF(AND(M12>=CG$2,N12>=CH$2,M12<CH$2),CH$2-M12,IF(AND(M12<=CG$2,N12<=CH$2,N12>=CG$2),N12-CG$2,IF(AND(M12>=CG$2,N12<=CH$2),N12-M12,IF(AND(M12=CG$2,M12>=CH$2),M12+CH$2,0))))*24 -> 0
A13: Dienstag | B13: 43354 | J13: 0.8125 | K13: 0.90277778 | M13: 0.91666667 | N13: 1 | O13: =(Formeln!E13-Formeln!D13)*24 -> 0 | Q13: =(Formeln!H13-Formeln!G13)*24 -> 0 | S13: =(Formeln!K13-Formeln!J13)*24 -> 2.1666667 | U13: =(Formeln!N13-Formeln!M13)*24 -> 2 | W13: =SUM(O13:U13) -> 4.1666667 | X13: =SUM(AB13:AK13) -> 0 | Y13: =SUM(AN13:BI13) -> 1 | Z13: =SUM(BL13:CG13) -> 1 | AB13: =IF(AND(D13>=$AB$2,E13>=$AC$2,D13<$AC$2),$AC$2-D13,IF(AND(D13<=$AB$2,E13<=$AC$2,E13>$AB$2),$AB$2+E13,IF(AND(D13>=$AB$2,E13<=$AC$2),E13-D13,IF(AND(D13=$AB$2,E13>=$AC$2),D13+$AC$2,0))))*24 -> 0 | AE13: =IF(AND(G13>=$AB$2,H13>=$AC$2,G13<$AC$2),$AC$2-G13,IF(AND(G13<=$AB$2,H13<=$AC$2,H13>$AB$2),$AB$2+H13,IF(AND(G13>=$AB$2,H13<=$AC$2),H13-G13,IF(AND(G13=$AB$2,H13>=$AC$2),G13+$AC$2,0))))*24 -> 0 | AH13: =IF(AND(J13>=$AB$2,K13>=$AC$2,J13<$AC$2),$AC$2-J13,IF(AND(J13<=$AB$2,K13<=$AC$2,K13>$AB$2),$AB$2+K13,IF(AND(J13>=$AB$2,K13<=$AC$2),K13-J13,IF(AND(J13=$AB$2,K13>=$AC$2),J13+$AC$2,0))))*24 -> 0 | AK13: =IF(AND(M13>=$AB$2,N13>=$AC$2,M13<$AC$2),$AC$2-M13,IF(AND(M13<=$AB$2,N13<=$AC$2,N13>$AB$2),$AB$2+N13,IF(AND(M13>=$AB$2,N13<=$AC$2),N13-M13,IF(AND(M13=$AB$2,N13>=$AC$2),M13+$AC$2,0))))*24 -> 0 | AN13: =IF(AND(D13>=AN$2,E13>=AO$2,D13<AO$2),AO$2-D13,IF(AND(D13<=AN$2,E13<=AO$2,E13>=AN$2),E13-AN$2,IF(AND(D13>=AN$2,E13<=AO$2),E13-D13,IF(AND(D13=AN$2,D13>=AO$2),D13+AO$2,0))))*24 -> 0 | AQ13: =IF(AND(G13>=AQ$2,H13>=AR$2,G13<AR$2),AR$2-G13,IF(AND(G13<=AQ$2,H13<=AR$2,H13>=AQ$2),H13-AQ$2,IF(AND(G13>=AQ$2,H13<=AR$2),H13-G13,IF(AND(G13=AQ$2,G13>=AR$2),G13+AR$2,0))))*24 -> 0 | AT13: =IF(AND(J13>=AT$2,K13>=AU$2,J13<AU$2),AU$2-J13,IF(AND(J13<=AT$2,K13<=AU$2,K13>=AT$2),K13-AT$2,IF(AND(J13>=AT$2,K13<=AU$2),K13-J13,IF(AND(J13=AT$2,J13>=AU$2),J13+AU$2,0))))*24 -> 0 | AW13: =IF(AND(M13>=AW$2,N13>=AX$2,M13<AX$2),AX$2-M13,IF(AND(M13<=AW$2,N13<=AX$2,N13>=AW$2),N13-AW$2,IF(AND(M13>=AW$2,N13<=AX$2),N13-M13,IF(AND(M13=AW$2,M13>=AX$2),M13+AX$2,0))))*24 -> 1 | AZ13: =IF(AND(D13>=AZ$2,E13>=BA$2,D13<BA$2),BA$2-D13,IF(AND(D13<=AZ$2,E13<=BA$2,E13>=AZ$2),E13-AZ$2,IF(AND(D13>=AZ$2,E13<=BA$2),E13-D13,IF(AND(D13=AZ$2,D13>=BA$2),D13+BA$2,0))))*24 -> 0 | BC13: =IF(AND(G13>=BC$2,H13>=BD$2,G13<BD$2),BD$2-G13,IF(AND(G13<=BC$2,H13<=BD$2,H13>=BC$2),H13-BC$2,IF(AND(G13>=BC$2,H13<=BD$2),H13-G13,IF(AND(G13=BC$2,G13>=BD$2),G13+BD$2,0))))*24 -> 0 | BF13: =IF(AND(J13>=BF$2,K13>=BG$2,J13<BG$2),BG$2-J13,IF(AND(J13<=BF$2,K13<=BG$2,K13>=BF$2),K13-BF$2,IF(AND(J13>=BF$2,K13<=BG$2),K13-J13,IF(AND(J13=BF$2,J13>=BG$2),J13+BG$2,0))))*24 -> 0 | BI13: =IF(AND(M13>=BI$2,N13>=BJ$2,M13<BJ$2),BJ$2-M13,IF(AND(M13<=BI$2,N13<=BJ$2,N13>=BI$2),N13-BI$2,IF(AND(M13>=BI$2,N13<=BJ$2),N13-M13,IF(AND(M13=BI$2,M13>=BJ$2),M13+BJ$2,0))))*24 -> 0 | BL13: =IF(AND(D13>=BL$2,E13>=BM$2,D13<BM$2),BM$2-D13,IF(AND(D13<=BL$2,E13<=BM$2,E13>=BL$2),E13-BL$2,IF(AND(D13>=BL$2,E13<=BM11),E13-D13,IF(AND(D13=BL$2,D13>=BM$2),D13+BM$2,0))))*24 -> 0 | BO13: =IF(AND(G13>=BO$2,H13>=BP$2,G13<BP$2),BP$2-G13,IF(AND(G13<=BO$2,H13<=BP$2,H13>=BO$2),H13-BO$2,IF(AND(G13>=BO$2,H13<=BP11),H13-G13,IF(AND(G13=BO$2,G13>=BP$2),G13+BP$2,0))))*24 -> 0 | BR13: =IF(AND(J13>=BR$2,K13>=BS$2,J13<BS$2),BS$2-J13,IF(AND(J13<=BR$2,K13<=BS$2,K13>=BR$2),K13-BR$2,IF(AND(J13>=BR$2,K13<=BS11),K13-J13,IF(AND(J13=BR$2,J13>=BS$2),J13+BS$2,0))))*24 -> 0 | BU13: =IF(AND(M13>=BU$2,N13>=BV$2,M13<BV$2),BV$2-M13,IF(AND(M13<=BU$2,N13<=BV$2,N13>=BU$2),N13-BU$2,IF(AND(M13>=BU$2,N13<=BV11),N13-M13,IF(AND(M13=BU$2,M13>=BV$2),M13+BV$2,0))))*24 -> 1 | BX13: =IF(AND(D13>=BX$2,E13>=BY$2,D13<BY$2),BY$2-D13,IF(AND(D13<=BX$2,E13<=BY$2,E13>=BX$2),E13-BX$2,IF(AND(D13>=BX$2,E13<=BY$2),E13-D13,IF(AND(D13=BX$2,D13>=BY$2),D13+BY$2,0))))*24 -> 0 | CA13: =IF(AND(G13>=CA$2,H13>=CB$2,G13<CB$2),CB$2-G13,IF(AND(G13<=CA$2,H13<=CB$2,H13>=CA$2),H13-CA$2,IF(AND(G13>=CA$2,H13<=CB$2),H13-G13,IF(AND(G13=CA$2,G13>=CB$2),G13+CB$2,0))))*24 -> 0 | CD13: =IF(AND(J13>=CD$2,K13>=CE$2,J13<CE$2),CE$2-J13,IF(AND(J13<=CD$2,K13<=CE$2,K13>=CD$2),K13-CD$2,IF(AND(J13>=CD$2,K13<=CE$2),K13-J13,IF(AND(J13=CD$2,J13>=CE$2),J13+CE$2,0))))*24 -> 0 | CG13: =IF(AND(M13>=CG$2,N13>=CH$2,M13<CH$2),CH$2-M13,IF(AND(M13<=CG$2,N13<=CH$2,N13>=CG$2),N13-CG$2,IF(AND(M13>=CG$2,N13<=CH$2),N13-M13,IF(AND(M13=CG$2,M13>=CH$2),M13+CH$2,0))))*24 -> 0
A14: Mittwoch | B14: 43355 | C14: fDNS | D14: 0 | E14: 0.020833333 | G14: 0.038194444 | H14: 0.16666667 | J14: 0.8125 | K14: 0.90277778 | M14: 0.91666667 | N14: 1 | O14: =(Formeln!E14-Formeln!D14)*24 -> 0.5 | Q14: =(Formeln!H14-Formeln!G14)*24 -> 3.0833333 | S14: =(Formeln!K14-Formeln!J14)*24 -> 2.1666667 | U14: =(Formeln!N14-Formeln!M14)*24 -> 2 | W14: =SUM(O14:U14) -> 7.75 | X14: =SUM(AB14:AK14) -> 3.5833333 | Y14: =SUM(AN14:BI14) -> 1 | Z14: =SUM(BL14:CG14) -> 1 | AB14: =IF(AND(D14>=$AB$2,E14>=$AC$2,D14<$AC$2),$AC$2-D14,IF(AND(D14<=$AB$2,E14<=$AC$2,E14>$AB$2),$AB$2+E14,IF(AND(D14>=$AB$2,E14<=$AC$2),E14-D14,IF(AND(D14=$AB$2,E14>=$AC$2),D14+$AC$2,0))))*24 -> 0.5 | AE14: =IF(AND(G14>=$AB$2,H14>=$AC$2,G14<$AC$2),$AC$2-G14,IF(AND(G14<=$AB$2,H14<=$AC$2,H14>$AB$2),$AB$2+H14,IF(AND(G14>=$AB$2,H14<=$AC$2),H14-G14,IF(AND(G14=$AB$2,H14>=$AC$2),G14+$AC$2,0))))*24 -> 3.0833333 | AH14: =IF(AND(J14>=$AB$2,K14>=$AC$2,J14<$AC$2),$AC$2-J14,IF(AND(J14<=$AB$2,K14<=$AC$2,K14>$AB$2),$AB$2+K14,IF(AND(J14>=$AB$2,K14<=$AC$2),K14-J14,IF(AND(J14=$AB$2,K14>=$AC$2),J14+$AC$2,0))))*24 -> 0 | AK14: =IF(AND(M14>=$AB$2,N14>=$AC$2,M14<$AC$2),$AC$2-M14,IF(AND(M14<=$AB$2,N14<=$AC$2,N14>$AB$2),$AB$2+N14,IF(AND(M14>=$AB$2,N14<=$AC$2),N14-M14,IF(AND(M14=$AB$2,N14>=$AC$2),M14+$AC$2,0))))*24 -> 0 | AN14: =IF(AND(D14>=AN$2,E14>=AO$2,D14<AO$2),AO$2-D14,IF(AND(D14<=AN$2,E14<=AO$2,E14>=AN$2),E14-AN$2,IF(AND(D14>=AN$2,E14<=AO$2),E14-D14,IF(AND(D14=AN$2,D14>=AO$2),D14+AO$2,0))))*24 -> 0 | AQ14: =IF(AND(G14>=AQ$2,H14>=AR$2,G14<AR$2),AR$2-G14,IF(AND(G14<=AQ$2,H14<=AR$2,H14>=AQ$2),H14-AQ$2,IF(AND(G14>=AQ$2,H14<=AR$2),H14-G14,IF(AND(G14=AQ$2,G14>=AR$2),G14+AR$2,0))))*24 -> 0 | AT14: =IF(AND(J14>=AT$2,K14>=AU$2,J14<AU$2),AU$2-J14,IF(AND(J14<=AT$2,K14<=AU$2,K14>=AT$2),K14-AT$2,IF(AND(J14>=AT$2,K14<=AU$2),K14-J14,IF(AND(J14=AT$2,J14>=AU$2),J14+AU$2,0))))*24 -> 0 | AW14: =IF(AND(M14>=AW$2,N14>=AX$2,M14<AX$2),AX$2-M14,IF(AND(M14<=AW$2,N14<=AX$2,N14>=AW$2),N14-AW$2,IF(AND(M14>=AW$2,N14<=AX$2),N14-M14,IF(AND(M14=AW$2,M14>=AX$2),M14+AX$2,0))))*24 -> 1 | AZ14: =IF(AND(D14>=AZ$2,E14>=BA$2,D14<BA$2),BA$2-D14,IF(AND(D14<=AZ$2,E14<=BA$2,E14>=AZ$2),E14-AZ$2,IF(AND(D14>=AZ$2,E14<=BA$2),E14-D14,IF(AND(D14=AZ$2,D14>=BA$2),D14+BA$2,0))))*24 -> 0 | BC14: =IF(AND(G14>=BC$2,H14>=BD$2,G14<BD$2),BD$2-G14,IF(AND(G14<=BC$2,H14<=BD$2,H14>=BC$2),H14-BC$2,IF(AND(G14>=BC$2,H14<=BD$2),H14-G14,IF(AND(G14=BC$2,G14>=BD$2),G14+BD$2,0))))*24 -> 7.9936058e-15 | BF14: =IF(AND(J14>=BF$2,K14>=BG$2,J14<BG$2),BG$2-J14,IF(AND(J14<=BF$2,K14<=BG$2,K14>=BF$2),K14-BF$2,IF(AND(J14>=BF$2,K14<=BG$2),K14-J14,IF(AND(J14=BF$2,J14>=BG$2),J14+BG$2,0))))*24 -> 0 | BI14: =IF(AND(M14>=BI$2,N14>=BJ$2,M14<BJ$2),BJ$2-M14,IF(AND(M14<=BI$2,N14<=BJ$2,N14>=BI$2),N14-BI$2,IF(AND(M14>=BI$2,N14<=BJ$2),N14-M14,IF(AND(M14=BI$2,M14>=BJ$2),M14+BJ$2,0))))*24 -> 0 | BL14: =IF(AND(D14>=BL$2,E14>=BM$2,D14<BM$2),BM$2-D14,IF(AND(D14<=BL$2,E14<=BM$2,E14>=BL$2),E14-BL$2,IF(AND(D14>=BL$2,E14<=BM12),E14-D14,IF(AND(D14=BL$2,D14>=BM$2),D14+BM$2,0))))*24 -> 0 | BO14: =IF(AND(G14>=BO$2,H14>=BP$2,G14<BP$2),BP$2-G14,IF(AND(G14<=BO$2,H14<=BP$2,H14>=BO$2),H14-BO$2,IF(AND(G14>=BO$2,H14<=BP12),H14-G14,IF(AND(G14=BO$2,G14>=BP$2),G14+BP$2,0))))*24 -> 0 | BR14: =IF(AND(J14>=BR$2,K14>=BS$2,J14<BS$2),BS$2-J14,IF(AND(J14<=BR$2,K14<=BS$2,K14>=BR$2),K14-BR$2,IF(AND(J14>=BR$2,K14<=BS12),K14-J14,IF(AND(J14=BR$2,J14>=BS$2),J14+BS$2,0))))*24 -> 0 | BU14: =IF(AND(M14>=BU$2,N14>=BV$2,M14<BV$2),BV$2-M14,IF(AND(M14<=BU$2,N14<=BV$2,N14>=BU$2),N14-BU$2,IF(AND(M14>=BU$2,N14<=BV12),N14-M14,IF(AND(M14=BU$2,M14>=BV$2),M14+BV$2,0))))*24 -> 1 | BX14: =IF(AND(D14>=BX$2,E14>=BY$2,D14<BY$2),BY$2-D14,IF(AND(D14<=BX$2,E14<=BY$2,E14>=BX$2),E14-BX$2,IF(AND(D14>=BX$2,E14<=BY$2),E14-D14,IF(AND(D14=BX$2,D14>=BY$2),D14+BY$2,0))))*24 -> 0 | CA14: =IF(AND(G14>=CA$2,H14>=CB$2,G14<CB$2),CB$2-G14,IF(AND(G14<=CA$2,H14<=CB$2,H14>=CA$2),H14-CA$2,IF(AND(G14>=CA$2,H14<=CB$2),H14-G14,IF(AND(G14=CA$2,G14>=CB$2),G14+CB$2,0))))*24 -> 7.9936058e-15 | CD14: =IF(AND(J14>=CD$2,K14>=CE$2,J14<CE$2),CE$2-J14,IF(AND(J14<=CD$2,K14<=CE$2,K14>=CD$2),K14-CD$2,IF(AND(J14>=CD$2,K14<=CE$2),K14-J14,IF(AND(J14=CD$2,J14>=CE$2),J14+CE$2,0))))*24 -> 0 | CG14: =IF(AND(M14>=CG$2,N14>=CH$2,M14<CH$2),CH$2-M14,IF(AND(M14<=CG$2,N14<=CH$2,N14>=CG$2),N14-CG$2,IF(AND(M14>=CG$2,N14<=CH$2),N14-M14,IF(AND(M14=CG$2,M14>=CH$2),M14+CH$2,0))))*24 -> 0
A15: Donnerstag | B15: 43356 | C15: fDNS | D15: 0 | E15: 0.020833333 | G15: 0.038194444 | H15: 0.16666667 | J15: 0.8125 | K15: 0.90277778 | M15: 0.91666667 | N15: 1 | O15: =(Formeln!E15-Formeln!D15)*24 -> 0.5 | Q15: =(Formeln!H15-Formeln!G15)*24 -> 3.0833333 | S15: =(Formeln!K15-Formeln!J15)*24 -> 2.1666667 | U15: =(Formeln!N15-Formeln!M15)*24 -> 2 | W15: =SUM(O15:U15) -> 7.75 | X15: =SUM(AB15:AK15) -> 3.5833333 | Y15: =SUM(AN15:BI15) -> 1 | Z15: =SUM(BL15:CG15) -> 1 | AB15: =IF(AND(D15>=$AB$2,E15>=$AC$2,D15<$AC$2),$AC$2-D15,IF(AND(D15<=$AB$2,E15<=$AC$2,E15>$AB$2),$AB$2+E15,IF(AND(D15>=$AB$2,E15<=$AC$2),E15-D15,IF(AND(D15=$AB$2,E15>=$AC$2),D15+$AC$2,0))))*24 -> 0.5 | AE15: =IF(AND(G15>=$AB$2,H15>=$AC$2,G15<$AC$2),$AC$2-G15,IF(AND(G15<=$AB$2,H15<=$AC$2,H15>$AB$2),$AB$2+H15,IF(AND(G15>=$AB$2,H15<=$AC$2),H15-G15,IF(AND(G15=$AB$2,H15>=$AC$2),G15+$AC$2,0))))*24 -> 3.0833333 | AH15: =IF(AND(J15>=$AB$2,K15>=$AC$2,J15<$AC$2),$AC$2-J15,IF(AND(J15<=$AB$2,K15<=$AC$2,K15>$AB$2),$AB$2+K15,IF(AND(J15>=$AB$2,K15<=$AC$2),K15-J15,IF(AND(J15=$AB$2,K15>=$AC$2),J15+$AC$2,0))))*24 -> 0 | AK15: =IF(AND(M15>=$AB$2,N15>=$AC$2,M15<$AC$2),$AC$2-M15,IF(AND(M15<=$AB$2,N15<=$AC$2,N15>$AB$2),$AB$2+N15,IF(AND(M15>=$AB$2,N15<=$AC$2),N15-M15,IF(AND(M15=$AB$2,N15>=$AC$2),M15+$AC$2,0))))*24 -> 0 | AN15: =IF(AND(D15>=AN$2,E15>=AO$2,D15<AO$2),AO$2-D15,IF(AND(D15<=AN$2,E15<=AO$2,E15>=AN$2),E15-AN$2,IF(AND(D15>=AN$2,E15<=AO$2),E15-D15,IF(AND(D15=AN$2,D15>=AO$2),D15+AO$2,0))))*24 -> 0 | AQ15: =IF(AND(G15>=AQ$2,H15>=AR$2,G15<AR$2),AR$2-G15,IF(AND(G15<=AQ$2,H15<=AR$2,H15>=AQ$2),H15-AQ$2,IF(AND(G15>=AQ$2,H15<=AR$2),H15-G15,IF(AND(G15=AQ$2,G15>=AR$2),G15+AR$2,0))))*24 -> 0 | AT15: =IF(AND(J15>=AT$2,K15>=AU$2,J15<AU$2),AU$2-J15,IF(AND(J15<=AT$2,K15<=AU$2,K15>=AT$2),K15-AT$2,IF(AND(J15>=AT$2,K15<=AU$2),K15-J15,IF(AND(J15=AT$2,J15>=AU$2),J15+AU$2,0))))*24 -> 0 | AW15: =IF(AND(M15>=AW$2,N15>=AX$2,M15<AX$2),AX$2-M15,IF(AND(M15<=AW$2,N15<=AX$2,N15>=AW$2),N15-AW$2,IF(AND(M15>=AW$2,N15<=AX$2),N15-M15,IF(AND(M15=AW$2,M15>=AX$2),M15+AX$2,0))))*24 -> 1 | AZ15: =IF(AND(D15>=AZ$2,E15>=BA$2,D15<BA$2),BA$2-D15,IF(AND(D15<=AZ$2,E15<=BA$2,E15>=AZ$2),E15-AZ$2,IF(AND(D15>=AZ$2,E15<=BA$2),E15-D15,IF(AND(D15=AZ$2,D15>=BA$2),D15+BA$2,0))))*24 -> 0 | BC15: =IF(AND(G15>=BC$2,H15>=BD$2,G15<BD$2),BD$2-G15,IF(AND(G15<=BC$2,H15<=BD$2,H15>=BC$2),H15-BC$2,IF(AND(G15>=BC$2,H15<=BD$2),H15-G15,IF(AND(G15=BC$2,G15>=BD$2),G15+BD$2,0))))*24 -> 7.9936058e-15 | BF15: =IF(AND(J15>=BF$2,K15>=BG$2,J15<BG$2),BG$2-J15,IF(AND(J15<=BF$2,K15<=BG$2,K15>=BF$2),K15-BF$2,IF(AND(J15>=BF$2,K15<=BG$2),K15-J15,IF(AND(J15=BF$2,J15>=BG$2),J15+BG$2,0))))*24 -> 0 | BI15: =IF(AND(M15>=BI$2,N15>=BJ$2,M15<BJ$2),BJ$2-M15,IF(AND(M15<=BI$2,N15<=BJ$2,N15>=BI$2),N15-BI$2,IF(AND(M15>=BI$2,N15<=BJ$2),N15-M15,IF(AND(M15=BI$2,M15>=BJ$2),M15+BJ$2,0))))*24 -> 0 | BL15: =IF(AND(D15>=BL$2,E15>=BM$2,D15<BM$2),BM$2-D15,IF(AND(D15<=BL$2,E15<=BM$2,E15>=BL$2),E15-BL$2,IF(AND(D15>=BL$2,E15<=BM13),E15-D15,IF(AND(D15=BL$2,D15>=BM$2),D15+BM$2,0))))*24 -> 0 | BO15: =IF(AND(G15>=BO$2,H15>=BP$2,G15<BP$2),BP$2-G15,IF(AND(G15<=BO$2,H15<=BP$2,H15>=BO$2),H15-BO$2,IF(AND(G15>=BO$2,H15<=BP13),H15-G15,IF(AND(G15=BO$2,G15>=BP$2),G15+BP$2,0))))*24 -> 0 | BR15: =IF(AND(J15>=BR$2,K15>=BS$2,J15<BS$2),BS$2-J15,IF(AND(J15<=BR$2,K15<=BS$2,K15>=BR$2),K15-BR$2,IF(AND(J15>=BR$2,K15<=BS13),K15-J15,IF(AND(J15=BR$2,J15>=BS$2),J15+BS$2,0))))*24 -> 0 | BU15: =IF(AND(M15>=BU$2,N15>=BV$2,M15<BV$2),BV$2-M15,IF(AND(M15<=BU$2,N15<=BV$2,N15>=BU$2),N15-BU$2,IF(AND(M15>=BU$2,N15<=BV13),N15-M15,IF(AND(M15=BU$2,M15>=BV$2),M15+BV$2,0))))*24 -> 1 | BX15: =IF(AND(D15>=BX$2,E15>=BY$2,D15<BY$2),BY$2-D15,IF(AND(D15<=BX$2,E15<=BY$2,E15>=BX$2),E15-BX$2,IF(AND(D15>=BX$2,E15<=BY$2),E15-D15,IF(AND(D15=BX$2,D15>=BY$2),D15+BY$2,0))))*24 -> 0 | CA15: =IF(AND(G15>=CA$2,H15>=CB$2,G15<CB$2),CB$2-G15,IF(AND(G15<=CA$2,H15<=CB$2,H15>=CA$2),H15-CA$2,IF(AND(G15>=CA$2,H15<=CB$2),H15-G15,IF(AND(G15=CA$2,G15>=CB$2),G15+CB$2,0))))*24 -> 7.9936058e-15 | CD15: =IF(AND(J15>=CD$2,K15>=CE$2,J15<CE$2),CE$2-J15,IF(AND(J15<=CD$2,K15<=CE$2,K15>=CD$2),K15-CD$2,IF(AND(J15>=CD$2,K15<=CE$2),K15-J15,IF(AND(J15=CD$2,J15>=CE$2),J15+CE$2,0))))*24 -> 0 | CG15: =IF(AND(M15>=CG$2,N15>=CH$2,M15<CH$2),CH$2-M15,IF(AND(M15<=CG$2,N15<=CH$2,N15>=CG$2),N15-CG$2,IF(AND(M15>=CG$2,N15<=CH$2),N15-M15,IF(AND(M15=CG$2,M15>=CH$2),M15+CH$2,0))))*24 -> 0
A16: Freitag | B16: 43357 | C16: fDNS | D16: 0 | E16: 0.020833333 | G16: 0.038194444 | H16: 0.16666667 | J16: 0.8125 | K16: 0.90277778 | M16: 0.91666667 | N16: 1 | O16: =(Formeln!E16-Formeln!D16)*24 -> 0.5 | Q16: =(Formeln!H16-Formeln!G16)*24 -> 3.0833333 | S16: =(Formeln!K16-Formeln!J16)*24 -> 2.1666667 | U16: =(Formeln!N16-Formeln!M16)*24 -> 2 | W16: =SUM(O16:U16) -> 7.75 | X16: =SUM(AB16:AK16) -> 3.5833333 | Y16: =SUM(AN16:BI16) -> 1 | Z16: =SUM(BL16:CG16) -> 1 | AB16: =IF(AND(D16>=$AB$2,E16>=$AC$2,D16<$AC$2),$AC$2-D16,IF(AND(D16<=$AB$2,E16<=$AC$2,E16>$AB$2),$AB$2+E16,IF(AND(D16>=$AB$2,E16<=$AC$2),E16-D16,IF(AND(D16=$AB$2,E16>=$AC$2),D16+$AC$2,0))))*24 -> 0.5 | AE16: =IF(AND(G16>=$AB$2,H16>=$AC$2,G16<$AC$2),$AC$2-G16,IF(AND(G16<=$AB$2,H16<=$AC$2,H16>$AB$2),$AB$2+H16,IF(AND(G16>=$AB$2,H16<=$AC$2),H16-G16,IF(AND(G16=$AB$2,H16>=$AC$2),G16+$AC$2,0))))*24 -> 3.0833333 | AH16: =IF(AND(J16>=$AB$2,K16>=$AC$2,J16<$AC$2),$AC$2-J16,IF(AND(J16<=$AB$2,K16<=$AC$2,K16>$AB$2),$AB$2+K16,IF(AND(J16>=$AB$2,K16<=$AC$2),K16-J16,IF(AND(J16=$AB$2,K16>=$AC$2),J16+$AC$2,0))))*24 -> 0 | AK16: =IF(AND(M16>=$AB$2,N16>=$AC$2,M16<$AC$2),$AC$2-M16,IF(AND(M16<=$AB$2,N16<=$AC$2,N16>$AB$2),$AB$2+N16,IF(AND(M16>=$AB$2,N16<=$AC$2),N16-M16,IF(AND(M16=$AB$2,N16>=$AC$2),M16+$AC$2,0))))*24 -> 0 | AN16: =IF(AND(D16>=AN$2,E16>=AO$2,D16<AO$2),AO$2-D16,IF(AND(D16<=AN$2,E16<=AO$2,E16>=AN$2),E16-AN$2,IF(AND(D16>=AN$2,E16<=AO$2),E16-D16,IF(AND(D16=AN$2,D16>=AO$2),D16+AO$2,0))))*24 -> 0 | AQ16: =IF(AND(G16>=AQ$2,H16>=AR$2,G16<AR$2),AR$2-G16,IF(AND(G16<=AQ$2,H16<=AR$2,H16>=AQ$2),H16-AQ$2,IF(AND(G16>=AQ$2,H16<=AR$2),H16-G16,IF(AND(G16=AQ$2,G16>=AR$2),G16+AR$2,0))))*24 -> 0 | AT16: =IF(AND(J16>=AT$2,K16>=AU$2,J16<AU$2),AU$2-J16,IF(AND(J16<=AT$2,K16<=AU$2,K16>=AT$2),K16-AT$2,IF(AND(J16>=AT$2,K16<=AU$2),K16-J16,IF(AND(J16=AT$2,J16>=AU$2),J16+AU$2,0))))*24 -> 0 | AW16: =IF(AND(M16>=AW$2,N16>=AX$2,M16<AX$2),AX$2-M16,IF(AND(M16<=AW$2,N16<=AX$2,N16>=AW$2),N16-AW$2,IF(AND(M16>=AW$2,N16<=AX$2),N16-M16,IF(AND(M16=AW$2,M16>=AX$2),M16+AX$2,0))))*24 -> 1 | AZ16: =IF(AND(D16>=AZ$2,E16>=BA$2,D16<BA$2),BA$2-D16,IF(AND(D16<=AZ$2,E16<=BA$2,E16>=AZ$2),E16-AZ$2,IF(AND(D16>=AZ$2,E16<=BA$2),E16-D16,IF(AND(D16=AZ$2,D16>=BA$2),D16+BA$2,0))))*24 -> 0 | BC16: =IF(AND(G16>=BC$2,H16>=BD$2,G16<BD$2),BD$2-G16,IF(AND(G16<=BC$2,H16<=BD$2,H16>=BC$2),H16-BC$2,IF(AND(G16>=BC$2,H16<=BD$2),H16-G16,IF(AND(G16=BC$2,G16>=BD$2),G16+BD$2,0))))*24 -> 7.9936058e-15 | BF16: =IF(AND(J16>=BF$2,K16>=BG$2,J16<BG$2),BG$2-J16,IF(AND(J16<=BF$2,K16<=BG$2,K16>=BF$2),K16-BF$2,IF(AND(J16>=BF$2,K16<=BG$2),K16-J16,IF(AND(J16=BF$2,J16>=BG$2),J16+BG$2,0))))*24 -> 0 | BI16: =IF(AND(M16>=BI$2,N16>=BJ$2,M16<BJ$2),BJ$2-M16,IF(AND(M16<=BI$2,N16<=BJ$2,N16>=BI$2),N16-BI$2,IF(AND(M16>=BI$2,N16<=BJ$2),N16-M16,IF(AND(M16=BI$2,M16>=BJ$2),M16+BJ$2,0))))*24 -> 0 | BL16: =IF(AND(D16>=BL$2,E16>=BM$2,D16<BM$2),BM$2-D16,IF(AND(D16<=BL$2,E16<=BM$2,E16>=BL$2),E16-BL$2,IF(AND(D16>=BL$2,E16<=BM14),E16-D16,IF(AND(D16=BL$2,D16>=BM$2),D16+BM$2,0))))*24 -> 0 | BO16: =IF(AND(G16>=BO$2,H16>=BP$2,G16<BP$2),BP$2-G16,IF(AND(G16<=BO$2,H16<=BP$2,H16>=BO$2),H16-BO$2,IF(AND(G16>=BO$2,H16<=BP14),H16-G16,IF(AND(G16=BO$2,G16>=BP$2),G16+BP$2,0))))*24 -> 0 | BR16: =IF(AND(J16>=BR$2,K16>=BS$2,J16<BS$2),BS$2-J16,IF(AND(J16<=BR$2,K16<=BS$2,K16>=BR$2),K16-BR$2,IF(AND(J16>=BR$2,K16<=BS14),K16-J16,IF(AND(J16=BR$2,J16>=BS$2),J16+BS$2,0))))*24 -> 0 | BU16: =IF(AND(M16>=BU$2,N16>=BV$2,M16<BV$2),BV$2-M16,IF(AND(M16<=BU$2,N16<=BV$2,N16>=BU$2),N16-BU$2,IF(AND(M16>=BU$2,N16<=BV14),N16-M16,IF(AND(M16=BU$2,M16>=BV$2),M16+BV$2,0))))*24 -> 1 | BX16: =IF(AND(D16>=BX$2,E16>=BY$2,D16<BY$2),BY$2-D16,IF(AND(D16<=BX$2,E16<=BY$2,E16>=BX$2),E16-BX$2,IF(AND(D16>=BX$2,E16<=BY$2),E16-D16,IF(AND(D16=BX$2,D16>=BY$2),D16+BY$2,0))))*24 -> 0 | CA16: =IF(AND(G16>=CA$2,H16>=CB$2,G16<CB$2),CB$2-G16,IF(AND(G16<=CA$2,H16<=CB$2,H16>=CA$2),H16-CA$2,IF(AND(G16>=CA$2,H16<=CB$2),H16-G16,IF(AND(G16=CA$2,G16>=CB$2),G16+CB$2,0))))*24 -> 7.9936058e-15 | CD16: =IF(AND(J16>=CD$2,K16>=CE$2,J16<CE$2),CE$2-J16,IF(AND(J16<=CD$2,K16<=CE$2,K16>=CD$2),K16-CD$2,IF(AND(J16>=CD$2,K16<=CE$2),K16-J16,IF(AND(J16=CD$2,J16>=CE$2),J16+CE$2,0))))*24 -> 0 | CG16: =IF(AND(M16>=CG$2,N16>=CH$2,M16<CH$2),CH$2-M16,IF(AND(M16<=CG$2,N16<=CH$2,N16>=CG$2),N16-CG$2,IF(AND(M16>=CG$2,N16<=CH$2),N16-M16,IF(AND(M16=CG$2,M16>=CH$2),M16+CH$2,0))))*24 -> 0
A17: Samstag | B17: 43358 | C17: fDNS | D17: 0 | E17: 0.020833333 | G17: 0.038194444 | H17: 0.16666667 | O17: =(Formeln!E17-Formeln!D17)*24 -> 0.5 | Q17: =(Formeln!H17-Formeln!G17)*24 -> 3.0833333 | S17: =(Formeln!K17-Formeln!J17)*24 -> 0 | U17: =(Formeln!N17-Formeln!M17)*24 -> 0 | W17: =SUM(O17:U17) -> 3.5833333 | X17: =SUM(AB17:AK17) -> 3.5833333 | Y17: =SUM(AN17:BI17) -> 7.9936058e-15 | Z17: =SUM(BL17:CG17) -> 7.9936058e-15 | AB17: =IF(AND(D17>=$AB$2,E17>=$AC$2,D17<$AC$2),$AC$2-D17,IF(AND(D17<=$AB$2,E17<=$AC$2,E17>$AB$2),$AB$2+E17,IF(AND(D17>=$AB$2,E17<=$AC$2),E17-D17,IF(AND(D17=$AB$2,E17>=$AC$2),D17+$AC$2,0))))*24 -> 0.5 | AE17: =IF(AND(G17>=$AB$2,H17>=$AC$2,G17<$AC$2),$AC$2-G17,IF(AND(G17<=$AB$2,H17<=$AC$2,H17>$AB$2),$AB$2+H17,IF(AND(G17>=$AB$2,H17<=$AC$2),H17-G17,IF(AND(G17=$AB$2,H17>=$AC$2),G17+$AC$2,0))))*24 -> 3.0833333 | AH17: =IF(AND(J17>=$AB$2,K17>=$AC$2,J17<$AC$2),$AC$2-J17,IF(AND(J17<=$AB$2,K17<=$AC$2,K17>$AB$2),$AB$2+K17,IF(AND(J17>=$AB$2,K17<=$AC$2),K17-J17,IF(AND(J17=$AB$2,K17>=$AC$2),J17+$AC$2,0))))*24 -> 0 | AK17: =IF(AND(M17>=$AB$2,N17>=$AC$2,M17<$AC$2),$AC$2-M17,IF(AND(M17<=$AB$2,N17<=$AC$2,N17>$AB$2),$AB$2+N17,IF(AND(M17>=$AB$2,N17<=$AC$2),N17-M17,IF(AND(M17=$AB$2,N17>=$AC$2),M17+$AC$2,0))))*24 -> 0 | AN17: =IF(AND(D17>=AN$2,E17>=AO$2,D17<AO$2),AO$2-D17,IF(AND(D17<=AN$2,E17<=AO$2,E17>=AN$2),E17-AN$2,IF(AND(D17>=AN$2,E17<=AO$2),E17-D17,IF(AND(D17=AN$2,D17>=AO$2),D17+AO$2,0))))*24 -> 0 | AQ17: =IF(AND(G17>=AQ$2,H17>=AR$2,G17<AR$2),AR$2-G17,IF(AND(G17<=AQ$2,H17<=AR$2,H17>=AQ$2),H17-AQ$2,IF(AND(G17>=AQ$2,H17<=AR$2),H17-G17,IF(AND(G17=AQ$2,G17>=AR$2),G17+AR$2,0))))*24 -> 0 | AT17: =IF(AND(J17>=AT$2,K17>=AU$2,J17<AU$2),AU$2-J17,IF(AND(J17<=AT$2,K17<=AU$2,K17>=AT$2),K17-AT$2,IF(AND(J17>=AT$2,K17<=AU$2),K17-J17,IF(AND(J17=AT$2,J17>=AU$2),J17+AU$2,0))))*24 -> 0 | AW17: =IF(AND(M17>=AW$2,N17>=AX$2,M17<AX$2),AX$2-M17,IF(AND(M17<=AW$2,N17<=AX$2,N17>=AW$2),N17-AW$2,IF(AND(M17>=AW$2,N17<=AX$2),N17-M17,IF(AND(M17=AW$2,M17>=AX$2),M17+AX$2,0))))*24 -> 0 | AZ17: =IF(AND(D17>=AZ$2,E17>=BA$2,D17<BA$2),BA$2-D17,IF(AND(D17<=AZ$2,E17<=BA$2,E17>=AZ$2),E17-AZ$2,IF(AND(D17>=AZ$2,E17<=BA$2),E17-D17,IF(AND(D17=AZ$2,D17>=BA$2),D17+BA$2,0))))*24 -> 0 | BC17: =IF(AND(G17>=BC$2,H17>=BD$2,G17<BD$2),BD$2-G17,IF(AND(G17<=BC$2,H17<=BD$2,H17>=BC$2),H17-BC$2,IF(AND(G17>=BC$2,H17<=BD$2),H17-G17,IF(AND(G17=BC$2,G17>=BD$2),G17+BD$2,0))))*24 -> 7.9936058e-15 | BF17: =IF(AND(J17>=BF$2,K17>=BG$2,J17<BG$2),BG$2-J17,IF(AND(J17<=BF$2,K17<=BG$2,K17>=BF$2),K17-BF$2,IF(AND(J17>=BF$2,K17<=BG$2),K17-J17,IF(AND(J17=BF$2,J17>=BG$2),J17+BG$2,0))))*24 -> 0 | BI17: =IF(AND(M17>=BI$2,N17>=BJ$2,M17<BJ$2),BJ$2-M17,IF(AND(M17<=BI$2,N17<=BJ$2,N17>=BI$2),N17-BI$2,IF(AND(M17>=BI$2,N17<=BJ$2),N17-M17,IF(AND(M17=BI$2,M17>=BJ$2),M17+BJ$2,0))))*24 -> 0 | BL17: =IF(AND(D17>=BL$2,E17>=BM$2,D17<BM$2),BM$2-D17,IF(AND(D17<=BL$2,E17<=BM$2,E17>=BL$2),E17-BL$2,IF(AND(D17>=BL$2,E17<=BM15),E17-D17,IF(AND(D17=BL$2,D17>=BM$2),D17+BM$2,0))))*24 -> 0 | BO17: =IF(AND(G17>=BO$2,H17>=BP$2,G17<BP$2),BP$2-G17,IF(AND(G17<=BO$2,H17<=BP$2,H17>=BO$2),H17-BO$2,IF(AND(G17>=BO$2,H17<=BP15),H17-G17,IF(AND(G17=BO$2,G17>=BP$2),G17+BP$2,0))))*24 -> 0 | BR17: =IF(AND(J17>=BR$2,K17>=BS$2,J17<BS$2),BS$2-J17,IF(AND(J17<=BR$2,K17<=BS$2,K17>=BR$2),K17-BR$2,IF(AND(J17>=BR$2,K17<=BS15),K17-J17,IF(AND(J17=BR$2,J17>=BS$2),J17+BS$2,0))))*24 -> 0 | BU17: =IF(AND(M17>=BU$2,N17>=BV$2,M17<BV$2),BV$2-M17,IF(AND(M17<=BU$2,N17<=BV$2,N17>=BU$2),N17-BU$2,IF(AND(M17>=BU$2,N17<=BV15),N17-M17,IF(AND(M17=BU$2,M17>=BV$2),M17+BV$2,0))))*24 -> 0 | BX17: =IF(AND(D17>=BX$2,E17>=BY$2,D17<BY$2),BY$2-D17,IF(AND(D17<=BX$2,E17<=BY$2,E17>=BX$2),E17-BX$2,IF(AND(D17>=BX$2,E17<=BY$2),E17-D17,IF(AND(D17=BX$2,D17>=BY$2),D17+BY$2,0))))*24 -> 0 | CA17: =IF(AND(G17>=CA$2,H17>=CB$2,G17<CB$2),CB$2-G17,IF(AND(G17<=CA$2,H17<=CB$2,H17>=CA$2),H17-CA$2,IF(AND(G17>=CA$2,H17<=CB$2),H17-G17,IF(AND(G17=CA$2,G17>=CB$2),G17+CB$2,0))))*24 -> 7.9936058e-15 | CD17: =IF(AND(J17>=CD$2,K17>=CE$2,J17<CE$2),CE$2-J17,IF(AND(J17<=CD$2,K17<=CE$2,K17>=CD$2),K17-CD$2,IF(AND(J17>=CD$2,K17<=CE$2),K17-J17,IF(AND(J17=CD$2,J17>=CE$2),J17+CE$2,0))))*24 -> 0 | CG17: =IF(AND(M17>=CG$2,N17>=CH$2,M17<CH$2),CH$2-M17,IF(AND(M17<=CG$2,N17<=CH$2,N17>=CG$2),N17-CG$2,IF(AND(M17>=CG$2,N17<=CH$2),N17-M17,IF(AND(M17=CG$2,M17>=CH$2),M17+CH$2,0))))*24 -> 0
A18: Sonntag | B18: 43359 | O18: =(Formeln!E18-Formeln!D18)*24 -> 0 | Q18: =(Formeln!H18-Formeln!G18)*24 -> 0 | S18: =(Formeln!K18-Formeln!J18)*24 -> 0 | U18: =(Formeln!N18-Formeln!M18)*24 -> 0 | W18: =SUM(O18:U18) -> 0 | X18: =SUM(AB18:AK18) -> 0 | Y18: =SUM(AN18:BI18) -> 0 | Z18: =SUM(BL18:CG18) -> 0 | AB18: =IF(AND(D18>=$AB$2,E18>=$AC$2,D18<$AC$2),$AC$2-D18,IF(AND(D18<=$AB$2,E18<=$AC$2,E18>$AB$2),$AB$2+E18,IF(AND(D18>=$AB$2,E18<=$AC$2),E18-D18,IF(AND(D18=$AB$2,E18>=$AC$2),D18+$AC$2,0))))*24 -> 0 | AE18: =IF(AND(G18>=$AB$2,H18>=$AC$2,G18<$AC$2),$AC$2-G18,IF(AND(G18<=$AB$2,H18<=$AC$2,H18>$AB$2),$AB$2+H18,IF(AND(G18>=$AB$2,H18<=$AC$2),H18-G18,IF(AND(G18=$AB$2,H18>=$AC$2),G18+$AC$2,0))))*24 -> 0 | AH18: =IF(AND(J18>=$AB$2,K18>=$AC$2,J18<$AC$2),$AC$2-J18,IF(AND(J18<=$AB$2,K18<=$AC$2,K18>$AB$2),$AB$2+K18,IF(AND(J18>=$AB$2,K18<=$AC$2),K18-J18,IF(AND(J18=$AB$2,K18>=$AC$2),J18+$AC$2,0))))*24 -> 0 | AK18: =IF(AND(M18>=$AB$2,N18>=$AC$2,M18<$AC$2),$AC$2-M18,IF(AND(M18<=$AB$2,N18<=$AC$2,N18>$AB$2),$AB$2+N18,IF(AND(M18>=$AB$2,N18<=$AC$2),N18-M18,IF(AND(M18=$AB$2,N18>=$AC$2),M18+$AC$2,0))))*24 -> 0 | AN18: =IF(AND(D18>=AN$2,E18>=AO$2,D18<AO$2),AO$2-D18,IF(AND(D18<=AN$2,E18<=AO$2,E18>=AN$2),E18-AN$2,IF(AND(D18>=AN$2,E18<=AO$2),E18-D18,IF(AND(D18=AN$2,D18>=AO$2),D18+AO$2,0))))*24 -> 0 | AQ18: =IF(AND(G18>=AQ$2,H18>=AR$2,G18<AR$2),AR$2-G18,IF(AND(G18<=AQ$2,H18<=AR$2,H18>=AQ$2),H18-AQ$2,IF(AND(G18>=AQ$2,H18<=AR$2),H18-G18,IF(AND(G18=AQ$2,G18>=AR$2),G18+AR$2,0))))*24 -> 0 | AT18: =IF(AND(J18>=AT$2,K18>=AU$2,J18<AU$2),AU$2-J18,IF(AND(J18<=AT$2,K18<=AU$2,K18>=AT$2),K18-AT$2,IF(AND(J18>=AT$2,K18<=AU$2),K18-J18,IF(AND(J18=AT$2,J18>=AU$2),J18+AU$2,0))))*24 -> 0 | AW18: =IF(AND(M18>=AW$2,N18>=AX$2,M18<AX$2),AX$2-M18,IF(AND(M18<=AW$2,N18<=AX$2,N18>=AW$2),N18-AW$2,IF(AND(M18>=AW$2,N18<=AX$2),N18-M18,IF(AND(M18=AW$2,M18>=AX$2),M18+AX$2,0))))*24 -> 0 | AZ18: =IF(AND(D18>=AZ$2,E18>=BA$2,D18<BA$2),BA$2-D18,IF(AND(D18<=AZ$2,E18<=BA$2,E18>=AZ$2),E18-AZ$2,IF(AND(D18>=AZ$2,E18<=BA$2),E18-D18,IF(AND(D18=AZ$2,D18>=BA$2),D18+BA$2,0))))*24 -> 0 | BC18: =IF(AND(G18>=BC$2,H18>=BD$2,G18<BD$2),BD$2-G18,IF(AND(G18<=BC$2,H18<=BD$2,H18>=BC$2),H18-BC$2,IF(AND(G18>=BC$2,H18<=BD$2),H18-G18,IF(AND(G18=BC$2,G18>=BD$2),G18+BD$2,0))))*24 -> 0 | BF18: =IF(AND(J18>=BF$2,K18>=BG$2,J18<BG$2),BG$2-J18,IF(AND(J18<=BF$2,K18<=BG$2,K18>=BF$2),K18-BF$2,IF(AND(J18>=BF$2,K18<=BG$2),K18-J18,IF(AND(J18=BF$2,J18>=BG$2),J18+BG$2,0))))*24 -> 0 | BI18: =IF(AND(M18>=BI$2,N18>=BJ$2,M18<BJ$2),BJ$2-M18,IF(AND(M18<=BI$2,N18<=BJ$2,N18>=BI$2),N18-BI$2,IF(AND(M18>=BI$2,N18<=BJ$2),N18-M18,IF(AND(M18=BI$2,M18>=BJ$2),M18+BJ$2,0))))*24 -> 0 | BL18: =IF(AND(D18>=BL$2,E18>=BM$2,D18<BM$2),BM$2-D18,IF(AND(D18<=BL$2,E18<=BM$2,E18>=BL$2),E18-BL$2,IF(AND(D18>=BL$2,E18<=BM16),E18-D18,IF(AND(D18=BL$2,D18>=BM$2),D18+BM$2,0))))*24 -> 0 | BO18: =IF(AND(G18>=BO$2,H18>=BP$2,G18<BP$2),BP$2-G18,IF(AND(G18<=BO$2,H18<=BP$2,H18>=BO$2),H18-BO$2,IF(AND(G18>=BO$2,H18<=BP16),H18-G18,IF(AND(G18=BO$2,G18>=BP$2),G18+BP$2,0))))*24 -> 0 | BR18: =IF(AND(J18>=BR$2,K18>=BS$2,J18<BS$2),BS$2-J18,IF(AND(J18<=BR$2,K18<=BS$2,K18>=BR$2),K18-BR$2,IF(AND(J18>=BR$2,K18<=BS16),K18-J18,IF(AND(J18=BR$2,J18>=BS$2),J18+BS$2,0))))*24 -> 0 | BU18: =IF(AND(M18>=BU$2,N18>=BV$2,M18<BV$2),BV$2-M18,IF(AND(M18<=BU$2,N18<=BV$2,N18>=BU$2),N18-BU$2,IF(AND(M18>=BU$2,N18<=BV16),N18-M18,IF(AND(M18=BU$2,M18>=BV$2),M18+BV$2,0))))*24 -> 0 | BX18: =IF(AND(D18>=BX$2,E18>=BY$2,D18<BY$2),BY$2-D18,IF(AND(D18<=BX$2,E18<=BY$2,E18>=BX$2),E18-BX$2,IF(AND(D18>=BX$2,E18<=BY$2),E18-D18,IF(AND(D18=BX$2,D18>=BY$2),D18+BY$2,0))))*24 -> 0 | CA18: =IF(AND(G18>=CA$2,H18>=CB$2,G18<CB$2),CB$2-G18,IF(AND(G18<=CA$2,H18<=CB$2,H18>=CA$2),H18-CA$2,IF(AND(G18>=CA$2,H18<=CB$2),H18-G18,IF(AND(G18=CA$2,G18>=CB$2),G18+CB$2,0))))*24 -> 0 | CD18: =IF(AND(J18>=CD$2,K18>=CE$2,J18<CE$2),CE$2-J18,IF(AND(J18<=CD$2,K18<=CE$2,K18>=CD$2),K18-CD$2,IF(AND(J18>=CD$2,K18<=CE$2),K18-J18,IF(AND(J18=CD$2,J18>=CE$2),J18+CE$2,0))))*24 -> 0 | CG18: =IF(AND(M18>=CG$2,N18>=CH$2,M18<CH$2),CH$2-M18,IF(AND(M18<=CG$2,N18<=CH$2,N18>=CG$2),N18-CG$2,IF(AND(M18>=CG$2,N18<=CH$2),N18-M18,IF(AND(M18=CG$2,M18>=CH$2),M18+CH$2,0))))*24 -> 0
A19: Montag | B19: 43360 | J19: 0.8125 | K19: 0.90277778 | M19: 0.91666667 | N19: 1 | O19: =(Formeln!E19-Formeln!D19)*24 -> 0 | Q19: =(Formeln!H19-Formeln!G19)*24 -> 0 | S19: =(Formeln!K19-Formeln!J19)*24 -> 2.1666667 | U19: =(Formeln!N19-Formeln!M19)*24 -> 2 | W19: =SUM(O19:U19) -> 4.1666667 | X19: =SUM(AB19:AK19) -> 0 | Y19: =SUM(AN19:BI19) -> 1 | Z19: =SUM(BL19:CG19) -> 1 | AB19: =IF(AND(D19>=$AB$2,E19>=$AC$2,D19<$AC$2),$AC$2-D19,IF(AND(D19<=$AB$2,E19<=$AC$2,E19>$AB$2),$AB$2+E19,IF(AND(D19>=$AB$2,E19<=$AC$2),E19-D19,IF(AND(D19=$AB$2,E19>=$AC$2),D19+$AC$2,0))))*24 -> 0 | AE19: =IF(AND(G19>=$AB$2,H19>=$AC$2,G19<$AC$2),$AC$2-G19,IF(AND(G19<=$AB$2,H19<=$AC$2,H19>$AB$2),$AB$2+H19,IF(AND(G19>=$AB$2,H19<=$AC$2),H19-G19,IF(AND(G19=$AB$2,H19>=$AC$2),G19+$AC$2,0))))*24 -> 0 | AH19: =IF(AND(J19>=$AB$2,K19>=$AC$2,J19<$AC$2),$AC$2-J19,IF(AND(J19<=$AB$2,K19<=$AC$2,K19>$AB$2),$AB$2+K19,IF(AND(J19>=$AB$2,K19<=$AC$2),K19-J19,IF(AND(J19=$AB$2,K19>=$AC$2),J19+$AC$2,0))))*24 -> 0 | AK19: =IF(AND(M19>=$AB$2,N19>=$AC$2,M19<$AC$2),$AC$2-M19,IF(AND(M19<=$AB$2,N19<=$AC$2,N19>$AB$2),$AB$2+N19,IF(AND(M19>=$AB$2,N19<=$AC$2),N19-M19,IF(AND(M19=$AB$2,N19>=$AC$2),M19+$AC$2,0))))*24 -> 0 | AN19: =IF(AND(D19>=AN$2,E19>=AO$2,D19<AO$2),AO$2-D19,IF(AND(D19<=AN$2,E19<=AO$2,E19>=AN$2),E19-AN$2,IF(AND(D19>=AN$2,E19<=AO$2),E19-D19,IF(AND(D19=AN$2,D19>=AO$2),D19+AO$2,0))))*24 -> 0 | AQ19: =IF(AND(G19>=AQ$2,H19>=AR$2,G19<AR$2),AR$2-G19,IF(AND(G19<=AQ$2,H19<=AR$2,H19>=AQ$2),H19-AQ$2,IF(AND(G19>=AQ$2,H19<=AR$2),H19-G19,IF(AND(G19=AQ$2,G19>=AR$2),G19+AR$2,0))))*24 -> 0 | AT19: =IF(AND(J19>=AT$2,K19>=AU$2,J19<AU$2),AU$2-J19,IF(AND(J19<=AT$2,K19<=AU$2,K19>=AT$2),K19-AT$2,IF(AND(J19>=AT$2,K19<=AU$2),K19-J19,IF(AND(J19=AT$2,J19>=AU$2),J19+AU$2,0))))*24 -> 0 | AW19: =IF(AND(M19>=AW$2,N19>=AX$2,M19<AX$2),AX$2-M19,IF(AND(M19<=AW$2,N19<=AX$2,N19>=AW$2),N19-AW$2,IF(AND(M19>=AW$2,N19<=AX$2),N19-M19,IF(AND(M19=AW$2,M19>=AX$2),M19+AX$2,0))))*24 -> 1 | AZ19: =IF(AND(D19>=AZ$2,E19>=BA$2,D19<BA$2),BA$2-D19,IF(AND(D19<=AZ$2,E19<=BA$2,E19>=AZ$2),E19-AZ$2,IF(AND(D19>=AZ$2,E19<=BA$2),E19-D19,IF(AND(D19=AZ$2,D19>=BA$2),D19+BA$2,0))))*24 -> 0 | BC19: =IF(AND(G19>=BC$2,H19>=BD$2,G19<BD$2),BD$2-G19,IF(AND(G19<=BC$2,H19<=BD$2,H19>=BC$2),H19-BC$2,IF(AND(G19>=BC$2,H19<=BD$2),H19-G19,IF(AND(G19=BC$2,G19>=BD$2),G19+BD$2,0))))*24 -> 0 | BF19: =IF(AND(J19>=BF$2,K19>=BG$2,J19<BG$2),BG$2-J19,IF(AND(J19<=BF$2,K19<=BG$2,K19>=BF$2),K19-BF$2,IF(AND(J19>=BF$2,K19<=BG$2),K19-J19,IF(AND(J19=BF$2,J19>=BG$2),J19+BG$2,0))))*24 -> 0 | BI19: =IF(AND(M19>=BI$2,N19>=BJ$2,M19<BJ$2),BJ$2-M19,IF(AND(M19<=BI$2,N19<=BJ$2,N19>=BI$2),N19-BI$2,IF(AND(M19>=BI$2,N19<=BJ$2),N19-M19,IF(AND(M19=BI$2,M19>=BJ$2),M19+BJ$2,0))))*24 -> 0 | BL19: =IF(AND(D19>=BL$2,E19>=BM$2,D19<BM$2),BM$2-D19,IF(AND(D19<=BL$2,E19<=BM$2,E19>=BL$2),E19-BL$2,IF(AND(D19>=BL$2,E19<=BM17),E19-D19,IF(AND(D19=BL$2,D19>=BM$2),D19+BM$2,0))))*24 -> 0 | BO19: =IF(AND(G19>=BO$2,H19>=BP$2,G19<BP$2),BP$2-G19,IF(AND(G19<=BO$2,H19<=BP$2,H19>=BO$2),H19-BO$2,IF(AND(G19>=BO$2,H19<=BP17),H19-G19,IF(AND(G19=BO$2,G19>=BP$2),G19+BP$2,0))))*24 -> 0 | BR19: =IF(AND(J19>=BR$2,K19>=BS$2,J19<BS$2),BS$2-J19,IF(AND(J19<=BR$2,K19<=BS$2,K19>=BR$2),K19-BR$2,IF(AND(J19>=BR$2,K19<=BS17),K19-J19,IF(AND(J19=BR$2,J19>=BS$2),J19+BS$2,0))))*24 -> 0 | BU19: =IF(AND(M19>=BU$2,N19>=BV$2,M19<BV$2),BV$2-M19,IF(AND(M19<=BU$2,N19<=BV$2,N19>=BU$2),N19-BU$2,IF(AND(M19>=BU$2,N19<=BV17),N19-M19,IF(AND(M19=BU$2,M19>=BV$2),M19+BV$2,0))))*24 -> 1 | BX19: =IF(AND(D19>=BX$2,E19>=BY$2,D19<BY$2),BY$2-D19,IF(AND(D19<=BX$2,E19<=BY$2,E19>=BX$2),E19-BX$2,IF(AND(D19>=BX$2,E19<=BY$2),E19-D19,IF(AND(D19=BX$2,D19>=BY$2),D19+BY$2,0))))*24 -> 0 | CA19: =IF(AND(G19>=CA$2,H19>=CB$2,G19<CB$2),CB$2-G19,IF(AND(G19<=CA$2,H19<=CB$2,H19>=CA$2),H19-CA$2,IF(AND(G19>=CA$2,H19<=CB$2),H19-G19,IF(AND(G19=CA$2,G19>=CB$2),G19+CB$2,0))))*24 -> 0 | CD19: =IF(AND(J19>=CD$2,K19>=CE$2,J19<CE$2),CE$2-J19,IF(AND(J19<=CD$2,K19<=CE$2,K19>=CD$2),K19-CD$2,IF(AND(J19>=CD$2,K19<=CE$2),K19-J19,IF(AND(J19=CD$2,J19>=CE$2),J19+CE$2,0))))*24 -> 0 | CG19: =IF(AND(M19>=CG$2,N19>=CH$2,M19<CH$2),CH$2-M19,IF(AND(M19<=CG$2,N19<=CH$2,N19>=CG$2),N19-CG$2,IF(AND(M19>=CG$2,N19<=CH$2),N19-M19,IF(AND(M19=CG$2,M19>=CH$2),M19+CH$2,0))))*24 -> 0
A20: Dienstag | B20: 43361 | C20: fDNS | D20: 0 | E20: 0.020833333 | G20: 0.038194444 | H20: 0.16666667 | J20: 0.8125 | K20: 0.90277778 | M20: 0.91666667 | N20: 1 | O20: =(Formeln!E20-Formeln!D20)*24 -> 0.5 | Q20: =(Formeln!H20-Formeln!G20)*24 -> 3.0833333 | S20: =(Formeln!K20-Formeln!J20)*24 -> 2.1666667 | U20: =(Formeln!N20-Formeln!M20)*24 -> 2 | W20: =SUM(O20:U20) -> 7.75 | X20: =SUM(AB20:AK20) -> 3.5833333 | Y20: =SUM(AN20:BI20) -> 1 | Z20: =SUM(BL20:CG20) -> 1 | AB20: =IF(AND(D20>=$AB$2,E20>=$AC$2,D20<$AC$2),$AC$2-D20,IF(AND(D20<=$AB$2,E20<=$AC$2,E20>$AB$2),$AB$2+E20,IF(AND(D20>=$AB$2,E20<=$AC$2),E20-D20,IF(AND(D20=$AB$2,E20>=$AC$2),D20+$AC$2,0))))*24 -> 0.5 | AE20: =IF(AND(G20>=$AB$2,H20>=$AC$2,G20<$AC$2),$AC$2-G20,IF(AND(G20<=$AB$2,H20<=$AC$2,H20>$AB$2),$AB$2+H20,IF(AND(G20>=$AB$2,H20<=$AC$2),H20-G20,IF(AND(G20=$AB$2,H20>=$AC$2),G20+$AC$2,0))))*24 -> 3.0833333 | AH20: =IF(AND(J20>=$AB$2,K20>=$AC$2,J20<$AC$2),$AC$2-J20,IF(AND(J20<=$AB$2,K20<=$AC$2,K20>$AB$2),$AB$2+K20,IF(AND(J20>=$AB$2,K20<=$AC$2),K20-J20,IF(AND(J20=$AB$2,K20>=$AC$2),J20+$AC$2,0))))*24 -> 0 | AK20: =IF(AND(M20>=$AB$2,N20>=$AC$2,M20<$AC$2),$AC$2-M20,IF(AND(M20<=$AB$2,N20<=$AC$2,N20>$AB$2),$AB$2+N20,IF(AND(M20>=$AB$2,N20<=$AC$2),N20-M20,IF(AND(M20=$AB$2,N20>=$AC$2),M20+$AC$2,0))))*24 -> 0 | AN20: =IF(AND(D20>=AN$2,E20>=AO$2,D20<AO$2),AO$2-D20,IF(AND(D20<=AN$2,E20<=AO$2,E20>=AN$2),E20-AN$2,IF(AND(D20>=AN$2,E20<=AO$2),E20-D20,IF(AND(D20=AN$2,D20>=AO$2),D20+AO$2,0))))*24 -> 0 | AQ20: =IF(AND(G20>=AQ$2,H20>=AR$2,G20<AR$2),AR$2-G20,IF(AND(G20<=AQ$2,H20<=AR$2,H20>=AQ$2),H20-AQ$2,IF(AND(G20>=AQ$2,H20<=AR$2),H20-G20,IF(AND(G20=AQ$2,G20>=AR$2),G20+AR$2,0))))*24 -> 0 | AT20: =IF(AND(J20>=AT$2,K20>=AU$2,J20<AU$2),AU$2-J20,IF(AND(J20<=AT$2,K20<=AU$2,K20>=AT$2),K20-AT$2,IF(AND(J20>=AT$2,K20<=AU$2),K20-J20,IF(AND(J20=AT$2,J20>=AU$2),J20+AU$2,0))))*24 -> 0 | AW20: =IF(AND(M20>=AW$2,N20>=AX$2,M20<AX$2),AX$2-M20,IF(AND(M20<=AW$2,N20<=AX$2,N20>=AW$2),N20-AW$2,IF(AND(M20>=AW$2,N20<=AX$2),N20-M20,IF(AND(M20=AW$2,M20>=AX$2),M20+AX$2,0))))*24 -> 1 | AZ20: =IF(AND(D20>=AZ$2,E20>=BA$2,D20<BA$2),BA$2-D20,IF(AND(D20<=AZ$2,E20<=BA$2,E20>=AZ$2),E20-AZ$2,IF(AND(D20>=AZ$2,E20<=BA$2),E20-D20,IF(AND(D20=AZ$2,D20>=BA$2),D20+BA$2,0))))*24 -> 0 | BC20: =IF(AND(G20>=BC$2,H20>=BD$2,G20<BD$2),BD$2-G20,IF(AND(G20<=BC$2,H20<=BD$2,H20>=BC$2),H20-BC$2,IF(AND(G20>=BC$2,H20<=BD$2),H20-G20,IF(AND(G20=BC$2,G20>=BD$2),G20+BD$2,0))))*24 -> 7.9936058e-15 | BF20: =IF(AND(J20>=BF$2,K20>=BG$2,J20<BG$2),BG$2-J20,IF(AND(J20<=BF$2,K20<=BG$2,K20>=BF$2),K20-BF$2,IF(AND(J20>=BF$2,K20<=BG$2),K20-J20,IF(AND(J20=BF$2,J20>=BG$2),J20+BG$2,0))))*24 -> 0 | BI20: =IF(AND(M20>=BI$2,N20>=BJ$2,M20<BJ$2),BJ$2-M20,IF(AND(M20<=BI$2,N20<=BJ$2,N20>=BI$2),N20-BI$2,IF(AND(M20>=BI$2,N20<=BJ$2),N20-M20,IF(AND(M20=BI$2,M20>=BJ$2),M20+BJ$2,0))))*24 -> 0 | BL20: =IF(AND(D20>=BL$2,E20>=BM$2,D20<BM$2),BM$2-D20,IF(AND(D20<=BL$2,E20<=BM$2,E20>=BL$2),E20-BL$2,IF(AND(D20>=BL$2,E20<=BM18),E20-D20,IF(AND(D20=BL$2,D20>=BM$2),D20+BM$2,0))))*24 -> 0 | BO20: =IF(AND(G20>=BO$2,H20>=BP$2,G20<BP$2),BP$2-G20,IF(AND(G20<=BO$2,H20<=BP$2,H20>=BO$2),H20-BO$2,IF(AND(G20>=BO$2,H20<=BP18),H20-G20,IF(AND(G20=BO$2,G20>=BP$2),G20+BP$2,0))))*24 -> 0 | BR20: =IF(AND(J20>=BR$2,K20>=BS$2,J20<BS$2),BS$2-J20,IF(AND(J20<=BR$2,K20<=BS$2,K20>=BR$2),K20-BR$2,IF(AND(J20>=BR$2,K20<=BS18),K20-J20,IF(AND(J20=BR$2,J20>=BS$2),J20+BS$2,0))))*24 -> 0 | BU20: =IF(AND(M20>=BU$2,N20>=BV$2,M20<BV$2),BV$2-M20,IF(AND(M20<=BU$2,N20<=BV$2,N20>=BU$2),N20-BU$2,IF(AND(M20>=BU$2,N20<=BV18),N20-M20,IF(AND(M20=BU$2,M20>=BV$2),M20+BV$2,0))))*24 -> 1 | BX20: =IF(AND(D20>=BX$2,E20>=BY$2,D20<BY$2),BY$2-D20,IF(AND(D20<=BX$2,E20<=BY$2,E20>=BX$2),E20-BX$2,IF(AND(D20>=BX$2,E20<=BY$2),E20-D20,IF(AND(D20=BX$2,D20>=BY$2),D20+BY$2,0))))*24 -> 0 | CA20: =IF(AND(G20>=CA$2,H20>=CB$2,G20<CB$2),CB$2-G20,IF(AND(G20<=CA$2,H20<=CB$2,H20>=CA$2),H20-CA$2,IF(AND(G20>=CA$2,H20<=CB$2),H20-G20,IF(AND(G20=CA$2,G20>=CB$2),G20+CB$2,0))))*24 -> 7.9936058e-15 | CD20: =IF(AND(J20>=CD$2,K20>=CE$2,J20<CE$2),CE$2-J20,IF(AND(J20<=CD$2,K20<=CE$2,K20>=CD$2),K20-CD$2,IF(AND(J20>=CD$2,K20<=CE$2),K20-J20,IF(AND(J20=CD$2,J20>=CE$2),J20+CE$2,0))))*24 -> 0 | CG20: =IF(AND(M20>=CG$2,N20>=CH$2,M20<CH$2),CH$2-M20,IF(AND(M20<=CG$2,N20<=CH$2,N20>=CG$2),N20-CG$2,IF(AND(M20>=CG$2,N20<=CH$2),N20-M20,IF(AND(M20=CG$2,M20>=CH$2),M20+CH$2,0))))*24 -> 0
A21: Mittwoch | B21: 43362 | C21: fDNS | D21: 0 | E21: 0.020833333 | G21: 0.038194444 | H21: 0.16666667 | J21: 0.8125 | K21: 0.90277778 | M21: 0.91666667 | N21: 1 | O21: =(Formeln!E21-Formeln!D21)*24 -> 0.5 | Q21: =(Formeln!H21-Formeln!G21)*24 -> 3.0833333 | S21: =(Formeln!K21-Formeln!J21)*24 -> 2.1666667 | U21: =(Formeln!N21-Formeln!M21)*24 -> 2 | W21: =SUM(O21:U21) -> 7.75 | X21: =SUM(AB21:AK21) -> 3.5833333 | Y21: =SUM(AN21:BI21) -> 1 | Z21: =SUM(BL21:CG21) -> 1 | AB21: =IF(AND(D21>=$AB$2,E21>=$AC$2,D21<$AC$2),$AC$2-D21,IF(AND(D21<=$AB$2,E21<=$AC$2,E21>$AB$2),$AB$2+E21,IF(AND(D21>=$AB$2,E21<=$AC$2),E21-D21,IF(AND(D21=$AB$2,E21>=$AC$2),D21+$AC$2,0))))*24 -> 0.5 | AE21: =IF(AND(G21>=$AB$2,H21>=$AC$2,G21<$AC$2),$AC$2-G21,IF(AND(G21<=$AB$2,H21<=$AC$2,H21>$AB$2),$AB$2+H21,IF(AND(G21>=$AB$2,H21<=$AC$2),H21-G21,IF(AND(G21=$AB$2,H21>=$AC$2),G21+$AC$2,0))))*24 -> 3.0833333 | AH21: =IF(AND(J21>=$AB$2,K21>=$AC$2,J21<$AC$2),$AC$2-J21,IF(AND(J21<=$AB$2,K21<=$AC$2,K21>$AB$2),$AB$2+K21,IF(AND(J21>=$AB$2,K21<=$AC$2),K21-J21,IF(AND(J21=$AB$2,K21>=$AC$2),J21+$AC$2,0))))*24 -> 0 | AK21: =IF(AND(M21>=$AB$2,N21>=$AC$2,M21<$AC$2),$AC$2-M21,IF(AND(M21<=$AB$2,N21<=$AC$2,N21>$AB$2),$AB$2+N21,IF(AND(M21>=$AB$2,N21<=$AC$2),N21-M21,IF(AND(M21=$AB$2,N21>=$AC$2),M21+$AC$2,0))))*24 -> 0 | AN21: =IF(AND(D21>=AN$2,E21>=AO$2,D21<AO$2),AO$2-D21,IF(AND(D21<=AN$2,E21<=AO$2,E21>=AN$2),E21-AN$2,IF(AND(D21>=AN$2,E21<=AO$2),E21-D21,IF(AND(D21=AN$2,D21>=AO$2),D21+AO$2,0))))*24 -> 0 | AQ21: =IF(AND(G21>=AQ$2,H21>=AR$2,G21<AR$2),AR$2-G21,IF(AND(G21<=AQ$2,H21<=AR$2,H21>=AQ$2),H21-AQ$2,IF(AND(G21>=AQ$2,H21<=AR$2),H21-G21,IF(AND(G21=AQ$2,G21>=AR$2),G21+AR$2,0))))*24 -> 0 | AT21: =IF(AND(J21>=AT$2,K21>=AU$2,J21<AU$2),AU$2-J21,IF(AND(J21<=AT$2,K21<=AU$2,K21>=AT$2),K21-AT$2,IF(AND(J21>=AT$2,K21<=AU$2),K21-J21,IF(AND(J21=AT$2,J21>=AU$2),J21+AU$2,0))))*24 -> 0 | AW21: =IF(AND(M21>=AW$2,N21>=AX$2,M21<AX$2),AX$2-M21,IF(AND(M21<=AW$2,N21<=AX$2,N21>=AW$2),N21-AW$2,IF(AND(M21>=AW$2,N21<=AX$2),N21-M21,IF(AND(M21=AW$2,M21>=AX$2),M21+AX$2,0))))*24 -> 1 | AZ21: =IF(AND(D21>=AZ$2,E21>=BA$2,D21<BA$2),BA$2-D21,IF(AND(D21<=AZ$2,E21<=BA$2,E21>=AZ$2),E21-AZ$2,IF(AND(D21>=AZ$2,E21<=BA$2),E21-D21,IF(AND(D21=AZ$2,D21>=BA$2),D21+BA$2,0))))*24 -> 0 | BC21: =IF(AND(G21>=BC$2,H21>=BD$2,G21<BD$2),BD$2-G21,IF(AND(G21<=BC$2,H21<=BD$2,H21>=BC$2),H21-BC$2,IF(AND(G21>=BC$2,H21<=BD$2),H21-G21,IF(AND(G21=BC$2,G21>=BD$2),G21+BD$2,0))))*24 -> 7.9936058e-15 | BF21: =IF(AND(J21>=BF$2,K21>=BG$2,J21<BG$2),BG$2-J21,IF(AND(J21<=BF$2,K21<=BG$2,K21>=BF$2),K21-BF$2,IF(AND(J21>=BF$2,K21<=BG$2),K21-J21,IF(AND(J21=BF$2,J21>=BG$2),J21+BG$2,0))))*24 -> 0 | BI21: =IF(AND(M21>=BI$2,N21>=BJ$2,M21<BJ$2),BJ$2-M21,IF(AND(M21<=BI$2,N21<=BJ$2,N21>=BI$2),N21-BI$2,IF(AND(M21>=BI$2,N21<=BJ$2),N21-M21,IF(AND(M21=BI$2,M21>=BJ$2),M21+BJ$2,0))))*24 -> 0 | BL21: =IF(AND(D21>=BL$2,E21>=BM$2,D21<BM$2),BM$2-D21,IF(AND(D21<=BL$2,E21<=BM$2,E21>=BL$2),E21-BL$2,IF(AND(D21>=BL$2,E21<=BM19),E21-D21,IF(AND(D21=BL$2,D21>=BM$2),D21+BM$2,0))))*24 -> 0 | BO21: =IF(AND(G21>=BO$2,H21>=BP$2,G21<BP$2),BP$2-G21,IF(AND(G21<=BO$2,H21<=BP$2,H21>=BO$2),H21-BO$2,IF(AND(G21>=BO$2,H21<=BP19),H21-G21,IF(AND(G21=BO$2,G21>=BP$2),G21+BP$2,0))))*24 -> 0 | BR21: =IF(AND(J21>=BR$2,K21>=BS$2,J21<BS$2),BS$2-J21,IF(AND(J21<=BR$2,K21<=BS$2,K21>=BR$2),K21-BR$2,IF(AND(J21>=BR$2,K21<=BS19),K21-J21,IF(AND(J21=BR$2,J21>=BS$2),J21+BS$2,0))))*24 -> 0 | BU21: =IF(AND(M21>=BU$2,N21>=BV$2,M21<BV$2),BV$2-M21,IF(AND(M21<=BU$2,N21<=BV$2,N21>=BU$2),N21-BU$2,IF(AND(M21>=BU$2,N21<=BV19),N21-M21,IF(AND(M21=BU$2,M21>=BV$2),M21+BV$2,0))))*24 -> 1 | BX21: =IF(AND(D21>=BX$2,E21>=BY$2,D21<BY$2),BY$2-D21,IF(AND(D21<=BX$2,E21<=BY$2,E21>=BX$2),E21-BX$2,IF(AND(D21>=BX$2,E21<=BY$2),E21-D21,IF(AND(D21=BX$2,D21>=BY$2),D21+BY$2,0))))*24 -> 0 | CA21: =IF(AND(G21>=CA$2,H21>=CB$2,G21<CB$2),CB$2-G21,IF(AND(G21<=CA$2,H21<=CB$2,H21>=CA$2),H21-CA$2,IF(AND(G21>=CA$2,H21<=CB$2),H21-G21,IF(AND(G21=CA$2,G21>=CB$2),G21+CB$2,0))))*24 -> 7.9936058e-15 | CD21: =IF(AND(J21>=CD$2,K21>=CE$2,J21<CE$2),CE$2-J21,IF(AND(J21<=CD$2,K21<=CE$2,K21>=CD$2),K21-CD$2,IF(AND(J21>=CD$2,K21<=CE$2),K21-J21,IF(AND(J21=CD$2,J21>=CE$2),J21+CE$2,0))))*24 -> 0 | CG21: =IF(AND(M21>=CG$2,N21>=CH$2,M21<CH$2),CH$2-M21,IF(AND(M21<=CG$2,N21<=CH$2,N21>=CG$2),N21-CG$2,IF(AND(M21>=CG$2,N21<=CH$2),N21-M21,IF(AND(M21=CG$2,M21>=CH$2),M21+CH$2,0))))*24 -> 0
A22: Donnerstag | B22: 43363 | C22: fDNS | D22: 0 | E22: 0.020833333 | G22: 0.038194444 | H22: 0.16666667 | J22: 0.8125 | K22: 0.90277778 | M22: 0.91666667 | N22: 1 | O22: =(Formeln!E22-Formeln!D22)*24 -> 0.5 | Q22: =(Formeln!H22-Formeln!G22)*24 -> 3.0833333 | S22: =(Formeln!K22-Formeln!J22)*24 -> 2.1666667 | U22: =(Formeln!N22-Formeln!M22)*24 -> 2 | W22: =SUM(O22:U22) -> 7.75 | X22: =SUM(AB22:AK22) -> 3.5833333 | Y22: =SUM(AN22:BI22) -> 1 | Z22: =SUM(BL22:CG22) -> 1 | AB22: =IF(AND(D22>=$AB$2,E22>=$AC$2,D22<$AC$2),$AC$2-D22,IF(AND(D22<=$AB$2,E22<=$AC$2,E22>$AB$2),$AB$2+E22,IF(AND(D22>=$AB$2,E22<=$AC$2),E22-D22,IF(AND(D22=$AB$2,E22>=$AC$2),D22+$AC$2,0))))*24 -> 0.5 | AE22: =IF(AND(G22>=$AB$2,H22>=$AC$2,G22<$AC$2),$AC$2-G22,IF(AND(G22<=$AB$2,H22<=$AC$2,H22>$AB$2),$AB$2+H22,IF(AND(G22>=$AB$2,H22<=$AC$2),H22-G22,IF(AND(G22=$AB$2,H22>=$AC$2),G22+$AC$2,0))))*24 -> 3.0833333 | AH22: =IF(AND(J22>=$AB$2,K22>=$AC$2,J22<$AC$2),$AC$2-J22,IF(AND(J22<=$AB$2,K22<=$AC$2,K22>$AB$2),$AB$2+K22,IF(AND(J22>=$AB$2,K22<=$AC$2),K22-J22,IF(AND(J22=$AB$2,K22>=$AC$2),J22+$AC$2,0))))*24 -> 0 | AK22: =IF(AND(M22>=$AB$2,N22>=$AC$2,M22<$AC$2),$AC$2-M22,IF(AND(M22<=$AB$2,N22<=$AC$2,N22>$AB$2),$AB$2+N22,IF(AND(M22>=$AB$2,N22<=$AC$2),N22-M22,IF(AND(M22=$AB$2,N22>=$AC$2),M22+$AC$2,0))))*24 -> 0 | AN22: =IF(AND(D22>=AN$2,E22>=AO$2,D22<AO$2),AO$2-D22,IF(AND(D22<=AN$2,E22<=AO$2,E22>=AN$2),E22-AN$2,IF(AND(D22>=AN$2,E22<=AO$2),E22-D22,IF(AND(D22=AN$2,D22>=AO$2),D22+AO$2,0))))*24 -> 0 | AQ22: =IF(AND(G22>=AQ$2,H22>=AR$2,G22<AR$2),AR$2-G22,IF(AND(G22<=AQ$2,H22<=AR$2,H22>=AQ$2),H22-AQ$2,IF(AND(G22>=AQ$2,H22<=AR$2),H22-G22,IF(AND(G22=AQ$2,G22>=AR$2),G22+AR$2,0))))*24 -> 0 | AT22: =IF(AND(J22>=AT$2,K22>=AU$2,J22<AU$2),AU$2-J22,IF(AND(J22<=AT$2,K22<=AU$2,K22>=AT$2),K22-AT$2,IF(AND(J22>=AT$2,K22<=AU$2),K22-J22,IF(AND(J22=AT$2,J22>=AU$2),J22+AU$2,0))))*24 -> 0 | AW22: =IF(AND(M22>=AW$2,N22>=AX$2,M22<AX$2),AX$2-M22,IF(AND(M22<=AW$2,N22<=AX$2,N22>=AW$2),N22-AW$2,IF(AND(M22>=AW$2,N22<=AX$2),N22-M22,IF(AND(M22=AW$2,M22>=AX$2),M22+AX$2,0))))*24 -> 1 | AZ22: =IF(AND(D22>=AZ$2,E22>=BA$2,D22<BA$2),BA$2-D22,IF(AND(D22<=AZ$2,E22<=BA$2,E22>=AZ$2),E22-AZ$2,IF(AND(D22>=AZ$2,E22<=BA$2),E22-D22,IF(AND(D22=AZ$2,D22>=BA$2),D22+BA$2,0))))*24 -> 0 | BC22: =IF(AND(G22>=BC$2,H22>=BD$2,G22<BD$2),BD$2-G22,IF(AND(G22<=BC$2,H22<=BD$2,H22>=BC$2),H22-BC$2,IF(AND(G22>=BC$2,H22<=BD$2),H22-G22,IF(AND(G22=BC$2,G22>=BD$2),G22+BD$2,0))))*24 -> 7.9936058e-15 | BF22: =IF(AND(J22>=BF$2,K22>=BG$2,J22<BG$2),BG$2-J22,IF(AND(J22<=BF$2,K22<=BG$2,K22>=BF$2),K22-BF$2,IF(AND(J22>=BF$2,K22<=BG$2),K22-J22,IF(AND(J22=BF$2,J22>=BG$2),J22+BG$2,0))))*24 -> 0 | BI22: =IF(AND(M22>=BI$2,N22>=BJ$2,M22<BJ$2),BJ$2-M22,IF(AND(M22<=BI$2,N22<=BJ$2,N22>=BI$2),N22-BI$2,IF(AND(M22>=BI$2,N22<=BJ$2),N22-M22,IF(AND(M22=BI$2,M22>=BJ$2),M22+BJ$2,0))))*24 -> 0 | BL22: =IF(AND(D22>=BL$2,E22>=BM$2,D22<BM$2),BM$2-D22,IF(AND(D22<=BL$2,E22<=BM$2,E22>=BL$2),E22-BL$2,IF(AND(D22>=BL$2,E22<=BM20),E22-D22,IF(AND(D22=BL$2,D22>=BM$2),D22+BM$2,0))))*24 -> 0 | BO22: =IF(AND(G22>=BO$2,H22>=BP$2,G22<BP$2),BP$2-G22,IF(AND(G22<=BO$2,H22<=BP$2,H22>=BO$2),H22-BO$2,IF(AND(G22>=BO$2,H22<=BP20),H22-G22,IF(AND(G22=BO$2,G22>=BP$2),G22+BP$2,0))))*24 -> 0 | BR22: =IF(AND(J22>=BR$2,K22>=BS$2,J22<BS$2),BS$2-J22,IF(AND(J22<=BR$2,K22<=BS$2,K22>=BR$2),K22-BR$2,IF(AND(J22>=BR$2,K22<=BS20),K22-J22,IF(AND(J22=BR$2,J22>=BS$2),J22+BS$2,0))))*24 -> 0 | BU22: =IF(AND(M22>=BU$2,N22>=BV$2,M22<BV$2),BV$2-M22,IF(AND(M22<=BU$2,N22<=BV$2,N22>=BU$2),N22-BU$2,IF(AND(M22>=BU$2,N22<=BV20),N22-M22,IF(AND(M22=BU$2,M22>=BV$2),M22+BV$2,0))))*24 -> 1 | BX22: =IF(AND(D22>=BX$2,E22>=BY$2,D22<BY$2),BY$2-D22,IF(AND(D22<=BX$2,E22<=BY$2,E22>=BX$2),E22-BX$2,IF(AND(D22>=BX$2,E22<=BY$2),E22-D22,IF(AND(D22=BX$2,D22>=BY$2),D22+BY$2,0))))*24 -> 0 | CA22: =IF(AND(G22>=CA$2,H22>=CB$2,G22<CB$2),CB$2-G22,IF(AND(G22<=CA$2,H22<=CB$2,H22>=CA$2),H22-CA$2,IF(AND(G22>=CA$2,H22<=CB$2),H22-G22,IF(AND(G22=CA$2,G22>=CB$2),G22+CB$2,0))))*24 -> 7.9936058e-15 | CD22: =IF(AND(J22>=CD$2,K22>=CE$2,J22<CE$2),CE$2-J22,IF(AND(J22<=CD$2,K22<=CE$2,K22>=CD$2),K22-CD$2,IF(AND(J22>=CD$2,K22<=CE$2),K22-J22,IF(AND(J22=CD$2,J22>=CE$2),J22+CE$2,0))))*24 -> 0 | CG22: =IF(AND(M22>=CG$2,N22>=CH$2,M22<CH$2),CH$2-M22,IF(AND(M22<=CG$2,N22<=CH$2,N22>=CG$2),N22-CG$2,IF(AND(M22>=CG$2,N22<=CH$2),N22-M22,IF(AND(M22=CG$2,M22>=CH$2),M22+CH$2,0))))*24 -> 0
A23: Freitag | B23: 43364 | C23: fDNS | D23: 0 | E23: 0.020833333 | G23: 0.038194444 | H23: 0.16666667 | J23: 0.8125 | K23: 0.90277778 | M23: 0.91666667 | N23: 1 | O23: =(Formeln!E23-Formeln!D23)*24 -> 0.5 | Q23: =(Formeln!H23-Formeln!G23)*24 -> 3.0833333 | S23: =(Formeln!K23-Formeln!J23)*24 -> 2.1666667 | U23: =(Formeln!N23-Formeln!M23)*24 -> 2 | W23: =SUM(O23:U23) -> 7.75 | X23: =SUM(AB23:AK23) -> 3.5833333 | Y23: =SUM(AN23:BI23) -> 1 | Z23: =SUM(BL23:CG23) -> 1 | AB23: =IF(AND(D23>=$AB$2,E23>=$AC$2,D23<$AC$2),$AC$2-D23,IF(AND(D23<=$AB$2,E23<=$AC$2,E23>$AB$2),$AB$2+E23,IF(AND(D23>=$AB$2,E23<=$AC$2),E23-D23,IF(AND(D23=$AB$2,E23>=$AC$2),D23+$AC$2,0))))*24 -> 0.5 | AE23: =IF(AND(G23>=$AB$2,H23>=$AC$2,G23<$AC$2),$AC$2-G23,IF(AND(G23<=$AB$2,H23<=$AC$2,H23>$AB$2),$AB$2+H23,IF(AND(G23>=$AB$2,H23<=$AC$2),H23-G23,IF(AND(G23=$AB$2,H23>=$AC$2),G23+$AC$2,0))))*24 -> 3.0833333 | AH23: =IF(AND(J23>=$AB$2,K23>=$AC$2,J23<$AC$2),$AC$2-J23,IF(AND(J23<=$AB$2,K23<=$AC$2,K23>$AB$2),$AB$2+K23,IF(AND(J23>=$AB$2,K23<=$AC$2),K23-J23,IF(AND(J23=$AB$2,K23>=$AC$2),J23+$AC$2,0))))*24 -> 0 | AK23: =IF(AND(M23>=$AB$2,N23>=$AC$2,M23<$AC$2),$AC$2-M23,IF(AND(M23<=$AB$2,N23<=$AC$2,N23>$AB$2),$AB$2+N23,IF(AND(M23>=$AB$2,N23<=$AC$2),N23-M23,IF(AND(M23=$AB$2,N23>=$AC$2),M23+$AC$2,0))))*24 -> 0 | AN23: =IF(AND(D23>=AN$2,E23>=AO$2,D23<AO$2),AO$2-D23,IF(AND(D23<=AN$2,E23<=AO$2,E23>=AN$2),E23-AN$2,IF(AND(D23>=AN$2,E23<=AO$2),E23-D23,IF(AND(D23=AN$2,D23>=AO$2),D23+AO$2,0))))*24 -> 0 | AQ23: =IF(AND(G23>=AQ$2,H23>=AR$2,G23<AR$2),AR$2-G23,IF(AND(G23<=AQ$2,H23<=AR$2,H23>=AQ$2),H23-AQ$2,IF(AND(G23>=AQ$2,H23<=AR$2),H23-G23,IF(AND(G23=AQ$2,G23>=AR$2),G23+AR$2,0))))*24 -> 0 | AT23: =IF(AND(J23>=AT$2,K23>=AU$2,J23<AU$2),AU$2-J23,IF(AND(J23<=AT$2,K23<=AU$2,K23>=AT$2),K23-AT$2,IF(AND(J23>=AT$2,K23<=AU$2),K23-J23,IF(AND(J23=AT$2,J23>=AU$2),J23+AU$2,0))))*24 -> 0 | AW23: =IF(AND(M23>=AW$2,N23>=AX$2,M23<AX$2),AX$2-M23,IF(AND(M23<=AW$2,N23<=AX$2,N23>=AW$2),N23-AW$2,IF(AND(M23>=AW$2,N23<=AX$2),N23-M23,IF(AND(M23=AW$2,M23>=AX$2),M23+AX$2,0))))*24 -> 1 | AZ23: =IF(AND(D23>=AZ$2,E23>=BA$2,D23<BA$2),BA$2-D23,IF(AND(D23<=AZ$2,E23<=BA$2,E23>=AZ$2),E23-AZ$2,IF(AND(D23>=AZ$2,E23<=BA$2),E23-D23,IF(AND(D23=AZ$2,D23>=BA$2),D23+BA$2,0))))*24 -> 0 | BC23: =IF(AND(G23>=BC$2,H23>=BD$2,G23<BD$2),BD$2-G23,IF(AND(G23<=BC$2,H23<=BD$2,H23>=BC$2),H23-BC$2,IF(AND(G23>=BC$2,H23<=BD$2),H23-G23,IF(AND(G23=BC$2,G23>=BD$2),G23+BD$2,0))))*24 -> 7.9936058e-15 | BF23: =IF(AND(J23>=BF$2,K23>=BG$2,J23<BG$2),BG$2-J23,IF(AND(J23<=BF$2,K23<=BG$2,K23>=BF$2),K23-BF$2,IF(AND(J23>=BF$2,K23<=BG$2),K23-J23,IF(AND(J23=BF$2,J23>=BG$2),J23+BG$2,0))))*24 -> 0 | BI23: =IF(AND(M23>=BI$2,N23>=BJ$2,M23<BJ$2),BJ$2-M23,IF(AND(M23<=BI$2,N23<=BJ$2,N23>=BI$2),N23-BI$2,IF(AND(M23>=BI$2,N23<=BJ$2),N23-M23,IF(AND(M23=BI$2,M23>=BJ$2),M23+BJ$2,0))))*24 -> 0 | BL23: =IF(AND(D23>=BL$2,E23>=BM$2,D23<BM$2),BM$2-D23,IF(AND(D23<=BL$2,E23<=BM$2,E23>=BL$2),E23-BL$2,IF(AND(D23>=BL$2,E23<=BM21),E23-D23,IF(AND(D23=BL$2,D23>=BM$2),D23+BM$2,0))))*24 -> 0 | BO23: =IF(AND(G23>=BO$2,H23>=BP$2,G23<BP$2),BP$2-G23,IF(AND(G23<=BO$2,H23<=BP$2,H23>=BO$2),H23-BO$2,IF(AND(G23>=BO$2,H23<=BP21),H23-G23,IF(AND(G23=BO$2,G23>=BP$2),G23+BP$2,0))))*24 -> 0 | BR23: =IF(AND(J23>=BR$2,K23>=BS$2,J23<BS$2),BS$2-J23,IF(AND(J23<=BR$2,K23<=BS$2,K23>=BR$2),K23-BR$2,IF(AND(J23>=BR$2,K23<=BS21),K23-J23,IF(AND(J23=BR$2,J23>=BS$2),J23+BS$2,0))))*24 -> 0 | BU23: =IF(AND(M23>=BU$2,N23>=BV$2,M23<BV$2),BV$2-M23,IF(AND(M23<=BU$2,N23<=BV$2,N23>=BU$2),N23-BU$2,IF(AND(M23>=BU$2,N23<=BV21),N23-M23,IF(AND(M23=BU$2,M23>=BV$2),M23+BV$2,0))))*24 -> 1 | BX23: =IF(AND(D23>=BX$2,E23>=BY$2,D23<BY$2),BY$2-D23,IF(AND(D23<=BX$2,E23<=BY$2,E23>=BX$2),E23-BX$2,IF(AND(D23>=BX$2,E23<=BY$2),E23-D23,IF(AND(D23=BX$2,D23>=BY$2),D23+BY$2,0))))*24 -> 0 | CA23: =IF(AND(G23>=CA$2,H23>=CB$2,G23<CB$2),CB$2-G23,IF(AND(G23<=CA$2,H23<=CB$2,H23>=CA$2),H23-CA$2,IF(AND(G23>=CA$2,H23<=CB$2),H23-G23,IF(AND(G23=CA$2,G23>=CB$2),G23+CB$2,0))))*24 -> 7.9936058e-15 | CD23: =IF(AND(J23>=CD$2,K23>=CE$2,J23<CE$2),CE$2-J23,IF(AND(J23<=CD$2,K23<=CE$2,K23>=CD$2),K23-CD$2,IF(AND(J23>=CD$2,K23<=CE$2),K23-J23,IF(AND(J23=CD$2,J23>=CE$2),J23+CE$2,0))))*24 -> 0 | CG23: =IF(AND(M23>=CG$2,N23>=CH$2,M23<CH$2),CH$2-M23,IF(AND(M23<=CG$2,N23<=CH$2,N23>=CG$2),N23-CG$2,IF(AND(M23>=CG$2,N23<=CH$2),N23-M23,IF(AND(M23=CG$2,M23>=CH$2),M23+CH$2,0))))*24 -> 0
A24: Samstag | B24: 43365 | C24: fDNS | D24: 0 | E24: 0.020833333 | G24: 0.038194444 | H24: 0.16666667 | O24: =(Formeln!E24-Formeln!D24)*24 -> 0.5 | Q24: =(Formeln!H24-Formeln!G24)*24 -> 3.0833333 | S24: =(Formeln!K24-Formeln!J24)*24 -> 0 | U24: =(Formeln!N24-Formeln!M24)*24 -> 0 | W24: =SUM(O24:U24) -> 3.5833333 | X24: =SUM(AB24:AK24) -> 3.5833333 | Y24: =SUM(AN24:BI24) -> 7.9936058e-15 | Z24: =SUM(BL24:CG24) -> 7.9936058e-15 | AB24: =IF(AND(D24>=$AB$2,E24>=$AC$2,D24<$AC$2),$AC$2-D24,IF(AND(D24<=$AB$2,E24<=$AC$2,E24>$AB$2),$AB$2+E24,IF(AND(D24>=$AB$2,E24<=$AC$2),E24-D24,IF(AND(D24=$AB$2,E24>=$AC$2),D24+$AC$2,0))))*24 -> 0.5 | AE24: =IF(AND(G24>=$AB$2,H24>=$AC$2,G24<$AC$2),$AC$2-G24,IF(AND(G24<=$AB$2,H24<=$AC$2,H24>$AB$2),$AB$2+H24,IF(AND(G24>=$AB$2,H24<=$AC$2),H24-G24,IF(AND(G24=$AB$2,H24>=$AC$2),G24+$AC$2,0))))*24 -> 3.0833333 | AH24: =IF(AND(J24>=$AB$2,K24>=$AC$2,J24<$AC$2),$AC$2-J24,IF(AND(J24<=$AB$2,K24<=$AC$2,K24>$AB$2),$AB$2+K24,IF(AND(J24>=$AB$2,K24<=$AC$2),K24-J24,IF(AND(J24=$AB$2,K24>=$AC$2),J24+$AC$2,0))))*24 -> 0 | AK24: =IF(AND(M24>=$AB$2,N24>=$AC$2,M24<$AC$2),$AC$2-M24,IF(AND(M24<=$AB$2,N24<=$AC$2,N24>$AB$2),$AB$2+N24,IF(AND(M24>=$AB$2,N24<=$AC$2),N24-M24,IF(AND(M24=$AB$2,N24>=$AC$2),M24+$AC$2,0))))*24 -> 0 | AN24: =IF(AND(D24>=AN$2,E24>=AO$2,D24<AO$2),AO$2-D24,IF(AND(D24<=AN$2,E24<=AO$2,E24>=AN$2),E24-AN$2,IF(AND(D24>=AN$2,E24<=AO$2),E24-D24,IF(AND(D24=AN$2,D24>=AO$2),D24+AO$2,0))))*24 -> 0 | AQ24: =IF(AND(G24>=AQ$2,H24>=AR$2,G24<AR$2),AR$2-G24,IF(AND(G24<=AQ$2,H24<=AR$2,H24>=AQ$2),H24-AQ$2,IF(AND(G24>=AQ$2,H24<=AR$2),H24-G24,IF(AND(G24=AQ$2,G24>=AR$2),G24+AR$2,0))))*24 -> 0 | AT24: =IF(AND(J24>=AT$2,K24>=AU$2,J24<AU$2),AU$2-J24,IF(AND(J24<=AT$2,K24<=AU$2,K24>=AT$2),K24-AT$2,IF(AND(J24>=AT$2,K24<=AU$2),K24-J24,IF(AND(J24=AT$2,J24>=AU$2),J24+AU$2,0))))*24 -> 0 | AW24: =IF(AND(M24>=AW$2,N24>=AX$2,M24<AX$2),AX$2-M24,IF(AND(M24<=AW$2,N24<=AX$2,N24>=AW$2),N24-AW$2,IF(AND(M24>=AW$2,N24<=AX$2),N24-M24,IF(AND(M24=AW$2,M24>=AX$2),M24+AX$2,0))))*24 -> 0 | AZ24: =IF(AND(D24>=AZ$2,E24>=BA$2,D24<BA$2),BA$2-D24,IF(AND(D24<=AZ$2,E24<=BA$2,E24>=AZ$2),E24-AZ$2,IF(AND(D24>=AZ$2,E24<=BA$2),E24-D24,IF(AND(D24=AZ$2,D24>=BA$2),D24+BA$2,0))))*24 -> 0 | BC24: =IF(AND(G24>=BC$2,H24>=BD$2,G24<BD$2),BD$2-G24,IF(AND(G24<=BC$2,H24<=BD$2,H24>=BC$2),H24-BC$2,IF(AND(G24>=BC$2,H24<=BD$2),H24-G24,IF(AND(G24=BC$2,G24>=BD$2),G24+BD$2,0))))*24 -> 7.9936058e-15 | BF24: =IF(AND(J24>=BF$2,K24>=BG$2,J24<BG$2),BG$2-J24,IF(AND(J24<=BF$2,K24<=BG$2,K24>=BF$2),K24-BF$2,IF(AND(J24>=BF$2,K24<=BG$2),K24-J24,IF(AND(J24=BF$2,J24>=BG$2),J24+BG$2,0))))*24 -> 0 | BI24: =IF(AND(M24>=BI$2,N24>=BJ$2,M24<BJ$2),BJ$2-M24,IF(AND(M24<=BI$2,N24<=BJ$2,N24>=BI$2),N24-BI$2,IF(AND(M24>=BI$2,N24<=BJ$2),N24-M24,IF(AND(M24=BI$2,M24>=BJ$2),M24+BJ$2,0))))*24 -> 0 | BL24: =IF(AND(D24>=BL$2,E24>=BM$2,D24<BM$2),BM$2-D24,IF(AND(D24<=BL$2,E24<=BM$2,E24>=BL$2),E24-BL$2,IF(AND(D24>=BL$2,E24<=BM22),E24-D24,IF(AND(D24=BL$2,D24>=BM$2),D24+BM$2,0))))*24 -> 0 | BO24: =IF(AND(G24>=BO$2,H24>=BP$2,G24<BP$2),BP$2-G24,IF(AND(G24<=BO$2,H24<=BP$2,H24>=BO$2),H24-BO$2,IF(AND(G24>=BO$2,H24<=BP22),H24-G24,IF(AND(G24=BO$2,G24>=BP$2),G24+BP$2,0))))*24 -> 0 | BR24: =IF(AND(J24>=BR$2,K24>=BS$2,J24<BS$2),BS$2-J24,IF(AND(J24<=BR$2,K24<=BS$2,K24>=BR$2),K24-BR$2,IF(AND(J24>=BR$2,K24<=BS22),K24-J24,IF(AND(J24=BR$2,J24>=BS$2),J24+BS$2,0))))*24 -> 0 | BU24: =IF(AND(M24>=BU$2,N24>=BV$2,M24<BV$2),BV$2-M24,IF(AND(M24<=BU$2,N24<=BV$2,N24>=BU$2),N24-BU$2,IF(AND(M24>=BU$2,N24<=BV22),N24-M24,IF(AND(M24=BU$2,M24>=BV$2),M24+BV$2,0))))*24 -> 0 | BX24: =IF(AND(D24>=BX$2,E24>=BY$2,D24<BY$2),BY$2-D24,IF(AND(D24<=BX$2,E24<=BY$2,E24>=BX$2),E24-BX$2,IF(AND(D24>=BX$2,E24<=BY$2),E24-D24,IF(AND(D24=BX$2,D24>=BY$2),D24+BY$2,0))))*24 -> 0 | CA24: =IF(AND(G24>=CA$2,H24>=CB$2,G24<CB$2),CB$2-G24,IF(AND(G24<=CA$2,H24<=CB$2,H24>=CA$2),H24-CA$2,IF(AND(G24>=CA$2,H24<=CB$2),H24-G24,IF(AND(G24=CA$2,G24>=CB$2),G24+CB$2,0))))*24 -> 7.9936058e-15 | CD24: =IF(AND(J24>=CD$2,K24>=CE$2,J24<CE$2),CE$2-J24,IF(AND(J24<=CD$2,K24<=CE$2,K24>=CD$2),K24-CD$2,IF(AND(J24>=CD$2,K24<=CE$2),K24-J24,IF(AND(J24=CD$2,J24>=CE$2),J24+CE$2,0))))*24 -> 0 | CG24: =IF(AND(M24>=CG$2,N24>=CH$2,M24<CH$2),CH$2-M24,IF(AND(M24<=CG$2,N24<=CH$2,N24>=CG$2),N24-CG$2,IF(AND(M24>=CG$2,N24<=CH$2),N24-M24,IF(AND(M24=CG$2,M24>=CH$2),M24+CH$2,0))))*24 -> 0
A25: Sonntag | B25: 43366 | O25: =(Formeln!E25-Formeln!D25)*24 -> 0 | Q25: =(Formeln!H25-Formeln!G25)*24 -> 0 | S25: =(Formeln!K25-Formeln!J25)*24 -> 0 | U25: =(Formeln!N25-Formeln!M25)*24 -> 0 | W25: =SUM(O25:U25) -> 0 | X25: =SUM(AB25:AK25) -> 0 | Y25: =SUM(AN25:BI25) -> 0 | Z25: =SUM(BL25:CG25) -> 0 | AB25: =IF(AND(D25>=$AB$2,E25>=$AC$2,D25<$AC$2),$AC$2-D25,IF(AND(D25<=$AB$2,E25<=$AC$2,E25>$AB$2),$AB$2+E25,IF(AND(D25>=$AB$2,E25<=$AC$2),E25-D25,IF(AND(D25=$AB$2,E25>=$AC$2),D25+$AC$2,0))))*24 -> 0 | AE25: =IF(AND(G25>=$AB$2,H25>=$AC$2,G25<$AC$2),$AC$2-G25,IF(AND(G25<=$AB$2,H25<=$AC$2,H25>$AB$2),$AB$2+H25,IF(AND(G25>=$AB$2,H25<=$AC$2),H25-G25,IF(AND(G25=$AB$2,H25>=$AC$2),G25+$AC$2,0))))*24 -> 0 | AH25: =IF(AND(J25>=$AB$2,K25>=$AC$2,J25<$AC$2),$AC$2-J25,IF(AND(J25<=$AB$2,K25<=$AC$2,K25>$AB$2),$AB$2+K25,IF(AND(J25>=$AB$2,K25<=$AC$2),K25-J25,IF(AND(J25=$AB$2,K25>=$AC$2),J25+$AC$2,0))))*24 -> 0 | AK25: =IF(AND(M25>=$AB$2,N25>=$AC$2,M25<$AC$2),$AC$2-M25,IF(AND(M25<=$AB$2,N25<=$AC$2,N25>$AB$2),$AB$2+N25,IF(AND(M25>=$AB$2,N25<=$AC$2),N25-M25,IF(AND(M25=$AB$2,N25>=$AC$2),M25+$AC$2,0))))*24 -> 0 | AN25: =IF(AND(D25>=AN$2,E25>=AO$2,D25<AO$2),AO$2-D25,IF(AND(D25<=AN$2,E25<=AO$2,E25>=AN$2),E25-AN$2,IF(AND(D25>=AN$2,E25<=AO$2),E25-D25,IF(AND(D25=AN$2,D25>=AO$2),D25+AO$2,0))))*24 -> 0 | AQ25: =IF(AND(G25>=AQ$2,H25>=AR$2,G25<AR$2),AR$2-G25,IF(AND(G25<=AQ$2,H25<=AR$2,H25>=AQ$2),H25-AQ$2,IF(AND(G25>=AQ$2,H25<=AR$2),H25-G25,IF(AND(G25=AQ$2,G25>=AR$2),G25+AR$2,0))))*24 -> 0 | AT25: =IF(AND(J25>=AT$2,K25>=AU$2,J25<AU$2),AU$2-J25,IF(AND(J25<=AT$2,K25<=AU$2,K25>=AT$2),K25-AT$2,IF(AND(J25>=AT$2,K25<=AU$2),K25-J25,IF(AND(J25=AT$2,J25>=AU$2),J25+AU$2,0))))*24 -> 0 | AW25: =IF(AND(M25>=AW$2,N25>=AX$2,M25<AX$2),AX$2-M25,IF(AND(M25<=AW$2,N25<=AX$2,N25>=AW$2),N25-AW$2,IF(AND(M25>=AW$2,N25<=AX$2),N25-M25,IF(AND(M25=AW$2,M25>=AX$2),M25+AX$2,0))))*24 -> 0 | AZ25: =IF(AND(D25>=AZ$2,E25>=BA$2,D25<BA$2),BA$2-D25,IF(AND(D25<=AZ$2,E25<=BA$2,E25>=AZ$2),E25-AZ$2,IF(AND(D25>=AZ$2,E25<=BA$2),E25-D25,IF(AND(D25=AZ$2,D25>=BA$2),D25+BA$2,0))))*24 -> 0 | BC25: =IF(AND(G25>=BC$2,H25>=BD$2,G25<BD$2),BD$2-G25,IF(AND(G25<=BC$2,H25<=BD$2,H25>=BC$2),H25-BC$2,IF(AND(G25>=BC$2,H25<=BD$2),H25-G25,IF(AND(G25=BC$2,G25>=BD$2),G25+BD$2,0))))*24 -> 0 | BF25: =IF(AND(J25>=BF$2,K25>=BG$2,J25<BG$2),BG$2-J25,IF(AND(J25<=BF$2,K25<=BG$2,K25>=BF$2),K25-BF$2,IF(AND(J25>=BF$2,K25<=BG$2),K25-J25,IF(AND(J25=BF$2,J25>=BG$2),J25+BG$2,0))))*24 -> 0 | BI25: =IF(AND(M25>=BI$2,N25>=BJ$2,M25<BJ$2),BJ$2-M25,IF(AND(M25<=BI$2,N25<=BJ$2,N25>=BI$2),N25-BI$2,IF(AND(M25>=BI$2,N25<=BJ$2),N25-M25,IF(AND(M25=BI$2,M25>=BJ$2),M25+BJ$2,0))))*24 -> 0 | BL25: =IF(AND(D25>=BL$2,E25>=BM$2,D25<BM$2),BM$2-D25,IF(AND(D25<=BL$2,E25<=BM$2,E25>=BL$2),E25-BL$2,IF(AND(D25>=BL$2,E25<=BM23),E25-D25,IF(AND(D25=BL$2,D25>=BM$2),D25+BM$2,0))))*24 -> 0 | BO25: =IF(AND(G25>=BO$2,H25>=BP$2,G25<BP$2),BP$2-G25,IF(AND(G25<=BO$2,H25<=BP$2,H25>=BO$2),H25-BO$2,IF(AND(G25>=BO$2,H25<=BP23),H25-G25,IF(AND(G25=BO$2,G25>=BP$2),G25+BP$2,0))))*24 -> 0 | BR25: =IF(AND(J25>=BR$2,K25>=BS$2,J25<BS$2),BS$2-J25,IF(AND(J25<=BR$2,K25<=BS$2,K25>=BR$2),K25-BR$2,IF(AND(J25>=BR$2,K25<=BS23),K25-J25,IF(AND(J25=BR$2,J25>=BS$2),J25+BS$2,0))))*24 -> 0 | BU25: =IF(AND(M25>=BU$2,N25>=BV$2,M25<BV$2),BV$2-M25,IF(AND(M25<=BU$2,N25<=BV$2,N25>=BU$2),N25-BU$2,IF(AND(M25>=BU$2,N25<=BV23),N25-M25,IF(AND(M25=BU$2,M25>=BV$2),M25+BV$2,0))))*24 -> 0 | BX25: =IF(AND(D25>=BX$2,E25>=BY$2,D25<BY$2),BY$2-D25,IF(AND(D25<=BX$2,E25<=BY$2,E25>=BX$2),E25-BX$2,IF(AND(D25>=BX$2,E25<=BY$2),E25-D25,IF(AND(D25=BX$2,D25>=BY$2),D25+BY$2,0))))*24 -> 0 | CA25: =IF(AND(G25>=CA$2,H25>=CB$2,G25<CB$2),CB$2-G25,IF(AND(G25<=CA$2,H25<=CB$2,H25>=CA$2),H25-CA$2,IF(AND(G25>=CA$2,H25<=CB$2),H25-G25,IF(AND(G25=CA$2,G25>=CB$2),G25+CB$2,0))))*24 -> 0 | CD25: =IF(AND(J25>=CD$2,K25>=CE$2,J25<CE$2),CE$2-J25,IF(AND(J25<=CD$2,K25<=CE$2,K25>=CD$2),K25-CD$2,IF(AND(J25>=CD$2,K25<=CE$2),K25-J25,IF(AND(J25=CD$2,J25>=CE$2),J25+CE$2,0))))*24 -> 0 | CG25: =IF(AND(M25>=CG$2,N25>=CH$2,M25<CH$2),CH$2-M25,IF(AND(M25<=CG$2,N25<=CH$2,N25>=CG$2),N25-CG$2,IF(AND(M25>=CG$2,N25<=CH$2),N25-M25,IF(AND(M25=CG$2,M25>=CH$2),M25+CH$2,0))))*24 -> 0
A26: Montag | B26: 43367 | J26: 0.8125 | K26: 0.90277778 | M26: 0.91666667 | N26: 1 | O26: =(Formeln!E26-Formeln!D26)*24 -> 0 | Q26: =(Formeln!H26-Formeln!G26)*24 -> 0 | S26: =(Formeln!K26-Formeln!J26)*24 -> 2.1666667 | U26: =(Formeln!N26-Formeln!M26)*24 -> 2 | W26: =SUM(O26:U26) -> 4.1666667 | X26: =SUM(AB26:AK26) -> 0 | Y26: =SUM(AN26:BI26) -> 1 | Z26: =SUM(BL26:CG26) -> 1 | AB26: =IF(AND(D26>=$AB$2,E26>=$AC$2,D26<$AC$2),$AC$2-D26,IF(AND(D26<=$AB$2,E26<=$AC$2,E26>$AB$2),$AB$2+E26,IF(AND(D26>=$AB$2,E26<=$AC$2),E26-D26,IF(AND(D26=$AB$2,E26>=$AC$2),D26+$AC$2,0))))*24 -> 0 | AE26: =IF(AND(G26>=$AB$2,H26>=$AC$2,G26<$AC$2),$AC$2-G26,IF(AND(G26<=$AB$2,H26<=$AC$2,H26>$AB$2),$AB$2+H26,IF(AND(G26>=$AB$2,H26<=$AC$2),H26-G26,IF(AND(G26=$AB$2,H26>=$AC$2),G26+$AC$2,0))))*24 -> 0 | AH26: =IF(AND(J26>=$AB$2,K26>=$AC$2,J26<$AC$2),$AC$2-J26,IF(AND(J26<=$AB$2,K26<=$AC$2,K26>$AB$2),$AB$2+K26,IF(AND(J26>=$AB$2,K26<=$AC$2),K26-J26,IF(AND(J26=$AB$2,K26>=$AC$2),J26+$AC$2,0))))*24 -> 0 | AK26: =IF(AND(M26>=$AB$2,N26>=$AC$2,M26<$AC$2),$AC$2-M26,IF(AND(M26<=$AB$2,N26<=$AC$2,N26>$AB$2),$AB$2+N26,IF(AND(M26>=$AB$2,N26<=$AC$2),N26-M26,IF(AND(M26=$AB$2,N26>=$AC$2),M26+$AC$2,0))))*24 -> 0 | AN26: =IF(AND(D26>=AN$2,E26>=AO$2,D26<AO$2),AO$2-D26,IF(AND(D26<=AN$2,E26<=AO$2,E26>=AN$2),E26-AN$2,IF(AND(D26>=AN$2,E26<=AO$2),E26-D26,IF(AND(D26=AN$2,D26>=AO$2),D26+AO$2,0))))*24 -> 0 | AQ26: =IF(AND(G26>=AQ$2,H26>=AR$2,G26<AR$2),AR$2-G26,IF(AND(G26<=AQ$2,H26<=AR$2,H26>=AQ$2),H26-AQ$2,IF(AND(G26>=AQ$2,H26<=AR$2),H26-G26,IF(AND(G26=AQ$2,G26>=AR$2),G26+AR$2,0))))*24 -> 0 | AT26: =IF(AND(J26>=AT$2,K26>=AU$2,J26<AU$2),AU$2-J26,IF(AND(J26<=AT$2,K26<=AU$2,K26>=AT$2),K26-AT$2,IF(AND(J26>=AT$2,K26<=AU$2),K26-J26,IF(AND(J26=AT$2,J26>=AU$2),J26+AU$2,0))))*24 -> 0 | AW26: =IF(AND(M26>=AW$2,N26>=AX$2,M26<AX$2),AX$2-M26,IF(AND(M26<=AW$2,N26<=AX$2,N26>=AW$2),N26-AW$2,IF(AND(M26>=AW$2,N26<=AX$2),N26-M26,IF(AND(M26=AW$2,M26>=AX$2),M26+AX$2,0))))*24 -> 1 | AZ26: =IF(AND(D26>=AZ$2,E26>=BA$2,D26<BA$2),BA$2-D26,IF(AND(D26<=AZ$2,E26<=BA$2,E26>=AZ$2),E26-AZ$2,IF(AND(D26>=AZ$2,E26<=BA$2),E26-D26,IF(AND(D26=AZ$2,D26>=BA$2),D26+BA$2,0))))*24 -> 0 | BC26: =IF(AND(G26>=BC$2,H26>=BD$2,G26<BD$2),BD$2-G26,IF(AND(G26<=BC$2,H26<=BD$2,H26>=BC$2),H26-BC$2,IF(AND(G26>=BC$2,H26<=BD$2),H26-G26,IF(AND(G26=BC$2,G26>=BD$2),G26+BD$2,0))))*24 -> 0 | BF26: =IF(AND(J26>=BF$2,K26>=BG$2,J26<BG$2),BG$2-J26,IF(AND(J26<=BF$2,K26<=BG$2,K26>=BF$2),K26-BF$2,IF(AND(J26>=BF$2,K26<=BG$2),K26-J26,IF(AND(J26=BF$2,J26>=BG$2),J26+BG$2,0))))*24 -> 0 | BI26: =IF(AND(M26>=BI$2,N26>=BJ$2,M26<BJ$2),BJ$2-M26,IF(AND(M26<=BI$2,N26<=BJ$2,N26>=BI$2),N26-BI$2,IF(AND(M26>=BI$2,N26<=BJ$2),N26-M26,IF(AND(M26=BI$2,M26>=BJ$2),M26+BJ$2,0))))*24 -> 0 | BL26: =IF(AND(D26>=BL$2,E26>=BM$2,D26<BM$2),BM$2-D26,IF(AND(D26<=BL$2,E26<=BM$2,E26>=BL$2),E26-BL$2,IF(AND(D26>=BL$2,E26<=BM24),E26-D26,IF(AND(D26=BL$2,D26>=BM$2),D26+BM$2,0))))*24 -> 0 | BO26: =IF(AND(G26>=BO$2,H26>=BP$2,G26<BP$2),BP$2-G26,IF(AND(G26<=BO$2,H26<=BP$2,H26>=BO$2),H26-BO$2,IF(AND(G26>=BO$2,H26<=BP24),H26-G26,IF(AND(G26=BO$2,G26>=BP$2),G26+BP$2,0))))*24 -> 0 | BR26: =IF(AND(J26>=BR$2,K26>=BS$2,J26<BS$2),BS$2-J26,IF(AND(J26<=BR$2,K26<=BS$2,K26>=BR$2),K26-BR$2,IF(AND(J26>=BR$2,K26<=BS24),K26-J26,IF(AND(J26=BR$2,J26>=BS$2),J26+BS$2,0))))*24 -> 0 | BU26: =IF(AND(M26>=BU$2,N26>=BV$2,M26<BV$2),BV$2-M26,IF(AND(M26<=BU$2,N26<=BV$2,N26>=BU$2),N26-BU$2,IF(AND(M26>=BU$2,N26<=BV24),N26-M26,IF(AND(M26=BU$2,M26>=BV$2),M26+BV$2,0))))*24 -> 1 | BX26: =IF(AND(D26>=BX$2,E26>=BY$2,D26<BY$2),BY$2-D26,IF(AND(D26<=BX$2,E26<=BY$2,E26>=BX$2),E26-BX$2,IF(AND(D26>=BX$2,E26<=BY$2),E26-D26,IF(AND(D26=BX$2,D26>=BY$2),D26+BY$2,0))))*24 -> 0 | CA26: =IF(AND(G26>=CA$2,H26>=CB$2,G26<CB$2),CB$2-G26,IF(AND(G26<=CA$2,H26<=CB$2,H26>=CA$2),H26-CA$2,IF(AND(G26>=CA$2,H26<=CB$2),H26-G26,IF(AND(G26=CA$2,G26>=CB$2),G26+CB$2,0))))*24 -> 0 | CD26: =IF(AND(J26>=CD$2,K26>=CE$2,J26<CE$2),CE$2-J26,IF(AND(J26<=CD$2,K26<=CE$2,K26>=CD$2),K26-CD$2,IF(AND(J26>=CD$2,K26<=CE$2),K26-J26,IF(AND(J26=CD$2,J26>=CE$2),J26+CE$2,0))))*24 -> 0 | CG26: =IF(AND(M26>=CG$2,N26>=CH$2,M26<CH$2),CH$2-M26,IF(AND(M26<=CG$2,N26<=CH$2,N26>=CG$2),N26-CG$2,IF(AND(M26>=CG$2,N26<=CH$2),N26-M26,IF(AND(M26=CG$2,M26>=CH$2),M26+CH$2,0))))*24 -> 0
A27: Dienstag | B27: 43368 | C27: fDNS | D27: 0 | E27: 0.020833333 | G27: 0.038194444 | H27: 0.16666667 | J27: 0.8125 | K27: 0.90277778 | M27: 0.91666667 | N27: 1 | O27: =(Formeln!E27-Formeln!D27)*24 -> 0.5 | Q27: =(Formeln!H27-Formeln!G27)*24 -> 3.0833333 | S27: =(Formeln!K27-Formeln!J27)*24 -> 2.1666667 | U27: =(Formeln!N27-Formeln!M27)*24 -> 2 | W27: =SUM(O27:U27) -> 7.75 | X27: =SUM(AB27:AK27) -> 3.5833333 | Y27: =SUM(AN27:BI27) -> 1 | Z27: =SUM(BL27:CG27) -> 1 | AB27: =IF(AND(D27>=$AB$2,E27>=$AC$2,D27<$AC$2),$AC$2-D27,IF(AND(D27<=$AB$2,E27<=$AC$2,E27>$AB$2),$AB$2+E27,IF(AND(D27>=$AB$2,E27<=$AC$2),E27-D27,IF(AND(D27=$AB$2,E27>=$AC$2),D27+$AC$2,0))))*24 -> 0.5 | AE27: =IF(AND(G27>=$AB$2,H27>=$AC$2,G27<$AC$2),$AC$2-G27,IF(AND(G27<=$AB$2,H27<=$AC$2,H27>$AB$2),$AB$2+H27,IF(AND(G27>=$AB$2,H27<=$AC$2),H27-G27,IF(AND(G27=$AB$2,H27>=$AC$2),G27+$AC$2,0))))*24 -> 3.0833333 | AH27: =IF(AND(J27>=$AB$2,K27>=$AC$2,J27<$AC$2),$AC$2-J27,IF(AND(J27<=$AB$2,K27<=$AC$2,K27>$AB$2),$AB$2+K27,IF(AND(J27>=$AB$2,K27<=$AC$2),K27-J27,IF(AND(J27=$AB$2,K27>=$AC$2),J27+$AC$2,0))))*24 -> 0 | AK27: =IF(AND(M27>=$AB$2,N27>=$AC$2,M27<$AC$2),$AC$2-M27,IF(AND(M27<=$AB$2,N27<=$AC$2,N27>$AB$2),$AB$2+N27,IF(AND(M27>=$AB$2,N27<=$AC$2),N27-M27,IF(AND(M27=$AB$2,N27>=$AC$2),M27+$AC$2,0))))*24 -> 0 | AN27: =IF(AND(D27>=AN$2,E27>=AO$2,D27<AO$2),AO$2-D27,IF(AND(D27<=AN$2,E27<=AO$2,E27>=AN$2),E27-AN$2,IF(AND(D27>=AN$2,E27<=AO$2),E27-D27,IF(AND(D27=AN$2,D27>=AO$2),D27+AO$2,0))))*24 -> 0 | AQ27: =IF(AND(G27>=AQ$2,H27>=AR$2,G27<AR$2),AR$2-G27,IF(AND(G27<=AQ$2,H27<=AR$2,H27>=AQ$2),H27-AQ$2,IF(AND(G27>=AQ$2,H27<=AR$2),H27-G27,IF(AND(G27=AQ$2,G27>=AR$2),G27+AR$2,0))))*24 -> 0 | AT27: =IF(AND(J27>=AT$2,K27>=AU$2,J27<AU$2),AU$2-J27,IF(AND(J27<=AT$2,K27<=AU$2,K27>=AT$2),K27-AT$2,IF(AND(J27>=AT$2,K27<=AU$2),K27-J27,IF(AND(J27=AT$2,J27>=AU$2),J27+AU$2,0))))*24 -> 0 | AW27: =IF(AND(M27>=AW$2,N27>=AX$2,M27<AX$2),AX$2-M27,IF(AND(M27<=AW$2,N27<=AX$2,N27>=AW$2),N27-AW$2,IF(AND(M27>=AW$2,N27<=AX$2),N27-M27,IF(AND(M27=AW$2,M27>=AX$2),M27+AX$2,0))))*24 -> 1 | AZ27: =IF(AND(D27>=AZ$2,E27>=BA$2,D27<BA$2),BA$2-D27,IF(AND(D27<=AZ$2,E27<=BA$2,E27>=AZ$2),E27-AZ$2,IF(AND(D27>=AZ$2,E27<=BA$2),E27-D27,IF(AND(D27=AZ$2,D27>=BA$2),D27+BA$2,0))))*24 -> 0 | BC27: =IF(AND(G27>=BC$2,H27>=BD$2,G27<BD$2),BD$2-G27,IF(AND(G27<=BC$2,H27<=BD$2,H27>=BC$2),H27-BC$2,IF(AND(G27>=BC$2,H27<=BD$2),H27-G27,IF(AND(G27=BC$2,G27>=BD$2),G27+BD$2,0))))*24 -> 7.9936058e-15 | BF27: =IF(AND(J27>=BF$2,K27>=BG$2,J27<BG$2),BG$2-J27,IF(AND(J27<=BF$2,K27<=BG$2,K27>=BF$2),K27-BF$2,IF(AND(J27>=BF$2,K27<=BG$2),K27-J27,IF(AND(J27=BF$2,J27>=BG$2),J27+BG$2,0))))*24 -> 0 | BI27: =IF(AND(M27>=BI$2,N27>=BJ$2,M27<BJ$2),BJ$2-M27,IF(AND(M27<=BI$2,N27<=BJ$2,N27>=BI$2),N27-BI$2,IF(AND(M27>=BI$2,N27<=BJ$2),N27-M27,IF(AND(M27=BI$2,M27>=BJ$2),M27+BJ$2,0))))*24 -> 0 | BL27: =IF(AND(D27>=BL$2,E27>=BM$2,D27<BM$2),BM$2-D27,IF(AND(D27<=BL$2,E27<=BM$2,E27>=BL$2),E27-BL$2,IF(AND(D27>=BL$2,E27<=BM25),E27-D27,IF(AND(D27=BL$2,D27>=BM$2),D27+BM$2,0))))*24 -> 0 | BO27: =IF(AND(G27>=BO$2,H27>=BP$2,G27<BP$2),BP$2-G27,IF(AND(G27<=BO$2,H27<=BP$2,H27>=BO$2),H27-BO$2,IF(AND(G27>=BO$2,H27<=BP25),H27-G27,IF(AND(G27=BO$2,G27>=BP$2),G27+BP$2,0))))*24 -> 0 | BR27: =IF(AND(J27>=BR$2,K27>=BS$2,J27<BS$2),BS$2-J27,IF(AND(J27<=BR$2,K27<=BS$2,K27>=BR$2),K27-BR$2,IF(AND(J27>=BR$2,K27<=BS25),K27-J27,IF(AND(J27=BR$2,J27>=BS$2),J27+BS$2,0))))*24 -> 0 | BU27: =IF(AND(M27>=BU$2,N27>=BV$2,M27<BV$2),BV$2-M27,IF(AND(M27<=BU$2,N27<=BV$2,N27>=BU$2),N27-BU$2,IF(AND(M27>=BU$2,N27<=BV25),N27-M27,IF(AND(M27=BU$2,M27>=BV$2),M27+BV$2,0))))*24 -> 1 | BX27: =IF(AND(D27>=BX$2,E27>=BY$2,D27<BY$2),BY$2-D27,IF(AND(D27<=BX$2,E27<=BY$2,E27>=BX$2),E27-BX$2,IF(AND(D27>=BX$2,E27<=BY$2),E27-D27,IF(AND(D27=BX$2,D27>=BY$2),D27+BY$2,0))))*24 -> 0 | CA27: =IF(AND(G27>=CA$2,H27>=CB$2,G27<CB$2),CB$2-G27,IF(AND(G27<=CA$2,H27<=CB$2,H27>=CA$2),H27-CA$2,IF(AND(G27>=CA$2,H27<=CB$2),H27-G27,IF(AND(G27=CA$2,G27>=CB$2),G27+CB$2,0))))*24 -> 7.9936058e-15 | CD27: =IF(AND(J27>=CD$2,K27>=CE$2,J27<CE$2),CE$2-J27,IF(AND(J27<=CD$2,K27<=CE$2,K27>=CD$2),K27-CD$2,IF(AND(J27>=CD$2,K27<=CE$2),K27-J27,IF(AND(J27=CD$2,J27>=CE$2),J27+CE$2,0))))*24 -> 0 | CG27: =IF(AND(M27>=CG$2,N27>=CH$2,M27<CH$2),CH$2-M27,IF(AND(M27<=CG$2,N27<=CH$2,N27>=CG$2),N27-CG$2,IF(AND(M27>=CG$2,N27<=CH$2),N27-M27,IF(AND(M27=CG$2,M27>=CH$2),M27+CH$2,0))))*24 -> 0
A28: Mittwoch | B28: 43369 | C28: fDNS | D28: 0 | E28: 0.020833333 | G28: 0.038194444 | H28: 0.16666667 | J28: 0.8125 | K28: 0.90277778 | M28: 0.91666667 | N28: 1 | O28: =(Formeln!E28-Formeln!D28)*24 -> 0.5 | Q28: =(Formeln!H28-Formeln!G28)*24 -> 3.0833333 | S28: =(Formeln!K28-Formeln!J28)*24 -> 2.1666667 | U28: =(Formeln!N28-Formeln!M28)*24 -> 2 | W28: =SUM(O28:U28) -> 7.75 | X28: =SUM(AB28:AK28) -> 3.5833333 | Y28: =SUM(AN28:BI28) -> 1 | Z28: =SUM(BL28:CG28) -> 1 | AB28: =IF(AND(D28>=$AB$2,E28>=$AC$2,D28<$AC$2),$AC$2-D28,IF(AND(D28<=$AB$2,E28<=$AC$2,E28>$AB$2),$AB$2+E28,IF(AND(D28>=$AB$2,E28<=$AC$2),E28-D28,IF(AND(D28=$AB$2,E28>=$AC$2),D28+$AC$2,0))))*24 -> 0.5 | AE28: =IF(AND(G28>=$AB$2,H28>=$AC$2,G28<$AC$2),$AC$2-G28,IF(AND(G28<=$AB$2,H28<=$AC$2,H28>$AB$2),$AB$2+H28,IF(AND(G28>=$AB$2,H28<=$AC$2),H28-G28,IF(AND(G28=$AB$2,H28>=$AC$2),G28+$AC$2,0))))*24 -> 3.0833333 | AH28: =IF(AND(J28>=$AB$2,K28>=$AC$2,J28<$AC$2),$AC$2-J28,IF(AND(J28<=$AB$2,K28<=$AC$2,K28>$AB$2),$AB$2+K28,IF(AND(J28>=$AB$2,K28<=$AC$2),K28-J28,IF(AND(J28=$AB$2,K28>=$AC$2),J28+$AC$2,0))))*24 -> 0 | AK28: =IF(AND(M28>=$AB$2,N28>=$AC$2,M28<$AC$2),$AC$2-M28,IF(AND(M28<=$AB$2,N28<=$AC$2,N28>$AB$2),$AB$2+N28,IF(AND(M28>=$AB$2,N28<=$AC$2),N28-M28,IF(AND(M28=$AB$2,N28>=$AC$2),M28+$AC$2,0))))*24 -> 0 | AN28: =IF(AND(D28>=AN$2,E28>=AO$2,D28<AO$2),AO$2-D28,IF(AND(D28<=AN$2,E28<=AO$2,E28>=AN$2),E28-AN$2,IF(AND(D28>=AN$2,E28<=AO$2),E28-D28,IF(AND(D28=AN$2,D28>=AO$2),D28+AO$2,0))))*24 -> 0 | AQ28: =IF(AND(G28>=AQ$2,H28>=AR$2,G28<AR$2),AR$2-G28,IF(AND(G28<=AQ$2,H28<=AR$2,H28>=AQ$2),H28-AQ$2,IF(AND(G28>=AQ$2,H28<=AR$2),H28-G28,IF(AND(G28=AQ$2,G28>=AR$2),G28+AR$2,0))))*24 -> 0 | AT28: =IF(AND(J28>=AT$2,K28>=AU$2,J28<AU$2),AU$2-J28,IF(AND(J28<=AT$2,K28<=AU$2,K28>=AT$2),K28-AT$2,IF(AND(J28>=AT$2,K28<=AU$2),K28-J28,IF(AND(J28=AT$2,J28>=AU$2),J28+AU$2,0))))*24 -> 0 | AW28: =IF(AND(M28>=AW$2,N28>=AX$2,M28<AX$2),AX$2-M28,IF(AND(M28<=AW$2,N28<=AX$2,N28>=AW$2),N28-AW$2,IF(AND(M28>=AW$2,N28<=AX$2),N28-M28,IF(AND(M28=AW$2,M28>=AX$2),M28+AX$2,0))))*24 -> 1 | AZ28: =IF(AND(D28>=AZ$2,E28>=BA$2,D28<BA$2),BA$2-D28,IF(AND(D28<=AZ$2,E28<=BA$2,E28>=AZ$2),E28-AZ$2,IF(AND(D28>=AZ$2,E28<=BA$2),E28-D28,IF(AND(D28=AZ$2,D28>=BA$2),D28+BA$2,0))))*24 -> 0 | BC28: =IF(AND(G28>=BC$2,H28>=BD$2,G28<BD$2),BD$2-G28,IF(AND(G28<=BC$2,H28<=BD$2,H28>=BC$2),H28-BC$2,IF(AND(G28>=BC$2,H28<=BD$2),H28-G28,IF(AND(G28=BC$2,G28>=BD$2),G28+BD$2,0))))*24 -> 7.9936058e-15 | BF28: =IF(AND(J28>=BF$2,K28>=BG$2,J28<BG$2),BG$2-J28,IF(AND(J28<=BF$2,K28<=BG$2,K28>=BF$2),K28-BF$2,IF(AND(J28>=BF$2,K28<=BG$2),K28-J28,IF(AND(J28=BF$2,J28>=BG$2),J28+BG$2,0))))*24 -> 0 | BI28: =IF(AND(M28>=BI$2,N28>=BJ$2,M28<BJ$2),BJ$2-M28,IF(AND(M28<=BI$2,N28<=BJ$2,N28>=BI$2),N28-BI$2,IF(AND(M28>=BI$2,N28<=BJ$2),N28-M28,IF(AND(M28=BI$2,M28>=BJ$2),M28+BJ$2,0))))*24 -> 0 | BL28: =IF(AND(D28>=BL$2,E28>=BM$2,D28<BM$2),BM$2-D28,IF(AND(D28<=BL$2,E28<=BM$2,E28>=BL$2),E28-BL$2,IF(AND(D28>=BL$2,E28<=BM26),E28-D28,IF(AND(D28=BL$2,D28>=BM$2),D28+BM$2,0))))*24 -> 0 | BO28: =IF(AND(G28>=BO$2,H28>=BP$2,G28<BP$2),BP$2-G28,IF(AND(G28<=BO$2,H28<=BP$2,H28>=BO$2),H28-BO$2,IF(AND(G28>=BO$2,H28<=BP26),H28-G28,IF(AND(G28=BO$2,G28>=BP$2),G28+BP$2,0))))*24 -> 0 | BR28: =IF(AND(J28>=BR$2,K28>=BS$2,J28<BS$2),BS$2-J28,IF(AND(J28<=BR$2,K28<=BS$2,K28>=BR$2),K28-BR$2,IF(AND(J28>=BR$2,K28<=BS26),K28-J28,IF(AND(J28=BR$2,J28>=BS$2),J28+BS$2,0))))*24 -> 0 | BU28: =IF(AND(M28>=BU$2,N28>=BV$2,M28<BV$2),BV$2-M28,IF(AND(M28<=BU$2,N28<=BV$2,N28>=BU$2),N28-BU$2,IF(AND(M28>=BU$2,N28<=BV26),N28-M28,IF(AND(M28=BU$2,M28>=BV$2),M28+BV$2,0))))*24 -> 1 | BX28: =IF(AND(D28>=BX$2,E28>=BY$2,D28<BY$2),BY$2-D28,IF(AND(D28<=BX$2,E28<=BY$2,E28>=BX$2),E28-BX$2,IF(AND(D28>=BX$2,E28<=BY$2),E28-D28,IF(AND(D28=BX$2,D28>=BY$2),D28+BY$2,0))))*24 -> 0 | CA28: =IF(AND(G28>=CA$2,H28>=CB$2,G28<CB$2),CB$2-G28,IF(AND(G28<=CA$2,H28<=CB$2,H28>=CA$2),H28-CA$2,IF(AND(G28>=CA$2,H28<=CB$2),H28-G28,IF(AND(G28=CA$2,G28>=CB$2),G28+CB$2,0))))*24 -> 7.9936058e-15 | CD28: =IF(AND(J28>=CD$2,K28>=CE$2,J28<CE$2),CE$2-J28,IF(AND(J28<=CD$2,K28<=CE$2,K28>=CD$2),K28-CD$2,IF(AND(J28>=CD$2,K28<=CE$2),K28-J28,IF(AND(J28=CD$2,J28>=CE$2),J28+CE$2,0))))*24 -> 0 | CG28: =IF(AND(M28>=CG$2,N28>=CH$2,M28<CH$2),CH$2-M28,IF(AND(M28<=CG$2,N28<=CH$2,N28>=CG$2),N28-CG$2,IF(AND(M28>=CG$2,N28<=CH$2),N28-M28,IF(AND(M28=CG$2,M28>=CH$2),M28+CH$2,0))))*24 -> 0
A29: Donnerstag | B29: 43370 | C29: fDNS | D29: 0 | E29: 0.020833333 | G29: 0.038194444 | H29: 0.16666667 | J29: 0.8125 | K29: 0.90277778 | M29: 0.91666667 | N29: 1 | O29: =(Formeln!E29-Formeln!D29)*24 -> 0.5 | Q29: =(Formeln!H29-Formeln!G29)*24 -> 3.0833333 | S29: =(Formeln!K29-Formeln!J29)*24 -> 2.1666667 | U29: =(Formeln!N29-Formeln!M29)*24 -> 2 | W29: =SUM(O29:U29) -> 7.75 | X29: =SUM(AB29:AK29) -> 3.5833333 | Y29: =SUM(AN29:BI29) -> 1 | Z29: =SUM(BL29:CG29) -> 1 | AB29: =IF(AND(D29>=$AB$2,E29>=$AC$2,D29<$AC$2),$AC$2-D29,IF(AND(D29<=$AB$2,E29<=$AC$2,E29>$AB$2),$AB$2+E29,IF(AND(D29>=$AB$2,E29<=$AC$2),E29-D29,IF(AND(D29=$AB$2,E29>=$AC$2),D29+$AC$2,0))))*24 -> 0.5 | AE29: =IF(AND(G29>=$AB$2,H29>=$AC$2,G29<$AC$2),$AC$2-G29,IF(AND(G29<=$AB$2,H29<=$AC$2,H29>$AB$2),$AB$2+H29,IF(AND(G29>=$AB$2,H29<=$AC$2),H29-G29,IF(AND(G29=$AB$2,H29>=$AC$2),G29+$AC$2,0))))*24 -> 3.0833333 | AH29: =IF(AND(J29>=$AB$2,K29>=$AC$2,J29<$AC$2),$AC$2-J29,IF(AND(J29<=$AB$2,K29<=$AC$2,K29>$AB$2),$AB$2+K29,IF(AND(J29>=$AB$2,K29<=$AC$2),K29-J29,IF(AND(J29=$AB$2,K29>=$AC$2),J29+$AC$2,0))))*24 -> 0 | AK29: =IF(AND(M29>=$AB$2,N29>=$AC$2,M29<$AC$2),$AC$2-M29,IF(AND(M29<=$AB$2,N29<=$AC$2,N29>$AB$2),$AB$2+N29,IF(AND(M29>=$AB$2,N29<=$AC$2),N29-M29,IF(AND(M29=$AB$2,N29>=$AC$2),M29+$AC$2,0))))*24 -> 0 | AN29: =IF(AND(D29>=AN$2,E29>=AO$2,D29<AO$2),AO$2-D29,IF(AND(D29<=AN$2,E29<=AO$2,E29>=AN$2),E29-AN$2,IF(AND(D29>=AN$2,E29<=AO$2),E29-D29,IF(AND(D29=AN$2,D29>=AO$2),D29+AO$2,0))))*24 -> 0 | AQ29: =IF(AND(G29>=AQ$2,H29>=AR$2,G29<AR$2),AR$2-G29,IF(AND(G29<=AQ$2,H29<=AR$2,H29>=AQ$2),H29-AQ$2,IF(AND(G29>=AQ$2,H29<=AR$2),H29-G29,IF(AND(G29=AQ$2,G29>=AR$2),G29+AR$2,0))))*24 -> 0 | AT29: =IF(AND(J29>=AT$2,K29>=AU$2,J29<AU$2),AU$2-J29,IF(AND(J29<=AT$2,K29<=AU$2,K29>=AT$2),K29-AT$2,IF(AND(J29>=AT$2,K29<=AU$2),K29-J29,IF(AND(J29=AT$2,J29>=AU$2),J29+AU$2,0))))*24 -> 0 | AW29: =IF(AND(M29>=AW$2,N29>=AX$2,M29<AX$2),AX$2-M29,IF(AND(M29<=AW$2,N29<=AX$2,N29>=AW$2),N29-AW$2,IF(AND(M29>=AW$2,N29<=AX$2),N29-M29,IF(AND(M29=AW$2,M29>=AX$2),M29+AX$2,0))))*24 -> 1 | AZ29: =IF(AND(D29>=AZ$2,E29>=BA$2,D29<BA$2),BA$2-D29,IF(AND(D29<=AZ$2,E29<=BA$2,E29>=AZ$2),E29-AZ$2,IF(AND(D29>=AZ$2,E29<=BA$2),E29-D29,IF(AND(D29=AZ$2,D29>=BA$2),D29+BA$2,0))))*24 -> 0 | BC29: =IF(AND(G29>=BC$2,H29>=BD$2,G29<BD$2),BD$2-G29,IF(AND(G29<=BC$2,H29<=BD$2,H29>=BC$2),H29-BC$2,IF(AND(G29>=BC$2,H29<=BD$2),H29-G29,IF(AND(G29=BC$2,G29>=BD$2),G29+BD$2,0))))*24 -> 7.9936058e-15 | BF29: =IF(AND(J29>=BF$2,K29>=BG$2,J29<BG$2),BG$2-J29,IF(AND(J29<=BF$2,K29<=BG$2,K29>=BF$2),K29-BF$2,IF(AND(J29>=BF$2,K29<=BG$2),K29-J29,IF(AND(J29=BF$2,J29>=BG$2),J29+BG$2,0))))*24 -> 0 | BI29: =IF(AND(M29>=BI$2,N29>=BJ$2,M29<BJ$2),BJ$2-M29,IF(AND(M29<=BI$2,N29<=BJ$2,N29>=BI$2),N29-BI$2,IF(AND(M29>=BI$2,N29<=BJ$2),N29-M29,IF(AND(M29=BI$2,M29>=BJ$2),M29+BJ$2,0))))*24 -> 0 | BL29: =IF(AND(D29>=BL$2,E29>=BM$2,D29<BM$2),BM$2-D29,IF(AND(D29<=BL$2,E29<=BM$2,E29>=BL$2),E29-BL$2,IF(AND(D29>=BL$2,E29<=BM27),E29-D29,IF(AND(D29=BL$2,D29>=BM$2),D29+BM$2,0))))*24 -> 0 | BO29: =IF(AND(G29>=BO$2,H29>=BP$2,G29<BP$2),BP$2-G29,IF(AND(G29<=BO$2,H29<=BP$2,H29>=BO$2),H29-BO$2,IF(AND(G29>=BO$2,H29<=BP27),H29-G29,IF(AND(G29=BO$2,G29>=BP$2),G29+BP$2,0))))*24 -> 0 | BR29: =IF(AND(J29>=BR$2,K29>=BS$2,J29<BS$2),BS$2-J29,IF(AND(J29<=BR$2,K29<=BS$2,K29>=BR$2),K29-BR$2,IF(AND(J29>=BR$2,K29<=BS27),K29-J29,IF(AND(J29=BR$2,J29>=BS$2),J29+BS$2,0))))*24 -> 0 | BU29: =IF(AND(M29>=BU$2,N29>=BV$2,M29<BV$2),BV$2-M29,IF(AND(M29<=BU$2,N29<=BV$2,N29>=BU$2),N29-BU$2,IF(AND(M29>=BU$2,N29<=BV27),N29-M29,IF(AND(M29=BU$2,M29>=BV$2),M29+BV$2,0))))*24 -> 1 | BX29: =IF(AND(D29>=BX$2,E29>=BY$2,D29<BY$2),BY$2-D29,IF(AND(D29<=BX$2,E29<=BY$2,E29>=BX$2),E29-BX$2,IF(AND(D29>=BX$2,E29<=BY$2),E29-D29,IF(AND(D29=BX$2,D29>=BY$2),D29+BY$2,0))))*24 -> 0 | CA29: =IF(AND(G29>=CA$2,H29>=CB$2,G29<CB$2),CB$2-G29,IF(AND(G29<=CA$2,H29<=CB$2,H29>=CA$2),H29-CA$2,IF(AND(G29>=CA$2,H29<=CB$2),H29-G29,IF(AND(G29=CA$2,G29>=CB$2),G29+CB$2,0))))*24 -> 7.9936058e-15 | CD29: =IF(AND(J29>=CD$2,K29>=CE$2,J29<CE$2),CE$2-J29,IF(AND(J29<=CD$2,K29<=CE$2,K29>=CD$2),K29-CD$2,IF(AND(J29>=CD$2,K29<=CE$2),K29-J29,IF(AND(J29=CD$2,J29>=CE$2),J29+CE$2,0))))*24 -> 0 | CG29: =IF(AND(M29>=CG$2,N29>=CH$2,M29<CH$2),CH$2-M29,IF(AND(M29<=CG$2,N29<=CH$2,N29>=CG$2),N29-CG$2,IF(AND(M29>=CG$2,N29<=CH$2),N29-M29,IF(AND(M29=CG$2,M29>=CH$2),M29+CH$2,0))))*24 -> 0
A30: Freitag | B30: 43371 | C30: fDNS | D30: 0 | E30: 0.020833333 | G30: 0.038194444 | H30: 0.16666667 | J30: 0.8125 | K30: 0.90277778 | M30: 0.91666667 | N30: 1 | O30: =(Formeln!E30-Formeln!D30)*24 -> 0.5 | Q30: =(Formeln!H30-Formeln!G30)*24 -> 3.0833333 | S30: =(Formeln!K30-Formeln!J30)*24 -> 2.1666667 | U30: =(Formeln!N30-Formeln!M30)*24 -> 2 | W30: =SUM(O30:U30) -> 7.75 | X30: =SUM(AB30:AK30) -> 3.5833333 | Y30: =SUM(AN30:BI30) -> 1 | Z30: =SUM(BL30:CG30) -> 1 | AB30: =IF(AND(D30>=$AB$2,E30>=$AC$2,D30<$AC$2),$AC$2-D30,IF(AND(D30<=$AB$2,E30<=$AC$2,E30>$AB$2),$AB$2+E30,IF(AND(D30>=$AB$2,E30<=$AC$2),E30-D30,IF(AND(D30=$AB$2,E30>=$AC$2),D30+$AC$2,0))))*24 -> 0.5 | AE30: =IF(AND(G30>=$AB$2,H30>=$AC$2,G30<$AC$2),$AC$2-G30,IF(AND(G30<=$AB$2,H30<=$AC$2,H30>$AB$2),$AB$2+H30,IF(AND(G30>=$AB$2,H30<=$AC$2),H30-G30,IF(AND(G30=$AB$2,H30>=$AC$2),G30+$AC$2,0))))*24 -> 3.0833333 | AH30: =IF(AND(J30>=$AB$2,K30>=$AC$2,J30<$AC$2),$AC$2-J30,IF(AND(J30<=$AB$2,K30<=$AC$2,K30>$AB$2),$AB$2+K30,IF(AND(J30>=$AB$2,K30<=$AC$2),K30-J30,IF(AND(J30=$AB$2,K30>=$AC$2),J30+$AC$2,0))))*24 -> 0 | AK30: =IF(AND(M30>=$AB$2,N30>=$AC$2,M30<$AC$2),$AC$2-M30,IF(AND(M30<=$AB$2,N30<=$AC$2,N30>$AB$2),$AB$2+N30,IF(AND(M30>=$AB$2,N30<=$AC$2),N30-M30,IF(AND(M30=$AB$2,N30>=$AC$2),M30+$AC$2,0))))*24 -> 0 | AN30: =IF(AND(D30>=AN$2,E30>=AO$2,D30<AO$2),AO$2-D30,IF(AND(D30<=AN$2,E30<=AO$2,E30>=AN$2),E30-AN$2,IF(AND(D30>=AN$2,E30<=AO$2),E30-D30,IF(AND(D30=AN$2,D30>=AO$2),D30+AO$2,0))))*24 -> 0 | AQ30: =IF(AND(G30>=AQ$2,H30>=AR$2,G30<AR$2),AR$2-G30,IF(AND(G30<=AQ$2,H30<=AR$2,H30>=AQ$2),H30-AQ$2,IF(AND(G30>=AQ$2,H30<=AR$2),H30-G30,IF(AND(G30=AQ$2,G30>=AR$2),G30+AR$2,0))))*24 -> 0 | AT30: =IF(AND(J30>=AT$2,K30>=AU$2,J30<AU$2),AU$2-J30,IF(AND(J30<=AT$2,K30<=AU$2,K30>=AT$2),K30-AT$2,IF(AND(J30>=AT$2,K30<=AU$2),K30-J30,IF(AND(J30=AT$2,J30>=AU$2),J30+AU$2,0))))*24 -> 0 | AW30: =IF(AND(M30>=AW$2,N30>=AX$2,M30<AX$2),AX$2-M30,IF(AND(M30<=AW$2,N30<=AX$2,N30>=AW$2),N30-AW$2,IF(AND(M30>=AW$2,N30<=AX$2),N30-M30,IF(AND(M30=AW$2,M30>=AX$2),M30+AX$2,0))))*24 -> 1 | AZ30: =IF(AND(D30>=AZ$2,E30>=BA$2,D30<BA$2),BA$2-D30,IF(AND(D30<=AZ$2,E30<=BA$2,E30>=AZ$2),E30-AZ$2,IF(AND(D30>=AZ$2,E30<=BA$2),E30-D30,IF(AND(D30=AZ$2,D30>=BA$2),D30+BA$2,0))))*24 -> 0 | BC30: =IF(AND(G30>=BC$2,H30>=BD$2,G30<BD$2),BD$2-G30,IF(AND(G30<=BC$2,H30<=BD$2,H30>=BC$2),H30-BC$2,IF(AND(G30>=BC$2,H30<=BD$2),H30-G30,IF(AND(G30=BC$2,G30>=BD$2),G30+BD$2,0))))*24 -> 7.9936058e-15 | BF30: =IF(AND(J30>=BF$2,K30>=BG$2,J30<BG$2),BG$2-J30,IF(AND(J30<=BF$2,K30<=BG$2,K30>=BF$2),K30-BF$2,IF(AND(J30>=BF$2,K30<=BG$2),K30-J30,IF(AND(J30=BF$2,J30>=BG$2),J30+BG$2,0))))*24 -> 0 | BI30: =IF(AND(M30>=BI$2,N30>=BJ$2,M30<BJ$2),BJ$2-M30,IF(AND(M30<=BI$2,N30<=BJ$2,N30>=BI$2),N30-BI$2,IF(AND(M30>=BI$2,N30<=BJ$2),N30-M30,IF(AND(M30=BI$2,M30>=BJ$2),M30+BJ$2,0))))*24 -> 0 | BL30: =IF(AND(D30>=BL$2,E30>=BM$2,D30<BM$2),BM$2-D30,IF(AND(D30<=BL$2,E30<=BM$2,E30>=BL$2),E30-BL$2,IF(AND(D30>=BL$2,E30<=BM28),E30-D30,IF(AND(D30=BL$2,D30>=BM$2),D30+BM$2,0))))*24 -> 0 | BO30: =IF(AND(G30>=BO$2,H30>=BP$2,G30<BP$2),BP$2-G30,IF(AND(G30<=BO$2,H30<=BP$2,H30>=BO$2),H30-BO$2,IF(AND(G30>=BO$2,H30<=BP28),H30-G30,IF(AND(G30=BO$2,G30>=BP$2),G30+BP$2,0))))*24 -> 0 | BR30: =IF(AND(J30>=BR$2,K30>=BS$2,J30<BS$2),BS$2-J30,IF(AND(J30<=BR$2,K30<=BS$2,K30>=BR$2),K30-BR$2,IF(AND(J30>=BR$2,K30<=BS28),K30-J30,IF(AND(J30=BR$2,J30>=BS$2),J30+BS$2,0))))*24 -> 0 | BU30: =IF(AND(M30>=BU$2,N30>=BV$2,M30<BV$2),BV$2-M30,IF(AND(M30<=BU$2,N30<=BV$2,N30>=BU$2),N30-BU$2,IF(AND(M30>=BU$2,N30<=BV28),N30-M30,IF(AND(M30=BU$2,M30>=BV$2),M30+BV$2,0))))*24 -> 1 | BX30: =IF(AND(D30>=BX$2,E30>=BY$2,D30<BY$2),BY$2-D30,IF(AND(D30<=BX$2,E30<=BY$2,E30>=BX$2),E30-BX$2,IF(AND(D30>=BX$2,E30<=BY$2),E30-D30,IF(AND(D30=BX$2,D30>=BY$2),D30+BY$2,0))))*24 -> 0 | CA30: =IF(AND(G30>=CA$2,H30>=CB$2,G30<CB$2),CB$2-G30,IF(AND(G30<=CA$2,H30<=CB$2,H30>=CA$2),H30-CA$2,IF(AND(G30>=CA$2,H30<=CB$2),H30-G30,IF(AND(G30=CA$2,G30>=CB$2),G30+CB$2,0))))*24 -> 7.9936058e-15 | CD30: =IF(AND(J30>=CD$2,K30>=CE$2,J30<CE$2),CE$2-J30,IF(AND(J30<=CD$2,K30<=CE$2,K30>=CD$2),K30-CD$2,IF(AND(J30>=CD$2,K30<=CE$2),K30-J30,IF(AND(J30=CD$2,J30>=CE$2),J30+CE$2,0))))*24 -> 0 | CG30: =IF(AND(M30>=CG$2,N30>=CH$2,M30<CH$2),CH$2-M30,IF(AND(M30<=CG$2,N30<=CH$2,N30>=CG$2),N30-CG$2,IF(AND(M30>=CG$2,N30<=CH$2),N30-M30,IF(AND(M30=CG$2,M30>=CH$2),M30+CH$2,0))))*24 -> 0
A31: Samstag | B31: 43372 | C31: fDNS | D31: 0 | E31: 0.020833333 | G31: 0.038194444 | H31: 0.16666667 | O31: =(Formeln!E31-Formeln!D31)*24 -> 0.5 | Q31: =(Formeln!H31-Formeln!G31)*24 -> 3.0833333 | S31: =(Formeln!K31-Formeln!J31)*24 -> 0 | U31: =(Formeln!N31-Formeln!M31)*24 -> 0 | W31: =SUM(O31:U31) -> 3.5833333 | X31: =SUM(AB31:AK31) -> 3.5833333 | Y31: =SUM(AN31:BI31) -> 7.9936058e-15 | Z31: =SUM(BL31:CG31) -> 7.9936058e-15 | AB31: =IF(AND(D31>=$AB$2,E31>=$AC$2,D31<$AC$2),$AC$2-D31,IF(AND(D31<=$AB$2,E31<=$AC$2,E31>$AB$2),$AB$2+E31,IF(AND(D31>=$AB$2,E31<=$AC$2),E31-D31,IF(AND(D31=$AB$2,E31>=$AC$2),D31+$AC$2,0))))*24 -> 0.5 | AE31: =IF(AND(G31>=$AB$2,H31>=$AC$2,G31<$AC$2),$AC$2-G31,IF(AND(G31<=$AB$2,H31<=$AC$2,H31>$AB$2),$AB$2+H31,IF(AND(G31>=$AB$2,H31<=$AC$2),H31-G31,IF(AND(G31=$AB$2,H31>=$AC$2),G31+$AC$2,0))))*24 -> 3.0833333 | AH31: =IF(AND(J31>=$AB$2,K31>=$AC$2,J31<$AC$2),$AC$2-J31,IF(AND(J31<=$AB$2,K31<=$AC$2,K31>$AB$2),$AB$2+K31,IF(AND(J31>=$AB$2,K31<=$AC$2),K31-J31,IF(AND(J31=$AB$2,K31>=$AC$2),J31+$AC$2,0))))*24 -> 0 | AK31: =IF(AND(M31>=$AB$2,N31>=$AC$2,M31<$AC$2),$AC$2-M31,IF(AND(M31<=$AB$2,N31<=$AC$2,N31>$AB$2),$AB$2+N31,IF(AND(M31>=$AB$2,N31<=$AC$2),N31-M31,IF(AND(M31=$AB$2,N31>=$AC$2),M31+$AC$2,0))))*24 -> 0 | AN31: =IF(AND(D31>=AN$2,E31>=AO$2,D31<AO$2),AO$2-D31,IF(AND(D31<=AN$2,E31<=AO$2,E31>=AN$2),E31-AN$2,IF(AND(D31>=AN$2,E31<=AO$2),E31-D31,IF(AND(D31=AN$2,D31>=AO$2),D31+AO$2,0))))*24 -> 0 | AQ31: =IF(AND(G31>=AQ$2,H31>=AR$2,G31<AR$2),AR$2-G31,IF(AND(G31<=AQ$2,H31<=AR$2,H31>=AQ$2),H31-AQ$2,IF(AND(G31>=AQ$2,H31<=AR$2),H31-G31,IF(AND(G31=AQ$2,G31>=AR$2),G31+AR$2,0))))*24 -> 0 | AT31: =IF(AND(J31>=AT$2,K31>=AU$2,J31<AU$2),AU$2-J31,IF(AND(J31<=AT$2,K31<=AU$2,K31>=AT$2),K31-AT$2,IF(AND(J31>=AT$2,K31<=AU$2),K31-J31,IF(AND(J31=AT$2,J31>=AU$2),J31+AU$2,0))))*24 -> 0 | AW31: =IF(AND(M31>=AW$2,N31>=AX$2,M31<AX$2),AX$2-M31,IF(AND(M31<=AW$2,N31<=AX$2,N31>=AW$2),N31-AW$2,IF(AND(M31>=AW$2,N31<=AX$2),N31-M31,IF(AND(M31=AW$2,M31>=AX$2),M31+AX$2,0))))*24 -> 0 | AZ31: =IF(AND(D31>=AZ$2,E31>=BA$2,D31<BA$2),BA$2-D31,IF(AND(D31<=AZ$2,E31<=BA$2,E31>=AZ$2),E31-AZ$2,IF(AND(D31>=AZ$2,E31<=BA$2),E31-D31,IF(AND(D31=AZ$2,D31>=BA$2),D31+BA$2,0))))*24 -> 0 | BC31: =IF(AND(G31>=BC$2,H31>=BD$2,G31<BD$2),BD$2-G31,IF(AND(G31<=BC$2,H31<=BD$2,H31>=BC$2),H31-BC$2,IF(AND(G31>=BC$2,H31<=BD$2),H31-G31,IF(AND(G31=BC$2,G31>=BD$2),G31+BD$2,0))))*24 -> 7.9936058e-15 | BF31: =IF(AND(J31>=BF$2,K31>=BG$2,J31<BG$2),BG$2-J31,IF(AND(J31<=BF$2,K31<=BG$2,K31>=BF$2),K31-BF$2,IF(AND(J31>=BF$2,K31<=BG$2),K31-J31,IF(AND(J31=BF$2,J31>=BG$2),J31+BG$2,0))))*24 -> 0 | BI31: =IF(AND(M31>=BI$2,N31>=BJ$2,M31<BJ$2),BJ$2-M31,IF(AND(M31<=BI$2,N31<=BJ$2,N31>=BI$2),N31-BI$2,IF(AND(M31>=BI$2,N31<=BJ$2),N31-M31,IF(AND(M31=BI$2,M31>=BJ$2),M31+BJ$2,0))))*24 -> 0 | BL31: =IF(AND(D31>=BL$2,E31>=BM$2,D31<BM$2),BM$2-D31,IF(AND(D31<=BL$2,E31<=BM$2,E31>=BL$2),E31-BL$2,IF(AND(D31>=BL$2,E31<=BM29),E31-D31,IF(AND(D31=BL$2,D31>=BM$2),D31+BM$2,0))))*24 -> 0 | BO31: =IF(AND(G31>=BO$2,H31>=BP$2,G31<BP$2),BP$2-G31,IF(AND(G31<=BO$2,H31<=BP$2,H31>=BO$2),H31-BO$2,IF(AND(G31>=BO$2,H31<=BP29),H31-G31,IF(AND(G31=BO$2,G31>=BP$2),G31+BP$2,0))))*24 -> 0 | BR31: =IF(AND(J31>=BR$2,K31>=BS$2,J31<BS$2),BS$2-J31,IF(AND(J31<=BR$2,K31<=BS$2,K31>=BR$2),K31-BR$2,IF(AND(J31>=BR$2,K31<=BS29),K31-J31,IF(AND(J31=BR$2,J31>=BS$2),J31+BS$2,0))))*24 -> 0 | BU31: =IF(AND(M31>=BU$2,N31>=BV$2,M31<BV$2),BV$2-M31,IF(AND(M31<=BU$2,N31<=BV$2,N31>=BU$2),N31-BU$2,IF(AND(M31>=BU$2,N31<=BV29),N31-M31,IF(AND(M31=BU$2,M31>=BV$2),M31+BV$2,0))))*24 -> 0 | BX31: =IF(AND(D31>=BX$2,E31>=BY$2,D31<BY$2),BY$2-D31,IF(AND(D31<=BX$2,E31<=BY$2,E31>=BX$2),E31-BX$2,IF(AND(D31>=BX$2,E31<=BY$2),E31-D31,IF(AND(D31=BX$2,D31>=BY$2),D31+BY$2,0))))*24 -> 0 | CA31: =IF(AND(G31>=CA$2,H31>=CB$2,G31<CB$2),CB$2-G31,IF(AND(G31<=CA$2,H31<=CB$2,H31>=CA$2),H31-CA$2,IF(AND(G31>=CA$2,H31<=CB$2),H31-G31,IF(AND(G31=CA$2,G31>=CB$2),G31+CB$2,0))))*24 -> 7.9936058e-15 | CD31: =IF(AND(J31>=CD$2,K31>=CE$2,J31<CE$2),CE$2-J31,IF(AND(J31<=CD$2,K31<=CE$2,K31>=CD$2),K31-CD$2,IF(AND(J31>=CD$2,K31<=CE$2),K31-J31,IF(AND(J31=CD$2,J31>=CE$2),J31+CE$2,0))))*24 -> 0 | CG31: =IF(AND(M31>=CG$2,N31>=CH$2,M31<CH$2),CH$2-M31,IF(AND(M31<=CG$2,N31<=CH$2,N31>=CG$2),N31-CG$2,IF(AND(M31>=CG$2,N31<=CH$2),N31-M31,IF(AND(M31=CG$2,M31>=CH$2),M31+CH$2,0))))*24 -> 0
A32: Sonntag | B32: 43373 | O32: =(Formeln!E32-Formeln!D32)*24 -> 0 | Q32: =(Formeln!H32-Formeln!G32)*24 -> 0 | S32: =(Formeln!K32-Formeln!J32)*24 -> 0 | U32: =(Formeln!N32-Formeln!M32)*24 -> 0 | W32: =SUM(O32:U32) -> 0 | X32: =SUM(AB32:AK32) -> 0 | Y32: =SUM(AN32:BI32) -> 0 | Z32: =SUM(BL32:CG32) -> 0 | AB32: =IF(AND(D32>=$AB$2,E32>=$AC$2,D32<$AC$2),$AC$2-D32,IF(AND(D32<=$AB$2,E32<=$AC$2,E32>$AB$2),$AB$2+E32,IF(AND(D32>=$AB$2,E32<=$AC$2),E32-D32,IF(AND(D32=$AB$2,E32>=$AC$2),D32+$AC$2,0))))*24 -> 0 | AE32: =IF(AND(G32>=$AB$2,H32>=$AC$2,G32<$AC$2),$AC$2-G32,IF(AND(G32<=$AB$2,H32<=$AC$2,H32>$AB$2),$AB$2+H32,IF(AND(G32>=$AB$2,H32<=$AC$2),H32-G32,IF(AND(G32=$AB$2,H32>=$AC$2),G32+$AC$2,0))))*24 -> 0 | AH32: =IF(AND(J32>=$AB$2,K32>=$AC$2,J32<$AC$2),$AC$2-J32,IF(AND(J32<=$AB$2,K32<=$AC$2,K32>$AB$2),$AB$2+K32,IF(AND(J32>=$AB$2,K32<=$AC$2),K32-J32,IF(AND(J32=$AB$2,K32>=$AC$2),J32+$AC$2,0))))*24 -> 0 | AK32: =IF(AND(M32>=$AB$2,N32>=$AC$2,M32<$AC$2),$AC$2-M32,IF(AND(M32<=$AB$2,N32<=$AC$2,N32>$AB$2),$AB$2+N32,IF(AND(M32>=$AB$2,N32<=$AC$2),N32-M32,IF(AND(M32=$AB$2,N32>=$AC$2),M32+$AC$2,0))))*24 -> 0 | AN32: =IF(AND(D32>=AN$2,E32>=AO$2,D32<AO$2),AO$2-D32,IF(AND(D32<=AN$2,E32<=AO$2,E32>=AN$2),E32-AN$2,IF(AND(D32>=AN$2,E32<=AO$2),E32-D32,IF(AND(D32=AN$2,D32>=AO$2),D32+AO$2,0))))*24 -> 0 | AQ32: =IF(AND(G32>=AQ$2,H32>=AR$2,G32<AR$2),AR$2-G32,IF(AND(G32<=AQ$2,H32<=AR$2,H32>=AQ$2),H32-AQ$2,IF(AND(G32>=AQ$2,H32<=AR$2),H32-G32,IF(AND(G32=AQ$2,G32>=AR$2),G32+AR$2,0))))*24 -> 0 | AT32: =IF(AND(J32>=AT$2,K32>=AU$2,J32<AU$2),AU$2-J32,IF(AND(J32<=AT$2,K32<=AU$2,K32>=AT$2),K32-AT$2,IF(AND(J32>=AT$2,K32<=AU$2),K32-J32,IF(AND(J32=AT$2,J32>=AU$2),J32+AU$2,0))))*24 -> 0 | AW32: =IF(AND(M32>=AW$2,N32>=AX$2,M32<AX$2),AX$2-M32,IF(AND(M32<=AW$2,N32<=AX$2,N32>=AW$2),N32-AW$2,IF(AND(M32>=AW$2,N32<=AX$2),N32-M32,IF(AND(M32=AW$2,M32>=AX$2),M32+AX$2,0))))*24 -> 0 | AZ32: =IF(AND(D32>=AZ$2,E32>=BA$2,D32<BA$2),BA$2-D32,IF(AND(D32<=AZ$2,E32<=BA$2,E32>=AZ$2),E32-AZ$2,IF(AND(D32>=AZ$2,E32<=BA$2),E32-D32,IF(AND(D32=AZ$2,D32>=BA$2),D32+BA$2,0))))*24 -> 0 | BC32: =IF(AND(G32>=BC$2,H32>=BD$2,G32<BD$2),BD$2-G32,IF(AND(G32<=BC$2,H32<=BD$2,H32>=BC$2),H32-BC$2,IF(AND(G32>=BC$2,H32<=BD$2),H32-G32,IF(AND(G32=BC$2,G32>=BD$2),G32+BD$2,0))))*24 -> 0 | BF32: =IF(AND(J32>=BF$2,K32>=BG$2,J32<BG$2),BG$2-J32,IF(AND(J32<=BF$2,K32<=BG$2,K32>=BF$2),K32-BF$2,IF(AND(J32>=BF$2,K32<=BG$2),K32-J32,IF(AND(J32=BF$2,J32>=BG$2),J32+BG$2,0))))*24 -> 0 | BI32: =IF(AND(M32>=BI$2,N32>=BJ$2,M32<BJ$2),BJ$2-M32,IF(AND(M32<=BI$2,N32<=BJ$2,N32>=BI$2),N32-BI$2,IF(AND(M32>=BI$2,N32<=BJ$2),N32-M32,IF(AND(M32=BI$2,M32>=BJ$2),M32+BJ$2,0))))*24 -> 0 | BL32: =IF(AND(D32>=BL$2,E32>=BM$2,D32<BM$2),BM$2-D32,IF(AND(D32<=BL$2,E32<=BM$2,E32>=BL$2),E32-BL$2,IF(AND(D32>=BL$2,E32<=BM30),E32-D32,IF(AND(D32=BL$2,D32>=BM$2),D32+BM$2,0))))*24 -> 0 | BO32: =IF(AND(G32>=BO$2,H32>=BP$2,G32<BP$2),BP$2-G32,IF(AND(G32<=BO$2,H32<=BP$2,H32>=BO$2),H32-BO$2,IF(AND(G32>=BO$2,H32<=BP30),H32-G32,IF(AND(G32=BO$2,G32>=BP$2),G32+BP$2,0))))*24 -> 0 | BR32: =IF(AND(J32>=BR$2,K32>=BS$2,J32<BS$2),BS$2-J32,IF(AND(J32<=BR$2,K32<=BS$2,K32>=BR$2),K32-BR$2,IF(AND(J32>=BR$2,K32<=BS30),K32-J32,IF(AND(J32=BR$2,J32>=BS$2),J32+BS$2,0))))*24 -> 0 | BU32: =IF(AND(M32>=BU$2,N32>=BV$2,M32<BV$2),BV$2-M32,IF(AND(M32<=BU$2,N32<=BV$2,N32>=BU$2),N32-BU$2,IF(AND(M32>=BU$2,N32<=BV30),N32-M32,IF(AND(M32=BU$2,M32>=BV$2),M32+BV$2,0))))*24 -> 0 | BX32: =IF(AND(D32>=BX$2,E32>=BY$2,D32<BY$2),BY$2-D32,IF(AND(D32<=BX$2,E32<=BY$2,E32>=BX$2),E32-BX$2,IF(AND(D32>=BX$2,E32<=BY$2),E32-D32,IF(AND(D32=BX$2,D32>=BY$2),D32+BY$2,0))))*24 -> 0 | CA32: =IF(AND(G32>=CA$2,H32>=CB$2,G32<CB$2),CB$2-G32,IF(AND(G32<=CA$2,H32<=CB$2,H32>=CA$2),H32-CA$2,IF(AND(G32>=CA$2,H32<=CB$2),H32-G32,IF(AND(G32=CA$2,G32>=CB$2),G32+CB$2,0))))*24 -> 0 | CD32: =IF(AND(J32>=CD$2,K32>=CE$2,J32<CE$2),CE$2-J32,IF(AND(J32<=CD$2,K32<=CE$2,K32>=CD$2),K32-CD$2,IF(AND(J32>=CD$2,K32<=CE$2),K32-J32,IF(AND(J32=CD$2,J32>=CE$2),J32+CE$2,0))))*24 -> 0 | CG32: =IF(AND(M32>=CG$2,N32>=CH$2,M32<CH$2),CH$2-M32,IF(AND(M32<=CG$2,N32<=CH$2,N32>=CG$2),N32-CG$2,IF(AND(M32>=CG$2,N32<=CH$2),N32-M32,IF(AND(M32=CG$2,M32>=CH$2),M32+CH$2,0))))*24 -> 0
A33: Montag | B33: 43374 | J33: 0.8125 | K33: 0.90277778 | M33: 0.91666667 | N33: 1 | O33: =(Formeln!E33-Formeln!D33)*24 -> 0 | Q33: =(Formeln!H33-Formeln!G33)*24 -> 0 | S33: =(Formeln!K33-Formeln!J33)*24 -> 2.1666667 | U33: =(Formeln!N33-Formeln!M33)*24 -> 2 | W33: =SUM(O33:U33) -> 4.1666667 | X33: =SUM(AB33:AK33) -> 0 | Y33: =SUM(AN33:BI33) -> 1 | Z33: =SUM(BL33:CG33) -> 1 | AB33: =IF(AND(D33>=$AB$2,E33>=$AC$2,D33<$AC$2),$AC$2-D33,IF(AND(D33<=$AB$2,E33<=$AC$2,E33>$AB$2),$AB$2+E33,IF(AND(D33>=$AB$2,E33<=$AC$2),E33-D33,IF(AND(D33=$AB$2,E33>=$AC$2),D33+$AC$2,0))))*24 -> 0 | AE33: =IF(AND(G33>=$AB$2,H33>=$AC$2,G33<$AC$2),$AC$2-G33,IF(AND(G33<=$AB$2,H33<=$AC$2,H33>$AB$2),$AB$2+H33,IF(AND(G33>=$AB$2,H33<=$AC$2),H33-G33,IF(AND(G33=$AB$2,H33>=$AC$2),G33+$AC$2,0))))*24 -> 0 | AH33: =IF(AND(J33>=$AB$2,K33>=$AC$2,J33<$AC$2),$AC$2-J33,IF(AND(J33<=$AB$2,K33<=$AC$2,K33>$AB$2),$AB$2+K33,IF(AND(J33>=$AB$2,K33<=$AC$2),K33-J33,IF(AND(J33=$AB$2,K33>=$AC$2),J33+$AC$2,0))))*24 -> 0 | AK33: =IF(AND(M33>=$AB$2,N33>=$AC$2,M33<$AC$2),$AC$2-M33,IF(AND(M33<=$AB$2,N33<=$AC$2,N33>$AB$2),$AB$2+N33,IF(AND(M33>=$AB$2,N33<=$AC$2),N33-M33,IF(AND(M33=$AB$2,N33>=$AC$2),M33+$AC$2,0))))*24 -> 0 | AN33: =IF(AND(D33>=AN$2,E33>=AO$2,D33<AO$2),AO$2-D33,IF(AND(D33<=AN$2,E33<=AO$2,E33>=AN$2),E33-AN$2,IF(AND(D33>=AN$2,E33<=AO$2),E33-D33,IF(AND(D33=AN$2,D33>=AO$2),D33+AO$2,0))))*24 -> 0 | AQ33: =IF(AND(G33>=AQ$2,H33>=AR$2,G33<AR$2),AR$2-G33,IF(AND(G33<=AQ$2,H33<=AR$2,H33>=AQ$2),H33-AQ$2,IF(AND(G33>=AQ$2,H33<=AR$2),H33-G33,IF(AND(G33=AQ$2,G33>=AR$2),G33+AR$2,0))))*24 -> 0 | AT33: =IF(AND(J33>=AT$2,K33>=AU$2,J33<AU$2),AU$2-J33,IF(AND(J33<=AT$2,K33<=AU$2,K33>=AT$2),K33-AT$2,IF(AND(J33>=AT$2,K33<=AU$2),K33-J33,IF(AND(J33=AT$2,J33>=AU$2),J33+AU$2,0))))*24 -> 0 | AW33: =IF(AND(M33>=AW$2,N33>=AX$2,M33<AX$2),AX$2-M33,IF(AND(M33<=AW$2,N33<=AX$2,N33>=AW$2),N33-AW$2,IF(AND(M33>=AW$2,N33<=AX$2),N33-M33,IF(AND(M33=AW$2,M33>=AX$2),M33+AX$2,0))))*24 -> 1 | AZ33: =IF(AND(D33>=AZ$2,E33>=BA$2,D33<BA$2),BA$2-D33,IF(AND(D33<=AZ$2,E33<=BA$2,E33>=AZ$2),E33-AZ$2,IF(AND(D33>=AZ$2,E33<=BA$2),E33-D33,IF(AND(D33=AZ$2,D33>=BA$2),D33+BA$2,0))))*24 -> 0 | BC33: =IF(AND(G33>=BC$2,H33>=BD$2,G33<BD$2),BD$2-G33,IF(AND(G33<=BC$2,H33<=BD$2,H33>=BC$2),H33-BC$2,IF(AND(G33>=BC$2,H33<=BD$2),H33-G33,IF(AND(G33=BC$2,G33>=BD$2),G33+BD$2,0))))*24 -> 0 | BF33: =IF(AND(J33>=BF$2,K33>=BG$2,J33<BG$2),BG$2-J33,IF(AND(J33<=BF$2,K33<=BG$2,K33>=BF$2),K33-BF$2,IF(AND(J33>=BF$2,K33<=BG$2),K33-J33,IF(AND(J33=BF$2,J33>=BG$2),J33+BG$2,0))))*24 -> 0 | BI33: =IF(AND(M33>=BI$2,N33>=BJ$2,M33<BJ$2),BJ$2-M33,IF(AND(M33<=BI$2,N33<=BJ$2,N33>=BI$2),N33-BI$2,IF(AND(M33>=BI$2,N33<=BJ$2),N33-M33,IF(AND(M33=BI$2,M33>=BJ$2),M33+BJ$2,0))))*24 -> 0 | BL33: =IF(AND(D33>=BL$2,E33>=BM$2,D33<BM$2),BM$2-D33,IF(AND(D33<=BL$2,E33<=BM$2,E33>=BL$2),E33-BL$2,IF(AND(D33>=BL$2,E33<=BM31),E33-D33,IF(AND(D33=BL$2,D33>=BM$2),D33+BM$2,0))))*24 -> 0 | BO33: =IF(AND(G33>=BO$2,H33>=BP$2,G33<BP$2),BP$2-G33,IF(AND(G33<=BO$2,H33<=BP$2,H33>=BO$2),H33-BO$2,IF(AND(G33>=BO$2,H33<=BP31),H33-G33,IF(AND(G33=BO$2,G33>=BP$2),G33+BP$2,0))))*24 -> 0 | BR33: =IF(AND(J33>=BR$2,K33>=BS$2,J33<BS$2),BS$2-J33,IF(AND(J33<=BR$2,K33<=BS$2,K33>=BR$2),K33-BR$2,IF(AND(J33>=BR$2,K33<=BS31),K33-J33,IF(AND(J33=BR$2,J33>=BS$2),J33+BS$2,0))))*24 -> 0 | BU33: =IF(AND(M33>=BU$2,N33>=BV$2,M33<BV$2),BV$2-M33,IF(AND(M33<=BU$2,N33<=BV$2,N33>=BU$2),N33-BU$2,IF(AND(M33>=BU$2,N33<=BV31),N33-M33,IF(AND(M33=BU$2,M33>=BV$2),M33+BV$2,0))))*24 -> 1 | BX33: =IF(AND(D33>=BX$2,E33>=BY$2,D33<BY$2),BY$2-D33,IF(AND(D33<=BX$2,E33<=BY$2,E33>=BX$2),E33-BX$2,IF(AND(D33>=BX$2,E33<=BY$2),E33-D33,IF(AND(D33=BX$2,D33>=BY$2),D33+BY$2,0))))*24 -> 0 | CA33: =IF(AND(G33>=CA$2,H33>=CB$2,G33<CB$2),CB$2-G33,IF(AND(G33<=CA$2,H33<=CB$2,H33>=CA$2),H33-CA$2,IF(AND(G33>=CA$2,H33<=CB$2),H33-G33,IF(AND(G33=CA$2,G33>=CB$2),G33+CB$2,0))))*24 -> 0 | CD33: =IF(AND(J33>=CD$2,K33>=CE$2,J33<CE$2),CE$2-J33,IF(AND(J33<=CD$2,K33<=CE$2,K33>=CD$2),K33-CD$2,IF(AND(J33>=CD$2,K33<=CE$2),K33-J33,IF(AND(J33=CD$2,J33>=CE$2),J33+CE$2,0))))*24 -> 0 | CG33: =IF(AND(M33>=CG$2,N33>=CH$2,M33<CH$2),CH$2-M33,IF(AND(M33<=CG$2,N33<=CH$2,N33>=CG$2),N33-CG$2,IF(AND(M33>=CG$2,N33<=CH$2),N33-M33,IF(AND(M33=CG$2,M33>=CH$2),M33+CH$2,0))))*24 -> 0
A34: Dienstag | B34: 43375 | C34: fDNS | D34: 0 | E34: 0.020833333 | G34: 0.038194444 | H34: 0.16666667 | O34: =(Formeln!E34-Formeln!D34)*24 -> 0.5 | Q34: =(Formeln!H34-Formeln!G34)*24 -> 3.0833333 | S34: =(Formeln!K34-Formeln!J34)*24 -> 0 | U34: =(Formeln!N34-Formeln!M34)*24 -> 0 | W34: =SUM(O34:U34) -> 3.5833333 | X34: =SUM(AB34:AK34) -> 3.5833333 | Y34: =SUM(AN34:BI34) -> 7.9936058e-15 | Z34: =SUM(BL34:CG34) -> 7.9936058e-15 | AB34: =IF(AND(D34>=$AB$2,E34>=$AC$2,D34<$AC$2),$AC$2-D34,IF(AND(D34<=$AB$2,E34<=$AC$2,E34>$AB$2),$AB$2+E34,IF(AND(D34>=$AB$2,E34<=$AC$2),E34-D34,IF(AND(D34=$AB$2,E34>=$AC$2),D34+$AC$2,0))))*24 -> 0.5 | AE34: =IF(AND(G34>=$AB$2,H34>=$AC$2,G34<$AC$2),$AC$2-G34,IF(AND(G34<=$AB$2,H34<=$AC$2,H34>$AB$2),$AB$2+H34,IF(AND(G34>=$AB$2,H34<=$AC$2),H34-G34,IF(AND(G34=$AB$2,H34>=$AC$2),G34+$AC$2,0))))*24 -> 3.0833333 | AH34: =IF(AND(J34>=$AB$2,K34>=$AC$2,J34<$AC$2),$AC$2-J34,IF(AND(J34<=$AB$2,K34<=$AC$2,K34>$AB$2),$AB$2+K34,IF(AND(J34>=$AB$2,K34<=$AC$2),K34-J34,IF(AND(J34=$AB$2,K34>=$AC$2),J34+$AC$2,0))))*24 -> 0 | AK34: =IF(AND(M34>=$AB$2,N34>=$AC$2,M34<$AC$2),$AC$2-M34,IF(AND(M34<=$AB$2,N34<=$AC$2,N34>$AB$2),$AB$2+N34,IF(AND(M34>=$AB$2,N34<=$AC$2),N34-M34,IF(AND(M34=$AB$2,N34>=$AC$2),M34+$AC$2,0))))*24 -> 0 | AN34: =IF(AND(D34>=AN$2,E34>=AO$2,D34<AO$2),AO$2-D34,IF(AND(D34<=AN$2,E34<=AO$2,E34>=AN$2),E34-AN$2,IF(AND(D34>=AN$2,E34<=AO$2),E34-D34,IF(AND(D34=AN$2,D34>=AO$2),D34+AO$2,0))))*24 -> 0 | AQ34: =IF(AND(G34>=AQ$2,H34>=AR$2,G34<AR$2),AR$2-G34,IF(AND(G34<=AQ$2,H34<=AR$2,H34>=AQ$2),H34-AQ$2,IF(AND(G34>=AQ$2,H34<=AR$2),H34-G34,IF(AND(G34=AQ$2,G34>=AR$2),G34+AR$2,0))))*24 -> 0 | AT34: =IF(AND(J34>=AT$2,K34>=AU$2,J34<AU$2),AU$2-J34,IF(AND(J34<=AT$2,K34<=AU$2,K34>=AT$2),K34-AT$2,IF(AND(J34>=AT$2,K34<=AU$2),K34-J34,IF(AND(J34=AT$2,J34>=AU$2),J34+AU$2,0))))*24 -> 0 | AW34: =IF(AND(M34>=AW$2,N34>=AX$2,M34<AX$2),AX$2-M34,IF(AND(M34<=AW$2,N34<=AX$2,N34>=AW$2),N34-AW$2,IF(AND(M34>=AW$2,N34<=AX$2),N34-M34,IF(AND(M34=AW$2,M34>=AX$2),M34+AX$2,0))))*24 -> 0 | AZ34: =IF(AND(D34>=AZ$2,E34>=BA$2,D34<BA$2),BA$2-D34,IF(AND(D34<=AZ$2,E34<=BA$2,E34>=AZ$2),E34-AZ$2,IF(AND(D34>=AZ$2,E34<=BA$2),E34-D34,IF(AND(D34=AZ$2,D34>=BA$2),D34+BA$2,0))))*24 -> 0 | BC34: =IF(AND(G34>=BC$2,H34>=BD$2,G34<BD$2),BD$2-G34,IF(AND(G34<=BC$2,H34<=BD$2,H34>=BC$2),H34-BC$2,IF(AND(G34>=BC$2,H34<=BD$2),H34-G34,IF(AND(G34=BC$2,G34>=BD$2),G34+BD$2,0))))*24 -> 7.9936058e-15 | BF34: =IF(AND(J34>=BF$2,K34>=BG$2,J34<BG$2),BG$2-J34,IF(AND(J34<=BF$2,K34<=BG$2,K34>=BF$2),K34-BF$2,IF(AND(J34>=BF$2,K34<=BG$2),K34-J34,IF(AND(J34=BF$2,J34>=BG$2),J34+BG$2,0))))*24 -> 0 | BI34: =IF(AND(M34>=BI$2,N34>=BJ$2,M34<BJ$2),BJ$2-M34,IF(AND(M34<=BI$2,N34<=BJ$2,N34>=BI$2),N34-BI$2,IF(AND(M34>=BI$2,N34<=BJ$2),N34-M34,IF(AND(M34=BI$2,M34>=BJ$2),M34+BJ$2,0))))*24 -> 0 | BL34: =IF(AND(D34>=BL$2,E34>=BM$2,D34<BM$2),BM$2-D34,IF(AND(D34<=BL$2,E34<=BM$2,E34>=BL$2),E34-BL$2,IF(AND(D34>=BL$2,E34<=BM32),E34-D34,IF(AND(D34=BL$2,D34>=BM$2),D34+BM$2,0))))*24 -> 0 | BO34: =IF(AND(G34>=BO$2,H34>=BP$2,G34<BP$2),BP$2-G34,IF(AND(G34<=BO$2,H34<=BP$2,H34>=BO$2),H34-BO$2,IF(AND(G34>=BO$2,H34<=BP32),H34-G34,IF(AND(G34=BO$2,G34>=BP$2),G34+BP$2,0))))*24 -> 0 | BR34: =IF(AND(J34>=BR$2,K34>=BS$2,J34<BS$2),BS$2-J34,IF(AND(J34<=BR$2,K34<=BS$2,K34>=BR$2),K34-BR$2,IF(AND(J34>=BR$2,K34<=BS32),K34-J34,IF(AND(J34=BR$2,J34>=BS$2),J34+BS$2,0))))*24 -> 0 | BU34: =IF(AND(M34>=BU$2,N34>=BV$2,M34<BV$2),BV$2-M34,IF(AND(M34<=BU$2,N34<=BV$2,N34>=BU$2),N34-BU$2,IF(AND(M34>=BU$2,N34<=BV32),N34-M34,IF(AND(M34=BU$2,M34>=BV$2),M34+BV$2,0))))*24 -> 0 | BX34: =IF(AND(D34>=BX$2,E34>=BY$2,D34<BY$2),BY$2-D34,IF(AND(D34<=BX$2,E34<=BY$2,E34>=BX$2),E34-BX$2,IF(AND(D34>=BX$2,E34<=BY$2),E34-D34,IF(AND(D34=BX$2,D34>=BY$2),D34+BY$2,0))))*24 -> 0 | CA34: =IF(AND(G34>=CA$2,H34>=CB$2,G34<CB$2),CB$2-G34,IF(AND(G34<=CA$2,H34<=CB$2,H34>=CA$2),H34-CA$2,IF(AND(G34>=CA$2,H34<=CB$2),H34-G34,IF(AND(G34=CA$2,G34>=CB$2),G34+CB$2,0))))*24 -> 7.9936058e-15 | CD34: =IF(AND(J34>=CD$2,K34>=CE$2,J34<CE$2),CE$2-J34,IF(AND(J34<=CD$2,K34<=CE$2,K34>=CD$2),K34-CD$2,IF(AND(J34>=CD$2,K34<=CE$2),K34-J34,IF(AND(J34=CD$2,J34>=CE$2),J34+CE$2,0))))*24 -> 0 | CG34: =IF(AND(M34>=CG$2,N34>=CH$2,M34<CH$2),CH$2-M34,IF(AND(M34<=CG$2,N34<=CH$2,N34>=CG$2),N34-CG$2,IF(AND(M34>=CG$2,N34<=CH$2),N34-M34,IF(AND(M34=CG$2,M34>=CH$2),M34+CH$2,0))))*24 -> 0
A35: Mittwoch | B35: 43376 | C35: DNS | O35: =(Formeln!E35-Formeln!D35)*24 -> 0 | Q35: =(Formeln!H35-Formeln!G35)*24 -> 0 | S35: =(Formeln!K35-Formeln!J35)*24 -> 0 | U35: =(Formeln!N35-Formeln!M35)*24 -> 0 | W35: =SUM(O35:U35) -> 0 | X35: =SUM(AB35:AK35) -> 0 | Y35: =SUM(AN35:BI35) -> 0 | Z35: =SUM(BL35:CG35) -> 0 | AB35: =IF(AND(D35>=$AB$2,E35>=$AC$2,D35<$AC$2),$AC$2-D35,IF(AND(D35<=$AB$2,E35<=$AC$2,E35>$AB$2),$AB$2+E35,IF(AND(D35>=$AB$2,E35<=$AC$2),E35-D35,IF(AND(D35=$AB$2,E35>=$AC$2),D35+$AC$2,0))))*24 -> 0 | AE35: =IF(AND(G35>=$AB$2,H35>=$AC$2,G35<$AC$2),$AC$2-G35,IF(AND(G35<=$AB$2,H35<=$AC$2,H35>$AB$2),$AB$2+H35,IF(AND(G35>=$AB$2,H35<=$AC$2),H35-G35,IF(AND(G35=$AB$2,H35>=$AC$2),G35+$AC$2,0))))*24 -> 0 | AH35: =IF(AND(J35>=$AB$2,K35>=$AC$2,J35<$AC$2),$AC$2-J35,IF(AND(J35<=$AB$2,K35<=$AC$2,K35>$AB$2),$AB$2+K35,IF(AND(J35>=$AB$2,K35<=$AC$2),K35-J35,IF(AND(J35=$AB$2,K35>=$AC$2),J35+$AC$2,0))))*24 -> 0 | AK35: =IF(AND(M35>=$AB$2,N35>=$AC$2,M35<$AC$2),$AC$2-M35,IF(AND(M35<=$AB$2,N35<=$AC$2,N35>$AB$2),$AB$2+N35,IF(AND(M35>=$AB$2,N35<=$AC$2),N35-M35,IF(AND(M35=$AB$2,N35>=$AC$2),M35+$AC$2,0))))*24 -> 0 | AN35: =IF(AND(D35>=AN$2,E35>=AO$2,D35<AO$2),AO$2-D35,IF(AND(D35<=AN$2,E35<=AO$2,E35>=AN$2),E35-AN$2,IF(AND(D35>=AN$2,E35<=AO$2),E35-D35,IF(AND(D35=AN$2,D35>=AO$2),D35+AO$2,0))))*24 -> 0 | AQ35: =IF(AND(G35>=AQ$2,H35>=AR$2,G35<AR$2),AR$2-G35,IF(AND(G35<=AQ$2,H35<=AR$2,H35>=AQ$2),H35-AQ$2,IF(AND(G35>=AQ$2,H35<=AR$2),H35-G35,IF(AND(G35=AQ$2,G35>=AR$2),G35+AR$2,0))))*24 -> 0 | AT35: =IF(AND(J35>=AT$2,K35>=AU$2,J35<AU$2),AU$2-J35,IF(AND(J35<=AT$2,K35<=AU$2,K35>=AT$2),K35-AT$2,IF(AND(J35>=AT$2,K35<=AU$2),K35-J35,IF(AND(J35=AT$2,J35>=AU$2),J35+AU$2,0))))*24 -> 0 | AW35: =IF(AND(M35>=AW$2,N35>=AX$2,M35<AX$2),AX$2-M35,IF(AND(M35<=AW$2,N35<=AX$2,N35>=AW$2),N35-AW$2,IF(AND(M35>=AW$2,N35<=AX$2),N35-M35,IF(AND(M35=AW$2,M35>=AX$2),M35+AX$2,0))))*24 -> 0 | AZ35: =IF(AND(D35>=AZ$2,E35>=BA$2,D35<BA$2),BA$2-D35,IF(AND(D35<=AZ$2,E35<=BA$2,E35>=AZ$2),E35-AZ$2,IF(AND(D35>=AZ$2,E35<=BA$2),E35-D35,IF(AND(D35=AZ$2,D35>=BA$2),D35+BA$2,0))))*24 -> 0 | BC35: =IF(AND(G35>=BC$2,H35>=BD$2,G35<BD$2),BD$2-G35,IF(AND(G35<=BC$2,H35<=BD$2,H35>=BC$2),H35-BC$2,IF(AND(G35>=BC$2,H35<=BD$2),H35-G35,IF(AND(G35=BC$2,G35>=BD$2),G35+BD$2,0))))*24 -> 0 | BF35: =IF(AND(J35>=BF$2,K35>=BG$2,J35<BG$2),BG$2-J35,IF(AND(J35<=BF$2,K35<=BG$2,K35>=BF$2),K35-BF$2,IF(AND(J35>=BF$2,K35<=BG$2),K35-J35,IF(AND(J35=BF$2,J35>=BG$2),J35+BG$2,0))))*24 -> 0 | BI35: =IF(AND(M35>=BI$2,N35>=BJ$2,M35<BJ$2),BJ$2-M35,IF(AND(M35<=BI$2,N35<=BJ$2,N35>=BI$2),N35-BI$2,IF(AND(M35>=BI$2,N35<=BJ$2),N35-M35,IF(AND(M35=BI$2,M35>=BJ$2),M35+BJ$2,0))))*24 -> 0 | BL35: =IF(AND(D35>=BL$2,E35>=BM$2,D35<BM$2),BM$2-D35,IF(AND(D35<=BL$2,E35<=BM$2,E35>=BL$2),E35-BL$2,IF(AND(D35>=BL$2,E35<=BM33),E35-D35,IF(AND(D35=BL$2,D35>=BM$2),D35+BM$2,0))))*24 -> 0 | BO35: =IF(AND(G35>=BO$2,H35>=BP$2,G35<BP$2),BP$2-G35,IF(AND(G35<=BO$2,H35<=BP$2,H35>=BO$2),H35-BO$2,IF(AND(G35>=BO$2,H35<=BP33),H35-G35,IF(AND(G35=BO$2,G35>=BP$2),G35+BP$2,0))))*24 -> 0 | BR35: =IF(AND(J35>=BR$2,K35>=BS$2,J35<BS$2),BS$2-J35,IF(AND(J35<=BR$2,K35<=BS$2,K35>=BR$2),K35-BR$2,IF(AND(J35>=BR$2,K35<=BS33),K35-J35,IF(AND(J35=BR$2,J35>=BS$2),J35+BS$2,0))))*24 -> 0 | BU35: =IF(AND(M35>=BU$2,N35>=BV$2,M35<BV$2),BV$2-M35,IF(AND(M35<=BU$2,N35<=BV$2,N35>=BU$2),N35-BU$2,IF(AND(M35>=BU$2,N35<=BV33),N35-M35,IF(AND(M35=BU$2,M35>=BV$2),M35+BV$2,0))))*24 -> 0 | BX35: =IF(AND(D35>=BX$2,E35>=BY$2,D35<BY$2),BY$2-D35,IF(AND(D35<=BX$2,E35<=BY$2,E35>=BX$2),E35-BX$2,IF(AND(D35>=BX$2,E35<=BY$2),E35-D35,IF(AND(D35=BX$2,D35>=BY$2),D35+BY$2,0))))*24 -> 0 | CA35: =IF(AND(G35>=CA$2,H35>=CB$2,G35<CB$2),CB$2-G35,IF(AND(G35<=CA$2,H35<=CB$2,H35>=CA$2),H35-CA$2,IF(AND(G35>=CA$2,H35<=CB$2),H35-G35,IF(AND(G35=CA$2,G35>=CB$2),G35+CB$2,0))))*24 -> 0 | CD35: =IF(AND(J35>=CD$2,K35>=CE$2,J35<CE$2),CE$2-J35,IF(AND(J35<=CD$2,K35<=CE$2,K35>=CD$2),K35-CD$2,IF(AND(J35>=CD$2,K35<=CE$2),K35-J35,IF(AND(J35=CD$2,J35>=CE$2),J35+CE$2,0))))*24 -> 0 | CG35: =IF(AND(M35>=CG$2,N35>=CH$2,M35<CH$2),CH$2-M35,IF(AND(M35<=CG$2,N35<=CH$2,N35>=CG$2),N35-CG$2,IF(AND(M35>=CG$2,N35<=CH$2),N35-M35,IF(AND(M35=CG$2,M35>=CH$2),M35+CH$2,0))))*24 -> 0
A36: Donnerstag | B36: 43377 | C36: DNS | D36: 0 | E36: 0.16666667 | G36: 0.1875 | H36: 0.32638889 | J36: 0.8125 | K36: 0.90277778 | M36: 0.91666667 | N36: 1 | O36: =(Formeln!E36-Formeln!D36)*24 -> 4 | Q36: =(Formeln!H36-Formeln!G36)*24 -> 3.3333333 | S36: =(Formeln!K36-Formeln!J36)*24 -> 2.1666667 | U36: =(Formeln!N36-Formeln!M36)*24 -> 2 | W36: =SUM(O36:U36) -> 11.5 | X36: =SUM(AB36:AK36) -> 4 | Y36: =SUM(AN36:BI36) -> 2.5 | Z36: =SUM(BL36:CG36) -> 2.5 | AB36: =IF(AND(D36>=$AB$2,E36>=$AC$2,D36<$AC$2),$AC$2-D36,IF(AND(D36<=$AB$2,E36<=$AC$2,E36>$AB$2),$AB$2+E36,IF(AND(D36>=$AB$2,E36<=$AC$2),E36-D36,IF(AND(D36=$AB$2,E36>=$AC$2),D36+$AC$2,0))))*24 -> 4 | AE36: =IF(AND(G36>=$AB$2,H36>=$AC$2,G36<$AC$2),$AC$2-G36,IF(AND(G36<=$AB$2,H36<=$AC$2,H36>$AB$2),$AB$2+H36,IF(AND(G36>=$AB$2,H36<=$AC$2),H36-G36,IF(AND(G36=$AB$2,H36>=$AC$2),G36+$AC$2,0))))*24 -> 0 | AH36: =IF(AND(J36>=$AB$2,K36>=$AC$2,J36<$AC$2),$AC$2-J36,IF(AND(J36<=$AB$2,K36<=$AC$2,K36>$AB$2),$AB$2+K36,IF(AND(J36>=$AB$2,K36<=$AC$2),K36-J36,IF(AND(J36=$AB$2,K36>=$AC$2),J36+$AC$2,0))))*24 -> 0 | AK36: =IF(AND(M36>=$AB$2,N36>=$AC$2,M36<$AC$2),$AC$2-M36,IF(AND(M36<=$AB$2,N36<=$AC$2,N36>$AB$2),$AB$2+N36,IF(AND(M36>=$AB$2,N36<=$AC$2),N36-M36,IF(AND(M36=$AB$2,N36>=$AC$2),M36+$AC$2,0))))*24 -> 0 | AN36: =IF(AND(D36>=AN$2,E36>=AO$2,D36<AO$2),AO$2-D36,IF(AND(D36<=AN$2,E36<=AO$2,E36>=AN$2),E36-AN$2,IF(AND(D36>=AN$2,E36<=AO$2),E36-D36,IF(AND(D36=AN$2,D36>=AO$2),D36+AO$2,0))))*24 -> 0 | AQ36: =IF(AND(G36>=AQ$2,H36>=AR$2,G36<AR$2),AR$2-G36,IF(AND(G36<=AQ$2,H36<=AR$2,H36>=AQ$2),H36-AQ$2,IF(AND(G36>=AQ$2,H36<=AR$2),H36-G36,IF(AND(G36=AQ$2,G36>=AR$2),G36+AR$2,0))))*24 -> 0 | AT36: =IF(AND(J36>=AT$2,K36>=AU$2,J36<AU$2),AU$2-J36,IF(AND(J36<=AT$2,K36<=AU$2,K36>=AT$2),K36-AT$2,IF(AND(J36>=AT$2,K36<=AU$2),K36-J36,IF(AND(J36=AT$2,J36>=AU$2),J36+AU$2,0))))*24 -> 0 | AW36: =IF(AND(M36>=AW$2,N36>=AX$2,M36<AX$2),AX$2-M36,IF(AND(M36<=AW$2,N36<=AX$2,N36>=AW$2),N36-AW$2,IF(AND(M36>=AW$2,N36<=AX$2),N36-M36,IF(AND(M36=AW$2,M36>=AX$2),M36+AX$2,0))))*24 -> 1 | AZ36: =IF(AND(D36>=AZ$2,E36>=BA$2,D36<BA$2),BA$2-D36,IF(AND(D36<=AZ$2,E36<=BA$2,E36>=AZ$2),E36-AZ$2,IF(AND(D36>=AZ$2,E36<=BA$2),E36-D36,IF(AND(D36=AZ$2,D36>=BA$2),D36+BA$2,0))))*24 -> 0 | BC36: =IF(AND(G36>=BC$2,H36>=BD$2,G36<BD$2),BD$2-G36,IF(AND(G36<=BC$2,H36<=BD$2,H36>=BC$2),H36-BC$2,IF(AND(G36>=BC$2,H36<=BD$2),H36-G36,IF(AND(G36=BC$2,G36>=BD$2),G36+BD$2,0))))*24 -> 1.5 | BF36: =IF(AND(J36>=BF$2,K36>=BG$2,J36<BG$2),BG$2-J36,IF(AND(J36<=BF$2,K36<=BG$2,K36>=BF$2),K36-BF$2,IF(AND(J36>=BF$2,K36<=BG$2),K36-J36,IF(AND(J36=BF$2,J36>=BG$2),J36+BG$2,0))))*24 -> 0 | BI36: =IF(AND(M36>=BI$2,N36>=BJ$2,M36<BJ$2),BJ$2-M36,IF(AND(M36<=BI$2,N36<=BJ$2,N36>=BI$2),N36-BI$2,IF(AND(M36>=BI$2,N36<=BJ$2),N36-M36,IF(AND(M36=BI$2,M36>=BJ$2),M36+BJ$2,0))))*24 -> 0 | BL36: =IF(AND(D36>=BL$2,E36>=BM$2,D36<BM$2),BM$2-D36,IF(AND(D36<=BL$2,E36<=BM$2,E36>=BL$2),E36-BL$2,IF(AND(D36>=BL$2,E36<=BM34),E36-D36,IF(AND(D36=BL$2,D36>=BM$2),D36+BM$2,0))))*24 -> 0 | BO36: =IF(AND(G36>=BO$2,H36>=BP$2,G36<BP$2),BP$2-G36,IF(AND(G36<=BO$2,H36<=BP$2,H36>=BO$2),H36-BO$2,IF(AND(G36>=BO$2,H36<=BP34),H36-G36,IF(AND(G36=BO$2,G36>=BP$2),G36+BP$2,0))))*24 -> 0 | BR36: =IF(AND(J36>=BR$2,K36>=BS$2,J36<BS$2),BS$2-J36,IF(AND(J36<=BR$2,K36<=BS$2,K36>=BR$2),K36-BR$2,IF(AND(J36>=BR$2,K36<=BS34),K36-J36,IF(AND(J36=BR$2,J36>=BS$2),J36+BS$2,0))))*24 -> 0 | BU36: =IF(AND(M36>=BU$2,N36>=BV$2,M36<BV$2),BV$2-M36,IF(AND(M36<=BU$2,N36<=BV$2,N36>=BU$2),N36-BU$2,IF(AND(M36>=BU$2,N36<=BV34),N36-M36,IF(AND(M36=BU$2,M36>=BV$2),M36+BV$2,0))))*24 -> 1 | BX36: =IF(AND(D36>=BX$2,E36>=BY$2,D36<BY$2),BY$2-D36,IF(AND(D36<=BX$2,E36<=BY$2,E36>=BX$2),E36-BX$2,IF(AND(D36>=BX$2,E36<=BY$2),E36-D36,IF(AND(D36=BX$2,D36>=BY$2),D36+BY$2,0))))*24 -> 0 | CA36: =IF(AND(G36>=CA$2,H36>=CB$2,G36<CB$2),CB$2-G36,IF(AND(G36<=CA$2,H36<=CB$2,H36>=CA$2),H36-CA$2,IF(AND(G36>=CA$2,H36<=CB$2),H36-G36,IF(AND(G36=CA$2,G36>=CB$2),G36+CB$2,0))))*24 -> 1.5 | CD36: =IF(AND(J36>=CD$2,K36>=CE$2,J36<CE$2),CE$2-J36,IF(AND(J36<=CD$2,K36<=CE$2,K36>=CD$2),K36-CD$2,IF(AND(J36>=CD$2,K36<=CE$2),K36-J36,IF(AND(J36=CD$2,J36>=CE$2),J36+CE$2,0))))*24 -> 0 | CG36: =IF(AND(M36>=CG$2,N36>=CH$2,M36<CH$2),CH$2-M36,IF(AND(M36<=CG$2,N36<=CH$2,N36>=CG$2),N36-CG$2,IF(AND(M36>=CG$2,N36<=CH$2),N36-M36,IF(AND(M36=CG$2,M36>=CH$2),M36+CH$2,0))))*24 -> 0
A37: Freitag | B37: 43378 | C37: fDNS | D37: 0 | E37: 0.020833333 | G37: 0.038194444 | H37: 0.16666667 | J37: 0.8125 | K37: 0.90277778 | M37: 0.91666667 | N37: 1 | O37: =(Formeln!E37-Formeln!D37)*24 -> 0.5 | Q37: =(Formeln!H37-Formeln!G37)*24 -> 3.0833333 | S37: =(Formeln!K37-Formeln!J37)*24 -> 2.1666667 | U37: =(Formeln!N37-Formeln!M37)*24 -> 2 | W37: =SUM(O37:U37) -> 7.75 | X37: =SUM(AB37:AK37) -> 3.5833333 | Y37: =SUM(AN37:BI37) -> 1 | Z37: =SUM(BL37:CG37) -> 1 | AB37: =IF(AND(D37>=$AB$2,E37>=$AC$2,D37<$AC$2),$AC$2-D37,IF(AND(D37<=$AB$2,E37<=$AC$2,E37>$AB$2),$AB$2+E37,IF(AND(D37>=$AB$2,E37<=$AC$2),E37-D37,IF(AND(D37=$AB$2,E37>=$AC$2),D37+$AC$2,0))))*24 -> 0.5 | AE37: =IF(AND(G37>=$AB$2,H37>=$AC$2,G37<$AC$2),$AC$2-G37,IF(AND(G37<=$AB$2,H37<=$AC$2,H37>$AB$2),$AB$2+H37,IF(AND(G37>=$AB$2,H37<=$AC$2),H37-G37,IF(AND(G37=$AB$2,H37>=$AC$2),G37+$AC$2,0))))*24 -> 3.0833333 | AH37: =IF(AND(J37>=$AB$2,K37>=$AC$2,J37<$AC$2),$AC$2-J37,IF(AND(J37<=$AB$2,K37<=$AC$2,K37>$AB$2),$AB$2+K37,IF(AND(J37>=$AB$2,K37<=$AC$2),K37-J37,IF(AND(J37=$AB$2,K37>=$AC$2),J37+$AC$2,0))))*24 -> 0 | AK37: =IF(AND(M37>=$AB$2,N37>=$AC$2,M37<$AC$2),$AC$2-M37,IF(AND(M37<=$AB$2,N37<=$AC$2,N37>$AB$2),$AB$2+N37,IF(AND(M37>=$AB$2,N37<=$AC$2),N37-M37,IF(AND(M37=$AB$2,N37>=$AC$2),M37+$AC$2,0))))*24 -> 0 | AN37: =IF(AND(D37>=AN$2,E37>=AO$2,D37<AO$2),AO$2-D37,IF(AND(D37<=AN$2,E37<=AO$2,E37>=AN$2),E37-AN$2,IF(AND(D37>=AN$2,E37<=AO$2),E37-D37,IF(AND(D37=AN$2,D37>=AO$2),D37+AO$2,0))))*24 -> 0 | AQ37: =IF(AND(G37>=AQ$2,H37>=AR$2,G37<AR$2),AR$2-G37,IF(AND(G37<=AQ$2,H37<=AR$2,H37>=AQ$2),H37-AQ$2,IF(AND(G37>=AQ$2,H37<=AR$2),H37-G37,IF(AND(G37=AQ$2,G37>=AR$2),G37+AR$2,0))))*24 -> 0 | AT37: =IF(AND(J37>=AT$2,K37>=AU$2,J37<AU$2),AU$2-J37,IF(AND(J37<=AT$2,K37<=AU$2,K37>=AT$2),K37-AT$2,IF(AND(J37>=AT$2,K37<=AU$2),K37-J37,IF(AND(J37=AT$2,J37>=AU$2),J37+AU$2,0))))*24 -> 0 | AW37: =IF(AND(M37>=AW$2,N37>=AX$2,M37<AX$2),AX$2-M37,IF(AND(M37<=AW$2,N37<=AX$2,N37>=AW$2),N37-AW$2,IF(AND(M37>=AW$2,N37<=AX$2),N37-M37,IF(AND(M37=AW$2,M37>=AX$2),M37+AX$2,0))))*24 -> 1 | AZ37: =IF(AND(D37>=AZ$2,E37>=BA$2,D37<BA$2),BA$2-D37,IF(AND(D37<=AZ$2,E37<=BA$2,E37>=AZ$2),E37-AZ$2,IF(AND(D37>=AZ$2,E37<=BA$2),E37-D37,IF(AND(D37=AZ$2,D37>=BA$2),D37+BA$2,0))))*24 -> 0 | BC37: =IF(AND(G37>=BC$2,H37>=BD$2,G37<BD$2),BD$2-G37,IF(AND(G37<=BC$2,H37<=BD$2,H37>=BC$2),H37-BC$2,IF(AND(G37>=BC$2,H37<=BD$2),H37-G37,IF(AND(G37=BC$2,G37>=BD$2),G37+BD$2,0))))*24 -> 0 | BF37: =IF(AND(J37>=BF$2,K37>=BG$2,J37<BG$2),BG$2-J37,IF(AND(J37<=BF$2,K37<=BG$2,K37>=BF$2),K37-BF$2,IF(AND(J37>=BF$2,K37<=BG$2),K37-J37,IF(AND(J37=BF$2,J37>=BG$2),J37+BG$2,0))))*24 -> 0 | BI37: =IF(AND(M37>=BI$2,N37>=BJ$2,M37<BJ$2),BJ$2-M37,IF(AND(M37<=BI$2,N37<=BJ$2,N37>=BI$2),N37-BI$2,IF(AND(M37>=BI$2,N37<=BJ$2),N37-M37,IF(AND(M37=BI$2,M37>=BJ$2),M37+BJ$2,0))))*24 -> 0 | BL37: =IF(AND(D37>=BL$2,E37>=BM$2,D37<BM$2),BM$2-D37,IF(AND(D37<=BL$2,E37<=BM$2,E37>=BL$2),E37-BL$2,IF(AND(D37>=BL$2,E37<=BM35),E37-D37,IF(AND(D37=BL$2,D37>=BM$2),D37+BM$2,0))))*24 -> 0 | BO37: =IF(AND(G37>=BO$2,H37>=BP$2,G37<BP$2),BP$2-G37,IF(AND(G37<=BO$2,H37<=BP$2,H37>=BO$2),H37-BO$2,IF(AND(G37>=BO$2,H37<=BP35),H37-G37,IF(AND(G37=BO$2,G37>=BP$2),G37+BP$2,0))))*24 -> 0 | BR37: =IF(AND(J37>=BR$2,K37>=BS$2,J37<BS$2),BS$2-J37,IF(AND(J37<=BR$2,K37<=BS$2,K37>=BR$2),K37-BR$2,IF(AND(J37>=BR$2,K37<=BS35),K37-J37,IF(AND(J37=BR$2,J37>=BS$2),J37+BS$2,0))))*24 -> 0 | BU37: =IF(AND(M37>=BU$2,N37>=BV$2,M37<BV$2),BV$2-M37,IF(AND(M37<=BU$2,N37<=BV$2,N37>=BU$2),N37-BU$2,IF(AND(M37>=BU$2,N37<=BV35),N37-M37,IF(AND(M37=BU$2,M37>=BV$2),M37+BV$2,0))))*24 -> 1 | BX37: =IF(AND(D37>=BX$2,E37>=BY$2,D37<BY$2),BY$2-D37,IF(AND(D37<=BX$2,E37<=BY$2,E37>=BX$2),E37-BX$2,IF(AND(D37>=BX$2,E37<=BY$2),E37-D37,IF(AND(D37=BX$2,D37>=BY$2),D37+BY$2,0))))*24 -> 0 | CA37: =IF(AND(G37>=CA$2,H37>=CB$2,G37<CB$2),CB$2-G37,IF(AND(G37<=CA$2,H37<=CB$2,H37>=CA$2),H37-CA$2,IF(AND(G37>=CA$2,H37<=CB$2),H37-G37,IF(AND(G37=CA$2,G37>=CB$2),G37+CB$2,0))))*24 -> 0 | CD37: =IF(AND(J37>=CD$2,K37>=CE$2,J37<CE$2),CE$2-J37,IF(AND(J37<=CD$2,K37<=CE$2,K37>=CD$2),K37-CD$2,IF(AND(J37>=CD$2,K37<=CE$2),K37-J37,IF(AND(J37=CD$2,J37>=CE$2),J37+CE$2,0))))*24 -> 0 | CG37: =IF(AND(M37>=CG$2,N37>=CH$2,M37<CH$2),CH$2-M37,IF(AND(M37<=CG$2,N37<=CH$2,N37>=CG$2),N37-CG$2,IF(AND(M37>=CG$2,N37<=CH$2),N37-M37,IF(AND(M37=CG$2,M37>=CH$2),M37+CH$2,0))))*24 -> 0
A38: Samstag | B38: 43379 | C38: fDNS | D38: 0 | E38: 0.020833333 | G38: 0.038194444 | H38: 0.16666667 | O38: =(Formeln!E38-Formeln!D38)*24 -> 0.5 | Q38: =(Formeln!H38-Formeln!G38)*24 -> 3.0833333 | S38: =(Formeln!K38-Formeln!J38)*24 -> 0 | U38: =(Formeln!N38-Formeln!M38)*24 -> 0 | W38: =SUM(O38:U38) -> 3.5833333 | X38: =SUM(AB38:AK38) -> 3.5833333 | Y38: =SUM(AN38:BI38) -> 7.9936058e-15 | Z38: =SUM(BL38:CG38) -> 7.9936058e-15 | AB38: =IF(AND(D38>=$AB$2,E38>=$AC$2,D38<$AC$2),$AC$2-D38,IF(AND(D38<=$AB$2,E38<=$AC$2,E38>$AB$2),$AB$2+E38,IF(AND(D38>=$AB$2,E38<=$AC$2),E38-D38,IF(AND(D38=$AB$2,E38>=$AC$2),D38+$AC$2,0))))*24 -> 0.5 | AE38: =IF(AND(G38>=$AB$2,H38>=$AC$2,G38<$AC$2),$AC$2-G38,IF(AND(G38<=$AB$2,H38<=$AC$2,H38>$AB$2),$AB$2+H38,IF(AND(G38>=$AB$2,H38<=$AC$2),H38-G38,IF(AND(G38=$AB$2,H38>=$AC$2),G38+$AC$2,0))))*24 -> 3.0833333 | AH38: =IF(AND(J38>=$AB$2,K38>=$AC$2,J38<$AC$2),$AC$2-J38,IF(AND(J38<=$AB$2,K38<=$AC$2,K38>$AB$2),$AB$2+K38,IF(AND(J38>=$AB$2,K38<=$AC$2),K38-J38,IF(AND(J38=$AB$2,K38>=$AC$2),J38+$AC$2,0))))*24 -> 0 | AK38: =IF(AND(M38>=$AB$2,N38>=$AC$2,M38<$AC$2),$AC$2-M38,IF(AND(M38<=$AB$2,N38<=$AC$2,N38>$AB$2),$AB$2+N38,IF(AND(M38>=$AB$2,N38<=$AC$2),N38-M38,IF(AND(M38=$AB$2,N38>=$AC$2),M38+$AC$2,0))))*24 -> 0 | AN38: =IF(AND(D38>=AN$2,E38>=AO$2,D38<AO$2),AO$2-D38,IF(AND(D38<=AN$2,E38<=AO$2,E38>=AN$2),E38-AN$2,IF(AND(D38>=AN$2,E38<=AO$2),E38-D38,IF(AND(D38=AN$2,D38>=AO$2),D38+AO$2,0))))*24 -> 0 | AQ38: =IF(AND(G38>=AQ$2,H38>=AR$2,G38<AR$2),AR$2-G38,IF(AND(G38<=AQ$2,H38<=AR$2,H38>=AQ$2),H38-AQ$2,IF(AND(G38>=AQ$2,H38<=AR$2),H38-G38,IF(AND(G38=AQ$2,G38>=AR$2),G38+AR$2,0))))*24 -> 0 | AT38: =IF(AND(J38>=AT$2,K38>=AU$2,J38<AU$2),AU$2-J38,IF(AND(J38<=AT$2,K38<=AU$2,K38>=AT$2),K38-AT$2,IF(AND(J38>=AT$2,K38<=AU$2),K38-J38,IF(AND(J38=AT$2,J38>=AU$2),J38+AU$2,0))))*24 -> 0 | AW38: =IF(AND(M38>=AW$2,N38>=AX$2,M38<AX$2),AX$2-M38,IF(AND(M38<=AW$2,N38<=AX$2,N38>=AW$2),N38-AW$2,IF(AND(M38>=AW$2,N38<=AX$2),N38-M38,IF(AND(M38=AW$2,M38>=AX$2),M38+AX$2,0))))*24 -> 0 | AZ38: =IF(AND(D38>=AZ$2,E38>=BA$2,D38<BA$2),BA$2-D38,IF(AND(D38<=AZ$2,E38<=BA$2,E38>=AZ$2),E38-AZ$2,IF(AND(D38>=AZ$2,E38<=BA$2),E38-D38,IF(AND(D38=AZ$2,D38>=BA$2),D38+BA$2,0))))*24 -> 0 | BC38: =IF(AND(G38>=BC$2,H38>=BD$2,G38<BD$2),BD$2-G38,IF(AND(G38<=BC$2,H38<=BD$2,H38>=BC$2),H38-BC$2,IF(AND(G38>=BC$2,H38<=BD$2),H38-G38,IF(AND(G38=BC$2,G38>=BD$2),G38+BD$2,0))))*24 -> 7.9936058e-15 | BF38: =IF(AND(J38>=BF$2,K38>=BG$2,J38<BG$2),BG$2-J38,IF(AND(J38<=BF$2,K38<=BG$2,K38>=BF$2),K38-BF$2,IF(AND(J38>=BF$2,K38<=BG$2),K38-J38,IF(AND(J38=BF$2,J38>=BG$2),J38+BG$2,0))))*24 -> 0 | BI38: =IF(AND(M38>=BI$2,N38>=BJ$2,M38<BJ$2),BJ$2-M38,IF(AND(M38<=BI$2,N38<=BJ$2,N38>=BI$2),N38-BI$2,IF(AND(M38>=BI$2,N38<=BJ$2),N38-M38,IF(AND(M38=BI$2,M38>=BJ$2),M38+BJ$2,0))))*24 -> 0 | BL38: =IF(AND(D38>=BL$2,E38>=BM$2,D38<BM$2),BM$2-D38,IF(AND(D38<=BL$2,E38<=BM$2,E38>=BL$2),E38-BL$2,IF(AND(D38>=BL$2,E38<=BM36),E38-D38,IF(AND(D38=BL$2,D38>=BM$2),D38+BM$2,0))))*24 -> 0 | BO38: =IF(AND(G38>=BO$2,H38>=BP$2,G38<BP$2),BP$2-G38,IF(AND(G38<=BO$2,H38<=BP$2,H38>=BO$2),H38-BO$2,IF(AND(G38>=BO$2,H38<=BP36),H38-G38,IF(AND(G38=BO$2,G38>=BP$2),G38+BP$2,0))))*24 -> 0 | BR38: =IF(AND(J38>=BR$2,K38>=BS$2,J38<BS$2),BS$2-J38,IF(AND(J38<=BR$2,K38<=BS$2,K38>=BR$2),K38-BR$2,IF(AND(J38>=BR$2,K38<=BS36),K38-J38,IF(AND(J38=BR$2,J38>=BS$2),J38+BS$2,0))))*24 -> 0 | BU38: =IF(AND(M38>=BU$2,N38>=BV$2,M38<BV$2),BV$2-M38,IF(AND(M38<=BU$2,N38<=BV$2,N38>=BU$2),N38-BU$2,IF(AND(M38>=BU$2,N38<=BV36),N38-M38,IF(AND(M38=BU$2,M38>=BV$2),M38+BV$2,0))))*24 -> 0 | BX38: =IF(AND(D38>=BX$2,E38>=BY$2,D38<BY$2),BY$2-D38,IF(AND(D38<=BX$2,E38<=BY$2,E38>=BX$2),E38-BX$2,IF(AND(D38>=BX$2,E38<=BY$2),E38-D38,IF(AND(D38=BX$2,D38>=BY$2),D38+BY$2,0))))*24 -> 0 | CA38: =IF(AND(G38>=CA$2,H38>=CB$2,G38<CB$2),CB$2-G38,IF(AND(G38<=CA$2,H38<=CB$2,H38>=CA$2),H38-CA$2,IF(AND(G38>=CA$2,H38<=CB$2),H38-G38,IF(AND(G38=CA$2,G38>=CB$2),G38+CB$2,0))))*24 -> 7.9936058e-15 | CD38: =IF(AND(J38>=CD$2,K38>=CE$2,J38<CE$2),CE$2-J38,IF(AND(J38<=CD$2,K38<=CE$2,K38>=CD$2),K38-CD$2,IF(AND(J38>=CD$2,K38<=CE$2),K38-J38,IF(AND(J38=CD$2,J38>=CE$2),J38+CE$2,0))))*24 -> 0 | CG38: =IF(AND(M38>=CG$2,N38>=CH$2,M38<CH$2),CH$2-M38,IF(AND(M38<=CG$2,N38<=CH$2,N38>=CG$2),N38-CG$2,IF(AND(M38>=CG$2,N38<=CH$2),N38-M38,IF(AND(M38=CG$2,M38>=CH$2),M38+CH$2,0))))*24 -> 0
A39: Sonntag | B39: 43380 | O39: =(Formeln!E39-Formeln!D39)*24 -> 0 | Q39: =(Formeln!H39-Formeln!G39)*24 -> 0 | S39: =(Formeln!K39-Formeln!J39)*24 -> 0 | U39: =(Formeln!N39-Formeln!M39)*24 -> 0 | W39: =SUM(O39:U39) -> 0 | X39: =SUM(AB39:AK39) -> 0 | Y39: =SUM(AN39:BI39) -> 0 | Z39: =SUM(BL39:CG39) -> 0 | AB39: =IF(AND(D39>=$AB$2,E39>=$AC$2,D39<$AC$2),$AC$2-D39,IF(AND(D39<=$AB$2,E39<=$AC$2,E39>$AB$2),$AB$2+E39,IF(AND(D39>=$AB$2,E39<=$AC$2),E39-D39,IF(AND(D39=$AB$2,E39>=$AC$2),D39+$AC$2,0))))*24 -> 0 | AE39: =IF(AND(G39>=$AB$2,H39>=$AC$2,G39<$AC$2),$AC$2-G39,IF(AND(G39<=$AB$2,H39<=$AC$2,H39>$AB$2),$AB$2+H39,IF(AND(G39>=$AB$2,H39<=$AC$2),H39-G39,IF(AND(G39=$AB$2,H39>=$AC$2),G39+$AC$2,0))))*24 -> 0 | AH39: =IF(AND(J39>=$AB$2,K39>=$AC$2,J39<$AC$2),$AC$2-J39,IF(AND(J39<=$AB$2,K39<=$AC$2,K39>$AB$2),$AB$2+K39,IF(AND(J39>=$AB$2,K39<=$AC$2),K39-J39,IF(AND(J39=$AB$2,K39>=$AC$2),J39+$AC$2,0))))*24 -> 0 | AK39: =IF(AND(M39>=$AB$2,N39>=$AC$2,M39<$AC$2),$AC$2-M39,IF(AND(M39<=$AB$2,N39<=$AC$2,N39>$AB$2),$AB$2+N39,IF(AND(M39>=$AB$2,N39<=$AC$2),N39-M39,IF(AND(M39=$AB$2,N39>=$AC$2),M39+$AC$2,0))))*24 -> 0 | AN39: =IF(AND(D39>=AN$2,E39>=AO$2,D39<AO$2),AO$2-D39,IF(AND(D39<=AN$2,E39<=AO$2,E39>=AN$2),E39-AN$2,IF(AND(D39>=AN$2,E39<=AO$2),E39-D39,IF(AND(D39=AN$2,D39>=AO$2),D39+AO$2,0))))*24 -> 0 | AQ39: =IF(AND(G39>=AQ$2,H39>=AR$2,G39<AR$2),AR$2-G39,IF(AND(G39<=AQ$2,H39<=AR$2,H39>=AQ$2),H39-AQ$2,IF(AND(G39>=AQ$2,H39<=AR$2),H39-G39,IF(AND(G39=AQ$2,G39>=AR$2),G39+AR$2,0))))*24 -> 0 | AT39: =IF(AND(J39>=AT$2,K39>=AU$2,J39<AU$2),AU$2-J39,IF(AND(J39<=AT$2,K39<=AU$2,K39>=AT$2),K39-AT$2,IF(AND(J39>=AT$2,K39<=AU$2),K39-J39,IF(AND(J39=AT$2,J39>=AU$2),J39+AU$2,0))))*24 -> 0 | AW39: =IF(AND(M39>=AW$2,N39>=AX$2,M39<AX$2),AX$2-M39,IF(AND(M39<=AW$2,N39<=AX$2,N39>=AW$2),N39-AW$2,IF(AND(M39>=AW$2,N39<=AX$2),N39-M39,IF(AND(M39=AW$2,M39>=AX$2),M39+AX$2,0))))*24 -> 0 | AZ39: =IF(AND(D39>=AZ$2,E39>=BA$2,D39<BA$2),BA$2-D39,IF(AND(D39<=AZ$2,E39<=BA$2,E39>=AZ$2),E39-AZ$2,IF(AND(D39>=AZ$2,E39<=BA$2),E39-D39,IF(AND(D39=AZ$2,D39>=BA$2),D39+BA$2,0))))*24 -> 0 | BC39: =IF(AND(G39>=BC$2,H39>=BD$2,G39<BD$2),BD$2-G39,IF(AND(G39<=BC$2,H39<=BD$2,H39>=BC$2),H39-BC$2,IF(AND(G39>=BC$2,H39<=BD$2),H39-G39,IF(AND(G39=BC$2,G39>=BD$2),G39+BD$2,0))))*24 -> 0 | BF39: =IF(AND(J39>=BF$2,K39>=BG$2,J39<BG$2),BG$2-J39,IF(AND(J39<=BF$2,K39<=BG$2,K39>=BF$2),K39-BF$2,IF(AND(J39>=BF$2,K39<=BG$2),K39-J39,IF(AND(J39=BF$2,J39>=BG$2),J39+BG$2,0))))*24 -> 0 | BI39: =IF(AND(M39>=BI$2,N39>=BJ$2,M39<BJ$2),BJ$2-M39,IF(AND(M39<=BI$2,N39<=BJ$2,N39>=BI$2),N39-BI$2,IF(AND(M39>=BI$2,N39<=BJ$2),N39-M39,IF(AND(M39=BI$2,M39>=BJ$2),M39+BJ$2,0))))*24 -> 0 | BL39: =IF(AND(D39>=BL$2,E39>=BM$2,D39<BM$2),BM$2-D39,IF(AND(D39<=BL$2,E39<=BM$2,E39>=BL$2),E39-BL$2,IF(AND(D39>=BL$2,E39<=BM37),E39-D39,IF(AND(D39=BL$2,D39>=BM$2),D39+BM$2,0))))*24 -> 0 | BO39: =IF(AND(G39>=BO$2,H39>=BP$2,G39<BP$2),BP$2-G39,IF(AND(G39<=BO$2,H39<=BP$2,H39>=BO$2),H39-BO$2,IF(AND(G39>=BO$2,H39<=BP37),H39-G39,IF(AND(G39=BO$2,G39>=BP$2),G39+BP$2,0))))*24 -> 0 | BR39: =IF(AND(J39>=BR$2,K39>=BS$2,J39<BS$2),BS$2-J39,IF(AND(J39<=BR$2,K39<=BS$2,K39>=BR$2),K39-BR$2,IF(AND(J39>=BR$2,K39<=BS37),K39-J39,IF(AND(J39=BR$2,J39>=BS$2),J39+BS$2,0))))*24 -> 0 | BU39: =IF(AND(M39>=BU$2,N39>=BV$2,M39<BV$2),BV$2-M39,IF(AND(M39<=BU$2,N39<=BV$2,N39>=BU$2),N39-BU$2,IF(AND(M39>=BU$2,N39<=BV37),N39-M39,IF(AND(M39=BU$2,M39>=BV$2),M39+BV$2,0))))*24 -> 0 | BX39: =IF(AND(D39>=BX$2,E39>=BY$2,D39<BY$2),BY$2-D39,IF(AND(D39<=BX$2,E39<=BY$2,E39>=BX$2),E39-BX$2,IF(AND(D39>=BX$2,E39<=BY$2),E39-D39,IF(AND(D39=BX$2,D39>=BY$2),D39+BY$2,0))))*24 -> 0 | CA39: =IF(AND(G39>=CA$2,H39>=CB$2,G39<CB$2),CB$2-G39,IF(AND(G39<=CA$2,H39<=CB$2,H39>=CA$2),H39-CA$2,IF(AND(G39>=CA$2,H39<=CB$2),H39-G39,IF(AND(G39=CA$2,G39>=CB$2),G39+CB$2,0))))*24 -> 0 | CD39: =IF(AND(J39>=CD$2,K39>=CE$2,J39<CE$2),CE$2-J39,IF(AND(J39<=CD$2,K39<=CE$2,K39>=CD$2),K39-CD$2,IF(AND(J39>=CD$2,K39<=CE$2),K39-J39,IF(AND(J39=CD$2,J39>=CE$2),J39+CE$2,0))))*24 -> 0 | CG39: =IF(AND(M39>=CG$2,N39>=CH$2,M39<CH$2),CH$2-M39,IF(AND(M39<=CG$2,N39<=CH$2,N39>=CG$2),N39-CG$2,IF(AND(M39>=CG$2,N39<=CH$2),N39-M39,IF(AND(M39=CG$2,M39>=CH$2),M39+CH$2,0))))*24 -> 0
A40: Montag | B40: 43381 | J40: 0.8125 | K40: 0.90277778 | M40: 0.91666667 | N40: 1 | O40: =(Formeln!E40-Formeln!D40)*24 -> 0 | Q40: =(Formeln!H40-Formeln!G40)*24 -> 0 | S40: =(Formeln!K40-Formeln!J40)*24 -> 2.1666667 | U40: =(Formeln!N40-Formeln!M40)*24 -> 2 | W40: =SUM(O40:U40) -> 4.1666667 | X40: =SUM(AB40:AK40) -> 0 | Y40: =SUM(AN40:BI40) -> 1 | Z40: =SUM(BL40:CG40) -> 1 | AB40: =IF(AND(D40>=$AB$2,E40>=$AC$2,D40<$AC$2),$AC$2-D40,IF(AND(D40<=$AB$2,E40<=$AC$2,E40>$AB$2),$AB$2+E40,IF(AND(D40>=$AB$2,E40<=$AC$2),E40-D40,IF(AND(D40=$AB$2,E40>=$AC$2),D40+$AC$2,0))))*24 -> 0 | AE40: =IF(AND(G40>=$AB$2,H40>=$AC$2,G40<$AC$2),$AC$2-G40,IF(AND(G40<=$AB$2,H40<=$AC$2,H40>$AB$2),$AB$2+H40,IF(AND(G40>=$AB$2,H40<=$AC$2),H40-G40,IF(AND(G40=$AB$2,H40>=$AC$2),G40+$AC$2,0))))*24 -> 0 | AH40: =IF(AND(J40>=$AB$2,K40>=$AC$2,J40<$AC$2),$AC$2-J40,IF(AND(J40<=$AB$2,K40<=$AC$2,K40>$AB$2),$AB$2+K40,IF(AND(J40>=$AB$2,K40<=$AC$2),K40-J40,IF(AND(J40=$AB$2,K40>=$AC$2),J40+$AC$2,0))))*24 -> 0 | AK40: =IF(AND(M40>=$AB$2,N40>=$AC$2,M40<$AC$2),$AC$2-M40,IF(AND(M40<=$AB$2,N40<=$AC$2,N40>$AB$2),$AB$2+N40,IF(AND(M40>=$AB$2,N40<=$AC$2),N40-M40,IF(AND(M40=$AB$2,N40>=$AC$2),M40+$AC$2,0))))*24 -> 0 | AN40: =IF(AND(D40>=AN$2,E40>=AO$2,D40<AO$2),AO$2-D40,IF(AND(D40<=AN$2,E40<=AO$2,E40>=AN$2),E40-AN$2,IF(AND(D40>=AN$2,E40<=AO$2),E40-D40,IF(AND(D40=AN$2,D40>=AO$2),D40+AO$2,0))))*24 -> 0 | AQ40: =IF(AND(G40>=AQ$2,H40>=AR$2,G40<AR$2),AR$2-G40,IF(AND(G40<=AQ$2,H40<=AR$2,H40>=AQ$2),H40-AQ$2,IF(AND(G40>=AQ$2,H40<=AR$2),H40-G40,IF(AND(G40=AQ$2,G40>=AR$2),G40+AR$2,0))))*24 -> 0 | AT40: =IF(AND(J40>=AT$2,K40>=AU$2,J40<AU$2),AU$2-J40,IF(AND(J40<=AT$2,K40<=AU$2,K40>=AT$2),K40-AT$2,IF(AND(J40>=AT$2,K40<=AU$2),K40-J40,IF(AND(J40=AT$2,J40>=AU$2),J40+AU$2,0))))*24 -> 0 | AW40: =IF(AND(M40>=AW$2,N40>=AX$2,M40<AX$2),AX$2-M40,IF(AND(M40<=AW$2,N40<=AX$2,N40>=AW$2),N40-AW$2,IF(AND(M40>=AW$2,N40<=AX$2),N40-M40,IF(AND(M40=AW$2,M40>=AX$2),M40+AX$2,0))))*24 -> 1 | AZ40: =IF(AND(D40>=AZ$2,E40>=BA$2,D40<BA$2),BA$2-D40,IF(AND(D40<=AZ$2,E40<=BA$2,E40>=AZ$2),E40-AZ$2,IF(AND(D40>=AZ$2,E40<=BA$2),E40-D40,IF(AND(D40=AZ$2,D40>=BA$2),D40+BA$2,0))))*24 -> 0 | BC40: =IF(AND(G40>=BC$2,H40>=BD$2,G40<BD$2),BD$2-G40,IF(AND(G40<=BC$2,H40<=BD$2,H40>=BC$2),H40-BC$2,IF(AND(G40>=BC$2,H40<=BD$2),H40-G40,IF(AND(G40=BC$2,G40>=BD$2),G40+BD$2,0))))*24 -> 0 | BF40: =IF(AND(J40>=BF$2,K40>=BG$2,J40<BG$2),BG$2-J40,IF(AND(J40<=BF$2,K40<=BG$2,K40>=BF$2),K40-BF$2,IF(AND(J40>=BF$2,K40<=BG$2),K40-J40,IF(AND(J40=BF$2,J40>=BG$2),J40+BG$2,0))))*24 -> 0 | BI40: =IF(AND(M40>=BI$2,N40>=BJ$2,M40<BJ$2),BJ$2-M40,IF(AND(M40<=BI$2,N40<=BJ$2,N40>=BI$2),N40-BI$2,IF(AND(M40>=BI$2,N40<=BJ$2),N40-M40,IF(AND(M40=BI$2,M40>=BJ$2),M40+BJ$2,0))))*24 -> 0 | BL40: =IF(AND(D40>=BL$2,E40>=BM$2,D40<BM$2),BM$2-D40,IF(AND(D40<=BL$2,E40<=BM$2,E40>=BL$2),E40-BL$2,IF(AND(D40>=BL$2,E40<=BM38),E40-D40,IF(AND(D40=BL$2,D40>=BM$2),D40+BM$2,0))))*24 -> 0 | BO40: =IF(AND(G40>=BO$2,H40>=BP$2,G40<BP$2),BP$2-G40,IF(AND(G40<=BO$2,H40<=BP$2,H40>=BO$2),H40-BO$2,IF(AND(G40>=BO$2,H40<=BP38),H40-G40,IF(AND(G40=BO$2,G40>=BP$2),G40+BP$2,0))))*24 -> 0 | BR40: =IF(AND(J40>=BR$2,K40>=BS$2,J40<BS$2),BS$2-J40,IF(AND(J40<=BR$2,K40<=BS$2,K40>=BR$2),K40-BR$2,IF(AND(J40>=BR$2,K40<=BS38),K40-J40,IF(AND(J40=BR$2,J40>=BS$2),J40+BS$2,0))))*24 -> 0 | BU40: =IF(AND(M40>=BU$2,N40>=BV$2,M40<BV$2),BV$2-M40,IF(AND(M40<=BU$2,N40<=BV$2,N40>=BU$2),N40-BU$2,IF(AND(M40>=BU$2,N40<=BV38),N40-M40,IF(AND(M40=BU$2,M40>=BV$2),M40+BV$2,0))))*24 -> 1 | BX40: =IF(AND(D40>=BX$2,E40>=BY$2,D40<BY$2),BY$2-D40,IF(AND(D40<=BX$2,E40<=BY$2,E40>=BX$2),E40-BX$2,IF(AND(D40>=BX$2,E40<=BY$2),E40-D40,IF(AND(D40=BX$2,D40>=BY$2),D40+BY$2,0))))*24 -> 0 | CA40: =IF(AND(G40>=CA$2,H40>=CB$2,G40<CB$2),CB$2-G40,IF(AND(G40<=CA$2,H40<=CB$2,H40>=CA$2),H40-CA$2,IF(AND(G40>=CA$2,H40<=CB$2),H40-G40,IF(AND(G40=CA$2,G40>=CB$2),G40+CB$2,0))))*24 -> 0 | CD40: =IF(AND(J40>=CD$2,K40>=CE$2,J40<CE$2),CE$2-J40,IF(AND(J40<=CD$2,K40<=CE$2,K40>=CD$2),K40-CD$2,IF(AND(J40>=CD$2,K40<=CE$2),K40-J40,IF(AND(J40=CD$2,J40>=CE$2),J40+CE$2,0))))*24 -> 0 | CG40: =IF(AND(M40>=CG$2,N40>=CH$2,M40<CH$2),CH$2-M40,IF(AND(M40<=CG$2,N40<=CH$2,N40>=CG$2),N40-CG$2,IF(AND(M40>=CG$2,N40<=CH$2),N40-M40,IF(AND(M40=CG$2,M40>=CH$2),M40+CH$2,0))))*24 -> 0
A41: Dienstag | B41: 43382 | C41: fDNS | D41: 0 | E41: 0.020833333 | G41: 0.038194444 | H41: 0.16666667 | J41: 0.8125 | K41: 0.90277778 | M41: 0.91666667 | N41: 1 | O41: =(Formeln!E41-Formeln!D41)*24 -> 0.5 | Q41: =(Formeln!H41-Formeln!G41)*24 -> 3.0833333 | S41: =(Formeln!K41-Formeln!J41)*24 -> 2.1666667 | U41: =(Formeln!N41-Formeln!M41)*24 -> 2 | W41: =SUM(O41:U41) -> 7.75 | X41: =SUM(AB41:AK41) -> 3.5833333 | Y41: =SUM(AN41:BI41) -> 1 | Z41: =SUM(BL41:CG41) -> 1 | AB41: =IF(AND(D41>=$AB$2,E41>=$AC$2,D41<$AC$2),$AC$2-D41,IF(AND(D41<=$AB$2,E41<=$AC$2,E41>$AB$2),$AB$2+E41,IF(AND(D41>=$AB$2,E41<=$AC$2),E41-D41,IF(AND(D41=$AB$2,E41>=$AC$2),D41+$AC$2,0))))*24 -> 0.5 | AE41: =IF(AND(G41>=$AB$2,H41>=$AC$2,G41<$AC$2),$AC$2-G41,IF(AND(G41<=$AB$2,H41<=$AC$2,H41>$AB$2),$AB$2+H41,IF(AND(G41>=$AB$2,H41<=$AC$2),H41-G41,IF(AND(G41=$AB$2,H41>=$AC$2),G41+$AC$2,0))))*24 -> 3.0833333 | AH41: =IF(AND(J41>=$AB$2,K41>=$AC$2,J41<$AC$2),$AC$2-J41,IF(AND(J41<=$AB$2,K41<=$AC$2,K41>$AB$2),$AB$2+K41,IF(AND(J41>=$AB$2,K41<=$AC$2),K41-J41,IF(AND(J41=$AB$2,K41>=$AC$2),J41+$AC$2,0))))*24 -> 0 | AK41: =IF(AND(M41>=$AB$2,N41>=$AC$2,M41<$AC$2),$AC$2-M41,IF(AND(M41<=$AB$2,N41<=$AC$2,N41>$AB$2),$AB$2+N41,IF(AND(M41>=$AB$2,N41<=$AC$2),N41-M41,IF(AND(M41=$AB$2,N41>=$AC$2),M41+$AC$2,0))))*24 -> 0 | AN41: =IF(AND(D41>=AN$2,E41>=AO$2,D41<AO$2),AO$2-D41,IF(AND(D41<=AN$2,E41<=AO$2,E41>=AN$2),E41-AN$2,IF(AND(D41>=AN$2,E41<=AO$2),E41-D41,IF(AND(D41=AN$2,D41>=AO$2),D41+AO$2,0))))*24 -> 0 | AQ41: =IF(AND(G41>=AQ$2,H41>=AR$2,G41<AR$2),AR$2-G41,IF(AND(G41<=AQ$2,H41<=AR$2,H41>=AQ$2),H41-AQ$2,IF(AND(G41>=AQ$2,H41<=AR$2),H41-G41,IF(AND(G41=AQ$2,G41>=AR$2),G41+AR$2,0))))*24 -> 0 | AT41: =IF(AND(J41>=AT$2,K41>=AU$2,J41<AU$2),AU$2-J41,IF(AND(J41<=AT$2,K41<=AU$2,K41>=AT$2),K41-AT$2,IF(AND(J41>=AT$2,K41<=AU$2),K41-J41,IF(AND(J41=AT$2,J41>=AU$2),J41+AU$2,0))))*24 -> 0 | AW41: =IF(AND(M41>=AW$2,N41>=AX$2,M41<AX$2),AX$2-M41,IF(AND(M41<=AW$2,N41<=AX$2,N41>=AW$2),N41-AW$2,IF(AND(M41>=AW$2,N41<=AX$2),N41-M41,IF(AND(M41=AW$2,M41>=AX$2),M41+AX$2,0))))*24 -> 1 | AZ41: =IF(AND(D41>=AZ$2,E41>=BA$2,D41<BA$2),BA$2-D41,IF(AND(D41<=AZ$2,E41<=BA$2,E41>=AZ$2),E41-AZ$2,IF(AND(D41>=AZ$2,E41<=BA$2),E41-D41,IF(AND(D41=AZ$2,D41>=BA$2),D41+BA$2,0))))*24 -> 0 | BC41: =IF(AND(G41>=BC$2,H41>=BD$2,G41<BD$2),BD$2-G41,IF(AND(G41<=BC$2,H41<=BD$2,H41>=BC$2),H41-BC$2,IF(AND(G41>=BC$2,H41<=BD$2),H41-G41,IF(AND(G41=BC$2,G41>=BD$2),G41+BD$2,0))))*24 -> 7.9936058e-15 | BF41: =IF(AND(J41>=BF$2,K41>=BG$2,J41<BG$2),BG$2-J41,IF(AND(J41<=BF$2,K41<=BG$2,K41>=BF$2),K41-BF$2,IF(AND(J41>=BF$2,K41<=BG$2),K41-J41,IF(AND(J41=BF$2,J41>=BG$2),J41+BG$2,0))))*24 -> 0 | BI41: =IF(AND(M41>=BI$2,N41>=BJ$2,M41<BJ$2),BJ$2-M41,IF(AND(M41<=BI$2,N41<=BJ$2,N41>=BI$2),N41-BI$2,IF(AND(M41>=BI$2,N41<=BJ$2),N41-M41,IF(AND(M41=BI$2,M41>=BJ$2),M41+BJ$2,0))))*24 -> 0 | BL41: =IF(AND(D41>=BL$2,E41>=BM$2,D41<BM$2),BM$2-D41,IF(AND(D41<=BL$2,E41<=BM$2,E41>=BL$2),E41-BL$2,IF(AND(D41>=BL$2,E41<=BM39),E41-D41,IF(AND(D41=BL$2,D41>=BM$2),D41+BM$2,0))))*24 -> 0 | BO41: =IF(AND(G41>=BO$2,H41>=BP$2,G41<BP$2),BP$2-G41,IF(AND(G41<=BO$2,H41<=BP$2,H41>=BO$2),H41-BO$2,IF(AND(G41>=BO$2,H41<=BP39),H41-G41,IF(AND(G41=BO$2,G41>=BP$2),G41+BP$2,0))))*24 -> 0 | BR41: =IF(AND(J41>=BR$2,K41>=BS$2,J41<BS$2),BS$2-J41,IF(AND(J41<=BR$2,K41<=BS$2,K41>=BR$2),K41-BR$2,IF(AND(J41>=BR$2,K41<=BS39),K41-J41,IF(AND(J41=BR$2,J41>=BS$2),J41+BS$2,0))))*24 -> 0 | BU41: =IF(AND(M41>=BU$2,N41>=BV$2,M41<BV$2),BV$2-M41,IF(AND(M41<=BU$2,N41<=BV$2,N41>=BU$2),N41-BU$2,IF(AND(M41>=BU$2,N41<=BV39),N41-M41,IF(AND(M41=BU$2,M41>=BV$2),M41+BV$2,0))))*24 -> 1 | BX41: =IF(AND(D41>=BX$2,E41>=BY$2,D41<BY$2),BY$2-D41,IF(AND(D41<=BX$2,E41<=BY$2,E41>=BX$2),E41-BX$2,IF(AND(D41>=BX$2,E41<=BY$2),E41-D41,IF(AND(D41=BX$2,D41>=BY$2),D41+BY$2,0))))*24 -> 0 | CA41: =IF(AND(G41>=CA$2,H41>=CB$2,G41<CB$2),CB$2-G41,IF(AND(G41<=CA$2,H41<=CB$2,H41>=CA$2),H41-CA$2,IF(AND(G41>=CA$2,H41<=CB$2),H41-G41,IF(AND(G41=CA$2,G41>=CB$2),G41+CB$2,0))))*24 -> 7.9936058e-15 | CD41: =IF(AND(J41>=CD$2,K41>=CE$2,J41<CE$2),CE$2-J41,IF(AND(J41<=CD$2,K41<=CE$2,K41>=CD$2),K41-CD$2,IF(AND(J41>=CD$2,K41<=CE$2),K41-J41,IF(AND(J41=CD$2,J41>=CE$2),J41+CE$2,0))))*24 -> 0 | CG41: =IF(AND(M41>=CG$2,N41>=CH$2,M41<CH$2),CH$2-M41,IF(AND(M41<=CG$2,N41<=CH$2,N41>=CG$2),N41-CG$2,IF(AND(M41>=CG$2,N41<=CH$2),N41-M41,IF(AND(M41=CG$2,M41>=CH$2),M41+CH$2,0))))*24 -> 0
A42: Mittwoch | B42: 43383 | C42: fDNS | D42: 0 | E42: 0.020833333 | G42: 0.038194444 | H42: 0.16666667 | O42: =(Formeln!E42-Formeln!D42)*24 -> 0.5 | Q42: =(Formeln!H42-Formeln!G42)*24 -> 3.0833333 | S42: =(Formeln!K42-Formeln!J42)*24 -> 0 | U42: =(Formeln!N42-Formeln!M42)*24 -> 0 | W42: =SUM(O42:U42) -> 3.5833333 | X42: =SUM(AB42:AK42) -> 3.5833333 | Y42: =SUM(AN42:BI42) -> 7.9936058e-15 | Z42: =SUM(BL42:CG42) -> 7.9936058e-15 | AB42: =IF(AND(D42>=$AB$2,E42>=$AC$2,D42<$AC$2),$AC$2-D42,IF(AND(D42<=$AB$2,E42<=$AC$2,E42>$AB$2),$AB$2+E42,IF(AND(D42>=$AB$2,E42<=$AC$2),E42-D42,IF(AND(D42=$AB$2,E42>=$AC$2),D42+$AC$2,0))))*24 -> 0.5 | AE42: =IF(AND(G42>=$AB$2,H42>=$AC$2,G42<$AC$2),$AC$2-G42,IF(AND(G42<=$AB$2,H42<=$AC$2,H42>$AB$2),$AB$2+H42,IF(AND(G42>=$AB$2,H42<=$AC$2),H42-G42,IF(AND(G42=$AB$2,H42>=$AC$2),G42+$AC$2,0))))*24 -> 3.0833333 | AH42: =IF(AND(J42>=$AB$2,K42>=$AC$2,J42<$AC$2),$AC$2-J42,IF(AND(J42<=$AB$2,K42<=$AC$2,K42>$AB$2),$AB$2+K42,IF(AND(J42>=$AB$2,K42<=$AC$2),K42-J42,IF(AND(J42=$AB$2,K42>=$AC$2),J42+$AC$2,0))))*24 -> 0 | AK42: =IF(AND(M42>=$AB$2,N42>=$AC$2,M42<$AC$2),$AC$2-M42,IF(AND(M42<=$AB$2,N42<=$AC$2,N42>$AB$2),$AB$2+N42,IF(AND(M42>=$AB$2,N42<=$AC$2),N42-M42,IF(AND(M42=$AB$2,N42>=$AC$2),M42+$AC$2,0))))*24 -> 0 | AN42: =IF(AND(D42>=AN$2,E42>=AO$2,D42<AO$2),AO$2-D42,IF(AND(D42<=AN$2,E42<=AO$2,E42>=AN$2),E42-AN$2,IF(AND(D42>=AN$2,E42<=AO$2),E42-D42,IF(AND(D42=AN$2,D42>=AO$2),D42+AO$2,0))))*24 -> 0 | AQ42: =IF(AND(G42>=AQ$2,H42>=AR$2,G42<AR$2),AR$2-G42,IF(AND(G42<=AQ$2,H42<=AR$2,H42>=AQ$2),H42-AQ$2,IF(AND(G42>=AQ$2,H42<=AR$2),H42-G42,IF(AND(G42=AQ$2,G42>=AR$2),G42+AR$2,0))))*24 -> 0 | AT42: =IF(AND(J42>=AT$2,K42>=AU$2,J42<AU$2),AU$2-J42,IF(AND(J42<=AT$2,K42<=AU$2,K42>=AT$2),K42-AT$2,IF(AND(J42>=AT$2,K42<=AU$2),K42-J42,IF(AND(J42=AT$2,J42>=AU$2),J42+AU$2,0))))*24 -> 0 | AW42: =IF(AND(M42>=AW$2,N42>=AX$2,M42<AX$2),AX$2-M42,IF(AND(M42<=AW$2,N42<=AX$2,N42>=AW$2),N42-AW$2,IF(AND(M42>=AW$2,N42<=AX$2),N42-M42,IF(AND(M42=AW$2,M42>=AX$2),M42+AX$2,0))))*24 -> 0 | AZ42: =IF(AND(D42>=AZ$2,E42>=BA$2,D42<BA$2),BA$2-D42,IF(AND(D42<=AZ$2,E42<=BA$2,E42>=AZ$2),E42-AZ$2,IF(AND(D42>=AZ$2,E42<=BA$2),E42-D42,IF(AND(D42=AZ$2,D42>=BA$2),D42+BA$2,0))))*24 -> 0 | BC42: =IF(AND(G42>=BC$2,H42>=BD$2,G42<BD$2),BD$2-G42,IF(AND(G42<=BC$2,H42<=BD$2,H42>=BC$2),H42-BC$2,IF(AND(G42>=BC$2,H42<=BD$2),H42-G42,IF(AND(G42=BC$2,G42>=BD$2),G42+BD$2,0))))*24 -> 7.9936058e-15 | BF42: =IF(AND(J42>=BF$2,K42>=BG$2,J42<BG$2),BG$2-J42,IF(AND(J42<=BF$2,K42<=BG$2,K42>=BF$2),K42-BF$2,IF(AND(J42>=BF$2,K42<=BG$2),K42-J42,IF(AND(J42=BF$2,J42>=BG$2),J42+BG$2,0))))*24 -> 0 | BI42: =IF(AND(M42>=BI$2,N42>=BJ$2,M42<BJ$2),BJ$2-M42,IF(AND(M42<=BI$2,N42<=BJ$2,N42>=BI$2),N42-BI$2,IF(AND(M42>=BI$2,N42<=BJ$2),N42-M42,IF(AND(M42=BI$2,M42>=BJ$2),M42+BJ$2,0))))*24 -> 0 | BL42: =IF(AND(D42>=BL$2,E42>=BM$2,D42<BM$2),BM$2-D42,IF(AND(D42<=BL$2,E42<=BM$2,E42>=BL$2),E42-BL$2,IF(AND(D42>=BL$2,E42<=BM40),E42-D42,IF(AND(D42=BL$2,D42>=BM$2),D42+BM$2,0))))*24 -> 0 | BO42: =IF(AND(G42>=BO$2,H42>=BP$2,G42<BP$2),BP$2-G42,IF(AND(G42<=BO$2,H42<=BP$2,H42>=BO$2),H42-BO$2,IF(AND(G42>=BO$2,H42<=BP40),H42-G42,IF(AND(G42=BO$2,G42>=BP$2),G42+BP$2,0))))*24 -> 0 | BR42: =IF(AND(J42>=BR$2,K42>=BS$2,J42<BS$2),BS$2-J42,IF(AND(J42<=BR$2,K42<=BS$2,K42>=BR$2),K42-BR$2,IF(AND(J42>=BR$2,K42<=BS40),K42-J42,IF(AND(J42=BR$2,J42>=BS$2),J42+BS$2,0))))*24 -> 0 | BU42: =IF(AND(M42>=BU$2,N42>=BV$2,M42<BV$2),BV$2-M42,IF(AND(M42<=BU$2,N42<=BV$2,N42>=BU$2),N42-BU$2,IF(AND(M42>=BU$2,N42<=BV40),N42-M42,IF(AND(M42=BU$2,M42>=BV$2),M42+BV$2,0))))*24 -> 0 | BX42: =IF(AND(D42>=BX$2,E42>=BY$2,D42<BY$2),BY$2-D42,IF(AND(D42<=BX$2,E42<=BY$2,E42>=BX$2),E42-BX$2,IF(AND(D42>=BX$2,E42<=BY$2),E42-D42,IF(AND(D42=BX$2,D42>=BY$2),D42+BY$2,0))))*24 -> 0 | CA42: =IF(AND(G42>=CA$2,H42>=CB$2,G42<CB$2),CB$2-G42,IF(AND(G42<=CA$2,H42<=CB$2,H42>=CA$2),H42-CA$2,IF(AND(G42>=CA$2,H42<=CB$2),H42-G42,IF(AND(G42=CA$2,G42>=CB$2),G42+CB$2,0))))*24 -> 7.9936058e-15 | CD42: =IF(AND(J42>=CD$2,K42>=CE$2,J42<CE$2),CE$2-J42,IF(AND(J42<=CD$2,K42<=CE$2,K42>=CD$2),K42-CD$2,IF(AND(J42>=CD$2,K42<=CE$2),K42-J42,IF(AND(J42=CD$2,J42>=CE$2),J42+CE$2,0))))*24 -> 0 | CG42: =IF(AND(M42>=CG$2,N42>=CH$2,M42<CH$2),CH$2-M42,IF(AND(M42<=CG$2,N42<=CH$2,N42>=CG$2),N42-CG$2,IF(AND(M42>=CG$2,N42<=CH$2),N42-M42,IF(AND(M42=CG$2,M42>=CH$2),M42+CH$2,0))))*24 -> 0
A43: Donnerstag | B43: 43384 | O43: =(Formeln!E43-Formeln!D43)*24 -> 0 | Q43: =(Formeln!H43-Formeln!G43)*24 -> 0 | S43: =(Formeln!K43-Formeln!J43)*24 -> 0 | U43: =(Formeln!N43-Formeln!M43)*24 -> 0 | W43: =SUM(O43:U43) -> 0 | X43: =SUM(AB43:AK43) -> 0 | Y43: =SUM(AN43:BI43) -> 0 | Z43: =SUM(BL43:CG43) -> 0 | AB43: =IF(AND(D43>=$AB$2,E43>=$AC$2,D43<$AC$2),$AC$2-D43,IF(AND(D43<=$AB$2,E43<=$AC$2,E43>$AB$2),$AB$2+E43,IF(AND(D43>=$AB$2,E43<=$AC$2),E43-D43,IF(AND(D43=$AB$2,E43>=$AC$2),D43+$AC$2,0))))*24 -> 0 | AE43: =IF(AND(G43>=$AB$2,H43>=$AC$2,G43<$AC$2),$AC$2-G43,IF(AND(G43<=$AB$2,H43<=$AC$2,H43>$AB$2),$AB$2+H43,IF(AND(G43>=$AB$2,H43<=$AC$2),H43-G43,IF(AND(G43=$AB$2,H43>=$AC$2),G43+$AC$2,0))))*24 -> 0 | AH43: =IF(AND(J43>=$AB$2,K43>=$AC$2,J43<$AC$2),$AC$2-J43,IF(AND(J43<=$AB$2,K43<=$AC$2,K43>$AB$2),$AB$2+K43,IF(AND(J43>=$AB$2,K43<=$AC$2),K43-J43,IF(AND(J43=$AB$2,K43>=$AC$2),J43+$AC$2,0))))*24 -> 0 | AK43: =IF(AND(M43>=$AB$2,N43>=$AC$2,M43<$AC$2),$AC$2-M43,IF(AND(M43<=$AB$2,N43<=$AC$2,N43>$AB$2),$AB$2+N43,IF(AND(M43>=$AB$2,N43<=$AC$2),N43-M43,IF(AND(M43=$AB$2,N43>=$AC$2),M43+$AC$2,0))))*24 -> 0 | AN43: =IF(AND(D43>=AN$2,E43>=AO$2,D43<AO$2),AO$2-D43,IF(AND(D43<=AN$2,E43<=AO$2,E43>=AN$2),E43-AN$2,IF(AND(D43>=AN$2,E43<=AO$2),E43-D43,IF(AND(D43=AN$2,D43>=AO$2),D43+AO$2,0))))*24 -> 0 | AQ43: =IF(AND(G43>=AQ$2,H43>=AR$2,G43<AR$2),AR$2-G43,IF(AND(G43<=AQ$2,H43<=AR$2,H43>=AQ$2),H43-AQ$2,IF(AND(G43>=AQ$2,H43<=AR$2),H43-G43,IF(AND(G43=AQ$2,G43>=AR$2),G43+AR$2,0))))*24 -> 0 | AT43: =IF(AND(J43>=AT$2,K43>=AU$2,J43<AU$2),AU$2-J43,IF(AND(J43<=AT$2,K43<=AU$2,K43>=AT$2),K43-AT$2,IF(AND(J43>=AT$2,K43<=AU$2),K43-J43,IF(AND(J43=AT$2,J43>=AU$2),J43+AU$2,0))))*24 -> 0 | AW43: =IF(AND(M43>=AW$2,N43>=AX$2,M43<AX$2),AX$2-M43,IF(AND(M43<=AW$2,N43<=AX$2,N43>=AW$2),N43-AW$2,IF(AND(M43>=AW$2,N43<=AX$2),N43-M43,IF(AND(M43=AW$2,M43>=AX$2),M43+AX$2,0))))*24 -> 0 | AZ43: =IF(AND(D43>=AZ$2,E43>=BA$2,D43<BA$2),BA$2-D43,IF(AND(D43<=AZ$2,E43<=BA$2,E43>=AZ$2),E43-AZ$2,IF(AND(D43>=AZ$2,E43<=BA$2),E43-D43,IF(AND(D43=AZ$2,D43>=BA$2),D43+BA$2,0))))*24 -> 0 | BC43: =IF(AND(G43>=BC$2,H43>=BD$2,G43<BD$2),BD$2-G43,IF(AND(G43<=BC$2,H43<=BD$2,H43>=BC$2),H43-BC$2,IF(AND(G43>=BC$2,H43<=BD$2),H43-G43,IF(AND(G43=BC$2,G43>=BD$2),G43+BD$2,0))))*24 -> 0 | BF43: =IF(AND(J43>=BF$2,K43>=BG$2,J43<BG$2),BG$2-J43,IF(AND(J43<=BF$2,K43<=BG$2,K43>=BF$2),K43-BF$2,IF(AND(J43>=BF$2,K43<=BG$2),K43-J43,IF(AND(J43=BF$2,J43>=BG$2),J43+BG$2,0))))*24 -> 0 | BI43: =IF(AND(M43>=BI$2,N43>=BJ$2,M43<BJ$2),BJ$2-M43,IF(AND(M43<=BI$2,N43<=BJ$2,N43>=BI$2),N43-BI$2,IF(AND(M43>=BI$2,N43<=BJ$2),N43-M43,IF(AND(M43=BI$2,M43>=BJ$2),M43+BJ$2,0))))*24 -> 0 | BL43: =IF(AND(D43>=BL$2,E43>=BM$2,D43<BM$2),BM$2-D43,IF(AND(D43<=BL$2,E43<=BM$2,E43>=BL$2),E43-BL$2,IF(AND(D43>=BL$2,E43<=BM41),E43-D43,IF(AND(D43=BL$2,D43>=BM$2),D43+BM$2,0))))*24 -> 0 | BO43: =IF(AND(G43>=BO$2,H43>=BP$2,G43<BP$2),BP$2-G43,IF(AND(G43<=BO$2,H43<=BP$2,H43>=BO$2),H43-BO$2,IF(AND(G43>=BO$2,H43<=BP41),H43-G43,IF(AND(G43=BO$2,G43>=BP$2),G43+BP$2,0))))*24 -> 0 | BR43: =IF(AND(J43>=BR$2,K43>=BS$2,J43<BS$2),BS$2-J43,IF(AND(J43<=BR$2,K43<=BS$2,K43>=BR$2),K43-BR$2,IF(AND(J43>=BR$2,K43<=BS41),K43-J43,IF(AND(J43=BR$2,J43>=BS$2),J43+BS$2,0))))*24 -> 0 | BU43: =IF(AND(M43>=BU$2,N43>=BV$2,M43<BV$2),BV$2-M43,IF(AND(M43<=BU$2,N43<=BV$2,N43>=BU$2),N43-BU$2,IF(AND(M43>=BU$2,N43<=BV41),N43-M43,IF(AND(M43=BU$2,M43>=BV$2),M43+BV$2,0))))*24 -> 0 | BX43: =IF(AND(D43>=BX$2,E43>=BY$2,D43<BY$2),BY$2-D43,IF(AND(D43<=BX$2,E43<=BY$2,E43>=BX$2),E43-BX$2,IF(AND(D43>=BX$2,E43<=BY$2),E43-D43,IF(AND(D43=BX$2,D43>=BY$2),D43+BY$2,0))))*24 -> 0 | CA43: =IF(AND(G43>=CA$2,H43>=CB$2,G43<CB$2),CB$2-G43,IF(AND(G43<=CA$2,H43<=CB$2,H43>=CA$2),H43-CA$2,IF(AND(G43>=CA$2,H43<=CB$2),H43-G43,IF(AND(G43=CA$2,G43>=CB$2),G43+CB$2,0))))*24 -> 0 | CD43: =IF(AND(J43>=CD$2,K43>=CE$2,J43<CE$2),CE$2-J43,IF(AND(J43<=CD$2,K43<=CE$2,K43>=CD$2),K43-CD$2,IF(AND(J43>=CD$2,K43<=CE$2),K43-J43,IF(AND(J43=CD$2,J43>=CE$2),J43+CE$2,0))))*24 -> 0 | CG43: =IF(AND(M43>=CG$2,N43>=CH$2,M43<CH$2),CH$2-M43,IF(AND(M43<=CG$2,N43<=CH$2,N43>=CG$2),N43-CG$2,IF(AND(M43>=CG$2,N43<=CH$2),N43-M43,IF(AND(M43=CG$2,M43>=CH$2),M43+CH$2,0))))*24 -> 0
A44: Freitag | B44: 43385 | O44: =(Formeln!E44-Formeln!D44)*24 -> 0 | Q44: =(Formeln!H44-Formeln!G44)*24 -> 0 | S44: =(Formeln!K44-Formeln!J44)*24 -> 0 | U44: =(Formeln!N44-Formeln!M44)*24 -> 0 | W44: =SUM(O44:U44) -> 0 | X44: =SUM(AB44:AK44) -> 0 | Y44: =SUM(AN44:BI44) -> 0 | Z44: =SUM(BL44:CG44) -> 0 | AB44: =IF(AND(D44>=$AB$2,E44>=$AC$2,D44<$AC$2),$AC$2-D44,IF(AND(D44<=$AB$2,E44<=$AC$2,E44>$AB$2),$AB$2+E44,IF(AND(D44>=$AB$2,E44<=$AC$2),E44-D44,IF(AND(D44=$AB$2,E44>=$AC$2),D44+$AC$2,0))))*24 -> 0 | AE44: =IF(AND(G44>=$AB$2,H44>=$AC$2,G44<$AC$2),$AC$2-G44,IF(AND(G44<=$AB$2,H44<=$AC$2,H44>$AB$2),$AB$2+H44,IF(AND(G44>=$AB$2,H44<=$AC$2),H44-G44,IF(AND(G44=$AB$2,H44>=$AC$2),G44+$AC$2,0))))*24 -> 0 | AH44: =IF(AND(J44>=$AB$2,K44>=$AC$2,J44<$AC$2),$AC$2-J44,IF(AND(J44<=$AB$2,K44<=$AC$2,K44>$AB$2),$AB$2+K44,IF(AND(J44>=$AB$2,K44<=$AC$2),K44-J44,IF(AND(J44=$AB$2,K44>=$AC$2),J44+$AC$2,0))))*24 -> 0 | AK44: =IF(AND(M44>=$AB$2,N44>=$AC$2,M44<$AC$2),$AC$2-M44,IF(AND(M44<=$AB$2,N44<=$AC$2,N44>$AB$2),$AB$2+N44,IF(AND(M44>=$AB$2,N44<=$AC$2),N44-M44,IF(AND(M44=$AB$2,N44>=$AC$2),M44+$AC$2,0))))*24 -> 0 | AN44: =IF(AND(D44>=AN$2,E44>=AO$2,D44<AO$2),AO$2-D44,IF(AND(D44<=AN$2,E44<=AO$2,E44>=AN$2),E44-AN$2,IF(AND(D44>=AN$2,E44<=AO$2),E44-D44,IF(AND(D44=AN$2,D44>=AO$2),D44+AO$2,0))))*24 -> 0 | AQ44: =IF(AND(G44>=AQ$2,H44>=AR$2,G44<AR$2),AR$2-G44,IF(AND(G44<=AQ$2,H44<=AR$2,H44>=AQ$2),H44-AQ$2,IF(AND(G44>=AQ$2,H44<=AR$2),H44-G44,IF(AND(G44=AQ$2,G44>=AR$2),G44+AR$2,0))))*24 -> 0 | AT44: =IF(AND(J44>=AT$2,K44>=AU$2,J44<AU$2),AU$2-J44,IF(AND(J44<=AT$2,K44<=AU$2,K44>=AT$2),K44-AT$2,IF(AND(J44>=AT$2,K44<=AU$2),K44-J44,IF(AND(J44=AT$2,J44>=AU$2),J44+AU$2,0))))*24 -> 0 | AW44: =IF(AND(M44>=AW$2,N44>=AX$2,M44<AX$2),AX$2-M44,IF(AND(M44<=AW$2,N44<=AX$2,N44>=AW$2),N44-AW$2,IF(AND(M44>=AW$2,N44<=AX$2),N44-M44,IF(AND(M44=AW$2,M44>=AX$2),M44+AX$2,0))))*24 -> 0 | AZ44: =IF(AND(D44>=AZ$2,E44>=BA$2,D44<BA$2),BA$2-D44,IF(AND(D44<=AZ$2,E44<=BA$2,E44>=AZ$2),E44-AZ$2,IF(AND(D44>=AZ$2,E44<=BA$2),E44-D44,IF(AND(D44=AZ$2,D44>=BA$2),D44+BA$2,0))))*24 -> 0 | BC44: =IF(AND(G44>=BC$2,H44>=BD$2,G44<BD$2),BD$2-G44,IF(AND(G44<=BC$2,H44<=BD$2,H44>=BC$2),H44-BC$2,IF(AND(G44>=BC$2,H44<=BD$2),H44-G44,IF(AND(G44=BC$2,G44>=BD$2),G44+BD$2,0))))*24 -> 0 | BF44: =IF(AND(J44>=BF$2,K44>=BG$2,J44<BG$2),BG$2-J44,IF(AND(J44<=BF$2,K44<=BG$2,K44>=BF$2),K44-BF$2,IF(AND(J44>=BF$2,K44<=BG$2),K44-J44,IF(AND(J44=BF$2,J44>=BG$2),J44+BG$2,0))))*24 -> 0 | BI44: =IF(AND(M44>=BI$2,N44>=BJ$2,M44<BJ$2),BJ$2-M44,IF(AND(M44<=BI$2,N44<=BJ$2,N44>=BI$2),N44-BI$2,IF(AND(M44>=BI$2,N44<=BJ$2),N44-M44,IF(AND(M44=BI$2,M44>=BJ$2),M44+BJ$2,0))))*24 -> 0 | BL44: =IF(AND(D44>=BL$2,E44>=BM$2,D44<BM$2),BM$2-D44,IF(AND(D44<=BL$2,E44<=BM$2,E44>=BL$2),E44-BL$2,IF(AND(D44>=BL$2,E44<=BM42),E44-D44,IF(AND(D44=BL$2,D44>=BM$2),D44+BM$2,0))))*24 -> 0 | BO44: =IF(AND(G44>=BO$2,H44>=BP$2,G44<BP$2),BP$2-G44,IF(AND(G44<=BO$2,H44<=BP$2,H44>=BO$2),H44-BO$2,IF(AND(G44>=BO$2,H44<=BP42),H44-G44,IF(AND(G44=BO$2,G44>=BP$2),G44+BP$2,0))))*24 -> 0 | BR44: =IF(AND(J44>=BR$2,K44>=BS$2,J44<BS$2),BS$2-J44,IF(AND(J44<=BR$2,K44<=BS$2,K44>=BR$2),K44-BR$2,IF(AND(J44>=BR$2,K44<=BS42),K44-J44,IF(AND(J44=BR$2,J44>=BS$2),J44+BS$2,0))))*24 -> 0 | BU44: =IF(AND(M44>=BU$2,N44>=BV$2,M44<BV$2),BV$2-M44,IF(AND(M44<=BU$2,N44<=BV$2,N44>=BU$2),N44-BU$2,IF(AND(M44>=BU$2,N44<=BV42),N44-M44,IF(AND(M44=BU$2,M44>=BV$2),M44+BV$2,0))))*24 -> 0 | BX44: =IF(AND(D44>=BX$2,E44>=BY$2,D44<BY$2),BY$2-D44,IF(AND(D44<=BX$2,E44<=BY$2,E44>=BX$2),E44-BX$2,IF(AND(D44>=BX$2,E44<=BY$2),E44-D44,IF(AND(D44=BX$2,D44>=BY$2),D44+BY$2,0))))*24 -> 0 | CA44: =IF(AND(G44>=CA$2,H44>=CB$2,G44<CB$2),CB$2-G44,IF(AND(G44<=CA$2,H44<=CB$2,H44>=CA$2),H44-CA$2,IF(AND(G44>=CA$2,H44<=CB$2),H44-G44,IF(AND(G44=CA$2,G44>=CB$2),G44+CB$2,0))))*24 -> 0 | CD44: =IF(AND(J44>=CD$2,K44>=CE$2,J44<CE$2),CE$2-J44,IF(AND(J44<=CD$2,K44<=CE$2,K44>=CD$2),K44-CD$2,IF(AND(J44>=CD$2,K44<=CE$2),K44-J44,IF(AND(J44=CD$2,J44>=CE$2),J44+CE$2,0))))*24 -> 0 | CG44: =IF(AND(M44>=CG$2,N44>=CH$2,M44<CH$2),CH$2-M44,IF(AND(M44<=CG$2,N44<=CH$2,N44>=CG$2),N44-CG$2,IF(AND(M44>=CG$2,N44<=CH$2),N44-M44,IF(AND(M44=CG$2,M44>=CH$2),M44+CH$2,0))))*24 -> 0
