Workbook

Sheet Eingabemaske
G1: 0.020833333
A2: Form | B2: Zylinder | E2: Temperaturv. | F2: 0 | G2: =F2 -> 0 | H2: =B$15-(12/PI()*SIN(PI()/12*F2))*B$17 -> 23 | I2: =IF(OR(G2=B$21,G2>B$21,G2<B$22),B$18*B$20+(B$19*(1-B$20)),0) -> 300 | J2: =IF(OR(G2<B$21,G2>B$22,),(B$18*B$20+(B$19*(1-B$20)))*-1,0) -> -300 | K2: =I2+J2 -> 0 | N2: J/kg * K | O2: W/m * K | P2: kg/m³
A3: StrömungInnen | B3: horizontal_Breite | F3: 0.5 | G3: =G2+G$1 -> 0.020833333 | H3: =B$15-(12/PI()*SIN(PI()/12*F3))*B$17 -> 22.700856 | I3: =IF(OR(G3=B$21,G3>B$21,G3<B$22),B$18*B$20+(B$19*(1-B$20)),0) -> 300 | J3: =IF(OR(G3<B$21,G3>B$22,),(B$18*B$20+(B$19*(1-B$20)))*-1,0) -> -300 | K3: =I3+J3 -> 0 | N3: =IF($B$13="PE",1900,IF($B$13="Stahl",490,720)) -> 1900 | O3: =IF($B$13="PE",0.42,IF($B$13="Stahl",42,0.8)) -> 0.42 | P3: =IF($B$13="PE",970,IF($B$13="Stahl",7850,2500)) -> 970
A4: StrömungAußen | B4: horizontal_Breite | F4: 1 | G4: =G3+G$1 -> 0.041666667 | H4: =B$15-(12/PI()*SIN(PI()/12*F4))*B$17 -> 22.40683 | I4: =IF(OR(G4=B$21,G4>B$21,G4<B$22),B$18*B$20+(B$19*(1-B$20)),0) -> 300 | J4: =IF(OR(G4<B$21,G4>B$22,),(B$18*B$20+(B$19*(1-B$20)))*-1,0) -> -300 | K4: =I4+J4 -> 0
A5: HöheBehälter | B5: 0.745 | C5: m | F5: 1.5 | G5: =G4+G$1 -> 0.0625 | H5: =B$15-(12/PI()*SIN(PI()/12*F5))*B$17 -> 22.122954 | I5: =IF(OR(G5=B$21,G5>B$21,G5<B$22),B$18*B$20+(B$19*(1-B$20)),0) -> 300 | J5: =IF(OR(G5<B$21,G5>B$22,),(B$18*B$20+(B$19*(1-B$20)))*-1,0) -> -300 | K5: =I5+J5 -> 0
A6: Breite/DBehälter | B6: 0.5 | C6: m | F6: 2 | G6: =G5+G$1 -> 0.083333333 | H6: =B$15-(12/PI()*SIN(PI()/12*F6))*B$17 -> 21.854084 | I6: =IF(OR(G6=B$21,G6>B$21,G6<B$22),B$18*B$20+(B$19*(1-B$20)),0) -> 300 | J6: =IF(OR(G6<B$21,G6>B$22,),(B$18*B$20+(B$19*(1-B$20)))*-1,0) -> -300 | K6: =I6+J6 -> 0
A7: LängeBehälter | B7: 0.7 | C7: m | F7: 2.5 | G7: =G6+G$1 -> 0.10416667 | H7: =B$15-(12/PI()*SIN(PI()/12*F7))*B$17 -> 21.604822 | I7: =IF(OR(G7=B$21,G7>B$21,G7<B$22),B$18*B$20+(B$19*(1-B$20)),0) -> 300 | J7: =IF(OR(G7<B$21,G7>B$22,),(B$18*B$20+(B$19*(1-B$20)))*-1,0) -> -300 | K7: =I7+J7 -> 0
A8: Luftdurchsatz | B8: 300 | C8: m³/h | F8: 3 | G8: =G7+G$1 -> 0.125 | H8: =B$15-(12/PI()*SIN(PI()/12*F8))*B$17 -> 21.379431 | I8: =IF(OR(G8=B$21,G8>B$21,G8<B$22),B$18*B$20+(B$19*(1-B$20)),0) -> 300 | J8: =IF(OR(G8<B$21,G8>B$22,),(B$18*B$20+(B$19*(1-B$20)))*-1,0) -> -300 | K8: =I8+J8 -> 0
A9: Volumenstrom | B9: 80 | C9: L/h | F9: 3.5 | G9: =G8+G$1 -> 0.14583333 | H9: =B$15-(12/PI()*SIN(PI()/12*F9))*B$17 -> 21.181768 | I9: =IF(OR(G9=B$21,G9>B$21,G9<B$22),B$18*B$20+(B$19*(1-B$20)),0) -> 300 | J9: =IF(OR(G9<B$21,G9>B$22,),(B$18*B$20+(B$19*(1-B$20)))*-1,0) -> -300 | K9: =I9+J9 -> 0
A10: Raumhöhe | B10: 2.4 | C10: m | F10: 4 | G10: =G9+G$1 -> 0.16666667 | H10: =B$15-(12/PI()*SIN(PI()/12*F10))*B$17 -> 21.015216 | I10: =IF(OR(G10=B$21,G10>B$21,G10<B$22),B$18*B$20+(B$19*(1-B$20)),0) -> 300 | J10: =IF(OR(G10<B$21,G10>B$22,),(B$18*B$20+(B$19*(1-B$20)))*-1,0) -> -300 | K10: =I10+J10 -> 0
A11: Raumbreite | B11: 2 | C11: m | F11: 4.5 | G11: =G10+G$1 -> 0.1875 | H11: =B$15-(12/PI()*SIN(PI()/12*F11))*B$17 -> 20.882624 | I11: =IF(OR(G11=B$21,G11>B$21,G11<B$22),B$18*B$20+(B$19*(1-B$20)),0) -> 300 | J11: =IF(OR(G11<B$21,G11>B$22,),(B$18*B$20+(B$19*(1-B$20)))*-1,0) -> -300 | K11: =I11+J11 -> 0
A12: Wanddicke | B12: 5 | C12: mm | F12: 5 | G12: =G11+G$1 -> 0.20833333 | H12: =B$15-(12/PI()*SIN(PI()/12*F12))*B$17 -> 20.786261 | I12: =IF(OR(G12=B$21,G12>B$21,G12<B$22),B$18*B$20+(B$19*(1-B$20)),0) -> 300 | J12: =IF(OR(G12<B$21,G12>B$22,),(B$18*B$20+(B$19*(1-B$20)))*-1,0) -> -300 | K12: =I12+J12 -> 0
A13: Material | B13: PE | F13: 5.5 | G13: =G12+G$1 -> 0.22916667 | H13: =B$15-(12/PI()*SIN(PI()/12*F13))*B$17 -> 20.727776 | I13: =IF(OR(G13=B$21,G13>B$21,G13<B$22),B$18*B$20+(B$19*(1-B$20)),0) -> 300 | J13: =IF(OR(G13<B$21,G13>B$22,),(B$18*B$20+(B$19*(1-B$20)))*-1,0) -> -300 | K13: =I13+J13 -> 0
F14: 6 | G14: =G13+G$1 -> 0.25 | H14: =B$15-(12/PI()*SIN(PI()/12*F14))*B$17 -> 20.708169 | I14: =IF(OR(G14=B$21,G14>B$21,G14<B$22),B$18*B$20+(B$19*(1-B$20)),0) -> 300 | J14: =IF(OR(G14<B$21,G14>B$22,),(B$18*B$20+(B$19*(1-B$20)))*-1,0) -> -300 | K14: =I14+J14 -> 0
A15: Luftemperatur | B15: 23 | C15: °C | F15: 6.5 | G15: =G14+G$1 -> 0.27083333 | H15: =B$15-(12/PI()*SIN(PI()/12*F15))*B$17 -> 20.727776 | I15: =IF(OR(G15=B$21,G15>B$21,G15<B$22),B$18*B$20+(B$19*(1-B$20)),0) -> 300 | J15: =IF(OR(G15<B$21,G15>B$22,),(B$18*B$20+(B$19*(1-B$20)))*-1,0) -> -300 | K15: =I15+J15 -> 0
A16: Wassertemp. | B16: 23 | C16: °C | F16: 7 | G16: =G15+G$1 -> 0.29166667 | H16: =B$15-(12/PI()*SIN(PI()/12*F16))*B$17 -> 20.786261 | I16: =IF(OR(G16=B$21,G16>B$21,G16<B$22),B$18*B$20+(B$19*(1-B$20)),0) -> 300 | J16: =IF(OR(G16<B$21,G16>B$22,),(B$18*B$20+(B$19*(1-B$20)))*-1,0) -> -300 | K16: =I16+J16 -> 0
A17: Temp. Verlauf | B17: 0.6 | F17: 7.5 | G17: =G16+G$1 -> 0.3125 | H17: =B$15-(12/PI()*SIN(PI()/12*F17))*B$17 -> 20.882624 | I17: =IF(OR(G17=B$21,G17>B$21,G17<B$22),B$18*B$20+(B$19*(1-B$20)),0) -> 300 | J17: =IF(OR(G17<B$21,G17>B$22,),(B$18*B$20+(B$19*(1-B$20)))*-1,0) -> -300 | K17: =I17+J17 -> 0
A18: Wärmelastmax | B18: 300 | C18: W | F18: 8 | G18: =G17+G$1 -> 0.33333333 | H18: =B$15-(12/PI()*SIN(PI()/12*F18))*B$17 -> 21.015216 | I18: =IF(OR(G18=B$21,G18>B$21,G18<B$22),B$18*B$20+(B$19*(1-B$20)),0) -> 300 | J18: =IF(OR(G18<B$21,G18>B$22,),(B$18*B$20+(B$19*(1-B$20)))*-1,0) -> -300 | K18: =I18+J18 -> 0
A19: Wärmelastmin | B19: 80 | C19: W | F19: 8.5 | G19: =G18+G$1 -> 0.35416667 | H19: =B$15-(12/PI()*SIN(PI()/12*F19))*B$17 -> 21.181768 | I19: =IF(OR(G19=B$21,G19>B$21,G19<B$22),B$18*B$20+(B$19*(1-B$20)),0) -> 300 | J19: =IF(OR(G19<B$21,G19>B$22,),(B$18*B$20+(B$19*(1-B$20)))*-1,0) -> -300 | K19: =I19+J19 -> 0
A20: Wärmelastmax Anteil | B20: 1 | F20: 9 | G20: =G19+G$1 -> 0.375 | H20: =B$15-(12/PI()*SIN(PI()/12*F20))*B$17 -> 21.379431 | I20: =IF(OR(G20=B$21,G20>B$21,G20<B$22),B$18*B$20+(B$19*(1-B$20)),0) -> 300 | J20: =IF(OR(G20<B$21,G20>B$22,),(B$18*B$20+(B$19*(1-B$20)))*-1,0) -> -300 | K20: =I20+J20 -> 0
A21: Einschaltuhrzeit | B21: 0.66666667 | F21: 9.5 | G21: =G20+G$1 -> 0.39583333 | H21: =B$15-(12/PI()*SIN(PI()/12*F21))*B$17 -> 21.604822 | I21: =IF(OR(G21=B$21,G21>B$21,G21<B$22),B$18*B$20+(B$19*(1-B$20)),0) -> 300 | J21: =IF(OR(G21<B$21,G21>B$22,),(B$18*B$20+(B$19*(1-B$20)))*-1,0) -> -300 | K21: =I21+J21 -> 0
A22: Ausschaltuhrzeit | B22: 0.95833333 | F22: 10 | G22: =G21+G$1 -> 0.41666667 | H22: =B$15-(12/PI()*SIN(PI()/12*F22))*B$17 -> 21.854084 | I22: =IF(OR(G22=B$21,G22>B$21,G22<B$22),B$18*B$20+(B$19*(1-B$20)),0) -> 300 | J22: =IF(OR(G22<B$21,G22>B$22,),(B$18*B$20+(B$19*(1-B$20)))*-1,0) -> -300 | K22: =I22+J22 -> 0
A23: Fullstand Wasser | B23: 99 | C23: % | F23: 10.5 | G23: =G22+G$1 -> 0.4375 | H23: =B$15-(12/PI()*SIN(PI()/12*F23))*B$17 -> 22.122954 | I23: =IF(OR(G23=B$21,G23>B$21,G23<B$22),B$18*B$20+(B$19*(1-B$20)),0) -> 300 | J23: =IF(OR(G23<B$21,G23>B$22,),(B$18*B$20+(B$19*(1-B$20)))*-1,0) -> -300 | K23: =I23+J23 -> 0
F24: 11 | G24: =G23+G$1 -> 0.45833333 | H24: =B$15-(12/PI()*SIN(PI()/12*F24))*B$17 -> 22.40683 | I24: =IF(OR(G24=B$21,G24>B$21,G24<B$22),B$18*B$20+(B$19*(1-B$20)),0) -> 300 | J24: =IF(OR(G24<B$21,G24>B$22,),(B$18*B$20+(B$19*(1-B$20)))*-1,0) -> -300 | K24: =I24+J24 -> 0
F25: 11.5 | G25: =G24+G$1 -> 0.47916667 | H25: =B$15-(12/PI()*SIN(PI()/12*F25))*B$17 -> 22.700856 | I25: =IF(OR(G25=B$21,G25>B$21,G25<B$22),B$18*B$20+(B$19*(1-B$20)),0) -> 300 | J25: =IF(OR(G25<B$21,G25>B$22,),(B$18*B$20+(B$19*(1-B$20)))*-1,0) -> -300 | K25: =I25+J25 -> 0
F26: 12 | G26: =G25+G$1 -> 0.5 | H26: =B$15-(12/PI()*SIN(PI()/12*F26))*B$17 -> 23 | I26: =IF(OR(G26=B$21,G26>B$21,G26<B$22),B$18*B$20+(B$19*(1-B$20)),0) -> 300 | J26: =IF(OR(G26<B$21,G26>B$22,),(B$18*B$20+(B$19*(1-B$20)))*-1,0) -> -300 | K26: =I26+J26 -> 0
F27: 12.5 | G27: =G26+G$1 -> 0.52083333 | H27: =B$15-(12/PI()*SIN(PI()/12*F27))*B$17 -> 23.299144 | I27: =IF(OR(G27=B$21,G27>B$21,G27<B$22),B$18*B$20+(B$19*(1-B$20)),0) -> 300 | J27: =IF(OR(G27<B$21,G27>B$22,),(B$18*B$20+(B$19*(1-B$20)))*-1,0) -> -300 | K27: =I27+J27 -> 0
F28: 13 | G28: =G27+G$1 -> 0.54166667 | H28: =B$15-(12/PI()*SIN(PI()/12*F28))*B$17 -> 23.59317 | I28: =IF(OR(G28=B$21,G28>B$21,G28<B$22),B$18*B$20+(B$19*(1-B$20)),0) -> 300 | J28: =IF(OR(G28<B$21,G28>B$22,),(B$18*B$20+(B$19*(1-B$20)))*-1,0) -> -300 | K28: =I28+J28 -> 0
F29: 13.5 | G29: =G28+G$1 -> 0.5625 | H29: =B$15-(12/PI()*SIN(PI()/12*F29))*B$17 -> 23.877046 | I29: =IF(OR(G29=B$21,G29>B$21,G29<B$22),B$18*B$20+(B$19*(1-B$20)),0) -> 300 | J29: =IF(OR(G29<B$21,G29>B$22,),(B$18*B$20+(B$19*(1-B$20)))*-1,0) -> -300 | K29: =I29+J29 -> 0
F30: 14 | G30: =G29+G$1 -> 0.58333333 | H30: =B$15-(12/PI()*SIN(PI()/12*F30))*B$17 -> 24.145916 | I30: =IF(OR(G30=B$21,G30>B$21,G30<B$22),B$18*B$20+(B$19*(1-B$20)),0) -> 300 | J30: =IF(OR(G30<B$21,G30>B$22,),(B$18*B$20+(B$19*(1-B$20)))*-1,0) -> -300 | K30: =I30+J30 -> 0
F31: 14.5 | G31: =G30+G$1 -> 0.60416667 | H31: =B$15-(12/PI()*SIN(PI()/12*F31))*B$17 -> 24.395178 | I31: =IF(OR(G31=B$21,G31>B$21,G31<B$22),B$18*B$20+(B$19*(1-B$20)),0) -> 300 | J31: =IF(OR(G31<B$21,G31>B$22,),(B$18*B$20+(B$19*(1-B$20)))*-1,0) -> -300 | K31: =I31+J31 -> 0
F32: 15 | G32: =G31+G$1 -> 0.625 | H32: =B$15-(12/PI()*SIN(PI()/12*F32))*B$17 -> 24.620569 | I32: =IF(OR(G32=B$21,G32>B$21,G32<B$22),B$18*B$20+(B$19*(1-B$20)),0) -> 300 | J32: =IF(OR(G32<B$21,G32>B$22,),(B$18*B$20+(B$19*(1-B$20)))*-1,0) -> -300 | K32: =I32+J32 -> 0
F33: 15.5 | G33: =G32+G$1 -> 0.64583333 | H33: =B$15-(12/PI()*SIN(PI()/12*F33))*B$17 -> 24.818232 | I33: =IF(OR(G33=B$21,G33>B$21,G33<B$22),B$18*B$20+(B$19*(1-B$20)),0) -> 300 | J33: =IF(OR(G33<B$21,G33>B$22,),(B$18*B$20+(B$19*(1-B$20)))*-1,0) -> -300 | K33: =I33+J33 -> 0
F34: 16 | G34: =G33+G$1 -> 0.66666667 | H34: =B$15-(12/PI()*SIN(PI()/12*F34))*B$17 -> 24.984784 | I34: =IF(OR(G34=B$21,G34>B$21,G34<B$22),B$18*B$20+(B$19*(1-B$20)),0) -> 300 | J34: =IF(OR(G34<B$21,G34>B$22,),(B$18*B$20+(B$19*(1-B$20)))*-1,0) -> 0 | K34: =I34+J34 -> 300
F35: 16.5 | G35: =G34+G$1 -> 0.6875 | H35: =B$15-(12/PI()*SIN(PI()/12*F35))*B$17 -> 25.117376 | I35: =IF(OR(G35=B$21,G35>B$21,G35<B$22),B$18*B$20+(B$19*(1-B$20)),0) -> 300 | J35: =IF(OR(G35<B$21,G35>B$22,),(B$18*B$20+(B$19*(1-B$20)))*-1,0) -> 0 | K35: =I35+J35 -> 300
... F50: 24 | G50: =G49+G$1 -> 1 | H50: =B$15-(12/PI()*SIN(PI()/12*F50))*B$17 -> 23 | I50: =IF(OR(G50=B$21,G50>B$21,G50<B$22),B$18*B$20+(B$19*(1-B$20)),0) -> 300 | J50: =IF(OR(G50<B$21,G50>B$22,),(B$18*B$20+(B$19*(1-B$20)))*-1,0) -> -300 | K50: =I50+J50 -> 0

Sheet Temperaturverlauf
A1: Tag | B1: 0.020833333 | C1: Uhrzeit | D1: t in [h] | E1: TLuft in [°C] | F1: TWasser in [°C] | G1: Th in [J/K] | H1: P in [W] | I1: QVerlustWasserlinie in [W] | J1: QVerlustWand in [W] | K1: QVerlustKonvektion in [W] | L1: QVerlustStrahlungin [W] | M1: QVerlustGesamt [W]
A2: 1 | B2: 0 | C2: 0 | D2: =0 -> 0 | E2: =Eingabemaske!B$15-(12/PI()*SIN(PI()/12*B2))*Eingabemaske!B$17 -> 23 | F2: =Eingabemaske!B16 -> 23 | G2: =IF(Eingabemaske!B$2="Quader",Eingabemaske!B$7*Eingabemaske!B$6*Eingabemaske!B$5*(Eingabemaske!B$23/100)*998.2*4179+(Eingabemaske!B$6*Eingabemaske!B$7*(Eingabemaske!B$12/1000)*2+Eingabemaske!B$5*Eingabemaske!B$6*(Eingabemaske!B$12/1000)*2+Eingabemaske!B$5*Eingabemaske!B$7*(Eingabemaske!B$12/1000)*2)*Eingabemaske!P$3*Eingabemaske!N$3,(Eingabemaske!B$6/2)^2*PI()*Eingabemaske!B$5*(Eingabemaske!B$23/100)*998.2*4179+(((Eingabemaske!B$6+Eingabemaske!B$12/1000)^2-Eingabemaske!B$6^2)*PI()*1/4+(Eingabemaske!B$6+Eingabemaske!B$12/1000)^2*(Eingabemaske!B$12/1000))*Eingabemaske!P$3*Eingabemaske!N$3) -> 613727.11 | H2: =INDEX(Eingabemaske!$K$2:$K$50,(MATCH(B2,Eingabemaske!$F$2:$F$50))) -> 0 | I2: =IF(Eingabemaske!B$2="Quader",1/(1/Wasser!Z3+1/Luft!Z3+((Eingabemaske!B$12/1000)/Eingabemaske!O$3))*Eingabemaske!B$6*Eingabemaske!B$7*Wasser!B3,1/(1/Wasser!Z3+1/Luft!Z3+((Eingabemaske!B$12/1000)/Eingabemaske!O$3))*(Eingabemaske!B$6/2)^2*PI()*Wasser!B3) -> 0 | J2: =IF(Eingabemaske!B$2="Quader",1/(1/Wasser!AA3+1/Luft!AA3+((Eingabemaske!B$12/1000)/Eingabemaske!O$3))*(Eingabemaske!B$6*Eingabemaske!B$5+Eingabemaske!B$7*Eingabemaske!B$5)*2*Wasser!B3,1/(1/Wasser!AA3+1/Luft!AA3+((Eingabemaske!B$12/1000)/Eingabemaske!O$3))*(Eingabemaske!B$6+Eingabemaske!B$12/2000)^2*PI()*Wasser!B3) -> 0 | K2: =I2+J2 -> 0 | L2: =IF(Eingabemaske!B$2="Quader",((Eingabemaske!B$6*Eingabemaske!B$7)+((Eingabemaske!B$5*Eingabemaske!B$6)+(Eingabemaske!B$5*Eingabemaske!B$6))*2)*0.9*5.67*10^-8*((F2+273.15)^4-(E2+273.15)^4),((Eingabemaske!B$6/2)^2*PI()+Eingabemaske!B$6*PI())*0.9*5.67*10^-8*((F2+273.15)^4-(E2+273.15)^4)) -> 0 | M2: =K2+L2 -> 0
A3: 1 | B3: 0.5 | C3: =C2+B$1 -> 0.020833333 | D3: 0.5 | E3: =Eingabemaske!B$15-(12/PI()*SIN(PI()/12*B3))*Eingabemaske!B$17 -> 22.700856 | F3: =F2+(1/G3*(H2-I2-J2-L2)*30*60) -> 23 | G3: =IF(Eingabemaske!B$2="Quader",Eingabemaske!B$7*Eingabemaske!B$6*Eingabemaske!B$5*(Eingabemaske!B$23/100)*998.2*4179+(Eingabemaske!B$6*Eingabemaske!B$7*(Eingabemaske!B$12/1000)*2+Eingabemaske!B$5*Eingabemaske!B$6*(Eingabemaske!B$12/1000)*2+Eingabemaske!B$5*Eingabemaske!B$7*(Eingabemaske!B$12/1000)*2)*Eingabemaske!P$3*Eingabemaske!N$3,(Eingabemaske!B$6/2)^2*PI()*Eingabemaske!B$5*(Eingabemaske!B$23/100)*998.2*4179+(((Eingabemaske!B$6+Eingabemaske!B$12/1000)^2-Eingabemaske!B$6^2)*PI()*1/4+(Eingabemaske!B$6+Eingabemaske!B$12/1000)^2*(Eingabemaske!B$12/1000))*Eingabemaske!P$3*Eingabemaske!N$3) -> 613727.11 | H3: =INDEX(Eingabemaske!$K$2:$K$50,(MATCH(B3,Eingabemaske!$F$2:$F$50))) -> 0 | I3: =IF(Eingabemaske!B$2="Quader",1/(1/Wasser!Z4+1/Luft!Z4+((Eingabemaske!B$12/1000)/Eingabemaske!O$3))*Eingabemaske!B$6*Eingabemaske!B$7*Wasser!B4,1/(1/Wasser!Z4+1/Luft!Z4+((Eingabemaske!B$12/1000)/Eingabemaske!O$3))*(Eingabemaske!B$6/2)^2*PI()*Wasser!B4) -> 0.26077989 | J3: =IF(Eingabemaske!B$2="Quader",1/(1/Wasser!AA4+1/Luft!AA4+((Eingabemaske!B$12/1000)/Eingabemaske!O$3))*(Eingabemaske!B$6*Eingabemaske!B$5+Eingabemaske!B$7*Eingabemaske!B$5)*2*Wasser!B4,1/(1/Wasser!AA4+1/Luft!AA4+((Eingabemaske!B$12/1000)/Eingabemaske!O$3))*(Eingabemaske!B$6+Eingabemaske!B$12/2000)^2*PI()*Wasser!B4) -> 0.41217282 | K3: =I3+J3 -> 0.67295271 | L3: =IF(Eingabemaske!B$2="Quader",((Eingabemaske!B$6*Eingabemaske!B$7)+((Eingabemaske!B$5*Eingabemaske!B$6)+(Eingabemaske!B$5*Eingabemaske!B$6))*2)*0.9*5.67*10^-8*((F3+273.15)^4-(E3+273.15)^4),((Eingabemaske!B$6/2)^2*PI()+Eingabemaske!B$6*PI())*0.9*5.67*10^-8*((F3+273.15)^4-(E3+273.15)^4)) -> 2.798436 | M3: =K3+L3 -> 3.4713887
A4: 1 | B4: 1 | C4: =C3+B$1 -> 0.041666667 | D4: 1 | E4: =Eingabemaske!B$15-(12/PI()*SIN(PI()/12*B4))*Eingabemaske!B$17 -> 22.40683 | F4: =F3+(1/G4*(H3-I3-J3-L3)*30*60) -> 22.989819 | G4: =IF(Eingabemaske!B$2="Quader",Eingabemaske!B$7*Eingabemaske!B$6*Eingabemaske!B$5*(Eingabemaske!B$23/100)*998.2*4179+(Eingabemaske!B$6*Eingabemaske!B$7*(Eingabemaske!B$12/1000)*2+Eingabemaske!B$5*Eingabemaske!B$6*(Eingabemaske!B$12/1000)*2+Eingabemaske!B$5*Eingabemaske!B$7*(Eingabemaske!B$12/1000)*2)*Eingabemaske!P$3*Eingabemaske!N$3,(Eingabemaske!B$6/2)^2*PI()*Eingabemaske!B$5*(Eingabemaske!B$23/100)*998.2*4179+(((Eingabemaske!B$6+Eingabemaske!B$12/1000)^2-Eingabemaske!B$6^2)*PI()*1/4+(Eingabemaske!B$6+Eingabemaske!B$12/1000)^2*(Eingabemaske!B$12/1000))*Eingabemaske!P$3*Eingabemaske!N$3) -> 613727.11 | H4: =INDEX(Eingabemaske!$K$2:$K$50,(MATCH(B4,Eingabemaske!$F$2:$F$50))) -> 0 | I4: =IF(Eingabemaske!B$2="Quader",1/(1/Wasser!Z5+1/Luft!Z5+((Eingabemaske!B$12/1000)/Eingabemaske!O$3))*Eingabemaske!B$6*Eingabemaske!B$7*Wasser!B5,1/(1/Wasser!Z5+1/Luft!Z5+((Eingabemaske!B$12/1000)/Eingabemaske!O$3))*(Eingabemaske!B$6/2)^2*PI()*Wasser!B5) -> 0.62641511 | J4: =IF(Eingabemaske!B$2="Quader",1/(1/Wasser!AA5+1/Luft!AA5+((Eingabemaske!B$12/1000)/Eingabemaske!O$3))*(Eingabemaske!B$6*Eingabemaske!B$5+Eingabemaske!B$7*Eingabemaske!B$5)*2*Wasser!B5,1/(1/Wasser!AA5+1/Luft!AA5+((Eingabemaske!B$12/1000)/Eingabemaske!O$3))*(Eingabemaske!B$6+Eingabemaske!B$12/2000)^2*PI()*Wasser!B5) -> 0.95669872 | K4: =I4+J4 -> 1.5831138 | L4: =IF(Eingabemaske!B$2="Quader",((Eingabemaske!B$6*Eingabemaske!B$7)+((Eingabemaske!B$5*Eingabemaske!B$6)+(Eingabemaske!B$5*Eingabemaske!B$6))*2)*0.9*5.67*10^-8*((F4+273.15)^4-(E4+273.15)^4),((Eingabemaske!B$6/2)^2*PI()+Eingabemaske!B$6*PI())*0.9*5.67*10^-8*((F4+273.15)^4-(E4+273.15)^4)) -> 5.4453472 | M4: =K4+L4 -> 7.0284611
A5: 1 | B5: 1.5 | C5: =C4+B$1 -> 0.0625 | D5: 1.5 | E5: =Eingabemaske!B$15-(12/PI()*SIN(PI()/12*B5))*Eingabemaske!B$17 -> 22.122954 | F5: =F4+(1/G5*(H4-I4-J4-L4)*30*60) -> 22.969205 | G5: =IF(Eingabemaske!B$2="Quader",Eingabemaske!B$7*Eingabemaske!B$6*Eingabemaske!B$5*(Eingabemaske!B$23/100)*998.2*4179+(Eingabemaske!B$6*Eingabemaske!B$7*(Eingabemaske!B$12/1000)*2+Eingabemaske!B$5*Eingabemaske!B$6*(Eingabemaske!B$12/1000)*2+Eingabemaske!B$5*Eingabemaske!B$7*(Eingabemaske!B$12/1000)*2)*Eingabemaske!P$3*Eingabemaske!N$3,(Eingabemaske!B$6/2)^2*PI()*Eingabemaske!B$5*(Eingabemaske!B$23/100)*998.2*4179+(((Eingabemaske!B$6+Eingabemaske!B$12/1000)^2-Eingabemaske!B$6^2)*PI()*1/4+(Eingabemaske!B$6+Eingabemaske!B$12/1000)^2*(Eingabemaske!B$12/1000))*Eingabemaske!P$3*Eingabemaske!N$3) -> 613727.11 | H5: =INDEX(Eingabemaske!$K$2:$K$50,(MATCH(B5,Eingabemaske!$F$2:$F$50))) -> 0 | I5: =IF(Eingabemaske!B$2="Quader",1/(1/Wasser!Z6+1/Luft!Z6+((Eingabemaske!B$12/1000)/Eingabemaske!O$3))*Eingabemaske!B$6*Eingabemaske!B$7*Wasser!B6,1/(1/Wasser!Z6+1/Luft!Z6+((Eingabemaske!B$12/1000)/Eingabemaske!O$3))*(Eingabemaske!B$6/2)^2*PI()*Wasser!B6) -> 1.0210915 | J5: =IF(Eingabemaske!B$2="Quader",1/(1/Wasser!AA6+1/Luft!AA6+((Eingabemaske!B$12/1000)/Eingabemaske!O$3))*(Eingabemaske!B$6*Eingabemaske!B$5+Eingabemaske!B$7*Eingabemaske!B$5)*2*Wasser!B6,1/(1/Wasser!AA6+1/Luft!AA6+((Eingabemaske!B$12/1000)/Eingabemaske!O$3))*(Eingabemaske!B$6+Eingabemaske!B$12/2000)^2*PI()*Wasser!B6) -> 1.5365329 | K5: =I5+J5 -> 2.5576245 | L5: =IF(Eingabemaske!B$2="Quader",((Eingabemaske!B$6*Eingabemaske!B$7)+((Eingabemaske!B$5*Eingabemaske!B$6)+(Eingabemaske!B$5*Eingabemaske!B$6))*2)*0.9*5.67*10^-8*((F5+273.15)^4-(E5+273.15)^4),((Eingabemaske!B$6/2)^2*PI()+Eingabemaske!B$6*PI())*0.9*5.67*10^-8*((F5+273.15)^4-(E5+273.15)^4)) -> 7.8921376 | M5: =K5+L5 -> 10.449762
A6: 1 | B6: 2 | C6: =C5+B$1 -> 0.083333333 | D6: 2 | E6: =Eingabemaske!B$15-(12/PI()*SIN(PI()/12*B6))*Eingabemaske!B$17 -> 21.854084 | F6: =F5+(1/G6*(H5-I5-J5-L5)*30*60) -> 22.938557 | G6: =IF(Eingabemaske!B$2="Quader",Eingabemaske!B$7*Eingabemaske!B$6*Eingabemaske!B$5*(Eingabemaske!B$23/100)*998.2*4179+(Eingabemaske!B$6*Eingabemaske!B$7*(Eingabemaske!B$12/1000)*2+Eingabemaske!B$5*Eingabemaske!B$6*(Eingabemaske!B$12/1000)*2+Eingabemaske!B$5*Eingabemaske!B$7*(Eingabemaske!B$12/1000)*2)*Eingabemaske!P$3*Eingabemaske!N$3,(Eingabemaske!B$6/2)^2*PI()*Eingabemaske!B$5*(Eingabemaske!B$23/100)*998.2*4179+(((Eingabemaske!B$6+Eingabemaske!B$12/1000)^2-Eingabemaske!B$6^2)*PI()*1/4+(Eingabemaske!B$6+Eingabemaske!B$12/1000)^2*(Eingabemaske!B$12/1000))*Eingabemaske!P$3*Eingabemaske!N$3) -> 613727.11 | H6: =INDEX(Eingabemaske!$K$2:$K$50,(MATCH(B6,Eingabemaske!$F$2:$F$50))) -> 0 | I6: =IF(Eingabemaske!B$2="Quader",1/(1/Wasser!Z7+1/Luft!Z7+((Eingabemaske!B$12/1000)/Eingabemaske!O$3))*Eingabemaske!B$6*Eingabemaske!B$7*Wasser!B7,1/(1/Wasser!Z7+1/Luft!Z7+((Eingabemaske!B$12/1000)/Eingabemaske!O$3))*(Eingabemaske!B$6/2)^2*PI()*Wasser!B7) -> 1.4130358 | J6: =IF(Eingabemaske!B$2="Quader",1/(1/Wasser!AA7+1/Luft!AA7+((Eingabemaske!B$12/1000)/Eingabemaske!O$3))*(Eingabemaske!B$6*Eingabemaske!B$5+Eingabemaske!B$7*Eingabemaske!B$5)*2*Wasser!B7,1/(1/Wasser!AA7+1/Luft!AA7+((Eingabemaske!B$12/1000)/Eingabemaske!O$3))*(Eingabemaske!B$6+Eingabemaske!B$12/2000)^2*PI()*Wasser!B7) -> 2.1086052 | K6: =I6+J6 -> 3.521641 | L6: =IF(Eingabemaske!B$2="Quader",((Eingabemaske!B$6*Eingabemaske!B$7)+((Eingabemaske!B$5*Eingabemaske!B$6)+(Eingabemaske!B$5*Eingabemaske!B$6))*2)*0.9*5.67*10^-8*((F6+273.15)^4-(E6+273.15)^4),((Eingabemaske!B$6/2)^2*PI()+Eingabemaske!B$6*PI())*0.9*5.67*10^-8*((F6+273.15)^4-(E6+273.15)^4)) -> 10.098448 | M6: =K6+L6 -> 13.620089
A7: 1 | B7: 2.5 | C7: =C6+B$1 -> 0.10416667 | D7: 2.5 | E7: =Eingabemaske!B$15-(12/PI()*SIN(PI()/12*B7))*Eingabemaske!B$17 -> 21.604822 | F7: =F6+(1/G7*(H6-I6-J6-L6)*30*60) -> 22.898611 | G7: =IF(Eingabemaske!B$2="Quader",Eingabemaske!B$7*Eingabemaske!B$6*Eingabemaske!B$5*(Eingabemaske!B$23/100)*998.2*4179+(Eingabemaske!B$6*Eingabemaske!B$7*(Eingabemaske!B$12/1000)*2+Eingabemaske!B$5*Eingabemaske!B$6*(Eingabemaske!B$12/1000)*2+Eingabemaske!B$5*Eingabemaske!B$7*(Eingabemaske!B$12/1000)*2)*Eingabemaske!P$3*Eingabemaske!N$3,(Eingabemaske!B$6/2)^2*PI()*Eingabemaske!B$5*(Eingabemaske!B$23/100)*998.2*4179+(((Eingabemaske!B$6+Eingabemaske!B$12/1000)^2-Eingabemaske!B$6^2)*PI()*1/4+(Eingabemaske!B$6+Eingabemaske!B$12/1000)^2*(Eingabemaske!B$12/1000))*Eingabemaske!P$3*Eingabemaske!N$3) -> 613727.11 | H7: =INDEX(Eingabemaske!$K$2:$K$50,(MATCH(B7,Eingabemaske!$F$2:$F$50))) -> 0 | I7: =IF(Eingabemaske!B$2="Quader",1/(1/Wasser!Z8+1/Luft!Z8+((Eingabemaske!B$12/1000)/Eingabemaske!O$3))*Eingabemaske!B$6*Eingabemaske!B$7*Wasser!B8,1/(1/Wasser!Z8+1/Luft!Z8+((Eingabemaske!B$12/1000)/Eingabemaske!O$3))*(Eingabemaske!B$6/2)^2*PI()*Wasser!B8) -> 1.7802108 | J7: =IF(Eingabemaske!B$2="Quader",1/(1/Wasser!AA8+1/Luft!AA8+((Eingabemaske!B$12/1000)/Eingabemaske!O$3))*(Eingabemaske!B$6*Eingabemaske!B$5+Eingabemaske!B$7*Eingabemaske!B$5)*2*Wasser!B8,1/(1/Wasser!AA8+1/Luft!AA8+((Eingabemaske!B$12/1000)/Eingabemaske!O$3))*(Eingabemaske!B$6+Eingabemaske!B$12/2000)^2*PI()*Wasser!B8) -> 2.6425251 | K7: =I7+J7 -> 4.4227359 | L7: =IF(Eingabemaske!B$2="Quader",((Eingabemaske!B$6*Eingabemaske!B$7)+((Eingabemaske!B$5*Eingabemaske!B$6)+(Eingabemaske!B$5*Eingabemaske!B$6))*2)*0.9*5.67*10^-8*((F7+273.15)^4-(E7+273.15)^4),((Eingabemaske!B$6/2)^2*PI()+Eingabemaske!B$6*PI())*0.9*5.67*10^-8*((F7+273.15)^4-(E7+273.15)^4)) -> 12.029914 | M7: =K7+L7 -> 16.45265
A8: 1 | B8: 3 | C8: =C7+B$1 -> 0.125 | D8: 3 | E8: =Eingabemaske!B$15-(12/PI()*SIN(PI()/12*B8))*Eingabemaske!B$17 -> 21.379431 | F8: =F7+(1/G8*(H7-I7-J7-L7)*30*60) -> 22.850357 | G8: =IF(Eingabemaske!B$2="Quader",Eingabemaske!B$7*Eingabemaske!B$6*Eingabemaske!B$5*(Eingabemaske!B$23/100)*998.2*4179+(Eingabemaske!B$6*Eingabemaske!B$7*(Eingabemaske!B$12/1000)*2+Eingabemaske!B$5*Eingabemaske!B$6*(Eingabemaske!B$12/1000)*2+Eingabemaske!B$5*Eingabemaske!B$7*(Eingabemaske!B$12/1000)*2)*Eingabemaske!P$3*Eingabemaske!N$3,(Eingabemaske!B$6/2)^2*PI()*Eingabemaske!B$5*(Eingabemaske!B$23/100)*998.2*4179+(((Eingabemaske!B$6+Eingabemaske!B$12/1000)^2-Eingabemaske!B$6^2)*PI()*1/4+(Eingabemaske!B$6+Eingabemaske!B$12/1000)^2*(Eingabemaske!B$12/1000))*Eingabemaske!P$3*Eingabemaske!N$3) -> 613727.11 | H8: =INDEX(Eingabemaske!$K$2:$K$50,(MATCH(B8,Eingabemaske!$F$2:$F$50))) -> 0 | I8: =IF(Eingabemaske!B$2="Quader",1/(1/Wasser!Z9+1/Luft!Z9+((Eingabemaske!B$12/1000)/Eingabemaske!O$3))*Eingabemaske!B$6*Eingabemaske!B$7*Wasser!B9,1/(1/Wasser!Z9+1/Luft!Z9+((Eingabemaske!B$12/1000)/Eingabemaske!O$3))*(Eingabemaske!B$6/2)^2*PI()*Wasser!B9) -> 2.105634 | J8: =IF(Eingabemaske!B$2="Quader",1/(1/Wasser!AA9+1/Luft!AA9+((Eingabemaske!B$12/1000)/Eingabemaske!O$3))*(Eingabemaske!B$6*Eingabemaske!B$5+Eingabemaske!B$7*Eingabemaske!B$5)*2*Wasser!B9,1/(1/Wasser!AA9+1/Luft!AA9+((Eingabemaske!B$12/1000)/Eingabemaske!O$3))*(Eingabemaske!B$6+Eingabemaske!B$12/2000)^2*PI()*Wasser!B9) -> 3.1146324 | K8: =I8+J8 -> 5.2202663 | L8: =IF(Eingabemaske!B$2="Quader",((Eingabemaske!B$6*Eingabemaske!B$7)+((Eingabemaske!B$5*Eingabemaske!B$6)+(Eingabemaske!B$5*Eingabemaske!B$6))*2)*0.9*5.67*10^-8*((F8+273.15)^4-(E8+273.15)^4),((Eingabemaske!B$6/2)^2*PI()+Eingabemaske!B$6*PI())*0.9*5.67*10^-8*((F8+273.15)^4-(E8+273.15)^4)) -> 13.657993 | M8: =K8+L8 -> 18.87826
A9: 1 | B9: 3.5 | C9: =C8+B$1 -> 0.14583333 | D9: 3.5 | E9: =Eingabemaske!B$15-(12/PI()*SIN(PI()/12*B9))*Eingabemaske!B$17 -> 21.181768 | F9: =F8+(1/G9*(H8-I8-J8-L8)*30*60) -> 22.794989 | G9: =IF(Eingabemaske!B$2="Quader",Eingabemaske!B$7*Eingabemaske!B$6*Eingabemaske!B$5*(Eingabemaske!B$23/100)*998.2*4179+(Eingabemaske!B$6*Eingabemaske!B$7*(Eingabemaske!B$12/1000)*2+Eingabemaske!B$5*Eingabemaske!B$6*(Eingabemaske!B$12/1000)*2+Eingabemaske!B$5*Eingabemaske!B$7*(Eingabemaske!B$12/1000)*2)*Eingabemaske!P$3*Eingabemaske!N$3,(Eingabemaske!B$6/2)^2*PI()*Eingabemaske!B$5*(Eingabemaske!B$23/100)*998.2*4179+(((Eingabemaske!B$6+Eingabemaske!B$12/1000)^2-Eingabemaske!B$6^2)*PI()*1/4+(Eingabemaske!B$6+Eingabemaske!B$12/1000)^2*(Eingabemaske!B$12/1000))*Eingabemaske!P$3*Eingabemaske!N$3) -> 613727.11 | H9: =INDEX(Eingabemaske!$K$2:$K$50,(MATCH(B9,Eingabemaske!$F$2:$F$50))) -> 0 | I9: =IF(Eingabemaske!B$2="Quader",1/(1/Wasser!Z10+1/Luft!Z10+((Eingabemaske!B$12/1000)/Eingabemaske!O$3))*Eingabemaske!B$6*Eingabemaske!B$7*Wasser!B10,1/(1/Wasser!Z10+1/Luft!Z10+((Eingabemaske!B$12/1000)/Eingabemaske!O$3))*(Eingabemaske!B$6/2)^2*PI()*Wasser!B10) -> 2.376 | J9: =IF(Eingabemaske!B$2="Quader",1/(1/Wasser!AA10+1/Luft!AA10+((Eingabemaske!B$12/1000)/Eingabemaske!O$3))*(Eingabemaske!B$6*Eingabemaske!B$5+Eingabemaske!B$7*Eingabemaske!B$5)*2*Wasser!B10,1/(1/Wasser!AA10+1/Luft!AA10+((Eingabemaske!B$12/1000)/Eingabemaske!O$3))*(Eingabemaske!B$6+Eingabemaske!B$12/2000)^2*PI()*Wasser!B10) -> 3.5062696 | K9: =I9+J9 -> 5.8822696 | L9: =IF(Eingabemaske!B$2="Quader",((Eingabemaske!B$6*Eingabemaske!B$7)+((Eingabemaske!B$5*Eingabemaske!B$6)+(Eingabemaske!B$5*Eingabemaske!B$6))*2)*0.9*5.67*10^-8*((F9+273.15)^4-(E9+273.15)^4),((Eingabemaske!B$6/2)^2*PI()+Eingabemaske!B$6*PI())*0.9*5.67*10^-8*((F9+273.15)^4-(E9+273.15)^4)) -> 14.960013 | M9: =K9+L9 -> 20.842283
A10: 1 | B10: 4 | C10: =C9+B$1 -> 0.16666667 | D10: 4 | E10: =Eingabemaske!B$15-(12/PI()*SIN(PI()/12*B10))*Eingabemaske!B$17 -> 21.015216 | F10: =F9+(1/G10*(H9-I9-J9-L9)*30*60) -> 22.73386 | G10: =IF(Eingabemaske!B$2="Quader",Eingabemaske!B$7*Eingabemaske!B$6*Eingabemaske!B$5*(Eingabemaske!B$23/100)*998.2*4179+(Eingabemaske!B$6*Eingabemaske!B$7*(Eingabemaske!B$12/1000)*2+Eingabemaske!B$5*Eingabemaske!B$6*(Eingabemaske!B$12/1000)*2+Eingabemaske!B$5*Eingabemaske!B$7*(Eingabemaske!B$12/1000)*2)*Eingabemaske!P$3*Eingabemaske!N$3,(Eingabemaske!B$6/2)^2*PI()*Eingabemaske!B$5*(Eingabemaske!B$23/100)*998.2*4179+(((Eingabemaske!B$6+Eingabemaske!B$12/1000)^2-Eingabemaske!B$6^2)*PI()*1/4+(Eingabemaske!B$6+Eingabemaske!B$12/1000)^2*(Eingabemaske!B$12/1000))*Eingabemaske!P$3*Eingabemaske!N$3) -> 613727.11 | H10: =INDEX(Eingabemaske!$K$2:$K$50,(MATCH(B10,Eingabemaske!$F$2:$F$50))) -> 0 | I10: =IF(Eingabemaske!B$2="Quader",1/(1/Wasser!Z11+1/Luft!Z11+((Eingabemaske!B$12/1000)/Eingabemaske!O$3))*Eingabemaske!B$6*Eingabemaske!B$7*Wasser!B11,1/(1/Wasser!Z11+1/Luft!Z11+((Eingabemaske!B$12/1000)/Eingabemaske!O$3))*(Eingabemaske!B$6/2)^2*PI()*Wasser!B11) -> 2.5811992 | J10: =IF(Eingabemaske!B$2="Quader",1/(1/Wasser!AA11+1/Luft!AA11+((Eingabemaske!B$12/1000)/Eingabemaske!O$3))*(Eingabemaske!B$6*Eingabemaske!B$5+Eingabemaske!B$7*Eingabemaske!B$5)*2*Wasser!B11,1/(1/Wasser!AA11+1/Luft!AA11+((Eingabemaske!B$12/1000)/Eingabemaske!O$3))*(Eingabemaske!B$6+Eingabemaske!B$12/2000)^2*PI()*Wasser!B11) -> 3.8032029 | K10: =I10+J10 -> 6.3844021 | L10: =IF(Eingabemaske!B$2="Quader",((Eingabemaske!B$6*Eingabemaske!B$7)+((Eingabemaske!B$5*Eingabemaske!B$6)+(Eingabemaske!B$5*Eingabemaske!B$6))*2)*0.9*5.67*10^-8*((F10+273.15)^4-(E10+273.15)^4),((Eingabemaske!B$6/2)^2*PI()+Eingabemaske!B$6*PI())*0.9*5.67*10^-8*((F10+273.15)^4-(E10+273.15)^4)) -> 15.91923 | M10: =K10+L10 -> 22.303632
A11: 1 | B11: 4.5 | C11: =C10+B$1 -> 0.1875 | D11: 4.5 | E11: =Eingabemaske!B$15-(12/PI()*SIN(PI()/12*B11))*Eingabemaske!B$17 -> 20.882624 | F11: =F10+(1/G11*(H10-I10-J10-L10)*30*60) -> 22.668446 | G11: =IF(Eingabemaske!B$2="Quader",Eingabemaske!B$7*Eingabemaske!B$6*Eingabemaske!B$5*(Eingabemaske!B$23/100)*998.2*4179+(Eingabemaske!B$6*Eingabemaske!B$7*(Eingabemaske!B$12/1000)*2+Eingabemaske!B$5*Eingabemaske!B$6*(Eingabemaske!B$12/1000)*2+Eingabemaske!B$5*Eingabemaske!B$7*(Eingabemaske!B$12/1000)*2)*Eingabemaske!P$3*Eingabemaske!N$3,(Eingabemaske!B$6/2)^2*PI()*Eingabemaske!B$5*(Eingabemaske!B$23/100)*998.2*4179+(((Eingabemaske!B$6+Eingabemaske!B$12/1000)^2-Eingabemaske!B$6^2)*PI()*1/4+(Eingabemaske!B$6+Eingabemaske!B$12/1000)^2*(Eingabemaske!B$12/1000))*Eingabemaske!P$3*Eingabemaske!N$3) -> 613727.11 | H11: =INDEX(Eingabemaske!$K$2:$K$50,(MATCH(B11,Eingabemaske!$F$2:$F$50))) -> 0 | I11: =IF(Eingabemaske!B$2="Quader",1/(1/Wasser!Z12+1/Luft!Z12+((Eingabemaske!B$12/1000)/Eingabemaske!O$3))*Eingabemaske!B$6*Eingabemaske!B$7*Wasser!B12,1/(1/Wasser!Z12+1/Luft!Z12+((Eingabemaske!B$12/1000)/Eingabemaske!O$3))*(Eingabemaske!B$6/2)^2*PI()*Wasser!B12) -> 2.7141411 | J11: =IF(Eingabemaske!B$2="Quader",1/(1/Wasser!AA12+1/Luft!AA12+((Eingabemaske!B$12/1000)/Eingabemaske!O$3))*(Eingabemaske!B$6*Eingabemaske!B$5+Eingabemaske!B$7*Eingabemaske!B$5)*2*Wasser!B12,1/(1/Wasser!AA12+1/Luft!AA12+((Eingabemaske!B$12/1000)/Eingabemaske!O$3))*(Eingabemaske!B$6+Eingabemaske!B$12/2000)^2*PI()*Wasser!B12) -> 3.9954275 | K11: =I11+J11 -> 6.7095685 | L11: =IF(Eingabemaske!B$2="Quader",((Eingabemaske!B$6*Eingabemaske!B$7)+((Eingabemaske!B$5*Eingabemaske!B$6)+(Eingabemaske!B$5*Eingabemaske!B$6))*2)*0.9*5.67*10^-8*((F11+273.15)^4-(E11+273.15)^4),((Eingabemaske!B$6/2)^2*PI()+Eingabemaske!B$6*PI())*0.9*5.67*10^-8*((F11+273.15)^4-(E11+273.15)^4)) -> 16.524837 | M11: =K11+L11 -> 23.234406
A12: 1 | B12: 5 | C12: =C11+B$1 -> 0.20833333 | D12: 5 | E12: =Eingabemaske!B$15-(12/PI()*SIN(PI()/12*B12))*Eingabemaske!B$17 -> 20.786261 | F12: =F11+(1/G12*(H11-I11-J11-L11)*30*60) -> 22.600302 | G12: =IF(Eingabemaske!B$2="Quader",Eingabemaske!B$7*Eingabemaske!B$6*Eingabemaske!B$5*(Eingabemaske!B$23/100)*998.2*4179+(Eingabemaske!B$6*Eingabemaske!B$7*(Eingabemaske!B$12/1000)*2+Eingabemaske!B$5*Eingabemaske!B$6*(Eingabemaske!B$12/1000)*2+Eingabemaske!B$5*Eingabemaske!B$7*(Eingabemaske!B$12/1000)*2)*Eingabemaske!P$3*Eingabemaske!N$3,(Eingabemaske!B$6/2)^2*PI()*Eingabemaske!B$5*(Eingabemaske!B$23/100)*998.2*4179+(((Eingabemaske!B$6+Eingabemaske!B$12/1000)^2-Eingabemaske!B$6^2)*PI()*1/4+(Eingabemaske!B$6+Eingabemaske!B$12/1000)^2*(Eingabemaske!B$12/1000))*Eingabemaske!P$3*Eingabemaske!N$3) -> 613727.11 | H12: =INDEX(Eingabemaske!$K$2:$K$50,(MATCH(B12,Eingabemaske!$F$2:$F$50))) -> 0 | I12: =IF(Eingabemaske!B$2="Quader",1/(1/Wasser!Z13+1/Luft!Z13+((Eingabemaske!B$12/1000)/Eingabemaske!O$3))*Eingabemaske!B$6*Eingabemaske!B$7*Wasser!B13,1/(1/Wasser!Z13+1/Luft!Z13+((Eingabemaske!B$12/1000)/Eingabemaske!O$3))*(Eingabemaske!B$6/2)^2*PI()*Wasser!B13) -> 2.7706807 | J12: =IF(Eingabemaske!B$2="Quader",1/(1/Wasser!AA13+1/Luft!AA13+((Eingabemaske!B$12/1000)/Eingabemaske!O$3))*(Eingabemaske!B$6*Eingabemaske!B$5+Eingabemaske!B$7*Eingabemaske!B$5)*2*Wasser!B13,1/(1/Wasser!AA13+1/Luft!AA13+((Eingabemaske!B$12/1000)/Eingabemaske!O$3))*(Eingabemaske!B$6+Eingabemaske!B$12/2000)^2*PI()*Wasser!B13) -> 4.0770964 | K12: =I12+J12 -> 6.8477772 | L12: =IF(Eingabemaske!B$2="Quader",((Eingabemaske!B$6*Eingabemaske!B$7)+((Eingabemaske!B$5*Eingabemaske!B$6)+(Eingabemaske!B$5*Eingabemaske!B$6))*2)*0.9*5.67*10^-8*((F12+273.15)^4-(E12+273.15)^4),((Eingabemaske!B$6/2)^2*PI()+Eingabemaske!B$6*PI())*0.9*5.67*10^-8*((F12+273.15)^4-(E12+273.15)^4)) -> 16.77192 | M12: =K12+L12 -> 23.619697
A13: 1 | B13: 5.5 | C13: =C12+B$1 -> 0.22916667 | D13: 5.5 | E13: =Eingabemaske!B$15-(12/PI()*SIN(PI()/12*B13))*Eingabemaske!B$17 -> 20.727776 | F13: =F12+(1/G13*(H12-I12-J12-L12)*30*60) -> 22.531028 | G13: =IF(Eingabemaske!B$2="Quader",Eingabemaske!B$7*Eingabemaske!B$6*Eingabemaske!B$5*(Eingabemaske!B$23/100)*998.2*4179+(Eingabemaske!B$6*Eingabemaske!B$7*(Eingabemaske!B$12/1000)*2+Eingabemaske!B$5*Eingabemaske!B$6*(Eingabemaske!B$12/1000)*2+Eingabemaske!B$5*Eingabemaske!B$7*(Eingabemaske!B$12/1000)*2)*Eingabemaske!P$3*Eingabemaske!N$3,(Eingabemaske!B$6/2)^2*PI()*Eingabemaske!B$5*(Eingabemaske!B$23/100)*998.2*4179+(((Eingabemaske!B$6+Eingabemaske!B$12/1000)^2-Eingabemaske!B$6^2)*PI()*1/4+(Eingabemaske!B$6+Eingabemaske!B$12/1000)^2*(Eingabemaske!B$12/1000))*Eingabemaske!P$3*Eingabemaske!N$3) -> 613727.11 | H13: =INDEX(Eingabemaske!$K$2:$K$50,(MATCH(B13,Eingabemaske!$F$2:$F$50))) -> 0 | I13: =IF(Eingabemaske!B$2="Quader",1/(1/Wasser!Z14+1/Luft!Z14+((Eingabemaske!B$12/1000)/Eingabemaske!O$3))*Eingabemaske!B$6*Eingabemaske!B$7*Wasser!B14,1/(1/Wasser!Z14+1/Luft!Z14+((Eingabemaske!B$12/1000)/Eingabemaske!O$3))*(Eingabemaske!B$6/2)^2*PI()*Wasser!B14) -> 2.7495677 | J13: =IF(Eingabemaske!B$2="Quader",1/(1/Wasser!AA14+1/Luft!AA14+((Eingabemaske!B$12/1000)/Eingabemaske!O$3))*(Eingabemaske!B$6*Eingabemaske!B$5+Eingabemaske!B$7*Eingabemaske!B$5)*2*Wasser!B14,1/(1/Wasser!AA14+1/Luft!AA14+((Eingabemaske!B$12/1000)/Eingabemaske!O$3))*(Eingabemaske!B$6+Eingabemaske!B$12/2000)^2*PI()*Wasser!B14) -> 4.0464649 | K13: =I13+J13 -> 6.7960326 | L13: =IF(Eingabemaske!B$2="Quader",((Eingabemaske!B$6*Eingabemaske!B$7)+((Eingabemaske!B$5*Eingabemaske!B$6)+(Eingabemaske!B$5*Eingabemaske!B$6))*2)*0.9*5.67*10^-8*((F13+273.15)^4-(E13+273.15)^4),((Eingabemaske!B$6/2)^2*PI()+Eingabemaske!B$6*PI())*0.9*5.67*10^-8*((F13+273.15)^4-(E13+273.15)^4)) -> 16.661335 | M13: =K13+L13 -> 23.457367
A14: 1 | B14: 6 | C14: =C13+B$1 -> 0.25 | D14: 6 | E14: =Eingabemaske!B$15-(12/PI()*SIN(PI()/12*B14))*Eingabemaske!B$17 -> 20.708169 | F14: =F13+(1/G14*(H13-I13-J13-L13)*30*60) -> 22.462229 | G14: =IF(Eingabemaske!B$2="Quader",Eingabemaske!B$7*Eingabemaske!B$6*Eingabemaske!B$5*(Eingabemaske!B$23/100)*998.2*4179+(Eingabemaske!B$6*Eingabemaske!B$7*(Eingabemaske!B$12/1000)*2+Eingabemaske!B$5*Eingabemaske!B$6*(Eingabemaske!B$12/1000)*2+Eingabemaske!B$5*Eingabemaske!B$7*(Eingabemaske!B$12/1000)*2)*Eingabemaske!P$3*Eingabemaske!N$3,(Eingabemaske!B$6/2)^2*PI()*Eingabemaske!B$5*(Eingabemaske!B$23/100)*998.2*4179+(((Eingabemaske!B$6+Eingabemaske!B$12/1000)^2-Eingabemaske!B$6^2)*PI()*1/4+(Eingabemaske!B$6+Eingabemaske!B$12/1000)^2*(Eingabemaske!B$12/1000))*Eingabemaske!P$3*Eingabemaske!N$3) -> 613727.11 | H14: =INDEX(Eingabemaske!$K$2:$K$50,(MATCH(B14,Eingabemaske!$F$2:$F$50))) -> 0 | I14: =IF(Eingabemaske!B$2="Quader",1/(1/Wasser!Z15+1/Luft!Z15+((Eingabemaske!B$12/1000)/Eingabemaske!O$3))*Eingabemaske!B$6*Eingabemaske!B$7*Wasser!B15,1/(1/Wasser!Z15+1/Luft!Z15+((Eingabemaske!B$12/1000)/Eingabemaske!O$3))*(Eingabemaske!B$6/2)^2*PI()*Wasser!B15) -> 2.6523803 | J14: =IF(Eingabemaske!B$2="Quader",1/(1/Wasser!AA15+1/Luft!AA15+((Eingabemaske!B$12/1000)/Eingabemaske!O$3))*(Eingabemaske!B$6*Eingabemaske!B$5+Eingabemaske!B$7*Eingabemaske!B$5)*2*Wasser!B15,1/(1/Wasser!AA15+1/Luft!AA15+((Eingabemaske!B$12/1000)/Eingabemaske!O$3))*(Eingabemaske!B$6+Eingabemaske!B$12/2000)^2*PI()*Wasser!B15) -> 3.9058043 | K14: =I14+J14 -> 6.5581847 | L14: =IF(Eingabemaske!B$2="Quader",((Eingabemaske!B$6*Eingabemaske!B$7)+((Eingabemaske!B$5*Eingabemaske!B$6)+(Eingabemaske!B$5*Eingabemaske!B$6))*2)*0.9*5.67*10^-8*((F14+273.15)^4-(E14+273.15)^4),((Eingabemaske!B$6/2)^2*PI()+Eingabemaske!B$6*PI())*0.9*5.67*10^-8*((F14+273.15)^4-(E14+273.15)^4)) -> 16.19953 | M14: =K14+L14 -> 22.757714
... A49: 1 | B49: 23.5 | C49: =C48+B$1 -> 0.97916667 | D49: 23.5 | E49: =Eingabemaske!B$15-(12/PI()*SIN(PI()/12*B49))*Eingabemaske!B$17 -> 23.299144 | F49: =F48+(1/G49*(H48-I48-J48-L48)*30*60) -> 32.53335 | G49: =IF(Eingabemaske!B$2="Quader",Eingabemaske!B$7*Eingabemaske!B$6*Eingabemaske!B$5*(Eingabemaske!B$23/100)*998.2*4179+(Eingabemaske!B$6*Eingabemaske!B$7*(Eingabemaske!B$12/1000)*2+Eingabemaske!B$5*Eingabemaske!B$6*(Eingabemaske!B$12/1000)*2+Eingabemaske!B$5*Eingabemaske!B$7*(Eingabemaske!B$12/1000)*2)*Eingabemaske!P$3*Eingabemaske!N$3,(Eingabemaske!B$6/2)^2*PI()*Eingabemaske!B$5*(Eingabemaske!B$23/100)*998.2*4179+(((Eingabemaske!B$6+Eingabemaske!B$12/1000)^2-Eingabemaske!B$6^2)*PI()*1/4+(Eingabemaske!B$6+Eingabemaske!B$12/1000)^2*(Eingabemaske!B$12/1000))*Eingabemaske!P$3*Eingabemaske!N$3) -> 613727.11 | H49: =INDEX(Eingabemaske!$K$2:$K$50,(MATCH(B49,Eingabemaske!$F$2:$F$50))) -> 0 | I49: =IF(Eingabemaske!B$2="Quader",1/(1/Wasser!Z50+1/Luft!Z50+((Eingabemaske!B$12/1000)/Eingabemaske!O$3))*Eingabemaske!B$6*Eingabemaske!B$7*Wasser!B50,1/(1/Wasser!Z50+1/Luft!Z50+((Eingabemaske!B$12/1000)/Eingabemaske!O$3))*(Eingabemaske!B$6/2)^2*PI()*Wasser!B50) -> 22.64441 | J49: =IF(Eingabemaske!B$2="Quader",1/(1/Wasser!AA50+1/Luft!AA50+((Eingabemaske!B$12/1000)/Eingabemaske!O$3))*(Eingabemaske!B$6*Eingabemaske!B$5+Eingabemaske!B$7*Eingabemaske!B$5)*2*Wasser!B50,1/(1/Wasser!AA50+1/Luft!AA50+((Eingabemaske!B$12/1000)/Eingabemaske!O$3))*(Eingabemaske!B$6+Eingabemaske!B$12/2000)^2*PI()*Wasser!B50) -> 32.8485 | K49: =I49+J49 -> 55.49291 | L49: =IF(Eingabemaske!B$2="Quader",((Eingabemaske!B$6*Eingabemaske!B$7)+((Eingabemaske!B$5*Eingabemaske!B$6)+(Eingabemaske!B$5*Eingabemaske!B$6))*2)*0.9*5.67*10^-8*((F49+273.15)^4-(E49+273.15)^4),((Eingabemaske!B$6/2)^2*PI()+Eingabemaske!B$6*PI())*0.9*5.67*10^-8*((F49+273.15)^4-(E49+273.15)^4)) -> 90.917159 | M49: =K49+L49 -> 146.41007
A50: =A2+1 -> 2 | B50: 24 | C50: =C49+B$1 -> 1 | D50: 24 | E50: =Eingabemaske!B$15-(12/PI()*SIN(PI()/12*B50))*Eingabemaske!B$17 -> 23 | F50: =F49+(1/G50*(H49-I49-J49-L49)*30*60) -> 32.103944 | G50: =IF(Eingabemaske!B$2="Quader",Eingabemaske!B$7*Eingabemaske!B$6*Eingabemaske!B$5*(Eingabemaske!B$23/100)*998.2*4179+(Eingabemaske!B$6*Eingabemaske!B$7*(Eingabemaske!B$12/1000)*2+Eingabemaske!B$5*Eingabemaske!B$6*(Eingabemaske!B$12/1000)*2+Eingabemaske!B$5*Eingabemaske!B$7*(Eingabemaske!B$12/1000)*2)*Eingabemaske!P$3*Eingabemaske!N$3,(Eingabemaske!B$6/2)^2*PI()*Eingabemaske!B$5*(Eingabemaske!B$23/100)*998.2*4179+(((Eingabemaske!B$6+Eingabemaske!B$12/1000)^2-Eingabemaske!B$6^2)*PI()*1/4+(Eingabemaske!B$6+Eingabemaske!B$12/1000)^2*(Eingabemaske!B$12/1000))*Eingabemaske!P$3*Eingabemaske!N$3) -> 613727.11 | H50: =INDEX(Eingabemaske!$K$2:$K$50,(MATCH(B50,Eingabemaske!$F$2:$F$50))) -> 0 | I50: =IF(Eingabemaske!B$2="Quader",1/(1/Wasser!Z51+1/Luft!Z51+((Eingabemaske!B$12/1000)/Eingabemaske!O$3))*Eingabemaske!B$6*Eingabemaske!B$7*Wasser!B51,1/(1/Wasser!Z51+1/Luft!Z51+((Eingabemaske!B$12/1000)/Eingabemaske!O$3))*(Eingabemaske!B$6/2)^2*PI()*Wasser!B51) -> 22.247943 | J50: =IF(Eingabemaske!B$2="Quader",1/(1/Wasser!AA51+1/Luft!AA51+((Eingabemaske!B$12/1000)/Eingabemaske!O$3))*(Eingabemaske!B$6*Eingabemaske!B$5+Eingabemaske!B$7*Eingabemaske!B$5)*2*Wasser!B51,1/(1/Wasser!AA51+1/Luft!AA51+((Eingabemaske!B$12/1000)/Eingabemaske!O$3))*(Eingabemaske!B$6+Eingabemaske!B$12/2000)^2*PI()*Wasser!B51) -> 32.270028 | K50: =I50+J50 -> 54.517971 | L50: =IF(Eingabemaske!B$2="Quader",((Eingabemaske!B$6*Eingabemaske!B$7)+((Eingabemaske!B$5*Eingabemaske!B$6)+(Eingabemaske!B$5*Eingabemaske!B$6))*2)*0.9*5.67*10^-8*((F50+273.15)^4-(E50+273.15)^4),((Eingabemaske!B$6/2)^2*PI()+Eingabemaske!B$6*PI())*0.9*5.67*10^-8*((F50+273.15)^4-(E50+273.15)^4)) -> 89.309133 | M50: =K50+L50 -> 143.8271
A51: =A3+1 -> 2 | B51: =B3 -> 0.5 | C51: =C50+B$1 -> 1.0208333 | D51: 24.5 | E51: =Eingabemaske!B$15-(12/PI()*SIN(PI()/12*B51))*Eingabemaske!B$17 -> 22.700856 | F51: =F50+(1/G51*(H50-I50-J50-L50)*30*60) -> 31.682114 | G51: =IF(Eingabemaske!B$2="Quader",Eingabemaske!B$7*Eingabemaske!B$6*Eingabemaske!B$5*(Eingabemaske!B$23/100)*998.2*4179+(Eingabemaske!B$6*Eingabemaske!B$7*(Eingabemaske!B$12/1000)*2+Eingabemaske!B$5*Eingabemaske!B$6*(Eingabemaske!B$12/1000)*2+Eingabemaske!B$5*Eingabemaske!B$7*(Eingabemaske!B$12/1000)*2)*Eingabemaske!P$3*Eingabemaske!N$3,(Eingabemaske!B$6/2)^2*PI()*Eingabemaske!B$5*(Eingabemaske!B$23/100)*998.2*4179+(((Eingabemaske!B$6+Eingabemaske!B$12/1000)^2-Eingabemaske!B$6^2)*PI()*1/4+(Eingabemaske!B$6+Eingabemaske!B$12/1000)^2*(Eingabemaske!B$12/1000))*Eingabemaske!P$3*Eingabemaske!N$3) -> 613727.11 | H51: =INDEX(Eingabemaske!$K$2:$K$50,(MATCH(B51,Eingabemaske!$F$2:$F$50))) -> 0 | I51: =IF(Eingabemaske!B$2="Quader",1/(1/Wasser!Z52+1/Luft!Z52+((Eingabemaske!B$12/1000)/Eingabemaske!O$3))*Eingabemaske!B$6*Eingabemaske!B$7*Wasser!B52,1/(1/Wasser!Z52+1/Luft!Z52+((Eingabemaske!B$12/1000)/Eingabemaske!O$3))*(Eingabemaske!B$6/2)^2*PI()*Wasser!B52) -> 21.876331 | J51: =IF(Eingabemaske!B$2="Quader",1/(1/Wasser!AA52+1/Luft!AA52+((Eingabemaske!B$12/1000)/Eingabemaske!O$3))*(Eingabemaske!B$6*Eingabemaske!B$5+Eingabemaske!B$7*Eingabemaske!B$5)*2*Wasser!B52,1/(1/Wasser!AA52+1/Luft!AA52+((Eingabemaske!B$12/1000)/Eingabemaske!O$3))*(Eingabemaske!B$6+Eingabemaske!B$12/2000)^2*PI()*Wasser!B52) -> 31.727844 | K51: =I51+J51 -> 53.604176 | L51: =IF(Eingabemaske!B$2="Quader",((Eingabemaske!B$6*Eingabemaske!B$7)+((Eingabemaske!B$5*Eingabemaske!B$6)+(Eingabemaske!B$5*Eingabemaske!B$6))*2)*0.9*5.67*10^-8*((F51+273.15)^4-(E51+273.15)^4),((Eingabemaske!B$6/2)^2*PI()+Eingabemaske!B$6*PI())*0.9*5.67*10^-8*((F51+273.15)^4-(E51+273.15)^4)) -> 87.788607 | M51: =K51+L51 -> 141.39278
A52: =A4+1 -> 2 | B52: =B4 -> 1 | C52: =C51+B$1 -> 1.0416667 | D52: 25 | E52: =Eingabemaske!B$15-(12/PI()*SIN(PI()/12*B52))*Eingabemaske!B$17 -> 22.40683 | F52: =F51+(1/G52*(H51-I51-J51-L51)*30*60) -> 31.267423 | G52: =IF(Eingabemaske!B$2="Quader",Eingabemaske!B$7*Eingabemaske!B$6*Eingabemaske!B$5*(Eingabemaske!B$23/100)*998.2*4179+(Eingabemaske!B$6*Eingabemaske!B$7*(Eingabemaske!B$12/1000)*2+Eingabemaske!B$5*Eingabemaske!B$6*(Eingabemaske!B$12/1000)*2+Eingabemaske!B$5*Eingabemaske!B$7*(Eingabemaske!B$12/1000)*2)*Eingabemaske!P$3*Eingabemaske!N$3,(Eingabemaske!B$6/2)^2*PI()*Eingabemaske!B$5*(Eingabemaske!B$23/100)*998.2*4179+(((Eingabemaske!B$6+Eingabemaske!B$12/1000)^2-Eingabemaske!B$6^2)*PI()*1/4+(Eingabemaske!B$6+Eingabemaske!B$12/1000)^2*(Eingabemaske!B$12/1000))*Eingabemaske!P$3*Eingabemaske!N$3) -> 613727.11 | H52: =INDEX(Eingabemaske!$K$2:$K$50,(MATCH(B52,Eingabemaske!$F$2:$F$50))) -> 0 | I52: =IF(Eingabemaske!B$2="Quader",1/(1/Wasser!Z53+1/Luft!Z53+((Eingabemaske!B$12/1000)/Eingabemaske!O$3))*Eingabemaske!B$6*Eingabemaske!B$7*Wasser!B53,1/(1/Wasser!Z53+1/Luft!Z53+((Eingabemaske!B$12/1000)/Eingabemaske!O$3))*(Eingabemaske!B$6/2)^2*PI()*Wasser!B53) -> 21.511823 | J52: =IF(Eingabemaske!B$2="Quader",1/(1/Wasser!AA53+1/Luft!AA53+((Eingabemaske!B$12/1000)/Eingabemaske!O$3))*(Eingabemaske!B$6*Eingabemaske!B$5+Eingabemaske!B$7*Eingabemaske!B$5)*2*Wasser!B53,1/(1/Wasser!AA53+1/Luft!AA53+((Eingabemaske!B$12/1000)/Eingabemaske!O$3))*(Eingabemaske!B$6+Eingabemaske!B$12/2000)^2*PI()*Wasser!B53) -> 31.196165 | K52: =I52+J52 -> 52.707987 | L52: =IF(Eingabemaske!B$2="Quader",((Eingabemaske!B$6*Eingabemaske!B$7)+((Eingabemaske!B$5*Eingabemaske!B$6)+(Eingabemaske!B$5*Eingabemaske!B$6))*2)*0.9*5.67*10^-8*((F52+273.15)^4-(E52+273.15)^4),((Eingabemaske!B$6/2)^2*PI()+Eingabemaske!B$6*PI())*0.9*5.67*10^-8*((F52+273.15)^4-(E52+273.15)^4)) -> 86.30248 | M52: =K52+L52 -> 139.01047
A53: =A5+1 -> 2 | B53: =B5 -> 1.5 | C53: =C52+B$1 -> 1.0625 | D53: 25.5 | E53: =Eingabemaske!B$15-(12/PI()*SIN(PI()/12*B53))*Eingabemaske!B$17 -> 22.122954 | F53: =F52+(1/G53*(H52-I52-J52-L52)*30*60) -> 30.859719 | G53: =IF(Eingabemaske!B$2="Quader",Eingabemaske!B$7*Eingabemaske!B$6*Eingabemaske!B$5*(Eingabemaske!B$23/100)*998.2*4179+(Eingabemaske!B$6*Eingabemaske!B$7*(Eingabemaske!B$12/1000)*2+Eingabemaske!B$5*Eingabemaske!B$6*(Eingabemaske!B$12/1000)*2+Eingabemaske!B$5*Eingabemaske!B$7*(Eingabemaske!B$12/1000)*2)*Eingabemaske!P$3*Eingabemaske!N$3,(Eingabemaske!B$6/2)^2*PI()*Eingabemaske!B$5*(Eingabemaske!B$23/100)*998.2*4179+(((Eingabemaske!B$6+Eingabemaske!B$12/1000)^2-Eingabemaske!B$6^2)*PI()*1/4+(Eingabemaske!B$6+Eingabemaske!B$12/1000)^2*(Eingabemaske!B$12/1000))*Eingabemaske!P$3*Eingabemaske!N$3) -> 613727.11 | H53: =INDEX(Eingabemaske!$K$2:$K$50,(MATCH(B53,Eingabemaske!$F$2:$F$50))) -> 0 | I53: =IF(Eingabemaske!B$2="Quader",1/(1/Wasser!Z54+1/Luft!Z54+((Eingabemaske!B$12/1000)/Eingabemaske!O$3))*Eingabemaske!B$6*Eingabemaske!B$7*Wasser!B54,1/(1/Wasser!Z54+1/Luft!Z54+((Eingabemaske!B$12/1000)/Eingabemaske!O$3))*(Eingabemaske!B$6/2)^2*PI()*Wasser!B54) -> 21.138058 | J53: =IF(Eingabemaske!B$2="Quader",1/(1/Wasser!AA54+1/Luft!AA54+((Eingabemaske!B$12/1000)/Eingabemaske!O$3))*(Eingabemaske!B$6*Eingabemaske!B$5+Eingabemaske!B$7*Eingabemaske!B$5)*2*Wasser!B54,1/(1/Wasser!AA54+1/Luft!AA54+((Eingabemaske!B$12/1000)/Eingabemaske!O$3))*(Eingabemaske!B$6+Eingabemaske!B$12/2000)^2*PI()*Wasser!B54) -> 30.65125 | K53: =I53+J53 -> 51.789308 | L53: =IF(Eingabemaske!B$2="Quader",((Eingabemaske!B$6*Eingabemaske!B$7)+((Eingabemaske!B$5*Eingabemaske!B$6)+(Eingabemaske!B$5*Eingabemaske!B$6))*2)*0.9*5.67*10^-8*((F53+273.15)^4-(E53+273.15)^4),((Eingabemaske!B$6/2)^2*PI()+Eingabemaske!B$6*PI())*0.9*5.67*10^-8*((F53+273.15)^4-(E53+273.15)^4)) -> 84.801996 | M53: =K53+L53 -> 136.5913
A54: =A6+1 -> 2 | B54: =B6 -> 2 | C54: =C53+B$1 -> 1.0833333 | D54: 26 | E54: =Eingabemaske!B$15-(12/PI()*SIN(PI()/12*B54))*Eingabemaske!B$17 -> 21.854084 | F54: =F53+(1/G54*(H53-I53-J53-L53)*30*60) -> 30.45911 | G54: =IF(Eingabemaske!B$2="Quader",Eingabemaske!B$7*Eingabemaske!B$6*Eingabemaske!B$5*(Eingabemaske!B$23/100)*998.2*4179+(Eingabemaske!B$6*Eingabemaske!B$7*(Eingabemaske!B$12/1000)*2+Eingabemaske!B$5*Eingabemaske!B$6*(Eingabemaske!B$12/1000)*2+Eingabemaske!B$5*Eingabemaske!B$7*(Eingabemaske!B$12/1000)*2)*Eingabemaske!P$3*Eingabemaske!N$3,(Eingabemaske!B$6/2)^2*PI()*Eingabemaske!B$5*(Eingabemaske!B$23/100)*998.2*4179+(((Eingabemaske!B$6+Eingabemaske!B$12/1000)^2-Eingabemaske!B$6^2)*PI()*1/4+(Eingabemaske!B$6+Eingabemaske!B$12/1000)^2*(Eingabemaske!B$12/1000))*Eingabemaske!P$3*Eingabemaske!N$3) -> 613727.11 | H54: =INDEX(Eingabemaske!$K$2:$K$50,(MATCH(B54,Eingabemaske!$F$2:$F$50))) -> 0 | I54: =IF(Eingabemaske!B$2="Quader",1/(1/Wasser!Z55+1/Luft!Z55+((Eingabemaske!B$12/1000)/Eingabemaske!O$3))*Eingabemaske!B$6*Eingabemaske!B$7*Wasser!B55,1/(1/Wasser!Z55+1/Luft!Z55+((Eingabemaske!B$12/1000)/Eingabemaske!O$3))*(Eingabemaske!B$6/2)^2*PI()*Wasser!B55) -> 20.740264 | J54: =IF(Eingabemaske!B$2="Quader",1/(1/Wasser!AA55+1/Luft!AA55+((Eingabemaske!B$12/1000)/Eingabemaske!O$3))*(Eingabemaske!B$6*Eingabemaske!B$5+Eingabemaske!B$7*Eingabemaske!B$5)*2*Wasser!B55,1/(1/Wasser!AA55+1/Luft!AA55+((Eingabemaske!B$12/1000)/Eingabemaske!O$3))*(Eingabemaske!B$6+Eingabemaske!B$12/2000)^2*PI()*Wasser!B55) -> 30.071684 | K54: =I54+J54 -> 50.811948 | L54: =IF(Eingabemaske!B$2="Quader",((Eingabemaske!B$6*Eingabemaske!B$7)+((Eingabemaske!B$5*Eingabemaske!B$6)+(Eingabemaske!B$5*Eingabemaske!B$6))*2)*0.9*5.67*10^-8*((F54+273.15)^4-(E54+273.15)^4),((Eingabemaske!B$6/2)^2*PI()+Eingabemaske!B$6*PI())*0.9*5.67*10^-8*((F54+273.15)^4-(E54+273.15)^4)) -> 83.243196 | M54: =K54+L54 -> 134.05514
A55: =A7+1 -> 2 | B55: =B7 -> 2.5 | C55: =C54+B$1 -> 1.1041667 | D55: 26.5 | E55: =Eingabemaske!B$15-(12/PI()*SIN(PI()/12*B55))*Eingabemaske!B$17 -> 21.604822 | F55: =F54+(1/G55*(H54-I54-J54-L54)*30*60) -> 30.06594 | G55: =IF(Eingabemaske!B$2="Quader",Eingabemaske!B$7*Eingabemaske!B$6*Eingabemaske!B$5*(Eingabemaske!B$23/100)*998.2*4179+(Eingabemaske!B$6*Eingabemaske!B$7*(Eingabemaske!B$12/1000)*2+Eingabemaske!B$5*Eingabemaske!B$6*(Eingabemaske!B$12/1000)*2+Eingabemaske!B$5*Eingabemaske!B$7*(Eingabemaske!B$12/1000)*2)*Eingabemaske!P$3*Eingabemaske!N$3,(Eingabemaske!B$6/2)^2*PI()*Eingabemaske!B$5*(Eingabemaske!B$23/100)*998.2*4179+(((Eingabemaske!B$6+Eingabemaske!B$12/1000)^2-Eingabemaske!B$6^2)*PI()*1/4+(Eingabemaske!B$6+Eingabemaske!B$12/1000)^2*(Eingabemaske!B$12/1000))*Eingabemaske!P$3*Eingabemaske!N$3) -> 613727.11 | H55: =INDEX(Eingabemaske!$K$2:$K$50,(MATCH(B55,Eingabemaske!$F$2:$F$50))) -> 0 | I55: =IF(Eingabemaske!B$2="Quader",1/(1/Wasser!Z56+1/Luft!Z56+((Eingabemaske!B$12/1000)/Eingabemaske!O$3))*Eingabemaske!B$6*Eingabemaske!B$7*Wasser!B56,1/(1/Wasser!Z56+1/Luft!Z56+((Eingabemaske!B$12/1000)/Eingabemaske!O$3))*(Eingabemaske!B$6/2)^2*PI()*Wasser!B56) -> 20.305447 | J55: =IF(Eingabemaske!B$2="Quader",1/(1/Wasser!AA56+1/Luft!AA56+((Eingabemaske!B$12/1000)/Eingabemaske!O$3))*(Eingabemaske!B$6*Eingabemaske!B$5+Eingabemaske!B$7*Eingabemaske!B$5)*2*Wasser!B56,1/(1/Wasser!AA56+1/Luft!AA56+((Eingabemaske!B$12/1000)/Eingabemaske!O$3))*(Eingabemaske!B$6+Eingabemaske!B$12/2000)^2*PI()*Wasser!B56) -> 29.438653 | K55: =I55+J55 -> 49.7441 | L55: =IF(Eingabemaske!B$2="Quader",((Eingabemaske!B$6*Eingabemaske!B$7)+((Eingabemaske!B$5*Eingabemaske!B$6)+(Eingabemaske!B$5*Eingabemaske!B$6))*2)*0.9*5.67*10^-8*((F55+273.15)^4-(E55+273.15)^4),((Eingabemaske!B$6/2)^2*PI()+Eingabemaske!B$6*PI())*0.9*5.67*10^-8*((F55+273.15)^4-(E55+273.15)^4)) -> 81.587296 | M55: =K55+L55 -> 131.3314
A56: =A8+1 -> 2 | B56: =B8 -> 3 | C56: =C55+B$1 -> 1.125 | D56: 27 | E56: =Eingabemaske!B$15-(12/PI()*SIN(PI()/12*B56))*Eingabemaske!B$17 -> 21.379431 | F56: =F55+(1/G56*(H55-I55-J55-L55)*30*60) -> 29.680758 | G56: =IF(Eingabemaske!B$2="Quader",Eingabemaske!B$7*Eingabemaske!B$6*Eingabemaske!B$5*(Eingabemaske!B$23/100)*998.2*4179+(Eingabemaske!B$6*Eingabemaske!B$7*(Eingabemaske!B$12/1000)*2+Eingabemaske!B$5*Eingabemaske!B$6*(Eingabemaske!B$12/1000)*2+Eingabemaske!B$5*Eingabemaske!B$7*(Eingabemaske!B$12/1000)*2)*Eingabemaske!P$3*Eingabemaske!N$3,(Eingabemaske!B$6/2)^2*PI()*Eingabemaske!B$5*(Eingabemaske!B$23/100)*998.2*4179+(((Eingabemaske!B$6+Eingabemaske!B$12/1000)^2-Eingabemaske!B$6^2)*PI()*1/4+(Eingabemaske!B$6+Eingabemaske!B$12/1000)^2*(Eingabemaske!B$12/1000))*Eingabemaske!P$3*Eingabemaske!N$3) -> 613727.11 | H56: =INDEX(Eingabemaske!$K$2:$K$50,(MATCH(B56,Eingabemaske!$F$2:$F$50))) -> 0 | I56: =IF(Eingabemaske!B$2="Quader",1/(1/Wasser!Z57+1/Luft!Z57+((Eingabemaske!B$12/1000)/Eingabemaske!O$3))*Eingabemaske!B$6*Eingabemaske!B$7*Wasser!B57,1/(1/Wasser!Z57+1/Luft!Z57+((Eingabemaske!B$12/1000)/Eingabemaske!O$3))*(Eingabemaske!B$6/2)^2*PI()*Wasser!B57) -> 19.822582 | J56: =IF(Eingabemaske!B$2="Quader",1/(1/Wasser!AA57+1/Luft!AA57+((Eingabemaske!B$12/1000)/Eingabemaske!O$3))*(Eingabemaske!B$6*Eingabemaske!B$5+Eingabemaske!B$7*Eingabemaske!B$5)*2*Wasser!B57,1/(1/Wasser!AA57+1/Luft!AA57+((Eingabemaske!B$12/1000)/Eingabemaske!O$3))*(Eingabemaske!B$6+Eingabemaske!B$12/2000)^2*PI()*Wasser!B57) -> 28.736218 | K56: =I56+J56 -> 48.5588 | L56: =IF(Eingabemaske!B$2="Quader",((Eingabemaske!B$6*Eingabemaske!B$7)+((Eingabemaske!B$5*Eingabemaske!B$6)+(Eingabemaske!B$5*Eingabemaske!B$6))*2)*0.9*5.67*10^-8*((F56+273.15)^4-(E56+273.15)^4),((Eingabemaske!B$6/2)^2*PI()+Eingabemaske!B$6*PI())*0.9*5.67*10^-8*((F56+273.15)^4-(E56+273.15)^4)) -> 79.800979 | M56: =K56+L56 -> 128.35978
A57: =A9+1 -> 2 | B57: =B9 -> 3.5 | C57: =C56+B$1 -> 1.1458333 | D57: 27.5 | E57: =Eingabemaske!B$15-(12/PI()*SIN(PI()/12*B57))*Eingabemaske!B$17 -> 21.181768 | F57: =F56+(1/G57*(H56-I56-J56-L56)*30*60) -> 29.304292 | G57: =IF(Eingabemaske!B$2="Quader",Eingabemaske!B$7*Eingabemaske!B$6*Eingabemaske!B$5*(Eingabemaske!B$23/100)*998.2*4179+(Eingabemaske!B$6*Eingabemaske!B$7*(Eingabemaske!B$12/1000)*2+Eingabemaske!B$5*Eingabemaske!B$6*(Eingabemaske!B$12/1000)*2+Eingabemaske!B$5*Eingabemaske!B$7*(Eingabemaske!B$12/1000)*2)*Eingabemaske!P$3*Eingabemaske!N$3,(Eingabemaske!B$6/2)^2*PI()*Eingabemaske!B$5*(Eingabemaske!B$23/100)*998.2*4179+(((Eingabemaske!B$6+Eingabemaske!B$12/1000)^2-Eingabemaske!B$6^2)*PI()*1/4+(Eingabemaske!B$6+Eingabemaske!B$12/1000)^2*(Eingabemaske!B$12/1000))*Eingabemaske!P$3*Eingabemaske!N$3) -> 613727.11 | H57: =INDEX(Eingabemaske!$K$2:$K$50,(MATCH(B57,Eingabemaske!$F$2:$F$50))) -> 0 | I57: =IF(Eingabemaske!B$2="Quader",1/(1/Wasser!Z58+1/Luft!Z58+((Eingabemaske!B$12/1000)/Eingabemaske!O$3))*Eingabemaske!B$6*Eingabemaske!B$7*Wasser!B58,1/(1/Wasser!Z58+1/Luft!Z58+((Eingabemaske!B$12/1000)/Eingabemaske!O$3))*(Eingabemaske!B$6/2)^2*PI()*Wasser!B58) -> 19.28278 | J57: =IF(Eingabemaske!B$2="Quader",1/(1/Wasser!AA58+1/Luft!AA58+((Eingabemaske!B$12/1000)/Eingabemaske!O$3))*(Eingabemaske!B$6*Eingabemaske!B$5+Eingabemaske!B$7*Eingabemaske!B$5)*2*Wasser!B58,1/(1/Wasser!AA58+1/Luft!AA58+((Eingabemaske!B$12/1000)/Eingabemaske!O$3))*(Eingabemaske!B$6+Eingabemaske!B$12/2000)^2*PI()*Wasser!B58) -> 27.95156 | K57: =I57+J57 -> 47.23434 | L57: =IF(Eingabemaske!B$2="Quader",((Eingabemaske!B$6*Eingabemaske!B$7)+((Eingabemaske!B$5*Eingabemaske!B$6)+(Eingabemaske!B$5*Eingabemaske!B$6))*2)*0.9*5.67*10^-8*((F57+273.15)^4-(E57+273.15)^4),((Eingabemaske!B$6/2)^2*PI()+Eingabemaske!B$6*PI())*0.9*5.67*10^-8*((F57+273.15)^4-(E57+273.15)^4)) -> 77.856598 | M57: =K57+L57 -> 125.09094
A58: =A10+1 -> 2 | B58: =B10 -> 4 | C58: =C57+B$1 -> 1.1666667 | D58: 28 | E58: =Eingabemaske!B$15-(12/PI()*SIN(PI()/12*B58))*Eingabemaske!B$17 -> 21.015216 | F58: =F57+(1/G58*(H57-I57-J57-L57)*30*60) -> 28.937413 | G58: =IF(Eingabemaske!B$2="Quader",Eingabemaske!B$7*Eingabemaske!B$6*Eingabemaske!B$5*(Eingabemaske!B$23/100)*998.2*4179+(Eingabemaske!B$6*Eingabemaske!B$7*(Eingabemaske!B$12/1000)*2+Eingabemaske!B$5*Eingabemaske!B$6*(Eingabemaske!B$12/1000)*2+Eingabemaske!B$5*Eingabemaske!B$7*(Eingabemaske!B$12/1000)*2)*Eingabemaske!P$3*Eingabemaske!N$3,(Eingabemaske!B$6/2)^2*PI()*Eingabemaske!B$5*(Eingabemaske!B$23/100)*998.2*4179+(((Eingabemaske!B$6+Eingabemaske!B$12/1000)^2-Eingabemaske!B$6^2)*PI()*1/4+(Eingabemaske!B$6+Eingabemaske!B$12/1000)^2*(Eingabemaske!B$12/1000))*Eingabemaske!P$3*Eingabemaske!N$3) -> 613727.11 | H58: =INDEX(Eingabemaske!$K$2:$K$50,(MATCH(B58,Eingabemaske!$F$2:$F$50))) -> 0 | I58: =IF(Eingabemaske!B$2="Quader",1/(1/Wasser!Z59+1/Luft!Z59+((Eingabemaske!B$12/1000)/Eingabemaske!O$3))*Eingabemaske!B$6*Eingabemaske!B$7*Wasser!B59,1/(1/Wasser!Z59+1/Luft!Z59+((Eingabemaske!B$12/1000)/Eingabemaske!O$3))*(Eingabemaske!B$6/2)^2*PI()*Wasser!B59) -> 18.67943 | J58: =IF(Eingabemaske!B$2="Quader",1/(1/Wasser!AA59+1/Luft!AA59+((Eingabemaske!B$12/1000)/Eingabemaske!O$3))*(Eingabemaske!B$6*Eingabemaske!B$5+Eingabemaske!B$7*Eingabemaske!B$5)*2*Wasser!B59,1/(1/Wasser!AA59+1/Luft!AA59+((Eingabemaske!B$12/1000)/Eingabemaske!O$3))*(Eingabemaske!B$6+Eingabemaske!B$12/2000)^2*PI()*Wasser!B59) -> 27.075177 | K58: =I58+J58 -> 45.754607 | L58: =IF(Eingabemaske!B$2="Quader",((Eingabemaske!B$6*Eingabemaske!B$7)+((Eingabemaske!B$5*Eingabemaske!B$6)+(Eingabemaske!B$5*Eingabemaske!B$6))*2)*0.9*5.67*10^-8*((F58+273.15)^4-(E58+273.15)^4),((Eingabemaske!B$6/2)^2*PI()+Eingabemaske!B$6*PI())*0.9*5.67*10^-8*((F58+273.15)^4-(E58+273.15)^4)) -> 75.732306 | M58: =K58+L58 -> 121.48691
A59: =A11+1 -> 2 | B59: =B11 -> 4.5 | C59: =C58+B$1 -> 1.1875 | D59: 28.5 | E59: =Eingabemaske!B$15-(12/PI()*SIN(PI()/12*B59))*Eingabemaske!B$17 -> 20.882624 | F59: =F58+(1/G59*(H58-I58-J58-L58)*30*60) -> 28.581104 | G59: =IF(Eingabemaske!B$2="Quader",Eingabemaske!B$7*Eingabemaske!B$6*Eingabemaske!B$5*(Eingabemaske!B$23/100)*998.2*4179+(Eingabemaske!B$6*Eingabemaske!B$7*(Eingabemaske!B$12/1000)*2+Eingabemaske!B$5*Eingabemaske!B$6*(Eingabemaske!B$12/1000)*2+Eingabemaske!B$5*Eingabemaske!B$7*(Eingabemaske!B$12/1000)*2)*Eingabemaske!P$3*Eingabemaske!N$3,(Eingabemaske!B$6/2)^2*PI()*Eingabemaske!B$5*(Eingabemaske!B$23/100)*998.2*4179+(((Eingabemaske!B$6+Eingabemaske!B$12/1000)^2-Eingabemaske!B$6^2)*PI()*1/4+(Eingabemaske!B$6+Eingabemaske!B$12/1000)^2*(Eingabemaske!B$12/1000))*Eingabemaske!P$3*Eingabemaske!N$3) -> 613727.11 | H59: =INDEX(Eingabemaske!$K$2:$K$50,(MATCH(B59,Eingabemaske!$F$2:$F$50))) -> 0 | I59: =IF(Eingabemaske!B$2="Quader",1/(1/Wasser!Z60+1/Luft!Z60+((Eingabemaske!B$12/1000)/Eingabemaske!O$3))*Eingabemaske!B$6*Eingabemaske!B$7*Wasser!B60,1/(1/Wasser!Z60+1/Luft!Z60+((Eingabemaske!B$12/1000)/Eingabemaske!O$3))*(Eingabemaske!B$6/2)^2*PI()*Wasser!B60) -> 18.008296 | J59: =IF(Eingabemaske!B$2="Quader",1/(1/Wasser!AA60+1/Luft!AA60+((Eingabemaske!B$12/1000)/Eingabemaske!O$3))*(Eingabemaske!B$6*Eingabemaske!B$5+Eingabemaske!B$7*Eingabemaske!B$5)*2*Wasser!B60,1/(1/Wasser!AA60+1/Luft!AA60+((Eingabemaske!B$12/1000)/Eingabemaske!O$3))*(Eingabemaske!B$6+Eingabemaske!B$12/2000)^2*PI()*Wasser!B60) -> 26.101029 | K59: =I59+J59 -> 44.109325 | L59: =IF(Eingabemaske!B$2="Quader",((Eingabemaske!B$6*Eingabemaske!B$7)+((Eingabemaske!B$5*Eingabemaske!B$6)+(Eingabemaske!B$5*Eingabemaske!B$6))*2)*0.9*5.67*10^-8*((F59+273.15)^4-(E59+273.15)^4),((Eingabemaske!B$6/2)^2*PI()+Eingabemaske!B$6*PI())*0.9*5.67*10^-8*((F59+273.15)^4-(E59+273.15)^4)) -> 73.412098 | M59: =K59+L59 -> 117.52142
A60: =A12+1 -> 2 | B60: =B12 -> 5 | C60: =C59+B$1 -> 1.2083333 | D60: 29 | E60: =Eingabemaske!B$15-(12/PI()*SIN(PI()/12*B60))*Eingabemaske!B$17 -> 20.786261 | F60: =F59+(1/G60*(H59-I59-J59-L59)*30*60) -> 28.236425 | G60: =IF(Eingabemaske!B$2="Quader",Eingabemaske!B$7*Eingabemaske!B$6*Eingabemaske!B$5*(Eingabemaske!B$23/100)*998.2*4179+(Eingabemaske!B$6*Eingabemaske!B$7*(Eingabemaske!B$12/1000)*2+Eingabemaske!B$5*Eingabemaske!B$6*(Eingabemaske!B$12/1000)*2+Eingabemaske!B$5*Eingabemaske!B$7*(Eingabemaske!B$12/1000)*2)*Eingabemaske!P$3*Eingabemaske!N$3,(Eingabemaske!B$6/2)^2*PI()*Eingabemaske!B$5*(Eingabemaske!B$23/100)*998.2*4179+(((Eingabemaske!B$6+Eingabemaske!B$12/1000)^2-Eingabemaske!B$6^2)*PI()*1/4+(Eingabemaske!B$6+Eingabemaske!B$12/1000)^2*(Eingabemaske!B$12/1000))*Eingabemaske!P$3*Eingabemaske!N$3) -> 613727.11 | H60: =INDEX(Eingabemaske!$K$2:$K$50,(MATCH(B60,Eingabemaske!$F$2:$F$50))) -> 0 | I60: =IF(Eingabemaske!B$2="Quader",1/(1/Wasser!Z61+1/Luft!Z61+((Eingabemaske!B$12/1000)/Eingabemaske!O$3))*Eingabemaske!B$6*Eingabemaske!B$7*Wasser!B61,1/(1/Wasser!Z61+1/Luft!Z61+((Eingabemaske!B$12/1000)/Eingabemaske!O$3))*(Eingabemaske!B$6/2)^2*PI()*Wasser!B61) -> 17.267575 | J60: =IF(Eingabemaske!B$2="Quader",1/(1/Wasser!AA61+1/Luft!AA61+((Eingabemaske!B$12/1000)/Eingabemaske!O$3))*(Eingabemaske!B$6*Eingabemaske!B$5+Eingabemaske!B$7*Eingabemaske!B$5)*2*Wasser!B61,1/(1/Wasser!AA61+1/Luft!AA61+((Eingabemaske!B$12/1000)/Eingabemaske!O$3))*(Eingabemaske!B$6+Eingabemaske!B$12/2000)^2*PI()*Wasser!B61) -> 25.026615 | K60: =I60+J60 -> 42.29419 | L60: =IF(Eingabemaske!B$2="Quader",((Eingabemaske!B$6*Eingabemaske!B$7)+((Eingabemaske!B$5*Eingabemaske!B$6)+(Eingabemaske!B$5*Eingabemaske!B$6))*2)*0.9*5.67*10^-8*((F60+273.15)^4-(E60+273.15)^4),((Eingabemaske!B$6/2)^2*PI()+Eingabemaske!B$6*PI())*0.9*5.67*10^-8*((F60+273.15)^4-(E60+273.15)^4)) -> 70.885781 | M60: =K60+L60 -> 113.17997
A61: =A13+1 -> 2 | B61: =B13 -> 5.5 | C61: =C60+B$1 -> 1.2291667 | D61: 29.5 | E61: =Eingabemaske!B$15-(12/PI()*SIN(PI()/12*B61))*Eingabemaske!B$17 -> 20.727776 | F61: =F60+(1/G61*(H60-I60-J60-L60)*30*60) -> 27.90448 | G61: =IF(Eingabemaske!B$2="Quader",Eingabemaske!B$7*Eingabemaske!B$6*Eingabemaske!B$5*(Eingabemaske!B$23/100)*998.2*4179+(Eingabemaske!B$6*Eingabemaske!B$7*(Eingabemaske!B$12/1000)*2+Eingabemaske!B$5*Eingabemaske!B$6*(Eingabemaske!B$12/1000)*2+Eingabemaske!B$5*Eingabemaske!B$7*(Eingabemaske!B$12/1000)*2)*Eingabemaske!P$3*Eingabemaske!N$3,(Eingabemaske!B$6/2)^2*PI()*Eingabemaske!B$5*(Eingabemaske!B$23/100)*998.2*4179+(((Eingabemaske!B$6+Eingabemaske!B$12/1000)^2-Eingabemaske!B$6^2)*PI()*1/4+(Eingabemaske!B$6+Eingabemaske!B$12/1000)^2*(Eingabemaske!B$12/1000))*Eingabemaske!P$3*Eingabemaske!N$3) -> 613727.11 | H61: =INDEX(Eingabemaske!$K$2:$K$50,(MATCH(B61,Eingabemaske!$F$2:$F$50))) -> 0 | I61: =IF(Eingabemaske!B$2="Quader",1/(1/Wasser!Z62+1/Luft!Z62+((Eingabemaske!B$12/1000)/Eingabemaske!O$3))*Eingabemaske!B$6*Eingabemaske!B$7*Wasser!B62,1/(1/Wasser!Z62+1/Luft!Z62+((Eingabemaske!B$12/1000)/Eingabemaske!O$3))*(Eingabemaske!B$6/2)^2*PI()*Wasser!B62) -> 16.457902 | J61: =IF(Eingabemaske!B$2="Quader",1/(1/Wasser!AA62+1/Luft!AA62+((Eingabemaske!B$12/1000)/Eingabemaske!O$3))*(Eingabemaske!B$6*Eingabemaske!B$5+Eingabemaske!B$7*Eingabemaske!B$5)*2*Wasser!B62,1/(1/Wasser!AA62+1/Luft!AA62+((Eingabemaske!B$12/1000)/Eingabemaske!O$3))*(Eingabemaske!B$6+Eingabemaske!B$12/2000)^2*PI()*Wasser!B62) -> 23.852967 | K61: =I61+J61 -> 40.310869 | L61: =IF(Eingabemaske!B$2="Quader",((Eingabemaske!B$6*Eingabemaske!B$7)+((Eingabemaske!B$5*Eingabemaske!B$6)+(Eingabemaske!B$5*Eingabemaske!B$6))*2)*0.9*5.67*10^-8*((F61+273.15)^4-(E61+273.15)^4),((Eingabemaske!B$6/2)^2*PI()+Eingabemaske!B$6*PI())*0.9*5.67*10^-8*((F61+273.15)^4-(E61+273.15)^4)) -> 68.148885 | M61: =K61+L61 -> 108.45975
A62: =A14+1 -> 2 | B62: =B14 -> 6 | C62: =C61+B$1 -> 1.25 | D62: 30 | E62: =Eingabemaske!B$15-(12/PI()*SIN(PI()/12*B62))*Eingabemaske!B$17 -> 20.708169 | F62: =F61+(1/G62*(H61-I61-J61-L61)*30*60) -> 27.586378 | G62: =IF(Eingabemaske!B$2="Quader",Eingabemaske!B$7*Eingabemaske!B$6*Eingabemaske!B$5*(Eingabemaske!B$23/100)*998.2*4179+(Eingabemaske!B$6*Eingabemaske!B$7*(Eingabemaske!B$12/1000)*2+Eingabemaske!B$5*Eingabemaske!B$6*(Eingabemaske!B$12/1000)*2+Eingabemaske!B$5*Eingabemaske!B$7*(Eingabemaske!B$12/1000)*2)*Eingabemaske!P$3*Eingabemaske!N$3,(Eingabemaske!B$6/2)^2*PI()*Eingabemaske!B$5*(Eingabemaske!B$23/100)*998.2*4179+(((Eingabemaske!B$6+Eingabemaske!B$12/1000)^2-Eingabemaske!B$6^2)*PI()*1/4+(Eingabemaske!B$6+Eingabemaske!B$12/1000)^2*(Eingabemaske!B$12/1000))*Eingabemaske!P$3*Eingabemaske!N$3) -> 613727.11 | H62: =INDEX(Eingabemaske!$K$2:$K$50,(MATCH(B62,Eingabemaske!$F$2:$F$50))) -> 0 | I62: =IF(Eingabemaske!B$2="Quader",1/(1/Wasser!Z63+1/Luft!Z63+((Eingabemaske!B$12/1000)/Eingabemaske!O$3))*Eingabemaske!B$6*Eingabemaske!B$7*Wasser!B63,1/(1/Wasser!Z63+1/Luft!Z63+((Eingabemaske!B$12/1000)/Eingabemaske!O$3))*(Eingabemaske!B$6/2)^2*PI()*Wasser!B63) -> 15.582291 | J62: =IF(Eingabemaske!B$2="Quader",1/(1/Wasser!AA63+1/Luft!AA63+((Eingabemaske!B$12/1000)/Eingabemaske!O$3))*(Eingabemaske!B$6*Eingabemaske!B$5+Eingabemaske!B$7*Eingabemaske!B$5)*2*Wasser!B63,1/(1/Wasser!AA63+1/Luft!AA63+((Eingabemaske!B$12/1000)/Eingabemaske!O$3))*(Eingabemaske!B$6+Eingabemaske!B$12/2000)^2*PI()*Wasser!B63) -> 22.584571 | K62: =I62+J62 -> 38.166861 | L62: =IF(Eingabemaske!B$2="Quader",((Eingabemaske!B$6*Eingabemaske!B$7)+((Eingabemaske!B$5*Eingabemaske!B$6)+(Eingabemaske!B$5*Eingabemaske!B$6))*2)*0.9*5.67*10^-8*((F62+273.15)^4-(E62+273.15)^4),((Eingabemaske!B$6/2)^2*PI()+Eingabemaske!B$6*PI())*0.9*5.67*10^-8*((F62+273.15)^4-(E62+273.15)^4)) -> 65.2025 | M62: =K62+L62 -> 103.36936
... A337: =A289+1 -> 7 | B337: =B289 -> 23.5 | C337: =C336+B$1 -> 6.9791667 | D337: 167.5 | E337: =Eingabemaske!B$15-(12/PI()*SIN(PI()/12*B337))*Eingabemaske!B$17 -> 23.299144 | F337: =F336+(1/G337*(H336-I336-J336-L336)*30*60) -> 33.728752 | G337: =IF(Eingabemaske!B$2="Quader",Eingabemaske!B$7*Eingabemaske!B$6*Eingabemaske!B$5*(Eingabemaske!B$23/100)*998.2*4179+(Eingabemaske!B$6*Eingabemaske!B$7*(Eingabemaske!B$12/1000)*2+Eingabemaske!B$5*Eingabemaske!B$6*(Eingabemaske!B$12/1000)*2+Eingabemaske!B$5*Eingabemaske!B$7*(Eingabemaske!B$12/1000)*2)*Eingabemaske!P$3*Eingabemaske!N$3,(Eingabemaske!B$6/2)^2*PI()*Eingabemaske!B$5*(Eingabemaske!B$23/100)*998.2*4179+(((Eingabemaske!B$6+Eingabemaske!B$12/1000)^2-Eingabemaske!B$6^2)*PI()*1/4+(Eingabemaske!B$6+Eingabemaske!B$12/1000)^2*(Eingabemaske!B$12/1000))*Eingabemaske!P$3*Eingabemaske!N$3) -> 613727.11 | H337: =INDEX(Eingabemaske!$K$2:$K$50,(MATCH(B337,Eingabemaske!$F$2:$F$50))) -> 0 | I337: =IF(Eingabemaske!B$2="Quader",1/(1/Wasser!Z338+1/Luft!Z338+((Eingabemaske!B$12/1000)/Eingabemaske!O$3))*Eingabemaske!B$6*Eingabemaske!B$7*Wasser!B338,1/(1/Wasser!Z338+1/Luft!Z338+((Eingabemaske!B$12/1000)/Eingabemaske!O$3))*(Eingabemaske!B$6/2)^2*PI()*Wasser!B338) -> 26.473964 | J337: =IF(Eingabemaske!B$2="Quader",1/(1/Wasser!AA338+1/Luft!AA338+((Eingabemaske!B$12/1000)/Eingabemaske!O$3))*(Eingabemaske!B$6*Eingabemaske!B$5+Eingabemaske!B$7*Eingabemaske!B$5)*2*Wasser!B338,1/(1/Wasser!AA338+1/Luft!AA338+((Eingabemaske!B$12/1000)/Eingabemaske!O$3))*(Eingabemaske!B$6+Eingabemaske!B$12/2000)^2*PI()*Wasser!B338) -> 38.422182 | K337: =I337+J337 -> 64.896146 | L337: =IF(Eingabemaske!B$2="Quader",((Eingabemaske!B$6*Eingabemaske!B$7)+((Eingabemaske!B$5*Eingabemaske!B$6)+(Eingabemaske!B$5*Eingabemaske!B$6))*2)*0.9*5.67*10^-8*((F337+273.15)^4-(E337+273.15)^4),((Eingabemaske!B$6/2)^2*PI()+Eingabemaske!B$6*PI())*0.9*5.67*10^-8*((F337+273.15)^4-(E337+273.15)^4)) -> 103.30609 | M337: =K337+L337 -> 168.20224
A338: 7 | B338: =B290 -> 24 | C338: =C337+B$1 -> 7 | D338: 168 | E338: =Eingabemaske!B$15-(12/PI()*SIN(PI()/12*B338))*Eingabemaske!B$17 -> 23 | F338: =F337+(1/G338*(H337-I337-J337-L337)*30*60) -> 33.235432 | G338: =IF(Eingabemaske!B$2="Quader",Eingabemaske!B$7*Eingabemaske!B$6*Eingabemaske!B$5*(Eingabemaske!B$23/100)*998.2*4179+(Eingabemaske!B$6*Eingabemaske!B$7*(Eingabemaske!B$12/1000)*2+Eingabemaske!B$5*Eingabemaske!B$6*(Eingabemaske!B$12/1000)*2+Eingabemaske!B$5*Eingabemaske!B$7*(Eingabemaske!B$12/1000)*2)*Eingabemaske!P$3*Eingabemaske!N$3,(Eingabemaske!B$6/2)^2*PI()*Eingabemaske!B$5*(Eingabemaske!B$23/100)*998.2*4179+(((Eingabemaske!B$6+Eingabemaske!B$12/1000)^2-Eingabemaske!B$6^2)*PI()*1/4+(Eingabemaske!B$6+Eingabemaske!B$12/1000)^2*(Eingabemaske!B$12/1000))*Eingabemaske!P$3*Eingabemaske!N$3) -> 613727.11 | H338: =INDEX(Eingabemaske!$K$2:$K$50,(MATCH(B338,Eingabemaske!$F$2:$F$50))) -> 0 | I338: =IF(Eingabemaske!B$2="Quader",1/(1/Wasser!Z339+1/Luft!Z339+((Eingabemaske!B$12/1000)/Eingabemaske!O$3))*Eingabemaske!B$6*Eingabemaske!B$7*Wasser!B339,1/(1/Wasser!Z339+1/Luft!Z339+((Eingabemaske!B$12/1000)/Eingabemaske!O$3))*(Eingabemaske!B$6/2)^2*PI()*Wasser!B339) -> 25.858415 | J338: =IF(Eingabemaske!B$2="Quader",1/(1/Wasser!AA339+1/Luft!AA339+((Eingabemaske!B$12/1000)/Eingabemaske!O$3))*(Eingabemaske!B$6*Eingabemaske!B$5+Eingabemaske!B$7*Eingabemaske!B$5)*2*Wasser!B339,1/(1/Wasser!AA339+1/Luft!AA339+((Eingabemaske!B$12/1000)/Eingabemaske!O$3))*(Eingabemaske!B$6+Eingabemaske!B$12/2000)^2*PI()*Wasser!B339) -> 37.523324 | K338: =I338+J338 -> 63.381739 | L338: =IF(Eingabemaske!B$2="Quader",((Eingabemaske!B$6*Eingabemaske!B$7)+((Eingabemaske!B$5*Eingabemaske!B$6)+(Eingabemaske!B$5*Eingabemaske!B$6))*2)*0.9*5.67*10^-8*((F338+273.15)^4-(E338+273.15)^4),((Eingabemaske!B$6/2)^2*PI()+Eingabemaske!B$6*PI())*0.9*5.67*10^-8*((F338+273.15)^4-(E338+273.15)^4)) -> 100.98275 | M338: =K338+L338 -> 164.36449

Sheet Temperaturverlauf Diagramm

Sheet Wasser
A1: StoffdatenWasser
C2: dt in [K] | D2: T in [°C] | E2: h in [m] | F2: d in [m] | G2: v in [m/s] | H2: ρ in [kg/m³] | I2: cp in [J/kg *k] | J2: λ in [W/m*K] | K2: ƞ in [mPa*s] | L2: ν in [m²/s] | M2: β in [1/k] | N2: Prandl | O2: f(Pr) | P2: f(Pr) | Q2: Rayleigh | R2: Reynolds | S2: Ra * f(Pr) | T2: Nusseltfrei h. | U2: Nusseltfrei v. | V2: Nusselt laminar | W2: Nusselt turb | X2: Nusselt mix h | Y2: Nusselt mix v | Z2: αhorizontal in [W/m²*K] | AA2: αvertikal in [W/m²*K]
B3: =Temperaturverlauf!F2-Temperaturverlauf!E2 -> 0 | C3: =IF(B3<0,B3*-1,B3) -> 0 | D3: =Temperaturverlauf!F2 -> 23 | E3: =Eingabemaske!$B$5 -> 0.745 | F3: =IF(Eingabemaske!$B$3="horizontal_Breite",Eingabemaske!$B$6,Eingabemaske!$B$7) -> 0.5 | G3: =Eingabemaske!B$9/3600*(1/(F3*E3)) -> 0.059656972 | H3: =(999.876190383677+6.22004419638581*D3)/(1 + 0.00616745673016879*D3 + 7.35840514520081E-06*D3^2) -> 997.55016 | I3: =(4219.55641754205+135.362146222791*D3)/(1 + 0.0329211502786147*D3 + -7.31100234138406E-06*D3^2) -> 4182.2886 | J3: =(0.560797355231932+-0.0000820827204607212*D3)/(1 + -0.00367393421746487*D3 + 0.0000194205323988223*D3^2) -> 0.60372194 | K3: =1/(0.557121148602003 + 0.0198102138112735*D3 + 0.000112775616236414*D3^2) -> 0.93247539 | L3: =1/(556600.170819615 + 19992.6583096351*D3 + 100.520529013287*D3^2) -> 9.3492311e-07 | M3: =(-0.0000674250246477024+0.000016937531209182*D3)/(1 + 0.0165977768793498*D3 + -0.0000507449784446722*D3^2) -> 0.00023775707 | N3: =L3*H3*I3/J3 -> 6.4608205 | O3: =((1+(0.332/N3)^(11/20)))^(-20/11) -> 0.72285966 | P3: =((1+(0.492/N3)^(9/16)))^(-16/9) -> 0.68719275 | Q3: =((9.807*Eingabemaske!$B$5^3)/(L3)^2)*M3*C3*N3 -> 0 | R3: =H3*G3*F3*(1/K3*1000) -> 31910.13 | S3: =Q3*O3 -> 0 | T3: =IF(S3>7*10^4,(0.15*S3)^(1/3),(0.766*S3)^(1/5)) -> 0 | U3: =(0.825+0.387*(Q3*P3)^(1/6))^2 -> 0.680625 | V3: =0.664*SQRT(R3)*N3^(1/3) -> 220.91655 | W3: =(0.037*R3^0.8*N3)/(1+2.443*R3^(-0.1)*(N3^(2/3)-1)) -> 305.46491 | X3: =((SQRT(V3^2+W3^2))^3+T3^3)^(1/3) -> 376.97869 | Y3: =((SQRT(V3^2+W3^2))^3+U3^3)^(1/3) -> 376.97869 | Z3: =IF(G3=0,T3*J3/E3,X3*J3/F3) -> 455.18061 | AA3: =IF(G3=0,U3*J3/E3,Y3*J3/F3) -> 455.18061
B4: =Temperaturverlauf!F3-Temperaturverlauf!E3 -> 0.299144 | C4: =IF(B4<0,B4*-1,B4) -> 0.299144 | D4: =Temperaturverlauf!F3 -> 23 | E4: =Eingabemaske!$B$5 -> 0.745 | F4: =IF(Eingabemaske!$B$3="horizontal_Breite",Eingabemaske!$B$6,Eingabemaske!$B$7) -> 0.5 | G4: =Eingabemaske!B$9/3600*(1/(F4*E4)) -> 0.059656972 | H4: =(999.876190383677+6.22004419638581*D4)/(1 + 0.00616745673016879*D4 + 7.35840514520081E-06*D4^2) -> 997.55016 | I4: =(4219.55641754205+135.362146222791*D4)/(1 + 0.0329211502786147*D4 + -7.31100234138406E-06*D4^2) -> 4182.2886 | J4: =(0.560797355231932+-0.0000820827204607212*D4)/(1 + -0.00367393421746487*D4 + 0.0000194205323988223*D4^2) -> 0.60372194 | K4: =1/(0.557121148602003 + 0.0198102138112735*D4 + 0.000112775616236414*D4^2) -> 0.93247539 | L4: =1/(556600.170819615 + 19992.6583096351*D4 + 100.520529013287*D4^2) -> 9.3492311e-07 | M4: =(-0.0000674250246477024+0.000016937531209182*D4)/(1 + 0.0165977768793498*D4 + -0.0000507449784446722*D4^2) -> 0.00023775707 | N4: =L4*H4*I4/J4 -> 6.4608205 | O4: =((1+(0.332/N4)^(11/20)))^(-20/11) -> 0.72285966 | P4: =((1+(0.492/N4)^(9/16)))^(-16/9) -> 0.68719275 | Q4: =((9.807*Eingabemaske!$B$5^3)/(L4)^2)*M4*C4*N4 -> 2.13184e+09 | R4: =H4*G4*F4*(1/K4*1000) -> 31910.13 | S4: =Q4*O4 -> 1.5410212e+09 | T4: =IF(S4>7*10^4,(0.15*S4)^(1/3),(0.766*S4)^(1/5)) -> 613.71483 | U4: =(0.825+0.387*(Q4*P4)^(1/6))^2 -> 192.29838 | V4: =0.664*SQRT(R4)*N4^(1/3) -> 220.91655 | W4: =(0.037*R4^0.8*N4)/(1+2.443*R4^(-0.1)*(N4^(2/3)-1)) -> 305.46491 | X4: =((SQRT(V4^2+W4^2))^3+T4^3)^(1/3) -> 657.87403 | Y4: =((SQRT(V4^2+W4^2))^3+U4^3)^(1/3) -> 392.96985 | Z4: =IF(G4=0,T4*J4/E4,X4*J4/F4) -> 794.34597 | AA4: =IF(G4=0,U4*J4/E4,Y4*J4/F4) -> 474.48903
B5: =Temperaturverlauf!F4-Temperaturverlauf!E4 -> 0.58298832 | C5: =IF(B5<0,B5*-1,B5) -> 0.58298832 | D5: =Temperaturverlauf!F4 -> 22.989819 | E5: =Eingabemaske!$B$5 -> 0.745 | F5: =IF(Eingabemaske!$B$3="horizontal_Breite",Eingabemaske!$B$6,Eingabemaske!$B$7) -> 0.5 | G5: =Eingabemaske!B$9/3600*(1/(F5*E5)) -> 0.059656972 | H5: =(999.876190383677+6.22004419638581*D5)/(1 + 0.00616745673016879*D5 + 7.35840514520081E-06*D5^2) -> 997.55255 | I5: =(4219.55641754205+135.362146222791*D5)/(1 + 0.0329211502786147*D5 + -7.31100234138406E-06*D5^2) -> 4182.2939 | J5: =(0.560797355231932+-0.0000820827204607212*D5)/(1 + -0.00367393421746487*D5 + 0.0000194205323988223*D5^2) -> 0.60370438 | K5: =1/(0.557121148602003 + 0.0198102138112735*D5 + 0.000112775616236414*D5^2) -> 0.93269673 | L5: =1/(556600.170819615 + 19992.6583096351*D5 + 100.520529013287*D5^2) -> 9.3514222e-07 | M5: =(-0.0000674250246477024+0.000016937531209182*D5)/(1 + 0.0165977768793498*D5 + -0.0000507449784446722*D5^2) -> 0.00023765527 | N5: =L5*H5*I5/J5 -> 6.4625465 | O5: =((1+(0.332/N5)^(11/20)))^(-20/11) -> 0.72289122 | P5: =((1+(0.492/N5)^(9/16)))^(-16/9) -> 0.68722766 | Q5: =((9.807*Eingabemaske!$B$5^3)/(L5)^2)*M5*C5*N5 -> 4.1520316e+09 | R5: =H5*G5*F5*(1/K5*1000) -> 31902.634 | S5: =Q5*O5 -> 3.0014671e+09 | T5: =IF(S5>7*10^4,(0.15*S5)^(1/3),(0.766*S5)^(1/5)) -> 766.43433 | U5: =(0.825+0.387*(Q5*P5)^(1/6))^2 -> 237.15581 | V5: =0.664*SQRT(R5)*N5^(1/3) -> 220.91027 | W5: =(0.037*R5^0.8*N5)/(1+2.443*R5^(-0.1)*(N5^(2/3)-1)) -> 305.43213 | X5: =((SQRT(V5^2+W5^2))^3+T5^3)^(1/3) -> 795.69601 | Y5: =((SQRT(V5^2+W5^2))^3+U5^3)^(1/3) -> 405.95058 | Z5: =IF(G5=0,T5*J5/E5,X5*J5/F5) -> 960.73033 | AA5: =IF(G5=0,U5*J5/E5,Y5*J5/F5) -> 490.14829
B6: =Temperaturverlauf!F5-Temperaturverlauf!E5 -> 0.84625082 | C6: =IF(B6<0,B6*-1,B6) -> 0.84625082 | D6: =Temperaturverlauf!F5 -> 22.969205 | E6: =Eingabemaske!$B$5 -> 0.745 | F6: =IF(Eingabemaske!$B$3="horizontal_Breite",Eingabemaske!$B$6,Eingabemaske!$B$7) -> 0.5 | G6: =Eingabemaske!B$9/3600*(1/(F6*E6)) -> 0.059656972 | H6: =(999.876190383677+6.22004419638581*D6)/(1 + 0.00616745673016879*D6 + 7.35840514520081E-06*D6^2) -> 997.55741 | I6: =(4219.55641754205+135.362146222791*D6)/(1 + 0.0329211502786147*D6 + -7.31100234138406E-06*D6^2) -> 4182.3047 | J6: =(0.560797355231932+-0.0000820827204607212*D6)/(1 + -0.00367393421746487*D6 + 0.0000194205323988223*D6^2) -> 0.60366882 | K6: =1/(0.557121148602003 + 0.0198102138112735*D6 + 0.000112775616236414*D6^2) -> 0.93314513 | L6: =1/(556600.170819615 + 19992.6583096351*D6 + 100.520529013287*D6^2) -> 9.3558611e-07 | M6: =(-0.0000674250246477024+0.000016937531209182*D6)/(1 + 0.0165977768793498*D6 + -0.0000507449784446722*D6^2) -> 0.00023744909 | N6: =L6*H6*I6/J6 -> 6.4660431 | O6: =((1+(0.332/N6)^(11/20)))^(-20/11) -> 0.72295513 | P6: =((1+(0.492/N6)^(9/16)))^(-16/9) -> 0.68729837 | Q6: =((9.807*Eingabemaske!$B$5^3)/(L6)^2)*M6*C6*N6 -> 6.0192956e+09 | R6: =H6*G6*F6*(1/K6*1000) -> 31887.459 | S6: =Q6*O6 -> 4.3516806e+09 | T6: =IF(S6>7*10^4,(0.15*S6)^(1/3),(0.766*S6)^(1/5)) -> 867.45993 | U6: =(0.825+0.387*(Q6*P6)^(1/6))^2 -> 266.69342 | V6: =0.664*SQRT(R6)*N6^(1/3) -> 220.89755 | W6: =(0.037*R6^0.8*N6)/(1+2.443*R6^(-0.1)*(N6^(2/3)-1)) -> 305.36575 | X6: =((SQRT(V6^2+W6^2))^3+T6^3)^(1/3) -> 890.55415 | Y6: =((SQRT(V6^2+W6^2))^3+U6^3)^(1/3) -> 416.98373 | Z6: =IF(G6=0,T6*J6/E6,X6*J6/F6) -> 1075.1995 | AA6: =IF(G6=0,U6*J6/E6,Y6*J6/F6) -> 503.44015
B7: =Temperaturverlauf!F6-Temperaturverlauf!E6 -> 1.0844725 | C7: =IF(B7<0,B7*-1,B7) -> 1.0844725 | D7: =Temperaturverlauf!F6 -> 22.938557 | E7: =Eingabemaske!$B$5 -> 0.745 | F7: =IF(Eingabemaske!$B$3="horizontal_Breite",Eingabemaske!$B$6,Eingabemaske!$B$7) -> 0.5 | G7: =Eingabemaske!B$9/3600*(1/(F7*E7)) -> 0.059656972 | H7: =(999.876190383677+6.22004419638581*D7)/(1 + 0.00616745673016879*D7 + 7.35840514520081E-06*D7^2) -> 997.56461 | I7: =(4219.55641754205+135.362146222791*D7)/(1 + 0.0329211502786147*D7 + -7.31100234138406E-06*D7^2) -> 4182.3208 | J7: =(0.560797355231932+-0.0000820827204607212*D7)/(1 + -0.00367393421746487*D7 + 0.0000194205323988223*D7^2) -> 0.60361594 | K7: =1/(0.557121148602003 + 0.0198102138112735*D7 + 0.000112775616236414*D7^2) -> 0.93381245 | L7: =1/(556600.170819615 + 19992.6583096351*D7 + 100.520529013287*D7^2) -> 9.3624672e-07 | M7: =(-0.0000674250246477024+0.000016937531209182*D7)/(1 + 0.0165977768793498*D7 + -0.0000507449784446722*D7^2) -> 0.0002371424 | N7: =L7*H7*I7/J7 -> 6.4712472 | O7: =((1+(0.332/N7)^(11/20)))^(-20/11) -> 0.72305016 | P7: =((1+(0.492/N7)^(9/16)))^(-16/9) -> 0.68740351 | Q7: =((9.807*Eingabemaske!$B$5^3)/(L7)^2)*M7*C7*N7 -> 7.6991028e+09 | R7: =H7*G7*F7*(1/K7*1000) -> 31864.902 | S7: =Q7*O7 -> 5.5668375e+09 | T7: =IF(S7>7*10^4,(0.15*S7)^(1/3),(0.766*S7)^(1/5)) -> 941.6726 | U7: =(0.825+0.387*(Q7*P7)^(1/6))^2 -> 288.33638 | V7: =0.664*SQRT(R7)*N7^(1/3) -> 220.87863 | W7: =(0.037*R7^0.8*N7)/(1+2.443*R7^(-0.1)*(N7^(2/3)-1)) -> 305.26703 | X7: =((SQRT(V7^2+W7^2))^3+T7^3)^(1/3) -> 961.36719 | Y7: =((SQRT(V7^2+W7^2))^3+U7^3)^(1/3) -> 426.29121 | Z7: =IF(G7=0,T7*J7/E7,X7*J7/F7) -> 1160.5931 | AA7: =IF(G7=0,U7*J7/E7,Y7*J7/F7) -> 514.63234
B8: =Temperaturverlauf!F7-Temperaturverlauf!E7 -> 1.293789 | C8: =IF(B8<0,B8*-1,B8) -> 1.293789 | D8: =Temperaturverlauf!F7 -> 22.898611 | E8: =Eingabemaske!$B$5 -> 0.745 | F8: =IF(Eingabemaske!$B$3="horizontal_Breite",Eingabemaske!$B$6,Eingabemaske!$B$7) -> 0.5 | G8: =Eingabemaske!B$9/3600*(1/(F8*E8)) -> 0.059656972 | H8: =(999.876190383677+6.22004419638581*D8)/(1 + 0.00616745673016879*D8 + 7.35840514520081E-06*D8^2) -> 997.57399 | I8: =(4219.55641754205+135.362146222791*D8)/(1 + 0.0329211502786147*D8 + -7.31100234138406E-06*D8^2) -> 4182.3419 | J8: =(0.560797355231932+-0.0000820827204607212*D8)/(1 + -0.00367393421746487*D8 + 0.0000194205323988223*D8^2) -> 0.603547 | K8: =1/(0.557121148602003 + 0.0198102138112735*D8 + 0.000112775616236414*D8^2) -> 0.93468339 | L8: =1/(556600.170819615 + 19992.6583096351*D8 + 100.520529013287*D8^2) -> 9.371089e-07 | M8: =(-0.0000674250246477024+0.000016937531209182*D8)/(1 + 0.0165977768793498*D8 + -0.0000507449784446722*D8^2) -> 0.00023674239 | N8: =L8*H8*I8/J8 -> 6.4780399 | O8: =((1+(0.332/N8)^(11/20)))^(-20/11) -> 0.72317405 | P8: =((1+(0.492/N8)^(9/16)))^(-16/9) -> 0.68754058 | Q8: =((9.807*Eingabemaske!$B$5^3)/(L8)^2)*M8*C8*N8 -> 9.1623729e+09 | R8: =H8*G8*F8*(1/K8*1000) -> 31835.51 | S8: =Q8*O8 -> 6.6259904e+09 | T8: =IF(S8>7*10^4,(0.15*S8)^(1/3),(0.766*S8)^(1/5)) -> 997.96204 | U8: =(0.825+0.387*(Q8*P8)^(1/6))^2 -> 304.72573 | V8: =0.664*SQRT(R8)*N8^(1/3) -> 220.85396 | W8: =(0.037*R8^0.8*N8)/(1+2.443*R8^(-0.1)*(N8^(2/3)-1)) -> 305.13833 | X8: =((SQRT(V8^2+W8^2))^3+T8^3)^(1/3) -> 1015.5386 | Y8: =((SQRT(V8^2+W8^2))^3+U8^3)^(1/3) -> 433.99089 | Z8: =IF(G8=0,T8*J8/E8,X8*J8/F8) -> 1225.8505 | AA8: =IF(G8=0,U8*J8/E8,Y8*J8/F8) -> 523.8678
B9: =Temperaturverlauf!F8-Temperaturverlauf!E8 -> 1.4709259 | C9: =IF(B9<0,B9*-1,B9) -> 1.4709259 | D9: =Temperaturverlauf!F8 -> 22.850357 | E9: =Eingabemaske!$B$5 -> 0.745 | F9: =IF(Eingabemaske!$B$3="horizontal_Breite",Eingabemaske!$B$6,Eingabemaske!$B$7) -> 0.5 | G9: =Eingabemaske!B$9/3600*(1/(F9*E9)) -> 0.059656972 | H9: =(999.876190383677+6.22004419638581*D9)/(1 + 0.00616745673016879*D9 + 7.35840514520081E-06*D9^2) -> 997.5853 | I9: =(4219.55641754205+135.362146222791*D9)/(1 + 0.0329211502786147*D9 + -7.31100234138406E-06*D9^2) -> 4182.3675 | J9: =(0.560797355231932+-0.0000820827204607212*D9)/(1 + -0.00367393421746487*D9 + 0.0000194205323988223*D9^2) -> 0.60346369 | K9: =1/(0.557121148602003 + 0.0198102138112735*D9 + 0.000112775616236414*D9^2) -> 0.9357372 | L9: =1/(556600.170819615 + 19992.6583096351*D9 + 100.520529013287*D9^2) -> 9.3815212e-07 | M9: =(-0.0000674250246477024+0.000016937531209182*D9)/(1 + 0.0165977768793498*D9 + -0.0000507449784446722*D9^2) -> 0.00023625878 | N9: =L9*H9*I9/J9 -> 6.48626 | O9: =((1+(0.332/N9)^(11/20)))^(-20/11) -> 0.72332376 | P9: =((1+(0.492/N9)^(9/16)))^(-16/9) -> 0.68770622 | Q9: =((9.807*Eingabemaske!$B$5^3)/(L9)^2)*M9*C9*N9 -> 1.03856e+10 | R9: =H9*G9*F9*(1/K9*1000) -> 31800.018 | S9: =Q9*O9 -> 7.512151e+09 | T9: =IF(S9>7*10^4,(0.15*S9)^(1/3),(0.766*S9)^(1/5)) -> 1040.6033 | U9: =(0.825+0.387*(Q9*P9)^(1/6))^2 -> 317.12808 | V9: =0.664*SQRT(R9)*N9^(1/3) -> 220.82414 | W9: =(0.037*R9^0.8*N9)/(1+2.443*R9^(-0.1)*(N9^(2/3)-1)) -> 304.9828 | X9: =((SQRT(V9^2+W9^2))^3+T9^3)^(1/3) -> 1056.7835 | Y9: =((SQRT(V9^2+W9^2))^3+U9^3)^(1/3) -> 440.16144 | Z9: =IF(G9=0,T9*J9/E9,X9*J9/F9) -> 1275.461 | AA9: =IF(G9=0,U9*J9/E9,Y9*J9/F9) -> 531.24289
B10: =Temperaturverlauf!F9-Temperaturverlauf!E9 -> 1.6132204 | C10: =IF(B10<0,B10*-1,B10) -> 1.6132204 | D10: =Temperaturverlauf!F9 -> 22.794989 | E10: =Eingabemaske!$B$5 -> 0.745 | F10: =IF(Eingabemaske!$B$3="horizontal_Breite",Eingabemaske!$B$6,Eingabemaske!$B$7) -> 0.5 | G10: =Eingabemaske!B$9/3600*(1/(F10*E10)) -> 0.059656972 | H10: =(999.876190383677+6.22004419638581*D10)/(1 + 0.00616745673016879*D10 + 7.35840514520081E-06*D10^2) -> 997.59825 | I10: =(4219.55641754205+135.362146222791*D10)/(1 + 0.0329211502786147*D10 + -7.31100234138406E-06*D10^2) -> 4182.397 | J10: =(0.560797355231932+-0.0000820827204607212*D10)/(1 + -0.00367393421746487*D10 + 0.0000194205323988223*D10^2) -> 0.60336805 | K10: =1/(0.557121148602003 + 0.0198102138112735*D10 + 0.000112775616236414*D10^2) -> 0.93694874 | L10: =1/(556600.170819615 + 19992.6583096351*D10 + 100.520529013287*D10^2) -> 9.3935151e-07 | M10: =(-0.0000674250246477024+0.000016937531209182*D10)/(1 + 0.0165977768793498*D10 + -0.0000507449784446722*D10^2) -> 0.00023570332 | N10: =L10*H10*I10/J10 -> 6.4957119 | O10: =((1+(0.332/N10)^(11/20)))^(-20/11) -> 0.72349559 | P10: =((1+(0.492/N10)^(9/16)))^(-16/9) -> 0.68789635 | Q10: =((9.807*Eingabemaske!$B$5^3)/(L10)^2)*M10*C10*N10 -> 1.135102e+10 | R10: =H10*G10*F10*(1/K10*1000) -> 31759.31 | S10: =Q10*O10 -> 8.2124128e+09 | T10: =IF(S10>7*10^4,(0.15*S10)^(1/3),(0.766*S10)^(1/5)) -> 1071.9816 | U10: =(0.825+0.387*(Q10*P10)^(1/6))^2 -> 326.24865 | V10: =0.664*SQRT(R10)*N10^(1/3) -> 220.7899 | W10: =(0.037*R10^0.8*N10)/(1+2.443*R10^(-0.1)*(N10^(2/3)-1)) -> 304.80427 | X10: =((SQRT(V10^2+W10^2))^3+T10^3)^(1/3) -> 1087.2286 | Y10: =((SQRT(V10^2+W10^2))^3+U10^3)^(1/3) -> 444.86249 | Z10: =IF(G10=0,T10*J10/E10,X10*J10/F10) -> 1311.998 | AA10: =IF(G10=0,U10*J10/E10,Y10*J10/F10) -> 536.83162
B11: =Temperaturverlauf!F10-Temperaturverlauf!E10 -> 1.7186442 | C11: =IF(B11<0,B11*-1,B11) -> 1.7186442 | D11: =Temperaturverlauf!F10 -> 22.73386 | E11: =Eingabemaske!$B$5 -> 0.745 | F11: =IF(Eingabemaske!$B$3="horizontal_Breite",Eingabemaske!$B$6,Eingabemaske!$B$7) -> 0.5 | G11: =Eingabemaske!B$9/3600*(1/(F11*E11)) -> 0.059656972 | H11: =(999.876190383677+6.22004419638581*D11)/(1 + 0.00616745673016879*D11 + 7.35840514520081E-06*D11^2) -> 997.6125 | I11: =(4219.55641754205+135.362146222791*D11)/(1 + 0.0329211502786147*D11 + -7.31100234138406E-06*D11^2) -> 4182.4297 | J11: =(0.560797355231932+-0.0000820827204607212*D11)/(1 + -0.00367393421746487*D11 + 0.0000194205323988223*D11^2) -> 0.60326241 | K11: =1/(0.557121148602003 + 0.0198102138112735*D11 + 0.000112775616236414*D11^2) -> 0.93828926 | L11: =1/(556600.170819615 + 19992.6583096351*D11 + 100.520529013287*D11^2) -> 9.4067861e-07 | M11: =(-0.0000674250246477024+0.000016937531209182*D11)/(1 + 0.0165977768793498*D11 + -0.0000507449784446722*D11^2) -> 0.00023508937 | N11: =L11*H11*I11/J11 -> 6.506172 | O11: =((1+(0.332/N11)^(11/20)))^(-20/11) -> 0.72368538 | P11: =((1+(0.492/N11)^(9/16)))^(-16/9) -> 0.68810635 | Q11: =((9.807*Eingabemaske!$B$5^3)/(L11)^2)*M11*C11*N11 -> 1.2046669e+10 | R11: =H11*G11*F11*(1/K11*1000) -> 31714.389 | S11: =Q11*O11 -> 8.717998e+09 | T11: =IF(S11>7*10^4,(0.15*S11)^(1/3),(0.766*S11)^(1/5)) -> 1093.5434 | U11: =(0.825+0.387*(Q11*P11)^(1/6))^2 -> 332.51418 | V11: =0.664*SQRT(R11)*N11^(1/3) -> 220.75206 | W11: =(0.037*R11^0.8*N11)/(1+2.443*R11^(-0.1)*(N11^(2/3)-1)) -> 304.60706 | X11: =((SQRT(V11^2+W11^2))^3+T11^3)^(1/3) -> 1108.1859 | Y11: =((SQRT(V11^2+W11^2))^3+U11^3)^(1/3) -> 448.14303 | Z11: =IF(G11=0,T11*J11/E11,X11*J11/F11) -> 1337.0538 | AA11: =IF(G11=0,U11*J11/E11,Y11*J11/F11) -> 540.69569
B12: =Temperaturverlauf!F11-Temperaturverlauf!E11 -> 1.7858218 | C12: =IF(B12<0,B12*-1,B12) -> 1.7858218 | D12: =Temperaturverlauf!F11 -> 22.668446 | E12: =Eingabemaske!$B$5 -> 0.745 | F12: =IF(Eingabemaske!$B$3="horizontal_Breite",Eingabemaske!$B$6,Eingabemaske!$B$7) -> 0.5 | G12: =Eingabemaske!B$9/3600*(1/(F12*E12)) -> 0.059656972 | H12: =(999.876190383677+6.22004419638581*D12)/(1 + 0.00616745673016879*D12 + 7.35840514520081E-06*D12^2) -> 997.62772 | I12: =(4219.55641754205+135.362146222791*D12)/(1 + 0.0329211502786147*D12 + -7.31100234138406E-06*D12^2) -> 4182.465 | J12: =(0.560797355231932+-0.0000820827204607212*D12)/(1 + -0.00367393421746487*D12 + 0.0000194205323988223*D12^2) -> 0.60314931 | K12: =1/(0.557121148602003 + 0.0198102138112735*D12 + 0.000112775616236414*D12^2) -> 0.9397272 | L12: =1/(556600.170819615 + 19992.6583096351*D12 + 100.520529013287*D12^2) -> 9.4210218e-07 | M12: =(-0.0000674250246477024+0.000016937531209182*D12)/(1 + 0.0165977768793498*D12 + -0.0000507449784446722*D12^2) -> 0.00023443157 | N12: =L12*H12*I12/J12 -> 6.5173944 | O12: =((1+(0.332/N12)^(11/20)))^(-20/11) -> 0.72388855 | P12: =((1+(0.492/N12)^(9/16)))^(-16/9) -> 0.68833118 | Q12: =((9.807*Eingabemaske!$B$5^3)/(L12)^2)*M12*C12*N12 -> 1.2466289e+10 | R12: =H12*G12*F12*(1/K12*1000) -> 31666.344 | S12: =Q12*O12 -> 9.0242039e+09 | T12: =IF(S12>7*10^4,(0.15*S12)^(1/3),(0.766*S12)^(1/5)) -> 1106.1993 | U12: =(0.825+0.387*(Q12*P12)^(1/6))^2 -> 336.19281 | V12: =0.664*SQRT(R12)*N12^(1/3) -> 220.71154 | W12: =(0.037*R12^0.8*N12)/(1+2.443*R12^(-0.1)*(N12^(2/3)-1)) -> 304.39592 | X12: =((SQRT(V12^2+W12^2))^3+T12^3)^(1/3) -> 1120.4932 | Y12: =((SQRT(V12^2+W12^2))^3+U12^3)^(1/3) -> 450.04551 | Z12: =IF(G12=0,T12*J12/E12,X12*J12/F12) -> 1351.6494 | AA12: =IF(G12=0,U12*J12/E12,Y12*J12/F12) -> 542.88927
B13: =Temperaturverlauf!F12-Temperaturverlauf!E12 -> 1.8140406 | C13: =IF(B13<0,B13*-1,B13) -> 1.8140406 | D13: =Temperaturverlauf!F12 -> 22.600302 | E13: =Eingabemaske!$B$5 -> 0.745 | F13: =IF(Eingabemaske!$B$3="horizontal_Breite",Eingabemaske!$B$6,Eingabemaske!$B$7) -> 0.5 | G13: =Eingabemaske!B$9/3600*(1/(F13*E13)) -> 0.059656972 | H13: =(999.876190383677+6.22004419638581*D13)/(1 + 0.00616745673016879*D13 + 7.35840514520081E-06*D13^2) -> 997.64352 | I13: =(4219.55641754205+135.362146222791*D13)/(1 + 0.0329211502786147*D13 + -7.31100234138406E-06*D13^2) -> 4182.502 | J13: =(0.560797355231932+-0.0000820827204607212*D13)/(1 + -0.00367393421746487*D13 + 0.0000194205323988223*D13^2) -> 0.60303141 | K13: =1/(0.557121148602003 + 0.0198102138112735*D13 + 0.000112775616236414*D13^2) -> 0.94122894 | L13: =1/(556600.170819615 + 19992.6583096351*D13 + 100.520529013287*D13^2) -> 9.4358894e-07 | M13: =(-0.0000674250246477024+0.000016937531209182*D13)/(1 + 0.0165977768793498*D13 + -0.0000507449784446722*D13^2) -> 0.00023374542 | N13: =L13*H13*I13/J13 -> 6.529117 | O13: =((1+(0.332/N13)^(11/20)))^(-20/11) -> 0.7241003 | P13: =((1+(0.492/N13)^(9/16)))^(-16/9) -> 0.68856552 | Q13: =((9.807*Eingabemaske!$B$5^3)/(L13)^2)*M13*C13*N13 -> 1.2609094e+10 | R13: =H13*G13*F13*(1/K13*1000) -> 31616.321 | S13: =Q13*O13 -> 9.1302491e+09 | T13: =IF(S13>7*10^4,(0.15*S13)^(1/3),(0.766*S13)^(1/5)) -> 1110.5155 | U13: =(0.825+0.387*(Q13*P13)^(1/6))^2 -> 337.45065 | V13: =0.664*SQRT(R13)*N13^(1/3) -> 220.66929 | W13: =(0.037*R13^0.8*N13)/(1+2.443*R13^(-0.1)*(N13^(2/3)-1)) -> 304.17584 | X13: =((SQRT(V13^2+W13^2))^3+T13^3)^(1/3) -> 1124.6779 | Y13: =((SQRT(V13^2+W13^2))^3+U13^3)^(1/3) -> 450.60777 | Z13: =IF(G13=0,T13*J13/E13,X13*J13/F13) -> 1356.4322 | AA13: =IF(G13=0,U13*J13/E13,Y13*J13/F13) -> 543.46127
B14: =Temperaturverlauf!F13-Temperaturverlauf!E13 -> 1.8032518 | C14: =IF(B14<0,B14*-1,B14) -> 1.8032518 | D14: =Temperaturverlauf!F13 -> 22.531028 | E14: =Eingabemaske!$B$5 -> 0.745 | F14: =IF(Eingabemaske!$B$3="horizontal_Breite",Eingabemaske!$B$6,Eingabemaske!$B$7) -> 0.5 | G14: =Eingabemaske!B$9/3600*(1/(F14*E14)) -> 0.059656972 | H14: =(999.876190383677+6.22004419638581*D14)/(1 + 0.00616745673016879*D14 + 7.35840514520081E-06*D14^2) -> 997.65954 | I14: =(4219.55641754205+135.362146222791*D14)/(1 + 0.0329211502786147*D14 + -7.31100234138406E-06*D14^2) -> 4182.5399 | J14: =(0.560797355231932+-0.0000820827204607212*D14)/(1 + -0.00367393421746487*D14 + 0.0000194205323988223*D14^2) -> 0.60291149 | K14: =1/(0.557121148602003 + 0.0198102138112735*D14 + 0.000112775616236414*D14^2) -> 0.94275956 | L14: =1/(556600.170819615 + 19992.6583096351*D14 + 100.520529013287*D14^2) -> 9.4510431e-07 | M14: =(-0.0000674250246477024+0.000016937531209182*D14)/(1 + 0.0165977768793498*D14 + -0.0000507449784446722*D14^2) -> 0.00023304697 | N14: =L14*H14*I14/J14 -> 6.5410676 | O14: =((1+(0.332/N14)^(11/20)))^(-20/11) -> 0.72431566 | P14: =((1+(0.492/N14)^(9/16)))^(-16/9) -> 0.68880385 | Q14: =((9.807*Eingabemaske!$B$5^3)/(L14)^2)*M14*C14*N14 -> 1.2479408e+10 | R14: =H14*G14*F14*(1/K14*1000) -> 31565.497 | S14: =Q14*O14 -> 9.0390304e+09 | T14: =IF(S14>7*10^4,(0.15*S14)^(1/3),(0.766*S14)^(1/5)) -> 1106.8048 | U14: =(0.825+0.387*(Q14*P14)^(1/6))^2 -> 336.37889 | V14: =0.664*SQRT(R14)*N14^(1/3) -> 220.6263 | W14: =(0.037*R14^0.8*N14)/(1+2.443*R14^(-0.1)*(N14^(2/3)-1)) -> 303.95199 | X14: =((SQRT(V14^2+W14^2))^3+T14^3)^(1/3) -> 1121.0374 | Y14: =((SQRT(V14^2+W14^2))^3+U14^3)^(1/3) -> 449.86389 | Z14: =IF(G14=0,T14*J14/E14,X14*J14/F14) -> 1351.7726 | AA14: =IF(G14=0,U14*J14/E14,Y14*J14/F14) -> 542.45622
... B339: =Temperaturverlauf!F338-Temperaturverlauf!E338 -> 10.235432 | C339: =IF(B339<0,B339*-1,B339) -> 10.235432 | D339: =Temperaturverlauf!F338 -> 33.235432 | E339: =Eingabemaske!$B$5 -> 0.745 | F339: =IF(Eingabemaske!$B$3="horizontal_Breite",Eingabemaske!$B$6,Eingabemaske!$B$7) -> 0.5 | G339: =Eingabemaske!B$9/3600*(1/(F339*E339)) -> 0.059656972 | H339: =(999.876190383677+6.22004419638581*D339)/(1 + 0.00616745673016879*D339 + 7.35840514520081E-06*D339^2) -> 994.63848 | I339: =(4219.55641754205+135.362146222791*D339)/(1 + 0.0329211502786147*D339 + -7.31100234138406E-06*D339^2) -> 4179.3245 | J339: =(0.560797355231932+-0.0000820827204607212*D339)/(1 + -0.00367393421746487*D339 + 0.0000194205323988223*D339^2) -> 0.62052722 | K339: =1/(0.557121148602003 + 0.0198102138112735*D339 + 0.000112775616236414*D339^2) -> 0.74621664 | L339: =1/(556600.170819615 + 19992.6583096351*D339 + 100.520529013287*D339^2) -> 7.5069486e-07 | M339: =(-0.0000674250246477024+0.000016937531209182*D339)/(1 + 0.0165977768793498*D339 + -0.0000507449784446722*D339^2) -> 0.00033130998 | N339: =L339*H339*I339/J339 -> 5.0289111 | O339: =((1+(0.332/N339)^(11/20)))^(-20/11) -> 0.69216331 | P339: =((1+(0.492/N339)^(9/16)))^(-16/9) -> 0.65337453 | Q339: =((9.807*Eingabemaske!$B$5^3)/(L339)^2)*M339*C339*N339 -> 1.2271361e+11 | R339: =H339*G339*F339*(1/K339*1000) -> 39758.642 | S339: =Q339*O339 -> 8.493786e+10 | T339: =IF(S339>7*10^4,(0.15*S339)^(1/3),(0.766*S339)^(1/5)) -> 2335.5949 | U339: =(0.825+0.387*(Q339*P339)^(1/6))^2 -> 688.42502 | V339: =0.664*SQRT(R339)*N339^(1/3) -> 226.83418 | W339: =(0.037*R339^0.8*N339)/(1+2.443*R339^(-0.1)*(N339^(2/3)-1)) -> 337.04786 | X339: =((SQRT(V339^2+W339^2))^3+T339^3)^(1/3) -> 2339.6853 | Y339: =((SQRT(V339^2+W339^2))^3+U339^3)^(1/3) -> 732.68259 | Z339: =IF(G339=0,T339*J339/E339,X339*J339/F339) -> 2903.6769 | AA339: =IF(G339=0,U339*J339/E339,Y339*J339/F339) -> 909.29897

Sheet Luft
A1: StoffdatenLuft
C2: dt in [K] | D2: T in [°C] | E2: h in [m] | F2: d in [m] | G2: v in [m/s] | H2: ρ in [kg/m³] | I2: cp in [J/kg *k] | J2: λ in [W/m*K] | K2: ƞ in [mPa*s] | L2: ν in [m²/s] | M2: β in [1/k] | N2: Prandl | O2: f(Pr) | P2: f(Pr) | Q2: Rayleigh | R2: Reynolds | S2: Ra * f(Pr) | T2: Nusseltfrei h. | U2: Nusseltfrei v. | V2: Nusselt laminar | W2: Nusselt turb | X2: Nusselt mix h | Y2: Nusselt mix v | Z2: αhorizontal in [W/m²*K] | AA2: αvertikal in [W/m²*K]
B3: =Temperaturverlauf!F2-Temperaturverlauf!E2 -> 0 | C3: =IF(B3<0,B3*-1,B3) -> 0 | D3: =Temperaturverlauf!E2 -> 23 | E3: =Eingabemaske!$B$5 -> 0.745 | F3: =IF(Eingabemaske!$B$4="horizontal_Breite",Eingabemaske!$B$6,Eingabemaske!$B$7) -> 0.5 | G3: =Eingabemaske!B$8/3600*(1/(Eingabemaske!B$11*Eingabemaske!B$10)) -> 0.017361111 | H3: =1/(0.773330490472441 + 0.00283985410776385*D3 + 4.70956808663608E-09*D3^2) -> 1.1923931 | I3: =1/(0.00099434309240287 + -1.47552070405302E-08*D3 + -3.88577798747135E-10*D3^2) -> 1006.2405 | J3: =0.0243688671328671 + 0.0000746503496503496*D3 -> 0.026085825 | K3: =0.0172256351981352 + 0.0000485013986013987*D3 -> 0.018341167 | L3: =1/(75096.6870491945 + -483.306616171698*D3 + 1.8979292970075*D3^2) -> 1.5388252e-05 | M3: =1/(272.185875471518 + 1.00695372308461*D3 + -0.0000258090290708686*D3^2) -> 0.003386018 | N3: =L3*H3*I3/J3 -> 0.7077925 | O3: =((1+(0.332/N3)^(11/20)))^(-20/11) -> 0.39816967 | P3: =((1+(0.492/N3)^(9/16)))^(-16/9) -> 0.34655674 | Q3: =((9.807*Eingabemaske!$B$5^3)/(L3)^2)*M3*C3*N3 -> 0 | R3: =H3*G3*F3*(1/K3*1000) -> 564.3389 | S3: =Q3*O3 -> 0 | T3: =IF(S3>7*10^4,(0.15*S3)^(1/3),(0.766*S3)^(1/5)) -> 0 | U3: =(0.825+0.387*(Q3*P3)^(1/6))^2 -> 0.680625 | V3: =0.664*SQRT(R3)*N3^(1/3) -> 14.057456 | W3: =(0.037*R3^0.8*N3)/(1+2.443*R3^(-0.1)*(N3^(2/3)-1)) -> 5.6769798 | X3: =((SQRT(V3^2+W3^2))^3+T3^3)^(1/3) -> 15.16048 | Y3: =((SQRT(V3^2+W3^2))^3+U3^3)^(1/3) -> 15.160938 | Z3: =IF(G3=0,T3*J3/E3,X3*J3/F3) -> 0.79094728 | AA3: =IF(G3=0,U3*J3/E3,Y3*J3/F3) -> 0.79097113
B4: =Temperaturverlauf!F3-Temperaturverlauf!E3 -> 0.299144 | C4: =IF(B4<0,B4*-1,B4) -> 0.299144 | D4: =Temperaturverlauf!E3 -> 22.700856 | E4: =Eingabemaske!$B$5 -> 0.745 | F4: =IF(Eingabemaske!$B$4="horizontal_Breite",Eingabemaske!$B$6,Eingabemaske!$B$7) -> 0.5 | G4: =Eingabemaske!B$8/3600*(1/(Eingabemaske!B$11*Eingabemaske!B$10)) -> 0.017361111 | H4: =1/(0.773330490472441 + 0.00283985410776385*D4 + 4.70956808663608E-09*D4^2) -> 1.1936022 | I4: =1/(0.00099434309240287 + -1.47552070405302E-08*D4 + -3.88577798747135E-10*D4^2) -> 1006.2307 | J4: =0.0243688671328671 + 0.0000746503496503496*D4 -> 0.026063494 | K4: =0.0172256351981352 + 0.0000485013986013987*D4 -> 0.018326658 | L4: =1/(75096.6870491945 + -483.306616171698*D4 + 1.8979292970075*D4^2) -> 1.5360211e-05 | M4: =1/(272.185875471518 + 1.00695372308461*D4 + -0.0000258090290708686*D4^2) -> 0.003389471 | N4: =L4*H4*I4/J4 -> 0.70781822 | O4: =((1+(0.332/N4)^(11/20)))^(-20/11) -> 0.39817542 | P4: =((1+(0.492/N4)^(9/16)))^(-16/9) -> 0.3465624 | Q4: =((9.807*Eingabemaske!$B$5^3)/(L4)^2)*M4*C4*N4 -> 12335154 | R4: =H4*G4*F4*(1/K4*1000) -> 565.35841 | S4: =Q4*O4 -> 4911555.1 | T4: =IF(S4>7*10^4,(0.15*S4)^(1/3),(0.766*S4)^(1/5)) -> 90.317123 | U4: =(0.825+0.387*(Q4*P4)^(1/6))^2 -> 33.122427 | V4: =0.664*SQRT(R4)*N4^(1/3) -> 14.070318 | W4: =(0.037*R4^0.8*N4)/(1+2.443*R4^(-0.1)*(N4^(2/3)-1)) -> 5.6848229 | X4: =((SQRT(V4^2+W4^2))^3+T4^3)^(1/3) -> 90.459706 | Y4: =((SQRT(V4^2+W4^2))^3+U4^3)^(1/3) -> 34.151915 | Z4: =IF(G4=0,T4*J4/E4,X4*J4/F4) -> 4.715392 | AA4: =IF(G4=0,U4*J4/E4,Y4*J4/F4) -> 1.7802365
B5: =Temperaturverlauf!F4-Temperaturverlauf!E4 -> 0.58298832 | C5: =IF(B5<0,B5*-1,B5) -> 0.58298832 | D5: =Temperaturverlauf!E4 -> 22.40683 | E5: =Eingabemaske!$B$5 -> 0.745 | F5: =IF(Eingabemaske!$B$4="horizontal_Breite",Eingabemaske!$B$6,Eingabemaske!$B$7) -> 0.5 | G5: =Eingabemaske!B$8/3600*(1/(Eingabemaske!B$11*Eingabemaske!B$10)) -> 0.017361111 | H5: =1/(0.773330490472441 + 0.00283985410776385*D5 + 4.70956808663608E-09*D5^2) -> 1.1947931 | I5: =1/(0.00099434309240287 + -1.47552070405302E-08*D5 + -3.88577798747135E-10*D5^2) -> 1006.2211 | J5: =0.0243688671328671 + 0.0000746503496503496*D5 -> 0.026041545 | K5: =0.0172256351981352 + 0.0000485013986013987*D5 -> 0.018312398 | L5: =1/(75096.6870491945 + -483.306616171698*D5 + 1.8979292970075*D5^2) -> 1.5332672e-05 | M5: =1/(272.185875471518 + 1.00695372308461*D5 + -0.0000258090290708686*D5^2) -> 0.0033928719 | N5: =L5*H5*I5/J5 -> 0.70784347 | O5: =((1+(0.332/N5)^(11/20)))^(-20/11) -> 0.39818107 | P5: =((1+(0.492/N5)^(9/16)))^(-16/9) -> 0.34656795 | Q5: =((9.807*Eingabemaske!$B$5^3)/(L5)^2)*M5*C5*N5 -> 24150929 | R5: =H5*G5*F5*(1/K5*1000) -> 566.36319 | S5: =Q5*O5 -> 9616442.7 | T5: =IF(S5>7*10^4,(0.15*S5)^(1/3),(0.766*S5)^(1/5)) -> 112.98876 | U5: =(0.825+0.387*(Q5*P5)^(1/6))^2 -> 40.18795 | V5: =0.664*SQRT(R5)*N5^(1/3) -> 14.082983 | W5: =(0.037*R5^0.8*N5)/(1+2.443*R5^(-0.1)*(N5^(2/3)-1)) -> 5.6925494 | X5: =((SQRT(V5^2+W5^2))^3+T5^3)^(1/3) -> 113.0802 | Y5: =((SQRT(V5^2+W5^2))^3+U5^3)^(1/3) -> 40.898674 | Z5: =IF(G5=0,T5*J5/E5,X5*J5/F5) -> 5.889566 | AA5: =IF(G5=0,U5*J5/E5,Y5*J5/F5) -> 2.1301293
B6: =Temperaturverlauf!F5-Temperaturverlauf!E5 -> 0.84625082 | C6: =IF(B6<0,B6*-1,B6) -> 0.84625082 | D6: =Temperaturverlauf!E5 -> 22.122954 | E6: =Eingabemaske!$B$5 -> 0.745 | F6: =IF(Eingabemaske!$B$4="horizontal_Breite",Eingabemaske!$B$6,Eingabemaske!$B$7) -> 0.5 | G6: =Eingabemaske!B$8/3600*(1/(Eingabemaske!B$11*Eingabemaske!B$10)) -> 0.017361111 | H6: =1/(0.773330490472441 + 0.00283985410776385*D6 + 4.70956808663608E-09*D6^2) -> 1.1959451 | I6: =1/(0.00099434309240287 + -1.47552070405302E-08*D6 + -3.88577798747135E-10*D6^2) -> 1006.2119 | J6: =0.0243688671328671 + 0.0000746503496503496*D6 -> 0.026020353 | K6: =0.0172256351981352 + 0.0000485013986013987*D6 -> 0.018298629 | L6: =1/(75096.6870491945 + -483.306616171698*D6 + 1.8979292970075*D6^2) -> 1.5306104e-05 | M6: =1/(272.185875471518 + 1.00695372308461*D6 + -0.0000258090290708686*D6^2) -> 0.0033961619 | N6: =L6*H6*I6/J6 -> 0.70786782 | O6: =((1+(0.332/N6)^(11/20)))^(-20/11) -> 0.39818651 | P6: =((1+(0.492/N6)^(9/16)))^(-16/9) -> 0.3465733 | Q6: =((9.807*Eingabemaske!$B$5^3)/(L6)^2)*M6*C6*N6 -> 35213997 | R6: =H6*G6*F6*(1/K6*1000) -> 567.33584 | S6: =Q6*O6 -> 14021738 | T6: =IF(S6>7*10^4,(0.15*S6)^(1/3),(0.766*S6)^(1/5)) -> 128.12416 | U6: =(0.825+0.387*(Q6*P6)^(1/6))^2 -> 44.851618 | V6: =0.664*SQRT(R6)*N6^(1/3) -> 14.095232 | W6: =(0.037*R6^0.8*N6)/(1+2.443*R6^(-0.1)*(N6^(2/3)-1)) -> 5.700026 | X6: =((SQRT(V6^2+W6^2))^3+T6^3)^(1/3) -> 128.19549 | Y6: =((SQRT(V6^2+W6^2))^3+U6^3)^(1/3) -> 45.426598 | Z6: =IF(G6=0,T6*J6/E6,X6*J6/F6) -> 6.6713839 | AA6: =IF(G6=0,U6*J6/E6,Y6*J6/F6) -> 2.3640322
B7: =Temperaturverlauf!F6-Temperaturverlauf!E6 -> 1.0844725 | C7: =IF(B7<0,B7*-1,B7) -> 1.0844725 | D7: =Temperaturverlauf!E6 -> 21.854084 | E7: =Eingabemaske!$B$5 -> 0.745 | F7: =IF(Eingabemaske!$B$4="horizontal_Breite",Eingabemaske!$B$6,Eingabemaske!$B$7) -> 0.5 | G7: =Eingabemaske!B$8/3600*(1/(Eingabemaske!B$11*Eingabemaske!B$10)) -> 0.017361111 | H7: =1/(0.773330490472441 + 0.00283985410776385*D7 + 4.70956808663608E-09*D7^2) -> 1.1970383 | I7: =1/(0.00099434309240287 + -1.47552070405302E-08*D7 + -3.88577798747135E-10*D7^2) -> 1006.2032 | J7: =0.0243688671328671 + 0.0000746503496503496*D7 -> 0.026000282 | K7: =0.0172256351981352 + 0.0000485013986013987*D7 -> 0.018285589 | L7: =1/(75096.6870491945 + -483.306616171698*D7 + 1.8979292970075*D7^2) -> 1.528096e-05 | M7: =1/(272.185875471518 + 1.00695372308461*D7 + -0.0000258090290708686*D7^2) -> 0.003399284 | N7: =L7*H7*I7/J7 -> 0.70789087 | O7: =((1+(0.332/N7)^(11/20)))^(-20/11) -> 0.39819166 | P7: =((1+(0.492/N7)^(9/16)))^(-16/9) -> 0.34657837 | Q7: =((9.807*Eingabemaske!$B$5^3)/(L7)^2)*M7*C7*N7 -> 45318552 | R7: =H7*G7*F7*(1/K7*1000) -> 568.25939 | S7: =Q7*O7 -> 18045470 | T7: =IF(S7>7*10^4,(0.15*S7)^(1/3),(0.766*S7)^(1/5)) -> 139.36482 | U7: =(0.825+0.387*(Q7*P7)^(1/6))^2 -> 48.292919 | V7: =0.664*SQRT(R7)*N7^(1/3) -> 14.106854 | W7: =(0.037*R7^0.8*N7)/(1+2.443*R7^(-0.1)*(N7^(2/3)-1)) -> 5.7071226 | X7: =((SQRT(V7^2+W7^2))^3+T7^3)^(1/3) -> 139.42527 | Y7: =((SQRT(V7^2+W7^2))^3+U7^3)^(1/3) -> 48.791427 | Z7: =IF(G7=0,T7*J7/E7,X7*J7/F7) -> 7.2501928 | AA7: =IF(G7=0,U7*J7/E7,Y7*J7/F7) -> 2.5371818
B8: =Temperaturverlauf!F7-Temperaturverlauf!E7 -> 1.293789 | C8: =IF(B8<0,B8*-1,B8) -> 1.293789 | D8: =Temperaturverlauf!E7 -> 21.604822 | E8: =Eingabemaske!$B$5 -> 0.745 | F8: =IF(Eingabemaske!$B$4="horizontal_Breite",Eingabemaske!$B$6,Eingabemaske!$B$7) -> 0.5 | G8: =Eingabemaske!B$8/3600*(1/(Eingabemaske!B$11*Eingabemaske!B$10)) -> 0.017361111 | H8: =1/(0.773330490472441 + 0.00283985410776385*D8 + 4.70956808663608E-09*D8^2) -> 1.1980536 | I8: =1/(0.00099434309240287 + -1.47552070405302E-08*D8 + -3.88577798747135E-10*D8^2) -> 1006.1952 | J8: =0.0243688671328671 + 0.0000746503496503496*D8 -> 0.025981675 | K8: =0.0172256351981352 + 0.0000485013986013987*D8 -> 0.018273499 | L8: =1/(75096.6870491945 + -483.306616171698*D8 + 1.8979292970075*D8^2) -> 1.5257665e-05 | M8: =1/(272.185875471518 + 1.00695372308461*D8 + -0.0000258090290708686*D8^2) -> 0.0034021835 | N8: =L8*H8*I8/J8 -> 0.70791224 | O8: =((1+(0.332/N8)^(11/20)))^(-20/11) -> 0.39819644 | P8: =((1+(0.492/N8)^(9/16)))^(-16/9) -> 0.34658307 | Q8: =((9.807*Eingabemaske!$B$5^3)/(L8)^2)*M8*C8*N8 -> 54278698 | R8: =H8*G8*F8*(1/K8*1000) -> 569.11762 | S8: =Q8*O8 -> 21613584 | T8: =IF(S8>7*10^4,(0.15*S8)^(1/3),(0.766*S8)^(1/5)) -> 148.00374 | U8: =(0.825+0.387*(Q8*P8)^(1/6))^2 -> 50.926418 | V8: =0.664*SQRT(R8)*N8^(1/3) -> 14.117644 | W8: =(0.037*R8^0.8*N8)/(1+2.443*R8^(-0.1)*(N8^(2/3)-1)) -> 5.7137149 | X8: =((SQRT(V8^2+W8^2))^3+T8^3)^(1/3) -> 148.05748 | Y8: =((SQRT(V8^2+W8^2))^3+U8^3)^(1/3) -> 51.376472 | Z8: =IF(G8=0,T8*J8/E8,X8*J8/F8) -> 7.6935623 | AA8: =IF(G8=0,U8*J8/E8,Y8*J8/F8) -> 2.6696936
B9: =Temperaturverlauf!F8-Temperaturverlauf!E8 -> 1.4709259 | C9: =IF(B9<0,B9*-1,B9) -> 1.4709259 | D9: =Temperaturverlauf!E8 -> 21.379431 | E9: =Eingabemaske!$B$5 -> 0.745 | F9: =IF(Eingabemaske!$B$4="horizontal_Breite",Eingabemaske!$B$6,Eingabemaske!$B$7) -> 0.5 | G9: =Eingabemaske!B$8/3600*(1/(Eingabemaske!B$11*Eingabemaske!B$10)) -> 0.017361111 | H9: =1/(0.773330490472441 + 0.00283985410776385*D9 + 4.70956808663608E-09*D9^2) -> 1.198973 | I9: =1/(0.00099434309240287 + -1.47552070405302E-08*D9 + -3.88577798747135E-10*D9^2) -> 1006.188 | J9: =0.0243688671328671 + 0.0000746503496503496*D9 -> 0.025964849 | K9: =0.0172256351981352 + 0.0000485013986013987*D9 -> 0.018262567 | L9: =1/(75096.6870491945 + -483.306616171698*D9 + 1.8979292970075*D9^2) -> 1.5236616e-05 | M9: =1/(272.185875471518 + 1.00695372308461*D9 + -0.0000258090290708686*D9^2) -> 0.0034048096 | N9: =L9*H9*I9/J9 -> 0.70793157 | O9: =((1+(0.332/N9)^(11/20)))^(-20/11) -> 0.39820076 | P9: =((1+(0.492/N9)^(9/16)))^(-16/9) -> 0.34658732 | Q9: =((9.807*Eingabemaske!$B$5^3)/(L9)^2)*M9*C9*N9 -> 61930257 | R9: =H9*G9*F9*(1/K9*1000) -> 569.89534 | S9: =Q9*O9 -> 24660676 | T9: =IF(S9>7*10^4,(0.15*S9)^(1/3),(0.766*S9)^(1/5)) -> 154.65551 | U9: =(0.825+0.387*(Q9*P9)^(1/6))^2 -> 52.948069 | V9: =0.664*SQRT(R9)*N9^(1/3) -> 14.127416 | W9: =(0.037*R9^0.8*N9)/(1+2.443*R9^(-0.1)*(N9^(2/3)-1)) -> 5.7196869 | X9: =((SQRT(V9^2+W9^2))^3+T9^3)^(1/3) -> 154.70484 | Y9: =((SQRT(V9^2+W9^2))^3+U9^3)^(1/3) -> 53.365734 | Z9: =IF(G9=0,T9*J9/E9,X9*J9/F9) -> 8.0337757 | AA9: =IF(G9=0,U9*J9/E9,Y9*J9/F9) -> 2.7712665
B10: =Temperaturverlauf!F9-Temperaturverlauf!E9 -> 1.6132204 | C10: =IF(B10<0,B10*-1,B10) -> 1.6132204 | D10: =Temperaturverlauf!E9 -> 21.181768 | E10: =Eingabemaske!$B$5 -> 0.745 | F10: =IF(Eingabemaske!$B$4="horizontal_Breite",Eingabemaske!$B$6,Eingabemaske!$B$7) -> 0.5 | G10: =Eingabemaske!B$8/3600*(1/(Eingabemaske!B$11*Eingabemaske!B$10)) -> 0.017361111 | H10: =1/(0.773330490472441 + 0.00283985410776385*D10 + 4.70956808663608E-09*D10^2) -> 1.1997806 | I10: =1/(0.00099434309240287 + -1.47552070405302E-08*D10 + -3.88577798747135E-10*D10^2) -> 1006.1818 | J10: =0.0243688671328671 + 0.0000746503496503496*D10 -> 0.025950094 | K10: =0.0172256351981352 + 0.0000485013986013987*D10 -> 0.018252981 | L10: =1/(75096.6870491945 + -483.306616171698*D10 + 1.8979292970075*D10^2) -> 1.5218167e-05 | M10: =1/(272.185875471518 + 1.00695372308461*D10 + -0.0000258090290708686*D10^2) -> 0.0034071161 | N10: =L10*H10*I10/J10 -> 0.70794853 | O10: =((1+(0.332/N10)^(11/20)))^(-20/11) -> 0.39820455 | P10: =((1+(0.492/N10)^(9/16)))^(-16/9) -> 0.34659104 | Q10: =((9.807*Eingabemaske!$B$5^3)/(L10)^2)*M10*C10*N10 -> 68133806 | R10: =H10*G10*F10*(1/K10*1000) -> 570.5787 | S10: =Q10*O10 -> 27131192 | T10: =IF(S10>7*10^4,(0.15*S10)^(1/3),(0.766*S10)^(1/5)) -> 159.65654 | U10: =(0.825+0.387*(Q10*P10)^(1/6))^2 -> 54.464756 | V10: =0.664*SQRT(R10)*N10^(1/3) -> 14.135996 | W10: =(0.037*R10^0.8*N10)/(1+2.443*R10^(-0.1)*(N10^(2/3)-1)) -> 5.7249329 | X10: =((SQRT(V10^2+W10^2))^3+T10^3)^(1/3) -> 159.70291 | Y10: =((SQRT(V10^2+W10^2))^3+U10^3)^(1/3) -> 54.8605 | Z10: =IF(G10=0,T10*J10/E10,X10*J10/F10) -> 8.2886111 | AA10: =IF(G10=0,U10*J10/E10,Y10*J10/F10) -> 2.8472702
B11: =Temperaturverlauf!F10-Temperaturverlauf!E10 -> 1.7186442 | C11: =IF(B11<0,B11*-1,B11) -> 1.7186442 | D11: =Temperaturverlauf!E10 -> 21.015216 | E11: =Eingabemaske!$B$5 -> 0.745 | F11: =IF(Eingabemaske!$B$4="horizontal_Breite",Eingabemaske!$B$6,Eingabemaske!$B$7) -> 0.5 | G11: =Eingabemaske!B$8/3600*(1/(Eingabemaske!B$11*Eingabemaske!B$10)) -> 0.017361111 | H11: =1/(0.773330490472441 + 0.00283985410776385*D11 + 4.70956808663608E-09*D11^2) -> 1.2004619 | I11: =1/(0.00099434309240287 + -1.47552070405302E-08*D11 + -3.88577798747135E-10*D11^2) -> 1006.1765 | J11: =0.0243688671328671 + 0.0000746503496503496*D11 -> 0.02593766 | K11: =0.0172256351981352 + 0.0000485013986013987*D11 -> 0.018244903 | L11: =1/(75096.6870491945 + -483.306616171698*D11 + 1.8979292970075*D11^2) -> 1.520263e-05 | M11: =1/(272.185875471518 + 1.00695372308461*D11 + -0.0000258090290708686*D11^2) -> 0.0034090619 | N11: =L11*H11*I11/J11 -> 0.70796283 | O11: =((1+(0.332/N11)^(11/20)))^(-20/11) -> 0.39820775 | P11: =((1+(0.492/N11)^(9/16)))^(-16/9) -> 0.34659419 | Q11: =((9.807*Eingabemaske!$B$5^3)/(L11)^2)*M11*C11*N11 -> 72777796 | R11: =H11*G11*F11*(1/K11*1000) -> 571.15547 | S11: =Q11*O11 -> 28980682 | T11: =IF(S11>7*10^4,(0.15*S11)^(1/3),(0.766*S11)^(1/5)) -> 163.20494 | U11: =(0.825+0.387*(Q11*P11)^(1/6))^2 -> 55.539284 | V11: =0.664*SQRT(R11)*N11^(1/3) -> 14.143234 | W11: =(0.037*R11^0.8*N11)/(1+2.443*R11^(-0.1)*(N11^(2/3)-1)) -> 5.7293594 | X11: =((SQRT(V11^2+W11^2))^3+T11^3)^(1/3) -> 163.24939 | Y11: =((SQRT(V11^2+W11^2))^3+U11^3)^(1/3) -> 55.920642 | Z11: =IF(G11=0,T11*J11/E11,X11*J11/F11) -> 8.4686145 | AA11: =IF(G11=0,U11*J11/E11,Y11*J11/F11) -> 2.9009012
B12: =Temperaturverlauf!F11-Temperaturverlauf!E11 -> 1.7858218 | C12: =IF(B12<0,B12*-1,B12) -> 1.7858218 | D12: =Temperaturverlauf!E11 -> 20.882624 | E12: =Eingabemaske!$B$5 -> 0.745 | F12: =IF(Eingabemaske!$B$4="horizontal_Breite",Eingabemaske!$B$6,Eingabemaske!$B$7) -> 0.5 | G12: =Eingabemaske!B$8/3600*(1/(Eingabemaske!B$11*Eingabemaske!B$10)) -> 0.017361111 | H12: =1/(0.773330490472441 + 0.00283985410776385*D12 + 4.70956808663608E-09*D12^2) -> 1.2010048 | I12: =1/(0.00099434309240287 + -1.47552070405302E-08*D12 + -3.88577798747135E-10*D12^2) -> 1006.1724 | J12: =0.0243688671328671 + 0.0000746503496503496*D12 -> 0.025927762 | K12: =0.0172256351981352 + 0.0000485013986013987*D12 -> 0.018238472 | L12: =1/(75096.6870491945 + -483.306616171698*D12 + 1.8979292970075*D12^2) -> 1.5190266e-05 | M12: =1/(272.185875471518 + 1.00695372308461*D12 + -0.0000258090290708686*D12^2) -> 0.0034106126 | N12: =L12*H12*I12/J12 -> 0.70797423 | O12: =((1+(0.332/N12)^(11/20)))^(-20/11) -> 0.3982103 | P12: =((1+(0.492/N12)^(9/16)))^(-16/9) -> 0.34659669 | Q12: =((9.807*Eingabemaske!$B$5^3)/(L12)^2)*M12*C12*N12 -> 75781330 | R12: =H12*G12*F12*(1/K12*1000) -> 571.61526 | S12: =Q12*O12 -> 30176906 | T12: =IF(S12>7*10^4,(0.15*S12)^(1/3),(0.766*S12)^(1/5)) -> 165.42024 | U12: =(0.825+0.387*(Q12*P12)^(1/6))^2 -> 56.20947 | V12: =0.664*SQRT(R12)*N12^(1/3) -> 14.149002 | W12: =(0.037*R12^0.8*N12)/(1+2.443*R12^(-0.1)*(N12^(2/3)-1)) -> 5.7328875 | X12: =((SQRT(V12^2+W12^2))^3+T12^3)^(1/3) -> 165.46357 | Y12: =((SQRT(V12^2+W12^2))^3+U12^3)^(1/3) -> 56.582363 | Z12: =IF(G12=0,T12*J12/E12,X12*J12/F12) -> 8.5802004 | AA12: =IF(G12=0,U12*J12/E12,Y12*J12/F12) -> 2.9341081
B13: =Temperaturverlauf!F12-Temperaturverlauf!E12 -> 1.8140406 | C13: =IF(B13<0,B13*-1,B13) -> 1.8140406 | D13: =Temperaturverlauf!E12 -> 20.786261 | E13: =Eingabemaske!$B$5 -> 0.745 | F13: =IF(Eingabemaske!$B$4="horizontal_Breite",Eingabemaske!$B$6,Eingabemaske!$B$7) -> 0.5 | G13: =Eingabemaske!B$8/3600*(1/(Eingabemaske!B$11*Eingabemaske!B$10)) -> 0.017361111 | H13: =1/(0.773330490472441 + 0.00283985410776385*D13 + 4.70956808663608E-09*D13^2) -> 1.2013997 | I13: =1/(0.00099434309240287 + -1.47552070405302E-08*D13 + -3.88577798747135E-10*D13^2) -> 1006.1693 | J13: =0.0243688671328671 + 0.0000746503496503496*D13 -> 0.025920569 | K13: =0.0172256351981352 + 0.0000485013986013987*D13 -> 0.018233798 | L13: =1/(75096.6870491945 + -483.306616171698*D13 + 1.8979292970075*D13^2) -> 1.5181283e-05 | M13: =1/(272.185875471518 + 1.00695372308461*D13 + -0.0000258090290708686*D13^2) -> 0.0034117405 | N13: =L13*H13*I13/J13 -> 0.70798252 | O13: =((1+(0.332/N13)^(11/20)))^(-20/11) -> 0.39821215 | P13: =((1+(0.492/N13)^(9/16)))^(-16/9) -> 0.34659852 | Q13: =((9.807*Eingabemaske!$B$5^3)/(L13)^2)*M13*C13*N13 -> 77096307 | R13: =H13*G13*F13*(1/K13*1000) -> 571.94977 | S13: =Q13*O13 -> 30700686 | T13: =IF(S13>7*10^4,(0.15*S13)^(1/3),(0.766*S13)^(1/5)) -> 166.37182 | U13: =(0.825+0.387*(Q13*P13)^(1/6))^2 -> 56.4972 | V13: =0.664*SQRT(R13)*N13^(1/3) -> 14.153196 | W13: =(0.037*R13^0.8*N13)/(1+2.443*R13^(-0.1)*(N13^(2/3)-1)) -> 5.7354539 | X13: =((SQRT(V13^2+W13^2))^3+T13^3)^(1/3) -> 166.4147 | Y13: =((SQRT(V13^2+W13^2))^3+U13^3)^(1/3) -> 56.866691 | Z13: =IF(G13=0,T13*J13/E13,X13*J13/F13) -> 8.6271274 | AA13: =IF(G13=0,U13*J13/E13,Y13*J13/F13) -> 2.9480339
B14: =Temperaturverlauf!F13-Temperaturverlauf!E13 -> 1.8032518 | C14: =IF(B14<0,B14*-1,B14) -> 1.8032518 | D14: =Temperaturverlauf!E13 -> 20.727776 | E14: =Eingabemaske!$B$5 -> 0.745 | F14: =IF(Eingabemaske!$B$4="horizontal_Breite",Eingabemaske!$B$6,Eingabemaske!$B$7) -> 0.5 | G14: =Eingabemaske!B$8/3600*(1/(Eingabemaske!B$11*Eingabemaske!B$10)) -> 0.017361111 | H14: =1/(0.773330490472441 + 0.00283985410776385*D14 + 4.70956808663608E-09*D14^2) -> 1.2016395 | I14: =1/(0.00099434309240287 + -1.47552070405302E-08*D14 + -3.88577798747135E-10*D14^2) -> 1006.1675 | J14: =0.0243688671328671 + 0.0000746503496503496*D14 -> 0.025916203 | K14: =0.0172256351981352 + 0.0000485013986013987*D14 -> 0.018230961 | L14: =1/(75096.6870491945 + -483.306616171698*D14 + 1.8979292970075*D14^2) -> 1.5175832e-05 | M14: =1/(272.185875471518 + 1.00695372308461*D14 + -0.0000258090290708686*D14^2) -> 0.0034124254 | N14: =L14*H14*I14/J14 -> 0.70798755 | O14: =((1+(0.332/N14)^(11/20)))^(-20/11) -> 0.39821327 | P14: =((1+(0.492/N14)^(9/16)))^(-16/9) -> 0.34659962 | Q14: =((9.807*Eingabemaske!$B$5^3)/(L14)^2)*M14*C14*N14 -> 76708784 | R14: =H14*G14*F14*(1/K14*1000) -> 572.15294 | S14: =Q14*O14 -> 30546456 | T14: =IF(S14>7*10^4,(0.15*S14)^(1/3),(0.766*S14)^(1/5)) -> 166.09276 | U14: =(0.825+0.387*(Q14*P14)^(1/6))^2 -> 56.412837 | V14: =0.664*SQRT(R14)*N14^(1/3) -> 14.155744 | W14: =(0.037*R14^0.8*N14)/(1+2.443*R14^(-0.1)*(N14^(2/3)-1)) -> 5.7370125 | X14: =((SQRT(V14^2+W14^2))^3+T14^3)^(1/3) -> 166.1358 | Y14: =((SQRT(V14^2+W14^2))^3+U14^3)^(1/3) -> 56.783636 | Z14: =IF(G14=0,T14*J14/E14,X14*J14/F14) -> 8.6112184 | AA14: =IF(G14=0,U14*J14/E14,Y14*J14/F14) -> 2.9432325
... B339: =Temperaturverlauf!F338-Temperaturverlauf!E338 -> 10.235432 | C339: =IF(B339<0,B339*-1,B339) -> 10.235432 | D339: =Temperaturverlauf!E338 -> 23 | E339: =Eingabemaske!$B$5 -> 0.745 | F339: =IF(Eingabemaske!$B$4="horizontal_Breite",Eingabemaske!$B$6,Eingabemaske!$B$7) -> 0.5 | G339: =Eingabemaske!B$8/3600*(1/(Eingabemaske!B$11*Eingabemaske!B$10)) -> 0.017361111 | H339: =1/(0.773330490472441 + 0.00283985410776385*D339 + 4.70956808663608E-09*D339^2) -> 1.1923931 | I339: =1/(0.00099434309240287 + -1.47552070405302E-08*D339 + -3.88577798747135E-10*D339^2) -> 1006.2405 | J339: =0.0243688671328671 + 0.0000746503496503496*D339 -> 0.026085825 | K339: =0.0172256351981352 + 0.0000485013986013987*D339 -> 0.018341167 | L339: =1/(75096.6870491945 + -483.306616171698*D339 + 1.8979292970075*D339^2) -> 1.5388252e-05 | M339: =1/(272.185875471518 + 1.00695372308461*D339 + -0.0000258090290708686*D339^2) -> 0.003386018 | N339: =L339*H339*I339/J339 -> 0.7077925 | O339: =((1+(0.332/N339)^(11/20)))^(-20/11) -> 0.39816967 | P339: =((1+(0.492/N339)^(9/16)))^(-16/9) -> 0.34655674 | Q339: =((9.807*Eingabemaske!$B$5^3)/(L339)^2)*M339*C339*N339 -> 4.2007593e+08 | R339: =H339*G339*F339*(1/K339*1000) -> 564.3389 | S339: =Q339*O339 -> 1.672615e+08 | T339: =IF(S339>7*10^4,(0.15*S339)^(1/3),(0.766*S339)^(1/5)) -> 292.74922 | U339: =(0.825+0.387*(Q339*P339)^(1/6))^2 -> 94.113643 | V339: =0.664*SQRT(R339)*N339^(1/3) -> 14.057456 | W339: =(0.037*R339^0.8*N339)/(1+2.443*R339^(-0.1)*(N339^(2/3)-1)) -> 5.6769798 | X339: =((SQRT(V339^2+W339^2))^3+T339^3)^(1/3) -> 292.76277 | Y339: =((SQRT(V339^2+W339^2))^3+U339^3)^(1/3) -> 94.244594 | Z339: =IF(G339=0,T339*J339/E339,X339*J339/F339) -> 15.273917 | AA339: =IF(G339=0,U339*J339/E339,Y339*J339/F339) -> 4.916896
