Workbook

Sheet Eingabemaske
G1: 0.020833333
A2: Form | B2: Zylinder | E2: Temperaturv. | F2: 0 | G2: =F2 -> 0 | H2: =B$15-(12/PI()*SIN(PI()/12*F2))*B$17 -> 23 | I2: =IF(OR(G2=B$21,G2>B$21,G2<B$22),B$18*B$20+(B$19*(1-B$20)),0) -> 300 | J2: =IF(OR(G2<B$21,G2>B$22,),(B$18*B$20+(B$19*(1-B$20)))*-1,0) -> -300 | K2: =I2+J2 -> 0 | N2: J/kg * K | O2: W/m * K | P2: kg/m³
A3: StrömungInnen | B3: horizontal_Breite | F3: 0.5 | G3: =G2+G$1 -> 0.020833333 | H3: =B$15-(12/PI()*SIN(PI()/12*F3))*B$17 -> 22.700856 | I3: =IF(OR(G3=B$21,G3>B$21,G3<B$22),B$18*B$20+(B$19*(1-B$20)),0) -> 300 | J3: =IF(OR(G3<B$21,G3>B$22,),(B$18*B$20+(B$19*(1-B$20)))*-1,0) -> -300 | K3: =I3+J3 -> 0 | N3: =IF($B$13="PE",1900,IF($B$13="Stahl",490,720)) -> 1900 | O3: =IF($B$13="PE",0.42,IF($B$13="Stahl",42,0.8)) -> 0.42 | P3: =IF($B$13="PE",970,IF($B$13="Stahl",7850,2500)) -> 970
A4: StrömungAußen | B4: horizontal_Breite | F4: 1 | G4: =G3+G$1 -> 0.041666667 | H4: =B$15-(12/PI()*SIN(PI()/12*F4))*B$17 -> 22.40683 | I4: =IF(OR(G4=B$21,G4>B$21,G4<B$22),B$18*B$20+(B$19*(1-B$20)),0) -> 300 | J4: =IF(OR(G4<B$21,G4>B$22,),(B$18*B$20+(B$19*(1-B$20)))*-1,0) -> -300 | K4: =I4+J4 -> 0
A5: HöheBehälter | B5: 0.745 | C5: m | F5: 1.5 | G5: =G4+G$1 -> 0.0625 | H5: =B$15-(12/PI()*SIN(PI()/12*F5))*B$17 -> 22.122954 | I5: =IF(OR(G5=B$21,G5>B$21,G5<B$22),B$18*B$20+(B$19*(1-B$20)),0) -> 300 | J5: =IF(OR(G5<B$21,G5>B$22,),(B$18*B$20+(B$19*(1-B$20)))*-1,0) -> -300 | K5: =I5+J5 -> 0
A6: Breite/DBehälter | B6: 0.5 | C6: m | F6: 2 | G6: =G5+G$1 -> 0.083333333 | H6: =B$15-(12/PI()*SIN(PI()/12*F6))*B$17 -> 21.854084 | I6: =IF(OR(G6=B$21,G6>B$21,G6<B$22),B$18*B$20+(B$19*(1-B$20)),0) -> 300 | J6: =IF(OR(G6<B$21,G6>B$22,),(B$18*B$20+(B$19*(1-B$20)))*-1,0) -> -300 | K6: =I6+J6 -> 0
A7: LängeBehälter | B7: 0.7 | C7: m | F7: 2.5 | G7: =G6+G$1 -> 0.10416667 | H7: =B$15-(12/PI()*SIN(PI()/12*F7))*B$17 -> 21.604822 | I7: =IF(OR(G7=B$21,G7>B$21,G7<B$22),B$18*B$20+(B$19*(1-B$20)),0) -> 300 | J7: =IF(OR(G7<B$21,G7>B$22,),(B$18*B$20+(B$19*(1-B$20)))*-1,0) -> -300 | K7: =I7+J7 -> 0
A8: Luftdurchsatz | B8: 300 | C8: m³/h | F8: 3 | G8: =G7+G$1 -> 0.125 | H8: =B$15-(12/PI()*SIN(PI()/12*F8))*B$17 -> 21.379431 | I8: =IF(OR(G8=B$21,G8>B$21,G8<B$22),B$18*B$20+(B$19*(1-B$20)),0) -> 300 | J8: =IF(OR(G8<B$21,G8>B$22,),(B$18*B$20+(B$19*(1-B$20)))*-1,0) -> -300 | K8: =I8+J8 -> 0
A9: Volumenstrom | B9: 80 | C9: L/h | F9: 3.5 | G9: =G8+G$1 -> 0.14583333 | H9: =B$15-(12/PI()*SIN(PI()/12*F9))*B$17 -> 21.181768 | I9: =IF(OR(G9=B$21,G9>B$21,G9<B$22),B$18*B$20+(B$19*(1-B$20)),0) -> 300 | J9: =IF(OR(G9<B$21,G9>B$22,),(B$18*B$20+(B$19*(1-B$20)))*-1,0) -> -300 | K9: =I9+J9 -> 0
A10: Raumhöhe | B10: 2.4 | C10: m | F10: 4 | G10: =G9+G$1 -> 0.16666667 | H10: =B$15-(12/PI()*SIN(PI()/12*F10))*B$17 -> 21.015216 | I10: =IF(OR(G10=B$21,G10>B$21,G10<B$22),B$18*B$20+(B$19*(1-B$20)),0) -> 300 | J10: =IF(OR(G10<B$21,G10>B$22,),(B$18*B$20+(B$19*(1-B$20)))*-1,0) -> -300 | K10: =I10+J10 -> 0
A11: Raumbreite | B11: 2 | C11: m | F11: 4.5 | G11: =G10+G$1 -> 0.1875 | H11: =B$15-(12/PI()*SIN(PI()/12*F11))*B$17 -> 20.882624 | I11: =IF(OR(G11=B$21,G11>B$21,G11<B$22),B$18*B$20+(B$19*(1-B$20)),0) -> 300 | J11: =IF(OR(G11<B$21,G11>B$22,),(B$18*B$20+(B$19*(1-B$20)))*-1,0) -> -300 | K11: =I11+J11 -> 0
A12: Wanddicke | B12: 5 | C12: mm | F12: 5 | G12: =G11+G$1 -> 0.20833333 | H12: =B$15-(12/PI()*SIN(PI()/12*F12))*B$17 -> 20.786261 | I12: =IF(OR(G12=B$21,G12>B$21,G12<B$22),B$18*B$20+(B$19*(1-B$20)),0) -> 300 | J12: =IF(OR(G12<B$21,G12>B$22,),(B$18*B$20+(B$19*(1-B$20)))*-1,0) -> -300 | K12: =I12+J12 -> 0
A13: Material | B13: PE | F13: 5.5 | G13: =G12+G$1 -> 0.22916667 | H13: =B$15-(12/PI()*SIN(PI()/12*F13))*B$17 -> 20.727776 | I13: =IF(OR(G13=B$21,G13>B$21,G13<B$22),B$18*B$20+(B$19*(1-B$20)),0) -> 300 | J13: =IF(OR(G13<B$21,G13>B$22,),(B$18*B$20+(B$19*(1-B$20)))*-1,0) -> -300 | K13: =I13+J13 -> 0
F14: 6 | G14: =G13+G$1 -> 0.25 | H14: =B$15-(12/PI()*SIN(PI()/12*F14))*B$17 -> 20.708169 | I14: =IF(OR(G14=B$21,G14>B$21,G14<B$22),B$18*B$20+(B$19*(1-B$20)),0) -> 300 | J14: =IF(OR(G14<B$21,G14>B$22,),(B$18*B$20+(B$19*(1-B$20)))*-1,0) -> -300 | K14: =I14+J14 -> 0
A15: Luftemperatur | B15: 23 | C15: °C | F15: 6.5 | G15: =G14+G$1 -> 0.27083333 | H15: =B$15-(12/PI()*SIN(PI()/12*F15))*B$17 -> 20.727776 | I15: =IF(OR(G15=B$21,G15>B$21,G15<B$22),B$18*B$20+(B$19*(1-B$20)),0) -> 300 | J15: =IF(OR(G15<B$21,G15>B$22,),(B$18*B$20+(B$19*(1-B$20)))*-1,0) -> -300 | K15: =I15+J15 -> 0
A16: Wassertemp. | B16: 23 | C16: °C | F16: 7 | G16: =G15+G$1 -> 0.29166667 | H16: =B$15-(12/PI()*SIN(PI()/12*F16))*B$17 -> 20.786261 | I16: =IF(OR(G16=B$21,G16>B$21,G16<B$22),B$18*B$20+(B$19*(1-B$20)),0) -> 300 | J16: =IF(OR(G16<B$21,G16>B$22,),(B$18*B$20+(B$19*(1-B$20)))*-1,0) -> -300 | K16: =I16+J16 -> 0
A17: Temp. Verlauf | B17: 0.6 | F17: 7.5 | G17: =G16+G$1 -> 0.3125 | H17: =B$15-(12/PI()*SIN(PI()/12*F17))*B$17 -> 20.882624 | I17: =IF(OR(G17=B$21,G17>B$21,G17<B$22),B$18*B$20+(B$19*(1-B$20)),0) -> 300 | J17: =IF(OR(G17<B$21,G17>B$22,),(B$18*B$20+(B$19*(1-B$20)))*-1,0) -> -300 | K17: =I17+J17 -> 0
A18: Wärmelastmax | B18: 300 | C18: W | F18: 8 | G18: =G17+G$1 -> 0.33333333 | H18: =B$15-(12/PI()*SIN(PI()/12*F18))*B$17 -> 21.015216 | I18: =IF(OR(G18=B$21,G18>B$21,G18<B$22),B$18*B$20+(B$19*(1-B$20)),0) -> 300 | J18: =IF(OR(G18<B$21,G18>B$22,),(B$18*B$20+(B$19*(1-B$20)))*-1,0) -> -300 | K18: =I18+J18 -> 0
A19: Wärmelastmin | B19: 80 | C19: W | F19: 8.5 | G19: =G18+G$1 -> 0.35416667 | H19: =B$15-(12/PI()*SIN(PI()/12*F19))*B$17 -> 21.181768 | I19: =IF(OR(G19=B$21,G19>B$21,G19<B$22),B$18*B$20+(B$19*(1-B$20)),0) -> 300 | J19: =IF(OR(G19<B$21,G19>B$22,),(B$18*B$20+(B$19*(1-B$20)))*-1,0) -> -300 | K19: =I19+J19 -> 0
A20: Wärmelastmax Anteil | B20: 1 | F20: 9 | G20: =G19+G$1 -> 0.375 | H20: =B$15-(12/PI()*SIN(PI()/12*F20))*B$17 -> 21.379431 | I20: =IF(OR(G20=B$21,G20>B$21,G20<B$22),B$18*B$20+(B$19*(1-B$20)),0) -> 300 | J20: =IF(OR(G20<B$21,G20>B$22,),(B$18*B$20+(B$19*(1-B$20)))*-1,0) -> -300 | K20: =I20+J20 -> 0
A21: Einschaltuhrzeit | B21: 0.66666667 | F21: 9.5 | G21: =G20+G$1 -> 0.39583333 | H21: =B$15-(12/PI()*SIN(PI()/12*F21))*B$17 -> 21.604822 | I21: =IF(OR(G21=B$21,G21>B$21,G21<B$22),B$18*B$20+(B$19*(1-B$20)),0) -> 300 | J21: =IF(OR(G21<B$21,G21>B$22,),(B$18*B$20+(B$19*(1-B$20)))*-1,0) -> -300 | K21: =I21+J21 -> 0
A22: Ausschaltuhrzeit | B22: 0.95833333 | F22: 10 | G22: =G21+G$1 -> 0.41666667 | H22: =B$15-(12/PI()*SIN(PI()/12*F22))*B$17 -> 21.854084 | I22: =IF(OR(G22=B$21,G22>B$21,G22<B$22),B$18*B$20+(B$19*(1-B$20)),0) -> 300 | J22: =IF(OR(G22<B$21,G22>B$22,),(B$18*B$20+(B$19*(1-B$20)))*-1,0) -> -300 | K22: =I22+J22 -> 0
A23: Fullstand Wasser | B23: 99 | C23: % | F23: 10.5 | G23: =G22+G$1 -> 0.4375 | H23: =B$15-(12/PI()*SIN(PI()/12*F23))*B$17 -> 22.122954 | I23: =IF(OR(G23=B$21,G23>B$21,G23<B$22),B$18*B$20+(B$19*(1-B$20)),0) -> 300 | J23: =IF(OR(G23<B$21,G23>B$22,),(B$18*B$20+(B$19*(1-B$20)))*-1,0) -> -300 | K23: =I23+J23 -> 0
F24: 11 | G24: =G23+G$1 -> 0.45833333 | H24: =B$15-(12/PI()*SIN(PI()/12*F24))*B$17 -> 22.40683 | I24: =IF(OR(G24=B$21,G24>B$21,G24<B$22),B$18*B$20+(B$19*(1-B$20)),0) -> 300 | J24: =IF(OR(G24<B$21,G24>B$22,),(B$18*B$20+(B$19*(1-B$20)))*-1,0) -> -300 | K24: =I24+J24 -> 0
F25: 11.5 | G25: =G24+G$1 -> 0.47916667 | H25: =B$15-(12/PI()*SIN(PI()/12*F25))*B$17 -> 22.700856 | I25: =IF(OR(G25=B$21,G25>B$21,G25<B$22),B$18*B$20+(B$19*(1-B$20)),0) -> 300 | J25: =IF(OR(G25<B$21,G25>B$22,),(B$18*B$20+(B$19*(1-B$20)))*-1,0) -> -300 | K25: =I25+J25 -> 0
F26: 12 | G26: =G25+G$1 -> 0.5 | H26: =B$15-(12/PI()*SIN(PI()/12*F26))*B$17 -> 23 | I26: =IF(OR(G26=B$21,G26>B$21,G26<B$22),B$18*B$20+(B$19*(1-B$20)),0) -> 300 | J26: =IF(OR(G26<B$21,G26>B$22,),(B$18*B$20+(B$19*(1-B$20)))*-1,0) -> -300 | K26: =I26+J26 -> 0
F27: 12.5 | G27: =G26+G$1 -> 0.52083333 | H27: =B$15-(12/PI()*SIN(PI()/12*F27))*B$17 -> 23.299144 | I27: =IF(OR(G27=B$21,G27>B$21,G27<B$22),B$18*B$20+(B$19*(1-B$20)),0) -> 300 | J27: =IF(OR(G27<B$21,G27>B$22,),(B$18*B$20+(B$19*(1-B$20)))*-1,0) -> -300 | K27: =I27+J27 -> 0
F28: 13 | G28: =G27+G$1 -> 0.54166667 | H28: =B$15-(12/PI()*SIN(PI()/12*F28))*B$17 -> 23.59317 | I28: =IF(OR(G28=B$21,G28>B$21,G28<B$22),B$18*B$20+(B$19*(1-B$20)),0) -> 300 | J28: =IF(OR(G28<B$21,G28>B$22,),(B$18*B$20+(B$19*(1-B$20)))*-1,0) -> -300 | K28: =I28+J28 -> 0
F29: 13.5 | G29: =G28+G$1 -> 0.5625 | H29: =B$15-(12/PI()*SIN(PI()/12*F29))*B$17 -> 23.877046 | I29: =IF(OR(G29=B$21,G29>B$21,G29<B$22),B$18*B$20+(B$19*(1-B$20)),0) -> 300 | J29: =IF(OR(G29<B$21,G29>B$22,),(B$18*B$20+(B$19*(1-B$20)))*-1,0) -> -300 | K29: =I29+J29 -> 0
F30: 14 | G30: =G29+G$1 -> 0.58333333 | H30: =B$15-(12/PI()*SIN(PI()/12*F30))*B$17 -> 24.145916 | I30: =IF(OR(G30=B$21,G30>B$21,G30<B$22),B$18*B$20+(B$19*(1-B$20)),0) -> 300 | J30: =IF(OR(G30<B$21,G30>B$22,),(B$18*B$20+(B$19*(1-B$20)))*-1,0) -> -300 | K30: =I30+J30 -> 0
F31: 14.5 | G31: =G30+G$1 -> 0.60416667 | H31: =B$15-(12/PI()*SIN(PI()/12*F31))*B$17 -> 24.395178 | I31: =IF(OR(G31=B$21,G31>B$21,G31<B$22),B$18*B$20+(B$19*(1-B$20)),0) -> 300 | J31: =IF(OR(G31<B$21,G31>B$22,),(B$18*B$20+(B$19*(1-B$20)))*-1,0) -> -300 | K31: =I31+J31 -> 0
F32: 15 | G32: =G31+G$1 -> 0.625 | H32: =B$15-(12/PI()*SIN(PI()/12*F32))*B$17 -> 24.620569 | I32: =IF(OR(G32=B$21,G32>B$21,G32<B$22),B$18*B$20+(B$19*(1-B$20)),0) -> 300 | J32: =IF(OR(G32<B$21,G32>B$22,),(B$18*B$20+(B$19*(1-B$20)))*-1,0) -> -300 | K32: =I32+J32 -> 0
F33: 15.5 | G33: =G32+G$1 -> 0.64583333 | H33: =B$15-(12/PI()*SIN(PI()/12*F33))*B$17 -> 24.818232 | I33: =IF(OR(G33=B$21,G33>B$21,G33<B$22),B$18*B$20+(B$19*(1-B$20)),0) -> 300 | J33: =IF(OR(G33<B$21,G33>B$22,),(B$18*B$20+(B$19*(1-B$20)))*-1,0) -> -300 | K33: =I33+J33 -> 0
F34: 16 | G34: =G33+G$1 -> 0.66666667 | H34: =B$15-(12/PI()*SIN(PI()/12*F34))*B$17 -> 24.984784 | I34: =IF(OR(G34=B$21,G34>B$21,G34<B$22),B$18*B$20+(B$19*(1-B$20)),0) -> 300 | J34: =IF(OR(G34<B$21,G34>B$22,),(B$18*B$20+(B$19*(1-B$20)))*-1,0) -> 0 | K34: =I34+J34 -> 300
F35: 16.5 | G35: =G34+G$1 -> 0.6875 | H35: =B$15-(12/PI()*SIN(PI()/12*F35))*B$17 -> 25.117376 | I35: =IF(OR(G35=B$21,G35>B$21,G35<B$22),B$18*B$20+(B$19*(1-B$20)),0) -> 300 | J35: =IF(OR(G35<B$21,G35>B$22,),(B$18*B$20+(B$19*(1-B$20)))*-1,0) -> 0 | K35: =I35+J35 -> 300
... F50: 24 | G50: =G49+G$1 -> 1 | H50: =B$15-(12/PI()*SIN(PI()/12*F50))*B$17 -> 23 | I50: =IF(OR(G50=B$21,G50>B$21,G50<B$22),B$18*B$20+(B$19*(1-B$20)),0) -> 300 | J50: =IF(OR(G50<B$21,G50>B$22,),(B$18*B$20+(B$19*(1-B$20)))*-1,0) -> -300 | K50: =I50+J50 -> 0

Sheet Temperaturverlauf
A1: Tag | B1: 0.020833333 | C1: Uhrzeit | D1: t in [h] | E1: TLuft in [°C] | F1: TWasser in [°C] | G1: Th in [J/K] | H1: P in [W] | I1: QVerlustWasserlinie in [W] | J1: QVerlustWand in [W] | K1: QVerlustKonvektion in [W] | L1: QVerlustStrahlungin [W] | M1: QVerlustGesamt [W]
A2: 1 | B2: 0 | C2: 0 | D2: =0 -> 0 | E2: =Eingabemaske!B$15-(12/PI()*SIN(PI()/12*B2))*Eingabemaske!B$17 -> 23 | F2: =Eingabemaske!B16 -> 23 | G2: =IF(Eingabemaske!B$2="Quader",Eingabemaske!B$7*Eingabemaske!B$6*Eingabemaske!B$5*(Eingabemaske!B$23/100)*998.2*4179+(Eingabemaske!B$6*Eingabemaske!B$7*(Eingabemaske!B$12/1000)*2+Eingabemaske!B$5*Eingabemaske!B$6*(Eingabemaske!B$12/1000)*2+Eingabemaske!B$5*Eingabemaske!B$7*(Eingabemaske!B$12/1000)*2)*Eingabemaske!P$3*Eingabemaske!N$3,(Eingabemaske!B$6/2)^2*PI()*Eingabemaske!B$5*(Eingabemaske!B$23/100)*998.2*4179+(((Eingabemaske!B$6+Eingabemaske!B$12/1000)^2-Eingabemaske!B$6^2)*PI()*1/4+(Eingabemaske!B$6+Eingabemaske!B$12/1000)^2*(Eingabemaske!B$12/1000))*Eingabemaske!P$3*Eingabemaske!N$3) -> 613727.11 | H2: =INDEX(Eingabemaske!$K$2:$K$50,(MATCH(B2,Eingabemaske!$F$2:$F$50))) -> 0 | I2: =IF(Eingabemaske!B$2="Quader",1/(1/Wasser!Z3+1/Luft!Z3+((Eingabemaske!B$12/1000)/Eingabemaske!O$3))*Eingabemaske!B$6*Eingabemaske!B$7*Wasser!B3,1/(1/Wasser!Z3+1/Luft!Z3+((Eingabemaske!B$12/1000)/Eingabemaske!O$3))*(Eingabemaske!B$6/2)^2*PI()*Wasser!B3) -> 0 | J2: =IF(Eingabemaske!B$2="Quader",1/(1/Wasser!AA3+1/Luft!AA3+((Eingabemaske!B$12/1000)/Eingabemaske!O$3))*(Eingabemaske!B$6*Eingabemaske!B$5+Eingabemaske!B$7*Eingabemaske!B$5)*2*Wasser!B3,1/(1/Wasser!AA3+1/Luft!AA3+((Eingabemaske!B$12/1000)/Eingabemaske!O$3))*(Eingabemaske!B$6+Eingabemaske!B$12/2000)^2*PI()*Wasser!B3) -> 0 | K2: =I2+J2 -> 0 | L2: =IF(Eingabemaske!B$2="Quader",((Eingabemaske!B$6*Eingabemaske!B$7)+((Eingabemaske!B$5*Eingabemaske!B$6)+(Eingabemaske!B$5*Eingabemaske!B$6))*2)*0.9*5.67*10^-8*((F2+273.15)^4-(E2+273.15)^4),((Eingabemaske!B$6/2)^2*PI()+Eingabemaske!B$6*PI())*0.9*5.67*10^-8*((F2+273.15)^4-(E2+273.15)^4)) -> 0 | M2: =K2+L2 -> 0
A3: 1 | B3: 0.5 | C3: =C2+B$1 -> 0.020833333 | D3: 0.5 | E3: =Eingabemaske!B$15-(12/PI()*SIN(PI()/12*B3))*Eingabemaske!B$17 -> 22.700856 | F3: =F2+(1/G3*(H2-I2-J2-L2)*30*60) -> 23 | G3: =IF(Eingabemaske!B$2="Quader",Eingabemaske!B$7*Eingabemaske!B$6*Eingabemaske!B$5*(Eingabemaske!B$23/100)*998.2*4179+(Eingabemaske!B$6*Eingabemaske!B$7*(Eingabemaske!B$12/1000)*2+Eingabemaske!B$5*Eingabemaske!B$6*(Eingabemaske!B$12/1000)*2+Eingabemaske!B$5*Eingabemaske!B$7*(Eingabemaske!B$12/1000)*2)*Eingabemaske!P$3*Eingabemaske!N$3,(Eingabemaske!B$6/2)^2*PI()*Eingabemaske!B$5*(Eingabemaske!B$23/100)*998.2*4179+(((Eingabemaske!B$6+Eingabemaske!B$12/1000)^2-Eingabemaske!B$6^2)*PI()*1/4+(Eingabemaske!B$6+Eingabemaske!B$12/1000)^2*(Eingabemaske!B$12/1000))*Eingabemaske!P$3*Eingabemaske!N$3) -> 613727.11 | H3: =INDEX(Eingabemaske!$K$2:$K$50,(MATCH(B3,Eingabemaske!$F$2:$F$50))) -> 0 | I3: =IF(Eingabemaske!B$2="Quader",1/(1/Wasser!Z4+1/Luft!Z4+((Eingabemaske!B$12/1000)/Eingabemaske!O$3))*Eingabemaske!B$6*Eingabemaske!B$7*Wasser!B4,1/(1/Wasser!Z4+1/Luft!Z4+((Eingabemaske!B$12/1000)/Eingabemaske!O$3))*(Eingabemaske!B$6/2)^2*PI()*Wasser!B4) -> 0.26077989 | J3: =IF(Eingabemaske!B$2="Quader",1/(1/Wasser!AA4+1/Luft!AA4+((Eingabemaske!B$12/1000)/Eingabemaske!O$3))*(Eingabemaske!B$6*Eingabemaske!B$5+Eingabemaske!B$7*Eingabemaske!B$5)*2*Wasser!B4,1/(1/Wasser!AA4+1/Luft!AA4+((Eingabemaske!B$12/1000)/Eingabemaske!O$3))*(Eingabemaske!B$6+Eingabemaske!B$12/2000)^2*PI()*Wasser!B4) -> 0.41217282 | K3: =I3+J3 -> 0.67295271 | L3: =IF(Eingabemaske!B$2="Quader",((Eingabemaske!B$6*Eingabemaske!B$7)+((Eingabemaske!B$5*Eingabemaske!B$6)+(Eingabemaske!B$5*Eingabemaske!B$6))*2)*0.9*5.67*10^-8*((F3+273.15)^4-(E3+273.15)^4),((Eingabemaske!B$6/2)^2*PI()+Eingabemaske!B$6*PI())*0.9*5.67*10^-8*((F3+273.15)^4-(E3+273.15)^4)) -> 2.798436 | M3: =K3+L3 -> 3.4713887
A4: 1 | B4: 1 | C4: =C3+B$1 -> 0.041666667 | D4: 1 | E4: =Eingabemaske!B$15-(12/PI()*SIN(PI()/12*B4))*Eingabemaske!B$17 -> 22.40683 | F4: =F3+(1/G4*(H3-I3-J3-L3)*30*60) -> 22.989819 | G4: =IF(Eingabemaske!B$2="Quader",Eingabemaske!B$7*Eingabemaske!B$6*Eingabemaske!B$5*(Eingabemaske!B$23/100)*998.2*4179+(Eingabemaske!B$6*Eingabemaske!B$7*(Eingabemaske!B$12/1000)*2+Eingabemaske!B$5*Eingabemaske!B$6*(Eingabemaske!B$12/1000)*2+Eingabemaske!B$5*Eingabemaske!B$7*(Eingabemaske!B$12/1000)*2)*Eingabemaske!P$3*Eingabemaske!N$3,(Eingabemaske!B$6/2)^2*PI()*Eingabemaske!B$5*(Eingabemaske!B$23/100)*998.2*4179+(((Eingabemaske!B$6+Eingabemaske!B$12/1000)^2-Eingabemaske!B$6^2)*PI()*1/4+(Eingabemaske!B$6+Eingabemaske!B$12/1000)^2*(Eingabemaske!B$12/1000))*Eingabemaske!P$3*Eingabemaske!N$3) -> 613727.11 | H4: =INDEX(Eingabemaske!$K$2:$K$50,(MATCH(B4,Eingabemaske!$F$2:$F$50))) -> 0 | I4: =IF(Eingabemaske!B$2="Quader",1/(1/Wasser!Z5+1/Luft!Z5+((Eingabemaske!B$12/1000)/Eingabemaske!O$3))*Eingabemaske!B$6*Eingabemaske!B$7*Wasser!B5,1/(1/Wasser!Z5+1/Luft!Z5+((Eingabemaske!B$12/1000)/Eingabemaske!O$3))*(Eingabemaske!B$6/2)^2*PI()*Wasser!B5) -> 0.62641511 | J4: =IF(Eingabemaske!B$2="Quader",1/(1/Wasser!AA5+1/Luft!AA5+((Eingabemaske!B$12/1000)/Eingabemaske!O$3))*(Eingabemaske!B$6*Eingabemaske!B$5+Eingabemaske!B$7*Eingabemaske!B$5)*2*Wasser!B5,1/(1/Wasser!AA5+1/Luft!AA5+((Eingabemaske!B$12/1000)/Eingabemaske!O$3))*(Eingabemaske!B$6+Eingabemaske!B$12/2000)^2*PI()*Wasser!B5) -> 0.95669872 | K4: =I4+J4 -> 1.5831138 | L4: =IF(Eingabemaske!B$2="Quader",((Eingabemaske!B$6*Eingabemaske!B$7)+((Eingabemaske!B$5*Eingabemaske!B$6)+(Eingabemaske!B$5*Eingabemaske!B$6))*2)*0.9*5.67*10^-8*((F4+273.15)^4-(E4+273.15)^4),((Eingabemaske!B$6/2)^2*PI()+Eingabemaske!B$6*PI())*0.9*5.67*10^-8*((F4+273.15)^4-(E4+273.15)^4)) -> 5.4453472 | M4: =K4+L4 -> 7.0284611
A5: 1 | B5: 1.5 | C5: =C4+B$1 -> 0.0625 | D5: 1.5 | E5: =Eingabemaske!B$15-(12/PI()*SIN(PI()/12*B5))*Eingabemaske!B$17 -> 22.122954 | F5: =F4+(1/G5*(H4-I4-J4-L4)*30*60) -> 22.969205 | G5: =IF(Eingabemaske!B$2="Quader",Eingabemaske!B$7*Eingabemaske!B$6*Eingabemaske!B$5*(Eingabemaske!B$23/100)*998.2*4179+(Eingabemaske!B$6*Eingabemaske!B$7*(Eingabemaske!B$12/1000)*2+Eingabemaske!B$5*Eingabemaske!B$6*(Eingabemaske!B$12/1000)*2+Eingabemaske!B$5*Eingabemaske!B$7*(Eingabemaske!B$12/1000)*2)*Eingabemaske!P$3*Eingabemaske!N$3,(Eingabemaske!B$6/2)^2*PI()*Eingabemaske!B$5*(Eingabemaske!B$23/100)*998.2*4179+(((Eingabemaske!B$6+Eingabemaske!B$12/1000)^2-Eingabemaske!B$6^2)*PI()*1/4+(Eingabemaske!B$6+Eingabemaske!B$12/1000)^2*(Eingabemaske!B$12/1000))*Eingabemaske!P$3*Eingabemaske!N$3) -> 613727.11 | H5: =INDEX(Eingabemaske!$K$2:$K$50,(MATCH(B5,Eingabemaske!$F$2:$F$50))) -> 0 | I5: =IF(Eingabemaske!B$2="Quader",1/(1/Wasser!Z6+1/Luft!Z6+((Eingabemaske!B$12/1000)/Eingabemaske!O$3))*Eingabemaske!B$6*Eingabemaske!B$7*Wasser!B6,1/(1/Wasser!Z6+1/Luft!Z6+((Eingabemaske!B$12/1000)/Eingabemaske!O$3))*(Eingabemaske!B$6/2)^2*PI()*Wasser!B6) -> 1.0210915 | J5: =IF(Eingabemaske!B$2="Quader",1/(1/Wasser!AA6+1/Luft!AA6+((Eingabemaske!B$12/1000)/Eingabemaske!O$3))*(Eingabemaske!B$6*Eingabemaske!B$5+Eingabemaske!B$7*Eingabemaske!B$5)*2*Wasser!B6,1/(1/Wasser!AA6+1/Luft!AA6+((Eingabemaske!B$12/1000)/Eingabemaske!O$3))*(Eingabemaske!B$6+Eingabemaske!B$12/2000)^2*PI()*Wasser!B6) -> 1.5365329 | K5: =I5+J5 -> 2.5576245 | L5: =IF(Eingabemaske!B$2="Quader",((Eingabemaske!B$6*Eingabemaske!B$7)+((Eingabemaske!B$5*Eingabemaske!B$6)+(Eingabemaske!B$5*Eingabemaske!B$6))*2)*0.9*5.67*10^-8*((F5+273.15)^4-(E5+273.15)^4),((Eingabemaske!B$6/2)^2*PI()+Eingabemaske!B$6*PI())*0.9*5.67*10^-8*((F5+273.15)^4-(E5+273.15)^4)) -> 7.8921376 | M5: =K5+L5 -> 10.449762
A6: 1 | B6: 2 | C6: =C5+B$1 -> 0.083333333 | D6: 2 | E6: =Eingabemaske!B$15-(12/PI()*SIN(PI()/12*B6))*Eingabemaske!B$17 -> 21.854084 | F6: =F5+(1/G6*(H5-I5-J5-L5)*30*60) -> 22.938557 | G6: =IF(Eingabemaske!B$2="Quader",Eingabemaske!B$7*Eingabemaske!B$6*Eingabemaske!B$5*(Eingabemaske!B$23/100)*998.2*4179+(Eingabemaske!B$6*Eingabemaske!B$7*(Eingabemaske!B$12/1000)*2+Eingabemaske!B$5*Eingabemaske!B$6*(Eingabemaske!B$12/1000)*2+Eingabemaske!B$5*Eingabemaske!B$7*(Eingabemaske!B$12/1000)*2)*Eingabemaske!P$3*Eingabemaske!N$3,(Eingabemaske!B$6/2)^2*PI()*Eingabemaske!B$5*(Eingabemaske!B$23/100)*998.2*4179+(((Eingabemaske!B$6+Eingabemaske!B$12/1000)^2-Eingabemaske!B$6^2)*PI()*1/4+(Eingabemaske!B$6+Eingabemaske!B$12/1000)^2*(Eingabemaske!B$12/1000))*Eingabemaske!P$3*Eingabemaske!N$3) -> 613727.11 | H6: =INDEX(Eingabemaske!$K$2:$K$50,(MATCH(B6,Eingabemaske!$F$2:$F$50))) -> 0 | I6: =IF(Eingabemaske!B$2="Quader",1/(1/Wasser!Z7+1/Luft!Z7+((Eingabemaske!B$12/1000)/Eingabemaske!O$3))*Eingabemaske!B$6*Eingabemaske!B$7*Wasser!B7,1/(1/Wasser!Z7+1/Luft!Z7+((Eingabemaske!B$12/1000)/Eingabemaske!O$3))*(Eingabemaske!B$6/2)^2*PI()*Wasser!B7) -> 1.4130358 | J6: =IF(Eingabemaske!B$2="Quader",1/(1/Wasser!AA7+1/Luft!AA7+((Eingabemaske!B$12/1000)/Eingabemaske!O$3))*(Eingabemaske!B$6*Eingabemaske!B$5+Eingabemaske!B$7*Eingabemaske!B$5)*2*Wasser!B7,1/(1/Wasser!AA7+1/Luft!AA7+((Eingabemaske!B$12/1000)/Eingabemaske!O$3))*(Eingabemaske!B$6+Eingabemaske!B$12/2000)^2*PI()*Wasser!B7) -> 2.1086052 | K6: =I6+J6 -> 3.521641 | L6: =IF(Eingabemaske!B$2="Quader",((Eingabemaske!B$6*Eingabemaske!B$7)+((Eingabemaske!B$5*Eingabemaske!B$6)+(Eingabemaske!B$5*Eingabemaske!B$6))*2)*0.9*5.67*10^-8*((F6+273.15)^4-(E6+273.15)^4),((Eingabemaske!B$6/2)^2*PI()+Eingabemaske!B$6*PI())*0.9*5.67*10^-8*((F6+273.15)^4-(E6+273.15)^4)) -> 10.098448 | M6: =K6+L6 -> 13.620089
A7: 1 | B7: 2.5 | C7: =C6+B$1 -> 0.10416667 | D7: 2.5 | E7: =Eingabemaske!B$15-(12/PI()*SIN(PI()/12*B7))*Eingabemaske!B$17 -> 21.604822 | F7: =F6+(1/G7*(H6-I6-J6-L6)*30*60) -> 22.898611 | G7: =IF(Eingabemaske!B$2="Quader",Eingabemaske!B$7*Eingabemaske!B$6*Eingabemaske!B$5*(Eingabemaske!B$23/100)*998.2*4179+(Eingabemaske!B$6*Eingabemaske!B$7*(Eingabemaske!B$12/1000)*2+Eingabemaske!B$5*Eingabemaske!B$6*(Eingabemaske!B$12/1000)*2+Eingabemaske!B$5*Eingabemaske!B$7*(Eingabemaske!B$12/1000)*2)*Eingabemaske!P$3*Eingabemaske!N$3,(Eingabemaske!B$6/2)^2*PI()*Eingabemaske!B$5*(Eingabemaske!B$23/100)*998.2*4179+(((Eingabemaske!B$6+Eingabemaske!B$12/1000)^2-Eingabemaske!B$6^2)*PI()*1/4+(Eingabemaske!B$6+Eingabemaske!B$12/1000)^2*(Eingabemaske!B$12/1000))*Eingabemaske!P$3*Eingabemaske!N$3) -> 613727.11 | H7: =INDEX(Eingabemaske!$K$2:$K$50,(MATCH(B7,Eingabemaske!$F$2:$F$50))) -> 0 | I7: =IF(Eingabemaske!B$2="Quader",1/(1/Wasser!Z8+1/Luft!Z8+((Eingabemaske!B$12/1000)/Eingabemaske!O$3))*Eingabemaske!B$6*Eingabemaske!B$7*Wasser!B8,1/(1/Wasser!Z8+1/Luft!Z8+((Eingabemaske!B$12/1000)/Eingabemaske!O$3))*(Eingabemaske!B$6/2)^2*PI()*Wasser!B8) -> 1.7802108 | J7: =IF(Eingabemaske!B$2="Quader",1/(1/Wasser!AA8+1/Luft!AA8+((Eingabemaske!B$12/1000)/Eingabemaske!O$3))*(Eingabemaske!B$6*Eingabemaske!B$5+Eingabemaske!B$7*Eingabemaske!B$5)*2*Wasser!B8,1/(1/Wasser!AA8+1/Luft!AA8+((Eingabemaske!B$12/1000)/Eingabemaske!O$3))*(Eingabemaske!B$6+Eingabemaske!B$12/2000)^2*PI()*Wasser!B8) -> 2.6425251 | K7: =I7+J7 -> 4.4227359 | L7: =IF(Eingabemaske!B$2="Quader",((Eingabemaske!B$6*Eingabemaske!B$7)+((Eingabemaske!B$5*Eingabemaske!B$6)+(Eingabemaske!B$5*Eingabemaske!B$6))*2)*0.9*5.67*10^-8*((F7+273.15)^4-(E7+273.15)^4),((Eingabemaske!B$6/2)^2*PI()+Eingabemaske!B$6*PI())*0.9*5.67*10^-8*((F7+273.15)^4-(E7+273.15)^4)) -> 12.029914 | M7: =K7+L7 -> 16.45265
A8: 1 | B8: 3 | C8: =C7+B$1 -> 0.125 | D8: 3 | E8: =Eingabemaske!B$15-(12/PI()*SIN(PI()/12*B8))*Eingabemaske!B$17 -> 21.379431 | F8: =F7+(1/G8*(H7-I7-J7-L7)*30*60) -> 22.850357 | G8: =IF(Eingabemaske!B$2="Quader",Eingabemaske!B$7*Eingabemaske!B$6*Eingabemaske!B$5*(Eingabemaske!B$23/100)*998.2*4179+(Eingabemaske!B$6*Eingabemaske!B$7*(Eingabemaske!B$12/1000)*2+Eingabemaske!B$5*Eingabemaske!B$6*(Eingabemaske!B$12/1000)*2+Eingabemaske!B$5*Eingabemaske!B$7*(Eingabemaske!B$12/1000)*2)*Eingabemaske!P$3*Eingabemaske!N$3,(Eingabemaske!B$6/2)^2*PI()*Eingabemaske!B$5*(Eingabemaske!B$23/100)*998.2*4179+(((Eingabemaske!B$6+Eingabemaske!B$12/1000)^2-Eingabemaske!B$6^2)*PI()*1/4+(Eingabemaske!B$6+Eingabemaske!B$12/1000)^2*(Eingabemaske!B$12/1000))*Eingabemaske!P$3*Eingabemaske!N$3) -> 613727.11 | H8: =INDEX(Eingabemaske!$K$2:$K$50,(MATCH(B8,Eingabemaske!$F$2:$F$50))) -> 0 | I8: =IF(Eingabemaske!B$2="Quader",1/(1/Wasser!Z9+1/Luft!Z9+((Eingabemaske!B$12/1000)/Eingabemaske!O$3))*Eingabemaske!B$6*Eingabemaske!B$7*Wasser!B9,1/(1/Wasser!Z9+1/Luft!Z9+((Eingabemaske!B$12/1000)/Eingabemaske!O$3))*(Eingabemaske!B$6/2)^2*PI()*Wasser!B9) -> 2.105634 | J8: =IF(Eingabemaske!B$2="Quader",1/(1/Wasser!AA9+1/Luft!AA9+((Eingabemaske!B$12/1000)/Eingabemaske!O$3))*(Eingabemaske!B$6*Eingabemaske!B$5+Eingabemaske!B$7*Eingabemaske!B$5)*2*Wasser!B9,1/(1/Wasser!AA9+1/Luft!AA9+((Eingabemaske!B$12/1000)/Eingabemaske!O$3))*(Eingabemaske!B$6+Eingabemaske!B$12/2000)^2*PI()*Wasser!B9) -> 3.1146324 | K8: =I8+J8 -> 5.2202663 | L8: =IF(Eingabemaske!B$2="Quader",((Eingabemaske!B$6*Eingabemaske!B$7)+((Eingabemaske!B$5*Eingabemaske!B$6)+(Eingabemaske!B$5*Eingabemaske!B$6))*2)*0.9*5.67*10^-8*((F8+273.15)^4-(E8+273.15)^4),((Eingabemaske!B$6/2)^2*PI()+Eingabemaske!B$6*PI())*0.9*5.67*10^-8*((F8+273.15)^4-(E8+273.15)^4)) -> 13.657993 | M8: =K8+L8 -> 18.87826
A9: 1 | B9: 3.5 | C9: =C8+B$1 -> 0.14583333 | D9: 3.5 | E9: =Eingabemaske!B$15-(12/PI()*SIN(PI()/12*B9))*Eingabemaske!B$17 -> 21.181768 | F9: =F8+(1/G9*(H8-I8-J8-L8)*30*60) -> 22.794989 | G9: =IF(Eingabemaske!B$2="Quader",Eingabemaske!B$7*Eingabemaske!B$6*Eingabemaske!B$5*(Eingabemaske!B$23/100)*998.2*4179+(Eingabemaske!B$6*Eingabemaske!B$7*(Eingabemaske!B$12/1000)*2+Eingabemaske!B$5*Eingabemaske!B$6*(Eingabemaske!B$12/1000)*2+Eingabemaske!B$5*Eingabemaske!B$7*(Eingabemaske!B$12/1000)*2)*Eingabemaske!P$3*Eingabemaske!N$3,(Eingabemaske!B$6/2)^2*PI()*Eingabemaske!B$5*(Eingabemaske!B$23/100)*998.2*4179+(((Eingabemaske!B$6+Eingabemaske!B$12/1000)^2-Eingabemaske!B$6^2)*PI()*1/4+(Eingabemaske!B$6+Eingabemaske!B$12/1000)^2*(Eingabemaske!B$12/1000))*Eingabemaske!P$3*Eingabemaske!N$3) -> 613727.11 | H9: =INDEX(Eingabemaske!$K$2:$K$50,(MATCH(B9,Eingabemaske!$F$2:$F$50))) -> 0 | I9: =IF(Eingabemaske!B$2="Quader",1/(1/Wasser!Z10+1/Luft!Z10+((Eingabemaske!B$12/1000)/Eingabemaske!O$3))*Eingabemaske!B$6*Eingabemaske!B$7*Wasser!B10,1/(1/Wasser!Z10+1/Luft!Z10+((Eingabemaske!B$12/1000)/Eingabemaske!O$3))*(Eingabemaske!B$6/2)^2*PI()*Wasser!B10) -> 2.376 | J9: =IF(Eingabemaske!B$2="Quader",1/(1/Wasser!AA10+1/Luft!AA10+((Eingabemaske!B$12/1000)/Eingabemaske!O$3))*(Eingabemaske!B$6*Eingabemaske!B$5+Eingabemaske!B$7*Eingabemaske!B$5)*2*Wasser!B10,1/(1/Wasser!AA10+1/Luft!AA10+((Eingabemaske!B$12/1000)/Eingabemaske!O$3))*(Eingabemaske!B$6+Eingabemaske!B$12/2000)^2*PI()*Wasser!B10) -> 3.5062696 | K9: =I9+J9 -> 5.8822696 | L9: =IF(Eingabemaske!B$2="Quader",((Eingabemaske!B$6*Eingabemaske!B$7)+((Eingabemaske!B$5*Eingabemaske!B$6)+(Eingabemaske!B$5*Eingabemaske!B$6))*2)*0.9*5.67*10^-8*((F9+273.15)^4-(E9+273.15)^4),((Eingabemaske!B$6/2)^2*PI()+Eingabemaske!B$6*PI())*0.9*5.67*10^-8*((F9+273.15)^4-(E9+273.15)^4)) -> 14.960013 | M9: =K9+L9 -> 20.842283
A10: 1 | B10: 4 | C10: =C9+B$1 -> 0.16666667 | D10: 4 | E10: =Eingabemaske!B$15-(12/PI()*SIN(PI()/12*B10))*Eingabemaske!B$17 -> 21.015216 | F10: =F9+(1/G10*(H9-I9-J9-L9)*30*60) -> 22.73386 | G10: =IF(Eingabemaske!B$2="Quader",Eingabemaske!B$7*Eingabemaske!B$6*Eingabemaske!B$5*(Eingabemaske!B$23/100)*998.2*4179+(Eingabemaske!B$6*Eingabemaske!B$7*(Eingabemaske!B$12/1000)*2+Eingabemaske!B$5*Eingabemaske!B$6*(Eingabemaske!B$12/1000)*2+Eingabemaske!B$5*Eingabemaske!B$7*(Eingabemaske!B$12/1000)*2)*Eingabemaske!P$3*Eingabemaske!N$3,(Eingabemaske!B$6/2)^2*PI()*Eingabemaske!B$5*(Eingabemaske!B$23/100)*998.2*4179+(((Eingabemaske!B$6+Eingabemaske!B$12/1000)^2-Eingabemaske!B$6^2)*PI()*1/4+(Eingabemaske!B$6+Eingabemaske!B$12/1000)^2*(Eingabemaske!B$12/1000))*Eingabemaske!P$3*Eingabemaske!N$3) -> 613727.11 | H10: =INDEX(Eingabemaske!$K$2:$K$50,(MATCH(B10,Eingabemaske!$F$2:$F$50))) -> 0 | I10: =IF(Eingabemaske!B$2="Quader",1/(1/Wasser!Z11+1/Luft!Z11+((Eingabemaske!B$12/1000)/Eingabemaske!O$3))*Eingabemaske!B$6*Eingabemaske!B$7*Wasser!B11,1/(1/Wasser!Z11+1/Luft!Z11+((Eingabemaske!B$12/1000)/Eingabemaske!O$3))*(Eingabemaske!B$6/2)^2*PI()*Wasser!B11) -> 2.5811992 | J10: =IF(Eingabemaske!B$2="Quader",1/(1/Wasser!AA11+1/Luft!AA11+((Eingabemaske!B$12/1000)/Eingabemaske!O$3))*(Eingabemaske!B$6*Eingabemaske!B$5+Eingabemaske!B$7*Eingabemaske!B$5)*2*Wasser!B11,1/(1/Wasser!AA11+1/Luft!AA11+((Eingabemaske!B$12/1000)/Eingabemaske!O$3))*(Eingabemaske!B$6+Eingabemaske!B$12/2000)^2*PI()*Wasser!B11) -> 3.8032029 | K10: =I10+J10 -> 6.3844021 | L10: =IF(Eingabemaske!B$2="Quader",((Eingabemaske!B$6*Eingabemaske!B$7)+((Eingabemaske!B$5*Eingabemaske!B$6)+(Eingabemaske!B$5*Eingabemaske!B$6))*2)*0.9*5.67*10^-8*((F10+273.15)^4-(E10+273.15)^4),((Eingabemaske!B$6/2)^2*PI()+Eingabemaske!B$6*PI())*0.9*5.67*10^-8*((F10+273.15)^4-(E10+273.15)^4)) -> 15.91923 | M10: =K10+L10 -> 22.303632
A11: 1 | B11: 4.5 | C11: =C10+B$1 -> 0.1875 | D11: 4.5 | E11: =Eingabemaske!B$15-(12/PI()*SIN(PI()/12*B11))*Eingabemaske!B$17 -> 20.882624 | F11: =F10+(1/G11*(H10-I10-J10-L10)*30*60) -> 22.668446 | G11: =IF(Eingabemaske!B$2="Quader",Eingabemaske!B$7*Eingabemaske!B$6*Eingabemaske!B$5*(Eingabemaske!B$23/100)*998.2*4179+(Eingabemaske!B$6*Eingabemaske!B$7*(Eingabemaske!B$12/1000)*2+Eingabemaske!B$5*Eingabemaske!B$6*(Eingabemaske!B$12/1000)*2+Eingabemaske!B$5*Eingabemaske!B$7*(Eingabemaske!B$12/1000)*2)*Eingabemaske!P$3*Eingabemaske!N$3,(Eingabemaske!B$6/2)^2*PI()*Eingabemaske!B$5*(Eingabemaske!B$23/100)*998.2*4179+(((Eingabemaske!B$6+Eingabemaske!B$12/1000)^2-Eingabemaske!B$6^2)*PI()*1/4+(Eingabemaske!B$6+Eingabemaske!B$12/1000)^2*(Eingabemaske!B$12/1000))*Eingabemaske!P$3*Eingabemaske!N$3) -> 613727.11 | H11: =INDEX(Eingabemaske!$K$2:$K$50,(MATCH(B11,Eingabemaske!$F$2:$F$50))) -> 0 | I11: =IF(Eingabemaske!B$2="Quader",1/(1/Wasser!Z12+1/Luft!Z12+((Eingabemaske!B$12/1000)/Eingabemaske!O$3))*Eingabemaske!B$6*Eingabemaske!B$7*Wasser!B12,1/(1/Wasser!Z12+1/Luft!Z12+((Eingabemaske!B$12/1000)/Eingabemaske!O$3))*(Eingabemaske!B$6/2)^2*PI()*Wasser!B12) -> 2.7141411 | J11: =IF(Eingabemaske!B$2="Quader",1/(1/Wasser!AA12+1/Luft!AA12+((Eingabemaske!B$12/1000)/Eingabemaske!O$3))*(Eingabemaske!B$6*Eingabemaske!B$5+Eingabemaske!B$7*Eingabemaske!B$5)*2*Wasser!B12,1/(1/Wasser!AA12+1/Luft!AA12+((Eingabemaske!B$12/1000)/Eingabemaske!O$3))*(Eingabemaske!B$6+Eingabemaske!B$12/2000)^2*PI()*Wasser!B12) -> 3.9954275 | K11: =I11+J11 -> 6.7095685 | L11: =IF(Eingabemaske!B$2="Quader",((Eingabemaske!B$6*Eingabemaske!B$7)+((Eingabemaske!B$5*Eingabemaske!B$6)+(Eingabemaske!B$5*Eingabemaske!B$6))*2)*0.9*5.67*10^-8*((F11+273.15)^4-(E11+273.15)^4),((Eingabemaske!B$6/2)^2*PI()+Eingabemaske!B$6*PI())*0.9*5.67*10^-8*((F11+273.15)^4-(E11+273.15)^4)) -> 16.524837 | M11: =K11+L11 -> 23.234406
A12: 1 | B12: 5 | C12: =C11+B$1 -> 0.20833333 | D12: 5 | E12: =Eingabemaske!B$15-(12/PI()*SIN(PI()/12*B12))*Eingabemaske!B$17 -> 20.786261 | F12: =F11+(1/G12*(H11-I11-J11-L11)*30*60) -> 22.600302 | G12: =IF(Eingabemaske!B$2="Quader",Eingabemaske!B$7*Eingabemaske!B$6*Eingabemaske!B$5*(Eingabemaske!B$23/100)*998.2*4179+(Eingabemaske!B$6*Eingabemaske!B$7*(Eingabemaske!B$12/1000)*2+Eingabemaske!B$5*Eingabemaske!B$6*(Eingabemaske!B$12/1000)*2+Eingabemaske!B$5*Eingabemaske!B$7*(Eingabemaske!B$12/1000)*2)*Eingabemaske!P$3*Eingabemaske!N$3,(Eingabemaske!B$6/2)^2*PI()*Eingabemaske!B$5*(Eingabemaske!B$23/100)*998.2*4179+(((Eingabemaske!B$6+Eingabemaske!B$12/1000)^2-Eingabemaske!B$6^2)*PI()*1/4+(Eingabemaske!B$6+Eingabemaske!B$12/1000)^2*(Eingabemaske!B$12/1000))*Eingabemaske!P$3*Eingabemaske!N$3) -> 613727.11 | H12: =INDEX(Eingabemaske!$K$2:$K$50,(MATCH(B12,Eingabemaske!$F$2:$F$50))) -> 0 | I12: =IF(Eingabemaske!B$2="Quader",1/(1/Wasser!Z13+1/Luft!Z13+((Eingabemaske!B$12/1000)/Eingabemaske!O$3))*Eingabemaske!B$6*Eingabemaske!B$7*Wasser!B13,1/(1/Wasser!Z13+1/Luft!Z13+((Eingabemaske!B$12/1000)/Eingabemaske!O$3))*(Eingabemaske!B$6/2)^2*PI()*Wasser!B13) -> 2.7706807 | J12: =IF(Eingabemaske!B$2="Quader",1/(1/Wasser!AA13+1/Luft!AA13+((Eingabemaske!B$12/1000)/Eingabemaske!O$3))*(Eingabemaske!B$6*Eingabemaske!B$5+Eingabemaske!B$7*Eingabemaske!B$5)*2*Wasser!B13,1/(1/Wasser!AA13+1/Luft!AA13+((Eingabemaske!B$12/1000)/Eingabemaske!O$3))*(Eingabemaske!B$6+Eingabemaske!B$12/2000)^2*PI()*Wasser!B13) -> 4.0770964 | K12: =I12+J12 -> 6.8477772 | L12: =IF(Eingabemaske!B$2="Quader",((Eingabemaske!B$6*Eingabemaske!B$7)+((Eingabemaske!B$5*Eingabemaske!B$6)+(Eingabemaske!B$5*Eingabemaske!B$6))*2)*0.9*5.67*10^-8*((F12+273.15)^4-(E12+273.15)^4),((Eingabemaske!B$6/2)^2*PI()+Eingabemaske!B$6*PI())*0.9*5.67*10^-8*((F12+273.15)^4-(E12+273.15)^4)) -> 16.77192 | M12: =K12+L12 -> 23.619697
A13: 1 | B13: 5.5 | C13: =C12+B$1 -> 0.22916667 | D13: 5.5 | E13: =Eingabemaske!B$15-(12/PI()*SIN(PI()/12*B13))*Eingabemaske!B$17 -> 20.727776 | F13: =F12+(1/G13*(H12-I12-J12-L12)*30*60) -> 22.531028 | G13: =IF(Eingabemaske!B$2="Quader",Eingabemaske!B$7*Eingabemaske!B$6*Eingabemaske!B$5*(Eingabemaske!B$23/100)*998.2*4179+(Eingabemaske!B$6*Eingabemaske!B$7*(Eingabemaske!B$12/1000)*2+Eingabemaske!B$5*Eingabemaske!B$6*(Eingabemaske!B$12/1000)*2+Eingabemaske!B$5*Eingabemaske!B$7*(Eingabemaske!B$12/1000)*2)*Eingabemaske!P$3*Eingabemaske!N$3,(Eingabemaske!B$6/2)^2*PI()*Eingabemaske!B$5*(Eingabemaske!B$23/100)*998.2*4179+(((Eingabemaske!B$6+Eingabemaske!B$12/1000)^2-Eingabemaske!B$6^2)*PI()*1/4+(Eingabemaske!B$6+Eingabemaske!B$12/1000)^2*(Eingabemaske!B$12/1000))*Eingabemaske!P$3*Eingabemaske!N$3) -> 613727.11 | H13: =INDEX(Eingabemaske!$K$2:$K$50,(MATCH(B13,Eingabemaske!$F$2:$F$50))) -> 0 | I13: =IF(Eingabemaske!B$2="Quader",1/(1/Wasser!Z14+1/Luft!Z14+((Eingabemaske!B$12/1000)/Eingabemaske!O$3))*Eingabemaske!B$6*Eingabemaske!B$7*Wasser!B14,1/(1/Wasser!Z14+1/Luft!Z14+((Eingabemaske!B$12/1000)/Eingabemaske!O$3))*(Eingabemaske!B$6/2)^2*PI()*Wasser!B14) -> 2.7495677 | J13: =IF(Eingabemaske!B$2="Quader",1/(1/Wasser!AA14+1/Luft!AA14+((Eingabemaske!B$12/1000)/Eingabemaske!O$3))*(Eingabemaske!B$6*Eingabemaske!B$5+Eingabemaske!B$7*Eingabemaske!B$5)*2*Wasser!B14,1/(1/Wasser!AA14+1/Luft!AA14+((Eingabemaske!B$12/1000)/Eingabemaske!O$3))*(Eingabemaske!B$6+Eingabemaske!B$12/2000)^2*PI()*Wasser!B14) -> 4.0464649 | K13: =I13+J13 -> 6.7960326 | L13: =IF(Eingabemaske!B$2="Quader",((Eingabemaske!B$6*Eingabemaske!B$7)+((Eingabemaske!B$5*Eingabemaske!B$6)+(Eingabemaske!B$5*Eingabemaske!B$6))*2)*0.9*5.67*10^-8*((F13+273.15)^4-(E13+273.15)^4),((Eingabemaske!B$6/2)^2*PI()+Eingabemaske!B$6*PI())*0.9*5.67*10^-8*((F13+273.15)^4-(E13+273.15)^4)) -> 16.661335 | M13: =K13+L13 -> 23.457367
A14: 1 | B14: 6 | C14: =C13+B$1 -> 0.25 | D14: 6 | E14: =Eingabemaske!B$15-(12/PI()*SIN(PI()/12*B14))*Eingabemaske!B$17 -> 20.708169 | F14: =F13+(1/G14*(H13-I13-J13-L13)*30*60) -> 22.462229 | G14: =IF(Eingabemaske!B$2="Quader",Eingabemaske!B$7*Eingabemaske!B$6*Eingabemaske!B$5*(Eingabemaske!B$23/100)*998.2*4179+(Eingabemaske!B$6*Eingabemaske!B$7*(Eingabemaske!B$12/1000)*2+Eingabemaske!B$5*Eingabemaske!B$6*(Eingabemaske!B$12/1000)*2+Eingabemaske!B$5*Eingabemaske!B$7*(Eingabemaske!B$12/1000)*2)*Eingabemaske!P$3*Eingabemaske!N$3,(Eingabemaske!B$6/2)^2*PI()*Eingabemaske!B$5*(Eingabemaske!B$23/100)*998.2*4179+(((Eingabemaske!B$6+Eingabemaske!B$12/1000)^2-Eingabemaske!B$6^2)*PI()*1/4+(Eingabemaske!B$6+Eingabemaske!B$12/1000)^2*(Eingabemaske!B$12/1000))*Eingabemaske!P$3*Eingabemaske!N$3) -> 613727.11 | H14: =INDEX(Eingabemaske!$K$2:$K$50,(MATCH(B14,Eingabemaske!$F$2:$F$50))) -> 0 | I14: =IF(Eingabemaske!B$2="Quader",1/(1/Wasser!Z15+1/Luft!Z15+((Eingabemaske!B$12/1000)/Eingabemaske!O$3))*Eingabemaske!B$6*Eingabemaske!B$7*Wasser!B15,1/(1/Wasser!Z15+1/Luft!Z15+((Eingabemaske!B$12/1000)/Eingabemaske!O$3))*(Eingabemaske!B$6/2)^2*PI()*Wasser!B15) -> 2.6523803 | J14: =IF(Eingabemaske!B$2="Quader",1/(1/Wasser!AA15+1/Luft!AA15+((Eingabemaske!B$12/1000)/Eingabemaske!O$3))*(Eingabemaske!B$6*Eingabemaske!B$5+Eingabemaske!B$7*Eingabemaske!B$5)*2*Wasser!B15,1/(1/Wasser!AA15+1/Luft!AA15+((Eingabemaske!B$12/1000)/Eingabemaske!O$3))*(Eingabemaske!B$6+Eingabemaske!B$12/2000)^2*PI()*Wasser!B15) -> 3.9058043 | K14: =I14+J14 -> 6.5581847 | L14: =IF(Eingabemaske!B$2="Quader",((Eingabemaske!B$6*Eingabemaske!B$7)+((Eingabemaske!B$5*Eingabemaske!B$6)+(Eingabemaske!B$5*Eingabemaske!B$6))*2)*0.9*5.67*10^-8*((F14+273.15)^4-(E14+273.15)^4),((Eingabemaske!B$6/2)^2*PI()+Eingabemaske!B$6*PI())*0.9*5.67*10^-8*((F14+273.15)^4-(E14+273.15)^4)) -> 16.19953 | M14: =K14+L14 -> 22.757714
... A49: 1 | B49: 23.5 | C49: =C48+B$1 -> 0.97916667 | D49: 23.5 | E49: =Eingabemaske!B$15-(12/PI()*SIN(PI()/12*B49))*Eingabemaske!B$17 -> 23.299144 | F49: =F48+(1/G49*(H48-I48-J48-L48)*30*60) -> 32.53335 | G49: =IF(Eingabemaske!B$2="Quader",Eingabemaske!B$7*Eingabemaske!B$6*Eingabemaske!B$5*(Eingabemaske!B$23/100)*998.2*4179+(Eingabemaske!B$6*Eingabemaske!B$7*(Eingabemaske!B$12/1000)*2+Eingabemaske!B$5*Eingabemaske!B$6*(Eingabemaske!B$12/1000)*2+Eingabemaske!B$5*Eingabemaske!B$7*(Eingabemaske!B$12/1000)*2)*Eingabemaske!P$3*Eingabemaske!N$3,(Eingabemaske!B$6/2)^2*PI()*Eingabemaske!B$5*(Eingabemaske!B$23/100)*998.2*4179+(((Eingabemaske!B$6+Eingabemaske!B$12/1000)^2-Eingabemaske!B$6^2)*PI()*1/4+(Eingabemaske!B$6+Eingabemaske!B$12/1000)^2*(Eingabemaske!B$12/1000))*Eingabemaske!P$3*Eingabemaske!N$3) -> 613727.11 | H49: =INDEX(Eingabemaske!$K$2:$K$50,(MATCH(B49,Eingabemaske!$F$2:$F$50))) -> 0 | I49: =IF(Eingabemaske!B$2="Quader",1/(1/Wasser!Z50+1/Luft!Z50+((Eingabemaske!B$12/1000)/Eingabemaske!O$3))*Eingabemaske!B$6*Eingabemaske!B$7*Wasser!B50,1/(1/Wasser!Z50+1/Luft!Z50+((Eingabemaske!B$12/1000)/Eingabemaske!O$3))*(Eingabemaske!B$6/2)^2*PI()*Wasser!B50) -> 22.64441 | J49: =IF(Eingabemaske!B$2="Quader",1/(1/Wasser!AA50+1/Luft!AA50+((Eingabemaske!B$12/1000)/Eingabemaske!O$3))*(Eingabemaske!B$6*Eingabemaske!B$5+Eingabemaske!B$7*Eingabemaske!B$5)*2*Wasser!B50,1/(1/Wasser!AA50+1/Luft!AA50+((Eingabemaske!B$12/1000)/Eingabemaske!O$3))*(Eingabemaske!B$6+Eingabemaske!B$12/2000)^2*PI()*Wasser!B50) -> 32.8485 | K49: =I49+J49 -> 55.49291 | L49: =IF(Eingabemaske!B$2="Quader",((Eingabemaske!B$6*Eingabemaske!B$7)+((Eingabemaske!B$5*Eingabemaske!B$6)+(Eingabemaske!B$5*Eingabemaske!B$6))*2)*0.9*5.67*10^-8*((F49+273.15)^4-(E49+273.15)^4),((Eingabemaske!B$6/2)^2*PI()+Eingabemaske!B$6*PI())*0.9*5.67*10^-8*((F49+273.15)^4-(E49+273.15)^4)) -> 90.917159 | M49: =K49+L49 -> 146.41007
A50: =A2+1 -> 2 | B50: 24 | C50: =C49+B$1 -> 1 | D50: 24 | E50: =Eingabemaske!B$15-(12/PI()*SIN(PI()/12*B50))*Eingabemaske!B$17 -> 23 | F50: =F49+(1/G50*(H49-I49-J49-L49)*30*60) -> 32.103944 | G50: =IF(Eingabemaske!B$2="Quader",Eingabemaske!B$7*Eingabemaske!B$6*Eingabemaske!B$5*(Eingabemaske!B$23/100)*998.2*4179+(Eingabemaske!B$6*Eingabemaske!B$7*(Eingabemaske!B$12/1000)*2+Eingabemaske!B$5*Eingabemaske!B$6*(Eingabemaske!B$12/1000)*2+Eingabemaske!B$5*Eingabemaske!B$7*(Eingabemaske!B$12/1000)*2)*Eingabemaske!P$3*Eingabemaske!N$3,(Eingabemaske!B$6/2)^2*PI()*Eingabemaske!B$5*(Eingabemaske!B$23/100)*998.2*4179+(((Eingabemaske!B$6+Eingabemaske!B$12/1000)^2-Eingabemaske!B$6^2)*PI()*1/4+(Eingabemaske!B$6+Eingabemaske!B$12/1000)^2*(Eingabemaske!B$12/1000))*Eingabemaske!P$3*Eingabemaske!N$3) -> 613727.11 | H50: =INDEX(Eingabemaske!$K$2:$K$50,(MATCH(B50,Eingabemaske!$F$2:$F$50))) -> 0 | I50: =IF(Eingabemaske!B$2="Quader",1/(1/Wasser!Z51+1/Luft!Z51+((Eingabemaske!B$12/1000)/Eingabemaske!O$3))*Eingabemaske!B$6*Eingabemaske!B$7*Wasser!B51,1/(1/Wasser!Z51+1/Luft!Z51+((Eingabemaske!B$12/1000)/Eingabemaske!O$3))*(Eingabemaske!B$6/2)^2*PI()*Wasser!B51) -> 22.247943 | J50: =IF(Eingabemaske!B$2="Quader",1/(1/Wasser!AA51+1/Luft!AA51+((Eingabemaske!B$12/1000)/Eingabemaske!O$3))*(Eingabemaske!B$6*Eingabemaske!B$5+Eingabemaske!B$7*Eingabemaske!B$5)*2*Wasser!B51,1/(1/Wasser!AA51+1/Luft!AA51+((Eingabemaske!B$12/1000)/Eingabemaske!O$3))*(Eingabemaske!B$6+Eingabemaske!B$12/2000)^2*PI()*Wasser!B51) -> 32.270028 | K50: =I50+J50 -> 54.517971 | L50: =IF(Eingabemaske!B$2="Quader",((Eingabemaske!B$6*Eingabemaske!B$7)+((Eingabemaske!B$5*Eingabemaske!B$6)+(Eingabemaske!B$5*Eingabemaske!B$6))*2)*0.9*5.67*10^-8*((F50+273.15)^4-(E50+273.15)^4),((Eingabemaske!B$6/2)^2*PI()+Eingabemaske!B$6*PI())*0.9*5.67*10^-8*((F50+273.15)^4-(E50+273.15)^4)) -> 89.309133 | M50: =K50+L50 -> 143.8271
A51: =A3+1 -> 2 | B51: =B3 -> 0.5 | C51: =C50+B$1 -> 1.0208333 | D51: 24.5 | E51: =Eingabemaske!B$15-(12/PI()*SIN(PI()/12*B51))*Eingabemaske!B$17 -> 22.700856 | F51: =F50+(1/G51*(H50-I50-J50-L50)*30*60) -> 31.682114 | G51: =IF(Eingabemaske!B$2="Quader",Eingabemaske!B$7*Eingabemaske!B$6*Eingabemaske!B$5*(Eingabemaske!B$23/100)*998.2*4179+(Eingabemaske!B$6*Eingabemaske!B$7*(Eingabemaske!B$12/1000)*2+Eingabemaske!B$5*Eingabemaske!B$6*(Eingabemaske!B$12/1000)*2+Eingabemaske!B$5*Eingabemaske!B$7*(Eingabemaske!B$12/1000)*2)*Eingabemaske!P$3*Eingabemaske!N$3,(Eingabemaske!B$6/2)^2*PI()*Eingabemaske!B$5*(Eingabemaske!B$23/100)*998.2*4179+(((Eingabemaske!B$6+Eingabemaske!B$12/1000)^2-Eingabemaske!B$6^2)*PI()*1/4+(Eingabemaske!B$6+Eingabemaske!B$12/1000)^2*(Eingabemaske!B$12/1000))*Eingabemaske!P$3*Eingabemaske!N$3) -> 613727.11 | H51: =INDEX(Eingabemaske!$K$2:$K$50,(MATCH(B51,Eingabemaske!$F$2:$F$50))) -> 0 | I51: =IF(Eingabemaske!B$2="Quader",1/(1/Wasser!Z52+1/Luft!Z52+((Eingabemaske!B$12/1000)/Eingabemaske!O$3))*Eingabemaske!B$6*Eingabemaske!B$7*Wasser!B52,1/(1/Wasser!Z52+1/Luft!Z52+((Eingabemaske!B$12/1000)/Eingabemaske!O$3))*(Eingabemaske!B$6/2)^2*PI()*Wasser!B52) -> 21.876331 | J51: =IF(Eingabemaske!B$2="Quader",1/(1/Wasser!AA52+1/Luft!AA52+((Eingabemaske!B$12/1000)/Eingabemaske!O$3))*(Eingabemaske!B$6*Eingabemaske!B$5+Eingabemaske!B$7*Eingabemaske!B$5)*2*Wasser!B52,1/(1/Wasser!AA52+1/Luft!AA52+((Eingabemaske!B$12/1000)/Eingabemaske!O$3))*(Eingabemaske!B$6+Eingabemaske!B$12/2000)^2*PI()*Wasser!B52) -> 31.727844 | K51: =I51+J51 -> 53.604176 | L51: =IF(Eingabemaske!B$2="Quader",((Eingabemaske!B$6*Eingabemaske!B$7)+((Eingabemaske!B$5*Eingabemaske!B$6)+(Eingabemaske!B$5*Eingabemaske!B$6))*2)*0.9*5.67*10^-8*((F51+273.15)^4-(E51+273.15)^4),((Eingabemaske!B$6/2)^2*PI()+Eingabemaske!B$6*PI())*0.9*5.67*10^-8*((F51+273.15)^4-(E51+273.15)^4)) -> 87.788607 | M51: =K51+L51 -> 141.39278
A52: =A4+1 -> 2 | B52: =B4 -> 1 | C52: =C51+B$1 -> 1.0416667 | D52: 25 | E52: =Eingabemaske!B$15-(12/PI()*SIN(PI()/12*B52))*Eingabemaske!B$17 -> 22.40683 | F52: =F51+(1/G52*(H51-I51-J51-L51)*30*60) -> 31.267423 | G52: =IF(Eingabemaske!B$2="Quader",Eingabemaske!B$7*Eingabemaske!B$6*Eingabemaske!B$5*(Eingabemaske!B$23/100)*998.2*4179+(Eingabemaske!B$6*Eingabemaske!B$7*(Eingabemaske!B$12/1000)*2+Eingabemaske!B$5*Eingabemaske!B$6*(Eingabemaske!B$12/1000)*2+Eingabemaske!B$5*Eingabemaske!B$7*(Eingabemaske!B$12/1000)*2)*Eingabemaske!P$3*Eingabemaske!N$3,(Eingabemaske!B$6/2)^2*PI()*Eingabemaske!B$5*(Eingabemaske!B$23/100)*998.2*4179+(((Eingabemaske!B$6+Eingabemaske!B$12/1000)^2-Eingabemaske!B$6^2)*PI()*1/4+(Eingabemaske!B$6+Eingabemaske!B$12/1000)^2*(Eingabemaske!B$12/1000))*Eingabemaske!P$3*Eingabemaske!N$3) -> 613727.11 | H52: =INDEX(Eingabemaske!$K$2:$K$50,(MATCH(B52,Eingabemaske!$F$2:$F$50))) -> 0 | I52: =IF(Eingabemaske!B$2="Quader",1/(1/Wasser!Z53+1/Luft!Z53+((Eingabemaske!B$12/1000)/Eingabemaske!O$3))*Eingabemaske!B$6*Eingabemaske!B$7*Wasser!B53,1/(1/Wasser!Z53+1/Luft!Z53+((Eingabemaske!B$12/1000)/Eingabemaske!O$3))*(Eingabemaske!B$6/2)^2*PI()*Wasser!B53) -> 21.511823 | J52: =IF(Eingabemaske!B$2="Quader",1/(1/Wasser!AA53+1/Luft!AA53+((Eingabemaske!B$12/1000)/Eingabemaske!O$3))*(Eingabemaske!B$6*Eingabemaske!B$5+Eingabemaske!B$7*Eingabemaske!B$5)*2*Wasser!B53,1/(1/Wasser!AA53+1/Luft!AA53+((Eingabemaske!B$12/1000)/Eingabemaske!O$3))*(Eingabemaske!B$6+Eingabemaske!B$12/2000)^2*PI()*Wasser!B53) -> 31.196165 | K52: =I52+J52 -> 52.707987 | L52: =IF(Eingabemaske!B$2="Quader",((Eingabemaske!B$6*Eingabemaske!B$7)+((Eingabemaske!B$5*Eingabemaske!B$6)+(Eingabemaske!B$5*Eingabemaske!B$6))*2)*0.9*5.67*10^-8*((F52+273.15)^4-(E52+273.15)^4),((Eingabemaske!B$6/2)^2*PI()+Eingabemaske!B$6*PI())*0.9*5.67*10^-8*((F52+273.15)^4-(E52+273.15)^4)) -> 86.30248 | M52: =K52+L52 -> 139.01047
A53: =A5+1 -> 2 | B53: =B5 -> 1.5 | C53: =C52+B$1 -> 1.0625 | D53: 25.5 | E53: =Eingabemaske!B$15-(12/PI()*SIN(PI()/12*B53))*Eingabemaske!B$17 -> 22.122954 | F53: =F52+(1/G53*(H52-I52-J52-L52)*30*60) -> 30.859719 | G53: =IF(Eingabemaske!B$2="Quader",Eingabemaske!B$7*Eingabemaske!B$6*Eingabemaske!B$5*(Eingabemaske!B$23/100)*998.2*4179+(Eingabemaske!B$6*Eingabemaske!B$7*(Eingabemaske!B$12/1000)*2+Eingabemaske!B$5*Eingabemaske!B$6*(Eingabemaske!B$12/1000)*2+Eingabemaske!B$5*Eingabemaske!B$7*(Eingabemaske!B$12/1000)*2)*Eingabemaske!P$3*Eingabemaske!N$3,(Eingabemaske!B$6/2)^2*PI()*Eingabemaske!B$5*(Eingabemaske!B$23/100)*998.2*4179+(((Eingabemaske!B$6+Eingabemaske!B$12/1000)^2-Eingabemaske!B$6^2)*PI()*1/4+(Eingabemaske!B$6+Eingabemaske!B$12/1000)^2*(Eingabemaske!B$12/1000))*Eingabemaske!P$3*Eingabemaske!N$3) -> 613727.11 | H53: =INDEX(Eingabemaske!$K$2:$K$50,(MATCH(B53,Eingabemaske!$F$2:$F$50))) -> 0 | I53: =IF(Eingabemaske!B$2="Quader",1/(1/Wasser!Z54+1/Luft!Z54+((Eingabemaske!B$12/1000)/Eingabemaske!O$3))*Eingabemaske!B$6*Eingabemaske!B$7*Wasser!B54,1/(1/Wasser!Z54+1/Luft!Z54+((Eingabemaske!B$12/1000)/Eingabemaske!O$3))*(Eingabemaske!B$6/2)^2*PI()*Wasser!B54) -> 21.138058 | J53: =IF(Eingabemaske!B$2="Quader",1/(1/Wasser!AA54+1/Luft!AA54+((Eingabemaske!B$12/1000)/Eingabemaske!O$3))*(Eingabemaske!B$6*Eingabemaske!B$5+Eingabemaske!B$7*Eingabemaske!B$5)*2*Wasser!B54,1/(1/Wasser!AA54+1/Luft!AA54+((Eingabemaske!B$12/1000)/Eingabemaske!O$3))*(Eingabemaske!B$6+Eingabemaske!B$12/2000)^2*PI()*Wasser!B54) -> 30.65125 | K53: =I53+J53 -> 51.789308 | L53: =IF(Eingabemaske!B$2="Quader",((Eingabemaske!B$6*Eingabemaske!B$7)+((Eingabemaske!B$5*Eingabemaske!B$6)+(Eingabemaske!B$5*Eingabemaske!B$6))*2)*0.9*5.67*10^-8*((F53+273.15)^4-(E53+273.15)^4),((Eingabemaske!B$6/2)^2*PI()+Eingabemaske!B$6*PI())*0.9*5.67*10^-8*((F53+273.15)^4-(E53+273.15)^4)) -> 84.801996 | M53: =K53+L53 -> 136.5913
A54: =A6+1 -> 2 | B54: =B6 -> 2 | C54: =C53+B$1 -> 1.0833333 | D54: 26 | E54: =Eingabemaske!B$15-(12/PI()*SIN(PI()/12*B54))*Eingabemaske!B$17 -> 21.854084 | F54: =F53+(1/G54*(H53-I53-J53-L53)*30*60) -> 30.45911 | G54: =IF(Eingabemaske!B$2="Quader",Eingabemaske!B$7*Eingabemaske!B$6*Eingabemaske!B$5*(Eingabemaske!B$23/100)*998.2*4179+(Eingabemaske!B$6*Eingabemaske!B$7*(Eingabemaske!B$12/1000)*2+Eingabemaske!B$5*Eingabemaske!B$6*(Eingabemaske!B$12/1000)*2+Eingabemaske!B$5*Eingabemaske!B$7*(Eingabemaske!B$12/1000)*2)*Eingabemaske!P$3*Eingabemaske!N$3,(Eingabemaske!B$6/2)^2*PI()*Eingabemaske!B$5*(Eingabemaske!B$23/100)*998.2*4179+(((Eingabemaske!B$6+Eingabemaske!B$12/1000)^2-Eingabemaske!B$6^2)*PI()*1/4+(Eingabemaske!B$6+Eingabemaske!B$12/1000)^2*(Eingabemaske!B$12/1000))*Eingabemaske!P$3*Eingabemaske!N$3) -> 613727.11 | H54: =INDEX(Eingabemaske!$K$2:$K$50,(MATCH(B54,Eingabemaske!$F$2:$F$50))) -> 0 | I54: =IF(Eingabemaske!B$2="Quader",1/(1/Wasser!Z55+1/Luft!Z55+((Eingabemaske!B$12/1000)/Eingabemaske!O$3))*Eingabemaske!B$6*Eingabemaske!B$7*Wasser!B55,1/(1/Wasser!Z55+1/Luft!Z55+((Eingabemaske!B$12/1000)/Eingabemaske!O$3))*(Eingabemaske!B$6/2)^2*PI()*Wasser!B55) -> 20.740264 | J54: =IF(Eingabemaske!B$2="Quader",1/(1/Wasser!AA55+1/Luft!AA55+((Eingabemaske!B$12/1000)/Eingabemaske!O$3))*(Eingabemaske!B$6*Eingabemaske!B$5+Eingabemaske!B$7*Eingabemaske!B$5)*2*Wasser!B55,1/(1/Wasser!AA55+1/Luft!AA55+((Eingabemaske!B$12/1000)/Eingabemaske!O$3))*(Eingabemaske!B$6+Eingabemaske!B$12/2000)^2*PI()*Wasser!B55) -> 30.071684 | K54: =I54+J54 -> 50.811948 | L54: =IF(Eingabemaske!B$2="Quader",((Eingabemaske!B$6*Eingabemaske!B$7)+((Eingabemaske!B$5*Eingabemaske!B$6)+(Eingabemaske!B$5*Eingabemaske!B$6))*2)*0.9*5.67*10^-8*((F54+273.15)^4-(E54+273.15)^4),((Eingabemaske!B$6/2)^2*PI()+Eingabemaske!B$6*PI())*0.9*5.67*10^-8*((F54+273.15)^4-(E54+273.15)^4)) -> 83.243196 | M54: =K54+L54 -> 134.05514
A55: =A7+1 -> 2 | B55: =B7 -> 2.5 | C55: =C54+B$1 -> 1.1041667 | D55: 26.5 | E55: =Eingabemaske!B$15-(12/PI()*SIN(PI()/12*B55))*Eingabemaske!B$17 -> 21.604822 | F55: =F54+(1/G55*(H54-I54-J54-L54)*30*60) -> 30.06594 | G55: =IF(Eingabemaske!B$2="Quader",Eingabemaske!B$7*Eingabemaske!B$6*Eingabemaske!B$5*(Eingabemaske!B$23/100)*998.2*4179+(Eingabemaske!B$6*Eingabemaske!B$7*(Eingabemaske!B$12/1000)*2+Eingabemaske!B$5*Eingabemaske!B$6*(Eingabemaske!B$12/1000)*2+Eingabemaske!B$5*Eingabemaske!B$7*(Eingabemaske!B$12/1000)*2)*Eingabemaske!P$3*Eingabemaske!N$3,(Eingabemaske!B$6/2)^2*PI()*Eingabemaske!B$5*(Eingabemaske!B$23/100)*998.2*4179+(((Eingabemaske!B$6+Eingabemaske!B$12/1000)^2-Eingabemaske!B$6^2)*PI()*1/4+(Eingabemaske!B$6+Eingabemaske!B$12/1000)^2*(Eingabemaske!B$12/1000))*Eingabemaske!P$3*Eingabemaske!N$3) -> 613727.11 | H55: =INDEX(Eingabemaske!$K$2:$K$50,(MATCH(B55,Eingabemaske!$F$2:$F$50))) -> 0 | I55: =IF(Eingabemaske!B$2="Quader",1/(1/Wasser!Z56+1/Luft!Z56+((Eingabemaske!B$12/1000)/Eingabemaske!O$3))*Eingabemaske!B$6*Eingabemaske!B$7*Wasser!B56,1/(1/Wasser!Z56+1/Luft!Z56+((Eingabemaske!B$12/1000)/Eingabemaske!O$3))*(Eingabemaske!B$6/2)^2*PI()*Wasser!B56) -> 20.305447 | J55: =IF(Eingabemaske!B$2="Quader",1/(1/Wasser!AA56+1/Luft!AA56+((Eingabemaske!B$12/1000)/Eingabemaske!O$3))*(Eingabemaske!B$6*Eingabemaske!B$5+Eingabemaske!B$7*Eingabemaske!B$5)*2*Wasser!B56,1/(1/Wasser!AA56+1/Luft!AA56+((Eingabemaske!B$12/1000)/Eingabemaske!O$3))*(Eingabemaske!B$6+Eingabemaske!B$12/2000)^2*PI()*Wasser!B56) -> 29.438653 | K55: =I55+J55 -> 49.7441 | L55: =IF(Eingabemaske!B$2="Quader",((Eingabemaske!B$6*Eingabemaske!B$7)+((Eingabemaske!B$5*Eingabemaske!B$6)+(Eingabemaske!B$5*Eingabemaske!B$6))*2)*0.9*5.67*10^-8*((F55+273.15)^4-(E55+273.15)^4),((Eingabemaske!B$6/2)^2*PI()+Eingabemaske!B$6*PI())*0.9*5.67*10^-8*((F55+273.15)^4-(E55+273.15)^4)) -> 81.587296 | M55: =K55+L55 -> 131.3314
A56: =A8+1 -> 2 | B56: =B8 -> 3 | C56: =C55+B$1 -> 1.125 | D56: 27 | E56: =Eingabemaske!B$15-(12/PI()*SIN(PI()/12*B56))*Eingabemaske!B$17 -> 21.379431 | F56: =F55+(1/G56*(H55-I55-J55-L55)*30*60) -> 29.680758 | G56: =IF(Eingabemaske!B$2="Quader",Eingabemaske!B$7*Eingabemaske!B$6*Eingabemaske!B$5*(Eingabemaske!B$23/100)*998.2*4179+(Eingabemaske!B$6*Eingabemaske!B$7*(Eingabemaske!B$12/1000)*2+Eingabemaske!B$5*Eingabemaske!B$6*(Eingabemaske!B$12/1000)*2+Eingabemaske!B$5*Eingabemaske!B$7*(Eingabemaske!B$12/1000)*2)*Eingabemaske!P$3*Eingabemaske!N$3,(Eingabemaske!B$6/2)^2*PI()*Eingabemaske!B$5*(Eingabemaske!B$23/100)*998.2*4179+(((Eingabemaske!B$6+Eingabemaske!B$12/1000)^2-Eingabemaske!B$6^2)*PI()*1/4+(Eingabemaske!B$6+Eingabemaske!B$12/1000)^2*(Eingabemaske!B$12/1000))*Eingabemaske!P$3*Eingabemaske!N$3) -> 613727.11 | H56: =INDEX(Eingabemaske!$K$2:$K$50,(MATCH(B56,Eingabemaske!$F$2:$F$50))) -> 0 | I56: =IF(Eingabemaske!B$2="Quader",1/(1/Wasser!Z57+1/Luft!Z57+((Eingabemaske!B$12/1000)/Eingabemaske!O$3))*Eingabemaske!B$6*Eingabemaske!B$7*Wasser!B57,1/(1/Wasser!Z57+1/Luft!Z57+((Eingabemaske!B$12/1000)/Eingabemaske!O$3))*(Eingabemaske!B$6/2)^2*PI()*Wasser!B57) -> 19.822582 | J56: =IF(Eingabemaske!B$2="Quader",1/(1/Wasser!AA57+1/Luft!AA57+((Eingabemaske!B$12/1000)/Eingabemaske!O$3))*(Eingabemaske!B$6*Eingabemaske!B$5+Eingabemaske!B$7*Eingabemaske!B$5)*2*Wasser!B57,1/(1/Wasser!AA57+1/Luft!AA57+((Eingabemaske!B$12/1000)/Eingabemaske!O$3))*(Eingabemaske!B$6+Eingabemaske!B$12/2000)^2*PI()*Wasser!B57) -> 28.736218 | K56: =I56+J56 -> 48.5588 | L56: =IF(Eingabemaske!B$2="Quader",((Eingabemaske!B$6*Eingabemaske!B$7)+((Eingabemaske!B$5*Eingabemaske!B$6)+(Eingabemaske!B$5*Eingabemaske!B$6))*2)*0.9*5.67*10^-8*((F56+273.15)^4-(E56+273.15)^4),((Eingabemaske!B$6/2)^2*PI()+Eingabemaske!B$6*PI())*0.9*5.67*10^-8*((F56+273.15)^4-(E56+273.15)^4)) -> 79.800979 | M56: =K56+L56 -> 128.35978
A57: =A9+1 -> 2 | B57: =B9 -> 3.5 | C57: =C56+B$1 -> 1.1458333 | D57: 27.5 | E57: =Eingabemaske!B$15-(12/PI()*SIN(PI()/12*B57))*Eingabemaske!B$17 -> 21.181768 | F57: =F56+(1/G57*(H56-I56-J56-L56)*30*60) -> 29.304292 | G57: =IF(Eingabemaske!B$2="Quader",Eingabemaske!B$7*Eingabemaske!B$6*Eingabemaske!B$5*(Eingabemaske!B$23/100)*998.2*4179+(Eingabemaske!B$6*Eingabemaske!B$7*(Eingabemaske!B$12/1000)*2+Eingabemaske!B$5*Eingabemaske!B$6*(Eingabemaske!B$12/1000)*2+Eingabemaske!B$5*Eingabemaske!B$7*(Eingabemaske!B$12/1000)*2)*Eingabemaske!P$3*Eingabemaske!N$3,(Eingabemaske!B$6/2)^2*PI()*Eingabemaske!B$5*(Eingabemaske!B$23/100)*998.2*4179+(((Eingabemaske!B$6+Eingabemaske!B$12/1000)^2-Eingabemaske!B$6^2)*PI()*1/4+(Eingabemaske!B$6+Eingabemaske!B$12/1000)^2*(Eingabemaske!B$12/1000))*Eingabemaske!P$3*Eingabemaske!N$3) -> 613727.11 | H57: =INDEX(Eingabemaske!$K$2:$K$50,(MATCH(B57,Eingabemaske!$F$2:$F$50))) -> 0 | I57: =IF(Eingabemaske!B$2="Quader",1/(1/Wasser!Z58+1/Luft!Z58+((Eingabemaske!B$12/1000)/Eingabemaske!O$3))*Eingabemaske!B$6*Eingabemaske!B$7*Wasser!B58,1/(1/Wasser!Z58+1/Luft!Z58+((Eingabemaske!B$12/1000)/Eingabemaske!O$3))*(Eingabemaske!B$6/2)^2*PI()*Wasser!B58) -> 19.28278 | J57: =IF(Eingabemaske!B$2="Quader",1/(1/Wasser!AA58+1/Luft!AA58+((Eingabemaske!B$12/1000)/Eingabemaske!O$3))*(Eingabemaske!B$6*Eingabemaske!B$5+Eingabemaske!B$7*Eingabemaske!B$5)*2*Wasser!B58,1/(1/Wasser!AA58+1/Luft!AA58+((Eingabemaske!B$12/1000)/Eingabemaske!O$3))*(Eingabemaske!B$6+Eingabemaske!B$12/2000)^2*PI()*Wasser!B58) -> 27.95156 | K57: =I57+J57 -> 47.23434 | L57: =IF(Eingabemaske!B$2="Quader",((Eingabemaske!B$6*Eingabemaske!B$7)+((Eingabemaske!B$5*Eingabemaske!B$6)+(Eingabemaske!B$5*Eingabemaske!B$6))*2)*0.9*5.67*10^-8*((F57+273.15)^4-(E57+273.15)^4),((Eingabemaske!B$6/2)^2*PI()+Eingabemaske!B$6*PI())*0.9*5.67*10^-8*((F57+273.15)^4-(E57+273.15)^4)) -> 77.856598 | M57: =K57+L57 -> 125.09094
A58: =A10+1 -> 2 | B58: =B10 -> 4 | C58: =C57+B$1 -> 1.1666667 | D58: 28 | E58: =Eingabemaske!B$15-(12/PI()*SIN(PI()/12*B58))*Eingabemaske!B$17 -> 21.015216 | F58: =F57+(1/G58*(H57-I57-J57-L57)*30*60) -> 28.937413 | G58: =IF(Eingabemaske!B$2="Quader",Eingabemaske!B$7*Eingabemaske!B$6*Eingabemaske!B$5*(Eingabemaske!B$23/100)*998.2*4179+(Eingabemaske!B$6*Eingabemaske!B$7*(Eingabemaske!B$12/1000)*2+Eingabemaske!B$5*Eingabemaske!B$6*(Eingabemaske!B$12/1000)*2+Eingabemaske!B$5*Eingabemaske!B$7*(Eingabemaske!B$12/1000)*2)*Eingabemaske!P$3*Eingabemaske!N$3,(Eingabemaske!B$6/2)^2*PI()*Eingabemaske!B$5*(Eingabemaske!B$23/100)*998.2*4179+(((Eingabemaske!B$6+Eingabemaske!B$12/1000)^2-Eingabemaske!B$6^2)*PI()*1/4+(Eingabemaske!B$6+Eingabemaske!B$12/1000)^2*(Eingabemaske!B$12/1000))*Eingabemaske!P$3*Eingabemaske!N$3) -> 613727.11 | H58: =INDEX(Eingabemaske!$K$2:$K$50,(MATCH(B58,Eingabemaske!$F$2:$F$50))) -> 0 | I58: =IF(Eingabemaske!B$2="Quader",1/(1/Wasser!Z59+1/Luft!Z59+((Eingabemaske!B$12/1000)/Eingabemaske!O$3))*Eingabemaske!B$6*Eingabemaske!B$7*Wasser!B59,1/(1/Wasser!Z59+1/Luft!Z59+((Eingabemaske!B$12/1000)/Eingabemaske!O$3))*(Eingabemaske!B$6/2)^2*PI()*Wasser!B59) -> 18.67943 | J58: =IF(Eingabemaske!B$2="Quader",1/(1/Wasser!AA59+1/Luft!AA59+((Eingabemaske!B$12/1000)/Eingabemaske!O$3))*(Eingabemaske!B$6*Eingabemaske!B$5+Eingabemaske!B$7*Eingabemaske!B$5)*2*Wasser!B59,1/(1/Wasser!AA59+1/Luft!AA59+((Eingabemaske!B$12/1000)/Eingabemaske!O$3))*(Eingabemaske!B$6+Eingabemaske!B$12/2000)^2*PI()*Wasser!B59) -> 27.075177 | K58: =I58+J58 -> 45.754607 | L58: =IF(Eingabemaske!B$2="Quader",((Eingabemaske!B$6*Eingabemaske!B$7)+((Eingabemaske!B$5*Eingabemaske!B$6)+(Eingabemaske!B$5*Eingabemaske!B$6))*2)*0.9*5.67*10^-8*((F58+273.15)^4-(E58+273.15)^4),((Eingabemaske!B$6/2)^2*PI()+Eingabemaske!B$6*PI())*0.9*5.67*10^-8*((F58+273.15)^4-(E58+273.15)^4)) -> 75.732306 | M58: =K58+L58 -> 121.48691
A59: =A11+1 -> 2 | B59: =B11 -> 4.5 | C59: =C58+B$1 -> 1.1875 | D59: 28.5 | E59: =Eingabemaske!B$15-(12/PI()*SIN(PI()/12*B59))*Eingabemaske!B$17 -> 20.882624 | F59: =F58+(1/G59*(H58-I58-J58-L58)*30*60) -> 28.581104 | G59: =IF(Eingabemaske!B$2="Quader",Eingabemaske!B$7*Eingabemaske!B$6*Eingabemaske!B$5*(Eingabemaske!B$23/100)*998.2*4179+(Eingabemaske!B$6*Eingabemaske!B$7*(Eingabemaske!B$12/1000)*2+Eingabemaske!B$5*Eingabemaske!B$6*(Eingabemaske!B$12/1000)*2+Eingabemaske!B$5*Eingabemaske!B$7*(Eingabemaske!B$12/1000)*2)*Eingabemaske!P$3*Eingabemaske!N$3,(Eingabemaske!B$6/2)^2*PI()*Eingabemaske!B$5*(Eingabemaske!B$23/100)*998.2*4179+(((Eingabemaske!B$6+Eingabemaske!B$12/1000)^2-Eingabemaske!B$6^2)*PI()*1/4+(Eingabemaske!B$6+Eingabemaske!B$12/1000)^2*(Eingabemaske!B$12/1000))*Eingabemaske!P$3*Eingabemaske!N$3) -> 613727.11 | H59: =INDEX(Eingabemaske!$K$2:$K$50,(MATCH(B59,Eingabemaske!$F$2:$F$50))) -> 0 | I59: =IF(Eingabemaske!B$2="Quader",1/(1/Wasser!Z60+1/Luft!Z60+((Eingabemaske!B$12/1000)/Eingabemaske!O$3))*Eingabemaske!B$6*Eingabemaske!B$7*Wasser!B60,1/(1/Wasser!Z60+1/Luft!Z60+((Eingabemaske!B$12/1000)/Eingabemaske!O$3))*(Eingabemaske!B$6/2)^2*PI()*Wasser!B60) -> 18.008296 | J59: =IF(Eingabemaske!B$2="Quader",1/(1/Wasser!AA60+1/Luft!AA60+((Eingabemaske!B$12/1000)/Eingabemaske!O$3))*(Eingabemaske!B$6*Eingabemaske!B$5+Eingabemaske!B$7*Eingabemaske!B$5)*2*Wasser!B60,1/(1/Wasser!AA60+1/Luft!AA60+((Eingabemaske!B$12/1000)/Eingabemaske!O$3))*(Eingabemaske!B$6+Eingabemaske!B$12/2000)^2*PI()*Wasser!B60) -> 26.101029 | K59: =I59+J59 -> 44.109325 | L59: =IF(Eingabemaske!B$2="Quader",((Eingabemaske!B$6*Eingabemaske!B$7)+((Eingabemaske!B$5*Eingabemaske!B$6)+(Eingabemaske!B$5*Eingabemaske!B$6))*2)*0.9*5.67*10^-8*((F59+273.15)^4-(E59+273.15)^4),((Eingabemaske!B$6/2)^2*PI()+Eingabemaske!B$6*PI())*0.9*5.67*10^-8*((F59+273.15)^4-(E59+273.15)^4)) -> 73.412098 | M59: =K59+L59 -> 117.52142
A60: =A12+1 -> 2 | B60: =B12 -> 5 | C60: =C59+B$1 -> 1.2083333 | D60: 29 | E60: =Eingabemaske!B$15-(12/PI()*SIN(PI()/12*B60))*Eingabemaske!B$17 -> 20.786261 | F60: =F59+(1/G60*(H59-I59-J59-L59)*30*60) -> 28.236425 | G60: =IF(Eingabemaske!B$2="Quader",Eingabemaske!B$7*Eingabemaske!B$6*Eingabemaske!B$5*(Eingabemaske!B$23/100)*998.2*4179+(Eingabemaske!B$6*Eingabemaske!B$7*(Eingabemaske!B$12/1000)*2+Eingabemaske!B$5*Eingabemaske!B$6*(Eingabemaske!B$12/1000)*2+Eingabemaske!B$5*Eingabemaske!B$7*(Eingabemaske!B$12/1000)*2)*Eingabemaske!P$3*Eingabemaske!N$3,(Eingabemaske!B$6/2)^2*PI()*Eingabemaske!B$5*(Eingabemaske!B$23/100)*998.2*4179+(((Eingabemaske!B$6+Eingabemaske!B$12/1000)^2-Eingabemaske!B$6^2)*PI()*1/4+(Eingabemaske!B$6+Eingabemaske!B$12/1000)^2*(Eingabemaske!B$12/1000))*Eingabemaske!P$3*Eingabemaske!N$3) -> 613727.11 | H60: =INDEX(Eingabemaske!$K$2:$K$50,(MATCH(B60,Eingabemaske!$F$2:$F$50))) -> 0 | I60: =IF(Eingabemaske!B$2="Quader",1/(1/Wasser!Z61+1/Luft!Z61+((Eingabemaske!B$12/1000)/Eingabemaske!O$3))*Eingabemaske!B$6*Eingabemaske!B$7*Wasser!B61,1/(1/Wasser!Z61+1/Luft!Z61+((Eingabemaske!B$12/1000)/Eingabemaske!O$3))*(Eingabemaske!B$6/2)^2*PI()*Wasser!B61) -> 17.267575 | J60: =IF(Eingabemaske!B$2="Quader",1/(1/Wasser!AA61+1/Luft!AA61+((Eingabemaske!B$12/1000)/Eingabemaske!O$3))*(Eingabemaske!B$6*Eingabemaske!B$5+Eingabemaske!B$7*Eingabemaske!B$5)*2*Wasser!B61,1/(1/Wasser!AA61+1/Luft!AA61+((Eingabemaske!B$12/1000)/Eingabemaske!O$3))*(Eingabemaske!B$6+Eingabemaske!B$12/2000)^2*PI()*Wasser!B61) -> 25.026615 | K60: =I60+J60 -> 42.29419 | L60: =IF(Eingabemaske!B$2="Quader",((Eingabemaske!B$6*Eingabemaske!B$7)+((Eingabemaske!B$5*Eingabemaske!B$6)+(Eingabemaske!B$5*Eingabemaske!B$6))*2)*0.9*5.67*10^-8*((F60+273.15)^4-(E60+273.15)^4),((Eingabemaske!B$6/2)^2*PI()+Eingabemaske!B$6*PI())*0.9*5.67*10^-8*((F60+273.15)^4-(E60+273.15)^4)) -> 70.885781 | M60: =K60+L60 -> 113.17997
A61: =A13+1 -> 2 | B61: =B13 -> 5.5 | C61: =C60+B$1 -> 1.2291667 | D61: 29.5 | E61: =Eingabemaske!B$15-(12/PI()*SIN(PI()/12*B61))*Eingabemaske!B$17 -> 20.727776 | F61: =F60+(1/G61*(H60-I60-J60-L60)*30*60) -> 27.90448 | G61: =IF(Eingabemaske!B$2="Quader",Eingabemaske!B$7*Eingabemaske!B$6*Eingabemaske!B$5*(Eingabemaske!B$23/100)*998.2*4179+(Eingabemaske!B$6*Eingabemaske!B$7*(Eingabemaske!B$12/1000)*2+Eingabemaske!B$5*Eingabemaske!B$6*(Eingabemaske!B$12/1000)*2+Eingabemaske!B$5*Eingabemaske!B$7*(Eingabemaske!B$12/1000)*2)*Eingabemaske!P$3*Eingabemaske!N$3,(Eingabemaske!B$6/2)^2*PI()*Eingabemaske!B$5*(Eingabemaske!B$23/100)*998.2*4179+(((Eingabemaske!B$6+Eingabemaske!B$12/1000)^2-Eingabemaske!B$6^2)*PI()*1/4+(Eingabemaske!B$6+Eingabemaske!B$12/1000)^2*(Eingabemaske!B$12/1000))*Eingabemaske!P$3*Eingabemaske!N$3) -> 613727.11 | H61: =INDEX(Eingabemaske!$K$2:$K$50,(MATCH(B61,Eingabemaske!$F$2:$F$50))) -> 0 | I61: =IF(Eingabemaske!B$2="Quader",1/(1/Wasser!Z62+1/Luft!Z62+((Eingabemaske!B$12/1000)/Eingabemaske!O$3))*Eingabemaske!B$6*Eingabemaske!B$7*Wasser!B62,1/(1/Wasser!Z62+1/Luft!Z62+((Eingabemaske!B$12/1000)/Eingabemaske!O$3))*(Eingabemaske!B$6/2)^2*PI()*Wasser!B62) -> 16.457902 | J61: =IF(Eingabemaske!B$2="Quader",1/(1/Wasser!AA62+1/Luft!AA62+((Eingabemaske!B$12/1000)/Eingabemaske!O$3))*(Eingabemaske!B$6*Eingabemaske!B$5+Eingabemaske!B$7*Eingabemaske!B$5)*2*Wasser!B62,1/(1/Wasser!AA62+1/Luft!AA62+((Eingabemaske!B$12/1000)/Eingabemaske!O$3))*(Eingabemaske!B$6+Eingabemaske!B$12/2000)^2*PI()*Wasser!B62) -> 23.852967 | K61: =I61+J61 -> 40.310869 | L61: =IF(Eingabemaske!B$2="Quader",((Eingabemaske!B$6*Eingabemaske!B$7)+((Eingabemaske!B$5*Eingabemaske!B$6)+(Eingabemaske!B$5*Eingabemaske!B$6))*2)*0.9*5.67*10^-8*((F61+273.15)^4-(E61+273.15)^4),((Eingabemaske!B$6/2)^2*PI()+Eingabemaske!B$6*PI())*0.9*5.67*10^-8*((F61+273.15)^4-(E61+273.15)^4)) -> 68.148885 | M61: =K61+L61 -> 108.45975
