Workbook

Sheet Tabelle1
A1: Lorem | B1: =OFFSET(Tabelle2!$K$1,SUMPRODUCT((A1=Tabelle2!$A$1:$J$5)*ROW(Tabelle2!$A$1:$J$5))-1,0) -> aab609a0-b6e3-4274-bab3-714e724c5468
A2: ipsum | B2: =OFFSET(Tabelle2!$K$1,SUMPRODUCT((A2=Tabelle2!$A$1:$J$5)*ROW(Tabelle2!$A$1:$J$5))-1,0) -> da09afeb-9c74-4f0e-b15c-1ea7e3965a82
A3: dolor | B3: =OFFSET(Tabelle2!$K$1,SUMPRODUCT((A3=Tabelle2!$A$1:$J$5)*ROW(Tabelle2!$A$1:$J$5))-1,0) -> 803d9a2f-d71c-4f73-8266-de5e5c1ac4a7
A4: sit | B4: =OFFSET(Tabelle2!$K$1,SUMPRODUCT((A4=Tabelle2!$A$1:$J$5)*ROW(Tabelle2!$A$1:$J$5))-1,0) -> 80d4ee80-87a0-4392-9e07-5f09021cbb00
A5: amet | B5: =OFFSET(Tabelle2!$K$1,SUMPRODUCT((A5=Tabelle2!$A$1:$J$5)*ROW(Tabelle2!$A$1:$J$5))-1,0) -> 803d9a2f-d71c-4f73-8266-de5e5c1ac4a7
A6: consectetuer | B6: =OFFSET(Tabelle2!$K$1,SUMPRODUCT((A6=Tabelle2!$A$1:$J$5)*ROW(Tabelle2!$A$1:$J$5))-1,0) -> 803d9a2f-d71c-4f73-8266-de5e5c1ac4a7
A7: adipiscing | B7: =OFFSET(Tabelle2!$K$1,SUMPRODUCT((A7=Tabelle2!$A$1:$J$5)*ROW(Tabelle2!$A$1:$J$5))-1,0) -> 803d9a2f-d71c-4f73-8266-de5e5c1ac4a7
A8: elit | B8: =OFFSET(Tabelle2!$K$1,SUMPRODUCT((A8=Tabelle2!$A$1:$J$5)*ROW(Tabelle2!$A$1:$J$5))-1,0) -> 803d9a2f-d71c-4f73-8266-de5e5c1ac4a7
A9: Maecenas | B9: =OFFSET(Tabelle2!$K$1,SUMPRODUCT((A9=Tabelle2!$A$1:$J$5)*ROW(Tabelle2!$A$1:$J$5))-1,0) -> aab609a0-b6e3-4274-bab3-714e724c5468
A10: porttitor | B10: =OFFSET(Tabelle2!$K$1,SUMPRODUCT((A10=Tabelle2!$A$1:$J$5)*ROW(Tabelle2!$A$1:$J$5))-1,0) -> fdf8e01f-19a0-4a5d-b5a8-c5e73166af85
A11: congue | B11: =OFFSET(Tabelle2!$K$1,SUMPRODUCT((A11=Tabelle2!$A$1:$J$5)*ROW(Tabelle2!$A$1:$J$5))-1,0) -> 803d9a2f-d71c-4f73-8266-de5e5c1ac4a7
A12: massa | B12: =OFFSET(Tabelle2!$K$1,SUMPRODUCT((A12=Tabelle2!$A$1:$J$5)*ROW(Tabelle2!$A$1:$J$5))-1,0) -> aab609a0-b6e3-4274-bab3-714e724c5468
... A50: orci | B50: =OFFSET(Tabelle2!$K$1,SUMPRODUCT((A50=Tabelle2!$A$1:$J$5)*ROW(Tabelle2!$A$1:$J$5))-1,0) -> fdf8e01f-19a0-4a5d-b5a8-c5e73166af85

Sheet Tabelle2
A1: a | B1: ac | C1: adipiscing | D1: amet | E1: commodo | F1: congue | G1: consectetuer | H1: dolor | I1: egestas | J1: elit | K1: 803d9a2f-d71c-4f73-8266-de5e5c1ac4a7
A2: enim | B2: eros | C2: est | D2: et | E2: fames | F2: Fusce | G2: habitant | H2: imperdiet | I2: ipsum | J2: lectus | K2: da09afeb-9c74-4f0e-b15c-1ea7e3965a82
A3: libero | B3: Lorem | C3: Maecenas | D3: magna | E3: malesuada | F3: massa | G3: Mauris | H3: morbi | I3: netus | J3: nonummy | K3: aab609a0-b6e3-4274-bab3-714e724c5468
A4: Nunc | B4: orci | C4: pede | D4: Pellentesque | E4: pharetra | F4: porttitor | G4: posuere | H4: Proin | I4: pulvinar | J4: purus | K4: fdf8e01f-19a0-4a5d-b5a8-c5e73166af85
A5: quis | B5: sed | C5: senectus | D5: sit | E5: tellus | F5: tristique | G5: turpis | H5: ultricies | I5: urna | J5: Vivamus | K5: 80d4ee80-87a0-4392-9e07-5f09021cbb00

Sheet Tabelle3
