Workbook

Sheet Verteiler
A1: Belegungsliste | I1: Lokation - Verteiler | Z1: 1a | AA1: 2a | AB1: 3a | AC1: 4a
Z2: =IF(OR(COUNTIF(B8:Y8,Z1)>0,COUNTIF(B14:Y14,Z1)>0),"In Zeile"&MAX((B8:Y8=Z1)*ROW(B8:Y8))&",Spalte "&MAX((B8:Y8=Z1)*COLUMN(B8:Y8)),"-") -> #VALUE! | AA2: =IFERROR(INDEX($B$8:$Y$80,MATCH(AA1,$B$8:$Y$80,0)), "-") -> - | AB2: =IFERROR(INDEX($B$8:$Y$80,MATCH(AB1,$B$8:$Y$80,0)), "-") -> - | AC2: =IFERROR(INDEX($B$8:$Y$80,MATCH(AC1,$B$8:$Y$80,0)), "-") -> -
A3: X | B3: 1 | C3: 2 | D3: 3 | E3: 4 | F3: 5 | G3: 6 | H3: 7 | I3: 8 | J3: C1 | K3: 10 | L3: 11 | M3: 12 | N3: 13 | O3: 14 | P3: 15 | Q3: 16 | R3: 17 | S3: 18 | T3: 19 | U3: 20 | V3: 21 | W3: 22 | X3: 23 | Y3: 24 | Z3: =IFERROR( INDEX(B$3:Y$3,1,MATCH("1a",B8:Y8,0))& INDEX(B$9:Y$9,1,MATCH("1a",B14:Y14,0))& INDEX(B$15:Y$15,1,MATCH("1a",B20:Y20,0))& INDEX(B$21:Y$21,1,MATCH("1a",B26:Y26,0))& INDEX(B$27:Y$27,1,MATCH("1a",B32:Y32,0))& INDEX(B$33:Y$33,1,MATCH("1a",B38:Y38,0))& INDEX(B$39:Y$39,1,MATCH("1a",B44:Y44,0))& INDEX(B45:Y$45,1,MATCH("1a",B50:Y50,0))& INDEX(B$51:Y$51,1,MATCH("1a",B56:Y56,0))& INDEX(B$57:Y$57,1,MATCH("1a",B62:Y62,0))& INDEX(B$63:Y$63,1,MATCH("1a",B68:Y68,0)), "-") -> - | AC3: =IFERROR( INDEX(B$3:Y$3,1,MATCH("1a",B8:Y8,0))& INDEX(B$9:Y$9,1,MATCH("1a",B14:Y14,0))& INDEX(B$15:Y$15,1,MATCH("1a",B20:Y20,0))& INDEX(B$21:Y$21,1,MATCH("1a",B26:Y26,0))& INDEX(B$27:Y$27,1,MATCH("1a",B32:Y32,0))& INDEX(B$33:Y$33,1,MATCH("1a",B38:Y38,0))& INDEX(B$39:Y$39,1,MATCH("1a",B44:Y44,0))& INDEX(B45:Y$45,1,MATCH("1a",B50:Y50,0))& INDEX(B$51:Y$51,1,MATCH("1a",B56:Y56,0))& INDEX(B$57:Y$57,1,MATCH("1a",B62:Y62,0))& INDEX(B$63:Y$63,1,MATCH("1a",B68:Y68,0)), "-") -> -
A4: Raum | Z4: =IFERROR( INDEX(B$3:Y$68,MATCH("1a",B8:Y68,0),MATCH("1a",B$3:Y$3,0)), "-") -> -
A5: Endgerät | Z5: Formel-Test oben
A6: VLAN
A7: AG oder GBA ?
A8: Switchport | E8: 1a | J8: 2a | O8: 3a
A9: B | B9: 01 | C9: 02 | D9: 03 | E9: 04 | F9: 05 | H9: 07 | I9: 08 | J9: 09 | K9: 10 | L9: 11 | M9: 12 | N9: 13 | O9: 14 | P9: 15 | Q9: 16 | R9: 17 | S9: 18 | T9: 19 | U9: 20 | V9: 21 | W9: 22 | X9: 23 | Y9: 24
A10: Raum
A11: Endgerät
A12: VLAN
A13: AG oder GBA ?
A14: Switchport
A15: C | B15: 01 | C15: 02 | D15: 03 | E15: 04 | F15: 05 | G15: 06 | H15: 07 | I15: 08 | J15: 09 | K15: 10 | L15: 11 | M15: 12 | N15: 13 | O15: 14 | P15: 15 | Q15: 16 | R15: 17 | S15: 18 | T15: 19 | U15: 20 | V15: 21 | W15: 22 | X15: 23 | Y15: 24
A16: Raum
A17: Endgerät
A18: VLAN | AA18: a | AC18: 1 | AD18: 3 | AE18: 5 | AF18: 7 | AG18: 9 | AH18: 11 | AI18: 13 | AJ18: 15 | AK18: 17 | AL18: 19 | AM18: 21 | AN18: 23 | AO18: 25 | AP18: 27 | AQ18: 29 | AR18: 31 | AS18: 33 | AT18: 35 | AU18: 37 | AV18: 39 | AW18: 41 | AX18: 43 | AY18: 45 | AZ18: 47
A19: AG oder GBA ? | AC19: =WENNFEHLER($A$3&" "&INDEX($B$3:$Y$3;1;VERGLEICH("1a";$B$8:$Y$8;0));"-") | AD19: =WENNFEHLER($A$3&" "&INDEX($B$3:$Y$3;1;VERGLEICH("3a";$B$8:$Y$8;0));"-") | AE19: =D82 -> - | AF19: =E82 -> - | AG19: =F82 -> - | AH19: =G82 -> - | AI19: =H82 -> - | AJ19: =I82 -> - | AK19: =J82 -> - | AL19: =K82 -> - | ... AZ19: =Y82 -> -
A20: Switchport | AC20: =IFERROR($A$3&" "&INDEX($B$3:$Y$3,1,MATCH("2a",$B$8:$Y$8,0)),"-") -> X C1 | AD20: =WENNFEHLER($A$3&" "&INDEX($B$3:$Y$3;1;VERGLEICH("4a";$B$8:$Y$8;0));"-") | AE20: =D83 -> - | AF20: =E83 -> - | AG20: =F83 -> - | AH20: =G83 -> - | AI20: =H83 -> - | AJ20: =I83 -> - | AK20: =J83 -> - | AL20: =K83 -> - | ... AZ20: =Y83 -> -
A21: D | B21: 01 | C21: 02 | D21: 03 | E21: 04 | F21: 05 | G21: 06 | H21: 07 | I21: 08 | J21: 09 | K21: 10 | L21: 11 | M21: 12 | N21: 13 | O21: 14 | P21: 15 | Q21: 16 | R21: 17 | S21: 18 | T21: 19 | U21: 20 | V21: 21 | W21: 22 | X21: 23 | Y21: 24 | AC21: 2 | AD21: 4 | AE21: 6 | AF21: 8 | AG21: 10 | AH21: 12 | AI21: 14 | AJ21: 16 | AK21: 18 | AL21: 20 | AM21: 22 | AN21: 24 | AO21: 26 | AP21: 28 | AQ21: 30 | AR21: 32 | AS21: 34 | AT21: 36 | AU21: 38 | AV21: 40 | AW21: 42 | AX21: 44 | AY21: 46 | AZ21: 48
A22: Raum | AA22: b | AC22: 1 | AD22: 3 | AE22: 5 | AF22: 7 | AG22: 9 | AH22: 11 | AI22: 13 | AJ22: 15 | AK22: 17 | AL22: 19 | AM22: 21 | AN22: 23 | AO22: 25 | AP22: 27 | AQ22: 29 | AR22: 31 | AS22: 33 | AT22: 35 | AU22: 37 | AV22: 39 | AW22: 41 | AX22: 43 | AY22: 45 | AZ22: 47
A23: Endgerät | AC23: =B86 -> - | AD23: =C86 -> - | AE23: =D86 -> - | AF23: =E86 -> - | AG23: =F86 -> - | AH23: =G86 -> - | AI23: =H86 -> - | AJ23: =I86 -> - | ... AZ23: =Y86 -> -
A24: VLAN | AC24: =B87 -> 0 | AD24: =C87 -> 0 | AE24: =D87 -> 0 | AF24: =E87 -> 0 | AG24: =F87 -> 0 | AH24: =G87 -> 0 | AI24: =H87 -> 0 | AJ24: =I87 -> 0 | ... AZ24: =Y87 -> 0
A25: AG oder GBA ? | AC25: 2 | AD25: 4 | AE25: 6 | AF25: 8 | AG25: 10 | AH25: 12 | AI25: 14 | AJ25: 16 | AK25: 18 | AL25: 20 | AM25: 22 | AN25: 24 | AO25: 26 | AP25: 28 | AQ25: 30 | AR25: 32 | AS25: 34 | AT25: 36 | AU25: 38 | AV25: 40 | AW25: 42 | AX25: 44 | AY25: 46 | AZ25: 48
A26: Switchport
A27: E | B27: 01 | C27: 02 | D27: 03 | E27: 04 | F27: 05 | G27: 06 | H27: 07 | I27: 08 | J27: 09 | K27: 10 | L27: 11 | M27: 12 | N27: 13 | O27: 14 | P27: 15 | Q27: 16 | R27: 17 | S27: 18 | T27: 19 | U27: 20 | V27: 21 | W27: 22 | X27: 23 | Y27: 24
A28: Raum
A29: Endgerät
A30: VLAN
A31: AG oder GBA ?
A32: Switchport
A33: F | B33: 01 | C33: 02 | D33: 03 | E33: 04 | F33: 05 | G33: 06 | H33: 07 | I33: 08 | J33: 09 | K33: 10 | L33: 11 | M33: 12 | N33: 13 | O33: 14 | P33: 15 | Q33: 16 | R33: 17 | S33: 18 | T33: 19 | U33: 20 | V33: 21 | W33: 22 | X33: 23 | Y33: 24
A34: Raum
A35: Endgerät
A36: VLAN
A37: AG oder GBA ?
A38: Switchport
A39: G | B39: 01 | C39: 02 | D39: 03 | E39: 04 | F39: 05 | G39: 06 | H39: 07 | I39: 08 | J39: 09 | K39: 10 | L39: 11 | M39: 12 | N39: 13 | O39: 14 | P39: 15 | Q39: 16 | R39: 17 | S39: 18 | T39: 19 | U39: 20 | V39: 21 | W39: 22 | X39: 23 | Y39: 24
A40: Raum
...

Sheet Tabelle1
A1: 1_1 | B1: =IF(COUNTIF(Verteiler!$B$8:$Y$8,Tabelle1!$A$1),"1_1","-") -> - | C1: =IF(COUNTIF(Verteiler!$B$14:$Y$14,Tabelle1!$A$1),"1_1","-") -> - | D1: =IF(COUNTIF(Verteiler!$B$20:$Y$20,Tabelle1!$A$1),"1_1","-") -> - | E1: =IF(COUNTIF(Verteiler!$B$26:$Y$26,Tabelle1!$A$1),"1_1","-") -> - | F1: =IF(COUNTIF(Verteiler!$B$32:$Y$32,Tabelle1!$A$1),"1_1","-") -> - | G1: =IF(COUNTIF(Verteiler!$B$38:$Y$38,Tabelle1!$A$1),"1_1","-") -> - | H1: =IF(COUNTIF(Verteiler!$B$44:$Y$44,Tabelle1!$A$1),"1_1","-") -> - | I1: =IF(COUNTIF(Verteiler!$B$50:$Y$50,Tabelle1!$A$1),"1_1","-") -> - | J1: =IF(COUNTIF(Verteiler!$B$56:$Y$56,Tabelle1!$A$1),"1_1","-") -> - | K1: =IF(COUNTIF(Verteiler!$B$62:$Y$62,Tabelle1!$A$1),"1_1","-") -> - | L1: =IF(COUNTIF(Verteiler!$B$68:$Y$68,Tabelle1!$A$1),"1_1","-") -> - | M1: =IF(COUNTIF(Verteiler!$B$38:$Y$38,Tabelle1!$A$1),"1_1","-") -> - | S1: =IF(COUNTIF(Verteiler!$B$38:$Y$38,Tabelle1!$A$1),"1_1","-") -> - | U1: 1_1
A2: 1_2 | B2: =IF(COUNTIF(Verteiler!$B$8:$Y$8,Tabelle1!$A$2),"1_2","-") -> - | C2: =IF(COUNTIF(Verteiler!$B$14:$Y$14,Tabelle1!$A$2),"1_2","-") -> - | D2: =IF(COUNTIF(Verteiler!$B$20:$Y$20,Tabelle1!$A$2),"1_2","-") -> - | E2: =IF(COUNTIF(Verteiler!$B$26:$Y$26,Tabelle1!$A$2),"1_2","-") -> - | F2: =IF(COUNTIF(Verteiler!$B$32:$Y$32,Tabelle1!$A$2),"1_2","-") -> - | G2: =IF(COUNTIF(Verteiler!$B$38:$Y$38,Tabelle1!$A$2),"1_2","-") -> - | H2: =IF(COUNTIF(Verteiler!$B$44:$Y$44,Tabelle1!$A$2),"1_2","-") -> - | I2: =IF(COUNTIF(Verteiler!$B$50:$Y$50,Tabelle1!$A$2),"1_2","-") -> - | J2: =IF(COUNTIF(Verteiler!$B$56:$Y$56,Tabelle1!$A$2),"1_2","-") -> - | K2: =IF(COUNTIF(Verteiler!$B$62:$Y$62,Tabelle1!$A$2),"1_2","-") -> - | L2: =IF(COUNTIF(Verteiler!$B$68:$Y$68,Tabelle1!$A$2),"1_2","-") -> - | M2: =IF(COUNTIF(Verteiler!$B$38:$Y$38,Tabelle1!$A$2),"1_2","-") -> - | S2: =IF(COUNTIF(Verteiler!$B$38:$Y$38,Tabelle1!$A$2),"1_2","-") -> - | U2: 1_2
A3: 1_3 | B3: =IF(COUNTIF(Verteiler!$B$8:$Y$8,Tabelle1!$A$3),"1_3","-") -> - | C3: =IF(COUNTIF(Verteiler!$B$14:$Y$14,Tabelle1!$A$3),"1_3","-") -> - | D3: =IF(COUNTIF(Verteiler!$B$20:$Y$20,Tabelle1!$A$3),"1_3","-") -> - | E3: =IF(COUNTIF(Verteiler!$B$26:$Y$26,Tabelle1!$A$3),"1_3","-") -> - | F3: =IF(COUNTIF(Verteiler!$B$32:$Y$32,Tabelle1!$A$3),"1_3","-") -> - | G3: =IF(COUNTIF(Verteiler!$B$38:$Y$38,Tabelle1!$A$3),"1_3","-") -> - | H3: =IF(COUNTIF(Verteiler!$B$44:$Y$44,Tabelle1!$A$3),"1_3","-") -> - | I3: =IF(COUNTIF(Verteiler!$B$50:$Y$50,Tabelle1!$A$3),"1_3","-") -> - | J3: =IF(COUNTIF(Verteiler!$B$56:$Y$56,Tabelle1!$A$3),"1_3","-") -> - | K3: =IF(COUNTIF(Verteiler!$B$62:$Y$62,Tabelle1!$A$3),"1_3","-") -> - | L3: =IF(COUNTIF(Verteiler!$B$68:$Y$68,Tabelle1!$A$3),"1_3","-") -> - | M3: =IF(COUNTIF(Verteiler!$B$38:$Y$38,Tabelle1!$A$3),"1_3","-") -> - | S3: =IF(COUNTIF(Verteiler!$B$38:$Y$38,Tabelle1!$A$3),"1_3","-") -> - | U3: 1_3
A4: 1_4 | B4: =IF(COUNTIF(Verteiler!$B$8:$Y$8,Tabelle1!$A$4),"1_4","-") -> - | C4: =IF(COUNTIF(Verteiler!$B$14:$Y$14,Tabelle1!$A$4),"1_4","-") -> - | D4: =IF(COUNTIF(Verteiler!$B$20:$Y$20,Tabelle1!$A$4),"1_4","-") -> - | E4: =IF(COUNTIF(Verteiler!$B$26:$Y$26,Tabelle1!$A$4),"1_4","-") -> - | F4: =IF(COUNTIF(Verteiler!$B$32:$Y$32,Tabelle1!$A$4),"1_4","-") -> - | G4: =IF(COUNTIF(Verteiler!$B$38:$Y$38,Tabelle1!$A$4),"1_4","-") -> - | H4: =IF(COUNTIF(Verteiler!$B$44:$Y$44,Tabelle1!$A$4),"1_4","-") -> - | I4: =IF(COUNTIF(Verteiler!$B$50:$Y$50,Tabelle1!$A$4),"1_4","-") -> - | J4: =IF(COUNTIF(Verteiler!$B$56:$Y$56,Tabelle1!$A$4),"1_4","-") -> - | K4: =IF(COUNTIF(Verteiler!$B$62:$Y$62,Tabelle1!$A$4),"1_4","-") -> - | L4: =IF(COUNTIF(Verteiler!$B$68:$Y$68,Tabelle1!$A$4),"1_4","-") -> - | M4: =IF(COUNTIF(Verteiler!$B$38:$Y$38,Tabelle1!$A$4),"1_4","-") -> - | S4: =IF(COUNTIF(Verteiler!$B$38:$Y$38,Tabelle1!$A$1),"1_1","-") -> - | U4: 1_4
A5: 1_5 | B5: =IF(COUNTIF(Verteiler!$B$8:$Y$8,Tabelle1!$A$5),"1_5","-") -> - | C5: =IF(COUNTIF(Verteiler!$B$14:$Y$14,Tabelle1!$A$5),"1_5","-") -> - | D5: =IF(COUNTIF(Verteiler!$B$20:$Y$20,Tabelle1!$A$5),"1_5","-") -> - | E5: =IF(COUNTIF(Verteiler!$B$26:$Y$26,Tabelle1!$A$5),"1_5","-") -> - | F5: =IF(COUNTIF(Verteiler!$B$32:$Y$32,Tabelle1!$A$5),"1_5","-") -> - | G5: =IF(COUNTIF(Verteiler!$B$38:$Y$38,Tabelle1!$A$5),"1_5","-") -> - | H5: =IF(COUNTIF(Verteiler!$B$44:$Y$44,Tabelle1!$A$5),"1_5","-") -> - | I5: =IF(COUNTIF(Verteiler!$B$50:$Y$50,Tabelle1!$A$5),"1_5","-") -> - | J5: =IF(COUNTIF(Verteiler!$B$56:$Y$56,Tabelle1!$A$5),"1_5","-") -> - | K5: =IF(COUNTIF(Verteiler!$B$62:$Y$62,Tabelle1!$A$5),"1_5","-") -> - | L5: =IF(COUNTIF(Verteiler!$B$68:$Y$68,Tabelle1!$A$5),"1_5","-") -> - | M5: =IF(COUNTIF(Verteiler!$B$38:$Y$38,Tabelle1!$A$5),"1_5","-") -> - | S5: =IF(COUNTIF(Verteiler!$B$38:$Y$38,Tabelle1!$A$2),"1_2","-") -> - | U5: 1_5
A6: 1_6 | B6: =IF(COUNTIF(Verteiler!$B$8:$Y$8,Tabelle1!$A$6),"1_6","-") -> - | C6: =IF(COUNTIF(Verteiler!$B$14:$Y$14,Tabelle1!$A$6),"1_6","-") -> - | D6: =IF(COUNTIF(Verteiler!$B$20:$Y$20,Tabelle1!$A$6),"1_6","-") -> - | E6: =IF(COUNTIF(Verteiler!$B$26:$Y$26,Tabelle1!$A$6),"1_6","-") -> - | F6: =IF(COUNTIF(Verteiler!$B$32:$Y$32,Tabelle1!$A$6),"1_6","-") -> - | G6: =IF(COUNTIF(Verteiler!$B$38:$Y$38,Tabelle1!$A$6),"1_6","-") -> - | H6: =IF(COUNTIF(Verteiler!$B$44:$Y$44,Tabelle1!$A$6),"1_6","-") -> - | I6: =IF(COUNTIF(Verteiler!$B$50:$Y$50,Tabelle1!$A$6),"1_6","-") -> - | J6: =IF(COUNTIF(Verteiler!$B$56:$Y$56,Tabelle1!$A$6),"1_6","-") -> - | K6: =IF(COUNTIF(Verteiler!$B$62:$Y$62,Tabelle1!$A$6),"1_6","-") -> - | L6: =IF(COUNTIF(Verteiler!$B$68:$Y$68,Tabelle1!$A$6),"1_6","-") -> - | M6: =IF(COUNTIF(Verteiler!$B$38:$Y$38,Tabelle1!$A$6),"1_6","-") -> - | S6: =IF(COUNTIF(Verteiler!$B$38:$Y$38,Tabelle1!$A$3),"1_3","-") -> - | U6: 1_6
A7: 1_7 | B7: =IF(COUNTIF(Verteiler!$B$8:$Y$8,Tabelle1!$A$7),"1_7","-") -> - | C7: =IF(COUNTIF(Verteiler!$B$14:$Y$14,Tabelle1!$A$7),"1_7","-") -> - | D7: =IF(COUNTIF(Verteiler!$B$20:$Y$20,Tabelle1!$A$7),"1_7","-") -> - | E7: =IF(COUNTIF(Verteiler!$B$26:$Y$26,Tabelle1!$A$7),"1_7","-") -> - | F7: =IF(COUNTIF(Verteiler!$B$32:$Y$32,Tabelle1!$A$7),"1_7","-") -> - | G7: =IF(COUNTIF(Verteiler!$B$38:$Y$38,Tabelle1!$A$7),"1_7","-") -> - | H7: =IF(COUNTIF(Verteiler!$B$44:$Y$44,Tabelle1!$A$7),"1_7","-") -> - | I7: =IF(COUNTIF(Verteiler!$B$50:$Y$50,Tabelle1!$A$7),"1_7","-") -> - | J7: =IF(COUNTIF(Verteiler!$B$56:$Y$56,Tabelle1!$A$7),"1_7","-") -> - | K7: =IF(COUNTIF(Verteiler!$B$62:$Y$62,Tabelle1!$A$7),"1_7","-") -> - | L7: =IF(COUNTIF(Verteiler!$B$68:$Y$68,Tabelle1!$A$7),"1_7","-") -> - | M7: =IF(COUNTIF(Verteiler!$B$38:$Y$38,Tabelle1!$A$7),"1_7","-") -> - | S7: =IF(COUNTIF(Verteiler!$B$38:$Y$38,Tabelle1!$A$1),"1_1","-") -> - | U7: 1_7
A8: 1_8 | B8: =IF(COUNTIF(Verteiler!$B$8:$Y$8,Tabelle1!$A$8),"1_8","-") -> - | C8: =IF(COUNTIF(Verteiler!$B$14:$Y$14,Tabelle1!$A$8),"1_8","-") -> - | D8: =IF(COUNTIF(Verteiler!$B$20:$Y$20,Tabelle1!$A$8),"1_8","-") -> - | E8: =IF(COUNTIF(Verteiler!$B$26:$Y$26,Tabelle1!$A$8),"1_8","-") -> - | F8: =IF(COUNTIF(Verteiler!$B$32:$Y$32,Tabelle1!$A$8),"1_8","-") -> - | G8: =IF(COUNTIF(Verteiler!$B$38:$Y$38,Tabelle1!$A$8),"1_8","-") -> - | H8: =IF(COUNTIF(Verteiler!$B$44:$Y$44,Tabelle1!$A$8),"1_8","-") -> - | I8: =IF(COUNTIF(Verteiler!$B$50:$Y$50,Tabelle1!$A$8),"1_8","-") -> - | J8: =IF(COUNTIF(Verteiler!$B$56:$Y$56,Tabelle1!$A$8),"1_8","-") -> - | K8: =IF(COUNTIF(Verteiler!$B$62:$Y$62,Tabelle1!$A$8),"1_8","-") -> - | L8: =IF(COUNTIF(Verteiler!$B$68:$Y$68,Tabelle1!$A$8),"1_8","-") -> - | M8: =IF(COUNTIF(Verteiler!$B$38:$Y$38,Tabelle1!$A$8),"1_8","-") -> - | S8: =IF(COUNTIF(Verteiler!$B$38:$Y$38,Tabelle1!$A$2),"1_2","-") -> - | U8: 1_8
A9: 1_9 | B9: =IF(COUNTIF(Verteiler!$B$8:$Y$8,Tabelle1!$A$9),"1_9","-") -> - | C9: =IF(COUNTIF(Verteiler!$B$14:$Y$14,Tabelle1!$A$9),"1_9","-") -> - | D9: =IF(COUNTIF(Verteiler!$B$20:$Y$20,Tabelle1!$A$9),"1_9","-") -> - | E9: =IF(COUNTIF(Verteiler!$B$26:$Y$26,Tabelle1!$A$9),"1_9","-") -> - | F9: =IF(COUNTIF(Verteiler!$B$32:$Y$32,Tabelle1!$A$9),"1_9","-") -> - | G9: =IF(COUNTIF(Verteiler!$B$38:$Y$38,Tabelle1!$A$9),"1_9","-") -> - | H9: =IF(COUNTIF(Verteiler!$B$44:$Y$44,Tabelle1!$A$9),"1_9","-") -> - | I9: =IF(COUNTIF(Verteiler!$B$50:$Y$50,Tabelle1!$A$9),"1_9","-") -> - | J9: =IF(COUNTIF(Verteiler!$B$56:$Y$56,Tabelle1!$A$9),"1_9","-") -> - | K9: =IF(COUNTIF(Verteiler!$B$62:$Y$62,Tabelle1!$A$9),"1_9","-") -> - | L9: =IF(COUNTIF(Verteiler!$B$68:$Y$68,Tabelle1!$A$9),"1_9","-") -> - | M9: =IF(COUNTIF(Verteiler!$B$38:$Y$38,Tabelle1!$A$9),"1_9","-") -> - | S9: =IF(COUNTIF(Verteiler!$B$38:$Y$38,Tabelle1!$A$3),"1_3","-") -> - | U9: 1_9
A10: 1_10 | B10: =IF(COUNTIF(Verteiler!$B$8:$Y$8,Tabelle1!$A$10),"1_10","-") -> - | C10: =IF(COUNTIF(Verteiler!$B$14:$Y$14,Tabelle1!$A$10),"1_10","-") -> - | D10: =IF(COUNTIF(Verteiler!$B$114:$Y$114,Tabelle1!$A$10),"1_10","-") -> - | E10: =IF(COUNTIF(Verteiler!$B$120:$Y$120,Tabelle1!$A$10),"1_10","-") -> - | F10: =IF(COUNTIF(Verteiler!$B$32:$Y$32,Tabelle1!$A$10),"1_10","-") -> - | G10: =IF(COUNTIF(Verteiler!$B$38:$Y$38,Tabelle1!$A$10),"1_10","-") -> - | H10: =IF(COUNTIF(Verteiler!$B$44:$Y$44,Tabelle1!$A$10),"1_10","-") -> - | I10: =IF(COUNTIF(Verteiler!$B$50:$Y$50,Tabelle1!$A$10),"1_10","-") -> - | J10: =IF(COUNTIF(Verteiler!$B$56:$Y$56,Tabelle1!$A$10),"1_10","-") -> - | K10: =IF(COUNTIF(Verteiler!$B$62:$Y$62,Tabelle1!$A$10),"1_10","-") -> - | L10: =IF(COUNTIF(Verteiler!$B$68:$Y$68,Tabelle1!$A$10),"1_10","-") -> - | M10: =IF(COUNTIF(Verteiler!$B$38:$Y$38,Tabelle1!$A$10),"1_10","-") -> - | S10: =IF(COUNTIF(Verteiler!$B$38:$Y$38,Tabelle1!$A$1),"1_1","-") -> - | U10: 1_10
A11: 1_11 | B11: =IF(COUNTIF(Verteiler!$B$8:$Y$8,Tabelle1!$A$11),"1_11","-") -> - | C11: =IF(COUNTIF(Verteiler!$B$14:$Y$14,Tabelle1!$A$11),"1_11","-") -> - | D11: =IF(COUNTIF(Verteiler!$B$20:$Y$20,Tabelle1!$A$11),"1_11","-") -> - | E11: =IF(COUNTIF(Verteiler!$B$26:$Y$26,Tabelle1!$A$11),"1_11","-") -> - | F11: =IF(COUNTIF(Verteiler!$B$32:$Y$32,Tabelle1!$A$11),"1_11","-") -> - | G11: =IF(COUNTIF(Verteiler!$B$38:$Y$38,Tabelle1!$A$11),"1_11","-") -> - | H11: =IF(COUNTIF(Verteiler!$B$44:$Y$44,Tabelle1!$A$11),"1_11","-") -> - | I11: =IF(COUNTIF(Verteiler!$B$50:$Y$50,Tabelle1!$A$11),"1_11","-") -> - | J11: =IF(COUNTIF(Verteiler!$B$56:$Y$56,Tabelle1!$A$11),"1_11","-") -> - | K11: =IF(COUNTIF(Verteiler!$B$62:$Y$62,Tabelle1!$A$11),"1_11","-") -> - | L11: =IF(COUNTIF(Verteiler!$B$68:$Y$68,Tabelle1!$A$11),"1_11","-") -> - | M11: =IF(COUNTIF(Verteiler!$B$38:$Y$38,Tabelle1!$A$11),"1_11","-") -> - | S11: =IF(COUNTIF(Verteiler!$B$38:$Y$38,Tabelle1!$A$2),"1_2","-") -> - | U11: 1_11
A12: 1_12 | B12: =IF(COUNTIF(Verteiler!$B$8:$Y$8,Tabelle1!$A$12),"1_12","-") -> - | C12: =IF(COUNTIF(Verteiler!$B$14:$Y$14,Tabelle1!$A$12),"1_12","-") -> - | D12: =IF(COUNTIF(Verteiler!$B$20:$Y$20,Tabelle1!$A$12),"1_12","-") -> - | E12: =IF(COUNTIF(Verteiler!$B$26:$Y$26,Tabelle1!$A$12),"1_12","-") -> - | F12: =IF(COUNTIF(Verteiler!$B$32:$Y$32,Tabelle1!$A$12),"1_12","-") -> - | G12: =IF(COUNTIF(Verteiler!$B$38:$Y$38,Tabelle1!$A$12),"1_12","-") -> - | H12: =IF(COUNTIF(Verteiler!$B$44:$Y$44,Tabelle1!$A$12),"1_12","-") -> - | I12: =IF(COUNTIF(Verteiler!$B$50:$Y$50,Tabelle1!$A$12),"1_12","-") -> - | J12: =IF(COUNTIF(Verteiler!$B$56:$Y$56,Tabelle1!$A$12),"1_12","-") -> - | K12: =IF(COUNTIF(Verteiler!$B$62:$Y$62,Tabelle1!$A$12),"1_12","-") -> - | L12: =IF(COUNTIF(Verteiler!$B$68:$Y$68,Tabelle1!$A$12),"1_12","-") -> - | M12: =IF(COUNTIF(Verteiler!$B$38:$Y$38,Tabelle1!$A$12),"1_12","-") -> - | S12: =IF(COUNTIF(Verteiler!$B$38:$Y$38,Tabelle1!$A$3),"1_3","-") -> - | U12: 1_12
A13: 1_13 | B13: =IF(COUNTIF(Verteiler!$B$8:$Y$8,Tabelle1!$A$13),"1_13","-") -> - | C13: =IF(COUNTIF(Verteiler!$B$14:$Y$14,Tabelle1!$A$13),"1_13","-") -> - | D13: =IF(COUNTIF(Verteiler!$B$20:$Y$20,Tabelle1!$A$13),"1_13","-") -> - | E13: =IF(COUNTIF(Verteiler!$B$26:$Y$26,Tabelle1!$A$13),"1_13","-") -> - | F13: =IF(COUNTIF(Verteiler!$B$32:$Y$32,Tabelle1!$A$13),"1_13","-") -> - | G13: =IF(COUNTIF(Verteiler!$B$38:$Y$38,Tabelle1!$A$13),"1_13","-") -> - | H13: =IF(COUNTIF(Verteiler!$B$44:$Y$44,Tabelle1!$A$13),"1_13","-") -> - | I13: =IF(COUNTIF(Verteiler!$B$50:$Y$50,Tabelle1!$A$13),"1_13","-") -> - | J13: =IF(COUNTIF(Verteiler!$B$56:$Y$56,Tabelle1!$A$13),"1_13","-") -> - | K13: =IF(COUNTIF(Verteiler!$B$62:$Y$62,Tabelle1!$A$13),"1_13","-") -> - | L13: =IF(COUNTIF(Verteiler!$B$68:$Y$68,Tabelle1!$A$13),"1_13","-") -> - | M13: =IF(COUNTIF(Verteiler!$B$38:$Y$38,Tabelle1!$A$13),"1_13","-") -> - | S13: =IF(COUNTIF(Verteiler!$B$38:$Y$38,Tabelle1!$A$1),"1_1","-") -> - | U13: 1_13
A14: 1_14 | B14: =IF(COUNTIF(Verteiler!$B$8:$Y$8,Tabelle1!$A$14),"1_14","-") -> - | C14: =IF(COUNTIF(Verteiler!$B$14:$Y$14,Tabelle1!$A$14),"1_14","-") -> - | D14: =IF(COUNTIF(Verteiler!$B$20:$Y$20,Tabelle1!$A$14),"1_14","-") -> - | E14: =IF(COUNTIF(Verteiler!$B$26:$Y$26,Tabelle1!$A$14),"1_14","-") -> - | F14: =IF(COUNTIF(Verteiler!$B$32:$Y$32,Tabelle1!$A$14),"1_14","-") -> - | G14: =IF(COUNTIF(Verteiler!$B$38:$Y$38,Tabelle1!$A$14),"1_14","-") -> - | H14: =IF(COUNTIF(Verteiler!$B$44:$Y$44,Tabelle1!$A$14),"1_14","-") -> - | I14: =IF(COUNTIF(Verteiler!$B$50:$Y$50,Tabelle1!$A$14),"1_14","-") -> - | J14: =IF(COUNTIF(Verteiler!$B$56:$Y$56,Tabelle1!$A$14),"1_14","-") -> - | K14: =IF(COUNTIF(Verteiler!$B$62:$Y$62,Tabelle1!$A$14),"1_14","-") -> - | L14: =IF(COUNTIF(Verteiler!$B$68:$Y$68,Tabelle1!$A$14),"1_14","-") -> - | M14: =IF(COUNTIF(Verteiler!$B$38:$Y$38,Tabelle1!$A$14),"1_14","-") -> - | S14: =IF(COUNTIF(Verteiler!$B$38:$Y$38,Tabelle1!$A$2),"1_2","-") -> - | U14: 1_14
A15: 1_15 | B15: =IF(COUNTIF(Verteiler!$B$8:$Y$8,Tabelle1!$A$15),"15","-") -> - | C15: =IF(COUNTIF(Verteiler!$B$14:$Y$14,Tabelle1!$A$15),"15","-") -> - | D15: =IF(COUNTIF(Verteiler!$B$20:$Y$20,Tabelle1!$A$15),"15","-") -> - | E15: =IF(COUNTIF(Verteiler!$B$26:$Y$26,Tabelle1!$A$15),"15","-") -> - | F15: =IF(COUNTIF(Verteiler!$B$32:$Y$32,Tabelle1!$A$15),"15","-") -> - | G15: =IF(COUNTIF(Verteiler!$B$38:$Y$38,Tabelle1!$A$15),"15","-") -> - | H15: =IF(COUNTIF(Verteiler!$B$44:$Y$44,Tabelle1!$A$15),"15","-") -> - | I15: =IF(COUNTIF(Verteiler!$B$50:$Y$50,Tabelle1!$A$15),"15","-") -> - | J15: =IF(COUNTIF(Verteiler!$B$56:$Y$56,Tabelle1!$A$15),"15","-") -> - | K15: =IF(COUNTIF(Verteiler!$B$62:$Y$62,Tabelle1!$A$15),"15","-") -> - | L15: =IF(COUNTIF(Verteiler!$B$68:$Y$68,Tabelle1!$A$15),"15","-") -> - | M15: =IF(COUNTIF(Verteiler!$B$38:$Y$38,Tabelle1!$A$15),"15","-") -> - | S15: =IF(COUNTIF(Verteiler!$B$38:$Y$38,Tabelle1!$A$3),"1_3","-") -> - | U15: 1_15
A16: 1_16 | B16: =IF(COUNTIF(Verteiler!$B$8:$Y$8,Tabelle1!$A$16),"16","-") -> - | C16: =IF(COUNTIF(Verteiler!$B$14:$Y$14,Tabelle1!$A$16),"16","-") -> - | D16: =IF(COUNTIF(Verteiler!$B$20:$Y$20,Tabelle1!$A$16),"16","-") -> - | E16: =IF(COUNTIF(Verteiler!$B$26:$Y$26,Tabelle1!$A$16),"16","-") -> - | F16: =IF(COUNTIF(Verteiler!$B$32:$Y$32,Tabelle1!$A$16),"16","-") -> - | G16: =IF(COUNTIF(Verteiler!$B$38:$Y$38,Tabelle1!$A$16),"16","-") -> - | H16: =IF(COUNTIF(Verteiler!$B$44:$Y$44,Tabelle1!$A$16),"16","-") -> - | I16: =IF(COUNTIF(Verteiler!$B$50:$Y$50,Tabelle1!$A$16),"16","-") -> - | J16: =IF(COUNTIF(Verteiler!$B$56:$Y$56,Tabelle1!$A$16),"16","-") -> - | K16: =IF(COUNTIF(Verteiler!$B$62:$Y$62,Tabelle1!$A$16),"16","-") -> - | L16: =IF(COUNTIF(Verteiler!$B$68:$Y$68,Tabelle1!$A$16),"16","-") -> - | M16: =IF(COUNTIF(Verteiler!$B$38:$Y$38,Tabelle1!$A$16),"16","-") -> - | S16: =IF(COUNTIF(Verteiler!$B$38:$Y$38,Tabelle1!$A$1),"1_1","-") -> - | U16: 1_16
A17: 1_17 | B17: =IF(COUNTIF(Verteiler!$B$8:$Y$8,Tabelle1!$A$17),"17","-") -> - | C17: =IF(COUNTIF(Verteiler!$B$14:$Y$14,Tabelle1!$A$17),"17","-") -> - | D17: =IF(COUNTIF(Verteiler!$B$20:$Y$20,Tabelle1!$A$17),"17","-") -> - | E17: =IF(COUNTIF(Verteiler!$B$26:$Y$26,Tabelle1!$A$17),"17","-") -> - | F17: =IF(COUNTIF(Verteiler!$B$32:$Y$32,Tabelle1!$A$17),"17","-") -> - | G17: =IF(COUNTIF(Verteiler!$B$38:$Y$38,Tabelle1!$A$17),"17","-") -> - | H17: =IF(COUNTIF(Verteiler!$B$44:$Y$44,Tabelle1!$A$17),"17","-") -> - | I17: =IF(COUNTIF(Verteiler!$B$50:$Y$50,Tabelle1!$A$17),"17","-") -> - | J17: =IF(COUNTIF(Verteiler!$B$56:$Y$56,Tabelle1!$A$17),"17","-") -> - | K17: =IF(COUNTIF(Verteiler!$B$62:$Y$62,Tabelle1!$A$17),"17","-") -> - | L17: =IF(COUNTIF(Verteiler!$B$68:$Y$68,Tabelle1!$A$17),"17","-") -> - | M17: =IF(COUNTIF(Verteiler!$B$38:$Y$38,Tabelle1!$A$17),"17","-") -> - | S17: =IF(COUNTIF(Verteiler!$B$38:$Y$38,Tabelle1!$A$2),"1_2","-") -> - | U17: 1_17
A18: 1_18 | B18: =IF(COUNTIF(Verteiler!$B$8:$Y$8,Tabelle1!$A$18),"18","-") -> - | C18: =IF(COUNTIF(Verteiler!$B$14:$Y$14,Tabelle1!$A$18),"18","-") -> - | D18: =IF(COUNTIF(Verteiler!$B$20:$Y$20,Tabelle1!$A$18),"18","-") -> - | E18: =IF(COUNTIF(Verteiler!$B$26:$Y$26,Tabelle1!$A$18),"18","-") -> - | F18: =IF(COUNTIF(Verteiler!$B$32:$Y$32,Tabelle1!$A$18),"18","-") -> - | G18: =IF(COUNTIF(Verteiler!$B$38:$Y$38,Tabelle1!$A$18),"18","-") -> - | H18: =IF(COUNTIF(Verteiler!$B$44:$Y$44,Tabelle1!$A$18),"18","-") -> - | I18: =IF(COUNTIF(Verteiler!$B$50:$Y$50,Tabelle1!$A$18),"18","-") -> - | J18: =IF(COUNTIF(Verteiler!$B$56:$Y$56,Tabelle1!$A$18),"18","-") -> - | K18: =IF(COUNTIF(Verteiler!$B$62:$Y$62,Tabelle1!$A$18),"18","-") -> - | L18: =IF(COUNTIF(Verteiler!$B$68:$Y$68,Tabelle1!$A$18),"18","-") -> - | M18: =IF(COUNTIF(Verteiler!$B$38:$Y$38,Tabelle1!$A$18),"18","-") -> - | S18: =IF(COUNTIF(Verteiler!$B$38:$Y$38,Tabelle1!$A$3),"1_3","-") -> - | U18: 1_18
A19: 1_19 | B19: =IF(COUNTIF(Verteiler!$B$8:$Y$8,Tabelle1!$A$19),"19","-") -> - | C19: =IF(COUNTIF(Verteiler!$B$14:$Y$14,Tabelle1!$A$19),"19","-") -> - | D19: =IF(COUNTIF(Verteiler!$B$20:$Y$20,Tabelle1!$A$19),"19","-") -> - | E19: =IF(COUNTIF(Verteiler!$B$26:$Y$26,Tabelle1!$A$19),"19","-") -> - | F19: =IF(COUNTIF(Verteiler!$B$32:$Y$32,Tabelle1!$A$19),"19","-") -> - | G19: =IF(COUNTIF(Verteiler!$B$38:$Y$38,Tabelle1!$A$19),"19","-") -> - | H19: =IF(COUNTIF(Verteiler!$B$44:$Y$44,Tabelle1!$A$19),"19","-") -> - | I19: =IF(COUNTIF(Verteiler!$B$50:$Y$50,Tabelle1!$A$19),"19","-") -> - | J19: =IF(COUNTIF(Verteiler!$B$56:$Y$56,Tabelle1!$A$19),"19","-") -> - | K19: =IF(COUNTIF(Verteiler!$B$62:$Y$62,Tabelle1!$A$19),"19","-") -> - | L19: =IF(COUNTIF(Verteiler!$B$68:$Y$68,Tabelle1!$A$19),"19","-") -> - | M19: =IF(COUNTIF(Verteiler!$B$38:$Y$38,Tabelle1!$A$19),"19","-") -> - | S19: =IF(COUNTIF(Verteiler!$B$38:$Y$38,Tabelle1!$A$1),"1_1","-") -> - | U19: 1_19
A20: 1_20 | B20: =IF(COUNTIF(Verteiler!$B$8:$Y$8,Tabelle1!$A$20),"20","-") -> - | C20: =IF(COUNTIF(Verteiler!$B$14:$Y$14,Tabelle1!$A$20),"20","-") -> - | D20: =IF(COUNTIF(Verteiler!$B$20:$Y$20,Tabelle1!$A$20),"20","-") -> - | E20: =IF(COUNTIF(Verteiler!$B$26:$Y$26,Tabelle1!$A$20),"20","-") -> - | F20: =IF(COUNTIF(Verteiler!$B$32:$Y$32,Tabelle1!$A$20),"20","-") -> - | G20: =IF(COUNTIF(Verteiler!$B$38:$Y$38,Tabelle1!$A$20),"20","-") -> - | H20: =IF(COUNTIF(Verteiler!$B$44:$Y$44,Tabelle1!$A$20),"20","-") -> - | I20: =IF(COUNTIF(Verteiler!$B$50:$Y$50,Tabelle1!$A$20),"20","-") -> - | J20: =IF(COUNTIF(Verteiler!$B$56:$Y$56,Tabelle1!$A$20),"20","-") -> - | K20: =IF(COUNTIF(Verteiler!$B$62:$Y$62,Tabelle1!$A$20),"20","-") -> - | L20: =IF(COUNTIF(Verteiler!$B$68:$Y$68,Tabelle1!$A$20),"20","-") -> - | M20: =IF(COUNTIF(Verteiler!$B$38:$Y$38,Tabelle1!$A$20),"20","-") -> - | S20: =IF(COUNTIF(Verteiler!$B$38:$Y$38,Tabelle1!$A$2),"1_2","-") -> - | U20: 1_20
A21: 1_21 | B21: =IF(COUNTIF(Verteiler!$B$8:$Y$8,Tabelle1!$A$21),"21","-") -> - | C21: =IF(COUNTIF(Verteiler!$B$14:$Y$14,Tabelle1!$A$21),"21","-") -> - | D21: =IF(COUNTIF(Verteiler!$B$20:$Y$20,Tabelle1!$A$21),"21","-") -> - | E21: =IF(COUNTIF(Verteiler!$B$26:$Y$26,Tabelle1!$A$21),"21","-") -> - | F21: =IF(COUNTIF(Verteiler!$B$32:$Y$32,Tabelle1!$A$21),"21","-") -> - | G21: =IF(COUNTIF(Verteiler!$B$38:$Y$38,Tabelle1!$A$21),"21","-") -> - | H21: =IF(COUNTIF(Verteiler!$B$44:$Y$44,Tabelle1!$A$21),"21","-") -> - | I21: =IF(COUNTIF(Verteiler!$B$50:$Y$50,Tabelle1!$A$21),"21","-") -> - | J21: =IF(COUNTIF(Verteiler!$B$56:$Y$56,Tabelle1!$A$21),"21","-") -> - | K21: =IF(COUNTIF(Verteiler!$B$62:$Y$62,Tabelle1!$A$21),"21","-") -> - | L21: =IF(COUNTIF(Verteiler!$B$68:$Y$68,Tabelle1!$A$21),"21","-") -> - | M21: =IF(COUNTIF(Verteiler!$B$38:$Y$38,Tabelle1!$A$21),"21","-") -> - | S21: =IF(COUNTIF(Verteiler!$B$38:$Y$38,Tabelle1!$A$3),"1_3","-") -> - | U21: 1_21
A22: 1_22 | B22: =IF(COUNTIF(Verteiler!$B$8:$Y$8,Tabelle1!$A$22),"22","-") -> - | C22: =IF(COUNTIF(Verteiler!$B$14:$Y$14,Tabelle1!$A$22),"22","-") -> - | D22: =IF(COUNTIF(Verteiler!$B$20:$Y$20,Tabelle1!$A$22),"22","-") -> - | E22: =IF(COUNTIF(Verteiler!$B$26:$Y$26,Tabelle1!$A$22),"22","-") -> - | F22: =IF(COUNTIF(Verteiler!$B$32:$Y$32,Tabelle1!$A$22),"22","-") -> - | G22: =IF(COUNTIF(Verteiler!$B$38:$Y$38,Tabelle1!$A$22),"22","-") -> - | H22: =IF(COUNTIF(Verteiler!$B$44:$Y$44,Tabelle1!$A$22),"22","-") -> - | I22: =IF(COUNTIF(Verteiler!$B$50:$Y$50,Tabelle1!$A$22),"22","-") -> - | J22: =IF(COUNTIF(Verteiler!$B$56:$Y$56,Tabelle1!$A$22),"22","-") -> - | K22: =IF(COUNTIF(Verteiler!$B$62:$Y$62,Tabelle1!$A$22),"22","-") -> - | L22: =IF(COUNTIF(Verteiler!$B$68:$Y$68,Tabelle1!$A$22),"22","-") -> - | M22: =IF(COUNTIF(Verteiler!$B$38:$Y$38,Tabelle1!$A$22),"22","-") -> - | S22: =IF(COUNTIF(Verteiler!$B$38:$Y$38,Tabelle1!$A$1),"1_1","-") -> - | U22: 1_22
A23: 1_23 | B23: =IF(COUNTIF(Verteiler!$B$8:$Y$8,Tabelle1!$A$23),"23","-") -> - | C23: =IF(COUNTIF(Verteiler!$B$14:$Y$14,Tabelle1!$A$23),"23","-") -> - | D23: =IF(COUNTIF(Verteiler!$B$20:$Y$20,Tabelle1!$A$23),"23","-") -> - | E23: =IF(COUNTIF(Verteiler!$B$26:$Y$26,Tabelle1!$A$23),"23","-") -> - | F23: =IF(COUNTIF(Verteiler!$B$32:$Y$32,Tabelle1!$A$23),"23","-") -> - | G23: =IF(COUNTIF(Verteiler!$B$38:$Y$38,Tabelle1!$A$23),"23","-") -> - | H23: =IF(COUNTIF(Verteiler!$B$44:$Y$44,Tabelle1!$A$23),"23","-") -> - | I23: =IF(COUNTIF(Verteiler!$B$50:$Y$50,Tabelle1!$A$23),"23","-") -> - | J23: =IF(COUNTIF(Verteiler!$B$56:$Y$56,Tabelle1!$A$23),"23","-") -> - | K23: =IF(COUNTIF(Verteiler!$B$62:$Y$62,Tabelle1!$A$23),"23","-") -> - | L23: =IF(COUNTIF(Verteiler!$B$68:$Y$68,Tabelle1!$A$23),"23","-") -> - | M23: =IF(COUNTIF(Verteiler!$B$38:$Y$38,Tabelle1!$A$23),"23","-") -> - | S23: =IF(COUNTIF(Verteiler!$B$38:$Y$38,Tabelle1!$A$2),"1_2","-") -> - | U23: 1_23
A24: 1_24 | B24: =IF(COUNTIF(Verteiler!$B$8:$Y$8,Tabelle1!$A$24),"24","-") -> - | C24: =IF(COUNTIF(Verteiler!$B$14:$Y$14,Tabelle1!$A$24),"24","-") -> - | D24: =IF(COUNTIF(Verteiler!$B$20:$Y$20,Tabelle1!$A$24),"24","-") -> - | E24: =IF(COUNTIF(Verteiler!$B$26:$Y$26,Tabelle1!$A$24),"24","-") -> - | F24: =IF(COUNTIF(Verteiler!$B$32:$Y$32,Tabelle1!$A$24),"24","-") -> - | G24: =IF(COUNTIF(Verteiler!$B$38:$Y$38,Tabelle1!$A$24),"24","-") -> - | H24: =IF(COUNTIF(Verteiler!$B$44:$Y$44,Tabelle1!$A$24),"24","-") -> - | I24: =IF(COUNTIF(Verteiler!$B$50:$Y$50,Tabelle1!$A$24),"24","-") -> - | J24: =IF(COUNTIF(Verteiler!$B$56:$Y$56,Tabelle1!$A$24),"24","-") -> - | K24: =IF(COUNTIF(Verteiler!$B$62:$Y$62,Tabelle1!$A$24),"24","-") -> - | L24: =IF(COUNTIF(Verteiler!$B$68:$Y$68,Tabelle1!$A$24),"24","-") -> - | M24: =IF(COUNTIF(Verteiler!$B$38:$Y$38,Tabelle1!$A$24),"24","-") -> - | S24: =IF(COUNTIF(Verteiler!$B$38:$Y$38,Tabelle1!$A$3),"1_3","-") -> - | U24: 1_24
A25: 1_25 | B25: =IF(COUNTIF(Verteiler!$B$8:$Y$8,Tabelle1!$A$25),"25","-") -> - | C25: =IF(COUNTIF(Verteiler!$B$14:$Y$14,Tabelle1!$A$25),"25","-") -> - | D25: =IF(COUNTIF(Verteiler!$B$20:$Y$20,Tabelle1!$A$25),"25","-") -> - | E25: =IF(COUNTIF(Verteiler!$B$26:$Y$26,Tabelle1!$A$25),"25","-") -> - | F25: =IF(COUNTIF(Verteiler!$B$32:$Y$32,Tabelle1!$A$25),"25","-") -> - | G25: =IF(COUNTIF(Verteiler!$B$38:$Y$38,Tabelle1!$A$25),"25","-") -> - | H25: =IF(COUNTIF(Verteiler!$B$44:$Y$44,Tabelle1!$A$25),"25","-") -> - | I25: =IF(COUNTIF(Verteiler!$B$50:$Y$50,Tabelle1!$A$25),"25","-") -> - | J25: =IF(COUNTIF(Verteiler!$B$56:$Y$56,Tabelle1!$A$25),"25","-") -> - | K25: =IF(COUNTIF(Verteiler!$B$62:$Y$62,Tabelle1!$A$25),"25","-") -> - | L25: =IF(COUNTIF(Verteiler!$B$68:$Y$68,Tabelle1!$A$25),"25","-") -> - | M25: =IF(COUNTIF(Verteiler!$B$38:$Y$38,Tabelle1!$A$25),"25","-") -> - | S25: =IF(COUNTIF(Verteiler!$B$38:$Y$38,Tabelle1!$A$1),"1_1","-") -> - | U25: 1_25
A26: 1_26 | B26: =IF(COUNTIF(Verteiler!$B$8:$Y$8,Tabelle1!$A$26),"26","-") -> - | C26: =IF(COUNTIF(Verteiler!$B$14:$Y$14,Tabelle1!$A$26),"26","-") -> - | D26: =IF(COUNTIF(Verteiler!$B$20:$Y$20,Tabelle1!$A$26),"26","-") -> - | E26: =IF(COUNTIF(Verteiler!$B$26:$Y$26,Tabelle1!$A$26),"26","-") -> - | F26: =IF(COUNTIF(Verteiler!$B$32:$Y$32,Tabelle1!$A$26),"26","-") -> - | G26: =IF(COUNTIF(Verteiler!$B$38:$Y$38,Tabelle1!$A$26),"26","-") -> - | H26: =IF(COUNTIF(Verteiler!$B$44:$Y$44,Tabelle1!$A$26),"26","-") -> - | I26: =IF(COUNTIF(Verteiler!$B$50:$Y$50,Tabelle1!$A$26),"26","-") -> - | J26: =IF(COUNTIF(Verteiler!$B$56:$Y$56,Tabelle1!$A$26),"26","-") -> - | K26: =IF(COUNTIF(Verteiler!$B$62:$Y$62,Tabelle1!$A$26),"26","-") -> - | L26: =IF(COUNTIF(Verteiler!$B$68:$Y$68,Tabelle1!$A$26),"26","-") -> - | M26: =IF(COUNTIF(Verteiler!$B$38:$Y$38,Tabelle1!$A$26),"26","-") -> - | S26: =IF(COUNTIF(Verteiler!$B$38:$Y$38,Tabelle1!$A$2),"1_2","-") -> - | U26: 1_26
A27: 1_27 | B27: =IF(COUNTIF(Verteiler!$B$8:$Y$8,Tabelle1!$A$27),"27","-") -> - | C27: =IF(COUNTIF(Verteiler!$B$14:$Y$14,Tabelle1!$A$27),"27","-") -> - | D27: =IF(COUNTIF(Verteiler!$B$20:$Y$20,Tabelle1!$A$27),"27","-") -> - | E27: =IF(COUNTIF(Verteiler!$B$26:$Y$26,Tabelle1!$A$27),"27","-") -> - | F27: =IF(COUNTIF(Verteiler!$B$32:$Y$32,Tabelle1!$A$27),"27","-") -> - | G27: =IF(COUNTIF(Verteiler!$B$38:$Y$38,Tabelle1!$A$27),"27","-") -> - | H27: =IF(COUNTIF(Verteiler!$B$44:$Y$44,Tabelle1!$A$27),"27","-") -> - | I27: =IF(COUNTIF(Verteiler!$B$50:$Y$50,Tabelle1!$A$27),"27","-") -> - | J27: =IF(COUNTIF(Verteiler!$B$56:$Y$56,Tabelle1!$A$27),"27","-") -> - | K27: =IF(COUNTIF(Verteiler!$B$62:$Y$62,Tabelle1!$A$27),"27","-") -> - | L27: =IF(COUNTIF(Verteiler!$B$68:$Y$68,Tabelle1!$A$27),"27","-") -> - | M27: =IF(COUNTIF(Verteiler!$B$38:$Y$38,Tabelle1!$A$27),"27","-") -> - | S27: =IF(COUNTIF(Verteiler!$B$38:$Y$38,Tabelle1!$A$3),"1_3","-") -> - | U27: 1_27
A28: 1_28 | B28: =IF(COUNTIF(Verteiler!$B$8:$Y$8,Tabelle1!$A$28),"28","-") -> - | C28: =IF(COUNTIF(Verteiler!$B$14:$Y$14,Tabelle1!$A$28),"28","-") -> - | D28: =IF(COUNTIF(Verteiler!$B$20:$Y$20,Tabelle1!$A$28),"28","-") -> - | E28: =IF(COUNTIF(Verteiler!$B$26:$Y$26,Tabelle1!$A$28),"28","-") -> - | F28: =IF(COUNTIF(Verteiler!$B$32:$Y$32,Tabelle1!$A$28),"28","-") -> - | G28: =IF(COUNTIF(Verteiler!$B$38:$Y$38,Tabelle1!$A$28),"28","-") -> - | H28: =IF(COUNTIF(Verteiler!$B$44:$Y$44,Tabelle1!$A$28),"28","-") -> - | I28: =IF(COUNTIF(Verteiler!$B$50:$Y$50,Tabelle1!$A$28),"28","-") -> - | J28: =IF(COUNTIF(Verteiler!$B$56:$Y$56,Tabelle1!$A$28),"28","-") -> - | K28: =IF(COUNTIF(Verteiler!$B$62:$Y$62,Tabelle1!$A$28),"28","-") -> - | L28: =IF(COUNTIF(Verteiler!$B$68:$Y$68,Tabelle1!$A$28),"28","-") -> - | M28: =IF(COUNTIF(Verteiler!$B$38:$Y$38,Tabelle1!$A$28),"28","-") -> - | S28: =IF(COUNTIF(Verteiler!$B$38:$Y$38,Tabelle1!$A$1),"1_1","-") -> - | U28: 1_28
A29: 1_29 | B29: =IF(COUNTIF(Verteiler!$B$8:$Y$8,Tabelle1!$A$29),"29","-") -> - | C29: =IF(COUNTIF(Verteiler!$B$14:$Y$14,Tabelle1!$A$29),"29","-") -> - | D29: =IF(COUNTIF(Verteiler!$B$20:$Y$20,Tabelle1!$A$29),"29","-") -> - | E29: =IF(COUNTIF(Verteiler!$B$26:$Y$26,Tabelle1!$A$29),"29","-") -> - | F29: =IF(COUNTIF(Verteiler!$B$32:$Y$32,Tabelle1!$A$29),"29","-") -> - | G29: =IF(COUNTIF(Verteiler!$B$38:$Y$38,Tabelle1!$A$29),"29","-") -> - | H29: =IF(COUNTIF(Verteiler!$B$44:$Y$44,Tabelle1!$A$29),"29","-") -> - | I29: =IF(COUNTIF(Verteiler!$B$50:$Y$50,Tabelle1!$A$29),"29","-") -> - | J29: =IF(COUNTIF(Verteiler!$B$56:$Y$56,Tabelle1!$A$29),"29","-") -> - | K29: =IF(COUNTIF(Verteiler!$B$62:$Y$62,Tabelle1!$A$29),"29","-") -> - | L29: =IF(COUNTIF(Verteiler!$B$68:$Y$68,Tabelle1!$A$29),"29","-") -> - | M29: =IF(COUNTIF(Verteiler!$B$38:$Y$38,Tabelle1!$A$29),"29","-") -> - | S29: =IF(COUNTIF(Verteiler!$B$38:$Y$38,Tabelle1!$A$2),"1_2","-") -> - | U29: 1_29
A30: 1_30 | B30: =IF(COUNTIF(Verteiler!$B$8:$Y$8,Tabelle1!$A$30),"30","-") -> - | C30: =IF(COUNTIF(Verteiler!$B$14:$Y$14,Tabelle1!$A$30),"30","-") -> - | D30: =IF(COUNTIF(Verteiler!$B$20:$Y$20,Tabelle1!$A$30),"30","-") -> - | E30: =IF(COUNTIF(Verteiler!$B$26:$Y$26,Tabelle1!$A$30),"30","-") -> - | F30: =IF(COUNTIF(Verteiler!$B$32:$Y$32,Tabelle1!$A$30),"30","-") -> - | G30: =IF(COUNTIF(Verteiler!$B$38:$Y$38,Tabelle1!$A$30),"30","-") -> - | H30: =IF(COUNTIF(Verteiler!$B$44:$Y$44,Tabelle1!$A$30),"30","-") -> - | I30: =IF(COUNTIF(Verteiler!$B$50:$Y$50,Tabelle1!$A$30),"30","-") -> - | J30: =IF(COUNTIF(Verteiler!$B$56:$Y$56,Tabelle1!$A$30),"30","-") -> - | K30: =IF(COUNTIF(Verteiler!$B$62:$Y$62,Tabelle1!$A$30),"30","-") -> - | L30: =IF(COUNTIF(Verteiler!$B$68:$Y$68,Tabelle1!$A$30),"30","-") -> - | M30: =IF(COUNTIF(Verteiler!$B$38:$Y$38,Tabelle1!$A$30),"30","-") -> - | S30: =IF(COUNTIF(Verteiler!$B$38:$Y$38,Tabelle1!$A$3),"1_3","-") -> - | U30: 1_30
A31: 1_31 | B31: =IF(COUNTIF(Verteiler!$B$8:$Y$8,Tabelle1!$A$31),"31","-") -> - | C31: =IF(COUNTIF(Verteiler!$B$14:$Y$14,Tabelle1!$A$31),"31","-") -> - | D31: =IF(COUNTIF(Verteiler!$B$20:$Y$20,Tabelle1!$A$31),"31","-") -> - | E31: =IF(COUNTIF(Verteiler!$B$26:$Y$26,Tabelle1!$A$31),"31","-") -> - | F31: =IF(COUNTIF(Verteiler!$B$32:$Y$32,Tabelle1!$A$31),"31","-") -> - | G31: =IF(COUNTIF(Verteiler!$B$38:$Y$38,Tabelle1!$A$31),"31","-") -> - | H31: =IF(COUNTIF(Verteiler!$B$44:$Y$44,Tabelle1!$A$31),"31","-") -> - | I31: =IF(COUNTIF(Verteiler!$B$50:$Y$50,Tabelle1!$A$31),"31","-") -> - | J31: =IF(COUNTIF(Verteiler!$B$56:$Y$56,Tabelle1!$A$31),"31","-") -> - | K31: =IF(COUNTIF(Verteiler!$B$62:$Y$62,Tabelle1!$A$31),"31","-") -> - | L31: =IF(COUNTIF(Verteiler!$B$68:$Y$68,Tabelle1!$A$31),"31","-") -> - | M31: =IF(COUNTIF(Verteiler!$B$38:$Y$38,Tabelle1!$A$31),"31","-") -> - | S31: =IF(COUNTIF(Verteiler!$B$38:$Y$38,Tabelle1!$A$1),"1_1","-") -> - | U31: 1_31
A32: 1_32 | B32: =IF(COUNTIF(Verteiler!$B$8:$Y$8,Tabelle1!$A$32),"32","-") -> - | C32: =IF(COUNTIF(Verteiler!$B$14:$Y$14,Tabelle1!$A$32),"32","-") -> - | D32: =IF(COUNTIF(Verteiler!$B$20:$Y$20,Tabelle1!$A$32),"32","-") -> - | E32: =IF(COUNTIF(Verteiler!$B$26:$Y$26,Tabelle1!$A$32),"32","-") -> - | F32: =IF(COUNTIF(Verteiler!$B$32:$Y$32,Tabelle1!$A$32),"32","-") -> - | G32: =IF(COUNTIF(Verteiler!$B$38:$Y$38,Tabelle1!$A$32),"32","-") -> - | H32: =IF(COUNTIF(Verteiler!$B$44:$Y$44,Tabelle1!$A$32),"32","-") -> - | I32: =IF(COUNTIF(Verteiler!$B$50:$Y$50,Tabelle1!$A$32),"32","-") -> - | J32: =IF(COUNTIF(Verteiler!$B$56:$Y$56,Tabelle1!$A$32),"32","-") -> - | K32: =IF(COUNTIF(Verteiler!$B$62:$Y$62,Tabelle1!$A$32),"32","-") -> - | L32: =IF(COUNTIF(Verteiler!$B$68:$Y$68,Tabelle1!$A$32),"32","-") -> - | M32: =IF(COUNTIF(Verteiler!$B$38:$Y$38,Tabelle1!$A$32),"32","-") -> - | S32: =IF(COUNTIF(Verteiler!$B$38:$Y$38,Tabelle1!$A$2),"1_2","-") -> - | U32: 1_32
A33: 1_33 | B33: =IF(COUNTIF(Verteiler!$B$8:$Y$8,Tabelle1!$A$33),"33","-") -> - | C33: =IF(COUNTIF(Verteiler!$B$14:$Y$14,Tabelle1!$A$33),"33","-") -> - | D33: =IF(COUNTIF(Verteiler!$B$20:$Y$20,Tabelle1!$A$33),"33","-") -> - | E33: =IF(COUNTIF(Verteiler!$B$26:$Y$26,Tabelle1!$A$33),"33","-") -> - | F33: =IF(COUNTIF(Verteiler!$B$32:$Y$32,Tabelle1!$A$33),"33","-") -> - | G33: =IF(COUNTIF(Verteiler!$B$38:$Y$38,Tabelle1!$A$33),"33","-") -> - | H33: =IF(COUNTIF(Verteiler!$B$44:$Y$44,Tabelle1!$A$33),"33","-") -> - | I33: =IF(COUNTIF(Verteiler!$B$50:$Y$50,Tabelle1!$A$33),"33","-") -> - | J33: =IF(COUNTIF(Verteiler!$B$56:$Y$56,Tabelle1!$A$33),"33","-") -> - | K33: =IF(COUNTIF(Verteiler!$B$62:$Y$62,Tabelle1!$A$33),"33","-") -> - | L33: =IF(COUNTIF(Verteiler!$B$68:$Y$68,Tabelle1!$A$33),"33","-") -> - | M33: =IF(COUNTIF(Verteiler!$B$38:$Y$38,Tabelle1!$A$33),"33","-") -> - | S33: =IF(COUNTIF(Verteiler!$B$38:$Y$38,Tabelle1!$A$3),"1_3","-") -> - | U33: 1_33
A34: 1_34 | B34: =IF(COUNTIF(Verteiler!$B$8:$Y$8,Tabelle1!$A$34),"34","-") -> - | C34: =IF(COUNTIF(Verteiler!$B$14:$Y$14,Tabelle1!$A$34),"34","-") -> - | D34: =IF(COUNTIF(Verteiler!$B$20:$Y$20,Tabelle1!$A$34),"34","-") -> - | E34: =IF(COUNTIF(Verteiler!$B$26:$Y$26,Tabelle1!$A$34),"34","-") -> - | F34: =IF(COUNTIF(Verteiler!$B$32:$Y$32,Tabelle1!$A$34),"34","-") -> - | G34: =IF(COUNTIF(Verteiler!$B$38:$Y$38,Tabelle1!$A$34),"34","-") -> - | H34: =IF(COUNTIF(Verteiler!$B$44:$Y$44,Tabelle1!$A$34),"34","-") -> - | I34: =IF(COUNTIF(Verteiler!$B$50:$Y$50,Tabelle1!$A$34),"34","-") -> - | J34: =IF(COUNTIF(Verteiler!$B$56:$Y$56,Tabelle1!$A$34),"34","-") -> - | K34: =IF(COUNTIF(Verteiler!$B$62:$Y$62,Tabelle1!$A$34),"34","-") -> - | L34: =IF(COUNTIF(Verteiler!$B$68:$Y$68,Tabelle1!$A$34),"34","-") -> - | M34: =IF(COUNTIF(Verteiler!$B$38:$Y$38,Tabelle1!$A$34),"34","-") -> - | S34: =IF(COUNTIF(Verteiler!$B$38:$Y$38,Tabelle1!$A$1),"1_1","-") -> - | U34: 1_34
A35: 1_35 | B35: =IF(COUNTIF(Verteiler!$B$8:$Y$8,Tabelle1!$A$35),"35","-") -> - | C35: =IF(COUNTIF(Verteiler!$B$14:$Y$14,Tabelle1!$A$35),"35","-") -> - | D35: =IF(COUNTIF(Verteiler!$B$20:$Y$20,Tabelle1!$A$35),"35","-") -> - | E35: =IF(COUNTIF(Verteiler!$B$26:$Y$26,Tabelle1!$A$35),"35","-") -> - | F35: =IF(COUNTIF(Verteiler!$B$32:$Y$32,Tabelle1!$A$35),"35","-") -> - | G35: =IF(COUNTIF(Verteiler!$B$38:$Y$38,Tabelle1!$A$35),"35","-") -> - | H35: =IF(COUNTIF(Verteiler!$B$44:$Y$44,Tabelle1!$A$35),"35","-") -> - | I35: =IF(COUNTIF(Verteiler!$B$50:$Y$50,Tabelle1!$A$35),"35","-") -> - | J35: =IF(COUNTIF(Verteiler!$B$56:$Y$56,Tabelle1!$A$35),"35","-") -> - | K35: =IF(COUNTIF(Verteiler!$B$62:$Y$62,Tabelle1!$A$35),"35","-") -> - | L35: =IF(COUNTIF(Verteiler!$B$68:$Y$68,Tabelle1!$A$35),"35","-") -> - | M35: =IF(COUNTIF(Verteiler!$B$38:$Y$38,Tabelle1!$A$35),"35","-") -> - | S35: =IF(COUNTIF(Verteiler!$B$38:$Y$38,Tabelle1!$A$2),"1_2","-") -> - | U35: 1_35
A36: 1_36 | B36: =IF(COUNTIF(Verteiler!$B$8:$Y$8,Tabelle1!$A$36),"36","-") -> - | C36: =IF(COUNTIF(Verteiler!$B$14:$Y$14,Tabelle1!$A$36),"36","-") -> - | D36: =IF(COUNTIF(Verteiler!$B$20:$Y$20,Tabelle1!$A$36),"36","-") -> - | E36: =IF(COUNTIF(Verteiler!$B$26:$Y$26,Tabelle1!$A$36),"36","-") -> - | F36: =IF(COUNTIF(Verteiler!$B$32:$Y$32,Tabelle1!$A$36),"36","-") -> - | G36: =IF(COUNTIF(Verteiler!$B$38:$Y$38,Tabelle1!$A$36),"36","-") -> - | H36: =IF(COUNTIF(Verteiler!$B$44:$Y$44,Tabelle1!$A$36),"36","-") -> - | I36: =IF(COUNTIF(Verteiler!$B$50:$Y$50,Tabelle1!$A$36),"36","-") -> - | J36: =IF(COUNTIF(Verteiler!$B$56:$Y$56,Tabelle1!$A$36),"36","-") -> - | K36: =IF(COUNTIF(Verteiler!$B$62:$Y$62,Tabelle1!$A$36),"36","-") -> - | L36: =IF(COUNTIF(Verteiler!$B$68:$Y$68,Tabelle1!$A$36),"36","-") -> - | M36: =IF(COUNTIF(Verteiler!$B$38:$Y$38,Tabelle1!$A$36),"36","-") -> - | S36: =IF(COUNTIF(Verteiler!$B$38:$Y$38,Tabelle1!$A$3),"1_3","-") -> - | U36: 1_36
A37: 1_37 | B37: =IF(COUNTIF(Verteiler!$B$8:$Y$8,Tabelle1!$A$37),"37","-") -> - | C37: =IF(COUNTIF(Verteiler!$B$14:$Y$14,Tabelle1!$A$37),"37","-") -> - | D37: =IF(COUNTIF(Verteiler!$B$20:$Y$20,Tabelle1!$A$37),"37","-") -> - | E37: =IF(COUNTIF(Verteiler!$B$26:$Y$26,Tabelle1!$A$37),"37","-") -> - | F37: =IF(COUNTIF(Verteiler!$B$32:$Y$32,Tabelle1!$A$37),"37","-") -> - | G37: =IF(COUNTIF(Verteiler!$B$38:$Y$38,Tabelle1!$A$37),"37","-") -> - | H37: =IF(COUNTIF(Verteiler!$B$44:$Y$44,Tabelle1!$A$37),"37","-") -> - | I37: =IF(COUNTIF(Verteiler!$B$50:$Y$50,Tabelle1!$A$37),"37","-") -> - | J37: =IF(COUNTIF(Verteiler!$B$56:$Y$56,Tabelle1!$A$37),"37","-") -> - | K37: =IF(COUNTIF(Verteiler!$B$62:$Y$62,Tabelle1!$A$37),"37","-") -> - | L37: =IF(COUNTIF(Verteiler!$B$68:$Y$68,Tabelle1!$A$37),"37","-") -> - | M37: =IF(COUNTIF(Verteiler!$B$38:$Y$38,Tabelle1!$A$37),"37","-") -> - | S37: =IF(COUNTIF(Verteiler!$B$38:$Y$38,Tabelle1!$A$1),"1_1","-") -> - | U37: 1_37
A38: 1_38 | B38: =IF(COUNTIF(Verteiler!$B$8:$Y$8,Tabelle1!$A$38),"38","-") -> - | C38: =IF(COUNTIF(Verteiler!$B$14:$Y$14,Tabelle1!$A$38),"38","-") -> - | D38: =IF(COUNTIF(Verteiler!$B$20:$Y$20,Tabelle1!$A$38),"38","-") -> - | E38: =IF(COUNTIF(Verteiler!$B$26:$Y$26,Tabelle1!$A$38),"38","-") -> - | F38: =IF(COUNTIF(Verteiler!$B$32:$Y$32,Tabelle1!$A$38),"38","-") -> - | G38: =IF(COUNTIF(Verteiler!$B$38:$Y$38,Tabelle1!$A$38),"38","-") -> - | H38: =IF(COUNTIF(Verteiler!$B$44:$Y$44,Tabelle1!$A$38),"38","-") -> - | I38: =IF(COUNTIF(Verteiler!$B$50:$Y$50,Tabelle1!$A$38),"38","-") -> - | J38: =IF(COUNTIF(Verteiler!$B$56:$Y$56,Tabelle1!$A$38),"38","-") -> - | K38: =IF(COUNTIF(Verteiler!$B$62:$Y$62,Tabelle1!$A$38),"38","-") -> - | L38: =IF(COUNTIF(Verteiler!$B$68:$Y$68,Tabelle1!$A$38),"38","-") -> - | M38: =IF(COUNTIF(Verteiler!$B$38:$Y$38,Tabelle1!$A$38),"38","-") -> - | S38: =IF(COUNTIF(Verteiler!$B$38:$Y$38,Tabelle1!$A$2),"1_2","-") -> - | U38: 1_38
A39: 1_39 | B39: =IF(COUNTIF(Verteiler!$B$8:$Y$8,Tabelle1!$A$39),"39","-") -> - | C39: =IF(COUNTIF(Verteiler!$B$14:$Y$14,Tabelle1!$A$39),"39","-") -> - | D39: =IF(COUNTIF(Verteiler!$B$20:$Y$20,Tabelle1!$A$39),"39","-") -> - | E39: =IF(COUNTIF(Verteiler!$B$26:$Y$26,Tabelle1!$A$39),"39","-") -> - | F39: =IF(COUNTIF(Verteiler!$B$32:$Y$32,Tabelle1!$A$39),"39","-") -> - | G39: =IF(COUNTIF(Verteiler!$B$38:$Y$38,Tabelle1!$A$39),"39","-") -> - | H39: =IF(COUNTIF(Verteiler!$B$44:$Y$44,Tabelle1!$A$39),"39","-") -> - | I39: =IF(COUNTIF(Verteiler!$B$50:$Y$50,Tabelle1!$A$39),"39","-") -> - | J39: =IF(COUNTIF(Verteiler!$B$56:$Y$56,Tabelle1!$A$39),"39","-") -> - | K39: =IF(COUNTIF(Verteiler!$B$62:$Y$62,Tabelle1!$A$39),"39","-") -> - | L39: =IF(COUNTIF(Verteiler!$B$68:$Y$68,Tabelle1!$A$39),"39","-") -> - | M39: =IF(COUNTIF(Verteiler!$B$38:$Y$38,Tabelle1!$A$39),"39","-") -> - | S39: =IF(COUNTIF(Verteiler!$B$38:$Y$38,Tabelle1!$A$3),"1_3","-") -> - | U39: 1_39
A40: 1_40 | B40: =IF(COUNTIF(Verteiler!$B$8:$Y$8,Tabelle1!$A$40),"40","-") -> - | C40: =IF(COUNTIF(Verteiler!$B$14:$Y$14,Tabelle1!$A$40),"40","-") -> - | D40: =IF(COUNTIF(Verteiler!$B$20:$Y$20,Tabelle1!$A$40),"40","-") -> - | E40: =IF(COUNTIF(Verteiler!$B$26:$Y$26,Tabelle1!$A$40),"40","-") -> - | F40: =IF(COUNTIF(Verteiler!$B$32:$Y$32,Tabelle1!$A$40),"40","-") -> - | G40: =IF(COUNTIF(Verteiler!$B$38:$Y$38,Tabelle1!$A$40),"40","-") -> - | H40: =IF(COUNTIF(Verteiler!$B$44:$Y$44,Tabelle1!$A$40),"40","-") -> - | I40: =IF(COUNTIF(Verteiler!$B$50:$Y$50,Tabelle1!$A$40),"40","-") -> - | J40: =IF(COUNTIF(Verteiler!$B$56:$Y$56,Tabelle1!$A$40),"40","-") -> - | K40: =IF(COUNTIF(Verteiler!$B$62:$Y$62,Tabelle1!$A$40),"40","-") -> - | L40: =IF(COUNTIF(Verteiler!$B$68:$Y$68,Tabelle1!$A$40),"40","-") -> - | M40: =IF(COUNTIF(Verteiler!$B$38:$Y$38,Tabelle1!$A$40),"40","-") -> - | S40: =IF(COUNTIF(Verteiler!$B$38:$Y$38,Tabelle1!$A$1),"1_1","-") -> - | U40: 1_40
...
