Workbook

Sheet Verteiler
A1: Belegungsliste | I1: Lokation - Verteiler | Z1: 1a | AA1: 2a | AB1: 3a | AC1: 4a
Z2: =IF(OR(COUNTIF(B8:Y8,Z1)>0,COUNTIF(B14:Y14,Z1)>0),"In Zeile"&MAX((B8:Y8=Z1)*ROW(B8:Y8))&",Spalte "&MAX((B8:Y8=Z1)*COLUMN(B8:Y8)),"-") -> #VALUE! | AA2: =IFERROR(INDEX($B$8:$Y$80,MATCH(AA1,$B$8:$Y$80,0)), "-") -> - | AB2: =IFERROR(INDEX($B$8:$Y$80,MATCH(AB1,$B$8:$Y$80,0)), "-") -> - | AC2: =IFERROR(INDEX($B$8:$Y$80,MATCH(AC1,$B$8:$Y$80,0)), "-") -> -
A3: X | B3: 1 | C3: 2 | D3: 3 | E3: 4 | F3: 5 | G3: 6 | H3: 7 | I3: 8 | J3: C1 | K3: 10 | L3: 11 | M3: 12 | N3: 13 | O3: 14 | P3: 15 | Q3: 16 | R3: 17 | S3: 18 | T3: 19 | U3: 20 | V3: 21 | W3: 22 | X3: 23 | Y3: 24 | Z3: =IFERROR( INDEX(B$3:Y$3,1,MATCH("1a",B8:Y8,0))& INDEX(B$9:Y$9,1,MATCH("1a",B14:Y14,0))& INDEX(B$15:Y$15,1,MATCH("1a",B20:Y20,0))& INDEX(B$21:Y$21,1,MATCH("1a",B26:Y26,0))& INDEX(B$27:Y$27,1,MATCH("1a",B32:Y32,0))& INDEX(B$33:Y$33,1,MATCH("1a",B38:Y38,0))& INDEX(B$39:Y$39,1,MATCH("1a",B44:Y44,0))& INDEX(B45:Y$45,1,MATCH("1a",B50:Y50,0))& INDEX(B$51:Y$51,1,MATCH("1a",B56:Y56,0))& INDEX(B$57:Y$57,1,MATCH("1a",B62:Y62,0))& INDEX(B$63:Y$63,1,MATCH("1a",B68:Y68,0)), "-") -> - | AC3: =IFERROR( INDEX(B$3:Y$3,1,MATCH("1a",B8:Y8,0))& INDEX(B$9:Y$9,1,MATCH("1a",B14:Y14,0))& INDEX(B$15:Y$15,1,MATCH("1a",B20:Y20,0))& INDEX(B$21:Y$21,1,MATCH("1a",B26:Y26,0))& INDEX(B$27:Y$27,1,MATCH("1a",B32:Y32,0))& INDEX(B$33:Y$33,1,MATCH("1a",B38:Y38,0))& INDEX(B$39:Y$39,1,MATCH("1a",B44:Y44,0))& INDEX(B45:Y$45,1,MATCH("1a",B50:Y50,0))& INDEX(B$51:Y$51,1,MATCH("1a",B56:Y56,0))& INDEX(B$57:Y$57,1,MATCH("1a",B62:Y62,0))& INDEX(B$63:Y$63,1,MATCH("1a",B68:Y68,0)), "-") -> -
A4: Raum | Z4: =IFERROR( INDEX(B$3:Y$68,MATCH("1a",B8:Y68,0),MATCH("1a",B$3:Y$3,0)), "-") -> -
A5: Endgerät | Z5: Formel-Test oben
A6: VLAN
A7: AG oder GBA ?
A8: Switchport | E8: 1a | J8: 2a | O8: 3a
A9: B | B9: 01 | C9: 02 | D9: 03 | E9: 04 | F9: 05 | H9: 07 | I9: 08 | J9: 09 | K9: 10 | L9: 11 | M9: 12 | N9: 13 | O9: 14 | P9: 15 | Q9: 16 | R9: 17 | S9: 18 | T9: 19 | U9: 20 | V9: 21 | W9: 22 | X9: 23 | Y9: 24
A10: Raum
A11: Endgerät
A12: VLAN
A13: AG oder GBA ?
A14: Switchport
A15: C | B15: 01 | C15: 02 | D15: 03 | E15: 04 | F15: 05 | G15: 06 | H15: 07 | I15: 08 | J15: 09 | K15: 10 | L15: 11 | M15: 12 | N15: 13 | O15: 14 | P15: 15 | Q15: 16 | R15: 17 | S15: 18 | T15: 19 | U15: 20 | V15: 21 | W15: 22 | X15: 23 | Y15: 24
A16: Raum
A17: Endgerät
A18: VLAN | AA18: a | AC18: 1 | AD18: 3 | AE18: 5 | AF18: 7 | AG18: 9 | AH18: 11 | AI18: 13 | AJ18: 15 | AK18: 17 | AL18: 19 | AM18: 21 | AN18: 23 | AO18: 25 | AP18: 27 | AQ18: 29 | AR18: 31 | AS18: 33 | AT18: 35 | AU18: 37 | AV18: 39 | AW18: 41 | AX18: 43 | AY18: 45 | AZ18: 47
A19: AG oder GBA ? | AC19: =WENNFEHLER($A$3&" "&INDEX($B$3:$Y$3;1;VERGLEICH("1a";$B$8:$Y$8;0));"-") | AD19: =WENNFEHLER($A$3&" "&INDEX($B$3:$Y$3;1;VERGLEICH("3a";$B$8:$Y$8;0));"-") | AE19: =D82 -> - | AF19: =E82 -> - | AG19: =F82 -> - | AH19: =G82 -> - | AI19: =H82 -> - | AJ19: =I82 -> - | AK19: =J82 -> - | AL19: =K82 -> - | ... AZ19: =Y82 -> -
A20: Switchport | AC20: =IFERROR($A$3&" "&INDEX($B$3:$Y$3,1,MATCH("2a",$B$8:$Y$8,0)),"-") -> X C1 | AD20: =WENNFEHLER($A$3&" "&INDEX($B$3:$Y$3;1;VERGLEICH("4a";$B$8:$Y$8;0));"-") | AE20: =D83 -> - | AF20: =E83 -> - | AG20: =F83 -> - | AH20: =G83 -> - | AI20: =H83 -> - | AJ20: =I83 -> - | AK20: =J83 -> - | AL20: =K83 -> - | ... AZ20: =Y83 -> -
A21: D | B21: 01 | C21: 02 | D21: 03 | E21: 04 | F21: 05 | G21: 06 | H21: 07 | I21: 08 | J21: 09 | K21: 10 | L21: 11 | M21: 12 | N21: 13 | O21: 14 | P21: 15 | Q21: 16 | R21: 17 | S21: 18 | T21: 19 | U21: 20 | V21: 21 | W21: 22 | X21: 23 | Y21: 24 | AC21: 2 | AD21: 4 | AE21: 6 | AF21: 8 | AG21: 10 | AH21: 12 | AI21: 14 | AJ21: 16 | AK21: 18 | AL21: 20 | AM21: 22 | AN21: 24 | AO21: 26 | AP21: 28 | AQ21: 30 | AR21: 32 | AS21: 34 | AT21: 36 | AU21: 38 | AV21: 40 | AW21: 42 | AX21: 44 | AY21: 46 | AZ21: 48
A22: Raum | AA22: b | AC22: 1 | AD22: 3 | AE22: 5 | AF22: 7 | AG22: 9 | AH22: 11 | AI22: 13 | AJ22: 15 | AK22: 17 | AL22: 19 | AM22: 21 | AN22: 23 | AO22: 25 | AP22: 27 | AQ22: 29 | AR22: 31 | AS22: 33 | AT22: 35 | AU22: 37 | AV22: 39 | AW22: 41 | AX22: 43 | AY22: 45 | AZ22: 47
A23: Endgerät | AC23: =B86 -> - | AD23: =C86 -> - | AE23: =D86 -> - | AF23: =E86 -> - | AG23: =F86 -> - | AH23: =G86 -> - | AI23: =H86 -> - | AJ23: =I86 -> - | ... AZ23: =Y86 -> -
A24: VLAN | AC24: =B87 -> 0 | AD24: =C87 -> 0 | AE24: =D87 -> 0 | AF24: =E87 -> 0 | AG24: =F87 -> 0 | AH24: =G87 -> 0 | AI24: =H87 -> 0 | AJ24: =I87 -> 0 | ... AZ24: =Y87 -> 0
A25: AG oder GBA ? | AC25: 2 | AD25: 4 | AE25: 6 | AF25: 8 | AG25: 10 | AH25: 12 | AI25: 14 | AJ25: 16 | AK25: 18 | AL25: 20 | AM25: 22 | AN25: 24 | AO25: 26 | AP25: 28 | AQ25: 30 | AR25: 32 | AS25: 34 | AT25: 36 | AU25: 38 | AV25: 40 | AW25: 42 | AX25: 44 | AY25: 46 | AZ25: 48
A26: Switchport
A27: E | B27: 01 | C27: 02 | D27: 03 | E27: 04 | F27: 05 | G27: 06 | H27: 07 | I27: 08 | J27: 09 | K27: 10 | L27: 11 | M27: 12 | N27: 13 | O27: 14 | P27: 15 | Q27: 16 | R27: 17 | S27: 18 | T27: 19 | U27: 20 | V27: 21 | W27: 22 | X27: 23 | Y27: 24
A28: Raum
A29: Endgerät
A30: VLAN
A31: AG oder GBA ?
A32: Switchport
A33: F | B33: 01 | C33: 02 | D33: 03 | E33: 04 | F33: 05 | G33: 06 | H33: 07 | I33: 08 | J33: 09 | K33: 10 | L33: 11 | M33: 12 | N33: 13 | O33: 14 | P33: 15 | Q33: 16 | R33: 17 | S33: 18 | T33: 19 | U33: 20 | V33: 21 | W33: 22 | X33: 23 | Y33: 24
A34: Raum
A35: Endgerät
A36: VLAN
A37: AG oder GBA ?
A38: Switchport
A39: G | B39: 01 | C39: 02 | D39: 03 | E39: 04 | F39: 05 | G39: 06 | H39: 07 | I39: 08 | J39: 09 | K39: 10 | L39: 11 | M39: 12 | N39: 13 | O39: 14 | P39: 15 | Q39: 16 | R39: 17 | S39: 18 | T39: 19 | U39: 20 | V39: 21 | W39: 22 | X39: 23 | Y39: 24
A40: Raum
A41: Endgerät
A42: VLAN
A43: AG oder GBA ?
A44: Switchport
A45: H | B45: 01 | C45: 02 | D45: 03 | E45: 04 | F45: 05 | G45: 06 | H45: 07 | I45: 08 | J45: 09 | K45: 10 | L45: 11 | M45: 12 | N45: 13 | O45: 14 | P45: 15 | Q45: 16 | R45: 17 | S45: 18 | T45: 19 | U45: 20 | V45: 21 | W45: 22 | X45: 23 | Y45: 24
A46: Raum
A47: Endgerät
A48: VLAN
A49: AG oder GBA ?
A50: Switchport
A51: I | B51: 01 | C51: 02 | D51: 03 | E51: 04 | F51: 05 | G51: 06 | H51: 07 | I51: 08 | J51: 09 | K51: 10 | L51: 11 | M51: 12 | N51: 13 | O51: 14 | P51: 15 | Q51: 16 | R51: 17 | S51: 18 | T51: 19 | U51: 20 | V51: 21 | W51: 22 | X51: 23 | Y51: 24
A52: Raum
A53: Endgerät
A54: VLAN
A55: AG oder GBA ?
A56: Switchport
A57: J | B57: 01 | C57: 02 | D57: 03 | E57: 04 | F57: 05 | G57: 06 | H57: 07 | I57: 08 | J57: 09 | K57: 10 | L57: 11 | M57: 12 | N57: 13 | O57: 14 | P57: 15 | Q57: 16 | R57: 17 | S57: 18 | T57: 19 | U57: 20 | V57: 21 | W57: 22 | X57: 23 | Y57: 24
A58: Raum
A59: Endgerät
A60: VLAN
A61: AG oder GBA ?
A62: Switchport
A63: K | B63: 01 | C63: 02 | D63: 03 | E63: 04 | F63: 05 | G63: 06 | H63: 07 | I63: 08 | J63: 09 | K63: 10 | L63: 11 | M63: 12 | N63: 13 | O63: 14 | P63: 15 | Q63: 16 | R63: 17 | S63: 18 | T63: 19 | U63: 20 | V63: 21 | W63: 22 | X63: 23 | Y63: 24
A64: Raum
A65: Endgerät
A66: VLAN
A67: AG oder GBA ?
A68: Switchport
A69: L | B69: 01 | C69: 02 | D69: 03 | E69: 04 | F69: 05 | G69: 06 | H69: 07 | I69: 08 | J69: 09 | K69: 10 | L69: 11 | M69: 12 | N69: 13 | O69: 14 | P69: 15 | Q69: 16 | R69: 17 | S69: 18 | T69: 19 | U69: 20 | V69: 21 | W69: 22 | X69: 23 | Y69: 24
A70: Raum
A71: Endgerät
A72: VLAN
A73: AG oder GBA ?
A74: Switchport
A75: M | B75: 01 | C75: 02 | D75: 03 | E75: 04 | F75: 05 | G75: 06 | H75: 07 | I75: 08 | J75: 09 | K75: 10 | L75: 11 | M75: 12 | N75: 13 | O75: 14 | P75: 15 | Q75: 16 | R75: 17 | S75: 18 | T75: 19 | U75: 20 | V75: 21 | W75: 22 | X75: 23 | Y75: 24
A76: Raum
A77: Endgerät
A78: VLAN
A79: AG oder GBA ?
A80: Switchport
A81: POE
B82: =IF(COUNTIF(Tabelle1!$B$1:$M$1,Tabelle1!$A$1)>0,INDEX(Verteiler!$A$3:$Y$3,1,MATCH(Tabelle1!$A$1,Tabelle1!$B$1:$M$1,0))&" "&INDEX(Verteiler!$B$3:$Y$3,1,MATCH(Tabelle1!$A$1,Tabelle1!$B$1:$M$1,0))) -> FALSE | C82: =IF(COUNTIF(Tabelle1!$B$3:$M$3,Tabelle1!$A$3)>0,Verteiler!$A$3&" "&Verteiler!$B$3:$Y$3, "-") -> - | D82: =IF(COUNTIF(Tabelle1!$B$5:$M$5,Tabelle1!$A$5),"x","-") -> - | E82: =IF(COUNTIF(Tabelle1!$B$7:$M$7,Tabelle1!$A$7),"x","-") -> - | F82: =IF(COUNTIF(Tabelle1!$B$9:$M$9,Tabelle1!$A$9),"x","-") -> - | G82: =IF(COUNTIF(Tabelle1!$B$11:$M$11,Tabelle1!$A$11),"x","-") -> - | H82: =IF(COUNTIF(Tabelle1!$B$13:$M$13,Tabelle1!$A$13),"x","-") -> - | I82: =IF(COUNTIF(Tabelle1!$B$15:$M$15,Tabelle1!$A$15),"x","-") -> - | J82: =IF(COUNTIF(Tabelle1!$B$17:$M$173,Tabelle1!$A$17),"x","-") -> - | K82: =IF(COUNTIF(Tabelle1!$B$19:$M$19,Tabelle1!$A$19),"x","-") -> - | L82: =IF(COUNTIF(Tabelle1!$B$21:$M$21,Tabelle1!$A$21),"x","-") -> - | M82: =IF(COUNTIF(Tabelle1!$B$23:$M$23,Tabelle1!$A$23),"x","-") -> - | N82: =IF(COUNTIF(Tabelle1!$B$25:$M$25,Tabelle1!$A$25),"x","-") -> - | O82: =IF(COUNTIF(Tabelle1!$B$27:$M$27,Tabelle1!$A$27),"x","-") -> - | P82: =IF(COUNTIF(Tabelle1!$B$29:$M$29,Tabelle1!$A$29),"x","-") -> - | Q82: =IF(COUNTIF(Tabelle1!$B$31:$M$31,Tabelle1!$A$31),"x","-") -> - | R82: =IF(COUNTIF(Tabelle1!$B$33:$M$33,Tabelle1!$A$33),"x","-") -> - | S82: =IF(COUNTIF(Tabelle1!$B$35:$M$35,Tabelle1!$A$35),"x","-") -> - | T82: =IF(COUNTIF(Tabelle1!$B$37:$M$37,Tabelle1!$A$37),"x","-") -> - | U82: =IF(COUNTIF(Tabelle1!$B$39:$M$39,Tabelle1!$A$39),"x","-") -> - | V82: =IF(COUNTIF(Tabelle1!$B$41:$M$41,Tabelle1!$A$41),"x","-") -> - | W82: =IF(COUNTIF(Tabelle1!$B$43:$M$43,Tabelle1!$A$43),"x","-") -> - | X82: =IF(COUNTIF(Tabelle1!$B$45:$M$45,Tabelle1!$A$45),"x","-") -> - | Y82: =IF(COUNTIF(Tabelle1!$B$47:$M$47,Tabelle1!$A$47),"x","-") -> -
B83: =IF(COUNTIF(Tabelle1!$B$2:$M$2,Tabelle1!$A$2),"x","-") -> - | C83: =IF(COUNTIF(Tabelle1!$B$4:$M$4,Tabelle1!$A$4),"x","-") -> - | D83: =IF(COUNTIF(Tabelle1!$B$6:$M$6,Tabelle1!$A$6),"x","-") -> - | E83: =IF(COUNTIF(Tabelle1!$B$8:$M$8,Tabelle1!$A$8),"x","-") -> - | F83: =IF(COUNTIF(Tabelle1!$B$10:$M$10,Tabelle1!$A$10),"x","-") -> - | G83: =IF(COUNTIF(Tabelle1!$B$12:$M$12,Tabelle1!$A$12),"x","-") -> - | H83: =IF(COUNTIF(Tabelle1!$B$14:$M$14,Tabelle1!$A$14),"x","-") -> - | I83: =IF(COUNTIF(Tabelle1!$B$16:$M$16,Tabelle1!$A$16),"x","-") -> - | J83: =IF(COUNTIF(Tabelle1!$B$18:$M$18,Tabelle1!$A$18),"x","-") -> - | K83: =IF(COUNTIF(Tabelle1!$B$20:$M$20,Tabelle1!$A$20),"x","-") -> - | L83: =IF(COUNTIF(Tabelle1!$B$22:$M$22,Tabelle1!$A$22),"x","-") -> - | M83: =IF(COUNTIF(Tabelle1!$B$24:$M$24,Tabelle1!$A$24),"x","-") -> - | N83: =IF(COUNTIF(Tabelle1!$B$26:$M$26,Tabelle1!$A$26),"x","-") -> - | O83: =IF(COUNTIF(Tabelle1!$B$28:$M$28,Tabelle1!$A$28),"x","-") -> - | P83: =IF(COUNTIF(Tabelle1!$B$30:$M$30,Tabelle1!$A$30),"x","-") -> - | Q83: =IF(COUNTIF(Tabelle1!$B$32:$M$32,Tabelle1!$A$32),"x","-") -> - | R83: =IF(COUNTIF(Tabelle1!$B$34:$M$34,Tabelle1!$A$34),"x","-") -> - | S83: =IF(COUNTIF(Tabelle1!$B$36:$M$36,Tabelle1!$A$36),"x","-") -> - | T83: =IF(COUNTIF(Tabelle1!$B$38:$M$38,Tabelle1!$A$38),"x","-") -> - | U83: =IF(COUNTIF(Tabelle1!$B$40:$M$40,Tabelle1!$A$40),"x","-") -> - | V83: =IF(COUNTIF(Tabelle1!$B$42:$M$42,Tabelle1!$A$42),"x","-") -> - | W83: =IF(COUNTIF(Tabelle1!$B$44:$M$44,Tabelle1!$A$44),"x","-") -> - | X83: =IF(COUNTIF(Tabelle1!$B$46:$M$46,Tabelle1!$A$46),"x","-") -> - | Y83: =IF(COUNTIF(Tabelle1!$B$48:$M$48,Tabelle1!$A$48),"x","-") -> -
A84: nPOE
B85: =IF(COUNTIF(Tabelle1!$B$51:$M$51,Tabelle1!$A$51),"x","-") -> - | C85: =IF(COUNTIF(Tabelle1!$B$53:$M$53,Tabelle1!$A$53),"x","-") -> - | D85: =IF(COUNTIF(Tabelle1!$B$55:$M$55,Tabelle1!$A$55),"x","-") -> - | E85: =IF(COUNTIF(Tabelle1!$B$57:$M$57,Tabelle1!$A$57),"x","-") -> - | F85: =IF(COUNTIF(Tabelle1!$B$59:$M$59,Tabelle1!$A$59),"x","-") -> - | G85: =IF(COUNTIF(Tabelle1!$B$61:$M$61,Tabelle1!$A$61),"x","-") -> - | H85: =IF(COUNTIF(Tabelle1!$B$63:$M$63,Tabelle1!$A$63),"x","-") -> - | I85: =IF(COUNTIF(Tabelle1!$B$65:$M$65,Tabelle1!$A$65),"x","-") -> - | J85: =IF(COUNTIF(Tabelle1!$B$67:$M$67,Tabelle1!$A$67),"x","-") -> - | K85: =IF(COUNTIF(Tabelle1!$B$69:$M$69,Tabelle1!$A$69),"x","-") -> - | L85: =IF(COUNTIF(Tabelle1!$B$71:$M$71,Tabelle1!$A$71),"x","-") -> - | M85: =IF(COUNTIF(Tabelle1!$B$73:$M$73,Tabelle1!$A$73),"x","-") -> - | N85: =IF(COUNTIF(Tabelle1!$B$75:$M$75,Tabelle1!$A$75),"x","-") -> - | O85: =IF(COUNTIF(Tabelle1!$B$77:$M$77,Tabelle1!$A$77),"x","-") -> - | P85: =IF(COUNTIF(Tabelle1!$B$79:$M$79,Tabelle1!$A$79),"x","-") -> - | Q85: =IF(COUNTIF(Tabelle1!$B$81:$M$81,Tabelle1!$A$81),"x","-") -> - | R85: =IF(COUNTIF(Tabelle1!$B$83:$M$83,Tabelle1!$A$83),"x","-") -> - | S85: =IF(COUNTIF(Tabelle1!$B$85:$M$85,Tabelle1!$A$85),"x","-") -> - | T85: =IF(COUNTIF(Tabelle1!$B$87:$M$87,Tabelle1!$A$87),"x","-") -> - | U85: =IF(COUNTIF(Tabelle1!$B$89:$M$89,Tabelle1!$A$89),"x","-") -> - | V85: =IF(COUNTIF(Tabelle1!$B$91:$M$91,Tabelle1!$A$91),"x","-") -> - | W85: =IF(COUNTIF(Tabelle1!$B$93:$M$93,Tabelle1!$A$93),"x","-") -> - | X85: =IF(COUNTIF(Tabelle1!$B$95:$M$95,Tabelle1!$A$95),"x","-") -> - | Y85: =IF(COUNTIF(Tabelle1!$B$97:$M$97,Tabelle1!$A$97),"x","-") -> -
B86: =IF(COUNTIF(Tabelle1!$B$52:$M$52,Tabelle1!$A$52),"x","-") -> - | C86: =IF(COUNTIF(Tabelle1!$B$54:$M$54,Tabelle1!$A$54),"x","-") -> - | D86: =IF(COUNTIF(Tabelle1!$B$56:$M$56,Tabelle1!$A$56),"x","-") -> - | E86: =IF(COUNTIF(Tabelle1!$B$58:$M$58,Tabelle1!$A$58),"x","-") -> - | F86: =IF(COUNTIF(Tabelle1!$B$60:$M$60,Tabelle1!$A$60),"x","-") -> - | G86: =IF(COUNTIF(Tabelle1!$B$62:$M$62,Tabelle1!$A$62),"x","-") -> - | H86: =IF(COUNTIF(Tabelle1!$B$64:$M$64,Tabelle1!$A$64),"x","-") -> - | I86: =IF(COUNTIF(Tabelle1!$B$66:$M$66,Tabelle1!$A$66),"x","-") -> - | J86: =IF(COUNTIF(Tabelle1!$B$68:$M$68,Tabelle1!$A$68),"x","-") -> - | K86: =IF(COUNTIF(Tabelle1!$B$70:$M$70,Tabelle1!$A$70),"x","-") -> - | L86: =IF(COUNTIF(Tabelle1!$B$72:$M$72,Tabelle1!$A$72),"x","-") -> - | M86: =IF(COUNTIF(Tabelle1!$B$74:$M$74,Tabelle1!$A$74),"x","-") -> - | N86: =IF(COUNTIF(Tabelle1!$B$76:$M$76,Tabelle1!$A$76),"x","-") -> - | O86: =IF(COUNTIF(Tabelle1!$B$78:$M$78,Tabelle1!$A$78),"x","-") -> - | P86: =IF(COUNTIF(Tabelle1!$B$80:$M$80,Tabelle1!$A$80),"x","-") -> - | Q86: =IF(COUNTIF(Tabelle1!$B$82:$M$82,Tabelle1!$A$82),"x","-") -> - | R86: =IF(COUNTIF(Tabelle1!$B$84:$M$84,Tabelle1!$A$84),"x","-") -> - | S86: =IF(COUNTIF(Tabelle1!$B$86:$M$86,Tabelle1!$A$86),"x","-") -> - | T86: =IF(COUNTIF(Tabelle1!$B$88:$M$88,Tabelle1!$A$88),"x","-") -> - | U86: =IF(COUNTIF(Tabelle1!$B$90:$M$90,Tabelle1!$A$90),"x","-") -> - | V86: =IF(COUNTIF(Tabelle1!$B$92:$M$92,Tabelle1!$A$92),"x","-") -> - | W86: =IF(COUNTIF(Tabelle1!$B$94:$M$94,Tabelle1!$A$94),"x","-") -> - | X86: =IF(COUNTIF(Tabelle1!$B$96:$M$96,Tabelle1!$A$96),"x","-") -> - | Y86: =IF(COUNTIF(Tabelle1!$B$98:$M$98,Tabelle1!$A$98),"x","-") -> -

Sheet Tabelle1
A1: 1_1 | B1: =IF(COUNTIF(Verteiler!$B$8:$Y$8,Tabelle1!$A$1),"1_1","-") -> - | C1: =IF(COUNTIF(Verteiler!$B$14:$Y$14,Tabelle1!$A$1),"1_1","-") -> - | D1: =IF(COUNTIF(Verteiler!$B$20:$Y$20,Tabelle1!$A$1),"1_1","-") -> - | E1: =IF(COUNTIF(Verteiler!$B$26:$Y$26,Tabelle1!$A$1),"1_1","-") -> - | F1: =IF(COUNTIF(Verteiler!$B$32:$Y$32,Tabelle1!$A$1),"1_1","-") -> - | G1: =IF(COUNTIF(Verteiler!$B$38:$Y$38,Tabelle1!$A$1),"1_1","-") -> - | H1: =IF(COUNTIF(Verteiler!$B$44:$Y$44,Tabelle1!$A$1),"1_1","-") -> - | I1: =IF(COUNTIF(Verteiler!$B$50:$Y$50,Tabelle1!$A$1),"1_1","-") -> - | J1: =IF(COUNTIF(Verteiler!$B$56:$Y$56,Tabelle1!$A$1),"1_1","-") -> - | K1: =IF(COUNTIF(Verteiler!$B$62:$Y$62,Tabelle1!$A$1),"1_1","-") -> - | L1: =IF(COUNTIF(Verteiler!$B$68:$Y$68,Tabelle1!$A$1),"1_1","-") -> - | M1: =IF(COUNTIF(Verteiler!$B$38:$Y$38,Tabelle1!$A$1),"1_1","-") -> - | S1: =IF(COUNTIF(Verteiler!$B$38:$Y$38,Tabelle1!$A$1),"1_1","-") -> - | U1: 1_1
A2: 1_2 | B2: =IF(COUNTIF(Verteiler!$B$8:$Y$8,Tabelle1!$A$2),"1_2","-") -> - | C2: =IF(COUNTIF(Verteiler!$B$14:$Y$14,Tabelle1!$A$2),"1_2","-") -> - | D2: =IF(COUNTIF(Verteiler!$B$20:$Y$20,Tabelle1!$A$2),"1_2","-") -> - | E2: =IF(COUNTIF(Verteiler!$B$26:$Y$26,Tabelle1!$A$2),"1_2","-") -> - | F2: =IF(COUNTIF(Verteiler!$B$32:$Y$32,Tabelle1!$A$2),"1_2","-") -> - | G2: =IF(COUNTIF(Verteiler!$B$38:$Y$38,Tabelle1!$A$2),"1_2","-") -> - | H2: =IF(COUNTIF(Verteiler!$B$44:$Y$44,Tabelle1!$A$2),"1_2","-") -> - | I2: =IF(COUNTIF(Verteiler!$B$50:$Y$50,Tabelle1!$A$2),"1_2","-") -> - | J2: =IF(COUNTIF(Verteiler!$B$56:$Y$56,Tabelle1!$A$2),"1_2","-") -> - | K2: =IF(COUNTIF(Verteiler!$B$62:$Y$62,Tabelle1!$A$2),"1_2","-") -> - | L2: =IF(COUNTIF(Verteiler!$B$68:$Y$68,Tabelle1!$A$2),"1_2","-") -> - | M2: =IF(COUNTIF(Verteiler!$B$38:$Y$38,Tabelle1!$A$2),"1_2","-") -> - | S2: =IF(COUNTIF(Verteiler!$B$38:$Y$38,Tabelle1!$A$2),"1_2","-") -> - | U2: 1_2
A3: 1_3 | B3: =IF(COUNTIF(Verteiler!$B$8:$Y$8,Tabelle1!$A$3),"1_3","-") -> - | C3: =IF(COUNTIF(Verteiler!$B$14:$Y$14,Tabelle1!$A$3),"1_3","-") -> - | D3: =IF(COUNTIF(Verteiler!$B$20:$Y$20,Tabelle1!$A$3),"1_3","-") -> - | E3: =IF(COUNTIF(Verteiler!$B$26:$Y$26,Tabelle1!$A$3),"1_3","-") -> - | F3: =IF(COUNTIF(Verteiler!$B$32:$Y$32,Tabelle1!$A$3),"1_3","-") -> - | G3: =IF(COUNTIF(Verteiler!$B$38:$Y$38,Tabelle1!$A$3),"1_3","-") -> - | H3: =IF(COUNTIF(Verteiler!$B$44:$Y$44,Tabelle1!$A$3),"1_3","-") -> - | I3: =IF(COUNTIF(Verteiler!$B$50:$Y$50,Tabelle1!$A$3),"1_3","-") -> - | J3: =IF(COUNTIF(Verteiler!$B$56:$Y$56,Tabelle1!$A$3),"1_3","-") -> - | K3: =IF(COUNTIF(Verteiler!$B$62:$Y$62,Tabelle1!$A$3),"1_3","-") -> - | L3: =IF(COUNTIF(Verteiler!$B$68:$Y$68,Tabelle1!$A$3),"1_3","-") -> - | M3: =IF(COUNTIF(Verteiler!$B$38:$Y$38,Tabelle1!$A$3),"1_3","-") -> - | S3: =IF(COUNTIF(Verteiler!$B$38:$Y$38,Tabelle1!$A$3),"1_3","-") -> - | U3: 1_3
A4: 1_4 | B4: =IF(COUNTIF(Verteiler!$B$8:$Y$8,Tabelle1!$A$4),"1_4","-") -> - | C4: =IF(COUNTIF(Verteiler!$B$14:$Y$14,Tabelle1!$A$4),"1_4","-") -> - | D4: =IF(COUNTIF(Verteiler!$B$20:$Y$20,Tabelle1!$A$4),"1_4","-") -> - | E4: =IF(COUNTIF(Verteiler!$B$26:$Y$26,Tabelle1!$A$4),"1_4","-") -> - | F4: =IF(COUNTIF(Verteiler!$B$32:$Y$32,Tabelle1!$A$4),"1_4","-") -> - | G4: =IF(COUNTIF(Verteiler!$B$38:$Y$38,Tabelle1!$A$4),"1_4","-") -> - | H4: =IF(COUNTIF(Verteiler!$B$44:$Y$44,Tabelle1!$A$4),"1_4","-") -> - | I4: =IF(COUNTIF(Verteiler!$B$50:$Y$50,Tabelle1!$A$4),"1_4","-") -> - | J4: =IF(COUNTIF(Verteiler!$B$56:$Y$56,Tabelle1!$A$4),"1_4","-") -> - | K4: =IF(COUNTIF(Verteiler!$B$62:$Y$62,Tabelle1!$A$4),"1_4","-") -> - | L4: =IF(COUNTIF(Verteiler!$B$68:$Y$68,Tabelle1!$A$4),"1_4","-") -> - | M4: =IF(COUNTIF(Verteiler!$B$38:$Y$38,Tabelle1!$A$4),"1_4","-") -> - | S4: =IF(COUNTIF(Verteiler!$B$38:$Y$38,Tabelle1!$A$1),"1_1","-") -> - | U4: 1_4
A5: 1_5 | B5: =IF(COUNTIF(Verteiler!$B$8:$Y$8,Tabelle1!$A$5),"1_5","-") -> - | C5: =IF(COUNTIF(Verteiler!$B$14:$Y$14,Tabelle1!$A$5),"1_5","-") -> - | D5: =IF(COUNTIF(Verteiler!$B$20:$Y$20,Tabelle1!$A$5),"1_5","-") -> - | E5: =IF(COUNTIF(Verteiler!$B$26:$Y$26,Tabelle1!$A$5),"1_5","-") -> - | F5: =IF(COUNTIF(Verteiler!$B$32:$Y$32,Tabelle1!$A$5),"1_5","-") -> - | G5: =IF(COUNTIF(Verteiler!$B$38:$Y$38,Tabelle1!$A$5),"1_5","-") -> - | H5: =IF(COUNTIF(Verteiler!$B$44:$Y$44,Tabelle1!$A$5),"1_5","-") -> - | I5: =IF(COUNTIF(Verteiler!$B$50:$Y$50,Tabelle1!$A$5),"1_5","-") -> - | J5: =IF(COUNTIF(Verteiler!$B$56:$Y$56,Tabelle1!$A$5),"1_5","-") -> - | K5: =IF(COUNTIF(Verteiler!$B$62:$Y$62,Tabelle1!$A$5),"1_5","-") -> - | L5: =IF(COUNTIF(Verteiler!$B$68:$Y$68,Tabelle1!$A$5),"1_5","-") -> - | M5: =IF(COUNTIF(Verteiler!$B$38:$Y$38,Tabelle1!$A$5),"1_5","-") -> - | S5: =IF(COUNTIF(Verteiler!$B$38:$Y$38,Tabelle1!$A$2),"1_2","-") -> - | U5: 1_5
A6: 1_6 | B6: =IF(COUNTIF(Verteiler!$B$8:$Y$8,Tabelle1!$A$6),"1_6","-") -> - | C6: =IF(COUNTIF(Verteiler!$B$14:$Y$14,Tabelle1!$A$6),"1_6","-") -> - | D6: =IF(COUNTIF(Verteiler!$B$20:$Y$20,Tabelle1!$A$6),"1_6","-") -> - | E6: =IF(COUNTIF(Verteiler!$B$26:$Y$26,Tabelle1!$A$6),"1_6","-") -> - | F6: =IF(COUNTIF(Verteiler!$B$32:$Y$32,Tabelle1!$A$6),"1_6","-") -> - | G6: =IF(COUNTIF(Verteiler!$B$38:$Y$38,Tabelle1!$A$6),"1_6","-") -> - | H6: =IF(COUNTIF(Verteiler!$B$44:$Y$44,Tabelle1!$A$6),"1_6","-") -> - | I6: =IF(COUNTIF(Verteiler!$B$50:$Y$50,Tabelle1!$A$6),"1_6","-") -> - | J6: =IF(COUNTIF(Verteiler!$B$56:$Y$56,Tabelle1!$A$6),"1_6","-") -> - | K6: =IF(COUNTIF(Verteiler!$B$62:$Y$62,Tabelle1!$A$6),"1_6","-") -> - | L6: =IF(COUNTIF(Verteiler!$B$68:$Y$68,Tabelle1!$A$6),"1_6","-") -> - | M6: =IF(COUNTIF(Verteiler!$B$38:$Y$38,Tabelle1!$A$6),"1_6","-") -> - | S6: =IF(COUNTIF(Verteiler!$B$38:$Y$38,Tabelle1!$A$3),"1_3","-") -> - | U6: 1_6
A7: 1_7 | B7: =IF(COUNTIF(Verteiler!$B$8:$Y$8,Tabelle1!$A$7),"1_7","-") -> - | C7: =IF(COUNTIF(Verteiler!$B$14:$Y$14,Tabelle1!$A$7),"1_7","-") -> - | D7: =IF(COUNTIF(Verteiler!$B$20:$Y$20,Tabelle1!$A$7),"1_7","-") -> - | E7: =IF(COUNTIF(Verteiler!$B$26:$Y$26,Tabelle1!$A$7),"1_7","-") -> - | F7: =IF(COUNTIF(Verteiler!$B$32:$Y$32,Tabelle1!$A$7),"1_7","-") -> - | G7: =IF(COUNTIF(Verteiler!$B$38:$Y$38,Tabelle1!$A$7),"1_7","-") -> - | H7: =IF(COUNTIF(Verteiler!$B$44:$Y$44,Tabelle1!$A$7),"1_7","-") -> - | I7: =IF(COUNTIF(Verteiler!$B$50:$Y$50,Tabelle1!$A$7),"1_7","-") -> - | J7: =IF(COUNTIF(Verteiler!$B$56:$Y$56,Tabelle1!$A$7),"1_7","-") -> - | K7: =IF(COUNTIF(Verteiler!$B$62:$Y$62,Tabelle1!$A$7),"1_7","-") -> - | L7: =IF(COUNTIF(Verteiler!$B$68:$Y$68,Tabelle1!$A$7),"1_7","-") -> - | M7: =IF(COUNTIF(Verteiler!$B$38:$Y$38,Tabelle1!$A$7),"1_7","-") -> - | S7: =IF(COUNTIF(Verteiler!$B$38:$Y$38,Tabelle1!$A$1),"1_1","-") -> - | U7: 1_7
A8: 1_8 | B8: =IF(COUNTIF(Verteiler!$B$8:$Y$8,Tabelle1!$A$8),"1_8","-") -> - | C8: =IF(COUNTIF(Verteiler!$B$14:$Y$14,Tabelle1!$A$8),"1_8","-") -> - | D8: =IF(COUNTIF(Verteiler!$B$20:$Y$20,Tabelle1!$A$8),"1_8","-") -> - | E8: =IF(COUNTIF(Verteiler!$B$26:$Y$26,Tabelle1!$A$8),"1_8","-") -> - | F8: =IF(COUNTIF(Verteiler!$B$32:$Y$32,Tabelle1!$A$8),"1_8","-") -> - | G8: =IF(COUNTIF(Verteiler!$B$38:$Y$38,Tabelle1!$A$8),"1_8","-") -> - | H8: =IF(COUNTIF(Verteiler!$B$44:$Y$44,Tabelle1!$A$8),"1_8","-") -> - | I8: =IF(COUNTIF(Verteiler!$B$50:$Y$50,Tabelle1!$A$8),"1_8","-") -> - | J8: =IF(COUNTIF(Verteiler!$B$56:$Y$56,Tabelle1!$A$8),"1_8","-") -> - | K8: =IF(COUNTIF(Verteiler!$B$62:$Y$62,Tabelle1!$A$8),"1_8","-") -> - | L8: =IF(COUNTIF(Verteiler!$B$68:$Y$68,Tabelle1!$A$8),"1_8","-") -> - | M8: =IF(COUNTIF(Verteiler!$B$38:$Y$38,Tabelle1!$A$8),"1_8","-") -> - | S8: =IF(COUNTIF(Verteiler!$B$38:$Y$38,Tabelle1!$A$2),"1_2","-") -> - | U8: 1_8
A9: 1_9 | B9: =IF(COUNTIF(Verteiler!$B$8:$Y$8,Tabelle1!$A$9),"1_9","-") -> - | C9: =IF(COUNTIF(Verteiler!$B$14:$Y$14,Tabelle1!$A$9),"1_9","-") -> - | D9: =IF(COUNTIF(Verteiler!$B$20:$Y$20,Tabelle1!$A$9),"1_9","-") -> - | E9: =IF(COUNTIF(Verteiler!$B$26:$Y$26,Tabelle1!$A$9),"1_9","-") -> - | F9: =IF(COUNTIF(Verteiler!$B$32:$Y$32,Tabelle1!$A$9),"1_9","-") -> - | G9: =IF(COUNTIF(Verteiler!$B$38:$Y$38,Tabelle1!$A$9),"1_9","-") -> - | H9: =IF(COUNTIF(Verteiler!$B$44:$Y$44,Tabelle1!$A$9),"1_9","-") -> - | I9: =IF(COUNTIF(Verteiler!$B$50:$Y$50,Tabelle1!$A$9),"1_9","-") -> - | J9: =IF(COUNTIF(Verteiler!$B$56:$Y$56,Tabelle1!$A$9),"1_9","-") -> - | K9: =IF(COUNTIF(Verteiler!$B$62:$Y$62,Tabelle1!$A$9),"1_9","-") -> - | L9: =IF(COUNTIF(Verteiler!$B$68:$Y$68,Tabelle1!$A$9),"1_9","-") -> - | M9: =IF(COUNTIF(Verteiler!$B$38:$Y$38,Tabelle1!$A$9),"1_9","-") -> - | S9: =IF(COUNTIF(Verteiler!$B$38:$Y$38,Tabelle1!$A$3),"1_3","-") -> - | U9: 1_9
A10: 1_10 | B10: =IF(COUNTIF(Verteiler!$B$8:$Y$8,Tabelle1!$A$10),"1_10","-") -> - | C10: =IF(COUNTIF(Verteiler!$B$14:$Y$14,Tabelle1!$A$10),"1_10","-") -> - | D10: =IF(COUNTIF(Verteiler!$B$114:$Y$114,Tabelle1!$A$10),"1_10","-") -> - | E10: =IF(COUNTIF(Verteiler!$B$120:$Y$120,Tabelle1!$A$10),"1_10","-") -> - | F10: =IF(COUNTIF(Verteiler!$B$32:$Y$32,Tabelle1!$A$10),"1_10","-") -> - | G10: =IF(COUNTIF(Verteiler!$B$38:$Y$38,Tabelle1!$A$10),"1_10","-") -> - | H10: =IF(COUNTIF(Verteiler!$B$44:$Y$44,Tabelle1!$A$10),"1_10","-") -> - | I10: =IF(COUNTIF(Verteiler!$B$50:$Y$50,Tabelle1!$A$10),"1_10","-") -> - | J10: =IF(COUNTIF(Verteiler!$B$56:$Y$56,Tabelle1!$A$10),"1_10","-") -> - | K10: =IF(COUNTIF(Verteiler!$B$62:$Y$62,Tabelle1!$A$10),"1_10","-") -> - | L10: =IF(COUNTIF(Verteiler!$B$68:$Y$68,Tabelle1!$A$10),"1_10","-") -> - | M10: =IF(COUNTIF(Verteiler!$B$38:$Y$38,Tabelle1!$A$10),"1_10","-") -> - | S10: =IF(COUNTIF(Verteiler!$B$38:$Y$38,Tabelle1!$A$1),"1_1","-") -> - | U10: 1_10
A11: 1_11 | B11: =IF(COUNTIF(Verteiler!$B$8:$Y$8,Tabelle1!$A$11),"1_11","-") -> - | C11: =IF(COUNTIF(Verteiler!$B$14:$Y$14,Tabelle1!$A$11),"1_11","-") -> - | D11: =IF(COUNTIF(Verteiler!$B$20:$Y$20,Tabelle1!$A$11),"1_11","-") -> - | E11: =IF(COUNTIF(Verteiler!$B$26:$Y$26,Tabelle1!$A$11),"1_11","-") -> - | F11: =IF(COUNTIF(Verteiler!$B$32:$Y$32,Tabelle1!$A$11),"1_11","-") -> - | G11: =IF(COUNTIF(Verteiler!$B$38:$Y$38,Tabelle1!$A$11),"1_11","-") -> - | H11: =IF(COUNTIF(Verteiler!$B$44:$Y$44,Tabelle1!$A$11),"1_11","-") -> - | I11: =IF(COUNTIF(Verteiler!$B$50:$Y$50,Tabelle1!$A$11),"1_11","-") -> - | J11: =IF(COUNTIF(Verteiler!$B$56:$Y$56,Tabelle1!$A$11),"1_11","-") -> - | K11: =IF(COUNTIF(Verteiler!$B$62:$Y$62,Tabelle1!$A$11),"1_11","-") -> - | L11: =IF(COUNTIF(Verteiler!$B$68:$Y$68,Tabelle1!$A$11),"1_11","-") -> - | M11: =IF(COUNTIF(Verteiler!$B$38:$Y$38,Tabelle1!$A$11),"1_11","-") -> - | S11: =IF(COUNTIF(Verteiler!$B$38:$Y$38,Tabelle1!$A$2),"1_2","-") -> - | U11: 1_11
A12: 1_12 | B12: =IF(COUNTIF(Verteiler!$B$8:$Y$8,Tabelle1!$A$12),"1_12","-") -> - | C12: =IF(COUNTIF(Verteiler!$B$14:$Y$14,Tabelle1!$A$12),"1_12","-") -> - | D12: =IF(COUNTIF(Verteiler!$B$20:$Y$20,Tabelle1!$A$12),"1_12","-") -> - | E12: =IF(COUNTIF(Verteiler!$B$26:$Y$26,Tabelle1!$A$12),"1_12","-") -> - | F12: =IF(COUNTIF(Verteiler!$B$32:$Y$32,Tabelle1!$A$12),"1_12","-") -> - | G12: =IF(COUNTIF(Verteiler!$B$38:$Y$38,Tabelle1!$A$12),"1_12","-") -> - | H12: =IF(COUNTIF(Verteiler!$B$44:$Y$44,Tabelle1!$A$12),"1_12","-") -> - | I12: =IF(COUNTIF(Verteiler!$B$50:$Y$50,Tabelle1!$A$12),"1_12","-") -> - | J12: =IF(COUNTIF(Verteiler!$B$56:$Y$56,Tabelle1!$A$12),"1_12","-") -> - | K12: =IF(COUNTIF(Verteiler!$B$62:$Y$62,Tabelle1!$A$12),"1_12","-") -> - | L12: =IF(COUNTIF(Verteiler!$B$68:$Y$68,Tabelle1!$A$12),"1_12","-") -> - | M12: =IF(COUNTIF(Verteiler!$B$38:$Y$38,Tabelle1!$A$12),"1_12","-") -> - | S12: =IF(COUNTIF(Verteiler!$B$38:$Y$38,Tabelle1!$A$3),"1_3","-") -> - | U12: 1_12
A13: 1_13 | B13: =IF(COUNTIF(Verteiler!$B$8:$Y$8,Tabelle1!$A$13),"1_13","-") -> - | C13: =IF(COUNTIF(Verteiler!$B$14:$Y$14,Tabelle1!$A$13),"1_13","-") -> - | D13: =IF(COUNTIF(Verteiler!$B$20:$Y$20,Tabelle1!$A$13),"1_13","-") -> - | E13: =IF(COUNTIF(Verteiler!$B$26:$Y$26,Tabelle1!$A$13),"1_13","-") -> - | F13: =IF(COUNTIF(Verteiler!$B$32:$Y$32,Tabelle1!$A$13),"1_13","-") -> - | G13: =IF(COUNTIF(Verteiler!$B$38:$Y$38,Tabelle1!$A$13),"1_13","-") -> - | H13: =IF(COUNTIF(Verteiler!$B$44:$Y$44,Tabelle1!$A$13),"1_13","-") -> - | I13: =IF(COUNTIF(Verteiler!$B$50:$Y$50,Tabelle1!$A$13),"1_13","-") -> - | J13: =IF(COUNTIF(Verteiler!$B$56:$Y$56,Tabelle1!$A$13),"1_13","-") -> - | K13: =IF(COUNTIF(Verteiler!$B$62:$Y$62,Tabelle1!$A$13),"1_13","-") -> - | L13: =IF(COUNTIF(Verteiler!$B$68:$Y$68,Tabelle1!$A$13),"1_13","-") -> - | M13: =IF(COUNTIF(Verteiler!$B$38:$Y$38,Tabelle1!$A$13),"1_13","-") -> - | S13: =IF(COUNTIF(Verteiler!$B$38:$Y$38,Tabelle1!$A$1),"1_1","-") -> - | U13: 1_13
A14: 1_14 | B14: =IF(COUNTIF(Verteiler!$B$8:$Y$8,Tabelle1!$A$14),"1_14","-") -> - | C14: =IF(COUNTIF(Verteiler!$B$14:$Y$14,Tabelle1!$A$14),"1_14","-") -> - | D14: =IF(COUNTIF(Verteiler!$B$20:$Y$20,Tabelle1!$A$14),"1_14","-") -> - | E14: =IF(COUNTIF(Verteiler!$B$26:$Y$26,Tabelle1!$A$14),"1_14","-") -> - | F14: =IF(COUNTIF(Verteiler!$B$32:$Y$32,Tabelle1!$A$14),"1_14","-") -> - | G14: =IF(COUNTIF(Verteiler!$B$38:$Y$38,Tabelle1!$A$14),"1_14","-") -> - | H14: =IF(COUNTIF(Verteiler!$B$44:$Y$44,Tabelle1!$A$14),"1_14","-") -> - | I14: =IF(COUNTIF(Verteiler!$B$50:$Y$50,Tabelle1!$A$14),"1_14","-") -> - | J14: =IF(COUNTIF(Verteiler!$B$56:$Y$56,Tabelle1!$A$14),"1_14","-") -> - | K14: =IF(COUNTIF(Verteiler!$B$62:$Y$62,Tabelle1!$A$14),"1_14","-") -> - | L14: =IF(COUNTIF(Verteiler!$B$68:$Y$68,Tabelle1!$A$14),"1_14","-") -> - | M14: =IF(COUNTIF(Verteiler!$B$38:$Y$38,Tabelle1!$A$14),"1_14","-") -> - | S14: =IF(COUNTIF(Verteiler!$B$38:$Y$38,Tabelle1!$A$2),"1_2","-") -> - | U14: 1_14
A15: 1_15 | B15: =IF(COUNTIF(Verteiler!$B$8:$Y$8,Tabelle1!$A$15),"15","-") -> - | C15: =IF(COUNTIF(Verteiler!$B$14:$Y$14,Tabelle1!$A$15),"15","-") -> - | D15: =IF(COUNTIF(Verteiler!$B$20:$Y$20,Tabelle1!$A$15),"15","-") -> - | E15: =IF(COUNTIF(Verteiler!$B$26:$Y$26,Tabelle1!$A$15),"15","-") -> - | F15: =IF(COUNTIF(Verteiler!$B$32:$Y$32,Tabelle1!$A$15),"15","-") -> - | G15: =IF(COUNTIF(Verteiler!$B$38:$Y$38,Tabelle1!$A$15),"15","-") -> - | H15: =IF(COUNTIF(Verteiler!$B$44:$Y$44,Tabelle1!$A$15),"15","-") -> - | I15: =IF(COUNTIF(Verteiler!$B$50:$Y$50,Tabelle1!$A$15),"15","-") -> - | J15: =IF(COUNTIF(Verteiler!$B$56:$Y$56,Tabelle1!$A$15),"15","-") -> - | K15: =IF(COUNTIF(Verteiler!$B$62:$Y$62,Tabelle1!$A$15),"15","-") -> - | L15: =IF(COUNTIF(Verteiler!$B$68:$Y$68,Tabelle1!$A$15),"15","-") -> - | M15: =IF(COUNTIF(Verteiler!$B$38:$Y$38,Tabelle1!$A$15),"15","-") -> - | S15: =IF(COUNTIF(Verteiler!$B$38:$Y$38,Tabelle1!$A$3),"1_3","-") -> - | U15: 1_15
A16: 1_16 | B16: =IF(COUNTIF(Verteiler!$B$8:$Y$8,Tabelle1!$A$16),"16","-") -> - | C16: =IF(COUNTIF(Verteiler!$B$14:$Y$14,Tabelle1!$A$16),"16","-") -> - | D16: =IF(COUNTIF(Verteiler!$B$20:$Y$20,Tabelle1!$A$16),"16","-") -> - | E16: =IF(COUNTIF(Verteiler!$B$26:$Y$26,Tabelle1!$A$16),"16","-") -> - | F16: =IF(COUNTIF(Verteiler!$B$32:$Y$32,Tabelle1!$A$16),"16","-") -> - | G16: =IF(COUNTIF(Verteiler!$B$38:$Y$38,Tabelle1!$A$16),"16","-") -> - | H16: =IF(COUNTIF(Verteiler!$B$44:$Y$44,Tabelle1!$A$16),"16","-") -> - | I16: =IF(COUNTIF(Verteiler!$B$50:$Y$50,Tabelle1!$A$16),"16","-") -> - | J16: =IF(COUNTIF(Verteiler!$B$56:$Y$56,Tabelle1!$A$16),"16","-") -> - | K16: =IF(COUNTIF(Verteiler!$B$62:$Y$62,Tabelle1!$A$16),"16","-") -> - | L16: =IF(COUNTIF(Verteiler!$B$68:$Y$68,Tabelle1!$A$16),"16","-") -> - | M16: =IF(COUNTIF(Verteiler!$B$38:$Y$38,Tabelle1!$A$16),"16","-") -> - | S16: =IF(COUNTIF(Verteiler!$B$38:$Y$38,Tabelle1!$A$1),"1_1","-") -> - | U16: 1_16
A17: 1_17 | B17: =IF(COUNTIF(Verteiler!$B$8:$Y$8,Tabelle1!$A$17),"17","-") -> - | C17: =IF(COUNTIF(Verteiler!$B$14:$Y$14,Tabelle1!$A$17),"17","-") -> - | D17: =IF(COUNTIF(Verteiler!$B$20:$Y$20,Tabelle1!$A$17),"17","-") -> - | E17: =IF(COUNTIF(Verteiler!$B$26:$Y$26,Tabelle1!$A$17),"17","-") -> - | F17: =IF(COUNTIF(Verteiler!$B$32:$Y$32,Tabelle1!$A$17),"17","-") -> - | G17: =IF(COUNTIF(Verteiler!$B$38:$Y$38,Tabelle1!$A$17),"17","-") -> - | H17: =IF(COUNTIF(Verteiler!$B$44:$Y$44,Tabelle1!$A$17),"17","-") -> - | I17: =IF(COUNTIF(Verteiler!$B$50:$Y$50,Tabelle1!$A$17),"17","-") -> - | J17: =IF(COUNTIF(Verteiler!$B$56:$Y$56,Tabelle1!$A$17),"17","-") -> - | K17: =IF(COUNTIF(Verteiler!$B$62:$Y$62,Tabelle1!$A$17),"17","-") -> - | L17: =IF(COUNTIF(Verteiler!$B$68:$Y$68,Tabelle1!$A$17),"17","-") -> - | M17: =IF(COUNTIF(Verteiler!$B$38:$Y$38,Tabelle1!$A$17),"17","-") -> - | S17: =IF(COUNTIF(Verteiler!$B$38:$Y$38,Tabelle1!$A$2),"1_2","-") -> - | U17: 1_17
A18: 1_18 | B18: =IF(COUNTIF(Verteiler!$B$8:$Y$8,Tabelle1!$A$18),"18","-") -> - | C18: =IF(COUNTIF(Verteiler!$B$14:$Y$14,Tabelle1!$A$18),"18","-") -> - | D18: =IF(COUNTIF(Verteiler!$B$20:$Y$20,Tabelle1!$A$18),"18","-") -> - | E18: =IF(COUNTIF(Verteiler!$B$26:$Y$26,Tabelle1!$A$18),"18","-") -> - | F18: =IF(COUNTIF(Verteiler!$B$32:$Y$32,Tabelle1!$A$18),"18","-") -> - | G18: =IF(COUNTIF(Verteiler!$B$38:$Y$38,Tabelle1!$A$18),"18","-") -> - | H18: =IF(COUNTIF(Verteiler!$B$44:$Y$44,Tabelle1!$A$18),"18","-") -> - | I18: =IF(COUNTIF(Verteiler!$B$50:$Y$50,Tabelle1!$A$18),"18","-") -> - | J18: =IF(COUNTIF(Verteiler!$B$56:$Y$56,Tabelle1!$A$18),"18","-") -> - | K18: =IF(COUNTIF(Verteiler!$B$62:$Y$62,Tabelle1!$A$18),"18","-") -> - | L18: =IF(COUNTIF(Verteiler!$B$68:$Y$68,Tabelle1!$A$18),"18","-") -> - | M18: =IF(COUNTIF(Verteiler!$B$38:$Y$38,Tabelle1!$A$18),"18","-") -> - | S18: =IF(COUNTIF(Verteiler!$B$38:$Y$38,Tabelle1!$A$3),"1_3","-") -> - | U18: 1_18
A19: 1_19 | B19: =IF(COUNTIF(Verteiler!$B$8:$Y$8,Tabelle1!$A$19),"19","-") -> - | C19: =IF(COUNTIF(Verteiler!$B$14:$Y$14,Tabelle1!$A$19),"19","-") -> - | D19: =IF(COUNTIF(Verteiler!$B$20:$Y$20,Tabelle1!$A$19),"19","-") -> - | E19: =IF(COUNTIF(Verteiler!$B$26:$Y$26,Tabelle1!$A$19),"19","-") -> - | F19: =IF(COUNTIF(Verteiler!$B$32:$Y$32,Tabelle1!$A$19),"19","-") -> - | G19: =IF(COUNTIF(Verteiler!$B$38:$Y$38,Tabelle1!$A$19),"19","-") -> - | H19: =IF(COUNTIF(Verteiler!$B$44:$Y$44,Tabelle1!$A$19),"19","-") -> - | I19: =IF(COUNTIF(Verteiler!$B$50:$Y$50,Tabelle1!$A$19),"19","-") -> - | J19: =IF(COUNTIF(Verteiler!$B$56:$Y$56,Tabelle1!$A$19),"19","-") -> - | K19: =IF(COUNTIF(Verteiler!$B$62:$Y$62,Tabelle1!$A$19),"19","-") -> - | L19: =IF(COUNTIF(Verteiler!$B$68:$Y$68,Tabelle1!$A$19),"19","-") -> - | M19: =IF(COUNTIF(Verteiler!$B$38:$Y$38,Tabelle1!$A$19),"19","-") -> - | S19: =IF(COUNTIF(Verteiler!$B$38:$Y$38,Tabelle1!$A$1),"1_1","-") -> - | U19: 1_19
A20: 1_20 | B20: =IF(COUNTIF(Verteiler!$B$8:$Y$8,Tabelle1!$A$20),"20","-") -> - | C20: =IF(COUNTIF(Verteiler!$B$14:$Y$14,Tabelle1!$A$20),"20","-") -> - | D20: =IF(COUNTIF(Verteiler!$B$20:$Y$20,Tabelle1!$A$20),"20","-") -> - | E20: =IF(COUNTIF(Verteiler!$B$26:$Y$26,Tabelle1!$A$20),"20","-") -> - | F20: =IF(COUNTIF(Verteiler!$B$32:$Y$32,Tabelle1!$A$20),"20","-") -> - | G20: =IF(COUNTIF(Verteiler!$B$38:$Y$38,Tabelle1!$A$20),"20","-") -> - | H20: =IF(COUNTIF(Verteiler!$B$44:$Y$44,Tabelle1!$A$20),"20","-") -> - | I20: =IF(COUNTIF(Verteiler!$B$50:$Y$50,Tabelle1!$A$20),"20","-") -> - | J20: =IF(COUNTIF(Verteiler!$B$56:$Y$56,Tabelle1!$A$20),"20","-") -> - | K20: =IF(COUNTIF(Verteiler!$B$62:$Y$62,Tabelle1!$A$20),"20","-") -> - | L20: =IF(COUNTIF(Verteiler!$B$68:$Y$68,Tabelle1!$A$20),"20","-") -> - | M20: =IF(COUNTIF(Verteiler!$B$38:$Y$38,Tabelle1!$A$20),"20","-") -> - | S20: =IF(COUNTIF(Verteiler!$B$38:$Y$38,Tabelle1!$A$2),"1_2","-") -> - | U20: 1_20
A21: 1_21 | B21: =IF(COUNTIF(Verteiler!$B$8:$Y$8,Tabelle1!$A$21),"21","-") -> - | C21: =IF(COUNTIF(Verteiler!$B$14:$Y$14,Tabelle1!$A$21),"21","-") -> - | D21: =IF(COUNTIF(Verteiler!$B$20:$Y$20,Tabelle1!$A$21),"21","-") -> - | E21: =IF(COUNTIF(Verteiler!$B$26:$Y$26,Tabelle1!$A$21),"21","-") -> - | F21: =IF(COUNTIF(Verteiler!$B$32:$Y$32,Tabelle1!$A$21),"21","-") -> - | G21: =IF(COUNTIF(Verteiler!$B$38:$Y$38,Tabelle1!$A$21),"21","-") -> - | H21: =IF(COUNTIF(Verteiler!$B$44:$Y$44,Tabelle1!$A$21),"21","-") -> - | I21: =IF(COUNTIF(Verteiler!$B$50:$Y$50,Tabelle1!$A$21),"21","-") -> - | J21: =IF(COUNTIF(Verteiler!$B$56:$Y$56,Tabelle1!$A$21),"21","-") -> - | K21: =IF(COUNTIF(Verteiler!$B$62:$Y$62,Tabelle1!$A$21),"21","-") -> - | L21: =IF(COUNTIF(Verteiler!$B$68:$Y$68,Tabelle1!$A$21),"21","-") -> - | M21: =IF(COUNTIF(Verteiler!$B$38:$Y$38,Tabelle1!$A$21),"21","-") -> - | S21: =IF(COUNTIF(Verteiler!$B$38:$Y$38,Tabelle1!$A$3),"1_3","-") -> - | U21: 1_21
A22: 1_22 | B22: =IF(COUNTIF(Verteiler!$B$8:$Y$8,Tabelle1!$A$22),"22","-") -> - | C22: =IF(COUNTIF(Verteiler!$B$14:$Y$14,Tabelle1!$A$22),"22","-") -> - | D22: =IF(COUNTIF(Verteiler!$B$20:$Y$20,Tabelle1!$A$22),"22","-") -> - | E22: =IF(COUNTIF(Verteiler!$B$26:$Y$26,Tabelle1!$A$22),"22","-") -> - | F22: =IF(COUNTIF(Verteiler!$B$32:$Y$32,Tabelle1!$A$22),"22","-") -> - | G22: =IF(COUNTIF(Verteiler!$B$38:$Y$38,Tabelle1!$A$22),"22","-") -> - | H22: =IF(COUNTIF(Verteiler!$B$44:$Y$44,Tabelle1!$A$22),"22","-") -> - | I22: =IF(COUNTIF(Verteiler!$B$50:$Y$50,Tabelle1!$A$22),"22","-") -> - | J22: =IF(COUNTIF(Verteiler!$B$56:$Y$56,Tabelle1!$A$22),"22","-") -> - | K22: =IF(COUNTIF(Verteiler!$B$62:$Y$62,Tabelle1!$A$22),"22","-") -> - | L22: =IF(COUNTIF(Verteiler!$B$68:$Y$68,Tabelle1!$A$22),"22","-") -> - | M22: =IF(COUNTIF(Verteiler!$B$38:$Y$38,Tabelle1!$A$22),"22","-") -> - | S22: =IF(COUNTIF(Verteiler!$B$38:$Y$38,Tabelle1!$A$1),"1_1","-") -> - | U22: 1_22
A23: 1_23 | B23: =IF(COUNTIF(Verteiler!$B$8:$Y$8,Tabelle1!$A$23),"23","-") -> - | C23: =IF(COUNTIF(Verteiler!$B$14:$Y$14,Tabelle1!$A$23),"23","-") -> - | D23: =IF(COUNTIF(Verteiler!$B$20:$Y$20,Tabelle1!$A$23),"23","-") -> - | E23: =IF(COUNTIF(Verteiler!$B$26:$Y$26,Tabelle1!$A$23),"23","-") -> - | F23: =IF(COUNTIF(Verteiler!$B$32:$Y$32,Tabelle1!$A$23),"23","-") -> - | G23: =IF(COUNTIF(Verteiler!$B$38:$Y$38,Tabelle1!$A$23),"23","-") -> - | H23: =IF(COUNTIF(Verteiler!$B$44:$Y$44,Tabelle1!$A$23),"23","-") -> - | I23: =IF(COUNTIF(Verteiler!$B$50:$Y$50,Tabelle1!$A$23),"23","-") -> - | J23: =IF(COUNTIF(Verteiler!$B$56:$Y$56,Tabelle1!$A$23),"23","-") -> - | K23: =IF(COUNTIF(Verteiler!$B$62:$Y$62,Tabelle1!$A$23),"23","-") -> - | L23: =IF(COUNTIF(Verteiler!$B$68:$Y$68,Tabelle1!$A$23),"23","-") -> - | M23: =IF(COUNTIF(Verteiler!$B$38:$Y$38,Tabelle1!$A$23),"23","-") -> - | S23: =IF(COUNTIF(Verteiler!$B$38:$Y$38,Tabelle1!$A$2),"1_2","-") -> - | U23: 1_23
A24: 1_24 | B24: =IF(COUNTIF(Verteiler!$B$8:$Y$8,Tabelle1!$A$24),"24","-") -> - | C24: =IF(COUNTIF(Verteiler!$B$14:$Y$14,Tabelle1!$A$24),"24","-") -> - | D24: =IF(COUNTIF(Verteiler!$B$20:$Y$20,Tabelle1!$A$24),"24","-") -> - | E24: =IF(COUNTIF(Verteiler!$B$26:$Y$26,Tabelle1!$A$24),"24","-") -> - | F24: =IF(COUNTIF(Verteiler!$B$32:$Y$32,Tabelle1!$A$24),"24","-") -> - | G24: =IF(COUNTIF(Verteiler!$B$38:$Y$38,Tabelle1!$A$24),"24","-") -> - | H24: =IF(COUNTIF(Verteiler!$B$44:$Y$44,Tabelle1!$A$24),"24","-") -> - | I24: =IF(COUNTIF(Verteiler!$B$50:$Y$50,Tabelle1!$A$24),"24","-") -> - | J24: =IF(COUNTIF(Verteiler!$B$56:$Y$56,Tabelle1!$A$24),"24","-") -> - | K24: =IF(COUNTIF(Verteiler!$B$62:$Y$62,Tabelle1!$A$24),"24","-") -> - | L24: =IF(COUNTIF(Verteiler!$B$68:$Y$68,Tabelle1!$A$24),"24","-") -> - | M24: =IF(COUNTIF(Verteiler!$B$38:$Y$38,Tabelle1!$A$24),"24","-") -> - | S24: =IF(COUNTIF(Verteiler!$B$38:$Y$38,Tabelle1!$A$3),"1_3","-") -> - | U24: 1_24
A25: 1_25 | B25: =IF(COUNTIF(Verteiler!$B$8:$Y$8,Tabelle1!$A$25),"25","-") -> - | C25: =IF(COUNTIF(Verteiler!$B$14:$Y$14,Tabelle1!$A$25),"25","-") -> - | D25: =IF(COUNTIF(Verteiler!$B$20:$Y$20,Tabelle1!$A$25),"25","-") -> - | E25: =IF(COUNTIF(Verteiler!$B$26:$Y$26,Tabelle1!$A$25),"25","-") -> - | F25: =IF(COUNTIF(Verteiler!$B$32:$Y$32,Tabelle1!$A$25),"25","-") -> - | G25: =IF(COUNTIF(Verteiler!$B$38:$Y$38,Tabelle1!$A$25),"25","-") -> - | H25: =IF(COUNTIF(Verteiler!$B$44:$Y$44,Tabelle1!$A$25),"25","-") -> - | I25: =IF(COUNTIF(Verteiler!$B$50:$Y$50,Tabelle1!$A$25),"25","-") -> - | J25: =IF(COUNTIF(Verteiler!$B$56:$Y$56,Tabelle1!$A$25),"25","-") -> - | K25: =IF(COUNTIF(Verteiler!$B$62:$Y$62,Tabelle1!$A$25),"25","-") -> - | L25: =IF(COUNTIF(Verteiler!$B$68:$Y$68,Tabelle1!$A$25),"25","-") -> - | M25: =IF(COUNTIF(Verteiler!$B$38:$Y$38,Tabelle1!$A$25),"25","-") -> - | S25: =IF(COUNTIF(Verteiler!$B$38:$Y$38,Tabelle1!$A$1),"1_1","-") -> - | U25: 1_25
A26: 1_26 | B26: =IF(COUNTIF(Verteiler!$B$8:$Y$8,Tabelle1!$A$26),"26","-") -> - | C26: =IF(COUNTIF(Verteiler!$B$14:$Y$14,Tabelle1!$A$26),"26","-") -> - | D26: =IF(COUNTIF(Verteiler!$B$20:$Y$20,Tabelle1!$A$26),"26","-") -> - | E26: =IF(COUNTIF(Verteiler!$B$26:$Y$26,Tabelle1!$A$26),"26","-") -> - | F26: =IF(COUNTIF(Verteiler!$B$32:$Y$32,Tabelle1!$A$26),"26","-") -> - | G26: =IF(COUNTIF(Verteiler!$B$38:$Y$38,Tabelle1!$A$26),"26","-") -> - | H26: =IF(COUNTIF(Verteiler!$B$44:$Y$44,Tabelle1!$A$26),"26","-") -> - | I26: =IF(COUNTIF(Verteiler!$B$50:$Y$50,Tabelle1!$A$26),"26","-") -> - | J26: =IF(COUNTIF(Verteiler!$B$56:$Y$56,Tabelle1!$A$26),"26","-") -> - | K26: =IF(COUNTIF(Verteiler!$B$62:$Y$62,Tabelle1!$A$26),"26","-") -> - | L26: =IF(COUNTIF(Verteiler!$B$68:$Y$68,Tabelle1!$A$26),"26","-") -> - | M26: =IF(COUNTIF(Verteiler!$B$38:$Y$38,Tabelle1!$A$26),"26","-") -> - | S26: =IF(COUNTIF(Verteiler!$B$38:$Y$38,Tabelle1!$A$2),"1_2","-") -> - | U26: 1_26
A27: 1_27 | B27: =IF(COUNTIF(Verteiler!$B$8:$Y$8,Tabelle1!$A$27),"27","-") -> - | C27: =IF(COUNTIF(Verteiler!$B$14:$Y$14,Tabelle1!$A$27),"27","-") -> - | D27: =IF(COUNTIF(Verteiler!$B$20:$Y$20,Tabelle1!$A$27),"27","-") -> - | E27: =IF(COUNTIF(Verteiler!$B$26:$Y$26,Tabelle1!$A$27),"27","-") -> - | F27: =IF(COUNTIF(Verteiler!$B$32:$Y$32,Tabelle1!$A$27),"27","-") -> - | G27: =IF(COUNTIF(Verteiler!$B$38:$Y$38,Tabelle1!$A$27),"27","-") -> - | H27: =IF(COUNTIF(Verteiler!$B$44:$Y$44,Tabelle1!$A$27),"27","-") -> - | I27: =IF(COUNTIF(Verteiler!$B$50:$Y$50,Tabelle1!$A$27),"27","-") -> - | J27: =IF(COUNTIF(Verteiler!$B$56:$Y$56,Tabelle1!$A$27),"27","-") -> - | K27: =IF(COUNTIF(Verteiler!$B$62:$Y$62,Tabelle1!$A$27),"27","-") -> - | L27: =IF(COUNTIF(Verteiler!$B$68:$Y$68,Tabelle1!$A$27),"27","-") -> - | M27: =IF(COUNTIF(Verteiler!$B$38:$Y$38,Tabelle1!$A$27),"27","-") -> - | S27: =IF(COUNTIF(Verteiler!$B$38:$Y$38,Tabelle1!$A$3),"1_3","-") -> - | U27: 1_27
A28: 1_28 | B28: =IF(COUNTIF(Verteiler!$B$8:$Y$8,Tabelle1!$A$28),"28","-") -> - | C28: =IF(COUNTIF(Verteiler!$B$14:$Y$14,Tabelle1!$A$28),"28","-") -> - | D28: =IF(COUNTIF(Verteiler!$B$20:$Y$20,Tabelle1!$A$28),"28","-") -> - | E28: =IF(COUNTIF(Verteiler!$B$26:$Y$26,Tabelle1!$A$28),"28","-") -> - | F28: =IF(COUNTIF(Verteiler!$B$32:$Y$32,Tabelle1!$A$28),"28","-") -> - | G28: =IF(COUNTIF(Verteiler!$B$38:$Y$38,Tabelle1!$A$28),"28","-") -> - | H28: =IF(COUNTIF(Verteiler!$B$44:$Y$44,Tabelle1!$A$28),"28","-") -> - | I28: =IF(COUNTIF(Verteiler!$B$50:$Y$50,Tabelle1!$A$28),"28","-") -> - | J28: =IF(COUNTIF(Verteiler!$B$56:$Y$56,Tabelle1!$A$28),"28","-") -> - | K28: =IF(COUNTIF(Verteiler!$B$62:$Y$62,Tabelle1!$A$28),"28","-") -> - | L28: =IF(COUNTIF(Verteiler!$B$68:$Y$68,Tabelle1!$A$28),"28","-") -> - | M28: =IF(COUNTIF(Verteiler!$B$38:$Y$38,Tabelle1!$A$28),"28","-") -> - | S28: =IF(COUNTIF(Verteiler!$B$38:$Y$38,Tabelle1!$A$1),"1_1","-") -> - | U28: 1_28
A29: 1_29 | B29: =IF(COUNTIF(Verteiler!$B$8:$Y$8,Tabelle1!$A$29),"29","-") -> - | C29: =IF(COUNTIF(Verteiler!$B$14:$Y$14,Tabelle1!$A$29),"29","-") -> - | D29: =IF(COUNTIF(Verteiler!$B$20:$Y$20,Tabelle1!$A$29),"29","-") -> - | E29: =IF(COUNTIF(Verteiler!$B$26:$Y$26,Tabelle1!$A$29),"29","-") -> - | F29: =IF(COUNTIF(Verteiler!$B$32:$Y$32,Tabelle1!$A$29),"29","-") -> - | G29: =IF(COUNTIF(Verteiler!$B$38:$Y$38,Tabelle1!$A$29),"29","-") -> - | H29: =IF(COUNTIF(Verteiler!$B$44:$Y$44,Tabelle1!$A$29),"29","-") -> - | I29: =IF(COUNTIF(Verteiler!$B$50:$Y$50,Tabelle1!$A$29),"29","-") -> - | J29: =IF(COUNTIF(Verteiler!$B$56:$Y$56,Tabelle1!$A$29),"29","-") -> - | K29: =IF(COUNTIF(Verteiler!$B$62:$Y$62,Tabelle1!$A$29),"29","-") -> - | L29: =IF(COUNTIF(Verteiler!$B$68:$Y$68,Tabelle1!$A$29),"29","-") -> - | M29: =IF(COUNTIF(Verteiler!$B$38:$Y$38,Tabelle1!$A$29),"29","-") -> - | S29: =IF(COUNTIF(Verteiler!$B$38:$Y$38,Tabelle1!$A$2),"1_2","-") -> - | U29: 1_29
A30: 1_30 | B30: =IF(COUNTIF(Verteiler!$B$8:$Y$8,Tabelle1!$A$30),"30","-") -> - | C30: =IF(COUNTIF(Verteiler!$B$14:$Y$14,Tabelle1!$A$30),"30","-") -> - | D30: =IF(COUNTIF(Verteiler!$B$20:$Y$20,Tabelle1!$A$30),"30","-") -> - | E30: =IF(COUNTIF(Verteiler!$B$26:$Y$26,Tabelle1!$A$30),"30","-") -> - | F30: =IF(COUNTIF(Verteiler!$B$32:$Y$32,Tabelle1!$A$30),"30","-") -> - | G30: =IF(COUNTIF(Verteiler!$B$38:$Y$38,Tabelle1!$A$30),"30","-") -> - | H30: =IF(COUNTIF(Verteiler!$B$44:$Y$44,Tabelle1!$A$30),"30","-") -> - | I30: =IF(COUNTIF(Verteiler!$B$50:$Y$50,Tabelle1!$A$30),"30","-") -> - | J30: =IF(COUNTIF(Verteiler!$B$56:$Y$56,Tabelle1!$A$30),"30","-") -> - | K30: =IF(COUNTIF(Verteiler!$B$62:$Y$62,Tabelle1!$A$30),"30","-") -> - | L30: =IF(COUNTIF(Verteiler!$B$68:$Y$68,Tabelle1!$A$30),"30","-") -> - | M30: =IF(COUNTIF(Verteiler!$B$38:$Y$38,Tabelle1!$A$30),"30","-") -> - | S30: =IF(COUNTIF(Verteiler!$B$38:$Y$38,Tabelle1!$A$3),"1_3","-") -> - | U30: 1_30
A31: 1_31 | B31: =IF(COUNTIF(Verteiler!$B$8:$Y$8,Tabelle1!$A$31),"31","-") -> - | C31: =IF(COUNTIF(Verteiler!$B$14:$Y$14,Tabelle1!$A$31),"31","-") -> - | D31: =IF(COUNTIF(Verteiler!$B$20:$Y$20,Tabelle1!$A$31),"31","-") -> - | E31: =IF(COUNTIF(Verteiler!$B$26:$Y$26,Tabelle1!$A$31),"31","-") -> - | F31: =IF(COUNTIF(Verteiler!$B$32:$Y$32,Tabelle1!$A$31),"31","-") -> - | G31: =IF(COUNTIF(Verteiler!$B$38:$Y$38,Tabelle1!$A$31),"31","-") -> - | H31: =IF(COUNTIF(Verteiler!$B$44:$Y$44,Tabelle1!$A$31),"31","-") -> - | I31: =IF(COUNTIF(Verteiler!$B$50:$Y$50,Tabelle1!$A$31),"31","-") -> - | J31: =IF(COUNTIF(Verteiler!$B$56:$Y$56,Tabelle1!$A$31),"31","-") -> - | K31: =IF(COUNTIF(Verteiler!$B$62:$Y$62,Tabelle1!$A$31),"31","-") -> - | L31: =IF(COUNTIF(Verteiler!$B$68:$Y$68,Tabelle1!$A$31),"31","-") -> - | M31: =IF(COUNTIF(Verteiler!$B$38:$Y$38,Tabelle1!$A$31),"31","-") -> - | S31: =IF(COUNTIF(Verteiler!$B$38:$Y$38,Tabelle1!$A$1),"1_1","-") -> - | U31: 1_31
A32: 1_32 | B32: =IF(COUNTIF(Verteiler!$B$8:$Y$8,Tabelle1!$A$32),"32","-") -> - | C32: =IF(COUNTIF(Verteiler!$B$14:$Y$14,Tabelle1!$A$32),"32","-") -> - | D32: =IF(COUNTIF(Verteiler!$B$20:$Y$20,Tabelle1!$A$32),"32","-") -> - | E32: =IF(COUNTIF(Verteiler!$B$26:$Y$26,Tabelle1!$A$32),"32","-") -> - | F32: =IF(COUNTIF(Verteiler!$B$32:$Y$32,Tabelle1!$A$32),"32","-") -> - | G32: =IF(COUNTIF(Verteiler!$B$38:$Y$38,Tabelle1!$A$32),"32","-") -> - | H32: =IF(COUNTIF(Verteiler!$B$44:$Y$44,Tabelle1!$A$32),"32","-") -> - | I32: =IF(COUNTIF(Verteiler!$B$50:$Y$50,Tabelle1!$A$32),"32","-") -> - | J32: =IF(COUNTIF(Verteiler!$B$56:$Y$56,Tabelle1!$A$32),"32","-") -> - | K32: =IF(COUNTIF(Verteiler!$B$62:$Y$62,Tabelle1!$A$32),"32","-") -> - | L32: =IF(COUNTIF(Verteiler!$B$68:$Y$68,Tabelle1!$A$32),"32","-") -> - | M32: =IF(COUNTIF(Verteiler!$B$38:$Y$38,Tabelle1!$A$32),"32","-") -> - | S32: =IF(COUNTIF(Verteiler!$B$38:$Y$38,Tabelle1!$A$2),"1_2","-") -> - | U32: 1_32
A33: 1_33 | B33: =IF(COUNTIF(Verteiler!$B$8:$Y$8,Tabelle1!$A$33),"33","-") -> - | C33: =IF(COUNTIF(Verteiler!$B$14:$Y$14,Tabelle1!$A$33),"33","-") -> - | D33: =IF(COUNTIF(Verteiler!$B$20:$Y$20,Tabelle1!$A$33),"33","-") -> - | E33: =IF(COUNTIF(Verteiler!$B$26:$Y$26,Tabelle1!$A$33),"33","-") -> - | F33: =IF(COUNTIF(Verteiler!$B$32:$Y$32,Tabelle1!$A$33),"33","-") -> - | G33: =IF(COUNTIF(Verteiler!$B$38:$Y$38,Tabelle1!$A$33),"33","-") -> - | H33: =IF(COUNTIF(Verteiler!$B$44:$Y$44,Tabelle1!$A$33),"33","-") -> - | I33: =IF(COUNTIF(Verteiler!$B$50:$Y$50,Tabelle1!$A$33),"33","-") -> - | J33: =IF(COUNTIF(Verteiler!$B$56:$Y$56,Tabelle1!$A$33),"33","-") -> - | K33: =IF(COUNTIF(Verteiler!$B$62:$Y$62,Tabelle1!$A$33),"33","-") -> - | L33: =IF(COUNTIF(Verteiler!$B$68:$Y$68,Tabelle1!$A$33),"33","-") -> - | M33: =IF(COUNTIF(Verteiler!$B$38:$Y$38,Tabelle1!$A$33),"33","-") -> - | S33: =IF(COUNTIF(Verteiler!$B$38:$Y$38,Tabelle1!$A$3),"1_3","-") -> - | U33: 1_33
A34: 1_34 | B34: =IF(COUNTIF(Verteiler!$B$8:$Y$8,Tabelle1!$A$34),"34","-") -> - | C34: =IF(COUNTIF(Verteiler!$B$14:$Y$14,Tabelle1!$A$34),"34","-") -> - | D34: =IF(COUNTIF(Verteiler!$B$20:$Y$20,Tabelle1!$A$34),"34","-") -> - | E34: =IF(COUNTIF(Verteiler!$B$26:$Y$26,Tabelle1!$A$34),"34","-") -> - | F34: =IF(COUNTIF(Verteiler!$B$32:$Y$32,Tabelle1!$A$34),"34","-") -> - | G34: =IF(COUNTIF(Verteiler!$B$38:$Y$38,Tabelle1!$A$34),"34","-") -> - | H34: =IF(COUNTIF(Verteiler!$B$44:$Y$44,Tabelle1!$A$34),"34","-") -> - | I34: =IF(COUNTIF(Verteiler!$B$50:$Y$50,Tabelle1!$A$34),"34","-") -> - | J34: =IF(COUNTIF(Verteiler!$B$56:$Y$56,Tabelle1!$A$34),"34","-") -> - | K34: =IF(COUNTIF(Verteiler!$B$62:$Y$62,Tabelle1!$A$34),"34","-") -> - | L34: =IF(COUNTIF(Verteiler!$B$68:$Y$68,Tabelle1!$A$34),"34","-") -> - | M34: =IF(COUNTIF(Verteiler!$B$38:$Y$38,Tabelle1!$A$34),"34","-") -> - | S34: =IF(COUNTIF(Verteiler!$B$38:$Y$38,Tabelle1!$A$1),"1_1","-") -> - | U34: 1_34
A35: 1_35 | B35: =IF(COUNTIF(Verteiler!$B$8:$Y$8,Tabelle1!$A$35),"35","-") -> - | C35: =IF(COUNTIF(Verteiler!$B$14:$Y$14,Tabelle1!$A$35),"35","-") -> - | D35: =IF(COUNTIF(Verteiler!$B$20:$Y$20,Tabelle1!$A$35),"35","-") -> - | E35: =IF(COUNTIF(Verteiler!$B$26:$Y$26,Tabelle1!$A$35),"35","-") -> - | F35: =IF(COUNTIF(Verteiler!$B$32:$Y$32,Tabelle1!$A$35),"35","-") -> - | G35: =IF(COUNTIF(Verteiler!$B$38:$Y$38,Tabelle1!$A$35),"35","-") -> - | H35: =IF(COUNTIF(Verteiler!$B$44:$Y$44,Tabelle1!$A$35),"35","-") -> - | I35: =IF(COUNTIF(Verteiler!$B$50:$Y$50,Tabelle1!$A$35),"35","-") -> - | J35: =IF(COUNTIF(Verteiler!$B$56:$Y$56,Tabelle1!$A$35),"35","-") -> - | K35: =IF(COUNTIF(Verteiler!$B$62:$Y$62,Tabelle1!$A$35),"35","-") -> - | L35: =IF(COUNTIF(Verteiler!$B$68:$Y$68,Tabelle1!$A$35),"35","-") -> - | M35: =IF(COUNTIF(Verteiler!$B$38:$Y$38,Tabelle1!$A$35),"35","-") -> - | S35: =IF(COUNTIF(Verteiler!$B$38:$Y$38,Tabelle1!$A$2),"1_2","-") -> - | U35: 1_35
A36: 1_36 | B36: =IF(COUNTIF(Verteiler!$B$8:$Y$8,Tabelle1!$A$36),"36","-") -> - | C36: =IF(COUNTIF(Verteiler!$B$14:$Y$14,Tabelle1!$A$36),"36","-") -> - | D36: =IF(COUNTIF(Verteiler!$B$20:$Y$20,Tabelle1!$A$36),"36","-") -> - | E36: =IF(COUNTIF(Verteiler!$B$26:$Y$26,Tabelle1!$A$36),"36","-") -> - | F36: =IF(COUNTIF(Verteiler!$B$32:$Y$32,Tabelle1!$A$36),"36","-") -> - | G36: =IF(COUNTIF(Verteiler!$B$38:$Y$38,Tabelle1!$A$36),"36","-") -> - | H36: =IF(COUNTIF(Verteiler!$B$44:$Y$44,Tabelle1!$A$36),"36","-") -> - | I36: =IF(COUNTIF(Verteiler!$B$50:$Y$50,Tabelle1!$A$36),"36","-") -> - | J36: =IF(COUNTIF(Verteiler!$B$56:$Y$56,Tabelle1!$A$36),"36","-") -> - | K36: =IF(COUNTIF(Verteiler!$B$62:$Y$62,Tabelle1!$A$36),"36","-") -> - | L36: =IF(COUNTIF(Verteiler!$B$68:$Y$68,Tabelle1!$A$36),"36","-") -> - | M36: =IF(COUNTIF(Verteiler!$B$38:$Y$38,Tabelle1!$A$36),"36","-") -> - | S36: =IF(COUNTIF(Verteiler!$B$38:$Y$38,Tabelle1!$A$3),"1_3","-") -> - | U36: 1_36
A37: 1_37 | B37: =IF(COUNTIF(Verteiler!$B$8:$Y$8,Tabelle1!$A$37),"37","-") -> - | C37: =IF(COUNTIF(Verteiler!$B$14:$Y$14,Tabelle1!$A$37),"37","-") -> - | D37: =IF(COUNTIF(Verteiler!$B$20:$Y$20,Tabelle1!$A$37),"37","-") -> - | E37: =IF(COUNTIF(Verteiler!$B$26:$Y$26,Tabelle1!$A$37),"37","-") -> - | F37: =IF(COUNTIF(Verteiler!$B$32:$Y$32,Tabelle1!$A$37),"37","-") -> - | G37: =IF(COUNTIF(Verteiler!$B$38:$Y$38,Tabelle1!$A$37),"37","-") -> - | H37: =IF(COUNTIF(Verteiler!$B$44:$Y$44,Tabelle1!$A$37),"37","-") -> - | I37: =IF(COUNTIF(Verteiler!$B$50:$Y$50,Tabelle1!$A$37),"37","-") -> - | J37: =IF(COUNTIF(Verteiler!$B$56:$Y$56,Tabelle1!$A$37),"37","-") -> - | K37: =IF(COUNTIF(Verteiler!$B$62:$Y$62,Tabelle1!$A$37),"37","-") -> - | L37: =IF(COUNTIF(Verteiler!$B$68:$Y$68,Tabelle1!$A$37),"37","-") -> - | M37: =IF(COUNTIF(Verteiler!$B$38:$Y$38,Tabelle1!$A$37),"37","-") -> - | S37: =IF(COUNTIF(Verteiler!$B$38:$Y$38,Tabelle1!$A$1),"1_1","-") -> - | U37: 1_37
A38: 1_38 | B38: =IF(COUNTIF(Verteiler!$B$8:$Y$8,Tabelle1!$A$38),"38","-") -> - | C38: =IF(COUNTIF(Verteiler!$B$14:$Y$14,Tabelle1!$A$38),"38","-") -> - | D38: =IF(COUNTIF(Verteiler!$B$20:$Y$20,Tabelle1!$A$38),"38","-") -> - | E38: =IF(COUNTIF(Verteiler!$B$26:$Y$26,Tabelle1!$A$38),"38","-") -> - | F38: =IF(COUNTIF(Verteiler!$B$32:$Y$32,Tabelle1!$A$38),"38","-") -> - | G38: =IF(COUNTIF(Verteiler!$B$38:$Y$38,Tabelle1!$A$38),"38","-") -> - | H38: =IF(COUNTIF(Verteiler!$B$44:$Y$44,Tabelle1!$A$38),"38","-") -> - | I38: =IF(COUNTIF(Verteiler!$B$50:$Y$50,Tabelle1!$A$38),"38","-") -> - | J38: =IF(COUNTIF(Verteiler!$B$56:$Y$56,Tabelle1!$A$38),"38","-") -> - | K38: =IF(COUNTIF(Verteiler!$B$62:$Y$62,Tabelle1!$A$38),"38","-") -> - | L38: =IF(COUNTIF(Verteiler!$B$68:$Y$68,Tabelle1!$A$38),"38","-") -> - | M38: =IF(COUNTIF(Verteiler!$B$38:$Y$38,Tabelle1!$A$38),"38","-") -> - | S38: =IF(COUNTIF(Verteiler!$B$38:$Y$38,Tabelle1!$A$2),"1_2","-") -> - | U38: 1_38
A39: 1_39 | B39: =IF(COUNTIF(Verteiler!$B$8:$Y$8,Tabelle1!$A$39),"39","-") -> - | C39: =IF(COUNTIF(Verteiler!$B$14:$Y$14,Tabelle1!$A$39),"39","-") -> - | D39: =IF(COUNTIF(Verteiler!$B$20:$Y$20,Tabelle1!$A$39),"39","-") -> - | E39: =IF(COUNTIF(Verteiler!$B$26:$Y$26,Tabelle1!$A$39),"39","-") -> - | F39: =IF(COUNTIF(Verteiler!$B$32:$Y$32,Tabelle1!$A$39),"39","-") -> - | G39: =IF(COUNTIF(Verteiler!$B$38:$Y$38,Tabelle1!$A$39),"39","-") -> - | H39: =IF(COUNTIF(Verteiler!$B$44:$Y$44,Tabelle1!$A$39),"39","-") -> - | I39: =IF(COUNTIF(Verteiler!$B$50:$Y$50,Tabelle1!$A$39),"39","-") -> - | J39: =IF(COUNTIF(Verteiler!$B$56:$Y$56,Tabelle1!$A$39),"39","-") -> - | K39: =IF(COUNTIF(Verteiler!$B$62:$Y$62,Tabelle1!$A$39),"39","-") -> - | L39: =IF(COUNTIF(Verteiler!$B$68:$Y$68,Tabelle1!$A$39),"39","-") -> - | M39: =IF(COUNTIF(Verteiler!$B$38:$Y$38,Tabelle1!$A$39),"39","-") -> - | S39: =IF(COUNTIF(Verteiler!$B$38:$Y$38,Tabelle1!$A$3),"1_3","-") -> - | U39: 1_39
A40: 1_40 | B40: =IF(COUNTIF(Verteiler!$B$8:$Y$8,Tabelle1!$A$40),"40","-") -> - | C40: =IF(COUNTIF(Verteiler!$B$14:$Y$14,Tabelle1!$A$40),"40","-") -> - | D40: =IF(COUNTIF(Verteiler!$B$20:$Y$20,Tabelle1!$A$40),"40","-") -> - | E40: =IF(COUNTIF(Verteiler!$B$26:$Y$26,Tabelle1!$A$40),"40","-") -> - | F40: =IF(COUNTIF(Verteiler!$B$32:$Y$32,Tabelle1!$A$40),"40","-") -> - | G40: =IF(COUNTIF(Verteiler!$B$38:$Y$38,Tabelle1!$A$40),"40","-") -> - | H40: =IF(COUNTIF(Verteiler!$B$44:$Y$44,Tabelle1!$A$40),"40","-") -> - | I40: =IF(COUNTIF(Verteiler!$B$50:$Y$50,Tabelle1!$A$40),"40","-") -> - | J40: =IF(COUNTIF(Verteiler!$B$56:$Y$56,Tabelle1!$A$40),"40","-") -> - | K40: =IF(COUNTIF(Verteiler!$B$62:$Y$62,Tabelle1!$A$40),"40","-") -> - | L40: =IF(COUNTIF(Verteiler!$B$68:$Y$68,Tabelle1!$A$40),"40","-") -> - | M40: =IF(COUNTIF(Verteiler!$B$38:$Y$38,Tabelle1!$A$40),"40","-") -> - | S40: =IF(COUNTIF(Verteiler!$B$38:$Y$38,Tabelle1!$A$1),"1_1","-") -> - | U40: 1_40
A41: 1_41 | B41: =IF(COUNTIF(Verteiler!$B$8:$Y$8,Tabelle1!$A$41),"41","-") -> - | C41: =IF(COUNTIF(Verteiler!$B$14:$Y$14,Tabelle1!$A$41),"41","-") -> - | D41: =IF(COUNTIF(Verteiler!$B$20:$Y$20,Tabelle1!$A$41),"41","-") -> - | E41: =IF(COUNTIF(Verteiler!$B$26:$Y$26,Tabelle1!$A$41),"41","-") -> - | F41: =IF(COUNTIF(Verteiler!$B$32:$Y$32,Tabelle1!$A$41),"41","-") -> - | G41: =IF(COUNTIF(Verteiler!$B$38:$Y$38,Tabelle1!$A$41),"41","-") -> - | H41: =IF(COUNTIF(Verteiler!$B$44:$Y$44,Tabelle1!$A$41),"41","-") -> - | I41: =IF(COUNTIF(Verteiler!$B$50:$Y$50,Tabelle1!$A$41),"41","-") -> - | J41: =IF(COUNTIF(Verteiler!$B$56:$Y$56,Tabelle1!$A$41),"41","-") -> - | K41: =IF(COUNTIF(Verteiler!$B$62:$Y$62,Tabelle1!$A$41),"41","-") -> - | L41: =IF(COUNTIF(Verteiler!$B$68:$Y$68,Tabelle1!$A$41),"41","-") -> - | M41: =IF(COUNTIF(Verteiler!$B$38:$Y$38,Tabelle1!$A$41),"41","-") -> - | S41: =IF(COUNTIF(Verteiler!$B$38:$Y$38,Tabelle1!$A$2),"1_2","-") -> - | U41: 1_41
A42: 1_42 | B42: =IF(COUNTIF(Verteiler!$B$8:$Y$8,Tabelle1!$A$42),"42","-") -> - | C42: =IF(COUNTIF(Verteiler!$B$14:$Y$14,Tabelle1!$A$42),"42","-") -> - | D42: =IF(COUNTIF(Verteiler!$B$20:$Y$20,Tabelle1!$A$42),"42","-") -> - | E42: =IF(COUNTIF(Verteiler!$B$26:$Y$26,Tabelle1!$A$42),"42","-") -> - | F42: =IF(COUNTIF(Verteiler!$B$32:$Y$32,Tabelle1!$A$42),"42","-") -> - | G42: =IF(COUNTIF(Verteiler!$B$38:$Y$38,Tabelle1!$A$42),"42","-") -> - | H42: =IF(COUNTIF(Verteiler!$B$44:$Y$44,Tabelle1!$A$42),"42","-") -> - | I42: =IF(COUNTIF(Verteiler!$B$50:$Y$50,Tabelle1!$A$42),"42","-") -> - | J42: =IF(COUNTIF(Verteiler!$B$56:$Y$56,Tabelle1!$A$42),"42","-") -> - | K42: =IF(COUNTIF(Verteiler!$B$62:$Y$62,Tabelle1!$A$42),"42","-") -> - | L42: =IF(COUNTIF(Verteiler!$B$68:$Y$68,Tabelle1!$A$42),"42","-") -> - | M42: =IF(COUNTIF(Verteiler!$B$38:$Y$38,Tabelle1!$A$42),"42","-") -> - | S42: =IF(COUNTIF(Verteiler!$B$38:$Y$38,Tabelle1!$A$3),"1_3","-") -> - | U42: 1_42
A43: 1_43 | B43: =IF(COUNTIF(Verteiler!$B$8:$Y$8,Tabelle1!$A$43),"43","-") -> - | C43: =IF(COUNTIF(Verteiler!$B$14:$Y$14,Tabelle1!$A$43),"43","-") -> - | D43: =IF(COUNTIF(Verteiler!$B$20:$Y$20,Tabelle1!$A$43),"43","-") -> - | E43: =IF(COUNTIF(Verteiler!$B$26:$Y$26,Tabelle1!$A$43),"43","-") -> - | F43: =IF(COUNTIF(Verteiler!$B$32:$Y$32,Tabelle1!$A$43),"43","-") -> - | G43: =IF(COUNTIF(Verteiler!$B$38:$Y$38,Tabelle1!$A$43),"43","-") -> - | H43: =IF(COUNTIF(Verteiler!$B$44:$Y$44,Tabelle1!$A$43),"43","-") -> - | I43: =IF(COUNTIF(Verteiler!$B$50:$Y$50,Tabelle1!$A$43),"43","-") -> - | J43: =IF(COUNTIF(Verteiler!$B$56:$Y$56,Tabelle1!$A$43),"43","-") -> - | K43: =IF(COUNTIF(Verteiler!$B$62:$Y$62,Tabelle1!$A$43),"43","-") -> - | L43: =IF(COUNTIF(Verteiler!$B$68:$Y$68,Tabelle1!$A$43),"43","-") -> - | M43: =IF(COUNTIF(Verteiler!$B$38:$Y$38,Tabelle1!$A$43),"43","-") -> - | S43: =IF(COUNTIF(Verteiler!$B$38:$Y$38,Tabelle1!$A$1),"1_1","-") -> - | U43: 1_43
A44: 1_44 | B44: =IF(COUNTIF(Verteiler!$B$8:$Y$8,Tabelle1!$A$44),"44","-") -> - | C44: =IF(COUNTIF(Verteiler!$B$14:$Y$14,Tabelle1!$A$44),"44","-") -> - | D44: =IF(COUNTIF(Verteiler!$B$20:$Y$20,Tabelle1!$A$44),"44","-") -> - | E44: =IF(COUNTIF(Verteiler!$B$26:$Y$26,Tabelle1!$A$44),"44","-") -> - | F44: =IF(COUNTIF(Verteiler!$B$32:$Y$32,Tabelle1!$A$44),"44","-") -> - | G44: =IF(COUNTIF(Verteiler!$B$38:$Y$38,Tabelle1!$A$44),"44","-") -> - | H44: =IF(COUNTIF(Verteiler!$B$44:$Y$44,Tabelle1!$A$44),"44","-") -> - | I44: =IF(COUNTIF(Verteiler!$B$50:$Y$50,Tabelle1!$A$44),"44","-") -> - | J44: =IF(COUNTIF(Verteiler!$B$56:$Y$56,Tabelle1!$A$44),"44","-") -> - | K44: =IF(COUNTIF(Verteiler!$B$62:$Y$62,Tabelle1!$A$44),"44","-") -> - | L44: =IF(COUNTIF(Verteiler!$B$68:$Y$68,Tabelle1!$A$44),"44","-") -> - | M44: =IF(COUNTIF(Verteiler!$B$38:$Y$38,Tabelle1!$A$44),"44","-") -> - | S44: =IF(COUNTIF(Verteiler!$B$38:$Y$38,Tabelle1!$A$2),"1_2","-") -> - | U44: 1_44
A45: 1_45 | B45: =IF(COUNTIF(Verteiler!$B$8:$Y$8,Tabelle1!$A$45),"45","-") -> - | C45: =IF(COUNTIF(Verteiler!$B$14:$Y$14,Tabelle1!$A$45),"45","-") -> - | D45: =IF(COUNTIF(Verteiler!$B$20:$Y$20,Tabelle1!$A$45),"45","-") -> - | E45: =IF(COUNTIF(Verteiler!$B$26:$Y$26,Tabelle1!$A$45),"45","-") -> - | F45: =IF(COUNTIF(Verteiler!$B$32:$Y$32,Tabelle1!$A$45),"45","-") -> - | G45: =IF(COUNTIF(Verteiler!$B$38:$Y$38,Tabelle1!$A$45),"45","-") -> - | H45: =IF(COUNTIF(Verteiler!$B$44:$Y$44,Tabelle1!$A$45),"45","-") -> - | I45: =IF(COUNTIF(Verteiler!$B$50:$Y$50,Tabelle1!$A$45),"45","-") -> - | J45: =IF(COUNTIF(Verteiler!$B$56:$Y$56,Tabelle1!$A$45),"45","-") -> - | K45: =IF(COUNTIF(Verteiler!$B$62:$Y$62,Tabelle1!$A$45),"45","-") -> - | L45: =IF(COUNTIF(Verteiler!$B$68:$Y$68,Tabelle1!$A$45),"45","-") -> - | M45: =IF(COUNTIF(Verteiler!$B$38:$Y$38,Tabelle1!$A$45),"45","-") -> - | S45: =IF(COUNTIF(Verteiler!$B$38:$Y$38,Tabelle1!$A$3),"1_3","-") -> - | U45: 1_45
A46: 1_46 | B46: =IF(COUNTIF(Verteiler!$B$8:$Y$8,Tabelle1!$A$46),"46","-") -> - | C46: =IF(COUNTIF(Verteiler!$B$14:$Y$14,Tabelle1!$A$46),"46","-") -> - | D46: =IF(COUNTIF(Verteiler!$B$20:$Y$20,Tabelle1!$A$46),"46","-") -> - | E46: =IF(COUNTIF(Verteiler!$B$26:$Y$26,Tabelle1!$A$46),"46","-") -> - | F46: =IF(COUNTIF(Verteiler!$B$32:$Y$32,Tabelle1!$A$46),"46","-") -> - | G46: =IF(COUNTIF(Verteiler!$B$38:$Y$38,Tabelle1!$A$46),"46","-") -> - | H46: =IF(COUNTIF(Verteiler!$B$44:$Y$44,Tabelle1!$A$46),"46","-") -> - | I46: =IF(COUNTIF(Verteiler!$B$50:$Y$50,Tabelle1!$A$46),"46","-") -> - | J46: =IF(COUNTIF(Verteiler!$B$56:$Y$56,Tabelle1!$A$46),"46","-") -> - | K46: =IF(COUNTIF(Verteiler!$B$62:$Y$62,Tabelle1!$A$46),"46","-") -> - | L46: =IF(COUNTIF(Verteiler!$B$68:$Y$68,Tabelle1!$A$46),"46","-") -> - | M46: =IF(COUNTIF(Verteiler!$B$38:$Y$38,Tabelle1!$A$46),"46","-") -> - | S46: =IF(COUNTIF(Verteiler!$B$38:$Y$38,Tabelle1!$A$1),"1_1","-") -> - | U46: 1_46
A47: 1_47 | B47: =IF(COUNTIF(Verteiler!$B$8:$Y$8,Tabelle1!$A$47),"47","-") -> - | C47: =IF(COUNTIF(Verteiler!$B$14:$Y$14,Tabelle1!$A$47),"47","-") -> - | D47: =IF(COUNTIF(Verteiler!$B$20:$Y$20,Tabelle1!$A$47),"47","-") -> - | E47: =IF(COUNTIF(Verteiler!$B$26:$Y$26,Tabelle1!$A$47),"47","-") -> - | F47: =IF(COUNTIF(Verteiler!$B$32:$Y$32,Tabelle1!$A$47),"47","-") -> - | G47: =IF(COUNTIF(Verteiler!$B$38:$Y$38,Tabelle1!$A$47),"47","-") -> - | H47: =IF(COUNTIF(Verteiler!$B$44:$Y$44,Tabelle1!$A$47),"47","-") -> - | I47: =IF(COUNTIF(Verteiler!$B$50:$Y$50,Tabelle1!$A$47),"47","-") -> - | J47: =IF(COUNTIF(Verteiler!$B$56:$Y$56,Tabelle1!$A$47),"47","-") -> - | K47: =IF(COUNTIF(Verteiler!$B$62:$Y$62,Tabelle1!$A$47),"47","-") -> - | L47: =IF(COUNTIF(Verteiler!$B$68:$Y$68,Tabelle1!$A$47),"47","-") -> - | M47: =IF(COUNTIF(Verteiler!$B$38:$Y$38,Tabelle1!$A$47),"47","-") -> - | S47: =IF(COUNTIF(Verteiler!$B$38:$Y$38,Tabelle1!$A$2),"1_2","-") -> - | U47: 1_47
A48: 1_48 | B48: =IF(COUNTIF(Verteiler!$B$8:$Y$8,Tabelle1!$A$48),"48","-") -> - | C48: =IF(COUNTIF(Verteiler!$B$14:$Y$14,Tabelle1!$A$48),"48","-") -> - | D48: =IF(COUNTIF(Verteiler!$B$20:$Y$20,Tabelle1!$A$48),"48","-") -> - | E48: =IF(COUNTIF(Verteiler!$B$26:$Y$26,Tabelle1!$A$48),"48","-") -> - | F48: =IF(COUNTIF(Verteiler!$B$32:$Y$32,Tabelle1!$A$48),"48","-") -> - | G48: =IF(COUNTIF(Verteiler!$B$38:$Y$38,Tabelle1!$A$48),"48","-") -> - | H48: =IF(COUNTIF(Verteiler!$B$44:$Y$44,Tabelle1!$A$48),"48","-") -> - | I48: =IF(COUNTIF(Verteiler!$B$50:$Y$50,Tabelle1!$A$48),"48","-") -> - | J48: =IF(COUNTIF(Verteiler!$B$56:$Y$56,Tabelle1!$A$48),"48","-") -> - | K48: =IF(COUNTIF(Verteiler!$B$62:$Y$62,Tabelle1!$A$48),"48","-") -> - | L48: =IF(COUNTIF(Verteiler!$B$68:$Y$68,Tabelle1!$A$48),"48","-") -> - | M48: =IF(COUNTIF(Verteiler!$B$38:$Y$38,Tabelle1!$A$48),"48","-") -> - | S48: =IF(COUNTIF(Verteiler!$B$38:$Y$38,Tabelle1!$A$3),"1_3","-") -> - | U48: 1_48
A50: Switch nPOE
A51: n1 | B51: =IF(COUNTIF(Verteiler!$B$8:$Y$8,Tabelle1!$A$51),"n1","-") -> - | C51: =IF(COUNTIF(Verteiler!$B$14:$Y$14,Tabelle1!$A$51),"n1","-") -> - | D51: =IF(COUNTIF(Verteiler!$B$20:$Y$20,Tabelle1!$A$51),"n1","-") -> - | E51: =IF(COUNTIF(Verteiler!$B$26:$Y$26,Tabelle1!$A$51),"n1","-") -> - | F51: =IF(COUNTIF(Verteiler!$B$32:$Y$32,Tabelle1!$A$51),"n1","-") -> - | G51: =IF(COUNTIF(Verteiler!$B$38:$Y$38,Tabelle1!$A$51),"n1","-") -> - | H51: =IF(COUNTIF(Verteiler!$B$44:$Y$44,Tabelle1!$A$51),"n1","-") -> - | I51: =IF(COUNTIF(Verteiler!$B$50:$Y$50,Tabelle1!$A$51),"n1","-") -> - | J51: =IF(COUNTIF(Verteiler!$B$56:$Y$56,Tabelle1!$A$51),"n1","-") -> - | K51: =IF(COUNTIF(Verteiler!$B$62:$Y$62,Tabelle1!$A$51),"n1","-") -> - | L51: =IF(COUNTIF(Verteiler!$B$68:$Y$68,Tabelle1!$A$51),"n1","-") -> - | M51: =IF(COUNTIF(Verteiler!$B$38:$Y$38,Tabelle1!$A$51),"n1","-") -> - | S51: =IF(COUNTIF(Verteiler!$B$38:$Y$38,Tabelle1!$A$51),"n1","-") -> -
A52: n2 | B52: =IF(COUNTIF(Verteiler!$B$8:$Y$8,Tabelle1!$A$52),"n2","-") -> - | C52: =IF(COUNTIF(Verteiler!$B$14:$Y$14,Tabelle1!$A$52),"n2","-") -> - | D52: =IF(COUNTIF(Verteiler!$B$20:$Y$20,Tabelle1!$A$52),"n2","-") -> - | E52: =IF(COUNTIF(Verteiler!$B$26:$Y$26,Tabelle1!$A$52),"n2","-") -> - | F52: =IF(COUNTIF(Verteiler!$B$32:$Y$32,Tabelle1!$A$52),"n2","-") -> - | G52: =IF(COUNTIF(Verteiler!$B$38:$Y$38,Tabelle1!$A$52),"n2","-") -> - | H52: =IF(COUNTIF(Verteiler!$B$44:$Y$44,Tabelle1!$A$52),"n2","-") -> - | I52: =IF(COUNTIF(Verteiler!$B$50:$Y$50,Tabelle1!$A$52),"n2","-") -> - | J52: =IF(COUNTIF(Verteiler!$B$56:$Y$56,Tabelle1!$A$52),"n2","-") -> - | K52: =IF(COUNTIF(Verteiler!$B$62:$Y$62,Tabelle1!$A$52),"n2","-") -> - | L52: =IF(COUNTIF(Verteiler!$B$68:$Y$68,Tabelle1!$A$52),"n2","-") -> - | M52: =IF(COUNTIF(Verteiler!$B$38:$Y$38,Tabelle1!$A$52),"n2","-") -> - | S52: =IF(COUNTIF(Verteiler!$B$38:$Y$38,Tabelle1!$A$52),"n2","-") -> -
A53: n3 | B53: =IF(COUNTIF(Verteiler!$B$8:$Y$8,Tabelle1!$A$53),"3","-") -> - | C53: =IF(COUNTIF(Verteiler!$B$14:$Y$14,Tabelle1!$A$53),"3","-") -> - | D53: =IF(COUNTIF(Verteiler!$B$20:$Y$20,Tabelle1!$A$53),"n3","-") -> - | E53: =IF(COUNTIF(Verteiler!$B$26:$Y$26,Tabelle1!$A$53),"3","-") -> - | F53: =IF(COUNTIF(Verteiler!$B$32:$Y$32,Tabelle1!$A$53),"3","-") -> - | G53: =IF(COUNTIF(Verteiler!$B$38:$Y$38,Tabelle1!$A$53),"3","-") -> - | H53: =IF(COUNTIF(Verteiler!$B$44:$Y$44,Tabelle1!$A$53),"3","-") -> - | I53: =IF(COUNTIF(Verteiler!$B$50:$Y$50,Tabelle1!$A$53),"3","-") -> - | J53: =IF(COUNTIF(Verteiler!$B$56:$Y$56,Tabelle1!$A$53),"3","-") -> - | K53: =IF(COUNTIF(Verteiler!$B$62:$Y$62,Tabelle1!$A$53),"3","-") -> - | L53: =IF(COUNTIF(Verteiler!$B$68:$Y$68,Tabelle1!$A$53),"3","-") -> - | M53: =IF(COUNTIF(Verteiler!$B$38:$Y$38,Tabelle1!$A$53),"3","-") -> - | S53: =IF(COUNTIF(Verteiler!$B$38:$Y$38,Tabelle1!$A$53),"3","-") -> -
A54: n4 | B54: =IF(COUNTIF(Verteiler!$B$8:$Y$8,Tabelle1!$A$54),"n4","-") -> - | C54: =IF(COUNTIF(Verteiler!$B$14:$Y$14,Tabelle1!$A$54),"n4","-") -> - | D54: =IF(COUNTIF(Verteiler!$B$20:$Y$20,Tabelle1!$A$54),"n4","-") -> - | E54: =IF(COUNTIF(Verteiler!$B$26:$Y$26,Tabelle1!$A$54),"n4","-") -> - | F54: =IF(COUNTIF(Verteiler!$B$32:$Y$32,Tabelle1!$A$54),"n4","-") -> - | G54: =IF(COUNTIF(Verteiler!$B$38:$Y$38,Tabelle1!$A$54),"n4","-") -> - | H54: =IF(COUNTIF(Verteiler!$B$44:$Y$44,Tabelle1!$A$54),"n4","-") -> - | I54: =IF(COUNTIF(Verteiler!$B$50:$Y$50,Tabelle1!$A$54),"n4","-") -> - | J54: =IF(COUNTIF(Verteiler!$B$56:$Y$56,Tabelle1!$A$54),"n4","-") -> - | K54: =IF(COUNTIF(Verteiler!$B$62:$Y$62,Tabelle1!$A$54),"n4","-") -> - | L54: =IF(COUNTIF(Verteiler!$B$68:$Y$68,Tabelle1!$A$54),"n4","-") -> - | M54: =IF(COUNTIF(Verteiler!$B$38:$Y$38,Tabelle1!$A$54),"n4","-") -> - | S54: =IF(COUNTIF(Verteiler!$B$38:$Y$38,Tabelle1!$A$54),"n4","-") -> -
A55: n5 | B55: =IF(COUNTIF(Verteiler!$B$8:$Y$8,Tabelle1!$A$55),"n5","-") -> - | C55: =IF(COUNTIF(Verteiler!$B$14:$Y$14,Tabelle1!$A$55),"n5","-") -> - | D55: =IF(COUNTIF(Verteiler!$B$20:$Y$20,Tabelle1!$A$55),"n5","-") -> - | E55: =IF(COUNTIF(Verteiler!$B$26:$Y$26,Tabelle1!$A$55),"n5","-") -> - | F55: =IF(COUNTIF(Verteiler!$B$32:$Y$32,Tabelle1!$A$55),"n5","-") -> - | G55: =IF(COUNTIF(Verteiler!$B$38:$Y$38,Tabelle1!$A$55),"n5","-") -> - | H55: =IF(COUNTIF(Verteiler!$B$44:$Y$44,Tabelle1!$A$55),"n5","-") -> - | I55: =IF(COUNTIF(Verteiler!$B$50:$Y$50,Tabelle1!$A$55),"n5","-") -> - | J55: =IF(COUNTIF(Verteiler!$B$56:$Y$56,Tabelle1!$A$55),"n5","-") -> - | K55: =IF(COUNTIF(Verteiler!$B$62:$Y$62,Tabelle1!$A$55),"n5","-") -> - | L55: =IF(COUNTIF(Verteiler!$B$68:$Y$68,Tabelle1!$A$55),"n5","-") -> - | M55: =IF(COUNTIF(Verteiler!$B$38:$Y$38,Tabelle1!$A$55),"n5","-") -> - | S55: =IF(COUNTIF(Verteiler!$B$38:$Y$38,Tabelle1!$A$55),"n5","-") -> -
A56: n6 | B56: =IF(COUNTIF(Verteiler!$B$8:$Y$8,Tabelle1!$A$56),"n6","-") -> - | C56: =IF(COUNTIF(Verteiler!$B$14:$Y$14,Tabelle1!$A$56),"n6","-") -> - | D56: =IF(COUNTIF(Verteiler!$B$20:$Y$20,Tabelle1!$A$56),"n6","-") -> - | E56: =IF(COUNTIF(Verteiler!$B$26:$Y$26,Tabelle1!$A$56),"n6","-") -> - | F56: =IF(COUNTIF(Verteiler!$B$32:$Y$32,Tabelle1!$A$56),"n6","-") -> - | G56: =IF(COUNTIF(Verteiler!$B$38:$Y$38,Tabelle1!$A$56),"n6","-") -> - | H56: =IF(COUNTIF(Verteiler!$B$44:$Y$44,Tabelle1!$A$56),"n6","-") -> - | I56: =IF(COUNTIF(Verteiler!$B$50:$Y$50,Tabelle1!$A$56),"n6","-") -> - | J56: =IF(COUNTIF(Verteiler!$B$56:$Y$56,Tabelle1!$A$56),"n6","-") -> - | K56: =IF(COUNTIF(Verteiler!$B$62:$Y$62,Tabelle1!$A$56),"n6","-") -> - | L56: =IF(COUNTIF(Verteiler!$B$68:$Y$68,Tabelle1!$A$56),"n6","-") -> - | M56: =IF(COUNTIF(Verteiler!$B$38:$Y$38,Tabelle1!$A$56),"n6","-") -> - | S56: =IF(COUNTIF(Verteiler!$B$38:$Y$38,Tabelle1!$A$56),"n6","-") -> -
A57: n7 | B57: =IF(COUNTIF(Verteiler!$B$8:$Y$8,Tabelle1!$A$57),"n7","-") -> - | C57: =IF(COUNTIF(Verteiler!$B$14:$Y$14,Tabelle1!$A$57),"n7","-") -> - | D57: =IF(COUNTIF(Verteiler!$B$20:$Y$20,Tabelle1!$A$57),"n7","-") -> - | E57: =IF(COUNTIF(Verteiler!$B$26:$Y$26,Tabelle1!$A$57),"n7","-") -> - | F57: =IF(COUNTIF(Verteiler!$B$32:$Y$32,Tabelle1!$A$57),"n7","-") -> - | G57: =IF(COUNTIF(Verteiler!$B$38:$Y$38,Tabelle1!$A$57),"n7","-") -> - | H57: =IF(COUNTIF(Verteiler!$B$44:$Y$44,Tabelle1!$A$57),"n7","-") -> - | I57: =IF(COUNTIF(Verteiler!$B$50:$Y$50,Tabelle1!$A$57),"n7","-") -> - | J57: =IF(COUNTIF(Verteiler!$B$56:$Y$56,Tabelle1!$A$57),"n7","-") -> - | K57: =IF(COUNTIF(Verteiler!$B$62:$Y$62,Tabelle1!$A$57),"n7","-") -> - | L57: =IF(COUNTIF(Verteiler!$B$68:$Y$68,Tabelle1!$A$57),"n7","-") -> - | M57: =IF(COUNTIF(Verteiler!$B$38:$Y$38,Tabelle1!$A$57),"n7","-") -> - | S57: =IF(COUNTIF(Verteiler!$B$38:$Y$38,Tabelle1!$A$57),"n7","-") -> -
A58: n8 | B58: =IF(COUNTIF(Verteiler!$B$8:$Y$8,Tabelle1!$A$58),"n8","-") -> - | C58: =IF(COUNTIF(Verteiler!$B$14:$Y$14,Tabelle1!$A$58),"n8","-") -> - | D58: =IF(COUNTIF(Verteiler!$B$20:$Y$20,Tabelle1!$A$58),"n8","-") -> - | E58: =IF(COUNTIF(Verteiler!$B$26:$Y$26,Tabelle1!$A$58),"n8","-") -> - | F58: =IF(COUNTIF(Verteiler!$B$32:$Y$32,Tabelle1!$A$58),"n8","-") -> - | G58: =IF(COUNTIF(Verteiler!$B$38:$Y$38,Tabelle1!$A$58),"n8","-") -> - | H58: =IF(COUNTIF(Verteiler!$B$44:$Y$44,Tabelle1!$A$58),"n8","-") -> - | I58: =IF(COUNTIF(Verteiler!$B$50:$Y$50,Tabelle1!$A$58),"n8","-") -> - | J58: =IF(COUNTIF(Verteiler!$B$56:$Y$56,Tabelle1!$A$58),"n8","-") -> - | K58: =IF(COUNTIF(Verteiler!$B$62:$Y$62,Tabelle1!$A$58),"n8","-") -> - | L58: =IF(COUNTIF(Verteiler!$B$68:$Y$68,Tabelle1!$A$58),"n8","-") -> - | M58: =IF(COUNTIF(Verteiler!$B$38:$Y$38,Tabelle1!$A$58),"n8","-") -> - | S58: =IF(COUNTIF(Verteiler!$B$38:$Y$38,Tabelle1!$A$58),"n8","-") -> -
A59: n9 | B59: =IF(COUNTIF(Verteiler!$B$8:$Y$8,Tabelle1!$A$59),"n9","-") -> - | C59: =IF(COUNTIF(Verteiler!$B$14:$Y$14,Tabelle1!$A$59),"n9","-") -> - | D59: =IF(COUNTIF(Verteiler!$B$20:$Y$20,Tabelle1!$A$59),"n9","-") -> - | E59: =IF(COUNTIF(Verteiler!$B$26:$Y$26,Tabelle1!$A$59),"n9","-") -> - | F59: =IF(COUNTIF(Verteiler!$B$32:$Y$32,Tabelle1!$A$59),"n9","-") -> - | G59: =IF(COUNTIF(Verteiler!$B$38:$Y$38,Tabelle1!$A$59),"n9","-") -> - | H59: =IF(COUNTIF(Verteiler!$B$44:$Y$44,Tabelle1!$A$59),"n9","-") -> - | I59: =IF(COUNTIF(Verteiler!$B$50:$Y$50,Tabelle1!$A$59),"n9","-") -> - | J59: =IF(COUNTIF(Verteiler!$B$56:$Y$56,Tabelle1!$A$59),"n9","-") -> - | K59: =IF(COUNTIF(Verteiler!$B$62:$Y$62,Tabelle1!$A$59),"n9","-") -> - | L59: =IF(COUNTIF(Verteiler!$B$68:$Y$68,Tabelle1!$A$59),"n9","-") -> - | M59: =IF(COUNTIF(Verteiler!$B$38:$Y$38,Tabelle1!$A$59),"n9","-") -> - | S59: =IF(COUNTIF(Verteiler!$B$38:$Y$38,Tabelle1!$A$59),"n9","-") -> -
A60: n10 | B60: =IF(COUNTIF(Verteiler!$B$8:$Y$8,Tabelle1!$A$60),"n10","-") -> - | C60: =IF(COUNTIF(Verteiler!$B$14:$Y$14,Tabelle1!$A$60),"n10","-") -> - | D60: =IF(COUNTIF(Verteiler!$B$20:$Y$20,Tabelle1!$A$60),"n10","-") -> - | E60: =IF(COUNTIF(Verteiler!$B$120:$Y$120,Tabelle1!$A$60),"n10","-") -> - | F60: =IF(COUNTIF(Verteiler!$B$32:$Y$32,Tabelle1!$A$60),"n10","-") -> - | G60: =IF(COUNTIF(Verteiler!$B$38:$Y$38,Tabelle1!$A$60),"n10","-") -> - | H60: =IF(COUNTIF(Verteiler!$B$44:$Y$44,Tabelle1!$A$60),"n10","-") -> - | I60: =IF(COUNTIF(Verteiler!$B$50:$Y$50,Tabelle1!$A$60),"n10","-") -> - | J60: =IF(COUNTIF(Verteiler!$B$56:$Y$56,Tabelle1!$A$60),"n10","-") -> - | K60: =IF(COUNTIF(Verteiler!$B$62:$Y$62,Tabelle1!$A$60),"n10","-") -> - | L60: =IF(COUNTIF(Verteiler!$B$68:$Y$68,Tabelle1!$A$60),"n10","-") -> - | M60: =IF(COUNTIF(Verteiler!$B$38:$Y$38,Tabelle1!$A$60),"n10","-") -> - | S60: =IF(COUNTIF(Verteiler!$B$38:$Y$38,Tabelle1!$A$60),"n10","-") -> -
A61: n11 | B61: =IF(COUNTIF(Verteiler!$B$8:$Y$8,Tabelle1!$A$61),"n11","-") -> - | C61: =IF(COUNTIF(Verteiler!$B$14:$Y$14,Tabelle1!$A$61),"n11","-") -> - | D61: =IF(COUNTIF(Verteiler!$B$20:$Y$20,Tabelle1!$A$61),"n11","-") -> - | E61: =IF(COUNTIF(Verteiler!$B$26:$Y$26,Tabelle1!$A$61),"n11","-") -> - | F61: =IF(COUNTIF(Verteiler!$B$32:$Y$32,Tabelle1!$A$61),"n11","-") -> - | G61: =IF(COUNTIF(Verteiler!$B$38:$Y$38,Tabelle1!$A$61),"n11","-") -> - | H61: =IF(COUNTIF(Verteiler!$B$44:$Y$44,Tabelle1!$A$61),"n11","-") -> - | I61: =IF(COUNTIF(Verteiler!$B$50:$Y$50,Tabelle1!$A$61),"n11","-") -> - | J61: =IF(COUNTIF(Verteiler!$B$56:$Y$56,Tabelle1!$A$61),"n11","-") -> - | K61: =IF(COUNTIF(Verteiler!$B$62:$Y$62,Tabelle1!$A$61),"n11","-") -> - | L61: =IF(COUNTIF(Verteiler!$B$68:$Y$68,Tabelle1!$A$61),"n11","-") -> - | M61: =IF(COUNTIF(Verteiler!$B$38:$Y$38,Tabelle1!$A$61),"n11","-") -> - | S61: =IF(COUNTIF(Verteiler!$B$38:$Y$38,Tabelle1!$A$61),"n11","-") -> -
A62: n12 | B62: =IF(COUNTIF(Verteiler!$B$8:$Y$8,Tabelle1!$A$62),"n12","-") -> - | C62: =IF(COUNTIF(Verteiler!$B$14:$Y$14,Tabelle1!$A$62),"n12","-") -> - | D62: =IF(COUNTIF(Verteiler!$B$20:$Y$20,Tabelle1!$A$62),"n12","-") -> - | E62: =IF(COUNTIF(Verteiler!$B$26:$Y$26,Tabelle1!$A$62),"n12","-") -> - | F62: =IF(COUNTIF(Verteiler!$B$32:$Y$32,Tabelle1!$A$62),"n12","-") -> - | G62: =IF(COUNTIF(Verteiler!$B$38:$Y$38,Tabelle1!$A$62),"n12","-") -> - | H62: =IF(COUNTIF(Verteiler!$B$44:$Y$44,Tabelle1!$A$62),"n12","-") -> - | I62: =IF(COUNTIF(Verteiler!$B$50:$Y$50,Tabelle1!$A$62),"n12","-") -> - | J62: =IF(COUNTIF(Verteiler!$B$56:$Y$56,Tabelle1!$A$62),"n12","-") -> - | K62: =IF(COUNTIF(Verteiler!$B$62:$Y$62,Tabelle1!$A$62),"n12","-") -> - | L62: =IF(COUNTIF(Verteiler!$B$68:$Y$68,Tabelle1!$A$62),"n12","-") -> - | M62: =IF(COUNTIF(Verteiler!$B$38:$Y$38,Tabelle1!$A$62),"n12","-") -> - | S62: =IF(COUNTIF(Verteiler!$B$38:$Y$38,Tabelle1!$A$62),"n12","-") -> -
A63: n13 | B63: =IF(COUNTIF(Verteiler!$B$8:$Y$8,Tabelle1!$A$63),"n13","-") -> - | C63: =IF(COUNTIF(Verteiler!$B$14:$Y$14,Tabelle1!$A$63),"n13","-") -> - | D63: =IF(COUNTIF(Verteiler!$B$20:$Y$20,Tabelle1!$A$63),"n13","-") -> - | E63: =IF(COUNTIF(Verteiler!$B$26:$Y$26,Tabelle1!$A$63),"n13","-") -> - | F63: =IF(COUNTIF(Verteiler!$B$32:$Y$32,Tabelle1!$A$63),"n13","-") -> - | G63: =IF(COUNTIF(Verteiler!$B$38:$Y$38,Tabelle1!$A$63),"n13","-") -> - | H63: =IF(COUNTIF(Verteiler!$B$44:$Y$44,Tabelle1!$A$63),"n13","-") -> - | I63: =IF(COUNTIF(Verteiler!$B$50:$Y$50,Tabelle1!$A$63),"n13","-") -> - | J63: =IF(COUNTIF(Verteiler!$B$56:$Y$56,Tabelle1!$A$63),"n13","-") -> - | K63: =IF(COUNTIF(Verteiler!$B$62:$Y$62,Tabelle1!$A$63),"n13","-") -> - | L63: =IF(COUNTIF(Verteiler!$B$68:$Y$68,Tabelle1!$A$63),"n13","-") -> - | M63: =IF(COUNTIF(Verteiler!$B$38:$Y$38,Tabelle1!$A$63),"n13","-") -> - | S63: =IF(COUNTIF(Verteiler!$B$38:$Y$38,Tabelle1!$A$63),"n13","-") -> -
A64: n14 | B64: =IF(COUNTIF(Verteiler!$B$8:$Y$8,Tabelle1!$A$64),"n14","-") -> - | C64: =IF(COUNTIF(Verteiler!$B$14:$Y$14,Tabelle1!$A$64),"n14","-") -> - | D64: =IF(COUNTIF(Verteiler!$B$20:$Y$20,Tabelle1!$A$64),"n14","-") -> - | E64: =IF(COUNTIF(Verteiler!$B$26:$Y$26,Tabelle1!$A$64),"n14","-") -> - | F64: =IF(COUNTIF(Verteiler!$B$32:$Y$32,Tabelle1!$A$64),"n14","-") -> - | G64: =IF(COUNTIF(Verteiler!$B$38:$Y$38,Tabelle1!$A$64),"n14","-") -> - | H64: =IF(COUNTIF(Verteiler!$B$44:$Y$44,Tabelle1!$A$64),"n14","-") -> - | I64: =IF(COUNTIF(Verteiler!$B$50:$Y$50,Tabelle1!$A$64),"n14","-") -> - | J64: =IF(COUNTIF(Verteiler!$B$56:$Y$56,Tabelle1!$A$64),"n14","-") -> - | K64: =IF(COUNTIF(Verteiler!$B$62:$Y$62,Tabelle1!$A$64),"n14","-") -> - | L64: =IF(COUNTIF(Verteiler!$B$68:$Y$68,Tabelle1!$A$64),"n14","-") -> - | M64: =IF(COUNTIF(Verteiler!$B$38:$Y$38,Tabelle1!$A$64),"n14","-") -> - | S64: =IF(COUNTIF(Verteiler!$B$38:$Y$38,Tabelle1!$A$64),"n14","-") -> -
A65: n15 | B65: =IF(COUNTIF(Verteiler!$B$8:$Y$8,Tabelle1!$A$65),"n15","-") -> - | C65: =IF(COUNTIF(Verteiler!$B$14:$Y$14,Tabelle1!$A$65),"n15","-") -> - | D65: =IF(COUNTIF(Verteiler!$B$20:$Y$20,Tabelle1!$A$65),"n15","-") -> - | E65: =IF(COUNTIF(Verteiler!$B$26:$Y$26,Tabelle1!$A$65),"n15","-") -> - | F65: =IF(COUNTIF(Verteiler!$B$32:$Y$32,Tabelle1!$A$65),"n15","-") -> - | G65: =IF(COUNTIF(Verteiler!$B$38:$Y$38,Tabelle1!$A$65),"n15","-") -> - | H65: =IF(COUNTIF(Verteiler!$B$44:$Y$44,Tabelle1!$A$65),"n15","-") -> - | I65: =IF(COUNTIF(Verteiler!$B$50:$Y$50,Tabelle1!$A$65),"n15","-") -> - | J65: =IF(COUNTIF(Verteiler!$B$56:$Y$56,Tabelle1!$A$65),"n15","-") -> - | K65: =IF(COUNTIF(Verteiler!$B$62:$Y$62,Tabelle1!$A$65),"n15","-") -> - | L65: =IF(COUNTIF(Verteiler!$B$68:$Y$68,Tabelle1!$A$65),"n15","-") -> - | M65: =IF(COUNTIF(Verteiler!$B$38:$Y$38,Tabelle1!$A$65),"n15","-") -> - | S65: =IF(COUNTIF(Verteiler!$B$38:$Y$38,Tabelle1!$A$65),"n15","-") -> -
A66: n16 | B66: =IF(COUNTIF(Verteiler!$B$8:$Y$8,Tabelle1!$A$66),"n16","-") -> - | C66: =IF(COUNTIF(Verteiler!$B$14:$Y$14,Tabelle1!$A$66),"n16","-") -> - | D66: =IF(COUNTIF(Verteiler!$B$20:$Y$20,Tabelle1!$A$66),"n16","-") -> - | E66: =IF(COUNTIF(Verteiler!$B$26:$Y$26,Tabelle1!$A$66),"n16","-") -> - | F66: =IF(COUNTIF(Verteiler!$B$32:$Y$32,Tabelle1!$A$66),"n16","-") -> - | G66: =IF(COUNTIF(Verteiler!$B$38:$Y$38,Tabelle1!$A$66),"n16","-") -> - | H66: =IF(COUNTIF(Verteiler!$B$44:$Y$44,Tabelle1!$A$66),"n16","-") -> - | I66: =IF(COUNTIF(Verteiler!$B$50:$Y$50,Tabelle1!$A$66),"n16","-") -> - | J66: =IF(COUNTIF(Verteiler!$B$56:$Y$56,Tabelle1!$A$66),"n16","-") -> - | K66: =IF(COUNTIF(Verteiler!$B$62:$Y$62,Tabelle1!$A$66),"n16","-") -> - | L66: =IF(COUNTIF(Verteiler!$B$68:$Y$68,Tabelle1!$A$66),"n16","-") -> - | M66: =IF(COUNTIF(Verteiler!$B$38:$Y$38,Tabelle1!$A$66),"n16","-") -> - | S66: =IF(COUNTIF(Verteiler!$B$38:$Y$38,Tabelle1!$A$66),"n16","-") -> -
A67: n17 | B67: =IF(COUNTIF(Verteiler!$B$8:$Y$8,Tabelle1!$A$67),"n17","-") -> - | C67: =IF(COUNTIF(Verteiler!$B$14:$Y$14,Tabelle1!$A$67),"n17","-") -> - | D67: =IF(COUNTIF(Verteiler!$B$20:$Y$20,Tabelle1!$A$67),"n17","-") -> - | E67: =IF(COUNTIF(Verteiler!$B$26:$Y$26,Tabelle1!$A$67),"n17","-") -> - | F67: =IF(COUNTIF(Verteiler!$B$32:$Y$32,Tabelle1!$A$67),"n17","-") -> - | G67: =IF(COUNTIF(Verteiler!$B$38:$Y$38,Tabelle1!$A$67),"n17","-") -> - | H67: =IF(COUNTIF(Verteiler!$B$44:$Y$44,Tabelle1!$A$67),"n17","-") -> - | I67: =IF(COUNTIF(Verteiler!$B$50:$Y$50,Tabelle1!$A$67),"n17","-") -> - | J67: =IF(COUNTIF(Verteiler!$B$56:$Y$56,Tabelle1!$A$67),"n17","-") -> - | K67: =IF(COUNTIF(Verteiler!$B$62:$Y$62,Tabelle1!$A$67),"n17","-") -> - | L67: =IF(COUNTIF(Verteiler!$B$68:$Y$68,Tabelle1!$A$67),"n17","-") -> - | M67: =IF(COUNTIF(Verteiler!$B$38:$Y$38,Tabelle1!$A$67),"n17","-") -> - | S67: =IF(COUNTIF(Verteiler!$B$38:$Y$38,Tabelle1!$A$67),"n17","-") -> -
A68: n18 | B68: =IF(COUNTIF(Verteiler!$B$8:$Y$8,Tabelle1!$A$68),"n18","-") -> - | C68: =IF(COUNTIF(Verteiler!$B$14:$Y$14,Tabelle1!$A$68),"n18","-") -> - | D68: =IF(COUNTIF(Verteiler!$B$20:$Y$20,Tabelle1!$A$68),"n18","-") -> - | E68: =IF(COUNTIF(Verteiler!$B$26:$Y$26,Tabelle1!$A$68),"n18","-") -> - | F68: =IF(COUNTIF(Verteiler!$B$32:$Y$32,Tabelle1!$A$68),"n18","-") -> - | G68: =IF(COUNTIF(Verteiler!$B$38:$Y$38,Tabelle1!$A$68),"n18","-") -> - | H68: =IF(COUNTIF(Verteiler!$B$44:$Y$44,Tabelle1!$A$68),"n18","-") -> - | I68: =IF(COUNTIF(Verteiler!$B$50:$Y$50,Tabelle1!$A$68),"n18","-") -> - | J68: =IF(COUNTIF(Verteiler!$B$56:$Y$56,Tabelle1!$A$68),"n18","-") -> - | K68: =IF(COUNTIF(Verteiler!$B$62:$Y$62,Tabelle1!$A$68),"n18","-") -> - | L68: =IF(COUNTIF(Verteiler!$B$68:$Y$68,Tabelle1!$A$68),"n18","-") -> - | M68: =IF(COUNTIF(Verteiler!$B$38:$Y$38,Tabelle1!$A$68),"n18","-") -> - | S68: =IF(COUNTIF(Verteiler!$B$38:$Y$38,Tabelle1!$A$68),"n18","-") -> -
A69: n19 | B69: =IF(COUNTIF(Verteiler!$B$8:$Y$8,Tabelle1!$A$69),"n19","-") -> - | C69: =IF(COUNTIF(Verteiler!$B$14:$Y$14,Tabelle1!$A$69),"n19","-") -> - | D69: =IF(COUNTIF(Verteiler!$B$20:$Y$20,Tabelle1!$A$69),"n19","-") -> - | E69: =IF(COUNTIF(Verteiler!$B$26:$Y$26,Tabelle1!$A$69),"n19","-") -> - | F69: =IF(COUNTIF(Verteiler!$B$32:$Y$32,Tabelle1!$A$69),"n19","-") -> - | G69: =IF(COUNTIF(Verteiler!$B$38:$Y$38,Tabelle1!$A$69),"n19","-") -> - | H69: =IF(COUNTIF(Verteiler!$B$44:$Y$44,Tabelle1!$A$69),"n19","-") -> - | I69: =IF(COUNTIF(Verteiler!$B$50:$Y$50,Tabelle1!$A$69),"n19","-") -> - | J69: =IF(COUNTIF(Verteiler!$B$56:$Y$56,Tabelle1!$A$69),"n19","-") -> - | K69: =IF(COUNTIF(Verteiler!$B$62:$Y$62,Tabelle1!$A$69),"n19","-") -> - | L69: =IF(COUNTIF(Verteiler!$B$68:$Y$68,Tabelle1!$A$69),"n19","-") -> - | M69: =IF(COUNTIF(Verteiler!$B$38:$Y$38,Tabelle1!$A$69),"n19","-") -> - | S69: =IF(COUNTIF(Verteiler!$B$38:$Y$38,Tabelle1!$A$69),"n19","-") -> -
A70: n20 | B70: =IF(COUNTIF(Verteiler!$B$8:$Y$8,Tabelle1!$A$70),"n20","-") -> - | C70: =IF(COUNTIF(Verteiler!$B$14:$Y$14,Tabelle1!$A$70),"n20","-") -> - | D70: =IF(COUNTIF(Verteiler!$B$20:$Y$20,Tabelle1!$A$70),"n20","-") -> - | E70: =IF(COUNTIF(Verteiler!$B$26:$Y$26,Tabelle1!$A$70),"n20","-") -> - | F70: =IF(COUNTIF(Verteiler!$B$32:$Y$32,Tabelle1!$A$70),"n20","-") -> - | G70: =IF(COUNTIF(Verteiler!$B$38:$Y$38,Tabelle1!$A$70),"n20","-") -> - | H70: =IF(COUNTIF(Verteiler!$B$44:$Y$44,Tabelle1!$A$70),"n20","-") -> - | I70: =IF(COUNTIF(Verteiler!$B$50:$Y$50,Tabelle1!$A$70),"n20","-") -> - | J70: =IF(COUNTIF(Verteiler!$B$56:$Y$56,Tabelle1!$A$70),"n20","-") -> - | K70: =IF(COUNTIF(Verteiler!$B$62:$Y$62,Tabelle1!$A$70),"n20","-") -> - | L70: =IF(COUNTIF(Verteiler!$B$68:$Y$68,Tabelle1!$A$70),"n20","-") -> - | M70: =IF(COUNTIF(Verteiler!$B$38:$Y$38,Tabelle1!$A$70),"n20","-") -> - | S70: =IF(COUNTIF(Verteiler!$B$38:$Y$38,Tabelle1!$A$70),"n20","-") -> -
A71: n21 | B71: =IF(COUNTIF(Verteiler!$B$8:$Y$8,Tabelle1!$A$71),"n21","-") -> - | C71: =IF(COUNTIF(Verteiler!$B$14:$Y$14,Tabelle1!$A$71),"n21","-") -> - | D71: =IF(COUNTIF(Verteiler!$B$20:$Y$20,Tabelle1!$A$71),"n21","-") -> - | E71: =IF(COUNTIF(Verteiler!$B$26:$Y$26,Tabelle1!$A$71),"n21","-") -> - | F71: =IF(COUNTIF(Verteiler!$B$32:$Y$32,Tabelle1!$A$71),"n21","-") -> - | G71: =IF(COUNTIF(Verteiler!$B$38:$Y$38,Tabelle1!$A$71),"n21","-") -> - | H71: =IF(COUNTIF(Verteiler!$B$44:$Y$44,Tabelle1!$A$71),"n21","-") -> - | I71: =IF(COUNTIF(Verteiler!$B$50:$Y$50,Tabelle1!$A$71),"n21","-") -> - | J71: =IF(COUNTIF(Verteiler!$B$56:$Y$56,Tabelle1!$A$71),"n21","-") -> - | K71: =IF(COUNTIF(Verteiler!$B$62:$Y$62,Tabelle1!$A$71),"n21","-") -> - | L71: =IF(COUNTIF(Verteiler!$B$68:$Y$68,Tabelle1!$A$71),"n21","-") -> - | M71: =IF(COUNTIF(Verteiler!$B$38:$Y$38,Tabelle1!$A$71),"n21","-") -> - | S71: =IF(COUNTIF(Verteiler!$B$38:$Y$38,Tabelle1!$A$71),"n21","-") -> -
A72: n22 | B72: =IF(COUNTIF(Verteiler!$B$8:$Y$8,Tabelle1!$A$72),"n22","-") -> - | C72: =IF(COUNTIF(Verteiler!$B$14:$Y$14,Tabelle1!$A$72),"n22","-") -> - | D72: =IF(COUNTIF(Verteiler!$B$20:$Y$20,Tabelle1!$A$72),"n22","-") -> - | E72: =IF(COUNTIF(Verteiler!$B$26:$Y$26,Tabelle1!$A$72),"n22","-") -> - | F72: =IF(COUNTIF(Verteiler!$B$32:$Y$32,Tabelle1!$A$72),"n22","-") -> - | G72: =IF(COUNTIF(Verteiler!$B$38:$Y$38,Tabelle1!$A$72),"n22","-") -> - | H72: =IF(COUNTIF(Verteiler!$B$44:$Y$44,Tabelle1!$A$72),"n22","-") -> - | I72: =IF(COUNTIF(Verteiler!$B$50:$Y$50,Tabelle1!$A$72),"n22","-") -> - | J72: =IF(COUNTIF(Verteiler!$B$56:$Y$56,Tabelle1!$A$72),"n22","-") -> - | K72: =IF(COUNTIF(Verteiler!$B$62:$Y$62,Tabelle1!$A$72),"n22","-") -> - | L72: =IF(COUNTIF(Verteiler!$B$68:$Y$68,Tabelle1!$A$72),"n22","-") -> - | M72: =IF(COUNTIF(Verteiler!$B$38:$Y$38,Tabelle1!$A$72),"n22","-") -> - | S72: =IF(COUNTIF(Verteiler!$B$38:$Y$38,Tabelle1!$A$72),"n22","-") -> -
A73: n23 | B73: =IF(COUNTIF(Verteiler!$B$8:$Y$8,Tabelle1!$A$73),"n23","-") -> - | C73: =IF(COUNTIF(Verteiler!$B$14:$Y$14,Tabelle1!$A$73),"n23","-") -> - | D73: =IF(COUNTIF(Verteiler!$B$20:$Y$20,Tabelle1!$A$73),"n23","-") -> - | E73: =IF(COUNTIF(Verteiler!$B$26:$Y$26,Tabelle1!$A$73),"n23","-") -> - | F73: =IF(COUNTIF(Verteiler!$B$32:$Y$32,Tabelle1!$A$73),"n23","-") -> - | G73: =IF(COUNTIF(Verteiler!$B$38:$Y$38,Tabelle1!$A$73),"n23","-") -> - | H73: =IF(COUNTIF(Verteiler!$B$44:$Y$44,Tabelle1!$A$73),"n23","-") -> - | I73: =IF(COUNTIF(Verteiler!$B$50:$Y$50,Tabelle1!$A$73),"n23","-") -> - | J73: =IF(COUNTIF(Verteiler!$B$56:$Y$56,Tabelle1!$A$73),"n23","-") -> - | K73: =IF(COUNTIF(Verteiler!$B$62:$Y$62,Tabelle1!$A$73),"n23","-") -> - | L73: =IF(COUNTIF(Verteiler!$B$68:$Y$68,Tabelle1!$A$73),"n23","-") -> - | M73: =IF(COUNTIF(Verteiler!$B$38:$Y$38,Tabelle1!$A$73),"n23","-") -> - | S73: =IF(COUNTIF(Verteiler!$B$38:$Y$38,Tabelle1!$A$73),"n23","-") -> -
A74: n24 | B74: =IF(COUNTIF(Verteiler!$B$8:$Y$8,Tabelle1!$A$74),"n24","-") -> - | C74: =IF(COUNTIF(Verteiler!$B$14:$Y$14,Tabelle1!$A$74),"n24","-") -> - | D74: =IF(COUNTIF(Verteiler!$B$20:$Y$20,Tabelle1!$A$74),"n24","-") -> - | E74: =IF(COUNTIF(Verteiler!$B$26:$Y$26,Tabelle1!$A$74),"n24","-") -> - | F74: =IF(COUNTIF(Verteiler!$B$32:$Y$32,Tabelle1!$A$74),"n24","-") -> - | G74: =IF(COUNTIF(Verteiler!$B$38:$Y$38,Tabelle1!$A$74),"n24","-") -> - | H74: =IF(COUNTIF(Verteiler!$B$44:$Y$44,Tabelle1!$A$74),"n24","-") -> - | I74: =IF(COUNTIF(Verteiler!$B$50:$Y$50,Tabelle1!$A$74),"n24","-") -> - | J74: =IF(COUNTIF(Verteiler!$B$56:$Y$56,Tabelle1!$A$74),"n24","-") -> - | K74: =IF(COUNTIF(Verteiler!$B$62:$Y$62,Tabelle1!$A$74),"n24","-") -> - | L74: =IF(COUNTIF(Verteiler!$B$68:$Y$68,Tabelle1!$A$74),"n24","-") -> - | M74: =IF(COUNTIF(Verteiler!$B$38:$Y$38,Tabelle1!$A$74),"n24","-") -> - | S74: =IF(COUNTIF(Verteiler!$B$38:$Y$38,Tabelle1!$A$74),"n24","-") -> -
A75: n25 | B75: =IF(COUNTIF(Verteiler!$B$8:$Y$8,Tabelle1!$A$75),"n25","-") -> - | C75: =IF(COUNTIF(Verteiler!$B$14:$Y$14,Tabelle1!$A$75),"n25","-") -> - | D75: =IF(COUNTIF(Verteiler!$B$20:$Y$20,Tabelle1!$A$75),"n25","-") -> - | E75: =IF(COUNTIF(Verteiler!$B$26:$Y$26,Tabelle1!$A$75),"n25","-") -> - | F75: =IF(COUNTIF(Verteiler!$B$32:$Y$32,Tabelle1!$A$75),"n25","-") -> - | G75: =IF(COUNTIF(Verteiler!$B$38:$Y$38,Tabelle1!$A$75),"n25","-") -> - | H75: =IF(COUNTIF(Verteiler!$B$44:$Y$44,Tabelle1!$A$75),"n25","-") -> - | I75: =IF(COUNTIF(Verteiler!$B$50:$Y$50,Tabelle1!$A$75),"n25","-") -> - | J75: =IF(COUNTIF(Verteiler!$B$56:$Y$56,Tabelle1!$A$75),"n25","-") -> - | K75: =IF(COUNTIF(Verteiler!$B$62:$Y$62,Tabelle1!$A$75),"n25","-") -> - | L75: =IF(COUNTIF(Verteiler!$B$68:$Y$68,Tabelle1!$A$75),"n25","-") -> - | M75: =IF(COUNTIF(Verteiler!$B$38:$Y$38,Tabelle1!$A$75),"n25","-") -> - | S75: =IF(COUNTIF(Verteiler!$B$38:$Y$38,Tabelle1!$A$75),"n25","-") -> -
A76: n26 | B76: =IF(COUNTIF(Verteiler!$B$8:$Y$8,Tabelle1!$A$76),"n26","-") -> - | C76: =IF(COUNTIF(Verteiler!$B$14:$Y$14,Tabelle1!$A$76),"n26","-") -> - | D76: =IF(COUNTIF(Verteiler!$B$20:$Y$20,Tabelle1!$A$76),"n26","-") -> - | E76: =IF(COUNTIF(Verteiler!$B$26:$Y$26,Tabelle1!$A$76),"n26","-") -> - | F76: =IF(COUNTIF(Verteiler!$B$32:$Y$32,Tabelle1!$A$76),"n26","-") -> - | G76: =IF(COUNTIF(Verteiler!$B$38:$Y$38,Tabelle1!$A$76),"n26","-") -> - | H76: =IF(COUNTIF(Verteiler!$B$44:$Y$44,Tabelle1!$A$76),"n26","-") -> - | I76: =IF(COUNTIF(Verteiler!$B$50:$Y$50,Tabelle1!$A$76),"n26","-") -> - | J76: =IF(COUNTIF(Verteiler!$B$56:$Y$56,Tabelle1!$A$76),"n26","-") -> - | K76: =IF(COUNTIF(Verteiler!$B$62:$Y$62,Tabelle1!$A$76),"n26","-") -> - | L76: =IF(COUNTIF(Verteiler!$B$68:$Y$68,Tabelle1!$A$76),"n26","-") -> - | M76: =IF(COUNTIF(Verteiler!$B$38:$Y$38,Tabelle1!$A$76),"n26","-") -> - | S76: =IF(COUNTIF(Verteiler!$B$38:$Y$38,Tabelle1!$A$76),"n26","-") -> -
A77: n27 | B77: =IF(COUNTIF(Verteiler!$B$8:$Y$8,Tabelle1!$A$77),"n27","-") -> - | C77: =IF(COUNTIF(Verteiler!$B$14:$Y$14,Tabelle1!$A$77),"n27","-") -> - | D77: =IF(COUNTIF(Verteiler!$B$20:$Y$20,Tabelle1!$A$77),"n27","-") -> - | E77: =IF(COUNTIF(Verteiler!$B$26:$Y$26,Tabelle1!$A$77),"n27","-") -> - | F77: =IF(COUNTIF(Verteiler!$B$32:$Y$32,Tabelle1!$A$77),"n27","-") -> - | G77: =IF(COUNTIF(Verteiler!$B$38:$Y$38,Tabelle1!$A$77),"n27","-") -> - | H77: =IF(COUNTIF(Verteiler!$B$44:$Y$44,Tabelle1!$A$77),"n27","-") -> - | I77: =IF(COUNTIF(Verteiler!$B$50:$Y$50,Tabelle1!$A$77),"n27","-") -> - | J77: =IF(COUNTIF(Verteiler!$B$56:$Y$56,Tabelle1!$A$77),"n27","-") -> - | K77: =IF(COUNTIF(Verteiler!$B$62:$Y$62,Tabelle1!$A$77),"n27","-") -> - | L77: =IF(COUNTIF(Verteiler!$B$68:$Y$68,Tabelle1!$A$77),"n27","-") -> - | M77: =IF(COUNTIF(Verteiler!$B$38:$Y$38,Tabelle1!$A$77),"n27","-") -> - | S77: =IF(COUNTIF(Verteiler!$B$38:$Y$38,Tabelle1!$A$77),"n27","-") -> -
A78: n28 | B78: =IF(COUNTIF(Verteiler!$B$8:$Y$8,Tabelle1!$A$78),"n28","-") -> - | C78: =IF(COUNTIF(Verteiler!$B$14:$Y$14,Tabelle1!$A$78),"n28","-") -> - | D78: =IF(COUNTIF(Verteiler!$B$20:$Y$20,Tabelle1!$A$78),"n28","-") -> - | E78: =IF(COUNTIF(Verteiler!$B$26:$Y$26,Tabelle1!$A$78),"n28","-") -> - | F78: =IF(COUNTIF(Verteiler!$B$32:$Y$32,Tabelle1!$A$78),"n28","-") -> - | G78: =IF(COUNTIF(Verteiler!$B$38:$Y$38,Tabelle1!$A$78),"n28","-") -> - | H78: =IF(COUNTIF(Verteiler!$B$44:$Y$44,Tabelle1!$A$78),"n28","-") -> - | I78: =IF(COUNTIF(Verteiler!$B$50:$Y$50,Tabelle1!$A$78),"n28","-") -> - | J78: =IF(COUNTIF(Verteiler!$B$56:$Y$56,Tabelle1!$A$78),"n28","-") -> - | K78: =IF(COUNTIF(Verteiler!$B$62:$Y$62,Tabelle1!$A$78),"n28","-") -> - | L78: =IF(COUNTIF(Verteiler!$B$68:$Y$68,Tabelle1!$A$78),"n28","-") -> - | M78: =IF(COUNTIF(Verteiler!$B$38:$Y$38,Tabelle1!$A$78),"n28","-") -> - | S78: =IF(COUNTIF(Verteiler!$B$38:$Y$38,Tabelle1!$A$78),"n28","-") -> -
A79: n29 | B79: =IF(COUNTIF(Verteiler!$B$8:$Y$8,Tabelle1!$A$79),"n29","-") -> - | C79: =IF(COUNTIF(Verteiler!$B$14:$Y$14,Tabelle1!$A$79),"n29","-") -> - | D79: =IF(COUNTIF(Verteiler!$B$20:$Y$20,Tabelle1!$A$79),"n29","-") -> - | E79: =IF(COUNTIF(Verteiler!$B$26:$Y$26,Tabelle1!$A$79),"n29","-") -> - | F79: =IF(COUNTIF(Verteiler!$B$32:$Y$32,Tabelle1!$A$79),"n29","-") -> - | G79: =IF(COUNTIF(Verteiler!$B$38:$Y$38,Tabelle1!$A$79),"n29","-") -> - | H79: =IF(COUNTIF(Verteiler!$B$44:$Y$44,Tabelle1!$A$79),"n29","-") -> - | I79: =IF(COUNTIF(Verteiler!$B$50:$Y$50,Tabelle1!$A$79),"n29","-") -> - | J79: =IF(COUNTIF(Verteiler!$B$56:$Y$56,Tabelle1!$A$79),"n29","-") -> - | K79: =IF(COUNTIF(Verteiler!$B$62:$Y$62,Tabelle1!$A$79),"n29","-") -> - | L79: =IF(COUNTIF(Verteiler!$B$68:$Y$68,Tabelle1!$A$79),"n29","-") -> - | M79: =IF(COUNTIF(Verteiler!$B$38:$Y$38,Tabelle1!$A$79),"n29","-") -> - | S79: =IF(COUNTIF(Verteiler!$B$38:$Y$38,Tabelle1!$A$79),"n29","-") -> -
A80: n30 | B80: =IF(COUNTIF(Verteiler!$B$8:$Y$8,Tabelle1!$A$80),"n30","-") -> - | C80: =IF(COUNTIF(Verteiler!$B$14:$Y$14,Tabelle1!$A$80),"n30","-") -> - | D80: =IF(COUNTIF(Verteiler!$B$20:$Y$20,Tabelle1!$A$80),"n30","-") -> - | E80: =IF(COUNTIF(Verteiler!$B$26:$Y$26,Tabelle1!$A$80),"n30","-") -> - | F80: =IF(COUNTIF(Verteiler!$B$32:$Y$32,Tabelle1!$A$80),"n30","-") -> - | G80: =IF(COUNTIF(Verteiler!$B$38:$Y$38,Tabelle1!$A$80),"n30","-") -> - | H80: =IF(COUNTIF(Verteiler!$B$44:$Y$44,Tabelle1!$A$80),"n30","-") -> - | I80: =IF(COUNTIF(Verteiler!$B$50:$Y$50,Tabelle1!$A$80),"n30","-") -> - | J80: =IF(COUNTIF(Verteiler!$B$56:$Y$56,Tabelle1!$A$80),"n30","-") -> - | K80: =IF(COUNTIF(Verteiler!$B$62:$Y$62,Tabelle1!$A$80),"n30","-") -> - | L80: =IF(COUNTIF(Verteiler!$B$68:$Y$68,Tabelle1!$A$80),"n30","-") -> - | M80: =IF(COUNTIF(Verteiler!$B$38:$Y$38,Tabelle1!$A$80),"n30","-") -> - | S80: =IF(COUNTIF(Verteiler!$B$38:$Y$38,Tabelle1!$A$80),"n30","-") -> -
A81: n31 | B81: =IF(COUNTIF(Verteiler!$B$8:$Y$8,Tabelle1!$A$81),"n31","-") -> - | C81: =IF(COUNTIF(Verteiler!$B$14:$Y$14,Tabelle1!$A$81),"n31","-") -> - | D81: =IF(COUNTIF(Verteiler!$B$20:$Y$20,Tabelle1!$A$81),"n31","-") -> - | E81: =IF(COUNTIF(Verteiler!$B$26:$Y$26,Tabelle1!$A$81),"n31","-") -> - | F81: =IF(COUNTIF(Verteiler!$B$32:$Y$32,Tabelle1!$A$81),"n31","-") -> - | G81: =IF(COUNTIF(Verteiler!$B$38:$Y$38,Tabelle1!$A$81),"n31","-") -> - | H81: =IF(COUNTIF(Verteiler!$B$44:$Y$44,Tabelle1!$A$81),"n31","-") -> - | I81: =IF(COUNTIF(Verteiler!$B$50:$Y$50,Tabelle1!$A$81),"n31","-") -> - | J81: =IF(COUNTIF(Verteiler!$B$56:$Y$56,Tabelle1!$A$81),"n31","-") -> - | K81: =IF(COUNTIF(Verteiler!$B$62:$Y$62,Tabelle1!$A$81),"n31","-") -> - | L81: =IF(COUNTIF(Verteiler!$B$68:$Y$68,Tabelle1!$A$81),"n31","-") -> - | M81: =IF(COUNTIF(Verteiler!$B$38:$Y$38,Tabelle1!$A$81),"n31","-") -> - | S81: =IF(COUNTIF(Verteiler!$B$38:$Y$38,Tabelle1!$A$81),"n31","-") -> -
A82: n32 | B82: =IF(COUNTIF(Verteiler!$B$8:$Y$8,Tabelle1!$A$82),"n32","-") -> - | C82: =IF(COUNTIF(Verteiler!$B$14:$Y$14,Tabelle1!$A$82),"n32","-") -> - | D82: =IF(COUNTIF(Verteiler!$B$20:$Y$20,Tabelle1!$A$82),"n32","-") -> - | E82: =IF(COUNTIF(Verteiler!$B$26:$Y$26,Tabelle1!$A$82),"n32","-") -> - | F82: =IF(COUNTIF(Verteiler!$B$32:$Y$32,Tabelle1!$A$82),"n32","-") -> - | G82: =IF(COUNTIF(Verteiler!$B$38:$Y$38,Tabelle1!$A$82),"n32","-") -> - | H82: =IF(COUNTIF(Verteiler!$B$44:$Y$44,Tabelle1!$A$82),"n32","-") -> - | I82: =IF(COUNTIF(Verteiler!$B$50:$Y$50,Tabelle1!$A$82),"n32","-") -> - | J82: =IF(COUNTIF(Verteiler!$B$56:$Y$56,Tabelle1!$A$82),"n32","-") -> - | K82: =IF(COUNTIF(Verteiler!$B$62:$Y$62,Tabelle1!$A$82),"n32","-") -> - | L82: =IF(COUNTIF(Verteiler!$B$68:$Y$68,Tabelle1!$A$82),"n32","-") -> - | M82: =IF(COUNTIF(Verteiler!$B$38:$Y$38,Tabelle1!$A$82),"n32","-") -> - | S82: =IF(COUNTIF(Verteiler!$B$38:$Y$38,Tabelle1!$A$82),"n32","-") -> -
A83: n33 | B83: =IF(COUNTIF(Verteiler!$B$8:$Y$8,Tabelle1!$A$83),"n33","-") -> - | C83: =IF(COUNTIF(Verteiler!$B$14:$Y$14,Tabelle1!$A$83),"n33","-") -> - | D83: =IF(COUNTIF(Verteiler!$B$20:$Y$20,Tabelle1!$A$83),"n33","-") -> - | E83: =IF(COUNTIF(Verteiler!$B$26:$Y$26,Tabelle1!$A$83),"n33","-") -> - | F83: =IF(COUNTIF(Verteiler!$B$32:$Y$32,Tabelle1!$A$83),"n33","-") -> - | G83: =IF(COUNTIF(Verteiler!$B$38:$Y$38,Tabelle1!$A$83),"n33","-") -> - | H83: =IF(COUNTIF(Verteiler!$B$44:$Y$44,Tabelle1!$A$83),"n33","-") -> - | I83: =IF(COUNTIF(Verteiler!$B$50:$Y$50,Tabelle1!$A$83),"n33","-") -> - | J83: =IF(COUNTIF(Verteiler!$B$56:$Y$56,Tabelle1!$A$83),"n33","-") -> - | K83: =IF(COUNTIF(Verteiler!$B$62:$Y$62,Tabelle1!$A$83),"n33","-") -> - | L83: =IF(COUNTIF(Verteiler!$B$68:$Y$68,Tabelle1!$A$83),"n33","-") -> - | M83: =IF(COUNTIF(Verteiler!$B$38:$Y$38,Tabelle1!$A$83),"n33","-") -> - | S83: =IF(COUNTIF(Verteiler!$B$38:$Y$38,Tabelle1!$A$83),"n33","-") -> -
A84: n34 | B84: =IF(COUNTIF(Verteiler!$B$8:$Y$8,Tabelle1!$A$84),"n34","-") -> - | C84: =IF(COUNTIF(Verteiler!$B$14:$Y$14,Tabelle1!$A$84),"n34","-") -> - | D84: =IF(COUNTIF(Verteiler!$B$20:$Y$20,Tabelle1!$A$84),"n34","-") -> - | E84: =IF(COUNTIF(Verteiler!$B$26:$Y$26,Tabelle1!$A$84),"n34","-") -> - | F84: =IF(COUNTIF(Verteiler!$B$32:$Y$32,Tabelle1!$A$84),"n34","-") -> - | G84: =IF(COUNTIF(Verteiler!$B$38:$Y$38,Tabelle1!$A$84),"n34","-") -> - | H84: =IF(COUNTIF(Verteiler!$B$44:$Y$44,Tabelle1!$A$84),"n34","-") -> - | I84: =IF(COUNTIF(Verteiler!$B$50:$Y$50,Tabelle1!$A$84),"n34","-") -> - | J84: =IF(COUNTIF(Verteiler!$B$56:$Y$56,Tabelle1!$A$84),"n34","-") -> - | K84: =IF(COUNTIF(Verteiler!$B$62:$Y$62,Tabelle1!$A$84),"n34","-") -> - | L84: =IF(COUNTIF(Verteiler!$B$68:$Y$68,Tabelle1!$A$84),"n34","-") -> - | M84: =IF(COUNTIF(Verteiler!$B$38:$Y$38,Tabelle1!$A$84),"n34","-") -> - | S84: =IF(COUNTIF(Verteiler!$B$38:$Y$38,Tabelle1!$A$84),"n34","-") -> -
A85: n35 | B85: =IF(COUNTIF(Verteiler!$B$8:$Y$8,Tabelle1!$A$85),"n35","-") -> - | C85: =IF(COUNTIF(Verteiler!$B$14:$Y$14,Tabelle1!$A$85),"n35","-") -> - | D85: =IF(COUNTIF(Verteiler!$B$20:$Y$20,Tabelle1!$A$85),"n35","-") -> - | E85: =IF(COUNTIF(Verteiler!$B$26:$Y$26,Tabelle1!$A$85),"n35","-") -> - | F85: =IF(COUNTIF(Verteiler!$B$32:$Y$32,Tabelle1!$A$85),"n35","-") -> - | G85: =IF(COUNTIF(Verteiler!$B$38:$Y$38,Tabelle1!$A$85),"n35","-") -> - | H85: =IF(COUNTIF(Verteiler!$B$44:$Y$44,Tabelle1!$A$85),"n35","-") -> - | I85: =IF(COUNTIF(Verteiler!$B$50:$Y$50,Tabelle1!$A$85),"n35","-") -> - | J85: =IF(COUNTIF(Verteiler!$B$56:$Y$56,Tabelle1!$A$85),"n35","-") -> - | K85: =IF(COUNTIF(Verteiler!$B$62:$Y$62,Tabelle1!$A$85),"n35","-") -> - | L85: =IF(COUNTIF(Verteiler!$B$68:$Y$68,Tabelle1!$A$85),"n35","-") -> - | M85: =IF(COUNTIF(Verteiler!$B$38:$Y$38,Tabelle1!$A$85),"n35","-") -> - | S85: =IF(COUNTIF(Verteiler!$B$38:$Y$38,Tabelle1!$A$85),"n35","-") -> -
A86: n36 | B86: =IF(COUNTIF(Verteiler!$B$8:$Y$8,Tabelle1!$A$86),"n36","-") -> - | C86: =IF(COUNTIF(Verteiler!$B$14:$Y$14,Tabelle1!$A$86),"n36","-") -> - | D86: =IF(COUNTIF(Verteiler!$B$20:$Y$20,Tabelle1!$A$86),"n36","-") -> - | E86: =IF(COUNTIF(Verteiler!$B$26:$Y$26,Tabelle1!$A$86),"n36","-") -> - | F86: =IF(COUNTIF(Verteiler!$B$32:$Y$32,Tabelle1!$A$86),"n36","-") -> - | G86: =IF(COUNTIF(Verteiler!$B$38:$Y$38,Tabelle1!$A$86),"n36","-") -> - | H86: =IF(COUNTIF(Verteiler!$B$44:$Y$44,Tabelle1!$A$86),"n36","-") -> - | I86: =IF(COUNTIF(Verteiler!$B$50:$Y$50,Tabelle1!$A$86),"n36","-") -> - | J86: =IF(COUNTIF(Verteiler!$B$56:$Y$56,Tabelle1!$A$86),"n36","-") -> - | K86: =IF(COUNTIF(Verteiler!$B$62:$Y$62,Tabelle1!$A$86),"n36","-") -> - | L86: =IF(COUNTIF(Verteiler!$B$68:$Y$68,Tabelle1!$A$86),"n36","-") -> - | M86: =IF(COUNTIF(Verteiler!$B$38:$Y$38,Tabelle1!$A$86),"n36","-") -> - | S86: =IF(COUNTIF(Verteiler!$B$38:$Y$38,Tabelle1!$A$86),"n36","-") -> -
A87: n37 | B87: =IF(COUNTIF(Verteiler!$B$8:$Y$8,Tabelle1!$A$87),"n37","-") -> - | C87: =IF(COUNTIF(Verteiler!$B$14:$Y$14,Tabelle1!$A$87),"n37","-") -> - | D87: =IF(COUNTIF(Verteiler!$B$20:$Y$20,Tabelle1!$A$87),"n37","-") -> - | E87: =IF(COUNTIF(Verteiler!$B$26:$Y$26,Tabelle1!$A$87),"n37","-") -> - | F87: =IF(COUNTIF(Verteiler!$B$32:$Y$32,Tabelle1!$A$87),"n37","-") -> - | G87: =IF(COUNTIF(Verteiler!$B$38:$Y$38,Tabelle1!$A$87),"n37","-") -> - | H87: =IF(COUNTIF(Verteiler!$B$44:$Y$44,Tabelle1!$A$87),"n37","-") -> - | I87: =IF(COUNTIF(Verteiler!$B$50:$Y$50,Tabelle1!$A$87),"n37","-") -> - | J87: =IF(COUNTIF(Verteiler!$B$56:$Y$56,Tabelle1!$A$87),"n37","-") -> - | K87: =IF(COUNTIF(Verteiler!$B$62:$Y$62,Tabelle1!$A$87),"n37","-") -> - | L87: =IF(COUNTIF(Verteiler!$B$68:$Y$68,Tabelle1!$A$87),"n37","-") -> - | M87: =IF(COUNTIF(Verteiler!$B$38:$Y$38,Tabelle1!$A$87),"n37","-") -> - | S87: =IF(COUNTIF(Verteiler!$B$38:$Y$38,Tabelle1!$A$87),"n37","-") -> -
A88: n38 | B88: =IF(COUNTIF(Verteiler!$B$8:$Y$8,Tabelle1!$A$88),"n38","-") -> - | C88: =IF(COUNTIF(Verteiler!$B$14:$Y$14,Tabelle1!$A$88),"n38","-") -> - | D88: =IF(COUNTIF(Verteiler!$B$20:$Y$20,Tabelle1!$A$88),"n38","-") -> - | E88: =IF(COUNTIF(Verteiler!$B$26:$Y$26,Tabelle1!$A$88),"n38","-") -> - | F88: =IF(COUNTIF(Verteiler!$B$32:$Y$32,Tabelle1!$A$88),"n38","-") -> - | G88: =IF(COUNTIF(Verteiler!$B$38:$Y$38,Tabelle1!$A$88),"n38","-") -> - | H88: =IF(COUNTIF(Verteiler!$B$44:$Y$44,Tabelle1!$A$88),"n38","-") -> - | I88: =IF(COUNTIF(Verteiler!$B$50:$Y$50,Tabelle1!$A$88),"n38","-") -> - | J88: =IF(COUNTIF(Verteiler!$B$56:$Y$56,Tabelle1!$A$88),"n38","-") -> - | K88: =IF(COUNTIF(Verteiler!$B$62:$Y$62,Tabelle1!$A$88),"n38","-") -> - | L88: =IF(COUNTIF(Verteiler!$B$68:$Y$68,Tabelle1!$A$88),"n38","-") -> - | M88: =IF(COUNTIF(Verteiler!$B$38:$Y$38,Tabelle1!$A$88),"n38","-") -> - | S88: =IF(COUNTIF(Verteiler!$B$38:$Y$38,Tabelle1!$A$88),"n38","-") -> -
A89: n39 | B89: =IF(COUNTIF(Verteiler!$B$8:$Y$8,Tabelle1!$A$89),"n39","-") -> - | C89: =IF(COUNTIF(Verteiler!$B$14:$Y$14,Tabelle1!$A$89),"n39","-") -> - | D89: =IF(COUNTIF(Verteiler!$B$20:$Y$20,Tabelle1!$A$89),"n39","-") -> - | E89: =IF(COUNTIF(Verteiler!$B$26:$Y$26,Tabelle1!$A$89),"n39","-") -> - | F89: =IF(COUNTIF(Verteiler!$B$32:$Y$32,Tabelle1!$A$89),"n39","-") -> - | G89: =IF(COUNTIF(Verteiler!$B$38:$Y$38,Tabelle1!$A$89),"n39","-") -> - | H89: =IF(COUNTIF(Verteiler!$B$44:$Y$44,Tabelle1!$A$89),"n39","-") -> - | I89: =IF(COUNTIF(Verteiler!$B$50:$Y$50,Tabelle1!$A$89),"n39","-") -> - | J89: =IF(COUNTIF(Verteiler!$B$56:$Y$56,Tabelle1!$A$89),"n39","-") -> - | K89: =IF(COUNTIF(Verteiler!$B$62:$Y$62,Tabelle1!$A$89),"n39","-") -> - | L89: =IF(COUNTIF(Verteiler!$B$68:$Y$68,Tabelle1!$A$89),"n39","-") -> - | M89: =IF(COUNTIF(Verteiler!$B$38:$Y$38,Tabelle1!$A$89),"n39","-") -> - | S89: =IF(COUNTIF(Verteiler!$B$38:$Y$38,Tabelle1!$A$89),"n39","-") -> -
A90: n40 | B90: =IF(COUNTIF(Verteiler!$B$8:$Y$8,Tabelle1!$A$90),"n40","-") -> - | C90: =IF(COUNTIF(Verteiler!$B$14:$Y$14,Tabelle1!$A$90),"n40","-") -> - | D90: =IF(COUNTIF(Verteiler!$B$20:$Y$20,Tabelle1!$A$90),"n40","-") -> - | E90: =IF(COUNTIF(Verteiler!$B$26:$Y$26,Tabelle1!$A$90),"n40","-") -> - | F90: =IF(COUNTIF(Verteiler!$B$32:$Y$32,Tabelle1!$A$90),"n40","-") -> - | G90: =IF(COUNTIF(Verteiler!$B$38:$Y$38,Tabelle1!$A$90),"n40","-") -> - | H90: =IF(COUNTIF(Verteiler!$B$44:$Y$44,Tabelle1!$A$90),"n40","-") -> - | I90: =IF(COUNTIF(Verteiler!$B$50:$Y$50,Tabelle1!$A$90),"n40","-") -> - | J90: =IF(COUNTIF(Verteiler!$B$56:$Y$56,Tabelle1!$A$90),"n40","-") -> - | K90: =IF(COUNTIF(Verteiler!$B$62:$Y$62,Tabelle1!$A$90),"n40","-") -> - | L90: =IF(COUNTIF(Verteiler!$B$68:$Y$68,Tabelle1!$A$90),"n40","-") -> - | M90: =IF(COUNTIF(Verteiler!$B$38:$Y$38,Tabelle1!$A$90),"n40","-") -> - | S90: =IF(COUNTIF(Verteiler!$B$38:$Y$38,Tabelle1!$A$90),"n40","-") -> -
A91: n41 | B91: =IF(COUNTIF(Verteiler!$B$8:$Y$8,Tabelle1!$A$91),"n41","-") -> - | C91: =IF(COUNTIF(Verteiler!$B$14:$Y$14,Tabelle1!$A$91),"n41","-") -> - | D91: =IF(COUNTIF(Verteiler!$B$20:$Y$20,Tabelle1!$A$91),"n41","-") -> - | E91: =IF(COUNTIF(Verteiler!$B$26:$Y$26,Tabelle1!$A$91),"n41","-") -> - | F91: =IF(COUNTIF(Verteiler!$B$32:$Y$32,Tabelle1!$A$91),"n41","-") -> - | G91: =IF(COUNTIF(Verteiler!$B$38:$Y$38,Tabelle1!$A$91),"n41","-") -> - | H91: =IF(COUNTIF(Verteiler!$B$44:$Y$44,Tabelle1!$A$91),"n41","-") -> - | I91: =IF(COUNTIF(Verteiler!$B$50:$Y$50,Tabelle1!$A$91),"n41","-") -> - | J91: =IF(COUNTIF(Verteiler!$B$56:$Y$56,Tabelle1!$A$91),"n41","-") -> - | K91: =IF(COUNTIF(Verteiler!$B$62:$Y$62,Tabelle1!$A$91),"n41","-") -> - | L91: =IF(COUNTIF(Verteiler!$B$68:$Y$68,Tabelle1!$A$91),"n41","-") -> - | M91: =IF(COUNTIF(Verteiler!$B$38:$Y$38,Tabelle1!$A$91),"n41","-") -> - | S91: =IF(COUNTIF(Verteiler!$B$38:$Y$38,Tabelle1!$A$91),"n41","-") -> -
A92: n42 | B92: =IF(COUNTIF(Verteiler!$B$8:$Y$8,Tabelle1!$A$92),"n42","-") -> - | C92: =IF(COUNTIF(Verteiler!$B$14:$Y$14,Tabelle1!$A$92),"n42","-") -> - | D92: =IF(COUNTIF(Verteiler!$B$20:$Y$20,Tabelle1!$A$92),"n42","-") -> - | E92: =IF(COUNTIF(Verteiler!$B$26:$Y$26,Tabelle1!$A$92),"n42","-") -> - | F92: =IF(COUNTIF(Verteiler!$B$32:$Y$32,Tabelle1!$A$92),"n42","-") -> - | G92: =IF(COUNTIF(Verteiler!$B$38:$Y$38,Tabelle1!$A$92),"n42","-") -> - | H92: =IF(COUNTIF(Verteiler!$B$44:$Y$44,Tabelle1!$A$92),"n42","-") -> - | I92: =IF(COUNTIF(Verteiler!$B$50:$Y$50,Tabelle1!$A$92),"n42","-") -> - | J92: =IF(COUNTIF(Verteiler!$B$56:$Y$56,Tabelle1!$A$92),"n42","-") -> - | K92: =IF(COUNTIF(Verteiler!$B$62:$Y$62,Tabelle1!$A$92),"n42","-") -> - | L92: =IF(COUNTIF(Verteiler!$B$68:$Y$68,Tabelle1!$A$92),"n42","-") -> - | M92: =IF(COUNTIF(Verteiler!$B$38:$Y$38,Tabelle1!$A$92),"n42","-") -> - | S92: =IF(COUNTIF(Verteiler!$B$38:$Y$38,Tabelle1!$A$92),"n42","-") -> -
A93: n43 | B93: =IF(COUNTIF(Verteiler!$B$8:$Y$8,Tabelle1!$A$93),"n43","-") -> - | C93: =IF(COUNTIF(Verteiler!$B$14:$Y$14,Tabelle1!$A$93),"n43","-") -> - | D93: =IF(COUNTIF(Verteiler!$B$20:$Y$20,Tabelle1!$A$93),"n43","-") -> - | E93: =IF(COUNTIF(Verteiler!$B$26:$Y$26,Tabelle1!$A$93),"n43","-") -> - | F93: =IF(COUNTIF(Verteiler!$B$32:$Y$32,Tabelle1!$A$93),"n43","-") -> - | G93: =IF(COUNTIF(Verteiler!$B$38:$Y$38,Tabelle1!$A$93),"n43","-") -> - | H93: =IF(COUNTIF(Verteiler!$B$44:$Y$44,Tabelle1!$A$93),"n43","-") -> - | I93: =IF(COUNTIF(Verteiler!$B$50:$Y$50,Tabelle1!$A$93),"n43","-") -> - | J93: =IF(COUNTIF(Verteiler!$B$56:$Y$56,Tabelle1!$A$93),"n43","-") -> - | K93: =IF(COUNTIF(Verteiler!$B$62:$Y$62,Tabelle1!$A$93),"n43","-") -> - | L93: =IF(COUNTIF(Verteiler!$B$68:$Y$68,Tabelle1!$A$93),"n43","-") -> - | M93: =IF(COUNTIF(Verteiler!$B$38:$Y$38,Tabelle1!$A$93),"n43","-") -> - | S93: =IF(COUNTIF(Verteiler!$B$38:$Y$38,Tabelle1!$A$93),"n43","-") -> -
A94: n44 | B94: =IF(COUNTIF(Verteiler!$B$8:$Y$8,Tabelle1!$A$94),"n44","-") -> - | C94: =IF(COUNTIF(Verteiler!$B$14:$Y$14,Tabelle1!$A$94),"n44","-") -> - | D94: =IF(COUNTIF(Verteiler!$B$20:$Y$20,Tabelle1!$A$94),"n44","-") -> - | E94: =IF(COUNTIF(Verteiler!$B$26:$Y$26,Tabelle1!$A$94),"n44","-") -> - | F94: =IF(COUNTIF(Verteiler!$B$32:$Y$32,Tabelle1!$A$94),"n44","-") -> - | G94: =IF(COUNTIF(Verteiler!$B$38:$Y$38,Tabelle1!$A$94),"n44","-") -> - | H94: =IF(COUNTIF(Verteiler!$B$44:$Y$44,Tabelle1!$A$94),"n44","-") -> - | I94: =IF(COUNTIF(Verteiler!$B$50:$Y$50,Tabelle1!$A$94),"n44","-") -> - | J94: =IF(COUNTIF(Verteiler!$B$56:$Y$56,Tabelle1!$A$94),"n44","-") -> - | K94: =IF(COUNTIF(Verteiler!$B$62:$Y$62,Tabelle1!$A$94),"n44","-") -> - | L94: =IF(COUNTIF(Verteiler!$B$68:$Y$68,Tabelle1!$A$94),"n44","-") -> - | M94: =IF(COUNTIF(Verteiler!$B$38:$Y$38,Tabelle1!$A$94),"n44","-") -> - | S94: =IF(COUNTIF(Verteiler!$B$38:$Y$38,Tabelle1!$A$94),"n44","-") -> -
A95: n45 | B95: =IF(COUNTIF(Verteiler!$B$8:$Y$8,Tabelle1!$A$95),"n45","-") -> - | C95: =IF(COUNTIF(Verteiler!$B$14:$Y$14,Tabelle1!$A$95),"n45","-") -> - | D95: =IF(COUNTIF(Verteiler!$B$20:$Y$20,Tabelle1!$A$95),"n45","-") -> - | E95: =IF(COUNTIF(Verteiler!$B$26:$Y$26,Tabelle1!$A$95),"n45","-") -> - | F95: =IF(COUNTIF(Verteiler!$B$32:$Y$32,Tabelle1!$A$95),"n45","-") -> - | G95: =IF(COUNTIF(Verteiler!$B$38:$Y$38,Tabelle1!$A$95),"n45","-") -> - | H95: =IF(COUNTIF(Verteiler!$B$44:$Y$44,Tabelle1!$A$95),"n45","-") -> - | I95: =IF(COUNTIF(Verteiler!$B$50:$Y$50,Tabelle1!$A$95),"n45","-") -> - | J95: =IF(COUNTIF(Verteiler!$B$56:$Y$56,Tabelle1!$A$95),"n45","-") -> - | K95: =IF(COUNTIF(Verteiler!$B$62:$Y$62,Tabelle1!$A$95),"n45","-") -> - | L95: =IF(COUNTIF(Verteiler!$B$68:$Y$68,Tabelle1!$A$95),"n45","-") -> - | M95: =IF(COUNTIF(Verteiler!$B$38:$Y$38,Tabelle1!$A$95),"n45","-") -> - | S95: =IF(COUNTIF(Verteiler!$B$38:$Y$38,Tabelle1!$A$95),"n45","-") -> -
A96: n46 | B96: =IF(COUNTIF(Verteiler!$B$8:$Y$8,Tabelle1!$A$96),"n46","-") -> - | C96: =IF(COUNTIF(Verteiler!$B$14:$Y$14,Tabelle1!$A$96),"n46","-") -> - | D96: =IF(COUNTIF(Verteiler!$B$20:$Y$20,Tabelle1!$A$96),"n46","-") -> - | E96: =IF(COUNTIF(Verteiler!$B$26:$Y$26,Tabelle1!$A$96),"n46","-") -> - | F96: =IF(COUNTIF(Verteiler!$B$32:$Y$32,Tabelle1!$A$96),"n46","-") -> - | G96: =IF(COUNTIF(Verteiler!$B$38:$Y$38,Tabelle1!$A$96),"n46","-") -> - | H96: =IF(COUNTIF(Verteiler!$B$44:$Y$44,Tabelle1!$A$96),"n46","-") -> - | I96: =IF(COUNTIF(Verteiler!$B$50:$Y$50,Tabelle1!$A$96),"n46","-") -> - | J96: =IF(COUNTIF(Verteiler!$B$56:$Y$56,Tabelle1!$A$96),"n46","-") -> - | K96: =IF(COUNTIF(Verteiler!$B$62:$Y$62,Tabelle1!$A$96),"n46","-") -> - | L96: =IF(COUNTIF(Verteiler!$B$68:$Y$68,Tabelle1!$A$96),"n46","-") -> - | M96: =IF(COUNTIF(Verteiler!$B$38:$Y$38,Tabelle1!$A$96),"n46","-") -> - | S96: =IF(COUNTIF(Verteiler!$B$38:$Y$38,Tabelle1!$A$96),"n46","-") -> -
A97: n47 | B97: =IF(COUNTIF(Verteiler!$B$8:$Y$8,Tabelle1!$A$97),"n47","-") -> - | C97: =IF(COUNTIF(Verteiler!$B$14:$Y$14,Tabelle1!$A$97),"n47","-") -> - | D97: =IF(COUNTIF(Verteiler!$B$20:$Y$20,Tabelle1!$A$97),"n47","-") -> - | E97: =IF(COUNTIF(Verteiler!$B$26:$Y$26,Tabelle1!$A$97),"n47","-") -> - | F97: =IF(COUNTIF(Verteiler!$B$32:$Y$32,Tabelle1!$A$97),"n47","-") -> - | G97: =IF(COUNTIF(Verteiler!$B$38:$Y$38,Tabelle1!$A$97),"n47","-") -> - | H97: =IF(COUNTIF(Verteiler!$B$44:$Y$44,Tabelle1!$A$97),"n47","-") -> - | I97: =IF(COUNTIF(Verteiler!$B$50:$Y$50,Tabelle1!$A$97),"n47","-") -> - | J97: =IF(COUNTIF(Verteiler!$B$56:$Y$56,Tabelle1!$A$97),"n47","-") -> - | K97: =IF(COUNTIF(Verteiler!$B$62:$Y$62,Tabelle1!$A$97),"n47","-") -> - | L97: =IF(COUNTIF(Verteiler!$B$68:$Y$68,Tabelle1!$A$97),"n47","-") -> - | M97: =IF(COUNTIF(Verteiler!$B$38:$Y$38,Tabelle1!$A$97),"n47","-") -> - | S97: =IF(COUNTIF(Verteiler!$B$38:$Y$38,Tabelle1!$A$97),"n47","-") -> -
A98: n48 | B98: =IF(COUNTIF(Verteiler!$B$8:$Y$8,Tabelle1!$A$98),"n48","-") -> - | C98: =IF(COUNTIF(Verteiler!$B$14:$Y$14,Tabelle1!$A$98),"n48","-") -> - | D98: =IF(COUNTIF(Verteiler!$B$20:$Y$20,Tabelle1!$A$98),"n48","-") -> - | E98: =IF(COUNTIF(Verteiler!$B$26:$Y$26,Tabelle1!$A$98),"n48","-") -> - | F98: =IF(COUNTIF(Verteiler!$B$32:$Y$32,Tabelle1!$A$98),"n48","-") -> - | G98: =IF(COUNTIF(Verteiler!$B$38:$Y$38,Tabelle1!$A$98),"n48","-") -> - | H98: =IF(COUNTIF(Verteiler!$B$44:$Y$44,Tabelle1!$A$98),"n48","-") -> - | I98: =IF(COUNTIF(Verteiler!$B$50:$Y$50,Tabelle1!$A$98),"n48","-") -> - | J98: =IF(COUNTIF(Verteiler!$B$56:$Y$56,Tabelle1!$A$98),"n48","-") -> - | K98: =IF(COUNTIF(Verteiler!$B$62:$Y$62,Tabelle1!$A$98),"n48","-") -> - | L98: =IF(COUNTIF(Verteiler!$B$68:$Y$68,Tabelle1!$A$98),"n48","-") -> - | M98: =IF(COUNTIF(Verteiler!$B$38:$Y$38,Tabelle1!$A$98),"n48","-") -> - | S98: =IF(COUNTIF(Verteiler!$B$38:$Y$38,Tabelle1!$A$98),"n48","-") -> -
