Workbook

Sheet Tabelle1
A2: Spalte1 | B2: Spalte2 | C2: Spalte3 | D2: Spalte4 | E2: Spalte5 | F2: Spalte6 | G2: Spalte7 | H2: Spalte8 | I2: Spalte9
A3: CE109MTST1/XEG | B3: Microwave | I3: 239
A4: DV81M5210QW/EG | B4: Dryer | I4: 599
A5: GE89MST-1/XEG | B5: Microwave | I5: 78
A6: MC28H5015CS/EG | B6: Microwave | I6: 159
A7: MC28M6055CK/EG | B7: Microwave | I7: 199
A8: MC32J7055CT/EG | B8: Microwave | I8: 249
A9: MG28F303TCS/EG | B9: Microwave | I9: 145
A10: MS23F301TAK/EG | B10: Microwave | I10: 133
A11: MS28F303TAS/EG | B11: Microwave | I11: 140
A12: RL30J3005SA/EG | B12: Combi fridge | I12: 477
A13: RL33J3005SA/EG | B13: Combi fridge | I13: 499
A14: VR1DM7020UH/EG | B14: Vacuum cleaner | I14: 399
... A198: WW91M760NOA/EG | B198: Washing machines | I198: 999

Sheet Tabelle2
K1: Spalte1 | L1: Spalte9
A2: Spalte1 | I2: =VLOOKUP(A3, Tabelle1!$A$1:$I$11,9,1) -> 133 | K2: MS23K3515AS/EG | L2: 93
A3: MS23K3515AS/EG | I3: =VLOOKUP(A4, Tabelle1!$A$1:$I$11,9,1) -> 140 | K3: MS23K3515AS/EG | L3: 93
A4: NV75N5671RS/EG | I4: =VLOOKUP(A5, Tabelle1!$A$1:$I$11,9,0) -> #N/A | K4: NV75N5671RS/EG | L4: 549
A5: RF56N9740SR/EF | I5: =VLOOKUP(A6, Tabelle1!$A$1:$I$11,9,0) -> #N/A | K5: NV75N5671RS/EG | L5: 549
A6: WW70J5435FX/EG | I6: =VLOOKUP(A7, Tabelle1!$A$1:$I$11,9,0) -> #N/A | K6: DV81M5210QW/EG | L6: 599
A7: BRB260134WW/EF | I7: =VLOOKUP(A8, Tabelle1!$A$1:$I$11,9,0) -> #N/A | K7: DV81M5210QW/EG | L7: 599
A8: BRB2G0131WW/EG | I8: =VLOOKUP(A9, Tabelle1!$A$1:$I$11,9,0) -> #N/A | K8: RF56N9740SR/EF | L8: 3299
A9: DV70M5020KW/EG | I9: =VLOOKUP(A10, Tabelle1!$A$1:$I$11,9,0) -> #N/A | K9: RF56N9740SR/EF | L9: 3299
A10: DV71M5020KW/EG | I10: =VLOOKUP(A11, Tabelle1!$A$1:$I$11,9,0) -> #N/A | K10: DV70M5020KW/EG | L10: 449
A11: DV7FM5020KW/EG | I11: =VLOOKUP(A12, Tabelle1!$A$1:$I$11,9,0) -> #N/A | K11: DV71M5020KW/EG | L11: 399
A12: DV80F5E5HGW/EG | I12: =VLOOKUP(A13, Tabelle1!$A$1:$I$11,9,0) -> #N/A | K12: DV7FM5020KW/EG | L12: 499
A13: DV80H8100HW/EG | I13: =VLOOKUP(A14, Tabelle1!$A$1:$I$11,9,0) -> #N/A | K13: DV80F5E5HGW/EG | L13: 499
A14: DV80K6010CW/EG | I14: =VLOOKUP(A15, Tabelle1!$A$1:$I$11,9,0) -> #N/A | K14: RL30J3005SA/EG | L14: 477
A15: DV80M50101W/EG | I15: =VLOOKUP(A16, Tabelle1!$A$1:$I$11,9,0) -> #N/A | K15: RL30J3005SA/EG | L15: 477
... A117: WF70F5E0R4W/EG | I117: =VLOOKUP(A118, Tabelle1!$A$1:$I$11,9,0) -> #N/A | K117: WW91M760NOA/EG | L117: 999
A118: WF7802XEC/XEG | I118: =VLOOKUP(A119, Tabelle1!$A$1:$I$11,9,0) -> #N/A | K118: BRB260134WW/EF
A119: WF7AF5ECQ4W/EG | I119: =VLOOKUP(A120, Tabelle1!$A$1:$I$11,9,0) -> #N/A | K119: BRB2G0131WW/EG
A120: WW10H9600EW/EG | I120: =VLOOKUP(A121, Tabelle1!$A$1:$I$11,9,0) -> #N/A | K120: DV80H8100HW/EG
A121: WW10M86BQOA/EG | I121: =VLOOKUP(A122, Tabelle1!$A$1:$I$11,9,0) -> #N/A | K121: DW60M6031SS/EG
A122: WW12H8400EW/EG | I122: =VLOOKUP(A123, Tabelle1!$A$1:$I$11,9,0) -> #N/A | K122: MC28M6035CS/EG
A123: WW12K8402OW/EG | I123: =VLOOKUP(A124, Tabelle1!$A$1:$I$11,9,0) -> #N/A | K123: NV70K3370BS/EG
A124: WW70J44A3MW/EG | I124: =VLOOKUP(A125, Tabelle1!$A$1:$I$11,9,0) -> #N/A | K124: NZ64H57479K/EG
A125: WW70J5435FX/EG | I125: =VLOOKUP(A126, Tabelle1!$A$1:$I$11,9,0) -> #N/A | K125: RB29FERNCSS/EF
A126: WW70J5585MW/EG | I126: =VLOOKUP(A127, Tabelle1!$A$1:$I$11,9,0) -> #N/A | K126: RB32FEJNBSS/EF
A127: WW70K44205W/EG | I127: =VLOOKUP(A128, Tabelle1!$A$1:$I$11,9,0) -> #N/A | K127: RB36J8059SR/EF
A128: WW70K4420YW/EG | I128: =VLOOKUP(A129, Tabelle1!$A$1:$I$11,9,0) -> #N/A | K128: RB37J5005SA/EF
A129: WW71J5436FW/EG | I129: =VLOOKUP(A130, Tabelle1!$A$1:$I$11,9,0) -> #N/A | K129: RB37J500MSA/EF
... A158: WW8XM740NOR/EG | I158: =VLOOKUP(A159, Tabelle1!$A$1:$I$11,9,0) -> #N/A | K158: WW8XM740NOR/EG
K159: WW8XM740NOR/EG
K160: WW90J6400CW/EG
K161: BRB2G0130WW/EG
