Workbook

Sheet Summary
A1: Clan: | C1: Findclan
F2: Victory types
A3: # | C3: Battle | D3: Description | E3: Solo? | F3: Dom | G3: Fame | H3: Wisdom | I3: Trade | J3: Special (Level) | K3: Special (Clan) | L3: Possible Bonuses | Q3: Rating
A4: 1 | B4: =LOOKUP(A4,A$20:A$700,C$20:C$700) -> DeathMatch | C4: =LOOKUP(B4,Battles!A:A,Battles!B:B) -> Death Match | D4: =LOOKUP(C4,Battles!A:A,Battles!C:C) -> Eruptions destroy tiles permanently | E4: =VLOOKUP(B4,Battles!A$1:K$50,2) -> Death Match | G4: =LOOKUP(B4,Battles!A$1:A$60,Battles!B$1:B$60) -> Death Match | I4: =LOOKUP(B4,Battles!A$1:A$60) -> DeathMatch | J4: =MATCH(B4,A16:C$70,0) -> #N/A | K4: =MATCH(B4,Battles!A1:C33) -> #N/A | Q4: +
A5: 2 | B5: =LOOKUP(A5,A$20:A$700,C$20:C$700) -> OdinsGlory | C5: =LOOKUP(B5,Battles!A:A,Battles!B:B) -> Threats from the Underground | D5: =LOOKUP(C5,Battles!A:A,Battles!C:C) -> Kill Gate of Nidavellir dwarves in 5 years | E5: =VLOOKUP(B5,Battles!A$1:K$50,2) -> Quarantine | G5: =LOOKUP(B5,Battles!A$1:A$60,Battles!B$1:B$60) -> Quarantine | I5: =LOOKUP(B5,Battles!A$1:A$60) -> Medic | J5: =MATCH(B5,Battles!A$1:C$70,0) -> #N/A | Q5: -
A6: 3 | B6: =LOOKUP(A6,A$20:A$700,C$20:C$700) -> Frozen | C6: =LOOKUP(B6,Battles!A:A,Battles!B:B) -> Frozen Gates | D6: =LOOKUP(C6,Battles!A:A,Battles!C:C) -> Many gates of Nilfheim, frozen zombies attack winter | E6: =VLOOKUP(B6,Battles!A$1:K$50,2) -> Frozen Gates | G6: =LOOKUP(B6,Battles!A$1:A$60,Battles!B$1:B$60) -> Frozen Gates | I6: =LOOKUP(B6,Battles!A$1:A$60) -> Frozen | J6: =MATCH(B6,Battles!A$1:C$70,0) -> #N/A | Q6: +
A7: 4 | B7: =LOOKUP(A7,A$20:A$700,C$20:C$700) -> TheGreatHunt | C7: =LOOKUP(B7,Battles!$A:$A,Battles!$B:$B) -> Threats from the Underground | D7: =LOOKUP(C7,Battles!A:A,Battles!C:C) -> Kill Gate of Nidavellir dwarves in 5 years | E7: =VLOOKUP(B7,Battles!A$1:K$50,2) -> The Great Hunt | G7: =LOOKUP(B7,Battles!A$1:A$60,Battles!B$1:B$60) -> The Great Hunt | I7: =LOOKUP(B7,Battles!A$1:A$60) -> TheGreatHunt | J7: =MATCH(B7,Battles!A$1:C$70,0) -> #N/A | Q7: -
A8: 5 | B8: =LOOKUP(A8,A$20:A$700,C$20:C$700) -> GreedPrice | C8: =LOOKUP(B8,Battles!$A:$A,Battles!$B:$B) -> Greed's price | D8: =LOOKUP(C8,Battles!A:A,Battles!C:C) -> Find Colossal Boar, no krown earning, just treasures | E8: =VLOOKUP(B8,Battles!A$1:K$50,2) -> Greed's price | G8: =LOOKUP(B8,Battles!A$1:A$60,Battles!B$1:B$60) -> Greed's price | I8: =LOOKUP(B8,Battles!A$1:A$60) -> GreedPrice | J8: =MATCH(B8,Battles!A$1:C$70,0) -> #N/A | Q8: +
A9: 6 | B9: =LOOKUP(A9,A$20:A$700,C$20:C$700) -> NoGodNoMaster | C9: =LOOKUP(B9,Battles!$A:$A,Battles!$B:$B) -> Threats from the Underground | D9: =LOOKUP(C9,Battles!A:A,Battles!C:C) -> Kill Gate of Nidavellir dwarves in 5 years | E9: =VLOOKUP(B9,Battles!A$1:K$50,2) -> Quarantine | G9: =LOOKUP(B9,Battles!A$1:A$60,Battles!B$1:B$60) -> Quarantine | I9: =LOOKUP(B9,Battles!A$1:A$60) -> Medic | Q9: -
A10: 7 | B10: =LOOKUP(A10,A$20:A$700,C$20:C$700) -> Medic | C10: =LOOKUP(B10,Battles!$A:$A,Battles!$B:$B) -> Master Supplier | D10: =LOOKUP(C10,Battles!A:A,Battles!C:C) -> Marketplace 1/2 price, no building slot | E10: =VLOOKUP(B10,Battles!A$1:K$50,2) -> Quarantine | G10: =LOOKUP(B10,Battles!A$1:A$60,Battles!B$1:B$60) -> Quarantine | I10: =LOOKUP(B10,Battles!A$1:A$60) -> Medic | Q10: -
A11: 8 | B11: =LOOKUP(A11,A$20:A$700,C$20:C$700) -> ForValhalla | C11: =LOOKUP(B11,Battles!$A:$A,Battles!$B:$B) -> For Valhalla | D11: =LOOKUP(C11,Battles!A:A,Battles!C:C) -> No resources around start, conquer Yggdrasil | E11: =VLOOKUP(B11,Battles!A$1:K$50,2) -> For Valhalla | G11: =LOOKUP(B11,Battles!A$1:A$60,Battles!B$1:B$60) -> For Valhalla | I11: =LOOKUP(B11,Battles!A$1:A$60) -> ForValhalla | Q11: +
A12: 9 | B12: =LOOKUP(A12,A$20:A$700,C$20:C$700) -> HostileLands | C12: =LOOKUP(B12,Battles!$A:$A,Battles!$B:$B) -> Hostile Lands | D12: =LOOKUP(C12,Battles!A:A,Battles!C:C) -> Find Colossal Boar, no krown earning, just treasures | E12: =VLOOKUP(B12,Battles!A$1:K$50,2) -> Hostile Lands | G12: =LOOKUP(B12,Battles!A$1:A$60,Battles!B$1:B$60) -> Hostile Lands | I12: =LOOKUP(B12,Battles!A$1:A$60) -> HostileLands | Q12: +
A13: 10 | B13: =LOOKUP(A13,A$20:A$700,C$20:C$700) -> ShardsMisfortune | C13: =LOOKUP(B13,Battles!$A:$A,Battles!$B:$B) -> Threats from the Underground | D13: =LOOKUP(C13,Battles!A:A,Battles!C:C) -> Kill Gate of Nidavellir dwarves in 5 years | E13: =VLOOKUP(B13,Battles!A$1:K$50,2) -> Shards of Misfortune | G13: =LOOKUP(B13,Battles!A$1:A$60,Battles!B$1:B$60) -> Shards of Misfortune | I13: =LOOKUP(B13,Battles!A$1:A$60) -> ShardsMisfortune | Q13: -
A14: 11 | B14: =LOOKUP(A14,A$20:A$700,C$20:C$700) -> NidavellirDoor | C14: =LOOKUP(B14,Battles!$A:$A,Battles!$B:$B) -> Threats from the Underground | D14: =LOOKUP(C14,Battles!A:A,Battles!C:C) -> Kill Gate of Nidavellir dwarves in 5 years | E14: =VLOOKUP(B14,Battles!A$1:K$50,2) -> Quarantine | G14: =LOOKUP(B14,Battles!A$1:A$60,Battles!B$1:B$60) -> Quarantine | I14: =LOOKUP(B14,Battles!A$1:A$60) -> Medic | Q14: +
A20: oy7 | B20: versioni5y4 | C20: seedi264003228y4 | D20: clany2 | E20: Oxy10 | F20: difficultyzy7 | G20: playersaoR2R3y10 | H20: colorIndexi2y8 | I20: isLeaderty4 | J20: namey10 | K20: LegionOfMey3 | L20: uidy9 | M20: Sa462650fghy3 | N20: mapaaoy16 | O20: availableBonusesaoy2 | P20: idy10 | Q20: BRecyclingy10 | R20: isAdvancedfghy5 | S20: infIdy10 | T20: DeathMatchR1i668536367y8 | U20: templatey2 | V20: B1ghaoR13aoR14y9 | W20: BResBonusy5 | X20: resIdy5 | Y20: MoneyR16fgoR14y11 | Z20: BFoesAttackR16fgoR14y16 | AA20: BMilitaryDefensey6 | AB20: unitIdy10 | AC20: AxeWielderR16fghR17y10 | AD20: OdinsGloryR1i419322426R19y2 | AE20: B2goR13aoR14y16 | AF20: BRecruitMilitaryR26R27R16fgoR14y8 | AG20: BJobProdR26y6 | AH20: FarmerR16fgoR14y24 | AI20: BUpgradeCivilianBuildingy10 | AJ20: buildingIdy8 | AK20: FoodSiloR16fghR17y6 | AL20: FrozenR1i451085618R19y2 | AM20: B3ghaoR13aoR14y11 | AN20: BFreeWeaponR26y7 | AO20: WarriorR16fgoR14R25R26y12 | AP20: ShieldBearerR16fgoR14y24 | AQ20: BUpgradeMilitaryBuildingR34y9 | AR20: AxeCenterR16fghR17y12 | AS20: TheGreatHuntR1i586759528R19y2 | AT20: B4goR13aoR14R41R34y12 | AU20: ShieldCenterR16fgoR14y12 | AV20: BForgeRelicsR16fgoR14R21R22y4 | AW20: WoodR16fghR17y10 | AX20: GreedPriceR1i809725342R19y2 | AY20: B5ghaoR13aoR14y11 | AZ20: BHeartyLifeR16fghR17y13 | BA20: NoGodNoMasterR1i700142289R19y2 | BB20: B6ghaoR13aoR14y17 | BC20: BWarchiefCooldownR16tgoR14y15 | BD20: BMilitaryAttackR26R40R16tgoR14R21R22y4 | BE20: LoreR16tghR17y5 | BF20: MedicR1i161377306R19y2 | BG20: B7goR13aoR14y9 | BH20: BFreeToolR26y8 | BI20: MerchantR16tgoR14R33R34y11 | BJ20: MarketPlaceR16tgoR14R25R26R39R16tghR17y11 | BK20: ForValhallaR1i811980227R19y2 | BL20: B8ghaoR13aoR14R31R26y6 | BM20: HunterR16tgoR14y17 | BN20: BFreeSlotCivilianR34y11 | BO20: TradingPostR16tgoR14R54R26R27R16tghR17y12 | BP20: HostileLandsR1i960786981R19y2 | BQ20: B9goR13aoR14y9 | BR20: BWarchiefR16tgoR14y17 | BS20: BFreeSlotMilitaryR34R42R16tgoR14y10 | BT20: BPopGrowthR16tghR17y16 | BU20: ShardsMisfortuneR1i654869098R19y3 | BV20: B10ghaoR13aoR14y9 | BW20: BOxShadowR16fghR17y14 | BX20: NidavellirDoorR1i343739189R19y3 | BY20: B11ghhy8 | BZ20: progressaoy13 | CA20: chosenBonusesaoy5 | CB20: bonusoR14R15R16fgR10R11ghR14R18ghy4 | CC20: pathaR18hy4 | CD20: dated1704466848000y13 | CE20: battleFocusIdny16 | CF20: finishedBattleIdng
A21: =IF(LEFT(C22,3)="B11",11,IF(LEFT(C22,2)="B2",2,IF(LEFT(C22,2)="B3",3,IF(LEFT(C22,2)="B4",4,IF(LEFT(C22,2)="B5",5,IF(LEFT(C22,2)="B6",6,IF(LEFT(C22,2)="B7",7,IF(LEFT(C22,2)="B8",8,IF(LEFT(C22,2)="B9",9,IF(LEFT(C22,3)="B10",10,IF(AND(ROW(C21)<50,LEFT(C22,2)="B1",MIN(IF(ISERROR(SEARCH("R1",B21,2)),50,SEARCH("R1",B21,2)),IF(ISERROR(SEARCH("R2",B21,2)),50,SEARCH("R2",B21,2)),IF(ISERROR(SEARCH("R3",B21,2)),50,SEARCH("R3",B21,2)))<50),1,IF(AND(ROW(C21)<50,LEFT(C23,2)="B1",MIN(IF(ISERROR(SEARCH("R1",B21,2)),50,SEARCH("R1",B21,2)),IF(ISERROR(SEARCH("R2",B21,2)),50,SEARCH("R2",B21,2)),IF(ISERROR(SEARCH("R3",B21,2)),50,SEARCH("R3",B21,2)))<50),1,"")))))))))))) | B21: {=IF(TRANSPOSE(A20:AAB20)=0,"",TRANSPOSE(A20:AAB20))} -> oy7 | C21: =LEFT(B21,MIN(IF(ISERROR(SEARCH("R1",B21,2)),50,SEARCH("R1",B21,2)),IF(ISERROR(SEARCH("R2",B21,2)),50,SEARCH("R2",B21,2)),IF(ISERROR(SEARCH("R3",B21,2)),50,SEARCH("R3",B21,2)))-1) -> oy7
A22: =IF(LEFT(C23,3)="B11",11,IF(LEFT(C23,2)="B2",2,IF(LEFT(C23,2)="B3",3,IF(LEFT(C23,2)="B4",4,IF(LEFT(C23,2)="B5",5,IF(LEFT(C23,2)="B6",6,IF(LEFT(C23,2)="B7",7,IF(LEFT(C23,2)="B8",8,IF(LEFT(C23,2)="B9",9,IF(LEFT(C23,3)="B10",10,IF(AND(ROW(C22)<50,LEFT(C23,2)="B1",MIN(IF(ISERROR(SEARCH("R1",B22,2)),50,SEARCH("R1",B22,2)),IF(ISERROR(SEARCH("R2",B22,2)),50,SEARCH("R2",B22,2)),IF(ISERROR(SEARCH("R3",B22,2)),50,SEARCH("R3",B22,2)))<50),1,IF(AND(ROW(C22)<50,LEFT(C24,2)="B1",MIN(IF(ISERROR(SEARCH("R1",B22,2)),50,SEARCH("R1",B22,2)),IF(ISERROR(SEARCH("R2",B22,2)),50,SEARCH("R2",B22,2)),IF(ISERROR(SEARCH("R3",B22,2)),50,SEARCH("R3",B22,2)))<50),1,"")))))))))))) | B22: versioni5y4 | C22: =LEFT(B22,MIN(IF(ISERROR(SEARCH("R1",B22,2)),50,SEARCH("R1",B22,2)),IF(ISERROR(SEARCH("R2",B22,2)),50,SEARCH("R2",B22,2)),IF(ISERROR(SEARCH("R3",B22,2)),50,SEARCH("R3",B22,2)))-1) -> versioni5y4
A23: =IF(LEFT(C24,3)="B11",11,IF(LEFT(C24,2)="B2",2,IF(LEFT(C24,2)="B3",3,IF(LEFT(C24,2)="B4",4,IF(LEFT(C24,2)="B5",5,IF(LEFT(C24,2)="B6",6,IF(LEFT(C24,2)="B7",7,IF(LEFT(C24,2)="B8",8,IF(LEFT(C24,2)="B9",9,IF(LEFT(C24,3)="B10",10,IF(AND(ROW(C23)<50,LEFT(C24,2)="B1",MIN(IF(ISERROR(SEARCH("R1",B23,2)),50,SEARCH("R1",B23,2)),IF(ISERROR(SEARCH("R2",B23,2)),50,SEARCH("R2",B23,2)),IF(ISERROR(SEARCH("R3",B23,2)),50,SEARCH("R3",B23,2)))<50),1,IF(AND(ROW(C23)<50,LEFT(C25,2)="B1",MIN(IF(ISERROR(SEARCH("R1",B23,2)),50,SEARCH("R1",B23,2)),IF(ISERROR(SEARCH("R2",B23,2)),50,SEARCH("R2",B23,2)),IF(ISERROR(SEARCH("R3",B23,2)),50,SEARCH("R3",B23,2)))<50),1,"")))))))))))) | B23: seedi264003228y4 | C23: =LEFT(B23,MIN(IF(ISERROR(SEARCH("R1",B23,2)),50,SEARCH("R1",B23,2)),IF(ISERROR(SEARCH("R2",B23,2)),50,SEARCH("R2",B23,2)),IF(ISERROR(SEARCH("R3",B23,2)),50,SEARCH("R3",B23,2)))-1) -> seedi264003228y4
A24: =IF(LEFT(C25,3)="B11",11,IF(LEFT(C25,2)="B2",2,IF(LEFT(C25,2)="B3",3,IF(LEFT(C25,2)="B4",4,IF(LEFT(C25,2)="B5",5,IF(LEFT(C25,2)="B6",6,IF(LEFT(C25,2)="B7",7,IF(LEFT(C25,2)="B8",8,IF(LEFT(C25,2)="B9",9,IF(LEFT(C25,3)="B10",10,IF(AND(ROW(C24)<50,LEFT(C25,2)="B1",MIN(IF(ISERROR(SEARCH("R1",B24,2)),50,SEARCH("R1",B24,2)),IF(ISERROR(SEARCH("R2",B24,2)),50,SEARCH("R2",B24,2)),IF(ISERROR(SEARCH("R3",B24,2)),50,SEARCH("R3",B24,2)))<50),1,IF(AND(ROW(C24)<50,LEFT(C26,2)="B1",MIN(IF(ISERROR(SEARCH("R1",B24,2)),50,SEARCH("R1",B24,2)),IF(ISERROR(SEARCH("R2",B24,2)),50,SEARCH("R2",B24,2)),IF(ISERROR(SEARCH("R3",B24,2)),50,SEARCH("R3",B24,2)))<50),1,"")))))))))))) | B24: clany2 | C24: =LEFT(B24,MIN(IF(ISERROR(SEARCH("R1",B24,2)),50,SEARCH("R1",B24,2)),IF(ISERROR(SEARCH("R2",B24,2)),50,SEARCH("R2",B24,2)),IF(ISERROR(SEARCH("R3",B24,2)),50,SEARCH("R3",B24,2)))-1) -> clany2
A25: =IF(LEFT(C26,3)="B11",11,IF(LEFT(C26,2)="B2",2,IF(LEFT(C26,2)="B3",3,IF(LEFT(C26,2)="B4",4,IF(LEFT(C26,2)="B5",5,IF(LEFT(C26,2)="B6",6,IF(LEFT(C26,2)="B7",7,IF(LEFT(C26,2)="B8",8,IF(LEFT(C26,2)="B9",9,IF(LEFT(C26,3)="B10",10,IF(AND(ROW(C25)<50,LEFT(C26,2)="B1",MIN(IF(ISERROR(SEARCH("R1",B25,2)),50,SEARCH("R1",B25,2)),IF(ISERROR(SEARCH("R2",B25,2)),50,SEARCH("R2",B25,2)),IF(ISERROR(SEARCH("R3",B25,2)),50,SEARCH("R3",B25,2)))<50),1,IF(AND(ROW(C25)<50,LEFT(C27,2)="B1",MIN(IF(ISERROR(SEARCH("R1",B25,2)),50,SEARCH("R1",B25,2)),IF(ISERROR(SEARCH("R2",B25,2)),50,SEARCH("R2",B25,2)),IF(ISERROR(SEARCH("R3",B25,2)),50,SEARCH("R3",B25,2)))<50),1,"")))))))))))) | B25: Oxy10 | C25: =LEFT(B25,MIN(IF(ISERROR(SEARCH("R1",B25,2)),50,SEARCH("R1",B25,2)),IF(ISERROR(SEARCH("R2",B25,2)),50,SEARCH("R2",B25,2)),IF(ISERROR(SEARCH("R3",B25,2)),50,SEARCH("R3",B25,2)))-1) -> Oxy10
A26: =IF(LEFT(C27,3)="B11",11,IF(LEFT(C27,2)="B2",2,IF(LEFT(C27,2)="B3",3,IF(LEFT(C27,2)="B4",4,IF(LEFT(C27,2)="B5",5,IF(LEFT(C27,2)="B6",6,IF(LEFT(C27,2)="B7",7,IF(LEFT(C27,2)="B8",8,IF(LEFT(C27,2)="B9",9,IF(LEFT(C27,3)="B10",10,IF(AND(ROW(C26)<50,LEFT(C27,2)="B1",MIN(IF(ISERROR(SEARCH("R1",B26,2)),50,SEARCH("R1",B26,2)),IF(ISERROR(SEARCH("R2",B26,2)),50,SEARCH("R2",B26,2)),IF(ISERROR(SEARCH("R3",B26,2)),50,SEARCH("R3",B26,2)))<50),1,IF(AND(ROW(C26)<50,LEFT(C28,2)="B1",MIN(IF(ISERROR(SEARCH("R1",B26,2)),50,SEARCH("R1",B26,2)),IF(ISERROR(SEARCH("R2",B26,2)),50,SEARCH("R2",B26,2)),IF(ISERROR(SEARCH("R3",B26,2)),50,SEARCH("R3",B26,2)))<50),1,"")))))))))))) | B26: difficultyzy7 | C26: =LEFT(B26,MIN(IF(ISERROR(SEARCH("R1",B26,2)),50,SEARCH("R1",B26,2)),IF(ISERROR(SEARCH("R2",B26,2)),50,SEARCH("R2",B26,2)),IF(ISERROR(SEARCH("R3",B26,2)),50,SEARCH("R3",B26,2)))-1) -> difficultyzy7
A27: =IF(LEFT(C28,3)="B11",11,IF(LEFT(C28,2)="B2",2,IF(LEFT(C28,2)="B3",3,IF(LEFT(C28,2)="B4",4,IF(LEFT(C28,2)="B5",5,IF(LEFT(C28,2)="B6",6,IF(LEFT(C28,2)="B7",7,IF(LEFT(C28,2)="B8",8,IF(LEFT(C28,2)="B9",9,IF(LEFT(C28,3)="B10",10,IF(AND(ROW(C27)<50,LEFT(C28,2)="B1",MIN(IF(ISERROR(SEARCH("R1",B27,2)),50,SEARCH("R1",B27,2)),IF(ISERROR(SEARCH("R2",B27,2)),50,SEARCH("R2",B27,2)),IF(ISERROR(SEARCH("R3",B27,2)),50,SEARCH("R3",B27,2)))<50),1,IF(AND(ROW(C27)<50,LEFT(C29,2)="B1",MIN(IF(ISERROR(SEARCH("R1",B27,2)),50,SEARCH("R1",B27,2)),IF(ISERROR(SEARCH("R2",B27,2)),50,SEARCH("R2",B27,2)),IF(ISERROR(SEARCH("R3",B27,2)),50,SEARCH("R3",B27,2)))<50),1,"")))))))))))) | B27: playersaoR2R3y10 | C27: =LEFT(B27,MIN(IF(ISERROR(SEARCH("R1",B27,2)),50,SEARCH("R1",B27,2)),IF(ISERROR(SEARCH("R2",B27,2)),50,SEARCH("R2",B27,2)),IF(ISERROR(SEARCH("R3",B27,2)),50,SEARCH("R3",B27,2)))-1) -> playersao
A28: =IF(LEFT(C29,3)="B11",11,IF(LEFT(C29,2)="B2",2,IF(LEFT(C29,2)="B3",3,IF(LEFT(C29,2)="B4",4,IF(LEFT(C29,2)="B5",5,IF(LEFT(C29,2)="B6",6,IF(LEFT(C29,2)="B7",7,IF(LEFT(C29,2)="B8",8,IF(LEFT(C29,2)="B9",9,IF(LEFT(C29,3)="B10",10,IF(AND(ROW(C28)<50,LEFT(C29,2)="B1",MIN(IF(ISERROR(SEARCH("R1",B28,2)),50,SEARCH("R1",B28,2)),IF(ISERROR(SEARCH("R2",B28,2)),50,SEARCH("R2",B28,2)),IF(ISERROR(SEARCH("R3",B28,2)),50,SEARCH("R3",B28,2)))<50),1,IF(AND(ROW(C28)<50,LEFT(C30,2)="B1",MIN(IF(ISERROR(SEARCH("R1",B28,2)),50,SEARCH("R1",B28,2)),IF(ISERROR(SEARCH("R2",B28,2)),50,SEARCH("R2",B28,2)),IF(ISERROR(SEARCH("R3",B28,2)),50,SEARCH("R3",B28,2)))<50),1,"")))))))))))) | B28: colorIndexi2y8 | C28: =LEFT(B28,MIN(IF(ISERROR(SEARCH("R1",B28,2)),50,SEARCH("R1",B28,2)),IF(ISERROR(SEARCH("R2",B28,2)),50,SEARCH("R2",B28,2)),IF(ISERROR(SEARCH("R3",B28,2)),50,SEARCH("R3",B28,2)))-1) -> colorIndexi2y8
A29: =IF(LEFT(C30,3)="B11",11,IF(LEFT(C30,2)="B2",2,IF(LEFT(C30,2)="B3",3,IF(LEFT(C30,2)="B4",4,IF(LEFT(C30,2)="B5",5,IF(LEFT(C30,2)="B6",6,IF(LEFT(C30,2)="B7",7,IF(LEFT(C30,2)="B8",8,IF(LEFT(C30,2)="B9",9,IF(LEFT(C30,3)="B10",10,IF(AND(ROW(C29)<50,LEFT(C30,2)="B1",MIN(IF(ISERROR(SEARCH("R1",B29,2)),50,SEARCH("R1",B29,2)),IF(ISERROR(SEARCH("R2",B29,2)),50,SEARCH("R2",B29,2)),IF(ISERROR(SEARCH("R3",B29,2)),50,SEARCH("R3",B29,2)))<50),1,IF(AND(ROW(C29)<50,LEFT(C31,2)="B1",MIN(IF(ISERROR(SEARCH("R1",B29,2)),50,SEARCH("R1",B29,2)),IF(ISERROR(SEARCH("R2",B29,2)),50,SEARCH("R2",B29,2)),IF(ISERROR(SEARCH("R3",B29,2)),50,SEARCH("R3",B29,2)))<50),1,"")))))))))))) | B29: isLeaderty4 | C29: =LEFT(B29,MIN(IF(ISERROR(SEARCH("R1",B29,2)),50,SEARCH("R1",B29,2)),IF(ISERROR(SEARCH("R2",B29,2)),50,SEARCH("R2",B29,2)),IF(ISERROR(SEARCH("R3",B29,2)),50,SEARCH("R3",B29,2)))-1) -> isLeaderty4
A30: =IF(LEFT(C31,3)="B11",11,IF(LEFT(C31,2)="B2",2,IF(LEFT(C31,2)="B3",3,IF(LEFT(C31,2)="B4",4,IF(LEFT(C31,2)="B5",5,IF(LEFT(C31,2)="B6",6,IF(LEFT(C31,2)="B7",7,IF(LEFT(C31,2)="B8",8,IF(LEFT(C31,2)="B9",9,IF(LEFT(C31,3)="B10",10,IF(AND(ROW(C30)<50,LEFT(C31,2)="B1",MIN(IF(ISERROR(SEARCH("R1",B30,2)),50,SEARCH("R1",B30,2)),IF(ISERROR(SEARCH("R2",B30,2)),50,SEARCH("R2",B30,2)),IF(ISERROR(SEARCH("R3",B30,2)),50,SEARCH("R3",B30,2)))<50),1,IF(AND(ROW(C30)<50,LEFT(C32,2)="B1",MIN(IF(ISERROR(SEARCH("R1",B30,2)),50,SEARCH("R1",B30,2)),IF(ISERROR(SEARCH("R2",B30,2)),50,SEARCH("R2",B30,2)),IF(ISERROR(SEARCH("R3",B30,2)),50,SEARCH("R3",B30,2)))<50),1,"")))))))))))) | B30: namey10 | C30: =LEFT(B30,MIN(IF(ISERROR(SEARCH("R1",B30,2)),50,SEARCH("R1",B30,2)),IF(ISERROR(SEARCH("R2",B30,2)),50,SEARCH("R2",B30,2)),IF(ISERROR(SEARCH("R3",B30,2)),50,SEARCH("R3",B30,2)))-1) -> namey10
A31: =IF(LEFT(C32,3)="B11",11,IF(LEFT(C32,2)="B2",2,IF(LEFT(C32,2)="B3",3,IF(LEFT(C32,2)="B4",4,IF(LEFT(C32,2)="B5",5,IF(LEFT(C32,2)="B6",6,IF(LEFT(C32,2)="B7",7,IF(LEFT(C32,2)="B8",8,IF(LEFT(C32,2)="B9",9,IF(LEFT(C32,3)="B10",10,IF(AND(ROW(C31)<50,LEFT(C32,2)="B1",MIN(IF(ISERROR(SEARCH("R1",B31,2)),50,SEARCH("R1",B31,2)),IF(ISERROR(SEARCH("R2",B31,2)),50,SEARCH("R2",B31,2)),IF(ISERROR(SEARCH("R3",B31,2)),50,SEARCH("R3",B31,2)))<50),1,IF(AND(ROW(C31)<50,LEFT(C33,2)="B1",MIN(IF(ISERROR(SEARCH("R1",B31,2)),50,SEARCH("R1",B31,2)),IF(ISERROR(SEARCH("R2",B31,2)),50,SEARCH("R2",B31,2)),IF(ISERROR(SEARCH("R3",B31,2)),50,SEARCH("R3",B31,2)))<50),1,"")))))))))))) | B31: LegionOfMey3 | C31: =LEFT(B31,MIN(IF(ISERROR(SEARCH("R1",B31,2)),50,SEARCH("R1",B31,2)),IF(ISERROR(SEARCH("R2",B31,2)),50,SEARCH("R2",B31,2)),IF(ISERROR(SEARCH("R3",B31,2)),50,SEARCH("R3",B31,2)))-1) -> LegionOfMey3
A32: =IF(LEFT(C33,3)="B11",11,IF(LEFT(C33,2)="B2",2,IF(LEFT(C33,2)="B3",3,IF(LEFT(C33,2)="B4",4,IF(LEFT(C33,2)="B5",5,IF(LEFT(C33,2)="B6",6,IF(LEFT(C33,2)="B7",7,IF(LEFT(C33,2)="B8",8,IF(LEFT(C33,2)="B9",9,IF(LEFT(C33,3)="B10",10,IF(AND(ROW(C32)<50,LEFT(C33,2)="B1",MIN(IF(ISERROR(SEARCH("R1",B32,2)),50,SEARCH("R1",B32,2)),IF(ISERROR(SEARCH("R2",B32,2)),50,SEARCH("R2",B32,2)),IF(ISERROR(SEARCH("R3",B32,2)),50,SEARCH("R3",B32,2)))<50),1,IF(AND(ROW(C32)<50,LEFT(C34,2)="B1",MIN(IF(ISERROR(SEARCH("R1",B32,2)),50,SEARCH("R1",B32,2)),IF(ISERROR(SEARCH("R2",B32,2)),50,SEARCH("R2",B32,2)),IF(ISERROR(SEARCH("R3",B32,2)),50,SEARCH("R3",B32,2)))<50),1,"")))))))))))) | B32: uidy9 | C32: =LEFT(B32,MIN(IF(ISERROR(SEARCH("R1",B32,2)),50,SEARCH("R1",B32,2)),IF(ISERROR(SEARCH("R2",B32,2)),50,SEARCH("R2",B32,2)),IF(ISERROR(SEARCH("R3",B32,2)),50,SEARCH("R3",B32,2)))-1) -> uidy9
A33: =IF(LEFT(C34,3)="B11",11,IF(LEFT(C34,2)="B2",2,IF(LEFT(C34,2)="B3",3,IF(LEFT(C34,2)="B4",4,IF(LEFT(C34,2)="B5",5,IF(LEFT(C34,2)="B6",6,IF(LEFT(C34,2)="B7",7,IF(LEFT(C34,2)="B8",8,IF(LEFT(C34,2)="B9",9,IF(LEFT(C34,3)="B10",10,IF(AND(ROW(C33)<50,LEFT(C34,2)="B1",MIN(IF(ISERROR(SEARCH("R1",B33,2)),50,SEARCH("R1",B33,2)),IF(ISERROR(SEARCH("R2",B33,2)),50,SEARCH("R2",B33,2)),IF(ISERROR(SEARCH("R3",B33,2)),50,SEARCH("R3",B33,2)))<50),1,IF(AND(ROW(C33)<50,LEFT(C35,2)="B1",MIN(IF(ISERROR(SEARCH("R1",B33,2)),50,SEARCH("R1",B33,2)),IF(ISERROR(SEARCH("R2",B33,2)),50,SEARCH("R2",B33,2)),IF(ISERROR(SEARCH("R3",B33,2)),50,SEARCH("R3",B33,2)))<50),1,"")))))))))))) | B33: Sa462650fghy3 | C33: =LEFT(B33,MIN(IF(ISERROR(SEARCH("R1",B33,2)),50,SEARCH("R1",B33,2)),IF(ISERROR(SEARCH("R2",B33,2)),50,SEARCH("R2",B33,2)),IF(ISERROR(SEARCH("R3",B33,2)),50,SEARCH("R3",B33,2)))-1) -> Sa462650fghy3
... A104: =IF(LEFT(C105,3)="B11",11,IF(LEFT(C105,2)="B2",2,IF(LEFT(C105,2)="B3",3,IF(LEFT(C105,2)="B4",4,IF(LEFT(C105,2)="B5",5,IF(LEFT(C105,2)="B6",6,IF(LEFT(C105,2)="B7",7,IF(LEFT(C105,2)="B8",8,IF(LEFT(C105,2)="B9",9,IF(LEFT(C105,3)="B10",10,IF(AND(ROW(C104)<50,LEFT(C105,2)="B1",MIN(IF(ISERROR(SEARCH("R1",B104,2)),50,SEARCH("R1",B104,2)),IF(ISERROR(SEARCH("R2",B104,2)),50,SEARCH("R2",B104,2)),IF(ISERROR(SEARCH("R3",B104,2)),50,SEARCH("R3",B104,2)))<50),1,IF(AND(ROW(C104)<50,LEFT(C106,2)="B1",MIN(IF(ISERROR(SEARCH("R1",B104,2)),50,SEARCH("R1",B104,2)),IF(ISERROR(SEARCH("R2",B104,2)),50,SEARCH("R2",B104,2)),IF(ISERROR(SEARCH("R3",B104,2)),50,SEARCH("R3",B104,2)))<50),1,"")))))))))))) | B104: finishedBattleIdng | C104: =LEFT(B104,MIN(IF(ISERROR(SEARCH("R1",B104,2)),50,SEARCH("R1",B104,2)),IF(ISERROR(SEARCH("R2",B104,2)),50,SEARCH("R2",B104,2)),IF(ISERROR(SEARCH("R3",B104,2)),50,SEARCH("R3",B104,2)))-1) -> finishedBattleIdng
A105: =IF(LEFT(C106,3)="B11",11,IF(LEFT(C106,2)="B2",2,IF(LEFT(C106,2)="B3",3,IF(LEFT(C106,2)="B4",4,IF(LEFT(C106,2)="B5",5,IF(LEFT(C106,2)="B6",6,IF(LEFT(C106,2)="B7",7,IF(LEFT(C106,2)="B8",8,IF(LEFT(C106,2)="B9",9,IF(LEFT(C106,3)="B10",10,IF(AND(ROW(C105)<50,LEFT(C106,2)="B1",MIN(IF(ISERROR(SEARCH("R1",B105,2)),50,SEARCH("R1",B105,2)),IF(ISERROR(SEARCH("R2",B105,2)),50,SEARCH("R2",B105,2)),IF(ISERROR(SEARCH("R3",B105,2)),50,SEARCH("R3",B105,2)))<50),1,IF(AND(ROW(C105)<50,LEFT(C107,2)="B1",MIN(IF(ISERROR(SEARCH("R1",B105,2)),50,SEARCH("R1",B105,2)),IF(ISERROR(SEARCH("R2",B105,2)),50,SEARCH("R2",B105,2)),IF(ISERROR(SEARCH("R3",B105,2)),50,SEARCH("R3",B105,2)))<50),1,"")))))))))))) | C105: =LEFT(B105,MIN(IF(ISERROR(SEARCH("R1",B105,2)),50,SEARCH("R1",B105,2)),IF(ISERROR(SEARCH("R2",B105,2)),50,SEARCH("R2",B105,2)),IF(ISERROR(SEARCH("R3",B105,2)),50,SEARCH("R3",B105,2)))-1)
A106: =IF(LEFT(C107,3)="B11",11,IF(LEFT(C107,2)="B2",2,IF(LEFT(C107,2)="B3",3,IF(LEFT(C107,2)="B4",4,IF(LEFT(C107,2)="B5",5,IF(LEFT(C107,2)="B6",6,IF(LEFT(C107,2)="B7",7,IF(LEFT(C107,2)="B8",8,IF(LEFT(C107,2)="B9",9,IF(LEFT(C107,3)="B10",10,IF(AND(ROW(C106)<50,LEFT(C107,2)="B1",MIN(IF(ISERROR(SEARCH("R1",B106,2)),50,SEARCH("R1",B106,2)),IF(ISERROR(SEARCH("R2",B106,2)),50,SEARCH("R2",B106,2)),IF(ISERROR(SEARCH("R3",B106,2)),50,SEARCH("R3",B106,2)))<50),1,IF(AND(ROW(C106)<50,LEFT(C108,2)="B1",MIN(IF(ISERROR(SEARCH("R1",B106,2)),50,SEARCH("R1",B106,2)),IF(ISERROR(SEARCH("R2",B106,2)),50,SEARCH("R2",B106,2)),IF(ISERROR(SEARCH("R3",B106,2)),50,SEARCH("R3",B106,2)))<50),1,"")))))))))))) | C106: =LEFT(B106,MIN(IF(ISERROR(SEARCH("R1",B106,2)),50,SEARCH("R1",B106,2)),IF(ISERROR(SEARCH("R2",B106,2)),50,SEARCH("R2",B106,2)),IF(ISERROR(SEARCH("R3",B106,2)),50,SEARCH("R3",B106,2)))-1)
A107: =IF(LEFT(C108,3)="B11",11,IF(LEFT(C108,2)="B2",2,IF(LEFT(C108,2)="B3",3,IF(LEFT(C108,2)="B4",4,IF(LEFT(C108,2)="B5",5,IF(LEFT(C108,2)="B6",6,IF(LEFT(C108,2)="B7",7,IF(LEFT(C108,2)="B8",8,IF(LEFT(C108,2)="B9",9,IF(LEFT(C108,3)="B10",10,IF(AND(ROW(C107)<50,LEFT(C108,2)="B1",MIN(IF(ISERROR(SEARCH("R1",B107,2)),50,SEARCH("R1",B107,2)),IF(ISERROR(SEARCH("R2",B107,2)),50,SEARCH("R2",B107,2)),IF(ISERROR(SEARCH("R3",B107,2)),50,SEARCH("R3",B107,2)))<50),1,IF(AND(ROW(C107)<50,LEFT(C109,2)="B1",MIN(IF(ISERROR(SEARCH("R1",B107,2)),50,SEARCH("R1",B107,2)),IF(ISERROR(SEARCH("R2",B107,2)),50,SEARCH("R2",B107,2)),IF(ISERROR(SEARCH("R3",B107,2)),50,SEARCH("R3",B107,2)))<50),1,"")))))))))))) | C107: =LEFT(B107,MIN(IF(ISERROR(SEARCH("R1",B107,2)),50,SEARCH("R1",B107,2)),IF(ISERROR(SEARCH("R2",B107,2)),50,SEARCH("R2",B107,2)),IF(ISERROR(SEARCH("R3",B107,2)),50,SEARCH("R3",B107,2)))-1)
A108: =IF(LEFT(C109,3)="B11",11,IF(LEFT(C109,2)="B2",2,IF(LEFT(C109,2)="B3",3,IF(LEFT(C109,2)="B4",4,IF(LEFT(C109,2)="B5",5,IF(LEFT(C109,2)="B6",6,IF(LEFT(C109,2)="B7",7,IF(LEFT(C109,2)="B8",8,IF(LEFT(C109,2)="B9",9,IF(LEFT(C109,3)="B10",10,IF(AND(ROW(C108)<50,LEFT(C109,2)="B1",MIN(IF(ISERROR(SEARCH("R1",B108,2)),50,SEARCH("R1",B108,2)),IF(ISERROR(SEARCH("R2",B108,2)),50,SEARCH("R2",B108,2)),IF(ISERROR(SEARCH("R3",B108,2)),50,SEARCH("R3",B108,2)))<50),1,IF(AND(ROW(C108)<50,LEFT(C110,2)="B1",MIN(IF(ISERROR(SEARCH("R1",B108,2)),50,SEARCH("R1",B108,2)),IF(ISERROR(SEARCH("R2",B108,2)),50,SEARCH("R2",B108,2)),IF(ISERROR(SEARCH("R3",B108,2)),50,SEARCH("R3",B108,2)))<50),1,"")))))))))))) | C108: =LEFT(B108,MIN(IF(ISERROR(SEARCH("R1",B108,2)),50,SEARCH("R1",B108,2)),IF(ISERROR(SEARCH("R2",B108,2)),50,SEARCH("R2",B108,2)),IF(ISERROR(SEARCH("R3",B108,2)),50,SEARCH("R3",B108,2)))-1)
A109: =IF(LEFT(C110,3)="B11",11,IF(LEFT(C110,2)="B2",2,IF(LEFT(C110,2)="B3",3,IF(LEFT(C110,2)="B4",4,IF(LEFT(C110,2)="B5",5,IF(LEFT(C110,2)="B6",6,IF(LEFT(C110,2)="B7",7,IF(LEFT(C110,2)="B8",8,IF(LEFT(C110,2)="B9",9,IF(LEFT(C110,3)="B10",10,IF(AND(ROW(C109)<50,LEFT(C110,2)="B1",MIN(IF(ISERROR(SEARCH("R1",B109,2)),50,SEARCH("R1",B109,2)),IF(ISERROR(SEARCH("R2",B109,2)),50,SEARCH("R2",B109,2)),IF(ISERROR(SEARCH("R3",B109,2)),50,SEARCH("R3",B109,2)))<50),1,IF(AND(ROW(C109)<50,LEFT(C111,2)="B1",MIN(IF(ISERROR(SEARCH("R1",B109,2)),50,SEARCH("R1",B109,2)),IF(ISERROR(SEARCH("R2",B109,2)),50,SEARCH("R2",B109,2)),IF(ISERROR(SEARCH("R3",B109,2)),50,SEARCH("R3",B109,2)))<50),1,"")))))))))))) | C109: =LEFT(B109,MIN(IF(ISERROR(SEARCH("R1",B109,2)),50,SEARCH("R1",B109,2)),IF(ISERROR(SEARCH("R2",B109,2)),50,SEARCH("R2",B109,2)),IF(ISERROR(SEARCH("R3",B109,2)),50,SEARCH("R3",B109,2)))-1)
A110: =IF(LEFT(C111,3)="B11",11,IF(LEFT(C111,2)="B2",2,IF(LEFT(C111,2)="B3",3,IF(LEFT(C111,2)="B4",4,IF(LEFT(C111,2)="B5",5,IF(LEFT(C111,2)="B6",6,IF(LEFT(C111,2)="B7",7,IF(LEFT(C111,2)="B8",8,IF(LEFT(C111,2)="B9",9,IF(LEFT(C111,3)="B10",10,IF(AND(ROW(C110)<50,LEFT(C111,2)="B1",MIN(IF(ISERROR(SEARCH("R1",B110,2)),50,SEARCH("R1",B110,2)),IF(ISERROR(SEARCH("R2",B110,2)),50,SEARCH("R2",B110,2)),IF(ISERROR(SEARCH("R3",B110,2)),50,SEARCH("R3",B110,2)))<50),1,IF(AND(ROW(C110)<50,LEFT(C112,2)="B1",MIN(IF(ISERROR(SEARCH("R1",B110,2)),50,SEARCH("R1",B110,2)),IF(ISERROR(SEARCH("R2",B110,2)),50,SEARCH("R2",B110,2)),IF(ISERROR(SEARCH("R3",B110,2)),50,SEARCH("R3",B110,2)))<50),1,"")))))))))))) | C110: =LEFT(B110,MIN(IF(ISERROR(SEARCH("R1",B110,2)),50,SEARCH("R1",B110,2)),IF(ISERROR(SEARCH("R2",B110,2)),50,SEARCH("R2",B110,2)),IF(ISERROR(SEARCH("R3",B110,2)),50,SEARCH("R3",B110,2)))-1)
A111: =IF(LEFT(C112,3)="B11",11,IF(LEFT(C112,2)="B2",2,IF(LEFT(C112,2)="B3",3,IF(LEFT(C112,2)="B4",4,IF(LEFT(C112,2)="B5",5,IF(LEFT(C112,2)="B6",6,IF(LEFT(C112,2)="B7",7,IF(LEFT(C112,2)="B8",8,IF(LEFT(C112,2)="B9",9,IF(LEFT(C112,3)="B10",10,IF(AND(ROW(C111)<50,LEFT(C112,2)="B1",MIN(IF(ISERROR(SEARCH("R1",B111,2)),50,SEARCH("R1",B111,2)),IF(ISERROR(SEARCH("R2",B111,2)),50,SEARCH("R2",B111,2)),IF(ISERROR(SEARCH("R3",B111,2)),50,SEARCH("R3",B111,2)))<50),1,IF(AND(ROW(C111)<50,LEFT(C113,2)="B1",MIN(IF(ISERROR(SEARCH("R1",B111,2)),50,SEARCH("R1",B111,2)),IF(ISERROR(SEARCH("R2",B111,2)),50,SEARCH("R2",B111,2)),IF(ISERROR(SEARCH("R3",B111,2)),50,SEARCH("R3",B111,2)))<50),1,"")))))))))))) | C111: =LEFT(B111,MIN(IF(ISERROR(SEARCH("R1",B111,2)),50,SEARCH("R1",B111,2)),IF(ISERROR(SEARCH("R2",B111,2)),50,SEARCH("R2",B111,2)),IF(ISERROR(SEARCH("R3",B111,2)),50,SEARCH("R3",B111,2)))-1)
A112: =IF(LEFT(C113,3)="B11",11,IF(LEFT(C113,2)="B2",2,IF(LEFT(C113,2)="B3",3,IF(LEFT(C113,2)="B4",4,IF(LEFT(C113,2)="B5",5,IF(LEFT(C113,2)="B6",6,IF(LEFT(C113,2)="B7",7,IF(LEFT(C113,2)="B8",8,IF(LEFT(C113,2)="B9",9,IF(LEFT(C113,3)="B10",10,IF(AND(ROW(C112)<50,LEFT(C113,2)="B1",MIN(IF(ISERROR(SEARCH("R1",B112,2)),50,SEARCH("R1",B112,2)),IF(ISERROR(SEARCH("R2",B112,2)),50,SEARCH("R2",B112,2)),IF(ISERROR(SEARCH("R3",B112,2)),50,SEARCH("R3",B112,2)))<50),1,IF(AND(ROW(C112)<50,LEFT(C114,2)="B1",MIN(IF(ISERROR(SEARCH("R1",B112,2)),50,SEARCH("R1",B112,2)),IF(ISERROR(SEARCH("R2",B112,2)),50,SEARCH("R2",B112,2)),IF(ISERROR(SEARCH("R3",B112,2)),50,SEARCH("R3",B112,2)))<50),1,"")))))))))))) | C112: =LEFT(B112,MIN(IF(ISERROR(SEARCH("R1",B112,2)),50,SEARCH("R1",B112,2)),IF(ISERROR(SEARCH("R2",B112,2)),50,SEARCH("R2",B112,2)),IF(ISERROR(SEARCH("R3",B112,2)),50,SEARCH("R3",B112,2)))-1)
A113: =IF(LEFT(C114,3)="B11",11,IF(LEFT(C114,2)="B2",2,IF(LEFT(C114,2)="B3",3,IF(LEFT(C114,2)="B4",4,IF(LEFT(C114,2)="B5",5,IF(LEFT(C114,2)="B6",6,IF(LEFT(C114,2)="B7",7,IF(LEFT(C114,2)="B8",8,IF(LEFT(C114,2)="B9",9,IF(LEFT(C114,3)="B10",10,IF(AND(ROW(C113)<50,LEFT(C114,2)="B1",MIN(IF(ISERROR(SEARCH("R1",B113,2)),50,SEARCH("R1",B113,2)),IF(ISERROR(SEARCH("R2",B113,2)),50,SEARCH("R2",B113,2)),IF(ISERROR(SEARCH("R3",B113,2)),50,SEARCH("R3",B113,2)))<50),1,IF(AND(ROW(C113)<50,LEFT(C115,2)="B1",MIN(IF(ISERROR(SEARCH("R1",B113,2)),50,SEARCH("R1",B113,2)),IF(ISERROR(SEARCH("R2",B113,2)),50,SEARCH("R2",B113,2)),IF(ISERROR(SEARCH("R3",B113,2)),50,SEARCH("R3",B113,2)))<50),1,"")))))))))))) | C113: =LEFT(B113,MIN(IF(ISERROR(SEARCH("R1",B113,2)),50,SEARCH("R1",B113,2)),IF(ISERROR(SEARCH("R2",B113,2)),50,SEARCH("R2",B113,2)),IF(ISERROR(SEARCH("R3",B113,2)),50,SEARCH("R3",B113,2)))-1)
A114: =IF(LEFT(C115,3)="B11",11,IF(LEFT(C115,2)="B2",2,IF(LEFT(C115,2)="B3",3,IF(LEFT(C115,2)="B4",4,IF(LEFT(C115,2)="B5",5,IF(LEFT(C115,2)="B6",6,IF(LEFT(C115,2)="B7",7,IF(LEFT(C115,2)="B8",8,IF(LEFT(C115,2)="B9",9,IF(LEFT(C115,3)="B10",10,IF(AND(ROW(C114)<50,LEFT(C115,2)="B1",MIN(IF(ISERROR(SEARCH("R1",B114,2)),50,SEARCH("R1",B114,2)),IF(ISERROR(SEARCH("R2",B114,2)),50,SEARCH("R2",B114,2)),IF(ISERROR(SEARCH("R3",B114,2)),50,SEARCH("R3",B114,2)))<50),1,IF(AND(ROW(C114)<50,LEFT(C116,2)="B1",MIN(IF(ISERROR(SEARCH("R1",B114,2)),50,SEARCH("R1",B114,2)),IF(ISERROR(SEARCH("R2",B114,2)),50,SEARCH("R2",B114,2)),IF(ISERROR(SEARCH("R3",B114,2)),50,SEARCH("R3",B114,2)))<50),1,"")))))))))))) | C114: =LEFT(B114,MIN(IF(ISERROR(SEARCH("R1",B114,2)),50,SEARCH("R1",B114,2)),IF(ISERROR(SEARCH("R2",B114,2)),50,SEARCH("R2",B114,2)),IF(ISERROR(SEARCH("R3",B114,2)),50,SEARCH("R3",B114,2)))-1)
A115: =IF(LEFT(C116,3)="B11",11,IF(LEFT(C116,2)="B2",2,IF(LEFT(C116,2)="B3",3,IF(LEFT(C116,2)="B4",4,IF(LEFT(C116,2)="B5",5,IF(LEFT(C116,2)="B6",6,IF(LEFT(C116,2)="B7",7,IF(LEFT(C116,2)="B8",8,IF(LEFT(C116,2)="B9",9,IF(LEFT(C116,3)="B10",10,IF(AND(ROW(C115)<50,LEFT(C116,2)="B1",MIN(IF(ISERROR(SEARCH("R1",B115,2)),50,SEARCH("R1",B115,2)),IF(ISERROR(SEARCH("R2",B115,2)),50,SEARCH("R2",B115,2)),IF(ISERROR(SEARCH("R3",B115,2)),50,SEARCH("R3",B115,2)))<50),1,IF(AND(ROW(C115)<50,LEFT(C117,2)="B1",MIN(IF(ISERROR(SEARCH("R1",B115,2)),50,SEARCH("R1",B115,2)),IF(ISERROR(SEARCH("R2",B115,2)),50,SEARCH("R2",B115,2)),IF(ISERROR(SEARCH("R3",B115,2)),50,SEARCH("R3",B115,2)))<50),1,"")))))))))))) | C115: =LEFT(B115,MIN(IF(ISERROR(SEARCH("R1",B115,2)),50,SEARCH("R1",B115,2)),IF(ISERROR(SEARCH("R2",B115,2)),50,SEARCH("R2",B115,2)),IF(ISERROR(SEARCH("R3",B115,2)),50,SEARCH("R3",B115,2)))-1)
A116: =IF(LEFT(C117,3)="B11",11,IF(LEFT(C117,2)="B2",2,IF(LEFT(C117,2)="B3",3,IF(LEFT(C117,2)="B4",4,IF(LEFT(C117,2)="B5",5,IF(LEFT(C117,2)="B6",6,IF(LEFT(C117,2)="B7",7,IF(LEFT(C117,2)="B8",8,IF(LEFT(C117,2)="B9",9,IF(LEFT(C117,3)="B10",10,IF(AND(ROW(C116)<50,LEFT(C117,2)="B1",MIN(IF(ISERROR(SEARCH("R1",B116,2)),50,SEARCH("R1",B116,2)),IF(ISERROR(SEARCH("R2",B116,2)),50,SEARCH("R2",B116,2)),IF(ISERROR(SEARCH("R3",B116,2)),50,SEARCH("R3",B116,2)))<50),1,IF(AND(ROW(C116)<50,LEFT(C118,2)="B1",MIN(IF(ISERROR(SEARCH("R1",B116,2)),50,SEARCH("R1",B116,2)),IF(ISERROR(SEARCH("R2",B116,2)),50,SEARCH("R2",B116,2)),IF(ISERROR(SEARCH("R3",B116,2)),50,SEARCH("R3",B116,2)))<50),1,"")))))))))))) | C116: =LEFT(B116,MIN(IF(ISERROR(SEARCH("R1",B116,2)),50,SEARCH("R1",B116,2)),IF(ISERROR(SEARCH("R2",B116,2)),50,SEARCH("R2",B116,2)),IF(ISERROR(SEARCH("R3",B116,2)),50,SEARCH("R3",B116,2)))-1)
... A155: =IF(LEFT(C156,3)="B11",11,IF(LEFT(C156,2)="B2",2,IF(LEFT(C156,2)="B3",3,IF(LEFT(C156,2)="B4",4,IF(LEFT(C156,2)="B5",5,IF(LEFT(C156,2)="B6",6,IF(LEFT(C156,2)="B7",7,IF(LEFT(C156,2)="B8",8,IF(LEFT(C156,2)="B9",9,IF(LEFT(C156,3)="B10",10,IF(AND(ROW(C155)<50,LEFT(C156,2)="B1",MIN(IF(ISERROR(SEARCH("R1",B155,2)),50,SEARCH("R1",B155,2)),IF(ISERROR(SEARCH("R2",B155,2)),50,SEARCH("R2",B155,2)),IF(ISERROR(SEARCH("R3",B155,2)),50,SEARCH("R3",B155,2)))<50),1,IF(AND(ROW(C155)<50,LEFT(C157,2)="B1",MIN(IF(ISERROR(SEARCH("R1",B155,2)),50,SEARCH("R1",B155,2)),IF(ISERROR(SEARCH("R2",B155,2)),50,SEARCH("R2",B155,2)),IF(ISERROR(SEARCH("R3",B155,2)),50,SEARCH("R3",B155,2)))<50),1,"")))))))))))) | C155: =LEFT(B155,MIN(IF(ISERROR(SEARCH("R1",B155,2)),50,SEARCH("R1",B155,2)),IF(ISERROR(SEARCH("R2",B155,2)),50,SEARCH("R2",B155,2)),IF(ISERROR(SEARCH("R3",B155,2)),50,SEARCH("R3",B155,2)))-1)
A156: =IF(LEFT(C157,3)="B11",11,IF(LEFT(C157,2)="B2",2,IF(LEFT(C157,2)="B3",3,IF(LEFT(C157,2)="B4",4,IF(LEFT(C157,2)="B5",5,IF(LEFT(C157,2)="B6",6,IF(LEFT(C157,2)="B7",7,IF(LEFT(C157,2)="B8",8,IF(LEFT(C157,2)="B9",9,IF(LEFT(C157,3)="B10",10,IF(AND(ROW(C156)<50,LEFT(C157,2)="B1",MIN(IF(ISERROR(SEARCH("R1",B156,2)),50,SEARCH("R1",B156,2)),IF(ISERROR(SEARCH("R2",B156,2)),50,SEARCH("R2",B156,2)),IF(ISERROR(SEARCH("R3",B156,2)),50,SEARCH("R3",B156,2)))<50),1,IF(AND(ROW(C156)<50,LEFT(C158,2)="B1",MIN(IF(ISERROR(SEARCH("R1",B156,2)),50,SEARCH("R1",B156,2)),IF(ISERROR(SEARCH("R2",B156,2)),50,SEARCH("R2",B156,2)),IF(ISERROR(SEARCH("R3",B156,2)),50,SEARCH("R3",B156,2)))<50),1,"")))))))))))) | C156: =LEFT(B156,MIN(IF(ISERROR(SEARCH("R1",B156,2)),50,SEARCH("R1",B156,2)),IF(ISERROR(SEARCH("R2",B156,2)),50,SEARCH("R2",B156,2)),IF(ISERROR(SEARCH("R3",B156,2)),50,SEARCH("R3",B156,2)))-1) | E156: =IF(COUNTIF(C156,"*"&"R2"&"*"),LEFT(C156,FIND("R3",C156)-1),IF(COUNTIF(C156,"*"&"R3"&"*"),LEFT(C156,FIND("R2",C156)-1),IF(COUNTIF(C156,"*"&"R1"&"*"),LEFT(C156,FIND("R1",C156)-1),C156)))
A157: =IF(LEFT(C158,3)="B11",11,IF(LEFT(C158,2)="B2",2,IF(LEFT(C158,2)="B3",3,IF(LEFT(C158,2)="B4",4,IF(LEFT(C158,2)="B5",5,IF(LEFT(C158,2)="B6",6,IF(LEFT(C158,2)="B7",7,IF(LEFT(C158,2)="B8",8,IF(LEFT(C158,2)="B9",9,IF(LEFT(C158,3)="B10",10,IF(AND(ROW(C157)<50,LEFT(C158,2)="B1",MIN(IF(ISERROR(SEARCH("R1",B157,2)),50,SEARCH("R1",B157,2)),IF(ISERROR(SEARCH("R2",B157,2)),50,SEARCH("R2",B157,2)),IF(ISERROR(SEARCH("R3",B157,2)),50,SEARCH("R3",B157,2)))<50),1,IF(AND(ROW(C157)<50,LEFT(C159,2)="B1",MIN(IF(ISERROR(SEARCH("R1",B157,2)),50,SEARCH("R1",B157,2)),IF(ISERROR(SEARCH("R2",B157,2)),50,SEARCH("R2",B157,2)),IF(ISERROR(SEARCH("R3",B157,2)),50,SEARCH("R3",B157,2)))<50),1,"")))))))))))) | C157: =LEFT(B157,MIN(IF(ISERROR(SEARCH("R1",B157,2)),50,SEARCH("R1",B157,2)),IF(ISERROR(SEARCH("R2",B157,2)),50,SEARCH("R2",B157,2)),IF(ISERROR(SEARCH("R3",B157,2)),50,SEARCH("R3",B157,2)))-1) | E157: =IF(COUNTIF(C157,"*"&"R2"&"*"),LEFT(C157,FIND("R3",C157)-1),IF(COUNTIF(C157,"*"&"R3"&"*"),LEFT(C157,FIND("R2",C157)-1),IF(COUNTIF(C157,"*"&"R1"&"*"),LEFT(C157,FIND("R1",C157)-1),C157)))
A158: =IF(LEFT(C159,3)="B11",11,IF(LEFT(C159,2)="B2",2,IF(LEFT(C159,2)="B3",3,IF(LEFT(C159,2)="B4",4,IF(LEFT(C159,2)="B5",5,IF(LEFT(C159,2)="B6",6,IF(LEFT(C159,2)="B7",7,IF(LEFT(C159,2)="B8",8,IF(LEFT(C159,2)="B9",9,IF(LEFT(C159,3)="B10",10,IF(AND(ROW(C158)<50,LEFT(C159,2)="B1",MIN(IF(ISERROR(SEARCH("R1",B158,2)),50,SEARCH("R1",B158,2)),IF(ISERROR(SEARCH("R2",B158,2)),50,SEARCH("R2",B158,2)),IF(ISERROR(SEARCH("R3",B158,2)),50,SEARCH("R3",B158,2)))<50),1,IF(AND(ROW(C158)<50,LEFT(C160,2)="B1",MIN(IF(ISERROR(SEARCH("R1",B158,2)),50,SEARCH("R1",B158,2)),IF(ISERROR(SEARCH("R2",B158,2)),50,SEARCH("R2",B158,2)),IF(ISERROR(SEARCH("R3",B158,2)),50,SEARCH("R3",B158,2)))<50),1,"")))))))))))) | C158: =LEFT(B158,MIN(IF(ISERROR(SEARCH("R1",B158,2)),50,SEARCH("R1",B158,2)),IF(ISERROR(SEARCH("R2",B158,2)),50,SEARCH("R2",B158,2)),IF(ISERROR(SEARCH("R3",B158,2)),50,SEARCH("R3",B158,2)))-1) | E158: =IF(COUNTIF(C158,"*"&"R2"&"*"),LEFT(C158,FIND("R3",C158)-1),IF(COUNTIF(C158,"*"&"R3"&"*"),LEFT(C158,FIND("R2",C158)-1),IF(COUNTIF(C158,"*"&"R1"&"*"),LEFT(C158,FIND("R1",C158)-1),C158)))
A159: =IF(LEFT(C160,3)="B11",11,IF(LEFT(C160,2)="B2",2,IF(LEFT(C160,2)="B3",3,IF(LEFT(C160,2)="B4",4,IF(LEFT(C160,2)="B5",5,IF(LEFT(C160,2)="B6",6,IF(LEFT(C160,2)="B7",7,IF(LEFT(C160,2)="B8",8,IF(LEFT(C160,2)="B9",9,IF(LEFT(C160,3)="B10",10,IF(AND(ROW(C159)<50,LEFT(C160,2)="B1",MIN(IF(ISERROR(SEARCH("R1",B159,2)),50,SEARCH("R1",B159,2)),IF(ISERROR(SEARCH("R2",B159,2)),50,SEARCH("R2",B159,2)),IF(ISERROR(SEARCH("R3",B159,2)),50,SEARCH("R3",B159,2)))<50),1,IF(AND(ROW(C159)<50,LEFT(C161,2)="B1",MIN(IF(ISERROR(SEARCH("R1",B159,2)),50,SEARCH("R1",B159,2)),IF(ISERROR(SEARCH("R2",B159,2)),50,SEARCH("R2",B159,2)),IF(ISERROR(SEARCH("R3",B159,2)),50,SEARCH("R3",B159,2)))<50),1,"")))))))))))) | C159: =LEFT(B159,MIN(IF(ISERROR(SEARCH("R1",B159,2)),50,SEARCH("R1",B159,2)),IF(ISERROR(SEARCH("R2",B159,2)),50,SEARCH("R2",B159,2)),IF(ISERROR(SEARCH("R3",B159,2)),50,SEARCH("R3",B159,2)))-1) | E159: =IF(COUNTIF(C159,"*"&"R2"&"*"),LEFT(C159,FIND("R3",C159)-1),IF(COUNTIF(C159,"*"&"R3"&"*"),LEFT(C159,FIND("R2",C159)-1),IF(COUNTIF(C159,"*"&"R1"&"*"),LEFT(C159,FIND("R1",C159)-1),C159)))
A160: =IF(LEFT(C161,3)="B11",11,IF(LEFT(C161,2)="B2",2,IF(LEFT(C161,2)="B3",3,IF(LEFT(C161,2)="B4",4,IF(LEFT(C161,2)="B5",5,IF(LEFT(C161,2)="B6",6,IF(LEFT(C161,2)="B7",7,IF(LEFT(C161,2)="B8",8,IF(LEFT(C161,2)="B9",9,IF(LEFT(C161,3)="B10",10,IF(AND(ROW(C160)<50,LEFT(C161,2)="B1",MIN(IF(ISERROR(SEARCH("R1",B160,2)),50,SEARCH("R1",B160,2)),IF(ISERROR(SEARCH("R2",B160,2)),50,SEARCH("R2",B160,2)),IF(ISERROR(SEARCH("R3",B160,2)),50,SEARCH("R3",B160,2)))<50),1,IF(AND(ROW(C160)<50,LEFT(C162,2)="B1",MIN(IF(ISERROR(SEARCH("R1",B160,2)),50,SEARCH("R1",B160,2)),IF(ISERROR(SEARCH("R2",B160,2)),50,SEARCH("R2",B160,2)),IF(ISERROR(SEARCH("R3",B160,2)),50,SEARCH("R3",B160,2)))<50),1,"")))))))))))) | C160: =LEFT(B160,MIN(IF(ISERROR(SEARCH("R1",B160,2)),50,SEARCH("R1",B160,2)),IF(ISERROR(SEARCH("R2",B160,2)),50,SEARCH("R2",B160,2)),IF(ISERROR(SEARCH("R3",B160,2)),50,SEARCH("R3",B160,2)))-1) | E160: =IF(COUNTIF(C160,"*"&"R2"&"*"),LEFT(C160,FIND("R3",C160)-1),IF(COUNTIF(C160,"*"&"R3"&"*"),LEFT(C160,FIND("R2",C160)-1),IF(COUNTIF(C160,"*"&"R1"&"*"),LEFT(C160,FIND("R1",C160)-1),C160)))
A161: =IF(LEFT(C162,3)="B11",11,IF(LEFT(C162,2)="B2",2,IF(LEFT(C162,2)="B3",3,IF(LEFT(C162,2)="B4",4,IF(LEFT(C162,2)="B5",5,IF(LEFT(C162,2)="B6",6,IF(LEFT(C162,2)="B7",7,IF(LEFT(C162,2)="B8",8,IF(LEFT(C162,2)="B9",9,IF(LEFT(C162,3)="B10",10,IF(AND(ROW(C161)<50,LEFT(C162,2)="B1",MIN(IF(ISERROR(SEARCH("R1",B161,2)),50,SEARCH("R1",B161,2)),IF(ISERROR(SEARCH("R2",B161,2)),50,SEARCH("R2",B161,2)),IF(ISERROR(SEARCH("R3",B161,2)),50,SEARCH("R3",B161,2)))<50),1,IF(AND(ROW(C161)<50,LEFT(C163,2)="B1",MIN(IF(ISERROR(SEARCH("R1",B161,2)),50,SEARCH("R1",B161,2)),IF(ISERROR(SEARCH("R2",B161,2)),50,SEARCH("R2",B161,2)),IF(ISERROR(SEARCH("R3",B161,2)),50,SEARCH("R3",B161,2)))<50),1,"")))))))))))) | C161: =LEFT(B161,MIN(IF(ISERROR(SEARCH("R1",B161,2)),50,SEARCH("R1",B161,2)),IF(ISERROR(SEARCH("R2",B161,2)),50,SEARCH("R2",B161,2)),IF(ISERROR(SEARCH("R3",B161,2)),50,SEARCH("R3",B161,2)))-1) | E161: =IF(COUNTIF(C161,"*"&"R2"&"*"),LEFT(C161,FIND("R3",C161)-1),IF(COUNTIF(C161,"*"&"R3"&"*"),LEFT(C161,FIND("R2",C161)-1),IF(COUNTIF(C161,"*"&"R1"&"*"),LEFT(C161,FIND("R1",C161)-1),C161)))
A162: =IF(LEFT(C163,3)="B11",11,IF(LEFT(C163,2)="B2",2,IF(LEFT(C163,2)="B3",3,IF(LEFT(C163,2)="B4",4,IF(LEFT(C163,2)="B5",5,IF(LEFT(C163,2)="B6",6,IF(LEFT(C163,2)="B7",7,IF(LEFT(C163,2)="B8",8,IF(LEFT(C163,2)="B9",9,IF(LEFT(C163,3)="B10",10,IF(AND(ROW(C162)<50,LEFT(C163,2)="B1",MIN(IF(ISERROR(SEARCH("R1",B162,2)),50,SEARCH("R1",B162,2)),IF(ISERROR(SEARCH("R2",B162,2)),50,SEARCH("R2",B162,2)),IF(ISERROR(SEARCH("R3",B162,2)),50,SEARCH("R3",B162,2)))<50),1,IF(AND(ROW(C162)<50,LEFT(C164,2)="B1",MIN(IF(ISERROR(SEARCH("R1",B162,2)),50,SEARCH("R1",B162,2)),IF(ISERROR(SEARCH("R2",B162,2)),50,SEARCH("R2",B162,2)),IF(ISERROR(SEARCH("R3",B162,2)),50,SEARCH("R3",B162,2)))<50),1,"")))))))))))) | C162: =LEFT(B162,MIN(IF(ISERROR(SEARCH("R1",B162,2)),50,SEARCH("R1",B162,2)),IF(ISERROR(SEARCH("R2",B162,2)),50,SEARCH("R2",B162,2)),IF(ISERROR(SEARCH("R3",B162,2)),50,SEARCH("R3",B162,2)))-1) | E162: =IF(COUNTIF(C162,"*"&"R2"&"*"),LEFT(C162,FIND("R3",C162)-1),IF(COUNTIF(C162,"*"&"R3"&"*"),LEFT(C162,FIND("R2",C162)-1),IF(COUNTIF(C162,"*"&"R1"&"*"),LEFT(C162,FIND("R1",C162)-1),C162)))
A163: =IF(LEFT(C164,3)="B11",11,IF(LEFT(C164,2)="B2",2,IF(LEFT(C164,2)="B3",3,IF(LEFT(C164,2)="B4",4,IF(LEFT(C164,2)="B5",5,IF(LEFT(C164,2)="B6",6,IF(LEFT(C164,2)="B7",7,IF(LEFT(C164,2)="B8",8,IF(LEFT(C164,2)="B9",9,IF(LEFT(C164,3)="B10",10,IF(AND(ROW(C163)<50,LEFT(C164,2)="B1",MIN(IF(ISERROR(SEARCH("R1",B163,2)),50,SEARCH("R1",B163,2)),IF(ISERROR(SEARCH("R2",B163,2)),50,SEARCH("R2",B163,2)),IF(ISERROR(SEARCH("R3",B163,2)),50,SEARCH("R3",B163,2)))<50),1,IF(AND(ROW(C163)<50,LEFT(C165,2)="B1",MIN(IF(ISERROR(SEARCH("R1",B163,2)),50,SEARCH("R1",B163,2)),IF(ISERROR(SEARCH("R2",B163,2)),50,SEARCH("R2",B163,2)),IF(ISERROR(SEARCH("R3",B163,2)),50,SEARCH("R3",B163,2)))<50),1,"")))))))))))) | C163: =LEFT(B163,MIN(IF(ISERROR(SEARCH("R1",B163,2)),50,SEARCH("R1",B163,2)),IF(ISERROR(SEARCH("R2",B163,2)),50,SEARCH("R2",B163,2)),IF(ISERROR(SEARCH("R3",B163,2)),50,SEARCH("R3",B163,2)))-1) | E163: =IF(COUNTIF(C163,"*"&"R2"&"*"),LEFT(C163,FIND("R3",C163)-1),IF(COUNTIF(C163,"*"&"R3"&"*"),LEFT(C163,FIND("R2",C163)-1),IF(COUNTIF(C163,"*"&"R1"&"*"),LEFT(C163,FIND("R1",C163)-1),C163)))
A164: =IF(LEFT(C165,3)="B11",11,IF(LEFT(C165,2)="B2",2,IF(LEFT(C165,2)="B3",3,IF(LEFT(C165,2)="B4",4,IF(LEFT(C165,2)="B5",5,IF(LEFT(C165,2)="B6",6,IF(LEFT(C165,2)="B7",7,IF(LEFT(C165,2)="B8",8,IF(LEFT(C165,2)="B9",9,IF(LEFT(C165,3)="B10",10,IF(AND(ROW(C164)<50,LEFT(C165,2)="B1",MIN(IF(ISERROR(SEARCH("R1",B164,2)),50,SEARCH("R1",B164,2)),IF(ISERROR(SEARCH("R2",B164,2)),50,SEARCH("R2",B164,2)),IF(ISERROR(SEARCH("R3",B164,2)),50,SEARCH("R3",B164,2)))<50),1,IF(AND(ROW(C164)<50,LEFT(C166,2)="B1",MIN(IF(ISERROR(SEARCH("R1",B164,2)),50,SEARCH("R1",B164,2)),IF(ISERROR(SEARCH("R2",B164,2)),50,SEARCH("R2",B164,2)),IF(ISERROR(SEARCH("R3",B164,2)),50,SEARCH("R3",B164,2)))<50),1,"")))))))))))) | C164: =LEFT(B164,MIN(IF(ISERROR(SEARCH("R1",B164,2)),50,SEARCH("R1",B164,2)),IF(ISERROR(SEARCH("R2",B164,2)),50,SEARCH("R2",B164,2)),IF(ISERROR(SEARCH("R3",B164,2)),50,SEARCH("R3",B164,2)))-1) | E164: =IF(COUNTIF(C164,"*"&"R2"&"*"),LEFT(C164,FIND("R3",C164)-1),IF(COUNTIF(C164,"*"&"R3"&"*"),LEFT(C164,FIND("R2",C164)-1),IF(COUNTIF(C164,"*"&"R1"&"*"),LEFT(C164,FIND("R1",C164)-1),C164)))
A165: =IF(LEFT(C166,3)="B11",11,IF(LEFT(C166,2)="B2",2,IF(LEFT(C166,2)="B3",3,IF(LEFT(C166,2)="B4",4,IF(LEFT(C166,2)="B5",5,IF(LEFT(C166,2)="B6",6,IF(LEFT(C166,2)="B7",7,IF(LEFT(C166,2)="B8",8,IF(LEFT(C166,2)="B9",9,IF(LEFT(C166,3)="B10",10,IF(AND(ROW(C165)<50,LEFT(C166,2)="B1",MIN(IF(ISERROR(SEARCH("R1",B165,2)),50,SEARCH("R1",B165,2)),IF(ISERROR(SEARCH("R2",B165,2)),50,SEARCH("R2",B165,2)),IF(ISERROR(SEARCH("R3",B165,2)),50,SEARCH("R3",B165,2)))<50),1,IF(AND(ROW(C165)<50,LEFT(C167,2)="B1",MIN(IF(ISERROR(SEARCH("R1",B165,2)),50,SEARCH("R1",B165,2)),IF(ISERROR(SEARCH("R2",B165,2)),50,SEARCH("R2",B165,2)),IF(ISERROR(SEARCH("R3",B165,2)),50,SEARCH("R3",B165,2)))<50),1,"")))))))))))) | C165: =LEFT(B165,MIN(IF(ISERROR(SEARCH("R1",B165,2)),50,SEARCH("R1",B165,2)),IF(ISERROR(SEARCH("R2",B165,2)),50,SEARCH("R2",B165,2)),IF(ISERROR(SEARCH("R3",B165,2)),50,SEARCH("R3",B165,2)))-1) | E165: =IF(COUNTIF(C165,"*"&"R2"&"*"),LEFT(C165,FIND("R3",C165)-1),IF(COUNTIF(C165,"*"&"R3"&"*"),LEFT(C165,FIND("R2",C165)-1),IF(COUNTIF(C165,"*"&"R1"&"*"),LEFT(C165,FIND("R1",C165)-1),C165)))
A166: =IF(LEFT(C167,3)="B11",11,IF(LEFT(C167,2)="B2",2,IF(LEFT(C167,2)="B3",3,IF(LEFT(C167,2)="B4",4,IF(LEFT(C167,2)="B5",5,IF(LEFT(C167,2)="B6",6,IF(LEFT(C167,2)="B7",7,IF(LEFT(C167,2)="B8",8,IF(LEFT(C167,2)="B9",9,IF(LEFT(C167,3)="B10",10,IF(AND(ROW(C166)<50,LEFT(C167,2)="B1",MIN(IF(ISERROR(SEARCH("R1",B166,2)),50,SEARCH("R1",B166,2)),IF(ISERROR(SEARCH("R2",B166,2)),50,SEARCH("R2",B166,2)),IF(ISERROR(SEARCH("R3",B166,2)),50,SEARCH("R3",B166,2)))<50),1,IF(AND(ROW(C166)<50,LEFT(C168,2)="B1",MIN(IF(ISERROR(SEARCH("R1",B166,2)),50,SEARCH("R1",B166,2)),IF(ISERROR(SEARCH("R2",B166,2)),50,SEARCH("R2",B166,2)),IF(ISERROR(SEARCH("R3",B166,2)),50,SEARCH("R3",B166,2)))<50),1,"")))))))))))) | C166: =LEFT(B166,MIN(IF(ISERROR(SEARCH("R1",B166,2)),50,SEARCH("R1",B166,2)),IF(ISERROR(SEARCH("R2",B166,2)),50,SEARCH("R2",B166,2)),IF(ISERROR(SEARCH("R3",B166,2)),50,SEARCH("R3",B166,2)))-1) | E166: =IF(COUNTIF(C166,"*"&"R2"&"*"),LEFT(C166,FIND("R3",C166)-1),IF(COUNTIF(C166,"*"&"R3"&"*"),LEFT(C166,FIND("R2",C166)-1),IF(COUNTIF(C166,"*"&"R1"&"*"),LEFT(C166,FIND("R1",C166)-1),C166)))
A167: =IF(LEFT(C168,3)="B11",11,IF(LEFT(C168,2)="B2",2,IF(LEFT(C168,2)="B3",3,IF(LEFT(C168,2)="B4",4,IF(LEFT(C168,2)="B5",5,IF(LEFT(C168,2)="B6",6,IF(LEFT(C168,2)="B7",7,IF(LEFT(C168,2)="B8",8,IF(LEFT(C168,2)="B9",9,IF(LEFT(C168,3)="B10",10,IF(AND(ROW(C167)<50,LEFT(C168,2)="B1",MIN(IF(ISERROR(SEARCH("R1",B167,2)),50,SEARCH("R1",B167,2)),IF(ISERROR(SEARCH("R2",B167,2)),50,SEARCH("R2",B167,2)),IF(ISERROR(SEARCH("R3",B167,2)),50,SEARCH("R3",B167,2)))<50),1,IF(AND(ROW(C167)<50,LEFT(C169,2)="B1",MIN(IF(ISERROR(SEARCH("R1",B167,2)),50,SEARCH("R1",B167,2)),IF(ISERROR(SEARCH("R2",B167,2)),50,SEARCH("R2",B167,2)),IF(ISERROR(SEARCH("R3",B167,2)),50,SEARCH("R3",B167,2)))<50),1,"")))))))))))) | C167: =LEFT(B167,MIN(IF(ISERROR(SEARCH("R1",B167,2)),50,SEARCH("R1",B167,2)),IF(ISERROR(SEARCH("R2",B167,2)),50,SEARCH("R2",B167,2)),IF(ISERROR(SEARCH("R3",B167,2)),50,SEARCH("R3",B167,2)))-1) | E167: =IF(COUNTIF(C167,"*"&"R2"&"*"),LEFT(C167,FIND("R3",C167)-1),IF(COUNTIF(C167,"*"&"R3"&"*"),LEFT(C167,FIND("R2",C167)-1),IF(COUNTIF(C167,"*"&"R1"&"*"),LEFT(C167,FIND("R1",C167)-1),C167)))
... A205: =IF(LEFT(C206,3)="B11",11,IF(LEFT(C206,2)="B2",2,IF(LEFT(C206,2)="B3",3,IF(LEFT(C206,2)="B4",4,IF(LEFT(C206,2)="B5",5,IF(LEFT(C206,2)="B6",6,IF(LEFT(C206,2)="B7",7,IF(LEFT(C206,2)="B8",8,IF(LEFT(C206,2)="B9",9,IF(LEFT(C206,3)="B10",10,IF(AND(ROW(C205)<50,LEFT(C206,2)="B1",MIN(IF(ISERROR(SEARCH("R1",B205,2)),50,SEARCH("R1",B205,2)),IF(ISERROR(SEARCH("R2",B205,2)),50,SEARCH("R2",B205,2)),IF(ISERROR(SEARCH("R3",B205,2)),50,SEARCH("R3",B205,2)))<50),1,IF(AND(ROW(C205)<50,LEFT(C207,2)="B1",MIN(IF(ISERROR(SEARCH("R1",B205,2)),50,SEARCH("R1",B205,2)),IF(ISERROR(SEARCH("R2",B205,2)),50,SEARCH("R2",B205,2)),IF(ISERROR(SEARCH("R3",B205,2)),50,SEARCH("R3",B205,2)))<50),1,"")))))))))))) | C205: =LEFT(B205,MIN(IF(ISERROR(SEARCH("R1",B205,2)),50,SEARCH("R1",B205,2)),IF(ISERROR(SEARCH("R2",B205,2)),50,SEARCH("R2",B205,2)),IF(ISERROR(SEARCH("R3",B205,2)),50,SEARCH("R3",B205,2)))-1) | E205: =IF(COUNTIF(C205,"*"&"R2"&"*"),LEFT(C205,FIND("R3",C205)-1),IF(COUNTIF(C205,"*"&"R3"&"*"),LEFT(C205,FIND("R2",C205)-1),IF(COUNTIF(C205,"*"&"R1"&"*"),LEFT(C205,FIND("R1",C205)-1),C205)))
A206: =IF(LEFT(C207,3)="B11",11,IF(LEFT(C207,2)="B2",2,IF(LEFT(C207,2)="B3",3,IF(LEFT(C207,2)="B4",4,IF(LEFT(C207,2)="B5",5,IF(LEFT(C207,2)="B6",6,IF(LEFT(C207,2)="B7",7,IF(LEFT(C207,2)="B8",8,IF(LEFT(C207,2)="B9",9,IF(LEFT(C207,3)="B10",10,IF(AND(ROW(C206)<50,LEFT(C207,2)="B1",MIN(IF(ISERROR(SEARCH("R1",B206,2)),50,SEARCH("R1",B206,2)),IF(ISERROR(SEARCH("R2",B206,2)),50,SEARCH("R2",B206,2)),IF(ISERROR(SEARCH("R3",B206,2)),50,SEARCH("R3",B206,2)))<50),1,IF(AND(ROW(C206)<50,LEFT(C208,2)="B1",MIN(IF(ISERROR(SEARCH("R1",B206,2)),50,SEARCH("R1",B206,2)),IF(ISERROR(SEARCH("R2",B206,2)),50,SEARCH("R2",B206,2)),IF(ISERROR(SEARCH("R3",B206,2)),50,SEARCH("R3",B206,2)))<50),1,"")))))))))))) | C206: =LEFT(B206,MIN(IF(ISERROR(SEARCH("R1",B206,2)),50,SEARCH("R1",B206,2)),IF(ISERROR(SEARCH("R2",B206,2)),50,SEARCH("R2",B206,2)),IF(ISERROR(SEARCH("R3",B206,2)),50,SEARCH("R3",B206,2)))-1)
A207: =IF(LEFT(C208,3)="B11",11,IF(LEFT(C208,2)="B2",2,IF(LEFT(C208,2)="B3",3,IF(LEFT(C208,2)="B4",4,IF(LEFT(C208,2)="B5",5,IF(LEFT(C208,2)="B6",6,IF(LEFT(C208,2)="B7",7,IF(LEFT(C208,2)="B8",8,IF(LEFT(C208,2)="B9",9,IF(LEFT(C208,3)="B10",10,IF(AND(ROW(C207)<50,LEFT(C208,2)="B1",MIN(IF(ISERROR(SEARCH("R1",B207,2)),50,SEARCH("R1",B207,2)),IF(ISERROR(SEARCH("R2",B207,2)),50,SEARCH("R2",B207,2)),IF(ISERROR(SEARCH("R3",B207,2)),50,SEARCH("R3",B207,2)))<50),1,IF(AND(ROW(C207)<50,LEFT(C209,2)="B1",MIN(IF(ISERROR(SEARCH("R1",B207,2)),50,SEARCH("R1",B207,2)),IF(ISERROR(SEARCH("R2",B207,2)),50,SEARCH("R2",B207,2)),IF(ISERROR(SEARCH("R3",B207,2)),50,SEARCH("R3",B207,2)))<50),1,"")))))))))))) | C207: =LEFT(B207,MIN(IF(ISERROR(SEARCH("R1",B207,2)),50,SEARCH("R1",B207,2)),IF(ISERROR(SEARCH("R2",B207,2)),50,SEARCH("R2",B207,2)),IF(ISERROR(SEARCH("R3",B207,2)),50,SEARCH("R3",B207,2)))-1)
A208: =IF(LEFT(C209,3)="B11",11,IF(LEFT(C209,2)="B2",2,IF(LEFT(C209,2)="B3",3,IF(LEFT(C209,2)="B4",4,IF(LEFT(C209,2)="B5",5,IF(LEFT(C209,2)="B6",6,IF(LEFT(C209,2)="B7",7,IF(LEFT(C209,2)="B8",8,IF(LEFT(C209,2)="B9",9,IF(LEFT(C209,3)="B10",10,IF(AND(ROW(C208)<50,LEFT(C209,2)="B1",MIN(IF(ISERROR(SEARCH("R1",B208,2)),50,SEARCH("R1",B208,2)),IF(ISERROR(SEARCH("R2",B208,2)),50,SEARCH("R2",B208,2)),IF(ISERROR(SEARCH("R3",B208,2)),50,SEARCH("R3",B208,2)))<50),1,IF(AND(ROW(C208)<50,LEFT(C210,2)="B1",MIN(IF(ISERROR(SEARCH("R1",B208,2)),50,SEARCH("R1",B208,2)),IF(ISERROR(SEARCH("R2",B208,2)),50,SEARCH("R2",B208,2)),IF(ISERROR(SEARCH("R3",B208,2)),50,SEARCH("R3",B208,2)))<50),1,"")))))))))))) | C208: =LEFT(B208,MIN(IF(ISERROR(SEARCH("R1",B208,2)),50,SEARCH("R1",B208,2)),IF(ISERROR(SEARCH("R2",B208,2)),50,SEARCH("R2",B208,2)),IF(ISERROR(SEARCH("R3",B208,2)),50,SEARCH("R3",B208,2)))-1)
A209: =IF(LEFT(C210,3)="B11",11,IF(LEFT(C210,2)="B2",2,IF(LEFT(C210,2)="B3",3,IF(LEFT(C210,2)="B4",4,IF(LEFT(C210,2)="B5",5,IF(LEFT(C210,2)="B6",6,IF(LEFT(C210,2)="B7",7,IF(LEFT(C210,2)="B8",8,IF(LEFT(C210,2)="B9",9,IF(LEFT(C210,3)="B10",10,IF(AND(ROW(C209)<50,LEFT(C210,2)="B1",MIN(IF(ISERROR(SEARCH("R1",B209,2)),50,SEARCH("R1",B209,2)),IF(ISERROR(SEARCH("R2",B209,2)),50,SEARCH("R2",B209,2)),IF(ISERROR(SEARCH("R3",B209,2)),50,SEARCH("R3",B209,2)))<50),1,IF(AND(ROW(C209)<50,LEFT(C211,2)="B1",MIN(IF(ISERROR(SEARCH("R1",B209,2)),50,SEARCH("R1",B209,2)),IF(ISERROR(SEARCH("R2",B209,2)),50,SEARCH("R2",B209,2)),IF(ISERROR(SEARCH("R3",B209,2)),50,SEARCH("R3",B209,2)))<50),1,"")))))))))))) | C209: =LEFT(B209,MIN(IF(ISERROR(SEARCH("R1",B209,2)),50,SEARCH("R1",B209,2)),IF(ISERROR(SEARCH("R2",B209,2)),50,SEARCH("R2",B209,2)),IF(ISERROR(SEARCH("R3",B209,2)),50,SEARCH("R3",B209,2)))-1)
A210: =IF(LEFT(C211,3)="B11",11,IF(LEFT(C211,2)="B2",2,IF(LEFT(C211,2)="B3",3,IF(LEFT(C211,2)="B4",4,IF(LEFT(C211,2)="B5",5,IF(LEFT(C211,2)="B6",6,IF(LEFT(C211,2)="B7",7,IF(LEFT(C211,2)="B8",8,IF(LEFT(C211,2)="B9",9,IF(LEFT(C211,3)="B10",10,IF(AND(ROW(C210)<50,LEFT(C211,2)="B1",MIN(IF(ISERROR(SEARCH("R1",B210,2)),50,SEARCH("R1",B210,2)),IF(ISERROR(SEARCH("R2",B210,2)),50,SEARCH("R2",B210,2)),IF(ISERROR(SEARCH("R3",B210,2)),50,SEARCH("R3",B210,2)))<50),1,IF(AND(ROW(C210)<50,LEFT(C212,2)="B1",MIN(IF(ISERROR(SEARCH("R1",B210,2)),50,SEARCH("R1",B210,2)),IF(ISERROR(SEARCH("R2",B210,2)),50,SEARCH("R2",B210,2)),IF(ISERROR(SEARCH("R3",B210,2)),50,SEARCH("R3",B210,2)))<50),1,"")))))))))))) | C210: =LEFT(B210,MIN(IF(ISERROR(SEARCH("R1",B210,2)),50,SEARCH("R1",B210,2)),IF(ISERROR(SEARCH("R2",B210,2)),50,SEARCH("R2",B210,2)),IF(ISERROR(SEARCH("R3",B210,2)),50,SEARCH("R3",B210,2)))-1)
A211: =IF(LEFT(C212,3)="B11",11,IF(LEFT(C212,2)="B2",2,IF(LEFT(C212,2)="B3",3,IF(LEFT(C212,2)="B4",4,IF(LEFT(C212,2)="B5",5,IF(LEFT(C212,2)="B6",6,IF(LEFT(C212,2)="B7",7,IF(LEFT(C212,2)="B8",8,IF(LEFT(C212,2)="B9",9,IF(LEFT(C212,3)="B10",10,IF(AND(ROW(C211)<50,LEFT(C212,2)="B1",MIN(IF(ISERROR(SEARCH("R1",B211,2)),50,SEARCH("R1",B211,2)),IF(ISERROR(SEARCH("R2",B211,2)),50,SEARCH("R2",B211,2)),IF(ISERROR(SEARCH("R3",B211,2)),50,SEARCH("R3",B211,2)))<50),1,IF(AND(ROW(C211)<50,LEFT(C213,2)="B1",MIN(IF(ISERROR(SEARCH("R1",B211,2)),50,SEARCH("R1",B211,2)),IF(ISERROR(SEARCH("R2",B211,2)),50,SEARCH("R2",B211,2)),IF(ISERROR(SEARCH("R3",B211,2)),50,SEARCH("R3",B211,2)))<50),1,"")))))))))))) | C211: =LEFT(B211,MIN(IF(ISERROR(SEARCH("R1",B211,2)),50,SEARCH("R1",B211,2)),IF(ISERROR(SEARCH("R2",B211,2)),50,SEARCH("R2",B211,2)),IF(ISERROR(SEARCH("R3",B211,2)),50,SEARCH("R3",B211,2)))-1)
A212: =IF(LEFT(C213,3)="B11",11,IF(LEFT(C213,2)="B2",2,IF(LEFT(C213,2)="B3",3,IF(LEFT(C213,2)="B4",4,IF(LEFT(C213,2)="B5",5,IF(LEFT(C213,2)="B6",6,IF(LEFT(C213,2)="B7",7,IF(LEFT(C213,2)="B8",8,IF(LEFT(C213,2)="B9",9,IF(LEFT(C213,3)="B10",10,IF(AND(ROW(C212)<50,LEFT(C213,2)="B1",MIN(IF(ISERROR(SEARCH("R1",B212,2)),50,SEARCH("R1",B212,2)),IF(ISERROR(SEARCH("R2",B212,2)),50,SEARCH("R2",B212,2)),IF(ISERROR(SEARCH("R3",B212,2)),50,SEARCH("R3",B212,2)))<50),1,IF(AND(ROW(C212)<50,LEFT(C214,2)="B1",MIN(IF(ISERROR(SEARCH("R1",B212,2)),50,SEARCH("R1",B212,2)),IF(ISERROR(SEARCH("R2",B212,2)),50,SEARCH("R2",B212,2)),IF(ISERROR(SEARCH("R3",B212,2)),50,SEARCH("R3",B212,2)))<50),1,"")))))))))))) | C212: =LEFT(B212,MIN(IF(ISERROR(SEARCH("R1",B212,2)),50,SEARCH("R1",B212,2)),IF(ISERROR(SEARCH("R2",B212,2)),50,SEARCH("R2",B212,2)),IF(ISERROR(SEARCH("R3",B212,2)),50,SEARCH("R3",B212,2)))-1)
A213: =IF(LEFT(C214,3)="B11",11,IF(LEFT(C214,2)="B2",2,IF(LEFT(C214,2)="B3",3,IF(LEFT(C214,2)="B4",4,IF(LEFT(C214,2)="B5",5,IF(LEFT(C214,2)="B6",6,IF(LEFT(C214,2)="B7",7,IF(LEFT(C214,2)="B8",8,IF(LEFT(C214,2)="B9",9,IF(LEFT(C214,3)="B10",10,IF(AND(ROW(C213)<50,LEFT(C214,2)="B1",MIN(IF(ISERROR(SEARCH("R1",B213,2)),50,SEARCH("R1",B213,2)),IF(ISERROR(SEARCH("R2",B213,2)),50,SEARCH("R2",B213,2)),IF(ISERROR(SEARCH("R3",B213,2)),50,SEARCH("R3",B213,2)))<50),1,IF(AND(ROW(C213)<50,LEFT(C215,2)="B1",MIN(IF(ISERROR(SEARCH("R1",B213,2)),50,SEARCH("R1",B213,2)),IF(ISERROR(SEARCH("R2",B213,2)),50,SEARCH("R2",B213,2)),IF(ISERROR(SEARCH("R3",B213,2)),50,SEARCH("R3",B213,2)))<50),1,"")))))))))))) | C213: =LEFT(B213,MIN(IF(ISERROR(SEARCH("R1",B213,2)),50,SEARCH("R1",B213,2)),IF(ISERROR(SEARCH("R2",B213,2)),50,SEARCH("R2",B213,2)),IF(ISERROR(SEARCH("R3",B213,2)),50,SEARCH("R3",B213,2)))-1)
A214: =IF(LEFT(C215,3)="B11",11,IF(LEFT(C215,2)="B2",2,IF(LEFT(C215,2)="B3",3,IF(LEFT(C215,2)="B4",4,IF(LEFT(C215,2)="B5",5,IF(LEFT(C215,2)="B6",6,IF(LEFT(C215,2)="B7",7,IF(LEFT(C215,2)="B8",8,IF(LEFT(C215,2)="B9",9,IF(LEFT(C215,3)="B10",10,IF(AND(ROW(C214)<50,LEFT(C215,2)="B1",MIN(IF(ISERROR(SEARCH("R1",B214,2)),50,SEARCH("R1",B214,2)),IF(ISERROR(SEARCH("R2",B214,2)),50,SEARCH("R2",B214,2)),IF(ISERROR(SEARCH("R3",B214,2)),50,SEARCH("R3",B214,2)))<50),1,IF(AND(ROW(C214)<50,LEFT(C216,2)="B1",MIN(IF(ISERROR(SEARCH("R1",B214,2)),50,SEARCH("R1",B214,2)),IF(ISERROR(SEARCH("R2",B214,2)),50,SEARCH("R2",B214,2)),IF(ISERROR(SEARCH("R3",B214,2)),50,SEARCH("R3",B214,2)))<50),1,"")))))))))))) | C214: =LEFT(B214,MIN(IF(ISERROR(SEARCH("R1",B214,2)),50,SEARCH("R1",B214,2)),IF(ISERROR(SEARCH("R2",B214,2)),50,SEARCH("R2",B214,2)),IF(ISERROR(SEARCH("R3",B214,2)),50,SEARCH("R3",B214,2)))-1)
A215: =IF(LEFT(C216,3)="B11",11,IF(LEFT(C216,2)="B2",2,IF(LEFT(C216,2)="B3",3,IF(LEFT(C216,2)="B4",4,IF(LEFT(C216,2)="B5",5,IF(LEFT(C216,2)="B6",6,IF(LEFT(C216,2)="B7",7,IF(LEFT(C216,2)="B8",8,IF(LEFT(C216,2)="B9",9,IF(LEFT(C216,3)="B10",10,IF(AND(ROW(C215)<50,LEFT(C216,2)="B1",MIN(IF(ISERROR(SEARCH("R1",B215,2)),50,SEARCH("R1",B215,2)),IF(ISERROR(SEARCH("R2",B215,2)),50,SEARCH("R2",B215,2)),IF(ISERROR(SEARCH("R3",B215,2)),50,SEARCH("R3",B215,2)))<50),1,IF(AND(ROW(C215)<50,LEFT(C217,2)="B1",MIN(IF(ISERROR(SEARCH("R1",B215,2)),50,SEARCH("R1",B215,2)),IF(ISERROR(SEARCH("R2",B215,2)),50,SEARCH("R2",B215,2)),IF(ISERROR(SEARCH("R3",B215,2)),50,SEARCH("R3",B215,2)))<50),1,"")))))))))))) | C215: =LEFT(B215,MIN(IF(ISERROR(SEARCH("R1",B215,2)),50,SEARCH("R1",B215,2)),IF(ISERROR(SEARCH("R2",B215,2)),50,SEARCH("R2",B215,2)),IF(ISERROR(SEARCH("R3",B215,2)),50,SEARCH("R3",B215,2)))-1)
A216: =IF(LEFT(C217,3)="B11",11,IF(LEFT(C217,2)="B2",2,IF(LEFT(C217,2)="B3",3,IF(LEFT(C217,2)="B4",4,IF(LEFT(C217,2)="B5",5,IF(LEFT(C217,2)="B6",6,IF(LEFT(C217,2)="B7",7,IF(LEFT(C217,2)="B8",8,IF(LEFT(C217,2)="B9",9,IF(LEFT(C217,3)="B10",10,IF(AND(ROW(C216)<50,LEFT(C217,2)="B1",MIN(IF(ISERROR(SEARCH("R1",B216,2)),50,SEARCH("R1",B216,2)),IF(ISERROR(SEARCH("R2",B216,2)),50,SEARCH("R2",B216,2)),IF(ISERROR(SEARCH("R3",B216,2)),50,SEARCH("R3",B216,2)))<50),1,IF(AND(ROW(C216)<50,LEFT(C218,2)="B1",MIN(IF(ISERROR(SEARCH("R1",B216,2)),50,SEARCH("R1",B216,2)),IF(ISERROR(SEARCH("R2",B216,2)),50,SEARCH("R2",B216,2)),IF(ISERROR(SEARCH("R3",B216,2)),50,SEARCH("R3",B216,2)))<50),1,"")))))))))))) | C216: =LEFT(B216,MIN(IF(ISERROR(SEARCH("R1",B216,2)),50,SEARCH("R1",B216,2)),IF(ISERROR(SEARCH("R2",B216,2)),50,SEARCH("R2",B216,2)),IF(ISERROR(SEARCH("R3",B216,2)),50,SEARCH("R3",B216,2)))-1)
A217: =IF(LEFT(C218,3)="B11",11,IF(LEFT(C218,2)="B2",2,IF(LEFT(C218,2)="B3",3,IF(LEFT(C218,2)="B4",4,IF(LEFT(C218,2)="B5",5,IF(LEFT(C218,2)="B6",6,IF(LEFT(C218,2)="B7",7,IF(LEFT(C218,2)="B8",8,IF(LEFT(C218,2)="B9",9,IF(LEFT(C218,3)="B10",10,IF(AND(ROW(C217)<50,LEFT(C218,2)="B1",MIN(IF(ISERROR(SEARCH("R1",B217,2)),50,SEARCH("R1",B217,2)),IF(ISERROR(SEARCH("R2",B217,2)),50,SEARCH("R2",B217,2)),IF(ISERROR(SEARCH("R3",B217,2)),50,SEARCH("R3",B217,2)))<50),1,IF(AND(ROW(C217)<50,LEFT(C219,2)="B1",MIN(IF(ISERROR(SEARCH("R1",B217,2)),50,SEARCH("R1",B217,2)),IF(ISERROR(SEARCH("R2",B217,2)),50,SEARCH("R2",B217,2)),IF(ISERROR(SEARCH("R3",B217,2)),50,SEARCH("R3",B217,2)))<50),1,"")))))))))))) | C217: =LEFT(B217,MIN(IF(ISERROR(SEARCH("R1",B217,2)),50,SEARCH("R1",B217,2)),IF(ISERROR(SEARCH("R2",B217,2)),50,SEARCH("R2",B217,2)),IF(ISERROR(SEARCH("R3",B217,2)),50,SEARCH("R3",B217,2)))-1)
... A722: =IF(LEFT(C723,3)="B11",11,IF(LEFT(C723,2)="B2",2,IF(LEFT(C723,2)="B3",3,IF(LEFT(C723,2)="B4",4,IF(LEFT(C723,2)="B5",5,IF(LEFT(C723,2)="B6",6,IF(LEFT(C723,2)="B7",7,IF(LEFT(C723,2)="B8",8,IF(LEFT(C723,2)="B9",9,IF(LEFT(C723,3)="B10",10,IF(AND(ROW(C722)<50,LEFT(C723,2)="B1",MIN(IF(ISERROR(SEARCH("R1",B722,2)),50,SEARCH("R1",B722,2)),IF(ISERROR(SEARCH("R2",B722,2)),50,SEARCH("R2",B722,2)),IF(ISERROR(SEARCH("R3",B722,2)),50,SEARCH("R3",B722,2)))<50),1,IF(AND(ROW(C722)<50,LEFT(C724,2)="B1",MIN(IF(ISERROR(SEARCH("R1",B722,2)),50,SEARCH("R1",B722,2)),IF(ISERROR(SEARCH("R2",B722,2)),50,SEARCH("R2",B722,2)),IF(ISERROR(SEARCH("R3",B722,2)),50,SEARCH("R3",B722,2)))<50),1,"")))))))))))) | C722: =LEFT(B722,MIN(IF(ISERROR(SEARCH("R1",B722,2)),50,SEARCH("R1",B722,2)),IF(ISERROR(SEARCH("R2",B722,2)),50,SEARCH("R2",B722,2)),IF(ISERROR(SEARCH("R3",B722,2)),50,SEARCH("R3",B722,2)))-1)
C723: =LEFT(B723,MIN(IF(ISERROR(SEARCH("R1",B723,2)),50,SEARCH("R1",B723,2)),IF(ISERROR(SEARCH("R2",B723,2)),50,SEARCH("R2",B723,2)),IF(ISERROR(SEARCH("R3",B723,2)),50,SEARCH("R3",B723,2)))-1)
C724: =LEFT(B724,MIN(IF(ISERROR(SEARCH("R1",B724,2)),50,SEARCH("R1",B724,2)),IF(ISERROR(SEARCH("R2",B724,2)),50,SEARCH("R2",B724,2)),IF(ISERROR(SEARCH("R3",B724,2)),50,SEARCH("R3",B724,2)))-1)
B725: #N/A
B726: #N/A
B727: #N/A
B728: #N/A
B729: #N/A
B730: #N/A
B731: #N/A
B732: #N/A
B733: #N/A
B734: #N/A
B735: #N/A
B736: #N/A
... B1032: #N/A

Sheet Battles
A1: NoSpace | B1: Battle | C1: Objective | D1: Solo? | E1: Dom | F1: Fame | G1: Wisdom | H1: Trade | I1: Special (Level) | J1: Special (Clan) | K1: Rating
A2: BefriendJotnar | B2: Befriend the Jötnar | C2: Befriend/Protect Jötnar | D2: - | E2: + | F2: - | G2: - | H2: - | I2: + | J2: - | K2: +
A3: BeyondSea | B3: Beyond the sea | C3: Trade Victory | D3: - | E3: - | F3: - | G3: - | H3: + | I3: - | J3: -
A4: SaveBifrost | B4: Bifrost | C4: Colonize Bifrost, +4k Lore | D4: - | E4: - | F4: - | G4: - | H4: - | I4: + | J4: -
B5: Carved in Stone | C5: Claim sacred tile, build wonder, but attacks neutral factions | D5: - | E5: - | F5: - | G5: - | H5: - | I5: + | J5: -
A6: CallBlood | B6: Call of Blood | C6: No natural walls, Blood Moon | D6: - | E6: + | F6: - | G6: - | H6: - | I6: -
A7: BattleRoyale | B7: Cataclysm | C7: Eruptions destroy tiles permanently | D7: - | E7: + | K7: -
A8: DeathMatch | B8: Death Match | C8: Battle Royale Warchiefs 2 deaths allowed | D8: - | E8: - | F8: - | G8: - | H8: - | I8: +
B9: Defend the Oppressed | C9: Defend your weaker ally | D9: - | K9: -
A10: Dystopia | B10: Dystopia | C10: Citizens turn into Spectral Warriors | D10: - | E10: + | F10: + | G10: + | H10: + | I10: -
A11: FarEye | B11: Far From the eye | C11: No resources around start, conquer Yggdrasil | D11: - | E11: - | F11: - | G11: - | H11: - | I11: + | J11: -
A12: ForValhalla | B12: For Valhalla | C12: Sacrifice your units to win | D12: - | E12: - | F12: - | G12: - | H12: - | I12: + | J12: -
A13: OdinsGlory | B13: For Odin's Glory | C13: Colonize Anvil, forge sword | D13: - | E13: - | F13: - | G13: - | H13: - | I13: + | K13: -
A14: Foxholes | B14: Foxholes | C14: Fox holes replace Wolf Dens, non colonizable | D14: - | E14: + | F14: - | G14: - | H14: - | I14: - | J14: - | K14: --
A15: Frozen | B15: Frozen Gates | C15: Many gates of Nilfheim, frozen zombies attack winter | D15: - | E15: + | F15: - | G15: - | H15: - | I15: -
B16: Gem cutter | C16: 1v2v2, Trade war with more Gemstones | D16: - | E16: - | F16: - | G16: - | H16: + | I16: - | J16: -
B17: Glorious Lands | C17: Increased zone hostility, more fame | D17: - | E17: - | F17: + | G17: - | H17: - | I17: - | J17: +
A18: GodsFury | B18: God's Fury | C18: Stronger bad events, Barenton Fountain | D18: - | E18: + | F18: + | G18: + | H18: + | I18: -
A19: GoldRush | B19: Gold Rush | C19: Gold deposits/mines | D19: -
A20: GreedPrice | B20: Greed's price | C20: Find Colossal Boar, no krown earning, just treasures | D20: - | E20: - | F20: - | G20: - | H20: - | I20: +
A21: HostileLands | B21: Hostile Lands | C21: No defense towers, increased zone hostility | D21: - | E21: +
B22: How to train your Wyvern | C22: Defend the wyvern from enemy clans & the wild | D22: - | E22: + | F22: - | G22: - | H22: - | I22: + | J22: -
B23: Imported Knowledge | C23: No Lore, purchase knowledge with Kröwns | D23: - | E23: + | F23: + | G23: - | H23: + | I23: - | J23: -
B24: Inner Sea | C24: The center of the land is full of water 10 years | D24: - | E24: + | F24: - | G24: - | H24: - | I24: - | J24: -
A25: Invasion | B25: Invasion from Helheim | C25: Close 3 gates in 4 years | D25: + | K25: ++
B26: Keep it simple | C26: No building upgrades & tools | D26: - | E26: + | F26: + | G26: + | H26: + | I26: -
B27: Kobold Infestation | C27: Many aggressive kobold camps | D27: - | E27: + | F27: + | G27: - | H27: - | I27: - | J27: +
A28: LandsAfterMorrowind | B28: Lands of Oblivion | C28: Dark fog, undead attack every winter, close 4 gates | D28: + | E28: - | F28: - | G28: - | H28: - | I28: + | J28: - | K28: --
A29: LazyVillagers | B29: Lazy Villagers | C29: Villagers don't produce food | D29: - | K29: +
A30: LeftBehind | B30: Left Behind | C30: No woodcutters, but treasures | D30: - | E30: + | F30: + | G30: - | H30: + | I30: - | J30: +
A31: MarketSupplier | B31: Master Supplier | C31: Marketplace 1/2 price, no building slot | D31: - | E31: + | F31: + | G31: + | H31: - | I31: -
A32: Minopoly | B32: Minopoly | C32: Dwarves control all ores, no resource import | D32: - | E32: + | F32: + | G32: + | H32: + | I32: - | K32: +
B33: Muspell's wrath | C33: Gates of Muspell invasion, kill 10 Muspell/Jötnar | D33: - | E33: - | F33: - | G33: - | H33: - | I33: + | J33: -
B34: Myrkalfar Uprising | C34: Volcano, many aggressive Myrkalfar | D34: - | E34: + | F34: + | G34: + | H34: - | I34: - | J34: -
A35: NewSettlers | B35: New Settlers | C35: Supply from homeland | D35: - | E35: + | F35: + | G35: + | H35: + | I35: -
B36: Newfound knowledge | C36: No lore, just mimirsbrunn | D36: - | E36: + | F36: + | G36: - | H36: + | I36: - | K36: +
A37: NoGodNoMaster | B37: No Gods or Master | C37: No lore, 3 different knowledge trees | D37: - | E37: + | F37: + | G37: - | H37: + | I37: - | J37: +
A38: Medic | B38: Quarantine | C38: Heal God's Messenger, poison swamps | D38: + | E38: - | F38: - | G38: - | H38: - | I38: - | K38: -
A39: RaceYggdrasil | B39: Race to Yggdrasil | C39: Conquer Yggdrasil in 6 years | D39: - | E39: - | F39: - | G39: - | H39: - | I39: + | J39: - | K39: -
A40: RisingFromTheAbyss | B40: Rising from the Abyss | C40: No natural walls, marmenills, Fallen Sailors | D40: - | E40: + | F40: + | G40: + | H40: + | I40: -
B41: Rough Seas | C41: Every clan is on a different island | D41: - | E41: - | F41: - | G41: + | H41: - | I41: - | J41: -
A42: ShardsMisfortune | B42: Shards of Misfortune | C42: Volcano spits Rock & Iron golems regularly, no import | D42: + | E42: - | F42: - | G42: - | H42: - | I42: + | J42: -
B43: Surrounded | C43: Start in the middle of the land | D43: - | E43: + | K43: +
A44: SwampsDeath | B44: Swamps of Death | C44: Reduced room available in zones, more swamps | D44: - | E44: + | F44: + | G44: + | H44: + | I44: - | J44: + | K44: -
B45: The Cursed | C45: Find & Kill Waldemar the Cursed | D45: + | E45: - | F45: - | G45: - | H45: - | I45: + | J45: -
A46: TheGreatHunt | B46: The Great Hunt | C46: Kill Warg in 6 Years | D46: + | K46: --
A47: WiseOne | B47: The Wise one | C47: Claim Sword of Gods + Lore Victory | D47: - | E47: - | F47: - | G47: - | H47: - | I47: + | J47: -
A48: NidavellirDoor | B48: Threats from the Underground | C48: Kill Gate of Nidavellir dwarves in 5 years | D48: + | E48: - | F48: - | G48: - | H48: - | I48: + | J48: -
B49: Too many wyverns | C49: Be the first to kill 3 wyverns | D49: - | E49: - | F49: - | G49: - | H49: - | I49: + | J49: -
A50: ValkyrieGalore | B50: Valkyrie galore | C50: Control Gate of Helheim at center, Valkyrie more aggressive | D50: - | E50: - | F50: - | G50: - | H50: - | I50: + | J50: -
B51: Viking's Glory | C51: Pillars of glory, fame leader gets resources | D51: - | E51: - | F51: + | G51: - | H51: - | K51: ++
A52: WinterHere | B52: Winter is here | C52: 1 Blizzard every Year | D52: - | E52: + | F52: + | G52: + | H52: + | I52: -
