Workbook

Sheet Tracking
A1: Saturday | B1: =IF(SUM(B2:B16)>0,SUM(B2:B16),"") -> 1535 | C1: Sunday | D1: =IF(SUM(D2:D16)>0,SUM(D2:D16),"") -> 1485 | E1: Monday | F1: =IF(SUM(F2:F16)>0,SUM(F2:F16),"") -> 1550 | G1: Tuesday | H1: =IF(SUM(H2:H16)>0,SUM(H2:H16),"") -> 1650 | I1: Wednesday | J1: =IF(SUM(J2:J16)>0,SUM(J2:J16),"") -> 1580 | K1: Thursday | L1: =IF(SUM(L2:L16)>0,SUM(L2:L16),"") -> 1600 | M1: Friday | N1: =IF(SUM(N2:N16)>0,SUM(N2:N16),"") -> 1900 | O1: =ROUND(SUM(A1:N1)/7,-1) -> 1610
A2: Cereal | B2: 250 | C2: Cereal | D2: 260 | E2: Bread Roll | F2: 90 | G2: Bread Roll | H2: 80 | I2: Breakfast | J2: 240 | K2: Cereal | L2: 190 | M2: Breakfast | N2: 260
A3: Mango | B3: 0 | C3: Apple | D3: 90 | E3: Cheese | F3: 90 | G3: Cheese | H3: 80 | I3: Banana | J3: 100 | K3: NomZ | L3: 100 | M3: Nuts | N3: 250
A4: Apple | B4: 90 | C4: Frosta | D4: 650 | E4: Gyros | F4: 300 | G4: Juice | H4: 60 | I4: Klöße | J4: 150 | K4: Frosta | L4: 440 | M4: Apples | N4: 90
A5: Toast | B5: 300 | C5: Toast | D5: 200 | E5: Rice | F5: 200 | G5: nomZ | H5: 100 | I5: Rotkohl | J5: 50 | K5: Hot Chocolate | L5: 120 | M5: nomZ | N5: 100
A6: cuts | B6: 120 | C6: Avocado | D6: 75 | E6: Slaw | F6: 150 | G6: Juice | H6: 40 | I6: Sauerbraten | J6: 200 | K6: Cookies | L6: 30 | M6: Lunch | N6: 700
A7: Avocado | B7: 75 | C7: nomZ | D7: 100 | E7: Toast | F7: 200 | G7: Stroopwafel | H7: 150 | I7: Strawberries | J7: 40 | K7: Sjuice | L7: 60 | M7: Ice cream | N7: 200
A8: Cheese | B8: 100 | C8: Corn | D8: 50 | E8: Avocado | F8: 150 | G8: Salad | H8: 30 | I8: Toast | J8: 300 | K8: Toast | L8: 200 | M8: Toast | N8: 300
A9: slaw | B9: 50 | C9: Slaw | D9: 60 | E9: Corn | F9: 50 | G9: Slaw | H9: 70 | I9: Salmon | J9: 100 | K9: Salmon | L9: 200
A10: corn | B10: 50 | E10: NomZ | F10: 100 | G10: Apple | H10: 90 | I10: Cheese | J10: 100 | K10: Strawberries | L10: 60
A11: Toast | B11: 200 | E11: Juice | F11: 120 | G11: Spieß | H11: 150 | I11: Nuts | J11: 200 | K11: Yogurt | L11: 90
A12: cuts | B12: 100 | E12: Milk | F12: 100 | G12: Kroketten | H12: 150 | I12: nomZ | J12: 100 | K12: Syrup | L12: 10
A13: Milk+juice | B13: 100 | G13: Toast | H13: 300 | K13: Nuts | L13: 100
A14: nomZ | B14: 100 | G14: Cuts | H14: 160
G15: Salmon | H15: 100
G16: Milk | H16: 90
A20: Saturday | B20: =IF(SUM(B21:B35)>0,SUM(B21:B35),"") -> #REF! | C20: Sunday | D20: =IF(SUM(D21:D35)>0,SUM(D21:D35),"") -> 1595 | E20: Monday | F20: =IF(SUM(F21:F35)>0,SUM(F21:F35),"") -> 1570 | G20: Tuesday | H20: =IF(SUM(H21:H35)>0,SUM(H21:H35),"") -> 1700 | I20: Wednesday | J20: =IF(SUM(J21:J35)>0,SUM(J21:J35),"") -> 1400 | K20: Thursday | L20: =IF(SUM(L21:L35)>0,SUM(L21:L35),"") -> #N/A | M20: Friday | N20: =IF(SUM(N21:N35)>0,SUM(N21:N35),"") -> 1788 | O20: =ROUND(SUM(A20:N20)/COUNT(A20:N20),-1) -> #REF!
A21: Bread | B21: 200 | C21: Mango | D21: 50 | E21: Breakfast | F21: 260 | G21: Brot | H21: 200 | I21: Breakfast | J21: 230 | K21: Breakfast | L21: =IF(AND(K21<>"",K21<>""),IF(NOT(ISNA(VLOOKUP(K21,Ingredients!$D:$K,4,FALSE)/(VLOOKUP(K21,Ingredients!$D:$K,2,FALSE))*K21)),VLOOKUP(K21,Ingredients!$D:$K,4,FALSE)/(VLOOKUP(K21,Ingredients!$D:$K,2,FALSE))*K21,VLOOKUP(K21,Prepared!$D:$G,4,FALSE)/(VLOOKUP(K21,Prepared!$D:$G,3,FALSE))*1),"") -> 245 | M21: Breakfast | N21: 200
A22: Topping | B22: 120 | C22: Banana | D22: 100 | E22: Mango | F22: 50 | G22: Avocado | H22: 300 | I22: Noodles | J22: 400 | K22: Nesquick | L22: 150 | M22: Apple | N22: 100
A23: Nuts | B23: 200 | C23: Juice | D23: 50 | E23: Cookie | F23: 50 | G23: Onion | H23: 80 | I23: Soup | J23: 200 | K23: Cookie | L23: 150 | M23: Cookie | N23: 150
A24: Juice | B24: 50 | C24: Pizza | D24: 780 | E24: Lunch | F24: 310 | G24: Juice | H24: 50 | I24: Cookies | J24: 150 | K24: Corn | L24: 120 | M24: Potato | N24: 150
A25: Cereal | B25: 160 | C25: Nuts | D25: 70 | E25: Bread | F25: 200 | G25: Cookies | H25: 100 | I25: Bread | J25: 200 | K25: Slaw | L25: 100 | M25: Salad | N25: 80
A26: Mango | B26: 40 | C26: Bread | D26: 200 | E26: Butter | F26: 60 | G26: Butter | H26: 70 | I26: Bread roll | J26: 100 | K26: Apple | L26: 100 | M26: Meatballs | N26: 150
A27: Raspberries | B27: 65 | C27: Cuts | D27: 20 | E27: Cuts | F27: 20 | G27: Applesauce | H27: 100 | I27: Muisjes | J27: 70 | K27: Tomato Soup | L27: =IF(AND(J27<>"",K27<>""),IF(NOT(ISNA(VLOOKUP(J27,Ingredients!$D:$K,4,FALSE)/(VLOOKUP(J27,Ingredients!$D:$K,2,FALSE))*K27)),VLOOKUP(J27,Ingredients!$D:$K,4,FALSE)/(VLOOKUP(J27,Ingredients!$D:$K,2,FALSE))*K27,VLOOKUP(J27,Prepared!$D:$G,4,FALSE)/(VLOOKUP(J27,Prepared!$D:$G,3,FALSE))*K27),"") -> #N/A | M27: Banana | N27: 150
A28: Tomato Soup | B28: =IF(AND(#REF!<>"",A28<>""),IF(NOT(ISNA(VLOOKUP(#REF!,Ingredients!$D:$K,4,FALSE)/(VLOOKUP(#REF!,Ingredients!$D:$K,2,FALSE))*A28)),VLOOKUP(#REF!,Ingredients!$D:$K,4,FALSE)/(VLOOKUP(#REF!,Ingredients!$D:$K,2,FALSE))*A28,VLOOKUP(#REF!,Prepared!$D:$G,4,FALSE)/(VLOOKUP(#REF!,Prepared!$D:$G,3,FALSE))*A28),"") -> #REF! | C28: Tuna | D28: 75 | E28: Tuna | F28: 75 | G28: Potato frittens | H28: 500 | I28: Juice | J28: 50 | L28: =IF(AND(K28<>"",M28<>""),VLOOKUP(K28,Ingredients!D5:K37,4,FALSE)/(VLOOKUP(K28,Ingredients!D5:K37,2,FALSE))*M28,"") | M28: Tuna | N28: 120
C29: Milk | D29: 70 | E29: Yogurt | F29: 90 | G29: Soup | H29: 150 | M29: Corn | N29: 32
C30: Yogurt | D30: 90 | E30: Banana | F30: 105 | G30: Cuts | H30: 60 | M30: Slaw | N30: 56
C31: Apple | D31: 90 | E31: Maple syrup | F31: 20 | G31: Yogurt | H31: 90 | M31: Waffle | N31: 350
E32: Juice | F32: 20 | M32: Raspberries | N32: 150
E33: Milk | F33: 250 | M33: NomZ | N33: 100
E34: Cocoa | F34: 40
E35: Syrup | F35: 20
A38: =ROUND(SUM(A39:U39)/COUNT(A39:U39),-1) -> 1710 | B38: Weekly avg
A39: Saturday | B39: Amount | C39: =IF(SUM(C40:C58)>0,SUM(C40:C58),"") -> 1925.5763 | D39: Sunday | E39: Amount | F39: =IF(SUM(F40:F58)>0,SUM(F40:F58),"") -> 1010.55 | G39: Monday | H39: Amount | I39: =IF(SUM(I40:I58)>0,SUM(I40:I58),"") | J39: Tuesday | K39: Amount | L39: =IF(SUM(L40:L58)>0,SUM(L40:L58),"") -> 1526 | M39: Wednesday | N39: Amount | O39: =IF(SUM(O40:O58)>0,SUM(O40:O58),"") -> 1735.7208 | P39: Thursday | Q39: Amount | R39: =IF(SUM(R40:R58)>0,SUM(R40:R58),"") -> 2348.85 | S39: Friday | T39: Amount | U39: =IF(SUM(U40:U58)>0,SUM(U40:U58),"")
A40: Corn | B40: 55 | C40: =IF(AND(A40<>"",B40<>""),VLOOKUP(A40,Ingredients!$D:$K,4,FALSE)/(VLOOKUP(A40,Ingredients!$D:$K,2,FALSE))*B40,"") -> 44 | D40: Seed Roll | E40: 2 | F40: =IF(AND(D40<>"",E40<>""),VLOOKUP(D40,Ingredients!$D:$K,4,FALSE)/(VLOOKUP(D40,Ingredients!$D:$K,2,FALSE))*E40,"") -> 440 | G40: Crepes | H40: 4 | J40: Slaw | K40: 80 | L40: =IF(AND(J40<>"",K40<>""),IF(NOT(ISNA(VLOOKUP(J40,Ingredients!$D:$K,4,FALSE)/(VLOOKUP(J40,Ingredients!$D:$K,2,FALSE))*K40)),VLOOKUP(J40,Ingredients!$D:$K,4,FALSE)/(VLOOKUP(J40,Ingredients!$D:$K,2,FALSE))*K40,VLOOKUP(J40,Prepared!$D:$G,4,FALSE)/(VLOOKUP(J40,Prepared!$D:$G,3,FALSE))*K40),"") -> 56 | M40: Breakfast | N40: 1 | O40: =IF(AND(M40<>"",N40<>""),IF(NOT(ISNA(VLOOKUP(M40,Ingredients!$D:$K,4,FALSE)/(VLOOKUP(M40,Ingredients!$D:$K,2,FALSE))*N40)),VLOOKUP(M40,Ingredients!$D:$K,4,FALSE)/(VLOOKUP(M40,Ingredients!$D:$K,2,FALSE))*N40,VLOOKUP(M40,Prepared!$D:$G,4,FALSE)/(VLOOKUP(M40,Prepared!$D:$G,3,FALSE))*N40),"") -> 245 | P40: Breakfast | Q40: 1 | R40: =IF(AND(P40<>"",Q40<>""),IF(NOT(ISNA(VLOOKUP(P40,Ingredients!$D:$K,4,FALSE)/(VLOOKUP(P40,Ingredients!$D:$K,2,FALSE))*Q40)),VLOOKUP(P40,Ingredients!$D:$K,4,FALSE)/(VLOOKUP(P40,Ingredients!$D:$K,2,FALSE))*Q40,VLOOKUP(P40,Prepared!$D:$G,4,FALSE)/(VLOOKUP(P40,Prepared!$D:$G,3,FALSE))*Q40),"") -> 245 | U40: =IF(AND(S40<>"",T40<>""),IF(NOT(ISNA(VLOOKUP(S40,Ingredients!$D:$K,4,FALSE)/(VLOOKUP(S40,Ingredients!$D:$K,2,FALSE))*T40)),VLOOKUP(S40,Ingredients!$D:$K,4,FALSE)/(VLOOKUP(S40,Ingredients!$D:$K,2,FALSE))*T40,VLOOKUP(S40,Prepared!$D:$G,4,FALSE)/(VLOOKUP(S40,Prepared!$D:$G,3,FALSE))*T40),"")
A41: Slaw | B41: 100 | C41: =IF(AND(A41<>"",B41<>""),VLOOKUP(A41,Ingredients!$D:$K,4,FALSE)/(VLOOKUP(A41,Ingredients!$D:$K,2,FALSE))*B41,"") -> 70 | D41: Cuts | E41: 40 | F41: =IF(AND(D41<>"",E41<>""),VLOOKUP(D41,Ingredients!$D:$K,4,FALSE)/(VLOOKUP(D41,Ingredients!$D:$K,2,FALSE))*E41,"") -> 60 | J41: Corn | K41: 100 | L41: =IF(AND(J41<>"",K41<>""),IF(NOT(ISNA(VLOOKUP(J41,Ingredients!$D:$K,4,FALSE)/(VLOOKUP(J41,Ingredients!$D:$K,2,FALSE))*K41)),VLOOKUP(J41,Ingredients!$D:$K,4,FALSE)/(VLOOKUP(J41,Ingredients!$D:$K,2,FALSE))*K41,VLOOKUP(J41,Prepared!$D:$G,4,FALSE)/(VLOOKUP(J41,Prepared!$D:$G,3,FALSE))*K41),"") -> 80 | M41: Cookie | N41: 1 | O41: =IF(AND(M41<>"",N41<>""),IF(NOT(ISNA(VLOOKUP(M41,Ingredients!$D:$K,4,FALSE)/(VLOOKUP(M41,Ingredients!$D:$K,2,FALSE))*N41)),VLOOKUP(M41,Ingredients!$D:$K,4,FALSE)/(VLOOKUP(M41,Ingredients!$D:$K,2,FALSE))*N41,VLOOKUP(M41,Prepared!$D:$G,4,FALSE)/(VLOOKUP(M41,Prepared!$D:$G,3,FALSE))*N41),"") -> 50 | P41: Bread | Q41: 1 | R41: 100 | U41: =IF(AND(S41<>"",T41<>""),IF(NOT(ISNA(VLOOKUP(S41,Ingredients!$D:$K,4,FALSE)/(VLOOKUP(S41,Ingredients!$D:$K,2,FALSE))*T41)),VLOOKUP(S41,Ingredients!$D:$K,4,FALSE)/(VLOOKUP(S41,Ingredients!$D:$K,2,FALSE))*T41,VLOOKUP(S41,Prepared!$D:$G,4,FALSE)/(VLOOKUP(S41,Prepared!$D:$G,3,FALSE))*T41),"")
A42: Banana | B42: 140 | C42: =IF(AND(A42<>"",B42<>""),VLOOKUP(A42,Ingredients!$D:$K,4,FALSE)/(VLOOKUP(A42,Ingredients!$D:$K,2,FALSE))*B42,"") -> 124.57627 | D42: Veg Spread | E42: 15 | F42: =IF(AND(D42<>"",E42<>""),VLOOKUP(D42,Ingredients!$D:$K,4,FALSE)/(VLOOKUP(D42,Ingredients!$D:$K,2,FALSE))*E42,"") -> 18 | I42: =IF(AND(G42<>"",H42<>""),VLOOKUP(G42,Ingredients!$D:$K,4,FALSE)/(VLOOKUP(G42,Ingredients!$D:$K,2,FALSE))*H42,"") | J42: Breakfast | K42: 1 | L42: =IF(AND(J42<>"",K42<>""),IF(NOT(ISNA(VLOOKUP(J42,Ingredients!$D:$K,4,FALSE)/(VLOOKUP(J42,Ingredients!$D:$K,2,FALSE))*K42)),VLOOKUP(J42,Ingredients!$D:$K,4,FALSE)/(VLOOKUP(J42,Ingredients!$D:$K,2,FALSE))*K42,VLOOKUP(J42,Prepared!$D:$G,4,FALSE)/(VLOOKUP(J42,Prepared!$D:$G,3,FALSE))*K42),"") -> 245 | M42: Tomato | N42: 120 | O42: =IF(AND(M42<>"",N42<>""),IF(NOT(ISNA(VLOOKUP(M42,Ingredients!$D:$K,4,FALSE)/(VLOOKUP(M42,Ingredients!$D:$K,2,FALSE))*N42)),VLOOKUP(M42,Ingredients!$D:$K,4,FALSE)/(VLOOKUP(M42,Ingredients!$D:$K,2,FALSE))*N42,VLOOKUP(M42,Prepared!$D:$G,4,FALSE)/(VLOOKUP(M42,Prepared!$D:$G,3,FALSE))*N42),"") -> 21.176471 | P42: Cookie | Q42: 1 | R42: =IF(AND(P42<>"",Q42<>""),IF(NOT(ISNA(VLOOKUP(P42,Ingredients!$D:$K,4,FALSE)/(VLOOKUP(P42,Ingredients!$D:$K,2,FALSE))*Q42)),VLOOKUP(P42,Ingredients!$D:$K,4,FALSE)/(VLOOKUP(P42,Ingredients!$D:$K,2,FALSE))*Q42,VLOOKUP(P42,Prepared!$D:$G,4,FALSE)/(VLOOKUP(P42,Prepared!$D:$G,3,FALSE))*Q42),"") -> 50 | U42: =IF(AND(S42<>"",T42<>""),IF(NOT(ISNA(VLOOKUP(S42,Ingredients!$D:$K,4,FALSE)/(VLOOKUP(S42,Ingredients!$D:$K,2,FALSE))*T42)),VLOOKUP(S42,Ingredients!$D:$K,4,FALSE)/(VLOOKUP(S42,Ingredients!$D:$K,2,FALSE))*T42,VLOOKUP(S42,Prepared!$D:$G,4,FALSE)/(VLOOKUP(S42,Prepared!$D:$G,3,FALSE))*T42),"")
A43: Tuna | B43: 80 | C43: =IF(AND(A43<>"",B43<>""),VLOOKUP(A43,Ingredients!$D:$K,4,FALSE)/(VLOOKUP(A43,Ingredients!$D:$K,2,FALSE))*B43,"") -> 92 | D43: Nomz | F43: 20 | I43: =IF(AND(G43<>"",H43<>""),VLOOKUP(G43,Ingredients!$D:$K,4,FALSE)/(VLOOKUP(G43,Ingredients!$D:$K,2,FALSE))*H43,"") | J43: Apple | K43: 1 | L43: 90 | M43: Onions | N43: 1 | O43: =IF(AND(M43<>"",N43<>""),IF(NOT(ISNA(VLOOKUP(M43,Ingredients!$D:$K,4,FALSE)/(VLOOKUP(M43,Ingredients!$D:$K,2,FALSE))*N43)),VLOOKUP(M43,Ingredients!$D:$K,4,FALSE)/(VLOOKUP(M43,Ingredients!$D:$K,2,FALSE))*N43,VLOOKUP(M43,Prepared!$D:$G,4,FALSE)/(VLOOKUP(M43,Prepared!$D:$G,3,FALSE))*N43),"") -> 40 | P43: Pizza | Q43: 1 | R43: 1000 | U43: =IF(AND(S43<>"",T43<>""),IF(NOT(ISNA(VLOOKUP(S43,Ingredients!$D:$K,4,FALSE)/(VLOOKUP(S43,Ingredients!$D:$K,2,FALSE))*T43)),VLOOKUP(S43,Ingredients!$D:$K,4,FALSE)/(VLOOKUP(S43,Ingredients!$D:$K,2,FALSE))*T43,VLOOKUP(S43,Prepared!$D:$G,4,FALSE)/(VLOOKUP(S43,Prepared!$D:$G,3,FALSE))*T43),"")
A44: Seed Roll | B44: 1 | C44: =IF(AND(A44<>"",B44<>""),VLOOKUP(A44,Ingredients!$D:$K,4,FALSE)/(VLOOKUP(A44,Ingredients!$D:$K,2,FALSE))*B44,"") -> 220 | D44: Crepes | E44: 2 | F44: =IF(AND(D44<>"",E44<>""),IF(NOT(ISNA(VLOOKUP(D44,Ingredients!$D:$K,4,FALSE)/(VLOOKUP(D44,Ingredients!$D:$K,2,FALSE))*E44)),VLOOKUP(D44,Ingredients!$D:$K,4,FALSE)/(VLOOKUP(D44,Ingredients!$D:$K,2,FALSE))*E44,VLOOKUP(D44,Prepared!$D:$G,4,FALSE)/(VLOOKUP(D44,Prepared!$D:$G,3,FALSE))*E44),"") -> 275.75 | I44: =IF(AND(G44<>"",H44<>""),VLOOKUP(G44,Ingredients!$D:$K,4,FALSE)/(VLOOKUP(G44,Ingredients!$D:$K,2,FALSE))*H44,"") | J44: Lunch | L44: 500 | M44: Salad | N44: 60 | O44: =IF(AND(M44<>"",N44<>""),IF(NOT(ISNA(VLOOKUP(M44,Ingredients!$D:$K,4,FALSE)/(VLOOKUP(M44,Ingredients!$D:$K,2,FALSE))*N44)),VLOOKUP(M44,Ingredients!$D:$K,4,FALSE)/(VLOOKUP(M44,Ingredients!$D:$K,2,FALSE))*N44,VLOOKUP(M44,Prepared!$D:$G,4,FALSE)/(VLOOKUP(M44,Prepared!$D:$G,3,FALSE))*N44),"") -> 0 | P44: Hot Chocolate | Q44: 1 | R44: =IF(AND(P44<>"",Q44<>""),IF(NOT(ISNA(VLOOKUP(P44,Ingredients!$D:$K,4,FALSE)/(VLOOKUP(P44,Ingredients!$D:$K,2,FALSE))*Q44)),VLOOKUP(P44,Ingredients!$D:$K,4,FALSE)/(VLOOKUP(P44,Ingredients!$D:$K,2,FALSE))*Q44,VLOOKUP(P44,Prepared!$D:$G,4,FALSE)/(VLOOKUP(P44,Prepared!$D:$G,3,FALSE))*Q44),"") -> 367.6 | U44: =IF(AND(S44<>"",T44<>""),IF(NOT(ISNA(VLOOKUP(S44,Ingredients!$D:$K,4,FALSE)/(VLOOKUP(S44,Ingredients!$D:$K,2,FALSE))*T44)),VLOOKUP(S44,Ingredients!$D:$K,4,FALSE)/(VLOOKUP(S44,Ingredients!$D:$K,2,FALSE))*T44,VLOOKUP(S44,Prepared!$D:$G,4,FALSE)/(VLOOKUP(S44,Prepared!$D:$G,3,FALSE))*T44),"")
A45: Cuts | B45: 20 | C45: =IF(AND(A45<>"",B45<>""),VLOOKUP(A45,Ingredients!$D:$K,4,FALSE)/(VLOOKUP(A45,Ingredients!$D:$K,2,FALSE))*B45,"") -> 30 | D45: Maple Syrup | E45: 15 | F45: =IF(AND(D45<>"",E45<>""),IF(NOT(ISNA(VLOOKUP(D45,Ingredients!$D:$K,4,FALSE)/(VLOOKUP(D45,Ingredients!$D:$K,2,FALSE))*E45)),VLOOKUP(D45,Ingredients!$D:$K,4,FALSE)/(VLOOKUP(D45,Ingredients!$D:$K,2,FALSE))*E45,VLOOKUP(D45,Prepared!$D:$G,4,FALSE)/(VLOOKUP(D45,Prepared!$D:$G,3,FALSE))*E45),"") -> 53.4 | I45: =IF(AND(G45<>"",H45<>""),VLOOKUP(G45,Ingredients!$D:$K,4,FALSE)/(VLOOKUP(G45,Ingredients!$D:$K,2,FALSE))*H45,"") | J45: Juice | K45: 250 | L45: =IF(AND(J45<>"",K45<>""),IF(NOT(ISNA(VLOOKUP(J45,Ingredients!$D:$K,4,FALSE)/(VLOOKUP(J45,Ingredients!$D:$K,2,FALSE))*K45)),VLOOKUP(J45,Ingredients!$D:$K,4,FALSE)/(VLOOKUP(J45,Ingredients!$D:$K,2,FALSE))*K45,VLOOKUP(J45,Prepared!$D:$G,4,FALSE)/(VLOOKUP(J45,Prepared!$D:$G,3,FALSE))*K45),"") -> 125 | M45: Cucumber | N45: 60 | O45: =IF(AND(M45<>"",N45<>""),IF(NOT(ISNA(VLOOKUP(M45,Ingredients!$D:$K,4,FALSE)/(VLOOKUP(M45,Ingredients!$D:$K,2,FALSE))*N45)),VLOOKUP(M45,Ingredients!$D:$K,4,FALSE)/(VLOOKUP(M45,Ingredients!$D:$K,2,FALSE))*N45,VLOOKUP(M45,Prepared!$D:$G,4,FALSE)/(VLOOKUP(M45,Prepared!$D:$G,3,FALSE))*N45),"") -> 7.7647059 | P45: Bread | Q45: 2 | R45: =IF(AND(P45<>"",Q45<>""),IF(NOT(ISNA(VLOOKUP(P45,Ingredients!$D:$K,4,FALSE)/(VLOOKUP(P45,Ingredients!$D:$K,2,FALSE))*Q45)),VLOOKUP(P45,Ingredients!$D:$K,4,FALSE)/(VLOOKUP(P45,Ingredients!$D:$K,2,FALSE))*Q45,VLOOKUP(P45,Prepared!$D:$G,4,FALSE)/(VLOOKUP(P45,Prepared!$D:$G,3,FALSE))*Q45),"") -> 200 | U45: =IF(AND(S45<>"",T45<>""),IF(NOT(ISNA(VLOOKUP(S45,Ingredients!$D:$K,4,FALSE)/(VLOOKUP(S45,Ingredients!$D:$K,2,FALSE))*T45)),VLOOKUP(S45,Ingredients!$D:$K,4,FALSE)/(VLOOKUP(S45,Ingredients!$D:$K,2,FALSE))*T45,VLOOKUP(S45,Prepared!$D:$G,4,FALSE)/(VLOOKUP(S45,Prepared!$D:$G,3,FALSE))*T45),"")
...

Sheet Ingredients
D4: Food | E4: Standard amount | F4: Unit | G4: Calories | H4: Fat | I4: Sugar | J4: Fiber | K4: Salt
D5: Avocado | E5: 100 | F5: g
D6: Banana | E6: 118 | F6: g | G6: 105
D7: Bread | E7: 1 | F7: pcs | G7: 100
D8: Bread Roll | E8: 1 | F8: pcs | G8: 80
D9: Cereal | E9: 100 | F9: g | G9: 340
D10: Cheese | E10: 1 | F10: pcs | G10: 100
D11: Cookie | E11: 1 | G11: 50
D12: corn | E12: 100 | F12: g | G12: 80
D13: cuts | E13: 100 | F13: g | G13: 150
D14: dried Tomato | E14: 100 | F14: g | G14: 165
D15: Frosta | E15: 1 | F15: pcs | G15: 500
D16: Garlic | E16: 1 | F16: pcs | G16: 10
D17: Gyros | E17: 100 | F17: g
D18: Ice cream | E18: 100 | F18: g
D19: Juice | E19: 100 | F19: ml | G19: 50
D20: Mango | E20: 100 | F20: g
D21: Milk | E21: 100 | F21: ml | G21: 65
D22: nomZ
D23: Nuts | E23: 100 | F23: g | G23: 250
D24: Olive Oil | E24: 100 | F24: ml | G24: 800
D25: Onions | E25: 1 | F25: pcs | G25: 40
D26: Pizza | E26: 1 | F26: pcs | G26: 700
D27: Raspberries | E27: 156 | F27: g | G27: 81
D28: Rotkohl | E28: 100 | F28: g
D29: Salad | E29: 100 | F29: g
D30: Salmon | E30: 100 | F30: g
D31: slaw | E31: 100 | F31: g | G31: 70
D32: Stroopwafel | E32: 1 | F32: pcs | G32: 150
D33: Syrup | E33: 100 | F33: g
D34: Toast | E34: 1 | F34: pcs | G34: 100
D35: Tomato | E35: 85 | F35: g | G35: 15
D36: Tuna | E36: 100 | F36: g | G36: 115
D37: Yogurt | E37: 100 | F37: g | G37: 60
D38: Butter | E38: 100 | F38: g | G38: 800
D39: Canned tomato | E39: 100 | F39: g | G39: 24
D40: Seed Roll | E40: 1 | F40: pcs | G40: 220
D41: Veg Spread | E41: 100 | F41: g | G41: 120
D42: Butter | E42: 100 | F42: g | G42: 720
D43: Flour | E43: 100 | F43: g | G43: 340
...

Sheet Prepared
D7: Tomato Soup | G7: =SUM(G8:G13) -> 614.5
D8: Canned Tomato | E8: 400 | G8: =IF(AND(D8<>"",E8<>""),VLOOKUP(D8,Ingredients!$D:$K,4,FALSE)/(VLOOKUP(D8,Ingredients!$D:$K,2,FALSE))*E8,"") -> 96
D9: Tuna | E9: 150 | G9: =IF(AND(D9<>"",E9<>""),VLOOKUP(D9,Ingredients!$D:$K,4,FALSE)/(VLOOKUP(D9,Ingredients!$D:$K,2,FALSE))*E9,"") -> 172.5
D10: Onions | E10: 2 | G10: =IF(AND(D10<>"",E10<>""),VLOOKUP(D10,Ingredients!$D:$K,4,FALSE)/(VLOOKUP(D10,Ingredients!$D:$K,2,FALSE))*E10,"") -> 80
D11: dried Tomato | E11: 40 | G11: =IF(AND(D11<>"",E11<>""),VLOOKUP(D11,Ingredients!$D:$K,4,FALSE)/(VLOOKUP(D11,Ingredients!$D:$K,2,FALSE))*E11,"") -> 66
D12: Bread | E12: 0 | G12: =IF(AND(D12<>"",E12<>""),VLOOKUP(D12,Ingredients!$D:$K,4,FALSE)/(VLOOKUP(D12,Ingredients!$D:$K,2,FALSE))*E12,"") -> 0
D13: Olive Oil | E13: 25 | G13: =IF(AND(D13<>"",E13<>""),VLOOKUP(D13,Ingredients!$D:$K,4,FALSE)/(VLOOKUP(D13,Ingredients!$D:$K,2,FALSE))*E13,"") -> 200
D14: Garlic | E14: 1 | G14: =IF(AND(D14<>"",E14<>""),VLOOKUP(D14,Ingredients!$D:$K,4,FALSE)/(VLOOKUP(D14,Ingredients!$D:$K,2,FALSE))*E14,"") -> 10
D15: Breakfast | F15: 1 | G15: =SUM(G16:G19) -> 245
D16: Bread Roll | E16: 1 | G16: =IF(AND(D16<>"",E16<>""),VLOOKUP(D16,Ingredients!$D:$K,4,FALSE)/(VLOOKUP(D16,Ingredients!$D:$K,2,FALSE))*E16,"") -> 80
D17: Butter | E17: 5 | G17: =IF(AND(D17<>"",E17<>""),VLOOKUP(D17,Ingredients!$D:$K,4,FALSE)/(VLOOKUP(D17,Ingredients!$D:$K,2,FALSE))*E17,"") -> 40
D18: Cheese | E18: 1 | G18: =IF(AND(D18<>"",E18<>""),VLOOKUP(D18,Ingredients!$D:$K,4,FALSE)/(VLOOKUP(D18,Ingredients!$D:$K,2,FALSE))*E18,"") -> 100
D19: Juice | E19: 50 | G19: =IF(AND(D19<>"",E19<>""),VLOOKUP(D19,Ingredients!$D:$K,4,FALSE)/(VLOOKUP(D19,Ingredients!$D:$K,2,FALSE))*E19,"") -> 25
D20: Crepes | F20: 8 | G20: =SUM(G21:G24) -> 1103
D21: Egg | E21: 2 | G21: =IF(AND(D21<>"",E21<>""),VLOOKUP(D21,Ingredients!$D:$K,4,FALSE)/(VLOOKUP(D21,Ingredients!$D:$K,2,FALSE))*E21,"") -> 190
D22: Flour | E22: 180 | G22: =IF(AND(D22<>"",E22<>""),VLOOKUP(D22,Ingredients!$D:$K,4,FALSE)/(VLOOKUP(D22,Ingredients!$D:$K,2,FALSE))*E22,"") -> 612
D23: Milk | E23: 340 | G23: =IF(AND(D23<>"",E23<>""),VLOOKUP(D23,Ingredients!$D:$K,4,FALSE)/(VLOOKUP(D23,Ingredients!$D:$K,2,FALSE))*E23,"") -> 221
D24: Butter | E24: 10 | G24: =IF(AND(D24<>"",E24<>""),VLOOKUP(D24,Ingredients!$D:$K,4,FALSE)/(VLOOKUP(D24,Ingredients!$D:$K,2,FALSE))*E24,"") -> 80
D25: Hot Chocolate | F25: 1 | G25: =SUM(G26:G28) -> 367.6
D26: Milk | E26: 400 | G26: =IF(AND(D26<>"",E26<>""),VLOOKUP(D26,Ingredients!$D:$K,4,FALSE)/(VLOOKUP(D26,Ingredients!$D:$K,2,FALSE))*E26,"") -> 260
D27: Maple Syrup | E27: 10 | G27: =IF(AND(D27<>"",E27<>""),VLOOKUP(D27,Ingredients!$D:$K,4,FALSE)/(VLOOKUP(D27,Ingredients!$D:$K,2,FALSE))*E27,"") -> 35.6
D28: Cocoa | E28: 20 | G28: =IF(AND(D28<>"",E28<>""),VLOOKUP(D28,Ingredients!$D:$K,4,FALSE)/(VLOOKUP(D28,Ingredients!$D:$K,2,FALSE))*E28,"") -> 72
D29: Pancakes | F29: 8 | G29: =SUM(G30:G36) -> 2052.6703
D30: Flour | E30: 360 | G30: =IF(AND(D30<>"",E30<>""),VLOOKUP(D30,Ingredients!$D:$K,4,FALSE)/(VLOOKUP(D30,Ingredients!$D:$K,2,FALSE))*E30,"") -> 1224
D31: Blueberries | E31: 250 | G31: =IF(AND(D31<>"",E31<>""),VLOOKUP(D31,Ingredients!$D:$K,4,FALSE)/(VLOOKUP(D31,Ingredients!$D:$K,2,FALSE))*E31,"") -> 145.27027
D32: Maple Syrup | E32: 80 | G32: =IF(AND(D32<>"",E32<>""),VLOOKUP(D32,Ingredients!$D:$K,4,FALSE)/(VLOOKUP(D32,Ingredients!$D:$K,2,FALSE))*E32,"") -> 284.8
D33: Milk | E33: 160 | G33: =IF(AND(D33<>"",E33<>""),VLOOKUP(D33,Ingredients!$D:$K,4,FALSE)/(VLOOKUP(D33,Ingredients!$D:$K,2,FALSE))*E33,"") -> 104
D34: Sugar | E34: 10 | G34: =IF(AND(D34<>"",E34<>""),VLOOKUP(D34,Ingredients!$D:$K,4,FALSE)/(VLOOKUP(D34,Ingredients!$D:$K,2,FALSE))*E34,"") -> 39.6
D35: Butter | E35: 20 | G35: =IF(AND(D35<>"",E35<>""),VLOOKUP(D35,Ingredients!$D:$K,4,FALSE)/(VLOOKUP(D35,Ingredients!$D:$K,2,FALSE))*E35,"") -> 160
D36: Egg | E36: 1 | G36: =IF(AND(D36<>"",E36<>""),VLOOKUP(D36,Ingredients!$D:$K,4,FALSE)/(VLOOKUP(D36,Ingredients!$D:$K,2,FALSE))*E36,"") -> 95
D37: Chicken | E37: 600 | G37: =IF(AND(D37<>"",E37<>""),VLOOKUP(D37,Ingredients!$D:$K,4,FALSE)/(VLOOKUP(D37,Ingredients!$D:$K,2,FALSE))*E37,"") -> #N/A
D38: Bell pepper | E38: 1 | G38: =IF(AND(D38<>"",E38<>""),VLOOKUP(D38,Ingredients!$D:$K,4,FALSE)/(VLOOKUP(D38,Ingredients!$D:$K,2,FALSE))*E38,"") -> #N/A
D39: Sausage | E39: 1 | G39: =IF(AND(D39<>"",E39<>""),VLOOKUP(D39,Ingredients!$D:$K,4,FALSE)/(VLOOKUP(D39,Ingredients!$D:$K,2,FALSE))*E39,"") -> #N/A
E40: 1 | G40: =IF(AND(D40<>"",E40<>""),VLOOKUP(D40,Ingredients!$D:$K,4,FALSE)/(VLOOKUP(D40,Ingredients!$D:$K,2,FALSE))*E40,"")
E41: 1 | G41: =IF(AND(D41<>"",E41<>""),VLOOKUP(D41,Ingredients!$D:$K,4,FALSE)/(VLOOKUP(D41,Ingredients!$D:$K,2,FALSE))*E41,"")
E42: 1 | G42: =IF(AND(D42<>"",E42<>""),VLOOKUP(D42,Ingredients!$D:$K,4,FALSE)/(VLOOKUP(D42,Ingredients!$D:$K,2,FALSE))*E42,"")
E43: 1 | G43: =IF(AND(D43<>"",E43<>""),VLOOKUP(D43,Ingredients!$D:$K,4,FALSE)/(VLOOKUP(D43,Ingredients!$D:$K,2,FALSE))*E43,"")
E44: 1 | G44: =IF(AND(D44<>"",E44<>""),VLOOKUP(D44,Ingredients!$D:$K,4,FALSE)/(VLOOKUP(D44,Ingredients!$D:$K,2,FALSE))*E44,"")
E45: 1 | G45: =IF(AND(D45<>"",E45<>""),VLOOKUP(D45,Ingredients!$D:$K,4,FALSE)/(VLOOKUP(D45,Ingredients!$D:$K,2,FALSE))*E45,"")
E46: 1 | G46: =IF(AND(D46<>"",E46<>""),VLOOKUP(D46,Ingredients!$D:$K,4,FALSE)/(VLOOKUP(D46,Ingredients!$D:$K,2,FALSE))*E46,"")
...
