Workbook

Sheet Tracking
A1: Saturday | B1: =IF(SUM(B2:B16)>0,SUM(B2:B16),"") -> 1535 | C1: Sunday | D1: =IF(SUM(D2:D16)>0,SUM(D2:D16),"") -> 1485 | E1: Monday | F1: =IF(SUM(F2:F16)>0,SUM(F2:F16),"") -> 1550 | G1: Tuesday | H1: =IF(SUM(H2:H16)>0,SUM(H2:H16),"") -> 1650 | I1: Wednesday | J1: =IF(SUM(J2:J16)>0,SUM(J2:J16),"") -> 1580 | K1: Thursday | L1: =IF(SUM(L2:L16)>0,SUM(L2:L16),"") -> 1600 | M1: Friday | N1: =IF(SUM(N2:N16)>0,SUM(N2:N16),"") -> 1900 | O1: =ROUND(SUM(A1:N1)/7,-1) -> 1610
A2: Cereal | B2: 250 | C2: Cereal | D2: 260 | E2: Bread Roll | F2: 90 | G2: Bread Roll | H2: 80 | I2: Breakfast | J2: 240 | K2: Cereal | L2: 190 | M2: Breakfast | N2: 260
A3: Mango | B3: 0 | C3: Apple | D3: 90 | E3: Cheese | F3: 90 | G3: Cheese | H3: 80 | I3: Banana | J3: 100 | K3: NomZ | L3: 100 | M3: Nuts | N3: 250
A4: Apple | B4: 90 | C4: Frosta | D4: 650 | E4: Gyros | F4: 300 | G4: Juice | H4: 60 | I4: Klöße | J4: 150 | K4: Frosta | L4: 440 | M4: Apples | N4: 90
A5: Toast | B5: 300 | C5: Toast | D5: 200 | E5: Rice | F5: 200 | G5: nomZ | H5: 100 | I5: Rotkohl | J5: 50 | K5: Hot Chocolate | L5: 120 | M5: nomZ | N5: 100
A6: cuts | B6: 120 | C6: Avocado | D6: 75 | E6: Slaw | F6: 150 | G6: Juice | H6: 40 | I6: Sauerbraten | J6: 200 | K6: Cookies | L6: 30 | M6: Lunch | N6: 700
A7: Avocado | B7: 75 | C7: nomZ | D7: 100 | E7: Toast | F7: 200 | G7: Stroopwafel | H7: 150 | I7: Strawberries | J7: 40 | K7: Sjuice | L7: 60 | M7: Ice cream | N7: 200
A8: Cheese | B8: 100 | C8: Corn | D8: 50 | E8: Avocado | F8: 150 | G8: Salad | H8: 30 | I8: Toast | J8: 300 | K8: Toast | L8: 200 | M8: Toast | N8: 300
A9: slaw | B9: 50 | C9: Slaw | D9: 60 | E9: Corn | F9: 50 | G9: Slaw | H9: 70 | I9: Salmon | J9: 100 | K9: Salmon | L9: 200
A10: corn | B10: 50 | E10: NomZ | F10: 100 | G10: Apple | H10: 90 | I10: Cheese | J10: 100 | K10: Strawberries | L10: 60
A11: Toast | B11: 200 | E11: Juice | F11: 120 | G11: Spieß | H11: 150 | I11: Nuts | J11: 200 | K11: Yogurt | L11: 90
A12: cuts | B12: 100 | E12: Milk | F12: 100 | G12: Kroketten | H12: 150 | I12: nomZ | J12: 100 | K12: Syrup | L12: 10
A13: Milk+juice | B13: 100 | G13: Toast | H13: 300 | K13: Nuts | L13: 100
A14: nomZ | B14: 100 | G14: Cuts | H14: 160
G15: Salmon | H15: 100
G16: Milk | H16: 90
A20: Saturday | B20: =IF(SUM(B21:B35)>0,SUM(B21:B35),"") -> #REF! | C20: Sunday | D20: =IF(SUM(D21:D35)>0,SUM(D21:D35),"") -> 1595 | E20: Monday | F20: =IF(SUM(F21:F35)>0,SUM(F21:F35),"") -> 1570 | G20: Tuesday | H20: =IF(SUM(H21:H35)>0,SUM(H21:H35),"") -> 1700 | I20: Wednesday | J20: =IF(SUM(J21:J35)>0,SUM(J21:J35),"") -> 1400 | K20: Thursday | L20: =IF(SUM(L21:L35)>0,SUM(L21:L35),"") -> #N/A | M20: Friday | N20: =IF(SUM(N21:N35)>0,SUM(N21:N35),"") -> 1788 | O20: =ROUND(SUM(A20:N20)/COUNT(A20:N20),-1) -> #REF!
A21: Bread | B21: 200 | C21: Mango | D21: 50 | E21: Breakfast | F21: 260 | G21: Brot | H21: 200 | I21: Breakfast | J21: 230 | K21: Breakfast | L21: =IF(AND(K21<>"",K21<>""),IF(NOT(ISNA(VLOOKUP(K21,Ingredients!$D:$K,4,FALSE)/(VLOOKUP(K21,Ingredients!$D:$K,2,FALSE))*K21)),VLOOKUP(K21,Ingredients!$D:$K,4,FALSE)/(VLOOKUP(K21,Ingredients!$D:$K,2,FALSE))*K21,VLOOKUP(K21,Prepared!$D:$G,4,FALSE)/(VLOOKUP(K21,Prepared!$D:$G,3,FALSE))*1),"") -> 245 | M21: Breakfast | N21: 200
A22: Topping | B22: 120 | C22: Banana | D22: 100 | E22: Mango | F22: 50 | G22: Avocado | H22: 300 | I22: Noodles | J22: 400 | K22: Nesquick | L22: 150 | M22: Apple | N22: 100
A23: Nuts | B23: 200 | C23: Juice | D23: 50 | E23: Cookie | F23: 50 | G23: Onion | H23: 80 | I23: Soup | J23: 200 | K23: Cookie | L23: 150 | M23: Cookie | N23: 150
A24: Juice | B24: 50 | C24: Pizza | D24: 780 | E24: Lunch | F24: 310 | G24: Juice | H24: 50 | I24: Cookies | J24: 150 | K24: Corn | L24: 120 | M24: Potato | N24: 150
A25: Cereal | B25: 160 | C25: Nuts | D25: 70 | E25: Bread | F25: 200 | G25: Cookies | H25: 100 | I25: Bread | J25: 200 | K25: Slaw | L25: 100 | M25: Salad | N25: 80
A26: Mango | B26: 40 | C26: Bread | D26: 200 | E26: Butter | F26: 60 | G26: Butter | H26: 70 | I26: Bread roll | J26: 100 | K26: Apple | L26: 100 | M26: Meatballs | N26: 150
A27: Raspberries | B27: 65 | C27: Cuts | D27: 20 | E27: Cuts | F27: 20 | G27: Applesauce | H27: 100 | I27: Muisjes | J27: 70 | K27: Tomato Soup | L27: =IF(AND(J27<>"",K27<>""),IF(NOT(ISNA(VLOOKUP(J27,Ingredients!$D:$K,4,FALSE)/(VLOOKUP(J27,Ingredients!$D:$K,2,FALSE))*K27)),VLOOKUP(J27,Ingredients!$D:$K,4,FALSE)/(VLOOKUP(J27,Ingredients!$D:$K,2,FALSE))*K27,VLOOKUP(J27,Prepared!$D:$G,4,FALSE)/(VLOOKUP(J27,Prepared!$D:$G,3,FALSE))*K27),"") -> #N/A | M27: Banana | N27: 150
A28: Tomato Soup | B28: =IF(AND(#REF!<>"",A28<>""),IF(NOT(ISNA(VLOOKUP(#REF!,Ingredients!$D:$K,4,FALSE)/(VLOOKUP(#REF!,Ingredients!$D:$K,2,FALSE))*A28)),VLOOKUP(#REF!,Ingredients!$D:$K,4,FALSE)/(VLOOKUP(#REF!,Ingredients!$D:$K,2,FALSE))*A28,VLOOKUP(#REF!,Prepared!$D:$G,4,FALSE)/(VLOOKUP(#REF!,Prepared!$D:$G,3,FALSE))*A28),"") -> #REF! | C28: Tuna | D28: 75 | E28: Tuna | F28: 75 | G28: Potato frittens | H28: 500 | I28: Juice | J28: 50 | L28: =IF(AND(K28<>"",M28<>""),VLOOKUP(K28,Ingredients!D5:K37,4,FALSE)/(VLOOKUP(K28,Ingredients!D5:K37,2,FALSE))*M28,"") | M28: Tuna | N28: 120
C29: Milk | D29: 70 | E29: Yogurt | F29: 90 | G29: Soup | H29: 150 | M29: Corn | N29: 32
C30: Yogurt | D30: 90 | E30: Banana | F30: 105 | G30: Cuts | H30: 60 | M30: Slaw | N30: 56
C31: Apple | D31: 90 | E31: Maple syrup | F31: 20 | G31: Yogurt | H31: 90 | M31: Waffle | N31: 350
E32: Juice | F32: 20 | M32: Raspberries | N32: 150
E33: Milk | F33: 250 | M33: NomZ | N33: 100
E34: Cocoa | F34: 40
E35: Syrup | F35: 20
A38: =ROUND(SUM(A39:U39)/COUNT(A39:U39),-1) -> 1710 | B38: Weekly avg
A39: Saturday | B39: Amount | C39: =IF(SUM(C40:C58)>0,SUM(C40:C58),"") -> 1925.5763 | D39: Sunday | E39: Amount | F39: =IF(SUM(F40:F58)>0,SUM(F40:F58),"") -> 1010.55 | G39: Monday | H39: Amount | I39: =IF(SUM(I40:I58)>0,SUM(I40:I58),"") | J39: Tuesday | K39: Amount | L39: =IF(SUM(L40:L58)>0,SUM(L40:L58),"") -> 1526 | M39: Wednesday | N39: Amount | O39: =IF(SUM(O40:O58)>0,SUM(O40:O58),"") -> 1735.7208 | P39: Thursday | Q39: Amount | R39: =IF(SUM(R40:R58)>0,SUM(R40:R58),"") -> 2348.85 | S39: Friday | T39: Amount | U39: =IF(SUM(U40:U58)>0,SUM(U40:U58),"")
A40: Corn | B40: 55 | C40: =IF(AND(A40<>"",B40<>""),VLOOKUP(A40,Ingredients!$D:$K,4,FALSE)/(VLOOKUP(A40,Ingredients!$D:$K,2,FALSE))*B40,"") -> 44 | D40: Seed Roll | E40: 2 | F40: =IF(AND(D40<>"",E40<>""),VLOOKUP(D40,Ingredients!$D:$K,4,FALSE)/(VLOOKUP(D40,Ingredients!$D:$K,2,FALSE))*E40,"") -> 440 | G40: Crepes | H40: 4 | J40: Slaw | K40: 80 | L40: =IF(AND(J40<>"",K40<>""),IF(NOT(ISNA(VLOOKUP(J40,Ingredients!$D:$K,4,FALSE)/(VLOOKUP(J40,Ingredients!$D:$K,2,FALSE))*K40)),VLOOKUP(J40,Ingredients!$D:$K,4,FALSE)/(VLOOKUP(J40,Ingredients!$D:$K,2,FALSE))*K40,VLOOKUP(J40,Prepared!$D:$G,4,FALSE)/(VLOOKUP(J40,Prepared!$D:$G,3,FALSE))*K40),"") -> 56 | M40: Breakfast | N40: 1 | O40: =IF(AND(M40<>"",N40<>""),IF(NOT(ISNA(VLOOKUP(M40,Ingredients!$D:$K,4,FALSE)/(VLOOKUP(M40,Ingredients!$D:$K,2,FALSE))*N40)),VLOOKUP(M40,Ingredients!$D:$K,4,FALSE)/(VLOOKUP(M40,Ingredients!$D:$K,2,FALSE))*N40,VLOOKUP(M40,Prepared!$D:$G,4,FALSE)/(VLOOKUP(M40,Prepared!$D:$G,3,FALSE))*N40),"") -> 245 | P40: Breakfast | Q40: 1 | R40: =IF(AND(P40<>"",Q40<>""),IF(NOT(ISNA(VLOOKUP(P40,Ingredients!$D:$K,4,FALSE)/(VLOOKUP(P40,Ingredients!$D:$K,2,FALSE))*Q40)),VLOOKUP(P40,Ingredients!$D:$K,4,FALSE)/(VLOOKUP(P40,Ingredients!$D:$K,2,FALSE))*Q40,VLOOKUP(P40,Prepared!$D:$G,4,FALSE)/(VLOOKUP(P40,Prepared!$D:$G,3,FALSE))*Q40),"") -> 245 | U40: =IF(AND(S40<>"",T40<>""),IF(NOT(ISNA(VLOOKUP(S40,Ingredients!$D:$K,4,FALSE)/(VLOOKUP(S40,Ingredients!$D:$K,2,FALSE))*T40)),VLOOKUP(S40,Ingredients!$D:$K,4,FALSE)/(VLOOKUP(S40,Ingredients!$D:$K,2,FALSE))*T40,VLOOKUP(S40,Prepared!$D:$G,4,FALSE)/(VLOOKUP(S40,Prepared!$D:$G,3,FALSE))*T40),"")
A41: Slaw | B41: 100 | C41: =IF(AND(A41<>"",B41<>""),VLOOKUP(A41,Ingredients!$D:$K,4,FALSE)/(VLOOKUP(A41,Ingredients!$D:$K,2,FALSE))*B41,"") -> 70 | D41: Cuts | E41: 40 | F41: =IF(AND(D41<>"",E41<>""),VLOOKUP(D41,Ingredients!$D:$K,4,FALSE)/(VLOOKUP(D41,Ingredients!$D:$K,2,FALSE))*E41,"") -> 60 | J41: Corn | K41: 100 | L41: =IF(AND(J41<>"",K41<>""),IF(NOT(ISNA(VLOOKUP(J41,Ingredients!$D:$K,4,FALSE)/(VLOOKUP(J41,Ingredients!$D:$K,2,FALSE))*K41)),VLOOKUP(J41,Ingredients!$D:$K,4,FALSE)/(VLOOKUP(J41,Ingredients!$D:$K,2,FALSE))*K41,VLOOKUP(J41,Prepared!$D:$G,4,FALSE)/(VLOOKUP(J41,Prepared!$D:$G,3,FALSE))*K41),"") -> 80 | M41: Cookie | N41: 1 | O41: =IF(AND(M41<>"",N41<>""),IF(NOT(ISNA(VLOOKUP(M41,Ingredients!$D:$K,4,FALSE)/(VLOOKUP(M41,Ingredients!$D:$K,2,FALSE))*N41)),VLOOKUP(M41,Ingredients!$D:$K,4,FALSE)/(VLOOKUP(M41,Ingredients!$D:$K,2,FALSE))*N41,VLOOKUP(M41,Prepared!$D:$G,4,FALSE)/(VLOOKUP(M41,Prepared!$D:$G,3,FALSE))*N41),"") -> 50 | P41: Bread | Q41: 1 | R41: 100 | U41: =IF(AND(S41<>"",T41<>""),IF(NOT(ISNA(VLOOKUP(S41,Ingredients!$D:$K,4,FALSE)/(VLOOKUP(S41,Ingredients!$D:$K,2,FALSE))*T41)),VLOOKUP(S41,Ingredients!$D:$K,4,FALSE)/(VLOOKUP(S41,Ingredients!$D:$K,2,FALSE))*T41,VLOOKUP(S41,Prepared!$D:$G,4,FALSE)/(VLOOKUP(S41,Prepared!$D:$G,3,FALSE))*T41),"")
A42: Banana | B42: 140 | C42: =IF(AND(A42<>"",B42<>""),VLOOKUP(A42,Ingredients!$D:$K,4,FALSE)/(VLOOKUP(A42,Ingredients!$D:$K,2,FALSE))*B42,"") -> 124.57627 | D42: Veg Spread | E42: 15 | F42: =IF(AND(D42<>"",E42<>""),VLOOKUP(D42,Ingredients!$D:$K,4,FALSE)/(VLOOKUP(D42,Ingredients!$D:$K,2,FALSE))*E42,"") -> 18 | I42: =IF(AND(G42<>"",H42<>""),VLOOKUP(G42,Ingredients!$D:$K,4,FALSE)/(VLOOKUP(G42,Ingredients!$D:$K,2,FALSE))*H42,"") | J42: Breakfast | K42: 1 | L42: =IF(AND(J42<>"",K42<>""),IF(NOT(ISNA(VLOOKUP(J42,Ingredients!$D:$K,4,FALSE)/(VLOOKUP(J42,Ingredients!$D:$K,2,FALSE))*K42)),VLOOKUP(J42,Ingredients!$D:$K,4,FALSE)/(VLOOKUP(J42,Ingredients!$D:$K,2,FALSE))*K42,VLOOKUP(J42,Prepared!$D:$G,4,FALSE)/(VLOOKUP(J42,Prepared!$D:$G,3,FALSE))*K42),"") -> 245 | M42: Tomato | N42: 120 | O42: =IF(AND(M42<>"",N42<>""),IF(NOT(ISNA(VLOOKUP(M42,Ingredients!$D:$K,4,FALSE)/(VLOOKUP(M42,Ingredients!$D:$K,2,FALSE))*N42)),VLOOKUP(M42,Ingredients!$D:$K,4,FALSE)/(VLOOKUP(M42,Ingredients!$D:$K,2,FALSE))*N42,VLOOKUP(M42,Prepared!$D:$G,4,FALSE)/(VLOOKUP(M42,Prepared!$D:$G,3,FALSE))*N42),"") -> 21.176471 | P42: Cookie | Q42: 1 | R42: =IF(AND(P42<>"",Q42<>""),IF(NOT(ISNA(VLOOKUP(P42,Ingredients!$D:$K,4,FALSE)/(VLOOKUP(P42,Ingredients!$D:$K,2,FALSE))*Q42)),VLOOKUP(P42,Ingredients!$D:$K,4,FALSE)/(VLOOKUP(P42,Ingredients!$D:$K,2,FALSE))*Q42,VLOOKUP(P42,Prepared!$D:$G,4,FALSE)/(VLOOKUP(P42,Prepared!$D:$G,3,FALSE))*Q42),"") -> 50 | U42: =IF(AND(S42<>"",T42<>""),IF(NOT(ISNA(VLOOKUP(S42,Ingredients!$D:$K,4,FALSE)/(VLOOKUP(S42,Ingredients!$D:$K,2,FALSE))*T42)),VLOOKUP(S42,Ingredients!$D:$K,4,FALSE)/(VLOOKUP(S42,Ingredients!$D:$K,2,FALSE))*T42,VLOOKUP(S42,Prepared!$D:$G,4,FALSE)/(VLOOKUP(S42,Prepared!$D:$G,3,FALSE))*T42),"")
A43: Tuna | B43: 80 | C43: =IF(AND(A43<>"",B43<>""),VLOOKUP(A43,Ingredients!$D:$K,4,FALSE)/(VLOOKUP(A43,Ingredients!$D:$K,2,FALSE))*B43,"") -> 92 | D43: Nomz | F43: 20 | I43: =IF(AND(G43<>"",H43<>""),VLOOKUP(G43,Ingredients!$D:$K,4,FALSE)/(VLOOKUP(G43,Ingredients!$D:$K,2,FALSE))*H43,"") | J43: Apple | K43: 1 | L43: 90 | M43: Onions | N43: 1 | O43: =IF(AND(M43<>"",N43<>""),IF(NOT(ISNA(VLOOKUP(M43,Ingredients!$D:$K,4,FALSE)/(VLOOKUP(M43,Ingredients!$D:$K,2,FALSE))*N43)),VLOOKUP(M43,Ingredients!$D:$K,4,FALSE)/(VLOOKUP(M43,Ingredients!$D:$K,2,FALSE))*N43,VLOOKUP(M43,Prepared!$D:$G,4,FALSE)/(VLOOKUP(M43,Prepared!$D:$G,3,FALSE))*N43),"") -> 40 | P43: Pizza | Q43: 1 | R43: 1000 | U43: =IF(AND(S43<>"",T43<>""),IF(NOT(ISNA(VLOOKUP(S43,Ingredients!$D:$K,4,FALSE)/(VLOOKUP(S43,Ingredients!$D:$K,2,FALSE))*T43)),VLOOKUP(S43,Ingredients!$D:$K,4,FALSE)/(VLOOKUP(S43,Ingredients!$D:$K,2,FALSE))*T43,VLOOKUP(S43,Prepared!$D:$G,4,FALSE)/(VLOOKUP(S43,Prepared!$D:$G,3,FALSE))*T43),"")
A44: Seed Roll | B44: 1 | C44: =IF(AND(A44<>"",B44<>""),VLOOKUP(A44,Ingredients!$D:$K,4,FALSE)/(VLOOKUP(A44,Ingredients!$D:$K,2,FALSE))*B44,"") -> 220 | D44: Crepes | E44: 2 | F44: =IF(AND(D44<>"",E44<>""),IF(NOT(ISNA(VLOOKUP(D44,Ingredients!$D:$K,4,FALSE)/(VLOOKUP(D44,Ingredients!$D:$K,2,FALSE))*E44)),VLOOKUP(D44,Ingredients!$D:$K,4,FALSE)/(VLOOKUP(D44,Ingredients!$D:$K,2,FALSE))*E44,VLOOKUP(D44,Prepared!$D:$G,4,FALSE)/(VLOOKUP(D44,Prepared!$D:$G,3,FALSE))*E44),"") -> 275.75 | I44: =IF(AND(G44<>"",H44<>""),VLOOKUP(G44,Ingredients!$D:$K,4,FALSE)/(VLOOKUP(G44,Ingredients!$D:$K,2,FALSE))*H44,"") | J44: Lunch | L44: 500 | M44: Salad | N44: 60 | O44: =IF(AND(M44<>"",N44<>""),IF(NOT(ISNA(VLOOKUP(M44,Ingredients!$D:$K,4,FALSE)/(VLOOKUP(M44,Ingredients!$D:$K,2,FALSE))*N44)),VLOOKUP(M44,Ingredients!$D:$K,4,FALSE)/(VLOOKUP(M44,Ingredients!$D:$K,2,FALSE))*N44,VLOOKUP(M44,Prepared!$D:$G,4,FALSE)/(VLOOKUP(M44,Prepared!$D:$G,3,FALSE))*N44),"") -> 0 | P44: Hot Chocolate | Q44: 1 | R44: =IF(AND(P44<>"",Q44<>""),IF(NOT(ISNA(VLOOKUP(P44,Ingredients!$D:$K,4,FALSE)/(VLOOKUP(P44,Ingredients!$D:$K,2,FALSE))*Q44)),VLOOKUP(P44,Ingredients!$D:$K,4,FALSE)/(VLOOKUP(P44,Ingredients!$D:$K,2,FALSE))*Q44,VLOOKUP(P44,Prepared!$D:$G,4,FALSE)/(VLOOKUP(P44,Prepared!$D:$G,3,FALSE))*Q44),"") -> 367.6 | U44: =IF(AND(S44<>"",T44<>""),IF(NOT(ISNA(VLOOKUP(S44,Ingredients!$D:$K,4,FALSE)/(VLOOKUP(S44,Ingredients!$D:$K,2,FALSE))*T44)),VLOOKUP(S44,Ingredients!$D:$K,4,FALSE)/(VLOOKUP(S44,Ingredients!$D:$K,2,FALSE))*T44,VLOOKUP(S44,Prepared!$D:$G,4,FALSE)/(VLOOKUP(S44,Prepared!$D:$G,3,FALSE))*T44),"")
A45: Cuts | B45: 20 | C45: =IF(AND(A45<>"",B45<>""),VLOOKUP(A45,Ingredients!$D:$K,4,FALSE)/(VLOOKUP(A45,Ingredients!$D:$K,2,FALSE))*B45,"") -> 30 | D45: Maple Syrup | E45: 15 | F45: =IF(AND(D45<>"",E45<>""),IF(NOT(ISNA(VLOOKUP(D45,Ingredients!$D:$K,4,FALSE)/(VLOOKUP(D45,Ingredients!$D:$K,2,FALSE))*E45)),VLOOKUP(D45,Ingredients!$D:$K,4,FALSE)/(VLOOKUP(D45,Ingredients!$D:$K,2,FALSE))*E45,VLOOKUP(D45,Prepared!$D:$G,4,FALSE)/(VLOOKUP(D45,Prepared!$D:$G,3,FALSE))*E45),"") -> 53.4 | I45: =IF(AND(G45<>"",H45<>""),VLOOKUP(G45,Ingredients!$D:$K,4,FALSE)/(VLOOKUP(G45,Ingredients!$D:$K,2,FALSE))*H45,"") | J45: Juice | K45: 250 | L45: =IF(AND(J45<>"",K45<>""),IF(NOT(ISNA(VLOOKUP(J45,Ingredients!$D:$K,4,FALSE)/(VLOOKUP(J45,Ingredients!$D:$K,2,FALSE))*K45)),VLOOKUP(J45,Ingredients!$D:$K,4,FALSE)/(VLOOKUP(J45,Ingredients!$D:$K,2,FALSE))*K45,VLOOKUP(J45,Prepared!$D:$G,4,FALSE)/(VLOOKUP(J45,Prepared!$D:$G,3,FALSE))*K45),"") -> 125 | M45: Cucumber | N45: 60 | O45: =IF(AND(M45<>"",N45<>""),IF(NOT(ISNA(VLOOKUP(M45,Ingredients!$D:$K,4,FALSE)/(VLOOKUP(M45,Ingredients!$D:$K,2,FALSE))*N45)),VLOOKUP(M45,Ingredients!$D:$K,4,FALSE)/(VLOOKUP(M45,Ingredients!$D:$K,2,FALSE))*N45,VLOOKUP(M45,Prepared!$D:$G,4,FALSE)/(VLOOKUP(M45,Prepared!$D:$G,3,FALSE))*N45),"") -> 7.7647059 | P45: Bread | Q45: 2 | R45: =IF(AND(P45<>"",Q45<>""),IF(NOT(ISNA(VLOOKUP(P45,Ingredients!$D:$K,4,FALSE)/(VLOOKUP(P45,Ingredients!$D:$K,2,FALSE))*Q45)),VLOOKUP(P45,Ingredients!$D:$K,4,FALSE)/(VLOOKUP(P45,Ingredients!$D:$K,2,FALSE))*Q45,VLOOKUP(P45,Prepared!$D:$G,4,FALSE)/(VLOOKUP(P45,Prepared!$D:$G,3,FALSE))*Q45),"") -> 200 | U45: =IF(AND(S45<>"",T45<>""),IF(NOT(ISNA(VLOOKUP(S45,Ingredients!$D:$K,4,FALSE)/(VLOOKUP(S45,Ingredients!$D:$K,2,FALSE))*T45)),VLOOKUP(S45,Ingredients!$D:$K,4,FALSE)/(VLOOKUP(S45,Ingredients!$D:$K,2,FALSE))*T45,VLOOKUP(S45,Prepared!$D:$G,4,FALSE)/(VLOOKUP(S45,Prepared!$D:$G,3,FALSE))*T45),"")
A46: Butter | B46: 10 | C46: =IF(AND(A46<>"",B46<>""),VLOOKUP(A46,Ingredients!$D:$K,4,FALSE)/(VLOOKUP(A46,Ingredients!$D:$K,2,FALSE))*B46,"") -> 80 | D46: Juice | E46: 180 | F46: =IF(AND(D46<>"",E46<>""),IF(NOT(ISNA(VLOOKUP(D46,Ingredients!$D:$K,4,FALSE)/(VLOOKUP(D46,Ingredients!$D:$K,2,FALSE))*E46)),VLOOKUP(D46,Ingredients!$D:$K,4,FALSE)/(VLOOKUP(D46,Ingredients!$D:$K,2,FALSE))*E46,VLOOKUP(D46,Prepared!$D:$G,4,FALSE)/(VLOOKUP(D46,Prepared!$D:$G,3,FALSE))*E46),"") -> 90 | I46: =IF(AND(G46<>"",H46<>""),VLOOKUP(G46,Ingredients!$D:$K,4,FALSE)/(VLOOKUP(G46,Ingredients!$D:$K,2,FALSE))*H46,"") | J46: Cookie | K46: 1 | L46: 50 | M46: Lasagne | O46: 450 | P46: Tuna | Q46: 75 | R46: =IF(AND(P46<>"",Q46<>""),IF(NOT(ISNA(VLOOKUP(P46,Ingredients!$D:$K,4,FALSE)/(VLOOKUP(P46,Ingredients!$D:$K,2,FALSE))*Q46)),VLOOKUP(P46,Ingredients!$D:$K,4,FALSE)/(VLOOKUP(P46,Ingredients!$D:$K,2,FALSE))*Q46,VLOOKUP(P46,Prepared!$D:$G,4,FALSE)/(VLOOKUP(P46,Prepared!$D:$G,3,FALSE))*Q46),"") -> 86.25 | U46: =IF(AND(S46<>"",T46<>""),IF(NOT(ISNA(VLOOKUP(S46,Ingredients!$D:$K,4,FALSE)/(VLOOKUP(S46,Ingredients!$D:$K,2,FALSE))*T46)),VLOOKUP(S46,Ingredients!$D:$K,4,FALSE)/(VLOOKUP(S46,Ingredients!$D:$K,2,FALSE))*T46,VLOOKUP(S46,Prepared!$D:$G,4,FALSE)/(VLOOKUP(S46,Prepared!$D:$G,3,FALSE))*T46),"")
A47: Milk | B47: 100 | C47: =IF(AND(A47<>"",B47<>""),IF(NOT(ISNA(VLOOKUP(A47,Ingredients!$D:$K,4,FALSE)/(VLOOKUP(A47,Ingredients!$D:$K,2,FALSE))*B47)),VLOOKUP(A47,Ingredients!$D:$K,4,FALSE)/(VLOOKUP(A47,Ingredients!$D:$K,2,FALSE))*B47,VLOOKUP(A47,Prepared!$D:$G,4,FALSE)/(VLOOKUP(A47,Prepared!$D:$G,3,FALSE))*B47),"") -> 65 | F47: =IF(AND(D45<>"",E45<>""),IF(NOT(ISNA(VLOOKUP(D45,Ingredients!$D:$K,4,FALSE)/(VLOOKUP(D45,Ingredients!$D:$K,2,FALSE))*E45)),VLOOKUP(D45,Ingredients!$D:$K,4,FALSE)/(VLOOKUP(D45,Ingredients!$D:$K,2,FALSE))*E45,VLOOKUP(D45,Prepared!$D:$G,4,FALSE)/(VLOOKUP(D45,Prepared!$D:$G,3,FALSE))*E45),"") -> 53.4 | I47: =IF(AND(G47<>"",H47<>""),VLOOKUP(G47,Ingredients!$D:$K,4,FALSE)/(VLOOKUP(G47,Ingredients!$D:$K,2,FALSE))*H47,"") | J47: Nomz | L47: 100 | M47: Bread | N47: 2 | O47: =IF(AND(M47<>"",N47<>""),IF(NOT(ISNA(VLOOKUP(M47,Ingredients!$D:$K,4,FALSE)/(VLOOKUP(M47,Ingredients!$D:$K,2,FALSE))*N47)),VLOOKUP(M47,Ingredients!$D:$K,4,FALSE)/(VLOOKUP(M47,Ingredients!$D:$K,2,FALSE))*N47,VLOOKUP(M47,Prepared!$D:$G,4,FALSE)/(VLOOKUP(M47,Prepared!$D:$G,3,FALSE))*N47),"") -> 200 | P47: Cheese | Q47: 2 | R47: =IF(AND(P47<>"",Q47<>""),IF(NOT(ISNA(VLOOKUP(P47,Ingredients!$D:$K,4,FALSE)/(VLOOKUP(P47,Ingredients!$D:$K,2,FALSE))*Q47)),VLOOKUP(P47,Ingredients!$D:$K,4,FALSE)/(VLOOKUP(P47,Ingredients!$D:$K,2,FALSE))*Q47,VLOOKUP(P47,Prepared!$D:$G,4,FALSE)/(VLOOKUP(P47,Prepared!$D:$G,3,FALSE))*Q47),"") -> 200 | U47: =IF(AND(S47<>"",T47<>""),IF(NOT(ISNA(VLOOKUP(S47,Ingredients!$D:$K,4,FALSE)/(VLOOKUP(S47,Ingredients!$D:$K,2,FALSE))*T47)),VLOOKUP(S47,Ingredients!$D:$K,4,FALSE)/(VLOOKUP(S47,Ingredients!$D:$K,2,FALSE))*T47,VLOOKUP(S47,Prepared!$D:$G,4,FALSE)/(VLOOKUP(S47,Prepared!$D:$G,3,FALSE))*T47),"")
A48: Dinner | C48: 1200 | F48: =IF(AND(D48<>"",E48<>""),IF(NOT(ISNA(VLOOKUP(D48,Ingredients!$D:$K,4,FALSE)/(VLOOKUP(D48,Ingredients!$D:$K,2,FALSE))*E48)),VLOOKUP(D48,Ingredients!$D:$K,4,FALSE)/(VLOOKUP(D48,Ingredients!$D:$K,2,FALSE))*E48,VLOOKUP(D48,Prepared!$D:$G,4,FALSE)/(VLOOKUP(D48,Prepared!$D:$G,3,FALSE))*E48),"") | I48: =IF(AND(G48<>"",H48<>""),VLOOKUP(G48,Ingredients!$D:$K,4,FALSE)/(VLOOKUP(G48,Ingredients!$D:$K,2,FALSE))*H48,"") | J48: Yogurt | K48: 150 | L48: =IF(AND(J48<>"",K48<>""),IF(NOT(ISNA(VLOOKUP(J48,Ingredients!$D:$K,4,FALSE)/(VLOOKUP(J48,Ingredients!$D:$K,2,FALSE))*K48)),VLOOKUP(J48,Ingredients!$D:$K,4,FALSE)/(VLOOKUP(J48,Ingredients!$D:$K,2,FALSE))*K48,VLOOKUP(J48,Prepared!$D:$G,4,FALSE)/(VLOOKUP(J48,Prepared!$D:$G,3,FALSE))*K48),"") -> 90 | M48: Tuna | N48: 100 | O48: =IF(AND(M48<>"",N48<>""),IF(NOT(ISNA(VLOOKUP(M48,Ingredients!$D:$K,4,FALSE)/(VLOOKUP(M48,Ingredients!$D:$K,2,FALSE))*N48)),VLOOKUP(M48,Ingredients!$D:$K,4,FALSE)/(VLOOKUP(M48,Ingredients!$D:$K,2,FALSE))*N48,VLOOKUP(M48,Prepared!$D:$G,4,FALSE)/(VLOOKUP(M48,Prepared!$D:$G,3,FALSE))*N48),"") -> 115 | P48: Nomz | R48: 100 | U48: =IF(AND(S48<>"",T48<>""),IF(NOT(ISNA(VLOOKUP(S48,Ingredients!$D:$K,4,FALSE)/(VLOOKUP(S48,Ingredients!$D:$K,2,FALSE))*T48)),VLOOKUP(S48,Ingredients!$D:$K,4,FALSE)/(VLOOKUP(S48,Ingredients!$D:$K,2,FALSE))*T48,VLOOKUP(S48,Prepared!$D:$G,4,FALSE)/(VLOOKUP(S48,Prepared!$D:$G,3,FALSE))*T48),"")
C49: =IF(AND(A49<>"",B49<>""),IF(NOT(ISNA(VLOOKUP(A49,Ingredients!$D:$K,4,FALSE)/(VLOOKUP(A49,Ingredients!$D:$K,2,FALSE))*B49)),VLOOKUP(A49,Ingredients!$D:$K,4,FALSE)/(VLOOKUP(A49,Ingredients!$D:$K,2,FALSE))*B49,VLOOKUP(A49,Prepared!$D:$G,4,FALSE)/(VLOOKUP(A49,Prepared!$D:$G,3,FALSE))*B49),"") | F49: =IF(AND(D49<>"",E49<>""),IF(NOT(ISNA(VLOOKUP(D49,Ingredients!$D:$K,4,FALSE)/(VLOOKUP(D49,Ingredients!$D:$K,2,FALSE))*E49)),VLOOKUP(D49,Ingredients!$D:$K,4,FALSE)/(VLOOKUP(D49,Ingredients!$D:$K,2,FALSE))*E49,VLOOKUP(D49,Prepared!$D:$G,4,FALSE)/(VLOOKUP(D49,Prepared!$D:$G,3,FALSE))*E49),"") | I49: =IF(AND(G49<>"",H49<>""),VLOOKUP(G49,Ingredients!$D:$K,4,FALSE)/(VLOOKUP(G49,Ingredients!$D:$K,2,FALSE))*H49,"") | J49: Syrup | L49: 50 | M49: Cheese | N49: 2 | O49: =IF(AND(M49<>"",N49<>""),IF(NOT(ISNA(VLOOKUP(M49,Ingredients!$D:$K,4,FALSE)/(VLOOKUP(M49,Ingredients!$D:$K,2,FALSE))*N49)),VLOOKUP(M49,Ingredients!$D:$K,4,FALSE)/(VLOOKUP(M49,Ingredients!$D:$K,2,FALSE))*N49,VLOOKUP(M49,Prepared!$D:$G,4,FALSE)/(VLOOKUP(M49,Prepared!$D:$G,3,FALSE))*N49),"") -> 200 | R49: =IF(AND(P49<>"",Q49<>""),IF(NOT(ISNA(VLOOKUP(P49,Ingredients!$D:$K,4,FALSE)/(VLOOKUP(P49,Ingredients!$D:$K,2,FALSE))*Q49)),VLOOKUP(P49,Ingredients!$D:$K,4,FALSE)/(VLOOKUP(P49,Ingredients!$D:$K,2,FALSE))*Q49,VLOOKUP(P49,Prepared!$D:$G,4,FALSE)/(VLOOKUP(P49,Prepared!$D:$G,3,FALSE))*Q49),"") | U49: =IF(AND(S49<>"",T49<>""),IF(NOT(ISNA(VLOOKUP(S49,Ingredients!$D:$K,4,FALSE)/(VLOOKUP(S49,Ingredients!$D:$K,2,FALSE))*T49)),VLOOKUP(S49,Ingredients!$D:$K,4,FALSE)/(VLOOKUP(S49,Ingredients!$D:$K,2,FALSE))*T49,VLOOKUP(S49,Prepared!$D:$G,4,FALSE)/(VLOOKUP(S49,Prepared!$D:$G,3,FALSE))*T49),"")
C50: =IF(AND(A50<>"",B50<>""),IF(NOT(ISNA(VLOOKUP(A50,Ingredients!$D:$K,4,FALSE)/(VLOOKUP(A50,Ingredients!$D:$K,2,FALSE))*B50)),VLOOKUP(A50,Ingredients!$D:$K,4,FALSE)/(VLOOKUP(A50,Ingredients!$D:$K,2,FALSE))*B50,VLOOKUP(A50,Prepared!$D:$G,4,FALSE)/(VLOOKUP(A50,Prepared!$D:$G,3,FALSE))*B50),"") | F50: =IF(AND(D50<>"",E50<>""),IF(NOT(ISNA(VLOOKUP(D50,Ingredients!$D:$K,4,FALSE)/(VLOOKUP(D50,Ingredients!$D:$K,2,FALSE))*E50)),VLOOKUP(D50,Ingredients!$D:$K,4,FALSE)/(VLOOKUP(D50,Ingredients!$D:$K,2,FALSE))*E50,VLOOKUP(D50,Prepared!$D:$G,4,FALSE)/(VLOOKUP(D50,Prepared!$D:$G,3,FALSE))*E50),"") | I50: =IF(AND(G50<>"",H50<>""),VLOOKUP(G50,Ingredients!$D:$K,4,FALSE)/(VLOOKUP(G50,Ingredients!$D:$K,2,FALSE))*H50,"") | J50: Bread | K50: 1 | L50: =IF(AND(J50<>"",K50<>""),IF(NOT(ISNA(VLOOKUP(J50,Ingredients!$D:$K,4,FALSE)/(VLOOKUP(J50,Ingredients!$D:$K,2,FALSE))*K50)),VLOOKUP(J50,Ingredients!$D:$K,4,FALSE)/(VLOOKUP(J50,Ingredients!$D:$K,2,FALSE))*K50,VLOOKUP(J50,Prepared!$D:$G,4,FALSE)/(VLOOKUP(J50,Prepared!$D:$G,3,FALSE))*K50),"") -> 100 | M50: Nomz | O50: 100 | R50: =IF(AND(P50<>"",Q50<>""),IF(NOT(ISNA(VLOOKUP(P50,Ingredients!$D:$K,4,FALSE)/(VLOOKUP(P50,Ingredients!$D:$K,2,FALSE))*Q50)),VLOOKUP(P50,Ingredients!$D:$K,4,FALSE)/(VLOOKUP(P50,Ingredients!$D:$K,2,FALSE))*Q50,VLOOKUP(P50,Prepared!$D:$G,4,FALSE)/(VLOOKUP(P50,Prepared!$D:$G,3,FALSE))*Q50),"") | U50: =IF(AND(S50<>"",T50<>""),IF(NOT(ISNA(VLOOKUP(S50,Ingredients!$D:$K,4,FALSE)/(VLOOKUP(S50,Ingredients!$D:$K,2,FALSE))*T50)),VLOOKUP(S50,Ingredients!$D:$K,4,FALSE)/(VLOOKUP(S50,Ingredients!$D:$K,2,FALSE))*T50,VLOOKUP(S50,Prepared!$D:$G,4,FALSE)/(VLOOKUP(S50,Prepared!$D:$G,3,FALSE))*T50),"")
C51: =IF(AND(A51<>"",B51<>""),IF(NOT(ISNA(VLOOKUP(A51,Ingredients!$D:$K,4,FALSE)/(VLOOKUP(A51,Ingredients!$D:$K,2,FALSE))*B51)),VLOOKUP(A51,Ingredients!$D:$K,4,FALSE)/(VLOOKUP(A51,Ingredients!$D:$K,2,FALSE))*B51,VLOOKUP(A51,Prepared!$D:$G,4,FALSE)/(VLOOKUP(A51,Prepared!$D:$G,3,FALSE))*B51),"") | F51: =IF(AND(D51<>"",E51<>""),IF(NOT(ISNA(VLOOKUP(D51,Ingredients!$D:$K,4,FALSE)/(VLOOKUP(D51,Ingredients!$D:$K,2,FALSE))*E51)),VLOOKUP(D51,Ingredients!$D:$K,4,FALSE)/(VLOOKUP(D51,Ingredients!$D:$K,2,FALSE))*E51,VLOOKUP(D51,Prepared!$D:$G,4,FALSE)/(VLOOKUP(D51,Prepared!$D:$G,3,FALSE))*E51),"") | I51: =IF(AND(G51<>"",H51<>""),VLOOKUP(G51,Ingredients!$D:$K,4,FALSE)/(VLOOKUP(G51,Ingredients!$D:$K,2,FALSE))*H51,"") | J51: Butter | L51: 40 | M51: Banana | N51: 120 | O51: =IF(AND(M51<>"",N51<>""),IF(NOT(ISNA(VLOOKUP(M51,Ingredients!$D:$K,4,FALSE)/(VLOOKUP(M51,Ingredients!$D:$K,2,FALSE))*N51)),VLOOKUP(M51,Ingredients!$D:$K,4,FALSE)/(VLOOKUP(M51,Ingredients!$D:$K,2,FALSE))*N51,VLOOKUP(M51,Prepared!$D:$G,4,FALSE)/(VLOOKUP(M51,Prepared!$D:$G,3,FALSE))*N51),"") -> 106.77966 | R51: =IF(AND(P51<>"",Q51<>""),IF(NOT(ISNA(VLOOKUP(P51,Ingredients!$D:$K,4,FALSE)/(VLOOKUP(P51,Ingredients!$D:$K,2,FALSE))*Q51)),VLOOKUP(P51,Ingredients!$D:$K,4,FALSE)/(VLOOKUP(P51,Ingredients!$D:$K,2,FALSE))*Q51,VLOOKUP(P51,Prepared!$D:$G,4,FALSE)/(VLOOKUP(P51,Prepared!$D:$G,3,FALSE))*Q51),"") | U51: =IF(AND(S51<>"",T51<>""),IF(NOT(ISNA(VLOOKUP(S51,Ingredients!$D:$K,4,FALSE)/(VLOOKUP(S51,Ingredients!$D:$K,2,FALSE))*T51)),VLOOKUP(S51,Ingredients!$D:$K,4,FALSE)/(VLOOKUP(S51,Ingredients!$D:$K,2,FALSE))*T51,VLOOKUP(S51,Prepared!$D:$G,4,FALSE)/(VLOOKUP(S51,Prepared!$D:$G,3,FALSE))*T51),"")
C52: =IF(AND(A52<>"",B52<>""),IF(NOT(ISNA(VLOOKUP(A52,Ingredients!$D:$K,4,FALSE)/(VLOOKUP(A52,Ingredients!$D:$K,2,FALSE))*B52)),VLOOKUP(A52,Ingredients!$D:$K,4,FALSE)/(VLOOKUP(A52,Ingredients!$D:$K,2,FALSE))*B52,VLOOKUP(A52,Prepared!$D:$G,4,FALSE)/(VLOOKUP(A52,Prepared!$D:$G,3,FALSE))*B52),"") | F52: =IF(AND(D52<>"",E52<>""),IF(NOT(ISNA(VLOOKUP(D52,Ingredients!$D:$K,4,FALSE)/(VLOOKUP(D52,Ingredients!$D:$K,2,FALSE))*E52)),VLOOKUP(D52,Ingredients!$D:$K,4,FALSE)/(VLOOKUP(D52,Ingredients!$D:$K,2,FALSE))*E52,VLOOKUP(D52,Prepared!$D:$G,4,FALSE)/(VLOOKUP(D52,Prepared!$D:$G,3,FALSE))*E52),"") | I52: =IF(AND(G52<>"",H52<>""),VLOOKUP(G52,Ingredients!$D:$K,4,FALSE)/(VLOOKUP(G52,Ingredients!$D:$K,2,FALSE))*H52,"") | L52: =IF(AND(J52<>"",K52<>""),IF(NOT(ISNA(VLOOKUP(J52,Ingredients!$D:$K,4,FALSE)/(VLOOKUP(J52,Ingredients!$D:$K,2,FALSE))*K52)),VLOOKUP(J52,Ingredients!$D:$K,4,FALSE)/(VLOOKUP(J52,Ingredients!$D:$K,2,FALSE))*K52,VLOOKUP(J52,Prepared!$D:$G,4,FALSE)/(VLOOKUP(J52,Prepared!$D:$G,3,FALSE))*K52),"") | M52: Juice | N52: 400 | O52: =IF(AND(M52<>"",N52<>""),IF(NOT(ISNA(VLOOKUP(M52,Ingredients!$D:$K,4,FALSE)/(VLOOKUP(M52,Ingredients!$D:$K,2,FALSE))*N52)),VLOOKUP(M52,Ingredients!$D:$K,4,FALSE)/(VLOOKUP(M52,Ingredients!$D:$K,2,FALSE))*N52,VLOOKUP(M52,Prepared!$D:$G,4,FALSE)/(VLOOKUP(M52,Prepared!$D:$G,3,FALSE))*N52),"") -> 200 | R52: =IF(AND(P52<>"",Q52<>""),IF(NOT(ISNA(VLOOKUP(P52,Ingredients!$D:$K,4,FALSE)/(VLOOKUP(P52,Ingredients!$D:$K,2,FALSE))*Q52)),VLOOKUP(P52,Ingredients!$D:$K,4,FALSE)/(VLOOKUP(P52,Ingredients!$D:$K,2,FALSE))*Q52,VLOOKUP(P52,Prepared!$D:$G,4,FALSE)/(VLOOKUP(P52,Prepared!$D:$G,3,FALSE))*Q52),"") | U52: =IF(AND(S52<>"",T52<>""),IF(NOT(ISNA(VLOOKUP(S52,Ingredients!$D:$K,4,FALSE)/(VLOOKUP(S52,Ingredients!$D:$K,2,FALSE))*T52)),VLOOKUP(S52,Ingredients!$D:$K,4,FALSE)/(VLOOKUP(S52,Ingredients!$D:$K,2,FALSE))*T52,VLOOKUP(S52,Prepared!$D:$G,4,FALSE)/(VLOOKUP(S52,Prepared!$D:$G,3,FALSE))*T52),"")
C53: =IF(AND(A53<>"",B53<>""),IF(NOT(ISNA(VLOOKUP(A53,Ingredients!$D:$K,4,FALSE)/(VLOOKUP(A53,Ingredients!$D:$K,2,FALSE))*B53)),VLOOKUP(A53,Ingredients!$D:$K,4,FALSE)/(VLOOKUP(A53,Ingredients!$D:$K,2,FALSE))*B53,VLOOKUP(A53,Prepared!$D:$G,4,FALSE)/(VLOOKUP(A53,Prepared!$D:$G,3,FALSE))*B53),"") | F53: =IF(AND(D53<>"",E53<>""),IF(NOT(ISNA(VLOOKUP(D53,Ingredients!$D:$K,4,FALSE)/(VLOOKUP(D53,Ingredients!$D:$K,2,FALSE))*E53)),VLOOKUP(D53,Ingredients!$D:$K,4,FALSE)/(VLOOKUP(D53,Ingredients!$D:$K,2,FALSE))*E53,VLOOKUP(D53,Prepared!$D:$G,4,FALSE)/(VLOOKUP(D53,Prepared!$D:$G,3,FALSE))*E53),"") | I53: =IF(AND(G53<>"",H53<>""),VLOOKUP(G53,Ingredients!$D:$K,4,FALSE)/(VLOOKUP(G53,Ingredients!$D:$K,2,FALSE))*H53,"") | L53: =IF(AND(J53<>"",K53<>""),IF(NOT(ISNA(VLOOKUP(J53,Ingredients!$D:$K,4,FALSE)/(VLOOKUP(J53,Ingredients!$D:$K,2,FALSE))*K53)),VLOOKUP(J53,Ingredients!$D:$K,4,FALSE)/(VLOOKUP(J53,Ingredients!$D:$K,2,FALSE))*K53,VLOOKUP(J53,Prepared!$D:$G,4,FALSE)/(VLOOKUP(J53,Prepared!$D:$G,3,FALSE))*K53),"") | O53: =IF(AND(M53<>"",N53<>""),IF(NOT(ISNA(VLOOKUP(M53,Ingredients!$D:$K,4,FALSE)/(VLOOKUP(M53,Ingredients!$D:$K,2,FALSE))*N53)),VLOOKUP(M53,Ingredients!$D:$K,4,FALSE)/(VLOOKUP(M53,Ingredients!$D:$K,2,FALSE))*N53,VLOOKUP(M53,Prepared!$D:$G,4,FALSE)/(VLOOKUP(M53,Prepared!$D:$G,3,FALSE))*N53),"") | R53: =IF(AND(P53<>"",Q53<>""),IF(NOT(ISNA(VLOOKUP(P53,Ingredients!$D:$K,4,FALSE)/(VLOOKUP(P53,Ingredients!$D:$K,2,FALSE))*Q53)),VLOOKUP(P53,Ingredients!$D:$K,4,FALSE)/(VLOOKUP(P53,Ingredients!$D:$K,2,FALSE))*Q53,VLOOKUP(P53,Prepared!$D:$G,4,FALSE)/(VLOOKUP(P53,Prepared!$D:$G,3,FALSE))*Q53),"") | U53: =IF(AND(S53<>"",T53<>""),IF(NOT(ISNA(VLOOKUP(S53,Ingredients!$D:$K,4,FALSE)/(VLOOKUP(S53,Ingredients!$D:$K,2,FALSE))*T53)),VLOOKUP(S53,Ingredients!$D:$K,4,FALSE)/(VLOOKUP(S53,Ingredients!$D:$K,2,FALSE))*T53,VLOOKUP(S53,Prepared!$D:$G,4,FALSE)/(VLOOKUP(S53,Prepared!$D:$G,3,FALSE))*T53),"")
C54: =IF(AND(A54<>"",B54<>""),IF(NOT(ISNA(VLOOKUP(A54,Ingredients!$D:$K,4,FALSE)/(VLOOKUP(A54,Ingredients!$D:$K,2,FALSE))*B54)),VLOOKUP(A54,Ingredients!$D:$K,4,FALSE)/(VLOOKUP(A54,Ingredients!$D:$K,2,FALSE))*B54,VLOOKUP(A54,Prepared!$D:$G,4,FALSE)/(VLOOKUP(A54,Prepared!$D:$G,3,FALSE))*B54),"") | F54: =IF(AND(D54<>"",E54<>""),IF(NOT(ISNA(VLOOKUP(D54,Ingredients!$D:$K,4,FALSE)/(VLOOKUP(D54,Ingredients!$D:$K,2,FALSE))*E54)),VLOOKUP(D54,Ingredients!$D:$K,4,FALSE)/(VLOOKUP(D54,Ingredients!$D:$K,2,FALSE))*E54,VLOOKUP(D54,Prepared!$D:$G,4,FALSE)/(VLOOKUP(D54,Prepared!$D:$G,3,FALSE))*E54),"") | I54: =IF(AND(G54<>"",H54<>""),VLOOKUP(G54,Ingredients!$D:$K,4,FALSE)/(VLOOKUP(G54,Ingredients!$D:$K,2,FALSE))*H54,"") | L54: =IF(AND(J54<>"",K54<>""),IF(NOT(ISNA(VLOOKUP(J54,Ingredients!$D:$K,4,FALSE)/(VLOOKUP(J54,Ingredients!$D:$K,2,FALSE))*K54)),VLOOKUP(J54,Ingredients!$D:$K,4,FALSE)/(VLOOKUP(J54,Ingredients!$D:$K,2,FALSE))*K54,VLOOKUP(J54,Prepared!$D:$G,4,FALSE)/(VLOOKUP(J54,Prepared!$D:$G,3,FALSE))*K54),"") | O54: =IF(AND(M54<>"",N54<>""),IF(NOT(ISNA(VLOOKUP(M54,Ingredients!$D:$K,4,FALSE)/(VLOOKUP(M54,Ingredients!$D:$K,2,FALSE))*N54)),VLOOKUP(M54,Ingredients!$D:$K,4,FALSE)/(VLOOKUP(M54,Ingredients!$D:$K,2,FALSE))*N54,VLOOKUP(M54,Prepared!$D:$G,4,FALSE)/(VLOOKUP(M54,Prepared!$D:$G,3,FALSE))*N54),"") | R54: =IF(AND(P54<>"",Q54<>""),IF(NOT(ISNA(VLOOKUP(P54,Ingredients!$D:$K,4,FALSE)/(VLOOKUP(P54,Ingredients!$D:$K,2,FALSE))*Q54)),VLOOKUP(P54,Ingredients!$D:$K,4,FALSE)/(VLOOKUP(P54,Ingredients!$D:$K,2,FALSE))*Q54,VLOOKUP(P54,Prepared!$D:$G,4,FALSE)/(VLOOKUP(P54,Prepared!$D:$G,3,FALSE))*Q54),"") | U54: =IF(AND(S54<>"",T54<>""),IF(NOT(ISNA(VLOOKUP(S54,Ingredients!$D:$K,4,FALSE)/(VLOOKUP(S54,Ingredients!$D:$K,2,FALSE))*T54)),VLOOKUP(S54,Ingredients!$D:$K,4,FALSE)/(VLOOKUP(S54,Ingredients!$D:$K,2,FALSE))*T54,VLOOKUP(S54,Prepared!$D:$G,4,FALSE)/(VLOOKUP(S54,Prepared!$D:$G,3,FALSE))*T54),"")
C55: =IF(AND(A55<>"",B55<>""),IF(NOT(ISNA(VLOOKUP(A55,Ingredients!$D:$K,4,FALSE)/(VLOOKUP(A55,Ingredients!$D:$K,2,FALSE))*B55)),VLOOKUP(A55,Ingredients!$D:$K,4,FALSE)/(VLOOKUP(A55,Ingredients!$D:$K,2,FALSE))*B55,VLOOKUP(A55,Prepared!$D:$G,4,FALSE)/(VLOOKUP(A55,Prepared!$D:$G,3,FALSE))*B55),"") | F55: =IF(AND(D55<>"",E55<>""),IF(NOT(ISNA(VLOOKUP(D55,Ingredients!$D:$K,4,FALSE)/(VLOOKUP(D55,Ingredients!$D:$K,2,FALSE))*E55)),VLOOKUP(D55,Ingredients!$D:$K,4,FALSE)/(VLOOKUP(D55,Ingredients!$D:$K,2,FALSE))*E55,VLOOKUP(D55,Prepared!$D:$G,4,FALSE)/(VLOOKUP(D55,Prepared!$D:$G,3,FALSE))*E55),"") | I55: =IF(AND(G55<>"",H55<>""),VLOOKUP(G55,Ingredients!$D:$K,4,FALSE)/(VLOOKUP(G55,Ingredients!$D:$K,2,FALSE))*H55,"") | L55: =IF(AND(J55<>"",K55<>""),IF(NOT(ISNA(VLOOKUP(J55,Ingredients!$D:$K,4,FALSE)/(VLOOKUP(J55,Ingredients!$D:$K,2,FALSE))*K55)),VLOOKUP(J55,Ingredients!$D:$K,4,FALSE)/(VLOOKUP(J55,Ingredients!$D:$K,2,FALSE))*K55,VLOOKUP(J55,Prepared!$D:$G,4,FALSE)/(VLOOKUP(J55,Prepared!$D:$G,3,FALSE))*K55),"") | O55: =IF(AND(M55<>"",N55<>""),IF(NOT(ISNA(VLOOKUP(M55,Ingredients!$D:$K,4,FALSE)/(VLOOKUP(M55,Ingredients!$D:$K,2,FALSE))*N55)),VLOOKUP(M55,Ingredients!$D:$K,4,FALSE)/(VLOOKUP(M55,Ingredients!$D:$K,2,FALSE))*N55,VLOOKUP(M55,Prepared!$D:$G,4,FALSE)/(VLOOKUP(M55,Prepared!$D:$G,3,FALSE))*N55),"") | R55: =IF(AND(P55<>"",Q55<>""),IF(NOT(ISNA(VLOOKUP(P55,Ingredients!$D:$K,4,FALSE)/(VLOOKUP(P55,Ingredients!$D:$K,2,FALSE))*Q55)),VLOOKUP(P55,Ingredients!$D:$K,4,FALSE)/(VLOOKUP(P55,Ingredients!$D:$K,2,FALSE))*Q55,VLOOKUP(P55,Prepared!$D:$G,4,FALSE)/(VLOOKUP(P55,Prepared!$D:$G,3,FALSE))*Q55),"") | U55: =IF(AND(S55<>"",T55<>""),IF(NOT(ISNA(VLOOKUP(S55,Ingredients!$D:$K,4,FALSE)/(VLOOKUP(S55,Ingredients!$D:$K,2,FALSE))*T55)),VLOOKUP(S55,Ingredients!$D:$K,4,FALSE)/(VLOOKUP(S55,Ingredients!$D:$K,2,FALSE))*T55,VLOOKUP(S55,Prepared!$D:$G,4,FALSE)/(VLOOKUP(S55,Prepared!$D:$G,3,FALSE))*T55),"")
C56: =IF(AND(A56<>"",B56<>""),IF(NOT(ISNA(VLOOKUP(A56,Ingredients!$D:$K,4,FALSE)/(VLOOKUP(A56,Ingredients!$D:$K,2,FALSE))*B56)),VLOOKUP(A56,Ingredients!$D:$K,4,FALSE)/(VLOOKUP(A56,Ingredients!$D:$K,2,FALSE))*B56,VLOOKUP(A56,Prepared!$D:$G,4,FALSE)/(VLOOKUP(A56,Prepared!$D:$G,3,FALSE))*B56),"") | F56: =IF(AND(D56<>"",E56<>""),IF(NOT(ISNA(VLOOKUP(D56,Ingredients!$D:$K,4,FALSE)/(VLOOKUP(D56,Ingredients!$D:$K,2,FALSE))*E56)),VLOOKUP(D56,Ingredients!$D:$K,4,FALSE)/(VLOOKUP(D56,Ingredients!$D:$K,2,FALSE))*E56,VLOOKUP(D56,Prepared!$D:$G,4,FALSE)/(VLOOKUP(D56,Prepared!$D:$G,3,FALSE))*E56),"") | I56: =IF(AND(G56<>"",H56<>""),VLOOKUP(G56,Ingredients!$D:$K,4,FALSE)/(VLOOKUP(G56,Ingredients!$D:$K,2,FALSE))*H56,"") | L56: =IF(AND(J56<>"",K56<>""),IF(NOT(ISNA(VLOOKUP(J56,Ingredients!$D:$K,4,FALSE)/(VLOOKUP(J56,Ingredients!$D:$K,2,FALSE))*K56)),VLOOKUP(J56,Ingredients!$D:$K,4,FALSE)/(VLOOKUP(J56,Ingredients!$D:$K,2,FALSE))*K56,VLOOKUP(J56,Prepared!$D:$G,4,FALSE)/(VLOOKUP(J56,Prepared!$D:$G,3,FALSE))*K56),"") | O56: =IF(AND(M56<>"",N56<>""),IF(NOT(ISNA(VLOOKUP(M56,Ingredients!$D:$K,4,FALSE)/(VLOOKUP(M56,Ingredients!$D:$K,2,FALSE))*N56)),VLOOKUP(M56,Ingredients!$D:$K,4,FALSE)/(VLOOKUP(M56,Ingredients!$D:$K,2,FALSE))*N56,VLOOKUP(M56,Prepared!$D:$G,4,FALSE)/(VLOOKUP(M56,Prepared!$D:$G,3,FALSE))*N56),"") | R56: =IF(AND(P56<>"",Q56<>""),IF(NOT(ISNA(VLOOKUP(P56,Ingredients!$D:$K,4,FALSE)/(VLOOKUP(P56,Ingredients!$D:$K,2,FALSE))*Q56)),VLOOKUP(P56,Ingredients!$D:$K,4,FALSE)/(VLOOKUP(P56,Ingredients!$D:$K,2,FALSE))*Q56,VLOOKUP(P56,Prepared!$D:$G,4,FALSE)/(VLOOKUP(P56,Prepared!$D:$G,3,FALSE))*Q56),"") | U56: =IF(AND(S56<>"",T56<>""),IF(NOT(ISNA(VLOOKUP(S56,Ingredients!$D:$K,4,FALSE)/(VLOOKUP(S56,Ingredients!$D:$K,2,FALSE))*T56)),VLOOKUP(S56,Ingredients!$D:$K,4,FALSE)/(VLOOKUP(S56,Ingredients!$D:$K,2,FALSE))*T56,VLOOKUP(S56,Prepared!$D:$G,4,FALSE)/(VLOOKUP(S56,Prepared!$D:$G,3,FALSE))*T56),"")
C57: =IF(AND(A57<>"",B57<>""),IF(NOT(ISNA(VLOOKUP(A57,Ingredients!$D:$K,4,FALSE)/(VLOOKUP(A57,Ingredients!$D:$K,2,FALSE))*B57)),VLOOKUP(A57,Ingredients!$D:$K,4,FALSE)/(VLOOKUP(A57,Ingredients!$D:$K,2,FALSE))*B57,VLOOKUP(A57,Prepared!$D:$G,4,FALSE)/(VLOOKUP(A57,Prepared!$D:$G,3,FALSE))*B57),"") | F57: =IF(AND(D57<>"",E57<>""),IF(NOT(ISNA(VLOOKUP(D57,Ingredients!$D:$K,4,FALSE)/(VLOOKUP(D57,Ingredients!$D:$K,2,FALSE))*E57)),VLOOKUP(D57,Ingredients!$D:$K,4,FALSE)/(VLOOKUP(D57,Ingredients!$D:$K,2,FALSE))*E57,VLOOKUP(D57,Prepared!$D:$G,4,FALSE)/(VLOOKUP(D57,Prepared!$D:$G,3,FALSE))*E57),"") | I57: =IF(AND(G57<>"",H57<>""),VLOOKUP(G57,Ingredients!$D:$K,4,FALSE)/(VLOOKUP(G57,Ingredients!$D:$K,2,FALSE))*H57,"") | L57: =IF(AND(J57<>"",K57<>""),IF(NOT(ISNA(VLOOKUP(J57,Ingredients!$D:$K,4,FALSE)/(VLOOKUP(J57,Ingredients!$D:$K,2,FALSE))*K57)),VLOOKUP(J57,Ingredients!$D:$K,4,FALSE)/(VLOOKUP(J57,Ingredients!$D:$K,2,FALSE))*K57,VLOOKUP(J57,Prepared!$D:$G,4,FALSE)/(VLOOKUP(J57,Prepared!$D:$G,3,FALSE))*K57),"") | O57: =IF(AND(M57<>"",N57<>""),IF(NOT(ISNA(VLOOKUP(M57,Ingredients!$D:$K,4,FALSE)/(VLOOKUP(M57,Ingredients!$D:$K,2,FALSE))*N57)),VLOOKUP(M57,Ingredients!$D:$K,4,FALSE)/(VLOOKUP(M57,Ingredients!$D:$K,2,FALSE))*N57,VLOOKUP(M57,Prepared!$D:$G,4,FALSE)/(VLOOKUP(M57,Prepared!$D:$G,3,FALSE))*N57),"") | R57: =IF(AND(P57<>"",Q57<>""),IF(NOT(ISNA(VLOOKUP(P57,Ingredients!$D:$K,4,FALSE)/(VLOOKUP(P57,Ingredients!$D:$K,2,FALSE))*Q57)),VLOOKUP(P57,Ingredients!$D:$K,4,FALSE)/(VLOOKUP(P57,Ingredients!$D:$K,2,FALSE))*Q57,VLOOKUP(P57,Prepared!$D:$G,4,FALSE)/(VLOOKUP(P57,Prepared!$D:$G,3,FALSE))*Q57),"") | U57: =IF(AND(S57<>"",T57<>""),IF(NOT(ISNA(VLOOKUP(S57,Ingredients!$D:$K,4,FALSE)/(VLOOKUP(S57,Ingredients!$D:$K,2,FALSE))*T57)),VLOOKUP(S57,Ingredients!$D:$K,4,FALSE)/(VLOOKUP(S57,Ingredients!$D:$K,2,FALSE))*T57,VLOOKUP(S57,Prepared!$D:$G,4,FALSE)/(VLOOKUP(S57,Prepared!$D:$G,3,FALSE))*T57),"")
C58: =IF(AND(A58<>"",B58<>""),IF(NOT(ISNA(VLOOKUP(A58,Ingredients!$D:$K,4,FALSE)/(VLOOKUP(A58,Ingredients!$D:$K,2,FALSE))*B58)),VLOOKUP(A58,Ingredients!$D:$K,4,FALSE)/(VLOOKUP(A58,Ingredients!$D:$K,2,FALSE))*B58,VLOOKUP(A58,Prepared!$D:$G,4,FALSE)/(VLOOKUP(A58,Prepared!$D:$G,3,FALSE))*B58),"") | F58: =IF(AND(D58<>"",E58<>""),IF(NOT(ISNA(VLOOKUP(D58,Ingredients!$D:$K,4,FALSE)/(VLOOKUP(D58,Ingredients!$D:$K,2,FALSE))*E58)),VLOOKUP(D58,Ingredients!$D:$K,4,FALSE)/(VLOOKUP(D58,Ingredients!$D:$K,2,FALSE))*E58,VLOOKUP(D58,Prepared!$D:$G,4,FALSE)/(VLOOKUP(D58,Prepared!$D:$G,3,FALSE))*E58),"") | I58: =IF(AND(G58<>"",H58<>""),VLOOKUP(G58,Ingredients!$D:$K,4,FALSE)/(VLOOKUP(G58,Ingredients!$D:$K,2,FALSE))*H58,"") | L58: =IF(AND(J58<>"",K58<>""),IF(NOT(ISNA(VLOOKUP(J58,Ingredients!$D:$K,4,FALSE)/(VLOOKUP(J58,Ingredients!$D:$K,2,FALSE))*K58)),VLOOKUP(J58,Ingredients!$D:$K,4,FALSE)/(VLOOKUP(J58,Ingredients!$D:$K,2,FALSE))*K58,VLOOKUP(J58,Prepared!$D:$G,4,FALSE)/(VLOOKUP(J58,Prepared!$D:$G,3,FALSE))*K58),"") | O58: =IF(AND(M58<>"",N58<>""),VLOOKUP(M58,Ingredients!$D:$K,4,FALSE)/(VLOOKUP(M58,Ingredients!$D:$K,2,FALSE))*N58,"") | R58: =IF(AND(P58<>"",Q58<>""),IF(NOT(ISNA(VLOOKUP(P58,Ingredients!$D:$K,4,FALSE)/(VLOOKUP(P58,Ingredients!$D:$K,2,FALSE))*Q58)),VLOOKUP(P58,Ingredients!$D:$K,4,FALSE)/(VLOOKUP(P58,Ingredients!$D:$K,2,FALSE))*Q58,VLOOKUP(P58,Prepared!$D:$G,4,FALSE)/(VLOOKUP(P58,Prepared!$D:$G,3,FALSE))*Q58),"") | U58: =IF(AND(S58<>"",T58<>""),IF(NOT(ISNA(VLOOKUP(S58,Ingredients!$D:$K,4,FALSE)/(VLOOKUP(S58,Ingredients!$D:$K,2,FALSE))*T58)),VLOOKUP(S58,Ingredients!$D:$K,4,FALSE)/(VLOOKUP(S58,Ingredients!$D:$K,2,FALSE))*T58,VLOOKUP(S58,Prepared!$D:$G,4,FALSE)/(VLOOKUP(S58,Prepared!$D:$G,3,FALSE))*T58),"")
A61: =ROUND(SUM(A62:U62)/COUNT(A62:U62),-1) -> 1900 | B61: Weekly avg
A62: Tuesday | B62: Amount | C62: =IF(SUM(C63:C81)>0,SUM(C63:C81),"") -> 1526 | D62: Wednesday | E62: Amount | F62: =IF(SUM(F63:F81)>0,SUM(F63:F81),"") -> 1635.7208 | G62: Thursday | H62: Amount | I62: =IF(SUM(I63:I81)>0,SUM(I63:I81),"") -> 2248.85 | J62: Friday | K62: Amount | L62: =IF(SUM(L63:L81)>0,SUM(L63:L81),"") -> 1573.5444 | M62: Saturday | O62: =SUM(O63:O81) -> 2473.9818 | P62: Sunday | R62: =SUM(R63:R81) -> 1908.5269 | S62: Monday | U62: =SUM(U63:U81) -> 1904.9768
A63: Slaw | B63: 80 | C63: =IF(AND(A63<>"",B63<>""),IF(NOT(ISNA(VLOOKUP(A63,Ingredients!$D:$K,4,FALSE)/(VLOOKUP(A63,Ingredients!$D:$K,2,FALSE))*B63)),VLOOKUP(A63,Ingredients!$D:$K,4,FALSE)/(VLOOKUP(A63,Ingredients!$D:$K,2,FALSE))*B63,VLOOKUP(A63,Prepared!$D:$G,4,FALSE)/(VLOOKUP(A63,Prepared!$D:$G,3,FALSE))*B63),"") -> 56 | D63: Breakfast | E63: 1 | F63: =IF(AND(D63<>"",E63<>""),IF(NOT(ISNA(VLOOKUP(D63,Ingredients!$D:$K,4,FALSE)/(VLOOKUP(D63,Ingredients!$D:$K,2,FALSE))*E63)),VLOOKUP(D63,Ingredients!$D:$K,4,FALSE)/(VLOOKUP(D63,Ingredients!$D:$K,2,FALSE))*E63,VLOOKUP(D63,Prepared!$D:$G,4,FALSE)/(VLOOKUP(D63,Prepared!$D:$G,3,FALSE))*E63),"") -> 245 | G63: Breakfast | H63: 1 | I63: =IF(AND(G63<>"",H63<>""),IF(NOT(ISNA(VLOOKUP(G63,Ingredients!$D:$K,4,FALSE)/(VLOOKUP(G63,Ingredients!$D:$K,2,FALSE))*H63)),VLOOKUP(G63,Ingredients!$D:$K,4,FALSE)/(VLOOKUP(G63,Ingredients!$D:$K,2,FALSE))*H63,VLOOKUP(G63,Prepared!$D:$G,4,FALSE)/(VLOOKUP(G63,Prepared!$D:$G,3,FALSE))*H63),"") -> 245 | J63: Breakfast | K63: 1 | L63: =IF(AND(J63<>"",K63<>""),IF(NOT(ISNA(VLOOKUP(J63,Ingredients!$D:$K,4,FALSE)/(VLOOKUP(J63,Ingredients!$D:$K,2,FALSE))*K63)),VLOOKUP(J63,Ingredients!$D:$K,4,FALSE)/(VLOOKUP(J63,Ingredients!$D:$K,2,FALSE))*K63,VLOOKUP(J63,Prepared!$D:$G,4,FALSE)/(VLOOKUP(J63,Prepared!$D:$G,3,FALSE))*K63),"") -> 245 | M63: Crepes | N63: 4 | O63: =IF(AND(M63<>"",N63<>""),IF(NOT(ISNA(VLOOKUP(M63,Ingredients!$D:$K,4,FALSE)/(VLOOKUP(M63,Ingredients!$D:$K,2,FALSE))*N63)),VLOOKUP(M63,Ingredients!$D:$K,4,FALSE)/(VLOOKUP(M63,Ingredients!$D:$K,2,FALSE))*N63,VLOOKUP(M63,Prepared!$D:$G,4,FALSE)/(VLOOKUP(M63,Prepared!$D:$G,3,FALSE))*N63),"") -> 551.5 | P63: Popcorn | Q63: 50 | R63: =IF(AND(P63<>"",Q63<>""),IF(NOT(ISNA(VLOOKUP(P63,Ingredients!$D:$K,4,FALSE)/(VLOOKUP(P63,Ingredients!$D:$K,2,FALSE))*Q63)),VLOOKUP(P63,Ingredients!$D:$K,4,FALSE)/(VLOOKUP(P63,Ingredients!$D:$K,2,FALSE))*Q63,VLOOKUP(P63,Prepared!$D:$G,4,FALSE)/(VLOOKUP(P63,Prepared!$D:$G,3,FALSE))*Q63),"") -> 250 | S63: Breakfast | T63: 1 | U63: =IF(AND(S63<>"",T63<>""),IF(NOT(ISNA(VLOOKUP(S63,Ingredients!$D:$K,4,FALSE)/(VLOOKUP(S63,Ingredients!$D:$K,2,FALSE))*T63)),VLOOKUP(S63,Ingredients!$D:$K,4,FALSE)/(VLOOKUP(S63,Ingredients!$D:$K,2,FALSE))*T63,VLOOKUP(S63,Prepared!$D:$G,4,FALSE)/(VLOOKUP(S63,Prepared!$D:$G,3,FALSE))*T63),"") -> 245
A64: Corn | B64: 100 | C64: =IF(AND(A64<>"",B64<>""),IF(NOT(ISNA(VLOOKUP(A64,Ingredients!$D:$K,4,FALSE)/(VLOOKUP(A64,Ingredients!$D:$K,2,FALSE))*B64)),VLOOKUP(A64,Ingredients!$D:$K,4,FALSE)/(VLOOKUP(A64,Ingredients!$D:$K,2,FALSE))*B64,VLOOKUP(A64,Prepared!$D:$G,4,FALSE)/(VLOOKUP(A64,Prepared!$D:$G,3,FALSE))*B64),"") -> 80 | D64: Cookie | E64: 1 | F64: =IF(AND(D64<>"",E64<>""),IF(NOT(ISNA(VLOOKUP(D64,Ingredients!$D:$K,4,FALSE)/(VLOOKUP(D64,Ingredients!$D:$K,2,FALSE))*E64)),VLOOKUP(D64,Ingredients!$D:$K,4,FALSE)/(VLOOKUP(D64,Ingredients!$D:$K,2,FALSE))*E64,VLOOKUP(D64,Prepared!$D:$G,4,FALSE)/(VLOOKUP(D64,Prepared!$D:$G,3,FALSE))*E64),"") -> 50 | G64: Bread | H64: 1 | I64: 100 | J64: Apple | K64: 170 | L64: =IF(AND(J64<>"",K64<>""),IF(NOT(ISNA(VLOOKUP(J64,Ingredients!$D:$K,4,FALSE)/(VLOOKUP(J64,Ingredients!$D:$K,2,FALSE))*K64)),VLOOKUP(J64,Ingredients!$D:$K,4,FALSE)/(VLOOKUP(J64,Ingredients!$D:$K,2,FALSE))*K64,VLOOKUP(J64,Prepared!$D:$G,4,FALSE)/(VLOOKUP(J64,Prepared!$D:$G,3,FALSE))*K64),"") -> 85.944444 | M64: Raspberries | N64: 125 | O64: =IF(AND(M64<>"",N64<>""),IF(NOT(ISNA(VLOOKUP(M64,Ingredients!$D:$K,4,FALSE)/(VLOOKUP(M64,Ingredients!$D:$K,2,FALSE))*N64)),VLOOKUP(M64,Ingredients!$D:$K,4,FALSE)/(VLOOKUP(M64,Ingredients!$D:$K,2,FALSE))*N64,VLOOKUP(M64,Prepared!$D:$G,4,FALSE)/(VLOOKUP(M64,Prepared!$D:$G,3,FALSE))*N64),"") -> 64.903846 | P64: Cookie | Q64: 3 | R64: =IF(AND(P64<>"",Q64<>""),IF(NOT(ISNA(VLOOKUP(P64,Ingredients!$D:$K,4,FALSE)/(VLOOKUP(P64,Ingredients!$D:$K,2,FALSE))*Q64)),VLOOKUP(P64,Ingredients!$D:$K,4,FALSE)/(VLOOKUP(P64,Ingredients!$D:$K,2,FALSE))*Q64,VLOOKUP(P64,Prepared!$D:$G,4,FALSE)/(VLOOKUP(P64,Prepared!$D:$G,3,FALSE))*Q64),"") -> 150 | S64: Juice | T64: 100 | U64: =IF(AND(S64<>"",T64<>""),IF(NOT(ISNA(VLOOKUP(S64,Ingredients!$D:$K,4,FALSE)/(VLOOKUP(S64,Ingredients!$D:$K,2,FALSE))*T64)),VLOOKUP(S64,Ingredients!$D:$K,4,FALSE)/(VLOOKUP(S64,Ingredients!$D:$K,2,FALSE))*T64,VLOOKUP(S64,Prepared!$D:$G,4,FALSE)/(VLOOKUP(S64,Prepared!$D:$G,3,FALSE))*T64),"") -> 50
A65: Breakfast | B65: 1 | C65: =IF(AND(A65<>"",B65<>""),IF(NOT(ISNA(VLOOKUP(A65,Ingredients!$D:$K,4,FALSE)/(VLOOKUP(A65,Ingredients!$D:$K,2,FALSE))*B65)),VLOOKUP(A65,Ingredients!$D:$K,4,FALSE)/(VLOOKUP(A65,Ingredients!$D:$K,2,FALSE))*B65,VLOOKUP(A65,Prepared!$D:$G,4,FALSE)/(VLOOKUP(A65,Prepared!$D:$G,3,FALSE))*B65),"") -> 245 | D65: Tomato | E65: 120 | F65: =IF(AND(D65<>"",E65<>""),IF(NOT(ISNA(VLOOKUP(D65,Ingredients!$D:$K,4,FALSE)/(VLOOKUP(D65,Ingredients!$D:$K,2,FALSE))*E65)),VLOOKUP(D65,Ingredients!$D:$K,4,FALSE)/(VLOOKUP(D65,Ingredients!$D:$K,2,FALSE))*E65,VLOOKUP(D65,Prepared!$D:$G,4,FALSE)/(VLOOKUP(D65,Prepared!$D:$G,3,FALSE))*E65),"") -> 21.176471 | G65: Cookie | H65: 1 | I65: =IF(AND(G65<>"",H65<>""),IF(NOT(ISNA(VLOOKUP(G65,Ingredients!$D:$K,4,FALSE)/(VLOOKUP(G65,Ingredients!$D:$K,2,FALSE))*H65)),VLOOKUP(G65,Ingredients!$D:$K,4,FALSE)/(VLOOKUP(G65,Ingredients!$D:$K,2,FALSE))*H65,VLOOKUP(G65,Prepared!$D:$G,4,FALSE)/(VLOOKUP(G65,Prepared!$D:$G,3,FALSE))*H65),"") -> 50 | J65: Cookies | L65: 200 | M65: Blueberries | N65: 125 | O65: =IF(AND(M65<>"",N65<>""),IF(NOT(ISNA(VLOOKUP(M65,Ingredients!$D:$K,4,FALSE)/(VLOOKUP(M65,Ingredients!$D:$K,2,FALSE))*N65)),VLOOKUP(M65,Ingredients!$D:$K,4,FALSE)/(VLOOKUP(M65,Ingredients!$D:$K,2,FALSE))*N65,VLOOKUP(M65,Prepared!$D:$G,4,FALSE)/(VLOOKUP(M65,Prepared!$D:$G,3,FALSE))*N65),"") -> 72.635135 | P65: Crepes | Q65: 4 | R65: =IF(AND(P65<>"",Q65<>""),IF(NOT(ISNA(VLOOKUP(P65,Ingredients!$D:$K,4,FALSE)/(VLOOKUP(P65,Ingredients!$D:$K,2,FALSE))*Q65)),VLOOKUP(P65,Ingredients!$D:$K,4,FALSE)/(VLOOKUP(P65,Ingredients!$D:$K,2,FALSE))*Q65,VLOOKUP(P65,Prepared!$D:$G,4,FALSE)/(VLOOKUP(P65,Prepared!$D:$G,3,FALSE))*Q65),"") -> 551.5 | S65: Cookie | T65: 8 | U65: =IF(AND(S65<>"",T65<>""),IF(NOT(ISNA(VLOOKUP(S65,Ingredients!$D:$K,4,FALSE)/(VLOOKUP(S65,Ingredients!$D:$K,2,FALSE))*T65)),VLOOKUP(S65,Ingredients!$D:$K,4,FALSE)/(VLOOKUP(S65,Ingredients!$D:$K,2,FALSE))*T65,VLOOKUP(S65,Prepared!$D:$G,4,FALSE)/(VLOOKUP(S65,Prepared!$D:$G,3,FALSE))*T65),"") -> 400
A66: Apple | B66: 1 | C66: 90 | D66: Onions | E66: 1 | F66: =IF(AND(D66<>"",E66<>""),IF(NOT(ISNA(VLOOKUP(D66,Ingredients!$D:$K,4,FALSE)/(VLOOKUP(D66,Ingredients!$D:$K,2,FALSE))*E66)),VLOOKUP(D66,Ingredients!$D:$K,4,FALSE)/(VLOOKUP(D66,Ingredients!$D:$K,2,FALSE))*E66,VLOOKUP(D66,Prepared!$D:$G,4,FALSE)/(VLOOKUP(D66,Prepared!$D:$G,3,FALSE))*E66),"") -> 40 | G66: Pizza | H66: 1 | I66: 1000 | J66: Nomz | L66: 50 | M66: Maple Syrup | N66: 15 | O66: =IF(AND(M66<>"",N66<>""),IF(NOT(ISNA(VLOOKUP(M66,Ingredients!$D:$K,4,FALSE)/(VLOOKUP(M66,Ingredients!$D:$K,2,FALSE))*N66)),VLOOKUP(M66,Ingredients!$D:$K,4,FALSE)/(VLOOKUP(M66,Ingredients!$D:$K,2,FALSE))*N66,VLOOKUP(M66,Prepared!$D:$G,4,FALSE)/(VLOOKUP(M66,Prepared!$D:$G,3,FALSE))*N66),"") -> 53.4 | P66: Strawberries | Q66: 150 | R66: =IF(AND(P66<>"",Q66<>""),IF(NOT(ISNA(VLOOKUP(P66,Ingredients!$D:$K,4,FALSE)/(VLOOKUP(P66,Ingredients!$D:$K,2,FALSE))*Q66)),VLOOKUP(P66,Ingredients!$D:$K,4,FALSE)/(VLOOKUP(P66,Ingredients!$D:$K,2,FALSE))*Q66,VLOOKUP(P66,Prepared!$D:$G,4,FALSE)/(VLOOKUP(P66,Prepared!$D:$G,3,FALSE))*Q66),"") -> 48.214286 | S66: Bread | T66: 2 | U66: =IF(AND(S66<>"",T66<>""),IF(NOT(ISNA(VLOOKUP(S66,Ingredients!$D:$K,4,FALSE)/(VLOOKUP(S66,Ingredients!$D:$K,2,FALSE))*T66)),VLOOKUP(S66,Ingredients!$D:$K,4,FALSE)/(VLOOKUP(S66,Ingredients!$D:$K,2,FALSE))*T66,VLOOKUP(S66,Prepared!$D:$G,4,FALSE)/(VLOOKUP(S66,Prepared!$D:$G,3,FALSE))*T66),"") -> 200
A67: Lunch | C67: 500 | D67: Salad | E67: 60 | F67: =IF(AND(D67<>"",E67<>""),IF(NOT(ISNA(VLOOKUP(D67,Ingredients!$D:$K,4,FALSE)/(VLOOKUP(D67,Ingredients!$D:$K,2,FALSE))*E67)),VLOOKUP(D67,Ingredients!$D:$K,4,FALSE)/(VLOOKUP(D67,Ingredients!$D:$K,2,FALSE))*E67,VLOOKUP(D67,Prepared!$D:$G,4,FALSE)/(VLOOKUP(D67,Prepared!$D:$G,3,FALSE))*E67),"") -> 0 | G67: Hot Chocolate | H67: 1 | I67: =IF(AND(G67<>"",H67<>""),IF(NOT(ISNA(VLOOKUP(G67,Ingredients!$D:$K,4,FALSE)/(VLOOKUP(G67,Ingredients!$D:$K,2,FALSE))*H67)),VLOOKUP(G67,Ingredients!$D:$K,4,FALSE)/(VLOOKUP(G67,Ingredients!$D:$K,2,FALSE))*H67,VLOOKUP(G67,Prepared!$D:$G,4,FALSE)/(VLOOKUP(G67,Prepared!$D:$G,3,FALSE))*H67),"") -> 367.6 | J67: Cookie | K67: 1 | L67: =IF(AND(J67<>"",K67<>""),IF(NOT(ISNA(VLOOKUP(J67,Ingredients!$D:$K,4,FALSE)/(VLOOKUP(J67,Ingredients!$D:$K,2,FALSE))*K67)),VLOOKUP(J67,Ingredients!$D:$K,4,FALSE)/(VLOOKUP(J67,Ingredients!$D:$K,2,FALSE))*K67,VLOOKUP(J67,Prepared!$D:$G,4,FALSE)/(VLOOKUP(J67,Prepared!$D:$G,3,FALSE))*K67),"") -> 50 | M67: Sugar | N67: 15 | O67: =IF(AND(M67<>"",N67<>""),IF(NOT(ISNA(VLOOKUP(M67,Ingredients!$D:$K,4,FALSE)/(VLOOKUP(M67,Ingredients!$D:$K,2,FALSE))*N67)),VLOOKUP(M67,Ingredients!$D:$K,4,FALSE)/(VLOOKUP(M67,Ingredients!$D:$K,2,FALSE))*N67,VLOOKUP(M67,Prepared!$D:$G,4,FALSE)/(VLOOKUP(M67,Prepared!$D:$G,3,FALSE))*N67),"") -> 59.4 | P67: Blueberries | Q67: 125 | R67: =IF(AND(P67<>"",Q67<>""),IF(NOT(ISNA(VLOOKUP(P67,Ingredients!$D:$K,4,FALSE)/(VLOOKUP(P67,Ingredients!$D:$K,2,FALSE))*Q67)),VLOOKUP(P67,Ingredients!$D:$K,4,FALSE)/(VLOOKUP(P67,Ingredients!$D:$K,2,FALSE))*Q67,VLOOKUP(P67,Prepared!$D:$G,4,FALSE)/(VLOOKUP(P67,Prepared!$D:$G,3,FALSE))*Q67),"") -> 72.635135 | S67: Cheese | T67: 2 | U67: =IF(AND(S67<>"",T67<>""),IF(NOT(ISNA(VLOOKUP(S67,Ingredients!$D:$K,4,FALSE)/(VLOOKUP(S67,Ingredients!$D:$K,2,FALSE))*T67)),VLOOKUP(S67,Ingredients!$D:$K,4,FALSE)/(VLOOKUP(S67,Ingredients!$D:$K,2,FALSE))*T67,VLOOKUP(S67,Prepared!$D:$G,4,FALSE)/(VLOOKUP(S67,Prepared!$D:$G,3,FALSE))*T67),"") -> 200
A68: Juice | B68: 250 | C68: =IF(AND(A68<>"",B68<>""),IF(NOT(ISNA(VLOOKUP(A68,Ingredients!$D:$K,4,FALSE)/(VLOOKUP(A68,Ingredients!$D:$K,2,FALSE))*B68)),VLOOKUP(A68,Ingredients!$D:$K,4,FALSE)/(VLOOKUP(A68,Ingredients!$D:$K,2,FALSE))*B68,VLOOKUP(A68,Prepared!$D:$G,4,FALSE)/(VLOOKUP(A68,Prepared!$D:$G,3,FALSE))*B68),"") -> 125 | D68: Cucumber | E68: 60 | F68: =IF(AND(D68<>"",E68<>""),IF(NOT(ISNA(VLOOKUP(D68,Ingredients!$D:$K,4,FALSE)/(VLOOKUP(D68,Ingredients!$D:$K,2,FALSE))*E68)),VLOOKUP(D68,Ingredients!$D:$K,4,FALSE)/(VLOOKUP(D68,Ingredients!$D:$K,2,FALSE))*E68,VLOOKUP(D68,Prepared!$D:$G,4,FALSE)/(VLOOKUP(D68,Prepared!$D:$G,3,FALSE))*E68),"") -> 7.7647059 | G68: Bread | H68: 2 | I68: =IF(AND(G68<>"",H68<>""),IF(NOT(ISNA(VLOOKUP(G68,Ingredients!$D:$K,4,FALSE)/(VLOOKUP(G68,Ingredients!$D:$K,2,FALSE))*H68)),VLOOKUP(G68,Ingredients!$D:$K,4,FALSE)/(VLOOKUP(G68,Ingredients!$D:$K,2,FALSE))*H68,VLOOKUP(G68,Prepared!$D:$G,4,FALSE)/(VLOOKUP(G68,Prepared!$D:$G,3,FALSE))*H68),"") -> 200 | J68: Bread | K68: 2 | L68: =IF(AND(J68<>"",K68<>""),IF(NOT(ISNA(VLOOKUP(J68,Ingredients!$D:$K,4,FALSE)/(VLOOKUP(J68,Ingredients!$D:$K,2,FALSE))*K68)),VLOOKUP(J68,Ingredients!$D:$K,4,FALSE)/(VLOOKUP(J68,Ingredients!$D:$K,2,FALSE))*K68,VLOOKUP(J68,Prepared!$D:$G,4,FALSE)/(VLOOKUP(J68,Prepared!$D:$G,3,FALSE))*K68),"") -> 200 | M68: Butter | N68: 10 | O68: =IF(AND(M68<>"",N68<>""),IF(NOT(ISNA(VLOOKUP(M68,Ingredients!$D:$K,4,FALSE)/(VLOOKUP(M68,Ingredients!$D:$K,2,FALSE))*N68)),VLOOKUP(M68,Ingredients!$D:$K,4,FALSE)/(VLOOKUP(M68,Ingredients!$D:$K,2,FALSE))*N68,VLOOKUP(M68,Prepared!$D:$G,4,FALSE)/(VLOOKUP(M68,Prepared!$D:$G,3,FALSE))*N68),"") -> 80 | P68: Butter | Q68: 10 | R68: =IF(AND(P68<>"",Q68<>""),IF(NOT(ISNA(VLOOKUP(P68,Ingredients!$D:$K,4,FALSE)/(VLOOKUP(P68,Ingredients!$D:$K,2,FALSE))*Q68)),VLOOKUP(P68,Ingredients!$D:$K,4,FALSE)/(VLOOKUP(P68,Ingredients!$D:$K,2,FALSE))*Q68,VLOOKUP(P68,Prepared!$D:$G,4,FALSE)/(VLOOKUP(P68,Prepared!$D:$G,3,FALSE))*Q68),"") -> 80 | S68: Tuna | T68: 75 | U68: =IF(AND(S68<>"",T68<>""),IF(NOT(ISNA(VLOOKUP(S68,Ingredients!$D:$K,4,FALSE)/(VLOOKUP(S68,Ingredients!$D:$K,2,FALSE))*T68)),VLOOKUP(S68,Ingredients!$D:$K,4,FALSE)/(VLOOKUP(S68,Ingredients!$D:$K,2,FALSE))*T68,VLOOKUP(S68,Prepared!$D:$G,4,FALSE)/(VLOOKUP(S68,Prepared!$D:$G,3,FALSE))*T68),"") -> 86.25
A69: Cookie | B69: 1 | C69: 50 | D69: Lasagne | F69: 450 | G69: Tuna | H69: 75 | I69: =IF(AND(G69<>"",H69<>""),IF(NOT(ISNA(VLOOKUP(G69,Ingredients!$D:$K,4,FALSE)/(VLOOKUP(G69,Ingredients!$D:$K,2,FALSE))*H69)),VLOOKUP(G69,Ingredients!$D:$K,4,FALSE)/(VLOOKUP(G69,Ingredients!$D:$K,2,FALSE))*H69,VLOOKUP(G69,Prepared!$D:$G,4,FALSE)/(VLOOKUP(G69,Prepared!$D:$G,3,FALSE))*H69),"") -> 86.25 | J69: Cheese | K69: 1 | L69: =IF(AND(J69<>"",K69<>""),IF(NOT(ISNA(VLOOKUP(J69,Ingredients!$D:$K,4,FALSE)/(VLOOKUP(J69,Ingredients!$D:$K,2,FALSE))*K69)),VLOOKUP(J69,Ingredients!$D:$K,4,FALSE)/(VLOOKUP(J69,Ingredients!$D:$K,2,FALSE))*K69,VLOOKUP(J69,Prepared!$D:$G,4,FALSE)/(VLOOKUP(J69,Prepared!$D:$G,3,FALSE))*K69),"") -> 100 | M69: Cookie | N69: 1 | O69: =IF(AND(M69<>"",N69<>""),IF(NOT(ISNA(VLOOKUP(M69,Ingredients!$D:$K,4,FALSE)/(VLOOKUP(M69,Ingredients!$D:$K,2,FALSE))*N69)),VLOOKUP(M69,Ingredients!$D:$K,4,FALSE)/(VLOOKUP(M69,Ingredients!$D:$K,2,FALSE))*N69,VLOOKUP(M69,Prepared!$D:$G,4,FALSE)/(VLOOKUP(M69,Prepared!$D:$G,3,FALSE))*N69),"") -> 50 | P69: Bread | Q69: 2 | R69: =IF(AND(P69<>"",Q69<>""),IF(NOT(ISNA(VLOOKUP(P69,Ingredients!$D:$K,4,FALSE)/(VLOOKUP(P69,Ingredients!$D:$K,2,FALSE))*Q69)),VLOOKUP(P69,Ingredients!$D:$K,4,FALSE)/(VLOOKUP(P69,Ingredients!$D:$K,2,FALSE))*Q69,VLOOKUP(P69,Prepared!$D:$G,4,FALSE)/(VLOOKUP(P69,Prepared!$D:$G,3,FALSE))*Q69),"") -> 200 | S69: Grapes | T69: 100 | U69: =IF(AND(S69<>"",T69<>""),IF(NOT(ISNA(VLOOKUP(S69,Ingredients!$D:$K,4,FALSE)/(VLOOKUP(S69,Ingredients!$D:$K,2,FALSE))*T69)),VLOOKUP(S69,Ingredients!$D:$K,4,FALSE)/(VLOOKUP(S69,Ingredients!$D:$K,2,FALSE))*T69,VLOOKUP(S69,Prepared!$D:$G,4,FALSE)/(VLOOKUP(S69,Prepared!$D:$G,3,FALSE))*T69),"") -> 68.211921
A70: Nomz | C70: 100 | D70: Bread | E70: 2 | F70: =IF(AND(D70<>"",E70<>""),IF(NOT(ISNA(VLOOKUP(D70,Ingredients!$D:$K,4,FALSE)/(VLOOKUP(D70,Ingredients!$D:$K,2,FALSE))*E70)),VLOOKUP(D70,Ingredients!$D:$K,4,FALSE)/(VLOOKUP(D70,Ingredients!$D:$K,2,FALSE))*E70,VLOOKUP(D70,Prepared!$D:$G,4,FALSE)/(VLOOKUP(D70,Prepared!$D:$G,3,FALSE))*E70),"") -> 200 | G70: Cheese | H70: 2 | I70: 100 | J70: Bread roll | K70: 1 | L70: =IF(AND(J70<>"",K70<>""),IF(NOT(ISNA(VLOOKUP(J70,Ingredients!$D:$K,4,FALSE)/(VLOOKUP(J70,Ingredients!$D:$K,2,FALSE))*K70)),VLOOKUP(J70,Ingredients!$D:$K,4,FALSE)/(VLOOKUP(J70,Ingredients!$D:$K,2,FALSE))*K70,VLOOKUP(J70,Prepared!$D:$G,4,FALSE)/(VLOOKUP(J70,Prepared!$D:$G,3,FALSE))*K70),"") -> 80 | M70: Milk | N70: 400 | O70: =IF(AND(M70<>"",N70<>""),IF(NOT(ISNA(VLOOKUP(M70,Ingredients!$D:$K,4,FALSE)/(VLOOKUP(M70,Ingredients!$D:$K,2,FALSE))*N70)),VLOOKUP(M70,Ingredients!$D:$K,4,FALSE)/(VLOOKUP(M70,Ingredients!$D:$K,2,FALSE))*N70,VLOOKUP(M70,Prepared!$D:$G,4,FALSE)/(VLOOKUP(M70,Prepared!$D:$G,3,FALSE))*N70),"") -> 260 | P70: Cheese | Q70: 1 | R70: =IF(AND(P70<>"",Q70<>""),IF(NOT(ISNA(VLOOKUP(P70,Ingredients!$D:$K,4,FALSE)/(VLOOKUP(P70,Ingredients!$D:$K,2,FALSE))*Q70)),VLOOKUP(P70,Ingredients!$D:$K,4,FALSE)/(VLOOKUP(P70,Ingredients!$D:$K,2,FALSE))*Q70,VLOOKUP(P70,Prepared!$D:$G,4,FALSE)/(VLOOKUP(P70,Prepared!$D:$G,3,FALSE))*Q70),"") -> 100 | S70: Rice | T70: 200 | U70: =IF(AND(S70<>"",T70<>""),IF(NOT(ISNA(VLOOKUP(S70,Ingredients!$D:$K,4,FALSE)/(VLOOKUP(S70,Ingredients!$D:$K,2,FALSE))*T70)),VLOOKUP(S70,Ingredients!$D:$K,4,FALSE)/(VLOOKUP(S70,Ingredients!$D:$K,2,FALSE))*T70,VLOOKUP(S70,Prepared!$D:$G,4,FALSE)/(VLOOKUP(S70,Prepared!$D:$G,3,FALSE))*T70),"") -> 248.51485
A71: Yogurt | B71: 150 | C71: =IF(AND(A71<>"",B71<>""),IF(NOT(ISNA(VLOOKUP(A71,Ingredients!$D:$K,4,FALSE)/(VLOOKUP(A71,Ingredients!$D:$K,2,FALSE))*B71)),VLOOKUP(A71,Ingredients!$D:$K,4,FALSE)/(VLOOKUP(A71,Ingredients!$D:$K,2,FALSE))*B71,VLOOKUP(A71,Prepared!$D:$G,4,FALSE)/(VLOOKUP(A71,Prepared!$D:$G,3,FALSE))*B71),"") -> 90 | D71: Tuna | E71: 100 | F71: =IF(AND(D71<>"",E71<>""),IF(NOT(ISNA(VLOOKUP(D71,Ingredients!$D:$K,4,FALSE)/(VLOOKUP(D71,Ingredients!$D:$K,2,FALSE))*E71)),VLOOKUP(D71,Ingredients!$D:$K,4,FALSE)/(VLOOKUP(D71,Ingredients!$D:$K,2,FALSE))*E71,VLOOKUP(D71,Prepared!$D:$G,4,FALSE)/(VLOOKUP(D71,Prepared!$D:$G,3,FALSE))*E71),"") -> 115 | G71: Nomz | I71: 100 | J71: Tuna | K71: 100 | L71: =IF(AND(J71<>"",K71<>""),IF(NOT(ISNA(VLOOKUP(J71,Ingredients!$D:$K,4,FALSE)/(VLOOKUP(J71,Ingredients!$D:$K,2,FALSE))*K71)),VLOOKUP(J71,Ingredients!$D:$K,4,FALSE)/(VLOOKUP(J71,Ingredients!$D:$K,2,FALSE))*K71,VLOOKUP(J71,Prepared!$D:$G,4,FALSE)/(VLOOKUP(J71,Prepared!$D:$G,3,FALSE))*K71),"") -> 115 | M71: Bread | N71: 2 | O71: =IF(AND(M71<>"",N71<>""),IF(NOT(ISNA(VLOOKUP(M71,Ingredients!$D:$K,4,FALSE)/(VLOOKUP(M71,Ingredients!$D:$K,2,FALSE))*N71)),VLOOKUP(M71,Ingredients!$D:$K,4,FALSE)/(VLOOKUP(M71,Ingredients!$D:$K,2,FALSE))*N71,VLOOKUP(M71,Prepared!$D:$G,4,FALSE)/(VLOOKUP(M71,Prepared!$D:$G,3,FALSE))*N71),"") -> 200 | P71: Tuna | Q71: 75 | R71: =IF(AND(P71<>"",Q71<>""),IF(NOT(ISNA(VLOOKUP(P71,Ingredients!$D:$K,4,FALSE)/(VLOOKUP(P71,Ingredients!$D:$K,2,FALSE))*Q71)),VLOOKUP(P71,Ingredients!$D:$K,4,FALSE)/(VLOOKUP(P71,Ingredients!$D:$K,2,FALSE))*Q71,VLOOKUP(P71,Prepared!$D:$G,4,FALSE)/(VLOOKUP(P71,Prepared!$D:$G,3,FALSE))*Q71),"") -> 86.25 | S71: Soup | U71: 200
A72: Syrup | C72: 50 | D72: Cheese | E72: 2 | F72: 100 | I72: =IF(AND(G72<>"",H72<>""),IF(NOT(ISNA(VLOOKUP(G72,Ingredients!$D:$K,4,FALSE)/(VLOOKUP(G72,Ingredients!$D:$K,2,FALSE))*H72)),VLOOKUP(G72,Ingredients!$D:$K,4,FALSE)/(VLOOKUP(G72,Ingredients!$D:$K,2,FALSE))*H72,VLOOKUP(G72,Prepared!$D:$G,4,FALSE)/(VLOOKUP(G72,Prepared!$D:$G,3,FALSE))*H72),"") | J72: Butter | K72: 10 | L72: =IF(AND(J72<>"",K72<>""),IF(NOT(ISNA(VLOOKUP(J72,Ingredients!$D:$K,4,FALSE)/(VLOOKUP(J72,Ingredients!$D:$K,2,FALSE))*K72)),VLOOKUP(J72,Ingredients!$D:$K,4,FALSE)/(VLOOKUP(J72,Ingredients!$D:$K,2,FALSE))*K72,VLOOKUP(J72,Prepared!$D:$G,4,FALSE)/(VLOOKUP(J72,Prepared!$D:$G,3,FALSE))*K72),"") -> 80 | M72: Cheese | N72: 0.5 | O72: =IF(AND(M72<>"",N72<>""),IF(NOT(ISNA(VLOOKUP(M72,Ingredients!$D:$K,4,FALSE)/(VLOOKUP(M72,Ingredients!$D:$K,2,FALSE))*N72)),VLOOKUP(M72,Ingredients!$D:$K,4,FALSE)/(VLOOKUP(M72,Ingredients!$D:$K,2,FALSE))*N72,VLOOKUP(M72,Prepared!$D:$G,4,FALSE)/(VLOOKUP(M72,Prepared!$D:$G,3,FALSE))*N72),"") -> 50 | P72: Milk | Q72: 300 | R72: =IF(AND(P72<>"",Q72<>""),IF(NOT(ISNA(VLOOKUP(P72,Ingredients!$D:$K,4,FALSE)/(VLOOKUP(P72,Ingredients!$D:$K,2,FALSE))*Q72)),VLOOKUP(P72,Ingredients!$D:$K,4,FALSE)/(VLOOKUP(P72,Ingredients!$D:$K,2,FALSE))*Q72,VLOOKUP(P72,Prepared!$D:$G,4,FALSE)/(VLOOKUP(P72,Prepared!$D:$G,3,FALSE))*Q72),"") -> 195 | S72: Paprica | T72: 1 | U72: =IF(AND(S72<>"",T72<>""),IF(NOT(ISNA(VLOOKUP(S72,Ingredients!$D:$K,4,FALSE)/(VLOOKUP(S72,Ingredients!$D:$K,2,FALSE))*T72)),VLOOKUP(S72,Ingredients!$D:$K,4,FALSE)/(VLOOKUP(S72,Ingredients!$D:$K,2,FALSE))*T72,VLOOKUP(S72,Prepared!$D:$G,4,FALSE)/(VLOOKUP(S72,Prepared!$D:$G,3,FALSE))*T72),"") -> 7
A73: Bread | B73: 1 | C73: =IF(AND(A73<>"",B73<>""),IF(NOT(ISNA(VLOOKUP(A73,Ingredients!$D:$K,4,FALSE)/(VLOOKUP(A73,Ingredients!$D:$K,2,FALSE))*B73)),VLOOKUP(A73,Ingredients!$D:$K,4,FALSE)/(VLOOKUP(A73,Ingredients!$D:$K,2,FALSE))*B73,VLOOKUP(A73,Prepared!$D:$G,4,FALSE)/(VLOOKUP(A73,Prepared!$D:$G,3,FALSE))*B73),"") -> 100 | D73: Nomz | F73: 100 | I73: =IF(AND(G73<>"",H73<>""),IF(NOT(ISNA(VLOOKUP(G73,Ingredients!$D:$K,4,FALSE)/(VLOOKUP(G73,Ingredients!$D:$K,2,FALSE))*H73)),VLOOKUP(G73,Ingredients!$D:$K,4,FALSE)/(VLOOKUP(G73,Ingredients!$D:$K,2,FALSE))*H73,VLOOKUP(G73,Prepared!$D:$G,4,FALSE)/(VLOOKUP(G73,Prepared!$D:$G,3,FALSE))*H73),"") | J73: Hot Chocolate | K73: 1 | L73: =IF(AND(J73<>"",K73<>""),IF(NOT(ISNA(VLOOKUP(J73,Ingredients!$D:$K,4,FALSE)/(VLOOKUP(J73,Ingredients!$D:$K,2,FALSE))*K73)),VLOOKUP(J73,Ingredients!$D:$K,4,FALSE)/(VLOOKUP(J73,Ingredients!$D:$K,2,FALSE))*K73,VLOOKUP(J73,Prepared!$D:$G,4,FALSE)/(VLOOKUP(J73,Prepared!$D:$G,3,FALSE))*K73),"") -> 367.6 | M73: Popcorn | N73: 200 | O73: =IF(AND(M73<>"",N73<>""),IF(NOT(ISNA(VLOOKUP(M73,Ingredients!$D:$K,4,FALSE)/(VLOOKUP(M73,Ingredients!$D:$K,2,FALSE))*N73)),VLOOKUP(M73,Ingredients!$D:$K,4,FALSE)/(VLOOKUP(M73,Ingredients!$D:$K,2,FALSE))*N73,VLOOKUP(M73,Prepared!$D:$G,4,FALSE)/(VLOOKUP(M73,Prepared!$D:$G,3,FALSE))*N73),"") -> 1000 | P73: Banana | Q73: 100 | R73: =IF(AND(P73<>"",Q73<>""),IF(NOT(ISNA(VLOOKUP(P73,Ingredients!$D:$K,4,FALSE)/(VLOOKUP(P73,Ingredients!$D:$K,2,FALSE))*Q73)),VLOOKUP(P73,Ingredients!$D:$K,4,FALSE)/(VLOOKUP(P73,Ingredients!$D:$K,2,FALSE))*Q73,VLOOKUP(P73,Prepared!$D:$G,4,FALSE)/(VLOOKUP(P73,Prepared!$D:$G,3,FALSE))*Q73),"") -> 88.983051 | S73: Meat | U73: 200
A74: Butter | C74: 40 | D74: Banana | E74: 120 | F74: =IF(AND(D74<>"",E74<>""),IF(NOT(ISNA(VLOOKUP(D74,Ingredients!$D:$K,4,FALSE)/(VLOOKUP(D74,Ingredients!$D:$K,2,FALSE))*E74)),VLOOKUP(D74,Ingredients!$D:$K,4,FALSE)/(VLOOKUP(D74,Ingredients!$D:$K,2,FALSE))*E74,VLOOKUP(D74,Prepared!$D:$G,4,FALSE)/(VLOOKUP(D74,Prepared!$D:$G,3,FALSE))*E74),"") -> 106.77966 | I74: =IF(AND(G74<>"",H74<>""),IF(NOT(ISNA(VLOOKUP(G74,Ingredients!$D:$K,4,FALSE)/(VLOOKUP(G74,Ingredients!$D:$K,2,FALSE))*H74)),VLOOKUP(G74,Ingredients!$D:$K,4,FALSE)/(VLOOKUP(G74,Ingredients!$D:$K,2,FALSE))*H74,VLOOKUP(G74,Prepared!$D:$G,4,FALSE)/(VLOOKUP(G74,Prepared!$D:$G,3,FALSE))*H74),"") | L74: =IF(AND(J74<>"",K74<>""),IF(NOT(ISNA(VLOOKUP(J74,Ingredients!$D:$K,4,FALSE)/(VLOOKUP(J74,Ingredients!$D:$K,2,FALSE))*K74)),VLOOKUP(J74,Ingredients!$D:$K,4,FALSE)/(VLOOKUP(J74,Ingredients!$D:$K,2,FALSE))*K74,VLOOKUP(J74,Prepared!$D:$G,4,FALSE)/(VLOOKUP(J74,Prepared!$D:$G,3,FALSE))*K74),"") | M74: Strawberries | N74: 100 | O74: =IF(AND(M74<>"",N74<>""),IF(NOT(ISNA(VLOOKUP(M74,Ingredients!$D:$K,4,FALSE)/(VLOOKUP(M74,Ingredients!$D:$K,2,FALSE))*N74)),VLOOKUP(M74,Ingredients!$D:$K,4,FALSE)/(VLOOKUP(M74,Ingredients!$D:$K,2,FALSE))*N74,VLOOKUP(M74,Prepared!$D:$G,4,FALSE)/(VLOOKUP(M74,Prepared!$D:$G,3,FALSE))*N74),"") -> 32.142857 | P74: Apple | Q74: 170 | R74: =IF(AND(P74<>"",Q74<>""),IF(NOT(ISNA(VLOOKUP(P74,Ingredients!$D:$K,4,FALSE)/(VLOOKUP(P74,Ingredients!$D:$K,2,FALSE))*Q74)),VLOOKUP(P74,Ingredients!$D:$K,4,FALSE)/(VLOOKUP(P74,Ingredients!$D:$K,2,FALSE))*Q74,VLOOKUP(P74,Prepared!$D:$G,4,FALSE)/(VLOOKUP(P74,Prepared!$D:$G,3,FALSE))*Q74),"") -> 85.944444 | U74: =IF(AND(S74<>"",T74<>""),IF(NOT(ISNA(VLOOKUP(S74,Ingredients!$D:$K,4,FALSE)/(VLOOKUP(S74,Ingredients!$D:$K,2,FALSE))*T74)),VLOOKUP(S74,Ingredients!$D:$K,4,FALSE)/(VLOOKUP(S74,Ingredients!$D:$K,2,FALSE))*T74,VLOOKUP(S74,Prepared!$D:$G,4,FALSE)/(VLOOKUP(S74,Prepared!$D:$G,3,FALSE))*T74),"")
C75: =IF(AND(A75<>"",B75<>""),IF(NOT(ISNA(VLOOKUP(A75,Ingredients!$D:$K,4,FALSE)/(VLOOKUP(A75,Ingredients!$D:$K,2,FALSE))*B75)),VLOOKUP(A75,Ingredients!$D:$K,4,FALSE)/(VLOOKUP(A75,Ingredients!$D:$K,2,FALSE))*B75,VLOOKUP(A75,Prepared!$D:$G,4,FALSE)/(VLOOKUP(A75,Prepared!$D:$G,3,FALSE))*B75),"") | D75: Juice | E75: 400 | F75: =IF(AND(D75<>"",E75<>""),IF(NOT(ISNA(VLOOKUP(D75,Ingredients!$D:$K,4,FALSE)/(VLOOKUP(D75,Ingredients!$D:$K,2,FALSE))*E75)),VLOOKUP(D75,Ingredients!$D:$K,4,FALSE)/(VLOOKUP(D75,Ingredients!$D:$K,2,FALSE))*E75,VLOOKUP(D75,Prepared!$D:$G,4,FALSE)/(VLOOKUP(D75,Prepared!$D:$G,3,FALSE))*E75),"") -> 200 | I75: =IF(AND(G75<>"",H75<>""),IF(NOT(ISNA(VLOOKUP(G75,Ingredients!$D:$K,4,FALSE)/(VLOOKUP(G75,Ingredients!$D:$K,2,FALSE))*H75)),VLOOKUP(G75,Ingredients!$D:$K,4,FALSE)/(VLOOKUP(G75,Ingredients!$D:$K,2,FALSE))*H75,VLOOKUP(G75,Prepared!$D:$G,4,FALSE)/(VLOOKUP(G75,Prepared!$D:$G,3,FALSE))*H75),"") | L75: =IF(AND(J75<>"",K75<>""),IF(NOT(ISNA(VLOOKUP(J75,Ingredients!$D:$K,4,FALSE)/(VLOOKUP(J75,Ingredients!$D:$K,2,FALSE))*K75)),VLOOKUP(J75,Ingredients!$D:$K,4,FALSE)/(VLOOKUP(J75,Ingredients!$D:$K,2,FALSE))*K75,VLOOKUP(J75,Prepared!$D:$G,4,FALSE)/(VLOOKUP(J75,Prepared!$D:$G,3,FALSE))*K75),"") | O75: =IF(AND(M75<>"",N75<>""),IF(NOT(ISNA(VLOOKUP(M75,Ingredients!$D:$K,4,FALSE)/(VLOOKUP(M75,Ingredients!$D:$K,2,FALSE))*N75)),VLOOKUP(M75,Ingredients!$D:$K,4,FALSE)/(VLOOKUP(M75,Ingredients!$D:$K,2,FALSE))*N75,VLOOKUP(M75,Prepared!$D:$G,4,FALSE)/(VLOOKUP(M75,Prepared!$D:$G,3,FALSE))*N75),"") | R75: =IF(AND(P75<>"",Q75<>""),IF(NOT(ISNA(VLOOKUP(P75,Ingredients!$D:$K,4,FALSE)/(VLOOKUP(P75,Ingredients!$D:$K,2,FALSE))*Q75)),VLOOKUP(P75,Ingredients!$D:$K,4,FALSE)/(VLOOKUP(P75,Ingredients!$D:$K,2,FALSE))*Q75,VLOOKUP(P75,Prepared!$D:$G,4,FALSE)/(VLOOKUP(P75,Prepared!$D:$G,3,FALSE))*Q75),"") | U75: =IF(AND(S75<>"",T75<>""),IF(NOT(ISNA(VLOOKUP(S75,Ingredients!$D:$K,4,FALSE)/(VLOOKUP(S75,Ingredients!$D:$K,2,FALSE))*T75)),VLOOKUP(S75,Ingredients!$D:$K,4,FALSE)/(VLOOKUP(S75,Ingredients!$D:$K,2,FALSE))*T75,VLOOKUP(S75,Prepared!$D:$G,4,FALSE)/(VLOOKUP(S75,Prepared!$D:$G,3,FALSE))*T75),"")
C76: =IF(AND(A76<>"",B76<>""),IF(NOT(ISNA(VLOOKUP(A76,Ingredients!$D:$K,4,FALSE)/(VLOOKUP(A76,Ingredients!$D:$K,2,FALSE))*B76)),VLOOKUP(A76,Ingredients!$D:$K,4,FALSE)/(VLOOKUP(A76,Ingredients!$D:$K,2,FALSE))*B76,VLOOKUP(A76,Prepared!$D:$G,4,FALSE)/(VLOOKUP(A76,Prepared!$D:$G,3,FALSE))*B76),"") | F76: =IF(AND(D76<>"",E76<>""),IF(NOT(ISNA(VLOOKUP(D76,Ingredients!$D:$K,4,FALSE)/(VLOOKUP(D76,Ingredients!$D:$K,2,FALSE))*E76)),VLOOKUP(D76,Ingredients!$D:$K,4,FALSE)/(VLOOKUP(D76,Ingredients!$D:$K,2,FALSE))*E76,VLOOKUP(D76,Prepared!$D:$G,4,FALSE)/(VLOOKUP(D76,Prepared!$D:$G,3,FALSE))*E76),"") | I76: =IF(AND(G76<>"",H76<>""),IF(NOT(ISNA(VLOOKUP(G76,Ingredients!$D:$K,4,FALSE)/(VLOOKUP(G76,Ingredients!$D:$K,2,FALSE))*H76)),VLOOKUP(G76,Ingredients!$D:$K,4,FALSE)/(VLOOKUP(G76,Ingredients!$D:$K,2,FALSE))*H76,VLOOKUP(G76,Prepared!$D:$G,4,FALSE)/(VLOOKUP(G76,Prepared!$D:$G,3,FALSE))*H76),"") | L76: =IF(AND(J76<>"",K76<>""),IF(NOT(ISNA(VLOOKUP(J76,Ingredients!$D:$K,4,FALSE)/(VLOOKUP(J76,Ingredients!$D:$K,2,FALSE))*K76)),VLOOKUP(J76,Ingredients!$D:$K,4,FALSE)/(VLOOKUP(J76,Ingredients!$D:$K,2,FALSE))*K76,VLOOKUP(J76,Prepared!$D:$G,4,FALSE)/(VLOOKUP(J76,Prepared!$D:$G,3,FALSE))*K76),"") | O76: =IF(AND(M76<>"",N76<>""),IF(NOT(ISNA(VLOOKUP(M76,Ingredients!$D:$K,4,FALSE)/(VLOOKUP(M76,Ingredients!$D:$K,2,FALSE))*N76)),VLOOKUP(M76,Ingredients!$D:$K,4,FALSE)/(VLOOKUP(M76,Ingredients!$D:$K,2,FALSE))*N76,VLOOKUP(M76,Prepared!$D:$G,4,FALSE)/(VLOOKUP(M76,Prepared!$D:$G,3,FALSE))*N76),"") | R76: =IF(AND(P76<>"",Q76<>""),IF(NOT(ISNA(VLOOKUP(P76,Ingredients!$D:$K,4,FALSE)/(VLOOKUP(P76,Ingredients!$D:$K,2,FALSE))*Q76)),VLOOKUP(P76,Ingredients!$D:$K,4,FALSE)/(VLOOKUP(P76,Ingredients!$D:$K,2,FALSE))*Q76,VLOOKUP(P76,Prepared!$D:$G,4,FALSE)/(VLOOKUP(P76,Prepared!$D:$G,3,FALSE))*Q76),"") | U76: =IF(AND(S76<>"",T76<>""),IF(NOT(ISNA(VLOOKUP(S76,Ingredients!$D:$K,4,FALSE)/(VLOOKUP(S76,Ingredients!$D:$K,2,FALSE))*T76)),VLOOKUP(S76,Ingredients!$D:$K,4,FALSE)/(VLOOKUP(S76,Ingredients!$D:$K,2,FALSE))*T76,VLOOKUP(S76,Prepared!$D:$G,4,FALSE)/(VLOOKUP(S76,Prepared!$D:$G,3,FALSE))*T76),"")
C77: =IF(AND(A77<>"",B77<>""),IF(NOT(ISNA(VLOOKUP(A77,Ingredients!$D:$K,4,FALSE)/(VLOOKUP(A77,Ingredients!$D:$K,2,FALSE))*B77)),VLOOKUP(A77,Ingredients!$D:$K,4,FALSE)/(VLOOKUP(A77,Ingredients!$D:$K,2,FALSE))*B77,VLOOKUP(A77,Prepared!$D:$G,4,FALSE)/(VLOOKUP(A77,Prepared!$D:$G,3,FALSE))*B77),"") | F77: =IF(AND(D77<>"",E77<>""),IF(NOT(ISNA(VLOOKUP(D77,Ingredients!$D:$K,4,FALSE)/(VLOOKUP(D77,Ingredients!$D:$K,2,FALSE))*E77)),VLOOKUP(D77,Ingredients!$D:$K,4,FALSE)/(VLOOKUP(D77,Ingredients!$D:$K,2,FALSE))*E77,VLOOKUP(D77,Prepared!$D:$G,4,FALSE)/(VLOOKUP(D77,Prepared!$D:$G,3,FALSE))*E77),"") | I77: =IF(AND(G77<>"",H77<>""),IF(NOT(ISNA(VLOOKUP(G77,Ingredients!$D:$K,4,FALSE)/(VLOOKUP(G77,Ingredients!$D:$K,2,FALSE))*H77)),VLOOKUP(G77,Ingredients!$D:$K,4,FALSE)/(VLOOKUP(G77,Ingredients!$D:$K,2,FALSE))*H77,VLOOKUP(G77,Prepared!$D:$G,4,FALSE)/(VLOOKUP(G77,Prepared!$D:$G,3,FALSE))*H77),"") | L77: =IF(AND(J77<>"",K77<>""),IF(NOT(ISNA(VLOOKUP(J77,Ingredients!$D:$K,4,FALSE)/(VLOOKUP(J77,Ingredients!$D:$K,2,FALSE))*K77)),VLOOKUP(J77,Ingredients!$D:$K,4,FALSE)/(VLOOKUP(J77,Ingredients!$D:$K,2,FALSE))*K77,VLOOKUP(J77,Prepared!$D:$G,4,FALSE)/(VLOOKUP(J77,Prepared!$D:$G,3,FALSE))*K77),"") | O77: =IF(AND(M77<>"",N77<>""),IF(NOT(ISNA(VLOOKUP(M77,Ingredients!$D:$K,4,FALSE)/(VLOOKUP(M77,Ingredients!$D:$K,2,FALSE))*N77)),VLOOKUP(M77,Ingredients!$D:$K,4,FALSE)/(VLOOKUP(M77,Ingredients!$D:$K,2,FALSE))*N77,VLOOKUP(M77,Prepared!$D:$G,4,FALSE)/(VLOOKUP(M77,Prepared!$D:$G,3,FALSE))*N77),"") | R77: =IF(AND(P77<>"",Q77<>""),IF(NOT(ISNA(VLOOKUP(P77,Ingredients!$D:$K,4,FALSE)/(VLOOKUP(P77,Ingredients!$D:$K,2,FALSE))*Q77)),VLOOKUP(P77,Ingredients!$D:$K,4,FALSE)/(VLOOKUP(P77,Ingredients!$D:$K,2,FALSE))*Q77,VLOOKUP(P77,Prepared!$D:$G,4,FALSE)/(VLOOKUP(P77,Prepared!$D:$G,3,FALSE))*Q77),"") | U77: =IF(AND(S77<>"",T77<>""),IF(NOT(ISNA(VLOOKUP(S77,Ingredients!$D:$K,4,FALSE)/(VLOOKUP(S77,Ingredients!$D:$K,2,FALSE))*T77)),VLOOKUP(S77,Ingredients!$D:$K,4,FALSE)/(VLOOKUP(S77,Ingredients!$D:$K,2,FALSE))*T77,VLOOKUP(S77,Prepared!$D:$G,4,FALSE)/(VLOOKUP(S77,Prepared!$D:$G,3,FALSE))*T77),"")
C78: =IF(AND(A78<>"",B78<>""),IF(NOT(ISNA(VLOOKUP(A78,Ingredients!$D:$K,4,FALSE)/(VLOOKUP(A78,Ingredients!$D:$K,2,FALSE))*B78)),VLOOKUP(A78,Ingredients!$D:$K,4,FALSE)/(VLOOKUP(A78,Ingredients!$D:$K,2,FALSE))*B78,VLOOKUP(A78,Prepared!$D:$G,4,FALSE)/(VLOOKUP(A78,Prepared!$D:$G,3,FALSE))*B78),"") | F78: =IF(AND(D78<>"",E78<>""),IF(NOT(ISNA(VLOOKUP(D78,Ingredients!$D:$K,4,FALSE)/(VLOOKUP(D78,Ingredients!$D:$K,2,FALSE))*E78)),VLOOKUP(D78,Ingredients!$D:$K,4,FALSE)/(VLOOKUP(D78,Ingredients!$D:$K,2,FALSE))*E78,VLOOKUP(D78,Prepared!$D:$G,4,FALSE)/(VLOOKUP(D78,Prepared!$D:$G,3,FALSE))*E78),"") | I78: =IF(AND(G78<>"",H78<>""),IF(NOT(ISNA(VLOOKUP(G78,Ingredients!$D:$K,4,FALSE)/(VLOOKUP(G78,Ingredients!$D:$K,2,FALSE))*H78)),VLOOKUP(G78,Ingredients!$D:$K,4,FALSE)/(VLOOKUP(G78,Ingredients!$D:$K,2,FALSE))*H78,VLOOKUP(G78,Prepared!$D:$G,4,FALSE)/(VLOOKUP(G78,Prepared!$D:$G,3,FALSE))*H78),"") | L78: =IF(AND(J78<>"",K78<>""),IF(NOT(ISNA(VLOOKUP(J78,Ingredients!$D:$K,4,FALSE)/(VLOOKUP(J78,Ingredients!$D:$K,2,FALSE))*K78)),VLOOKUP(J78,Ingredients!$D:$K,4,FALSE)/(VLOOKUP(J78,Ingredients!$D:$K,2,FALSE))*K78,VLOOKUP(J78,Prepared!$D:$G,4,FALSE)/(VLOOKUP(J78,Prepared!$D:$G,3,FALSE))*K78),"") | O78: =IF(AND(M78<>"",N78<>""),IF(NOT(ISNA(VLOOKUP(M78,Ingredients!$D:$K,4,FALSE)/(VLOOKUP(M78,Ingredients!$D:$K,2,FALSE))*N78)),VLOOKUP(M78,Ingredients!$D:$K,4,FALSE)/(VLOOKUP(M78,Ingredients!$D:$K,2,FALSE))*N78,VLOOKUP(M78,Prepared!$D:$G,4,FALSE)/(VLOOKUP(M78,Prepared!$D:$G,3,FALSE))*N78),"") | R78: =IF(AND(P78<>"",Q78<>""),IF(NOT(ISNA(VLOOKUP(P78,Ingredients!$D:$K,4,FALSE)/(VLOOKUP(P78,Ingredients!$D:$K,2,FALSE))*Q78)),VLOOKUP(P78,Ingredients!$D:$K,4,FALSE)/(VLOOKUP(P78,Ingredients!$D:$K,2,FALSE))*Q78,VLOOKUP(P78,Prepared!$D:$G,4,FALSE)/(VLOOKUP(P78,Prepared!$D:$G,3,FALSE))*Q78),"") | U78: =IF(AND(S78<>"",T78<>""),IF(NOT(ISNA(VLOOKUP(S78,Ingredients!$D:$K,4,FALSE)/(VLOOKUP(S78,Ingredients!$D:$K,2,FALSE))*T78)),VLOOKUP(S78,Ingredients!$D:$K,4,FALSE)/(VLOOKUP(S78,Ingredients!$D:$K,2,FALSE))*T78,VLOOKUP(S78,Prepared!$D:$G,4,FALSE)/(VLOOKUP(S78,Prepared!$D:$G,3,FALSE))*T78),"")
C79: =IF(AND(A79<>"",B79<>""),IF(NOT(ISNA(VLOOKUP(A79,Ingredients!$D:$K,4,FALSE)/(VLOOKUP(A79,Ingredients!$D:$K,2,FALSE))*B79)),VLOOKUP(A79,Ingredients!$D:$K,4,FALSE)/(VLOOKUP(A79,Ingredients!$D:$K,2,FALSE))*B79,VLOOKUP(A79,Prepared!$D:$G,4,FALSE)/(VLOOKUP(A79,Prepared!$D:$G,3,FALSE))*B79),"") | F79: =IF(AND(D79<>"",E79<>""),IF(NOT(ISNA(VLOOKUP(D79,Ingredients!$D:$K,4,FALSE)/(VLOOKUP(D79,Ingredients!$D:$K,2,FALSE))*E79)),VLOOKUP(D79,Ingredients!$D:$K,4,FALSE)/(VLOOKUP(D79,Ingredients!$D:$K,2,FALSE))*E79,VLOOKUP(D79,Prepared!$D:$G,4,FALSE)/(VLOOKUP(D79,Prepared!$D:$G,3,FALSE))*E79),"") | I79: =IF(AND(G79<>"",H79<>""),IF(NOT(ISNA(VLOOKUP(G79,Ingredients!$D:$K,4,FALSE)/(VLOOKUP(G79,Ingredients!$D:$K,2,FALSE))*H79)),VLOOKUP(G79,Ingredients!$D:$K,4,FALSE)/(VLOOKUP(G79,Ingredients!$D:$K,2,FALSE))*H79,VLOOKUP(G79,Prepared!$D:$G,4,FALSE)/(VLOOKUP(G79,Prepared!$D:$G,3,FALSE))*H79),"") | L79: =IF(AND(J79<>"",K79<>""),IF(NOT(ISNA(VLOOKUP(J79,Ingredients!$D:$K,4,FALSE)/(VLOOKUP(J79,Ingredients!$D:$K,2,FALSE))*K79)),VLOOKUP(J79,Ingredients!$D:$K,4,FALSE)/(VLOOKUP(J79,Ingredients!$D:$K,2,FALSE))*K79,VLOOKUP(J79,Prepared!$D:$G,4,FALSE)/(VLOOKUP(J79,Prepared!$D:$G,3,FALSE))*K79),"") | O79: =IF(AND(M79<>"",N79<>""),IF(NOT(ISNA(VLOOKUP(M79,Ingredients!$D:$K,4,FALSE)/(VLOOKUP(M79,Ingredients!$D:$K,2,FALSE))*N79)),VLOOKUP(M79,Ingredients!$D:$K,4,FALSE)/(VLOOKUP(M79,Ingredients!$D:$K,2,FALSE))*N79,VLOOKUP(M79,Prepared!$D:$G,4,FALSE)/(VLOOKUP(M79,Prepared!$D:$G,3,FALSE))*N79),"") | R79: =IF(AND(P79<>"",Q79<>""),IF(NOT(ISNA(VLOOKUP(P79,Ingredients!$D:$K,4,FALSE)/(VLOOKUP(P79,Ingredients!$D:$K,2,FALSE))*Q79)),VLOOKUP(P79,Ingredients!$D:$K,4,FALSE)/(VLOOKUP(P79,Ingredients!$D:$K,2,FALSE))*Q79,VLOOKUP(P79,Prepared!$D:$G,4,FALSE)/(VLOOKUP(P79,Prepared!$D:$G,3,FALSE))*Q79),"") | U79: =IF(AND(S79<>"",T79<>""),IF(NOT(ISNA(VLOOKUP(S79,Ingredients!$D:$K,4,FALSE)/(VLOOKUP(S79,Ingredients!$D:$K,2,FALSE))*T79)),VLOOKUP(S79,Ingredients!$D:$K,4,FALSE)/(VLOOKUP(S79,Ingredients!$D:$K,2,FALSE))*T79,VLOOKUP(S79,Prepared!$D:$G,4,FALSE)/(VLOOKUP(S79,Prepared!$D:$G,3,FALSE))*T79),"")
C80: =IF(AND(A80<>"",B80<>""),IF(NOT(ISNA(VLOOKUP(A80,Ingredients!$D:$K,4,FALSE)/(VLOOKUP(A80,Ingredients!$D:$K,2,FALSE))*B80)),VLOOKUP(A80,Ingredients!$D:$K,4,FALSE)/(VLOOKUP(A80,Ingredients!$D:$K,2,FALSE))*B80,VLOOKUP(A80,Prepared!$D:$G,4,FALSE)/(VLOOKUP(A80,Prepared!$D:$G,3,FALSE))*B80),"") | F80: =IF(AND(D80<>"",E80<>""),IF(NOT(ISNA(VLOOKUP(D80,Ingredients!$D:$K,4,FALSE)/(VLOOKUP(D80,Ingredients!$D:$K,2,FALSE))*E80)),VLOOKUP(D80,Ingredients!$D:$K,4,FALSE)/(VLOOKUP(D80,Ingredients!$D:$K,2,FALSE))*E80,VLOOKUP(D80,Prepared!$D:$G,4,FALSE)/(VLOOKUP(D80,Prepared!$D:$G,3,FALSE))*E80),"") | I80: =IF(AND(G80<>"",H80<>""),IF(NOT(ISNA(VLOOKUP(G80,Ingredients!$D:$K,4,FALSE)/(VLOOKUP(G80,Ingredients!$D:$K,2,FALSE))*H80)),VLOOKUP(G80,Ingredients!$D:$K,4,FALSE)/(VLOOKUP(G80,Ingredients!$D:$K,2,FALSE))*H80,VLOOKUP(G80,Prepared!$D:$G,4,FALSE)/(VLOOKUP(G80,Prepared!$D:$G,3,FALSE))*H80),"") | L80: =IF(AND(J80<>"",K80<>""),IF(NOT(ISNA(VLOOKUP(J80,Ingredients!$D:$K,4,FALSE)/(VLOOKUP(J80,Ingredients!$D:$K,2,FALSE))*K80)),VLOOKUP(J80,Ingredients!$D:$K,4,FALSE)/(VLOOKUP(J80,Ingredients!$D:$K,2,FALSE))*K80,VLOOKUP(J80,Prepared!$D:$G,4,FALSE)/(VLOOKUP(J80,Prepared!$D:$G,3,FALSE))*K80),"") | O80: =IF(AND(M80<>"",N80<>""),IF(NOT(ISNA(VLOOKUP(M80,Ingredients!$D:$K,4,FALSE)/(VLOOKUP(M80,Ingredients!$D:$K,2,FALSE))*N80)),VLOOKUP(M80,Ingredients!$D:$K,4,FALSE)/(VLOOKUP(M80,Ingredients!$D:$K,2,FALSE))*N80,VLOOKUP(M80,Prepared!$D:$G,4,FALSE)/(VLOOKUP(M80,Prepared!$D:$G,3,FALSE))*N80),"") | R80: =IF(AND(P80<>"",Q80<>""),IF(NOT(ISNA(VLOOKUP(P80,Ingredients!$D:$K,4,FALSE)/(VLOOKUP(P80,Ingredients!$D:$K,2,FALSE))*Q80)),VLOOKUP(P80,Ingredients!$D:$K,4,FALSE)/(VLOOKUP(P80,Ingredients!$D:$K,2,FALSE))*Q80,VLOOKUP(P80,Prepared!$D:$G,4,FALSE)/(VLOOKUP(P80,Prepared!$D:$G,3,FALSE))*Q80),"") | U80: =IF(AND(S80<>"",T80<>""),IF(NOT(ISNA(VLOOKUP(S80,Ingredients!$D:$K,4,FALSE)/(VLOOKUP(S80,Ingredients!$D:$K,2,FALSE))*T80)),VLOOKUP(S80,Ingredients!$D:$K,4,FALSE)/(VLOOKUP(S80,Ingredients!$D:$K,2,FALSE))*T80,VLOOKUP(S80,Prepared!$D:$G,4,FALSE)/(VLOOKUP(S80,Prepared!$D:$G,3,FALSE))*T80),"")
C81: =IF(AND(A81<>"",B81<>""),IF(NOT(ISNA(VLOOKUP(A81,Ingredients!$D:$K,4,FALSE)/(VLOOKUP(A81,Ingredients!$D:$K,2,FALSE))*B81)),VLOOKUP(A81,Ingredients!$D:$K,4,FALSE)/(VLOOKUP(A81,Ingredients!$D:$K,2,FALSE))*B81,VLOOKUP(A81,Prepared!$D:$G,4,FALSE)/(VLOOKUP(A81,Prepared!$D:$G,3,FALSE))*B81),"") | F81: =IF(AND(D81<>"",E81<>""),VLOOKUP(D81,Ingredients!$D:$K,4,FALSE)/(VLOOKUP(D81,Ingredients!$D:$K,2,FALSE))*E81,"") | I81: =IF(AND(G81<>"",H81<>""),IF(NOT(ISNA(VLOOKUP(G81,Ingredients!$D:$K,4,FALSE)/(VLOOKUP(G81,Ingredients!$D:$K,2,FALSE))*H81)),VLOOKUP(G81,Ingredients!$D:$K,4,FALSE)/(VLOOKUP(G81,Ingredients!$D:$K,2,FALSE))*H81,VLOOKUP(G81,Prepared!$D:$G,4,FALSE)/(VLOOKUP(G81,Prepared!$D:$G,3,FALSE))*H81),"") | L81: =IF(AND(J81<>"",K81<>""),IF(NOT(ISNA(VLOOKUP(J81,Ingredients!$D:$K,4,FALSE)/(VLOOKUP(J81,Ingredients!$D:$K,2,FALSE))*K81)),VLOOKUP(J81,Ingredients!$D:$K,4,FALSE)/(VLOOKUP(J81,Ingredients!$D:$K,2,FALSE))*K81,VLOOKUP(J81,Prepared!$D:$G,4,FALSE)/(VLOOKUP(J81,Prepared!$D:$G,3,FALSE))*K81),"") | O81: =IF(AND(M81<>"",N81<>""),IF(NOT(ISNA(VLOOKUP(M81,Ingredients!$D:$K,4,FALSE)/(VLOOKUP(M81,Ingredients!$D:$K,2,FALSE))*N81)),VLOOKUP(M81,Ingredients!$D:$K,4,FALSE)/(VLOOKUP(M81,Ingredients!$D:$K,2,FALSE))*N81,VLOOKUP(M81,Prepared!$D:$G,4,FALSE)/(VLOOKUP(M81,Prepared!$D:$G,3,FALSE))*N81),"") | R81: =IF(AND(P81<>"",Q81<>""),IF(NOT(ISNA(VLOOKUP(P81,Ingredients!$D:$K,4,FALSE)/(VLOOKUP(P81,Ingredients!$D:$K,2,FALSE))*Q81)),VLOOKUP(P81,Ingredients!$D:$K,4,FALSE)/(VLOOKUP(P81,Ingredients!$D:$K,2,FALSE))*Q81,VLOOKUP(P81,Prepared!$D:$G,4,FALSE)/(VLOOKUP(P81,Prepared!$D:$G,3,FALSE))*Q81),"") | U81: =IF(AND(S81<>"",T81<>""),IF(NOT(ISNA(VLOOKUP(S81,Ingredients!$D:$K,4,FALSE)/(VLOOKUP(S81,Ingredients!$D:$K,2,FALSE))*T81)),VLOOKUP(S81,Ingredients!$D:$K,4,FALSE)/(VLOOKUP(S81,Ingredients!$D:$K,2,FALSE))*T81,VLOOKUP(S81,Prepared!$D:$G,4,FALSE)/(VLOOKUP(S81,Prepared!$D:$G,3,FALSE))*T81),"")
A85: Tuesday | B85: Amount | C85: =IF(SUM(C86:C104)>0,SUM(C86:C104),"") -> 2029.2148 | D85: Wednesday | E85: Amount | F85: =IF(SUM(F86:F104)>0,SUM(F86:F104),"") | G85: Thursday | H85: Amount | I85: =IF(SUM(I86:I104)>0,SUM(I86:I104),"") -> 1020.8333 | J85: Friday | K85: Amount | L85: =IF(SUM(L86:L104)>0,SUM(L86:L104),"") -> 2064.034 | M85: Saturday | O85: =SUM(O86:O104) -> 1770 | P85: Sunday | R85: =SUM(R86:R104) -> 0 | S85: Monday | U85: =SUM(U86:U104) -> 0
A86: Breakfast | B86: 1 | C86: =IF(AND(A86<>"",B86<>""),IF(NOT(ISNA(VLOOKUP(A86,Ingredients!$D:$K,4,FALSE)/(VLOOKUP(A86,Ingredients!$D:$K,2,FALSE))*B86)),VLOOKUP(A86,Ingredients!$D:$K,4,FALSE)/(VLOOKUP(A86,Ingredients!$D:$K,2,FALSE))*B86,VLOOKUP(A86,Prepared!$D:$G,4,FALSE)/(VLOOKUP(A86,Prepared!$D:$G,3,FALSE))*B86),"") -> 245 | F86: =IF(AND(D86<>"",E86<>""),IF(NOT(ISNA(VLOOKUP(D86,Ingredients!$D:$K,4,FALSE)/(VLOOKUP(D86,Ingredients!$D:$K,2,FALSE))*E86)),VLOOKUP(D86,Ingredients!$D:$K,4,FALSE)/(VLOOKUP(D86,Ingredients!$D:$K,2,FALSE))*E86,VLOOKUP(D86,Prepared!$D:$G,4,FALSE)/(VLOOKUP(D86,Prepared!$D:$G,3,FALSE))*E86),"") | G86: Breakfast | H86: 1 | I86: =IF(AND(G86<>"",H86<>""),IF(NOT(ISNA(VLOOKUP(G86,Ingredients!$D:$K,4,FALSE)/(VLOOKUP(G86,Ingredients!$D:$K,2,FALSE))*H86)),VLOOKUP(G86,Ingredients!$D:$K,4,FALSE)/(VLOOKUP(G86,Ingredients!$D:$K,2,FALSE))*H86,VLOOKUP(G86,Prepared!$D:$G,4,FALSE)/(VLOOKUP(G86,Prepared!$D:$G,3,FALSE))*H86),"") -> 245 | J86: Milk | K86: 400 | L86: =IF(AND(J86<>"",K86<>""),IF(NOT(ISNA(VLOOKUP(J86,Ingredients!$D:$K,4,FALSE)/(VLOOKUP(J86,Ingredients!$D:$K,2,FALSE))*K86)),VLOOKUP(J86,Ingredients!$D:$K,4,FALSE)/(VLOOKUP(J86,Ingredients!$D:$K,2,FALSE))*K86,VLOOKUP(J86,Prepared!$D:$G,4,FALSE)/(VLOOKUP(J86,Prepared!$D:$G,3,FALSE))*K86),"") -> 260 | M86: Bread | N86: 6 | O86: =IF(AND(M86<>"",N86<>""),IF(NOT(ISNA(VLOOKUP(M86,Ingredients!$D:$K,4,FALSE)/(VLOOKUP(M86,Ingredients!$D:$K,2,FALSE))*N86)),VLOOKUP(M86,Ingredients!$D:$K,4,FALSE)/(VLOOKUP(M86,Ingredients!$D:$K,2,FALSE))*N86,VLOOKUP(M86,Prepared!$D:$G,4,FALSE)/(VLOOKUP(M86,Prepared!$D:$G,3,FALSE))*N86),"") -> 600 | R86: =IF(AND(P86<>"",Q86<>""),IF(NOT(ISNA(VLOOKUP(P86,Ingredients!$D:$K,4,FALSE)/(VLOOKUP(P86,Ingredients!$D:$K,2,FALSE))*Q86)),VLOOKUP(P86,Ingredients!$D:$K,4,FALSE)/(VLOOKUP(P86,Ingredients!$D:$K,2,FALSE))*Q86,VLOOKUP(P86,Prepared!$D:$G,4,FALSE)/(VLOOKUP(P86,Prepared!$D:$G,3,FALSE))*Q86),"") | U86: =IF(AND(S86<>"",T86<>""),IF(NOT(ISNA(VLOOKUP(S86,Ingredients!$D:$K,4,FALSE)/(VLOOKUP(S86,Ingredients!$D:$K,2,FALSE))*T86)),VLOOKUP(S86,Ingredients!$D:$K,4,FALSE)/(VLOOKUP(S86,Ingredients!$D:$K,2,FALSE))*T86,VLOOKUP(S86,Prepared!$D:$G,4,FALSE)/(VLOOKUP(S86,Prepared!$D:$G,3,FALSE))*T86),"")
A87: Bread | B87: 1 | C87: =IF(AND(A87<>"",B87<>""),IF(NOT(ISNA(VLOOKUP(A87,Ingredients!$D:$K,4,FALSE)/(VLOOKUP(A87,Ingredients!$D:$K,2,FALSE))*B87)),VLOOKUP(A87,Ingredients!$D:$K,4,FALSE)/(VLOOKUP(A87,Ingredients!$D:$K,2,FALSE))*B87,VLOOKUP(A87,Prepared!$D:$G,4,FALSE)/(VLOOKUP(A87,Prepared!$D:$G,3,FALSE))*B87),"") -> 100 | F87: =IF(AND(D87<>"",E87<>""),IF(NOT(ISNA(VLOOKUP(D87,Ingredients!$D:$K,4,FALSE)/(VLOOKUP(D87,Ingredients!$D:$K,2,FALSE))*E87)),VLOOKUP(D87,Ingredients!$D:$K,4,FALSE)/(VLOOKUP(D87,Ingredients!$D:$K,2,FALSE))*E87,VLOOKUP(D87,Prepared!$D:$G,4,FALSE)/(VLOOKUP(D87,Prepared!$D:$G,3,FALSE))*E87),"") | G87: Bread | H87: 3 | I87: =IF(AND(G87<>"",H87<>""),IF(NOT(ISNA(VLOOKUP(G87,Ingredients!$D:$K,4,FALSE)/(VLOOKUP(G87,Ingredients!$D:$K,2,FALSE))*H87)),VLOOKUP(G87,Ingredients!$D:$K,4,FALSE)/(VLOOKUP(G87,Ingredients!$D:$K,2,FALSE))*H87,VLOOKUP(G87,Prepared!$D:$G,4,FALSE)/(VLOOKUP(G87,Prepared!$D:$G,3,FALSE))*H87),"") -> 300 | J87: Bread | K87: 2 | L87: =IF(AND(J87<>"",K87<>""),IF(NOT(ISNA(VLOOKUP(J87,Ingredients!$D:$K,4,FALSE)/(VLOOKUP(J87,Ingredients!$D:$K,2,FALSE))*K87)),VLOOKUP(J87,Ingredients!$D:$K,4,FALSE)/(VLOOKUP(J87,Ingredients!$D:$K,2,FALSE))*K87,VLOOKUP(J87,Prepared!$D:$G,4,FALSE)/(VLOOKUP(J87,Prepared!$D:$G,3,FALSE))*K87),"") -> 200 | M87: Cheese | N87: 3 | O87: =IF(AND(M87<>"",N87<>""),IF(NOT(ISNA(VLOOKUP(M87,Ingredients!$D:$K,4,FALSE)/(VLOOKUP(M87,Ingredients!$D:$K,2,FALSE))*N87)),VLOOKUP(M87,Ingredients!$D:$K,4,FALSE)/(VLOOKUP(M87,Ingredients!$D:$K,2,FALSE))*N87,VLOOKUP(M87,Prepared!$D:$G,4,FALSE)/(VLOOKUP(M87,Prepared!$D:$G,3,FALSE))*N87),"") -> 300 | R87: =IF(AND(P87<>"",Q87<>""),IF(NOT(ISNA(VLOOKUP(P87,Ingredients!$D:$K,4,FALSE)/(VLOOKUP(P87,Ingredients!$D:$K,2,FALSE))*Q87)),VLOOKUP(P87,Ingredients!$D:$K,4,FALSE)/(VLOOKUP(P87,Ingredients!$D:$K,2,FALSE))*Q87,VLOOKUP(P87,Prepared!$D:$G,4,FALSE)/(VLOOKUP(P87,Prepared!$D:$G,3,FALSE))*Q87),"") | U87: =IF(AND(S87<>"",T87<>""),IF(NOT(ISNA(VLOOKUP(S87,Ingredients!$D:$K,4,FALSE)/(VLOOKUP(S87,Ingredients!$D:$K,2,FALSE))*T87)),VLOOKUP(S87,Ingredients!$D:$K,4,FALSE)/(VLOOKUP(S87,Ingredients!$D:$K,2,FALSE))*T87,VLOOKUP(S87,Prepared!$D:$G,4,FALSE)/(VLOOKUP(S87,Prepared!$D:$G,3,FALSE))*T87),"")
A88: Cookies | B88: 6 | C88: =IF(AND(A88<>"",B88<>""),IF(NOT(ISNA(VLOOKUP(A88,Ingredients!$D:$K,4,FALSE)/(VLOOKUP(A88,Ingredients!$D:$K,2,FALSE))*B88)),VLOOKUP(A88,Ingredients!$D:$K,4,FALSE)/(VLOOKUP(A88,Ingredients!$D:$K,2,FALSE))*B88,VLOOKUP(A88,Prepared!$D:$G,4,FALSE)/(VLOOKUP(A88,Prepared!$D:$G,3,FALSE))*B88),"") -> 300 | F88: =IF(AND(D88<>"",E88<>""),IF(NOT(ISNA(VLOOKUP(D88,Ingredients!$D:$K,4,FALSE)/(VLOOKUP(D88,Ingredients!$D:$K,2,FALSE))*E88)),VLOOKUP(D88,Ingredients!$D:$K,4,FALSE)/(VLOOKUP(D88,Ingredients!$D:$K,2,FALSE))*E88,VLOOKUP(D88,Prepared!$D:$G,4,FALSE)/(VLOOKUP(D88,Prepared!$D:$G,3,FALSE))*E88),"") | G88: Cheese | H88: 2 | I88: =IF(AND(G88<>"",H88<>""),IF(NOT(ISNA(VLOOKUP(G88,Ingredients!$D:$K,4,FALSE)/(VLOOKUP(G88,Ingredients!$D:$K,2,FALSE))*H88)),VLOOKUP(G88,Ingredients!$D:$K,4,FALSE)/(VLOOKUP(G88,Ingredients!$D:$K,2,FALSE))*H88,VLOOKUP(G88,Prepared!$D:$G,4,FALSE)/(VLOOKUP(G88,Prepared!$D:$G,3,FALSE))*H88),"") -> 200 | J88: Bread roll | K88: 1 | L88: =IF(AND(J88<>"",K88<>""),IF(NOT(ISNA(VLOOKUP(J88,Ingredients!$D:$K,4,FALSE)/(VLOOKUP(J88,Ingredients!$D:$K,2,FALSE))*K88)),VLOOKUP(J88,Ingredients!$D:$K,4,FALSE)/(VLOOKUP(J88,Ingredients!$D:$K,2,FALSE))*K88,VLOOKUP(J88,Prepared!$D:$G,4,FALSE)/(VLOOKUP(J88,Prepared!$D:$G,3,FALSE))*K88),"") -> 80 | M88: Cookies | N88: 8 | O88: =IF(AND(M88<>"",N88<>""),IF(NOT(ISNA(VLOOKUP(M88,Ingredients!$D:$K,4,FALSE)/(VLOOKUP(M88,Ingredients!$D:$K,2,FALSE))*N88)),VLOOKUP(M88,Ingredients!$D:$K,4,FALSE)/(VLOOKUP(M88,Ingredients!$D:$K,2,FALSE))*N88,VLOOKUP(M88,Prepared!$D:$G,4,FALSE)/(VLOOKUP(M88,Prepared!$D:$G,3,FALSE))*N88),"") -> 400 | R88: =IF(AND(P88<>"",Q88<>""),IF(NOT(ISNA(VLOOKUP(P88,Ingredients!$D:$K,4,FALSE)/(VLOOKUP(P88,Ingredients!$D:$K,2,FALSE))*Q88)),VLOOKUP(P88,Ingredients!$D:$K,4,FALSE)/(VLOOKUP(P88,Ingredients!$D:$K,2,FALSE))*Q88,VLOOKUP(P88,Prepared!$D:$G,4,FALSE)/(VLOOKUP(P88,Prepared!$D:$G,3,FALSE))*Q88),"") | U88: =IF(AND(S88<>"",T88<>""),IF(NOT(ISNA(VLOOKUP(S88,Ingredients!$D:$K,4,FALSE)/(VLOOKUP(S88,Ingredients!$D:$K,2,FALSE))*T88)),VLOOKUP(S88,Ingredients!$D:$K,4,FALSE)/(VLOOKUP(S88,Ingredients!$D:$K,2,FALSE))*T88,VLOOKUP(S88,Prepared!$D:$G,4,FALSE)/(VLOOKUP(S88,Prepared!$D:$G,3,FALSE))*T88),"")
A89: Popcorn | B89: 20 | C89: =IF(AND(A89<>"",B89<>""),IF(NOT(ISNA(VLOOKUP(A89,Ingredients!$D:$K,4,FALSE)/(VLOOKUP(A89,Ingredients!$D:$K,2,FALSE))*B89)),VLOOKUP(A89,Ingredients!$D:$K,4,FALSE)/(VLOOKUP(A89,Ingredients!$D:$K,2,FALSE))*B89,VLOOKUP(A89,Prepared!$D:$G,4,FALSE)/(VLOOKUP(A89,Prepared!$D:$G,3,FALSE))*B89),"") -> 100 | F89: =IF(AND(D89<>"",E89<>""),IF(NOT(ISNA(VLOOKUP(D89,Ingredients!$D:$K,4,FALSE)/(VLOOKUP(D89,Ingredients!$D:$K,2,FALSE))*E89)),VLOOKUP(D89,Ingredients!$D:$K,4,FALSE)/(VLOOKUP(D89,Ingredients!$D:$K,2,FALSE))*E89,VLOOKUP(D89,Prepared!$D:$G,4,FALSE)/(VLOOKUP(D89,Prepared!$D:$G,3,FALSE))*E89),"") | G89: Apple | H89: 150 | I89: =IF(AND(G89<>"",H89<>""),IF(NOT(ISNA(VLOOKUP(G89,Ingredients!$D:$K,4,FALSE)/(VLOOKUP(G89,Ingredients!$D:$K,2,FALSE))*H89)),VLOOKUP(G89,Ingredients!$D:$K,4,FALSE)/(VLOOKUP(G89,Ingredients!$D:$K,2,FALSE))*H89,VLOOKUP(G89,Prepared!$D:$G,4,FALSE)/(VLOOKUP(G89,Prepared!$D:$G,3,FALSE))*H89),"") -> 75.833333 | J89: Breakfast | K89: 1 | L89: =IF(AND(J89<>"",K89<>""),IF(NOT(ISNA(VLOOKUP(J89,Ingredients!$D:$K,4,FALSE)/(VLOOKUP(J89,Ingredients!$D:$K,2,FALSE))*K89)),VLOOKUP(J89,Ingredients!$D:$K,4,FALSE)/(VLOOKUP(J89,Ingredients!$D:$K,2,FALSE))*K89,VLOOKUP(J89,Prepared!$D:$G,4,FALSE)/(VLOOKUP(J89,Prepared!$D:$G,3,FALSE))*K89),"") -> 245 | M89: Cereal | N89: 100 | O89: =IF(AND(M89<>"",N89<>""),IF(NOT(ISNA(VLOOKUP(M89,Ingredients!$D:$K,4,FALSE)/(VLOOKUP(M89,Ingredients!$D:$K,2,FALSE))*N89)),VLOOKUP(M89,Ingredients!$D:$K,4,FALSE)/(VLOOKUP(M89,Ingredients!$D:$K,2,FALSE))*N89,VLOOKUP(M89,Prepared!$D:$G,4,FALSE)/(VLOOKUP(M89,Prepared!$D:$G,3,FALSE))*N89),"") -> 340 | R89: =IF(AND(P89<>"",Q89<>""),IF(NOT(ISNA(VLOOKUP(P89,Ingredients!$D:$K,4,FALSE)/(VLOOKUP(P89,Ingredients!$D:$K,2,FALSE))*Q89)),VLOOKUP(P89,Ingredients!$D:$K,4,FALSE)/(VLOOKUP(P89,Ingredients!$D:$K,2,FALSE))*Q89,VLOOKUP(P89,Prepared!$D:$G,4,FALSE)/(VLOOKUP(P89,Prepared!$D:$G,3,FALSE))*Q89),"") | U89: =IF(AND(S89<>"",T89<>""),IF(NOT(ISNA(VLOOKUP(S89,Ingredients!$D:$K,4,FALSE)/(VLOOKUP(S89,Ingredients!$D:$K,2,FALSE))*T89)),VLOOKUP(S89,Ingredients!$D:$K,4,FALSE)/(VLOOKUP(S89,Ingredients!$D:$K,2,FALSE))*T89,VLOOKUP(S89,Prepared!$D:$G,4,FALSE)/(VLOOKUP(S89,Prepared!$D:$G,3,FALSE))*T89),"")
A90: Salad | B90: 100 | C90: 60 | F90: =IF(AND(D90<>"",E90<>""),IF(NOT(ISNA(VLOOKUP(D90,Ingredients!$D:$K,4,FALSE)/(VLOOKUP(D90,Ingredients!$D:$K,2,FALSE))*E90)),VLOOKUP(D90,Ingredients!$D:$K,4,FALSE)/(VLOOKUP(D90,Ingredients!$D:$K,2,FALSE))*E90,VLOOKUP(D90,Prepared!$D:$G,4,FALSE)/(VLOOKUP(D90,Prepared!$D:$G,3,FALSE))*E90),"") | G90: Cookie | H90: 4 | I90: =IF(AND(G90<>"",H90<>""),IF(NOT(ISNA(VLOOKUP(G90,Ingredients!$D:$K,4,FALSE)/(VLOOKUP(G90,Ingredients!$D:$K,2,FALSE))*H90)),VLOOKUP(G90,Ingredients!$D:$K,4,FALSE)/(VLOOKUP(G90,Ingredients!$D:$K,2,FALSE))*H90,VLOOKUP(G90,Prepared!$D:$G,4,FALSE)/(VLOOKUP(G90,Prepared!$D:$G,3,FALSE))*H90),"") -> 200 | J90: Bread | K90: 2 | L90: =IF(AND(J90<>"",K90<>""),IF(NOT(ISNA(VLOOKUP(J90,Ingredients!$D:$K,4,FALSE)/(VLOOKUP(J90,Ingredients!$D:$K,2,FALSE))*K90)),VLOOKUP(J90,Ingredients!$D:$K,4,FALSE)/(VLOOKUP(J90,Ingredients!$D:$K,2,FALSE))*K90,VLOOKUP(J90,Prepared!$D:$G,4,FALSE)/(VLOOKUP(J90,Prepared!$D:$G,3,FALSE))*K90),"") -> 200 | M90: Milk | N90: 200 | O90: =IF(AND(M90<>"",N90<>""),IF(NOT(ISNA(VLOOKUP(M90,Ingredients!$D:$K,4,FALSE)/(VLOOKUP(M90,Ingredients!$D:$K,2,FALSE))*N90)),VLOOKUP(M90,Ingredients!$D:$K,4,FALSE)/(VLOOKUP(M90,Ingredients!$D:$K,2,FALSE))*N90,VLOOKUP(M90,Prepared!$D:$G,4,FALSE)/(VLOOKUP(M90,Prepared!$D:$G,3,FALSE))*N90),"") -> 130 | R90: =IF(AND(P90<>"",Q90<>""),IF(NOT(ISNA(VLOOKUP(P90,Ingredients!$D:$K,4,FALSE)/(VLOOKUP(P90,Ingredients!$D:$K,2,FALSE))*Q90)),VLOOKUP(P90,Ingredients!$D:$K,4,FALSE)/(VLOOKUP(P90,Ingredients!$D:$K,2,FALSE))*Q90,VLOOKUP(P90,Prepared!$D:$G,4,FALSE)/(VLOOKUP(P90,Prepared!$D:$G,3,FALSE))*Q90),"") | U90: =IF(AND(S90<>"",T90<>""),IF(NOT(ISNA(VLOOKUP(S90,Ingredients!$D:$K,4,FALSE)/(VLOOKUP(S90,Ingredients!$D:$K,2,FALSE))*T90)),VLOOKUP(S90,Ingredients!$D:$K,4,FALSE)/(VLOOKUP(S90,Ingredients!$D:$K,2,FALSE))*T90,VLOOKUP(S90,Prepared!$D:$G,4,FALSE)/(VLOOKUP(S90,Prepared!$D:$G,3,FALSE))*T90),"")
A91: Potato | B91: 300 | C91: =IF(AND(A91<>"",B91<>""),IF(NOT(ISNA(VLOOKUP(A91,Ingredients!$D:$K,4,FALSE)/(VLOOKUP(A91,Ingredients!$D:$K,2,FALSE))*B91)),VLOOKUP(A91,Ingredients!$D:$K,4,FALSE)/(VLOOKUP(A91,Ingredients!$D:$K,2,FALSE))*B91,VLOOKUP(A91,Prepared!$D:$G,4,FALSE)/(VLOOKUP(A91,Prepared!$D:$G,3,FALSE))*B91),"") -> 258.3815 | F91: =IF(AND(D91<>"",E91<>""),IF(NOT(ISNA(VLOOKUP(D91,Ingredients!$D:$K,4,FALSE)/(VLOOKUP(D91,Ingredients!$D:$K,2,FALSE))*E91)),VLOOKUP(D91,Ingredients!$D:$K,4,FALSE)/(VLOOKUP(D91,Ingredients!$D:$K,2,FALSE))*E91,VLOOKUP(D91,Prepared!$D:$G,4,FALSE)/(VLOOKUP(D91,Prepared!$D:$G,3,FALSE))*E91),"") | I91: =IF(AND(G91<>"",H91<>""),IF(NOT(ISNA(VLOOKUP(G91,Ingredients!$D:$K,4,FALSE)/(VLOOKUP(G91,Ingredients!$D:$K,2,FALSE))*H91)),VLOOKUP(G91,Ingredients!$D:$K,4,FALSE)/(VLOOKUP(G91,Ingredients!$D:$K,2,FALSE))*H91,VLOOKUP(G91,Prepared!$D:$G,4,FALSE)/(VLOOKUP(G91,Prepared!$D:$G,3,FALSE))*H91),"") | J91: Cookies | K91: 5 | L91: =IF(AND(J91<>"",K91<>""),IF(NOT(ISNA(VLOOKUP(J91,Ingredients!$D:$K,4,FALSE)/(VLOOKUP(J91,Ingredients!$D:$K,2,FALSE))*K91)),VLOOKUP(J91,Ingredients!$D:$K,4,FALSE)/(VLOOKUP(J91,Ingredients!$D:$K,2,FALSE))*K91,VLOOKUP(J91,Prepared!$D:$G,4,FALSE)/(VLOOKUP(J91,Prepared!$D:$G,3,FALSE))*K91),"") -> 250 | O91: =IF(AND(M91<>"",N91<>""),IF(NOT(ISNA(VLOOKUP(M91,Ingredients!$D:$K,4,FALSE)/(VLOOKUP(M91,Ingredients!$D:$K,2,FALSE))*N91)),VLOOKUP(M91,Ingredients!$D:$K,4,FALSE)/(VLOOKUP(M91,Ingredients!$D:$K,2,FALSE))*N91,VLOOKUP(M91,Prepared!$D:$G,4,FALSE)/(VLOOKUP(M91,Prepared!$D:$G,3,FALSE))*N91),"") | R91: =IF(AND(P91<>"",Q91<>""),IF(NOT(ISNA(VLOOKUP(P91,Ingredients!$D:$K,4,FALSE)/(VLOOKUP(P91,Ingredients!$D:$K,2,FALSE))*Q91)),VLOOKUP(P91,Ingredients!$D:$K,4,FALSE)/(VLOOKUP(P91,Ingredients!$D:$K,2,FALSE))*Q91,VLOOKUP(P91,Prepared!$D:$G,4,FALSE)/(VLOOKUP(P91,Prepared!$D:$G,3,FALSE))*Q91),"") | U91: =IF(AND(S91<>"",T91<>""),IF(NOT(ISNA(VLOOKUP(S91,Ingredients!$D:$K,4,FALSE)/(VLOOKUP(S91,Ingredients!$D:$K,2,FALSE))*T91)),VLOOKUP(S91,Ingredients!$D:$K,4,FALSE)/(VLOOKUP(S91,Ingredients!$D:$K,2,FALSE))*T91,VLOOKUP(S91,Prepared!$D:$G,4,FALSE)/(VLOOKUP(S91,Prepared!$D:$G,3,FALSE))*T91),"")
A92: Bread | B92: 2 | C92: =IF(AND(A92<>"",B92<>""),IF(NOT(ISNA(VLOOKUP(A92,Ingredients!$D:$K,4,FALSE)/(VLOOKUP(A92,Ingredients!$D:$K,2,FALSE))*B92)),VLOOKUP(A92,Ingredients!$D:$K,4,FALSE)/(VLOOKUP(A92,Ingredients!$D:$K,2,FALSE))*B92,VLOOKUP(A92,Prepared!$D:$G,4,FALSE)/(VLOOKUP(A92,Prepared!$D:$G,3,FALSE))*B92),"") -> 200 | F92: =IF(AND(D92<>"",E92<>""),IF(NOT(ISNA(VLOOKUP(D92,Ingredients!$D:$K,4,FALSE)/(VLOOKUP(D92,Ingredients!$D:$K,2,FALSE))*E92)),VLOOKUP(D92,Ingredients!$D:$K,4,FALSE)/(VLOOKUP(D92,Ingredients!$D:$K,2,FALSE))*E92,VLOOKUP(D92,Prepared!$D:$G,4,FALSE)/(VLOOKUP(D92,Prepared!$D:$G,3,FALSE))*E92),"") | I92: =IF(AND(G92<>"",H92<>""),IF(NOT(ISNA(VLOOKUP(G92,Ingredients!$D:$K,4,FALSE)/(VLOOKUP(G92,Ingredients!$D:$K,2,FALSE))*H92)),VLOOKUP(G92,Ingredients!$D:$K,4,FALSE)/(VLOOKUP(G92,Ingredients!$D:$K,2,FALSE))*H92,VLOOKUP(G92,Prepared!$D:$G,4,FALSE)/(VLOOKUP(G92,Prepared!$D:$G,3,FALSE))*H92),"") | J92: Banana | K92: 120 | L92: =IF(AND(J92<>"",K92<>""),IF(NOT(ISNA(VLOOKUP(J92,Ingredients!$D:$K,4,FALSE)/(VLOOKUP(J92,Ingredients!$D:$K,2,FALSE))*K92)),VLOOKUP(J92,Ingredients!$D:$K,4,FALSE)/(VLOOKUP(J92,Ingredients!$D:$K,2,FALSE))*K92,VLOOKUP(J92,Prepared!$D:$G,4,FALSE)/(VLOOKUP(J92,Prepared!$D:$G,3,FALSE))*K92),"") -> 106.77966 | O92: =IF(AND(M92<>"",N92<>""),IF(NOT(ISNA(VLOOKUP(M92,Ingredients!$D:$K,4,FALSE)/(VLOOKUP(M92,Ingredients!$D:$K,2,FALSE))*N92)),VLOOKUP(M92,Ingredients!$D:$K,4,FALSE)/(VLOOKUP(M92,Ingredients!$D:$K,2,FALSE))*N92,VLOOKUP(M92,Prepared!$D:$G,4,FALSE)/(VLOOKUP(M92,Prepared!$D:$G,3,FALSE))*N92),"") | R92: =IF(AND(P92<>"",Q92<>""),IF(NOT(ISNA(VLOOKUP(P92,Ingredients!$D:$K,4,FALSE)/(VLOOKUP(P92,Ingredients!$D:$K,2,FALSE))*Q92)),VLOOKUP(P92,Ingredients!$D:$K,4,FALSE)/(VLOOKUP(P92,Ingredients!$D:$K,2,FALSE))*Q92,VLOOKUP(P92,Prepared!$D:$G,4,FALSE)/(VLOOKUP(P92,Prepared!$D:$G,3,FALSE))*Q92),"") | U92: =IF(AND(S92<>"",T92<>""),IF(NOT(ISNA(VLOOKUP(S92,Ingredients!$D:$K,4,FALSE)/(VLOOKUP(S92,Ingredients!$D:$K,2,FALSE))*T92)),VLOOKUP(S92,Ingredients!$D:$K,4,FALSE)/(VLOOKUP(S92,Ingredients!$D:$K,2,FALSE))*T92,VLOOKUP(S92,Prepared!$D:$G,4,FALSE)/(VLOOKUP(S92,Prepared!$D:$G,3,FALSE))*T92),"")
A93: Cheese | B93: 1 | C93: =IF(AND(A93<>"",B93<>""),IF(NOT(ISNA(VLOOKUP(A93,Ingredients!$D:$K,4,FALSE)/(VLOOKUP(A93,Ingredients!$D:$K,2,FALSE))*B93)),VLOOKUP(A93,Ingredients!$D:$K,4,FALSE)/(VLOOKUP(A93,Ingredients!$D:$K,2,FALSE))*B93,VLOOKUP(A93,Prepared!$D:$G,4,FALSE)/(VLOOKUP(A93,Prepared!$D:$G,3,FALSE))*B93),"") -> 100 | F93: =IF(AND(D93<>"",E93<>""),IF(NOT(ISNA(VLOOKUP(D93,Ingredients!$D:$K,4,FALSE)/(VLOOKUP(D93,Ingredients!$D:$K,2,FALSE))*E93)),VLOOKUP(D93,Ingredients!$D:$K,4,FALSE)/(VLOOKUP(D93,Ingredients!$D:$K,2,FALSE))*E93,VLOOKUP(D93,Prepared!$D:$G,4,FALSE)/(VLOOKUP(D93,Prepared!$D:$G,3,FALSE))*E93),"") | I93: =IF(AND(G93<>"",H93<>""),IF(NOT(ISNA(VLOOKUP(G93,Ingredients!$D:$K,4,FALSE)/(VLOOKUP(G93,Ingredients!$D:$K,2,FALSE))*H93)),VLOOKUP(G93,Ingredients!$D:$K,4,FALSE)/(VLOOKUP(G93,Ingredients!$D:$K,2,FALSE))*H93,VLOOKUP(G93,Prepared!$D:$G,4,FALSE)/(VLOOKUP(G93,Prepared!$D:$G,3,FALSE))*H93),"") | J93: Juice | K93: 300 | L93: =IF(AND(J93<>"",K93<>""),IF(NOT(ISNA(VLOOKUP(J93,Ingredients!$D:$K,4,FALSE)/(VLOOKUP(J93,Ingredients!$D:$K,2,FALSE))*K93)),VLOOKUP(J93,Ingredients!$D:$K,4,FALSE)/(VLOOKUP(J93,Ingredients!$D:$K,2,FALSE))*K93,VLOOKUP(J93,Prepared!$D:$G,4,FALSE)/(VLOOKUP(J93,Prepared!$D:$G,3,FALSE))*K93),"") -> 150 | O93: =IF(AND(M93<>"",N93<>""),IF(NOT(ISNA(VLOOKUP(M93,Ingredients!$D:$K,4,FALSE)/(VLOOKUP(M93,Ingredients!$D:$K,2,FALSE))*N93)),VLOOKUP(M93,Ingredients!$D:$K,4,FALSE)/(VLOOKUP(M93,Ingredients!$D:$K,2,FALSE))*N93,VLOOKUP(M93,Prepared!$D:$G,4,FALSE)/(VLOOKUP(M93,Prepared!$D:$G,3,FALSE))*N93),"") | R93: =IF(AND(P93<>"",Q93<>""),IF(NOT(ISNA(VLOOKUP(P93,Ingredients!$D:$K,4,FALSE)/(VLOOKUP(P93,Ingredients!$D:$K,2,FALSE))*Q93)),VLOOKUP(P93,Ingredients!$D:$K,4,FALSE)/(VLOOKUP(P93,Ingredients!$D:$K,2,FALSE))*Q93,VLOOKUP(P93,Prepared!$D:$G,4,FALSE)/(VLOOKUP(P93,Prepared!$D:$G,3,FALSE))*Q93),"") | U93: =IF(AND(S93<>"",T93<>""),IF(NOT(ISNA(VLOOKUP(S93,Ingredients!$D:$K,4,FALSE)/(VLOOKUP(S93,Ingredients!$D:$K,2,FALSE))*T93)),VLOOKUP(S93,Ingredients!$D:$K,4,FALSE)/(VLOOKUP(S93,Ingredients!$D:$K,2,FALSE))*T93,VLOOKUP(S93,Prepared!$D:$G,4,FALSE)/(VLOOKUP(S93,Prepared!$D:$G,3,FALSE))*T93),"")
A94: Apple | B94: 150 | C94: =IF(AND(A94<>"",B94<>""),IF(NOT(ISNA(VLOOKUP(A94,Ingredients!$D:$K,4,FALSE)/(VLOOKUP(A94,Ingredients!$D:$K,2,FALSE))*B94)),VLOOKUP(A94,Ingredients!$D:$K,4,FALSE)/(VLOOKUP(A94,Ingredients!$D:$K,2,FALSE))*B94,VLOOKUP(A94,Prepared!$D:$G,4,FALSE)/(VLOOKUP(A94,Prepared!$D:$G,3,FALSE))*B94),"") -> 75.833333 | F94: =IF(AND(D94<>"",E94<>""),IF(NOT(ISNA(VLOOKUP(D94,Ingredients!$D:$K,4,FALSE)/(VLOOKUP(D94,Ingredients!$D:$K,2,FALSE))*E94)),VLOOKUP(D94,Ingredients!$D:$K,4,FALSE)/(VLOOKUP(D94,Ingredients!$D:$K,2,FALSE))*E94,VLOOKUP(D94,Prepared!$D:$G,4,FALSE)/(VLOOKUP(D94,Prepared!$D:$G,3,FALSE))*E94),"") | I94: =IF(AND(G94<>"",H94<>""),IF(NOT(ISNA(VLOOKUP(G94,Ingredients!$D:$K,4,FALSE)/(VLOOKUP(G94,Ingredients!$D:$K,2,FALSE))*H94)),VLOOKUP(G94,Ingredients!$D:$K,4,FALSE)/(VLOOKUP(G94,Ingredients!$D:$K,2,FALSE))*H94,VLOOKUP(G94,Prepared!$D:$G,4,FALSE)/(VLOOKUP(G94,Prepared!$D:$G,3,FALSE))*H94),"") | J94: Fish | L94: 400 | O94: =IF(AND(M94<>"",N94<>""),IF(NOT(ISNA(VLOOKUP(M94,Ingredients!$D:$K,4,FALSE)/(VLOOKUP(M94,Ingredients!$D:$K,2,FALSE))*N94)),VLOOKUP(M94,Ingredients!$D:$K,4,FALSE)/(VLOOKUP(M94,Ingredients!$D:$K,2,FALSE))*N94,VLOOKUP(M94,Prepared!$D:$G,4,FALSE)/(VLOOKUP(M94,Prepared!$D:$G,3,FALSE))*N94),"") | R94: =IF(AND(P94<>"",Q94<>""),IF(NOT(ISNA(VLOOKUP(P94,Ingredients!$D:$K,4,FALSE)/(VLOOKUP(P94,Ingredients!$D:$K,2,FALSE))*Q94)),VLOOKUP(P94,Ingredients!$D:$K,4,FALSE)/(VLOOKUP(P94,Ingredients!$D:$K,2,FALSE))*Q94,VLOOKUP(P94,Prepared!$D:$G,4,FALSE)/(VLOOKUP(P94,Prepared!$D:$G,3,FALSE))*Q94),"") | U94: =IF(AND(S94<>"",T94<>""),IF(NOT(ISNA(VLOOKUP(S94,Ingredients!$D:$K,4,FALSE)/(VLOOKUP(S94,Ingredients!$D:$K,2,FALSE))*T94)),VLOOKUP(S94,Ingredients!$D:$K,4,FALSE)/(VLOOKUP(S94,Ingredients!$D:$K,2,FALSE))*T94,VLOOKUP(S94,Prepared!$D:$G,4,FALSE)/(VLOOKUP(S94,Prepared!$D:$G,3,FALSE))*T94),"")
A95: Milk | B95: 400 | C95: =IF(AND(A95<>"",B95<>""),IF(NOT(ISNA(VLOOKUP(A95,Ingredients!$D:$K,4,FALSE)/(VLOOKUP(A95,Ingredients!$D:$K,2,FALSE))*B95)),VLOOKUP(A95,Ingredients!$D:$K,4,FALSE)/(VLOOKUP(A95,Ingredients!$D:$K,2,FALSE))*B95,VLOOKUP(A95,Prepared!$D:$G,4,FALSE)/(VLOOKUP(A95,Prepared!$D:$G,3,FALSE))*B95),"") -> 260 | F95: =IF(AND(D95<>"",E95<>""),IF(NOT(ISNA(VLOOKUP(D95,Ingredients!$D:$K,4,FALSE)/(VLOOKUP(D95,Ingredients!$D:$K,2,FALSE))*E95)),VLOOKUP(D95,Ingredients!$D:$K,4,FALSE)/(VLOOKUP(D95,Ingredients!$D:$K,2,FALSE))*E95,VLOOKUP(D95,Prepared!$D:$G,4,FALSE)/(VLOOKUP(D95,Prepared!$D:$G,3,FALSE))*E95),"") | I95: =IF(AND(G95<>"",H95<>""),IF(NOT(ISNA(VLOOKUP(G95,Ingredients!$D:$K,4,FALSE)/(VLOOKUP(G95,Ingredients!$D:$K,2,FALSE))*H95)),VLOOKUP(G95,Ingredients!$D:$K,4,FALSE)/(VLOOKUP(G95,Ingredients!$D:$K,2,FALSE))*H95,VLOOKUP(G95,Prepared!$D:$G,4,FALSE)/(VLOOKUP(G95,Prepared!$D:$G,3,FALSE))*H95),"") | J95: Potato | K95: 200 | L95: =IF(AND(J95<>"",K95<>""),IF(NOT(ISNA(VLOOKUP(J95,Ingredients!$D:$K,4,FALSE)/(VLOOKUP(J95,Ingredients!$D:$K,2,FALSE))*K95)),VLOOKUP(J95,Ingredients!$D:$K,4,FALSE)/(VLOOKUP(J95,Ingredients!$D:$K,2,FALSE))*K95,VLOOKUP(J95,Prepared!$D:$G,4,FALSE)/(VLOOKUP(J95,Prepared!$D:$G,3,FALSE))*K95),"") -> 172.25434 | O95: =IF(AND(M95<>"",N95<>""),IF(NOT(ISNA(VLOOKUP(M95,Ingredients!$D:$K,4,FALSE)/(VLOOKUP(M95,Ingredients!$D:$K,2,FALSE))*N95)),VLOOKUP(M95,Ingredients!$D:$K,4,FALSE)/(VLOOKUP(M95,Ingredients!$D:$K,2,FALSE))*N95,VLOOKUP(M95,Prepared!$D:$G,4,FALSE)/(VLOOKUP(M95,Prepared!$D:$G,3,FALSE))*N95),"") | R95: =IF(AND(P95<>"",Q95<>""),IF(NOT(ISNA(VLOOKUP(P95,Ingredients!$D:$K,4,FALSE)/(VLOOKUP(P95,Ingredients!$D:$K,2,FALSE))*Q95)),VLOOKUP(P95,Ingredients!$D:$K,4,FALSE)/(VLOOKUP(P95,Ingredients!$D:$K,2,FALSE))*Q95,VLOOKUP(P95,Prepared!$D:$G,4,FALSE)/(VLOOKUP(P95,Prepared!$D:$G,3,FALSE))*Q95),"") | U95: =IF(AND(S95<>"",T95<>""),IF(NOT(ISNA(VLOOKUP(S95,Ingredients!$D:$K,4,FALSE)/(VLOOKUP(S95,Ingredients!$D:$K,2,FALSE))*T95)),VLOOKUP(S95,Ingredients!$D:$K,4,FALSE)/(VLOOKUP(S95,Ingredients!$D:$K,2,FALSE))*T95,VLOOKUP(S95,Prepared!$D:$G,4,FALSE)/(VLOOKUP(S95,Prepared!$D:$G,3,FALSE))*T95),"")
A96: Yogurt | C96: 150 | F96: =IF(AND(D96<>"",E96<>""),IF(NOT(ISNA(VLOOKUP(D96,Ingredients!$D:$K,4,FALSE)/(VLOOKUP(D96,Ingredients!$D:$K,2,FALSE))*E96)),VLOOKUP(D96,Ingredients!$D:$K,4,FALSE)/(VLOOKUP(D96,Ingredients!$D:$K,2,FALSE))*E96,VLOOKUP(D96,Prepared!$D:$G,4,FALSE)/(VLOOKUP(D96,Prepared!$D:$G,3,FALSE))*E96),"") | I96: =IF(AND(G96<>"",H96<>""),IF(NOT(ISNA(VLOOKUP(G96,Ingredients!$D:$K,4,FALSE)/(VLOOKUP(G96,Ingredients!$D:$K,2,FALSE))*H96)),VLOOKUP(G96,Ingredients!$D:$K,4,FALSE)/(VLOOKUP(G96,Ingredients!$D:$K,2,FALSE))*H96,VLOOKUP(G96,Prepared!$D:$G,4,FALSE)/(VLOOKUP(G96,Prepared!$D:$G,3,FALSE))*H96),"") | L96: =IF(AND(J96<>"",K96<>""),IF(NOT(ISNA(VLOOKUP(J96,Ingredients!$D:$K,4,FALSE)/(VLOOKUP(J96,Ingredients!$D:$K,2,FALSE))*K96)),VLOOKUP(J96,Ingredients!$D:$K,4,FALSE)/(VLOOKUP(J96,Ingredients!$D:$K,2,FALSE))*K96,VLOOKUP(J96,Prepared!$D:$G,4,FALSE)/(VLOOKUP(J96,Prepared!$D:$G,3,FALSE))*K96),"") | O96: =IF(AND(M96<>"",N96<>""),IF(NOT(ISNA(VLOOKUP(M96,Ingredients!$D:$K,4,FALSE)/(VLOOKUP(M96,Ingredients!$D:$K,2,FALSE))*N96)),VLOOKUP(M96,Ingredients!$D:$K,4,FALSE)/(VLOOKUP(M96,Ingredients!$D:$K,2,FALSE))*N96,VLOOKUP(M96,Prepared!$D:$G,4,FALSE)/(VLOOKUP(M96,Prepared!$D:$G,3,FALSE))*N96),"") | R96: =IF(AND(P96<>"",Q96<>""),IF(NOT(ISNA(VLOOKUP(P96,Ingredients!$D:$K,4,FALSE)/(VLOOKUP(P96,Ingredients!$D:$K,2,FALSE))*Q96)),VLOOKUP(P96,Ingredients!$D:$K,4,FALSE)/(VLOOKUP(P96,Ingredients!$D:$K,2,FALSE))*Q96,VLOOKUP(P96,Prepared!$D:$G,4,FALSE)/(VLOOKUP(P96,Prepared!$D:$G,3,FALSE))*Q96),"") | U96: =IF(AND(S96<>"",T96<>""),IF(NOT(ISNA(VLOOKUP(S96,Ingredients!$D:$K,4,FALSE)/(VLOOKUP(S96,Ingredients!$D:$K,2,FALSE))*T96)),VLOOKUP(S96,Ingredients!$D:$K,4,FALSE)/(VLOOKUP(S96,Ingredients!$D:$K,2,FALSE))*T96,VLOOKUP(S96,Prepared!$D:$G,4,FALSE)/(VLOOKUP(S96,Prepared!$D:$G,3,FALSE))*T96),"")
A97: Bread roll | B97: 1 | C97: =IF(AND(A97<>"",B97<>""),IF(NOT(ISNA(VLOOKUP(A97,Ingredients!$D:$K,4,FALSE)/(VLOOKUP(A97,Ingredients!$D:$K,2,FALSE))*B97)),VLOOKUP(A97,Ingredients!$D:$K,4,FALSE)/(VLOOKUP(A97,Ingredients!$D:$K,2,FALSE))*B97,VLOOKUP(A97,Prepared!$D:$G,4,FALSE)/(VLOOKUP(A97,Prepared!$D:$G,3,FALSE))*B97),"") -> 80 | F97: =IF(AND(D97<>"",E97<>""),IF(NOT(ISNA(VLOOKUP(D97,Ingredients!$D:$K,4,FALSE)/(VLOOKUP(D97,Ingredients!$D:$K,2,FALSE))*E97)),VLOOKUP(D97,Ingredients!$D:$K,4,FALSE)/(VLOOKUP(D97,Ingredients!$D:$K,2,FALSE))*E97,VLOOKUP(D97,Prepared!$D:$G,4,FALSE)/(VLOOKUP(D97,Prepared!$D:$G,3,FALSE))*E97),"") | I97: =IF(AND(G97<>"",H97<>""),IF(NOT(ISNA(VLOOKUP(G97,Ingredients!$D:$K,4,FALSE)/(VLOOKUP(G97,Ingredients!$D:$K,2,FALSE))*H97)),VLOOKUP(G97,Ingredients!$D:$K,4,FALSE)/(VLOOKUP(G97,Ingredients!$D:$K,2,FALSE))*H97,VLOOKUP(G97,Prepared!$D:$G,4,FALSE)/(VLOOKUP(G97,Prepared!$D:$G,3,FALSE))*H97),"") | L97: =IF(AND(J97<>"",K97<>""),IF(NOT(ISNA(VLOOKUP(J97,Ingredients!$D:$K,4,FALSE)/(VLOOKUP(J97,Ingredients!$D:$K,2,FALSE))*K97)),VLOOKUP(J97,Ingredients!$D:$K,4,FALSE)/(VLOOKUP(J97,Ingredients!$D:$K,2,FALSE))*K97,VLOOKUP(J97,Prepared!$D:$G,4,FALSE)/(VLOOKUP(J97,Prepared!$D:$G,3,FALSE))*K97),"") | O97: =IF(AND(M97<>"",N97<>""),IF(NOT(ISNA(VLOOKUP(M97,Ingredients!$D:$K,4,FALSE)/(VLOOKUP(M97,Ingredients!$D:$K,2,FALSE))*N97)),VLOOKUP(M97,Ingredients!$D:$K,4,FALSE)/(VLOOKUP(M97,Ingredients!$D:$K,2,FALSE))*N97,VLOOKUP(M97,Prepared!$D:$G,4,FALSE)/(VLOOKUP(M97,Prepared!$D:$G,3,FALSE))*N97),"") | R97: =IF(AND(P97<>"",Q97<>""),IF(NOT(ISNA(VLOOKUP(P97,Ingredients!$D:$K,4,FALSE)/(VLOOKUP(P97,Ingredients!$D:$K,2,FALSE))*Q97)),VLOOKUP(P97,Ingredients!$D:$K,4,FALSE)/(VLOOKUP(P97,Ingredients!$D:$K,2,FALSE))*Q97,VLOOKUP(P97,Prepared!$D:$G,4,FALSE)/(VLOOKUP(P97,Prepared!$D:$G,3,FALSE))*Q97),"") | U97: =IF(AND(S97<>"",T97<>""),IF(NOT(ISNA(VLOOKUP(S97,Ingredients!$D:$K,4,FALSE)/(VLOOKUP(S97,Ingredients!$D:$K,2,FALSE))*T97)),VLOOKUP(S97,Ingredients!$D:$K,4,FALSE)/(VLOOKUP(S97,Ingredients!$D:$K,2,FALSE))*T97,VLOOKUP(S97,Prepared!$D:$G,4,FALSE)/(VLOOKUP(S97,Prepared!$D:$G,3,FALSE))*T97),"")
A98: Nomz | C98: 100 | F98: =IF(AND(D98<>"",E98<>""),IF(NOT(ISNA(VLOOKUP(D98,Ingredients!$D:$K,4,FALSE)/(VLOOKUP(D98,Ingredients!$D:$K,2,FALSE))*E98)),VLOOKUP(D98,Ingredients!$D:$K,4,FALSE)/(VLOOKUP(D98,Ingredients!$D:$K,2,FALSE))*E98,VLOOKUP(D98,Prepared!$D:$G,4,FALSE)/(VLOOKUP(D98,Prepared!$D:$G,3,FALSE))*E98),"") | I98: =IF(AND(G98<>"",H98<>""),IF(NOT(ISNA(VLOOKUP(G98,Ingredients!$D:$K,4,FALSE)/(VLOOKUP(G98,Ingredients!$D:$K,2,FALSE))*H98)),VLOOKUP(G98,Ingredients!$D:$K,4,FALSE)/(VLOOKUP(G98,Ingredients!$D:$K,2,FALSE))*H98,VLOOKUP(G98,Prepared!$D:$G,4,FALSE)/(VLOOKUP(G98,Prepared!$D:$G,3,FALSE))*H98),"") | L98: =IF(AND(J98<>"",K98<>""),IF(NOT(ISNA(VLOOKUP(J98,Ingredients!$D:$K,4,FALSE)/(VLOOKUP(J98,Ingredients!$D:$K,2,FALSE))*K98)),VLOOKUP(J98,Ingredients!$D:$K,4,FALSE)/(VLOOKUP(J98,Ingredients!$D:$K,2,FALSE))*K98,VLOOKUP(J98,Prepared!$D:$G,4,FALSE)/(VLOOKUP(J98,Prepared!$D:$G,3,FALSE))*K98),"") | O98: =IF(AND(M98<>"",N98<>""),IF(NOT(ISNA(VLOOKUP(M98,Ingredients!$D:$K,4,FALSE)/(VLOOKUP(M98,Ingredients!$D:$K,2,FALSE))*N98)),VLOOKUP(M98,Ingredients!$D:$K,4,FALSE)/(VLOOKUP(M98,Ingredients!$D:$K,2,FALSE))*N98,VLOOKUP(M98,Prepared!$D:$G,4,FALSE)/(VLOOKUP(M98,Prepared!$D:$G,3,FALSE))*N98),"") | R98: =IF(AND(P98<>"",Q98<>""),IF(NOT(ISNA(VLOOKUP(P98,Ingredients!$D:$K,4,FALSE)/(VLOOKUP(P98,Ingredients!$D:$K,2,FALSE))*Q98)),VLOOKUP(P98,Ingredients!$D:$K,4,FALSE)/(VLOOKUP(P98,Ingredients!$D:$K,2,FALSE))*Q98,VLOOKUP(P98,Prepared!$D:$G,4,FALSE)/(VLOOKUP(P98,Prepared!$D:$G,3,FALSE))*Q98),"") | U98: =IF(AND(S98<>"",T98<>""),IF(NOT(ISNA(VLOOKUP(S98,Ingredients!$D:$K,4,FALSE)/(VLOOKUP(S98,Ingredients!$D:$K,2,FALSE))*T98)),VLOOKUP(S98,Ingredients!$D:$K,4,FALSE)/(VLOOKUP(S98,Ingredients!$D:$K,2,FALSE))*T98,VLOOKUP(S98,Prepared!$D:$G,4,FALSE)/(VLOOKUP(S98,Prepared!$D:$G,3,FALSE))*T98),"")
C99: =IF(AND(A99<>"",B99<>""),IF(NOT(ISNA(VLOOKUP(A99,Ingredients!$D:$K,4,FALSE)/(VLOOKUP(A99,Ingredients!$D:$K,2,FALSE))*B99)),VLOOKUP(A99,Ingredients!$D:$K,4,FALSE)/(VLOOKUP(A99,Ingredients!$D:$K,2,FALSE))*B99,VLOOKUP(A99,Prepared!$D:$G,4,FALSE)/(VLOOKUP(A99,Prepared!$D:$G,3,FALSE))*B99),"") | F99: =IF(AND(D99<>"",E99<>""),IF(NOT(ISNA(VLOOKUP(D99,Ingredients!$D:$K,4,FALSE)/(VLOOKUP(D99,Ingredients!$D:$K,2,FALSE))*E99)),VLOOKUP(D99,Ingredients!$D:$K,4,FALSE)/(VLOOKUP(D99,Ingredients!$D:$K,2,FALSE))*E99,VLOOKUP(D99,Prepared!$D:$G,4,FALSE)/(VLOOKUP(D99,Prepared!$D:$G,3,FALSE))*E99),"") | I99: =IF(AND(G99<>"",H99<>""),IF(NOT(ISNA(VLOOKUP(G99,Ingredients!$D:$K,4,FALSE)/(VLOOKUP(G99,Ingredients!$D:$K,2,FALSE))*H99)),VLOOKUP(G99,Ingredients!$D:$K,4,FALSE)/(VLOOKUP(G99,Ingredients!$D:$K,2,FALSE))*H99,VLOOKUP(G99,Prepared!$D:$G,4,FALSE)/(VLOOKUP(G99,Prepared!$D:$G,3,FALSE))*H99),"") | L99: =IF(AND(J99<>"",K99<>""),IF(NOT(ISNA(VLOOKUP(J99,Ingredients!$D:$K,4,FALSE)/(VLOOKUP(J99,Ingredients!$D:$K,2,FALSE))*K99)),VLOOKUP(J99,Ingredients!$D:$K,4,FALSE)/(VLOOKUP(J99,Ingredients!$D:$K,2,FALSE))*K99,VLOOKUP(J99,Prepared!$D:$G,4,FALSE)/(VLOOKUP(J99,Prepared!$D:$G,3,FALSE))*K99),"") | O99: =IF(AND(M99<>"",N99<>""),IF(NOT(ISNA(VLOOKUP(M99,Ingredients!$D:$K,4,FALSE)/(VLOOKUP(M99,Ingredients!$D:$K,2,FALSE))*N99)),VLOOKUP(M99,Ingredients!$D:$K,4,FALSE)/(VLOOKUP(M99,Ingredients!$D:$K,2,FALSE))*N99,VLOOKUP(M99,Prepared!$D:$G,4,FALSE)/(VLOOKUP(M99,Prepared!$D:$G,3,FALSE))*N99),"") | R99: =IF(AND(P99<>"",Q99<>""),IF(NOT(ISNA(VLOOKUP(P99,Ingredients!$D:$K,4,FALSE)/(VLOOKUP(P99,Ingredients!$D:$K,2,FALSE))*Q99)),VLOOKUP(P99,Ingredients!$D:$K,4,FALSE)/(VLOOKUP(P99,Ingredients!$D:$K,2,FALSE))*Q99,VLOOKUP(P99,Prepared!$D:$G,4,FALSE)/(VLOOKUP(P99,Prepared!$D:$G,3,FALSE))*Q99),"") | U99: =IF(AND(S99<>"",T99<>""),IF(NOT(ISNA(VLOOKUP(S99,Ingredients!$D:$K,4,FALSE)/(VLOOKUP(S99,Ingredients!$D:$K,2,FALSE))*T99)),VLOOKUP(S99,Ingredients!$D:$K,4,FALSE)/(VLOOKUP(S99,Ingredients!$D:$K,2,FALSE))*T99,VLOOKUP(S99,Prepared!$D:$G,4,FALSE)/(VLOOKUP(S99,Prepared!$D:$G,3,FALSE))*T99),"")
C100: =IF(AND(A100<>"",B100<>""),IF(NOT(ISNA(VLOOKUP(A100,Ingredients!$D:$K,4,FALSE)/(VLOOKUP(A100,Ingredients!$D:$K,2,FALSE))*B100)),VLOOKUP(A100,Ingredients!$D:$K,4,FALSE)/(VLOOKUP(A100,Ingredients!$D:$K,2,FALSE))*B100,VLOOKUP(A100,Prepared!$D:$G,4,FALSE)/(VLOOKUP(A100,Prepared!$D:$G,3,FALSE))*B100),"") | F100: =IF(AND(D100<>"",E100<>""),IF(NOT(ISNA(VLOOKUP(D100,Ingredients!$D:$K,4,FALSE)/(VLOOKUP(D100,Ingredients!$D:$K,2,FALSE))*E100)),VLOOKUP(D100,Ingredients!$D:$K,4,FALSE)/(VLOOKUP(D100,Ingredients!$D:$K,2,FALSE))*E100,VLOOKUP(D100,Prepared!$D:$G,4,FALSE)/(VLOOKUP(D100,Prepared!$D:$G,3,FALSE))*E100),"") | I100: =IF(AND(G100<>"",H100<>""),IF(NOT(ISNA(VLOOKUP(G100,Ingredients!$D:$K,4,FALSE)/(VLOOKUP(G100,Ingredients!$D:$K,2,FALSE))*H100)),VLOOKUP(G100,Ingredients!$D:$K,4,FALSE)/(VLOOKUP(G100,Ingredients!$D:$K,2,FALSE))*H100,VLOOKUP(G100,Prepared!$D:$G,4,FALSE)/(VLOOKUP(G100,Prepared!$D:$G,3,FALSE))*H100),"") | L100: =IF(AND(J100<>"",K100<>""),IF(NOT(ISNA(VLOOKUP(J100,Ingredients!$D:$K,4,FALSE)/(VLOOKUP(J100,Ingredients!$D:$K,2,FALSE))*K100)),VLOOKUP(J100,Ingredients!$D:$K,4,FALSE)/(VLOOKUP(J100,Ingredients!$D:$K,2,FALSE))*K100,VLOOKUP(J100,Prepared!$D:$G,4,FALSE)/(VLOOKUP(J100,Prepared!$D:$G,3,FALSE))*K100),"") | O100: =IF(AND(M100<>"",N100<>""),IF(NOT(ISNA(VLOOKUP(M100,Ingredients!$D:$K,4,FALSE)/(VLOOKUP(M100,Ingredients!$D:$K,2,FALSE))*N100)),VLOOKUP(M100,Ingredients!$D:$K,4,FALSE)/(VLOOKUP(M100,Ingredients!$D:$K,2,FALSE))*N100,VLOOKUP(M100,Prepared!$D:$G,4,FALSE)/(VLOOKUP(M100,Prepared!$D:$G,3,FALSE))*N100),"") | R100: =IF(AND(P100<>"",Q100<>""),IF(NOT(ISNA(VLOOKUP(P100,Ingredients!$D:$K,4,FALSE)/(VLOOKUP(P100,Ingredients!$D:$K,2,FALSE))*Q100)),VLOOKUP(P100,Ingredients!$D:$K,4,FALSE)/(VLOOKUP(P100,Ingredients!$D:$K,2,FALSE))*Q100,VLOOKUP(P100,Prepared!$D:$G,4,FALSE)/(VLOOKUP(P100,Prepared!$D:$G,3,FALSE))*Q100),"") | U100: =IF(AND(S100<>"",T100<>""),IF(NOT(ISNA(VLOOKUP(S100,Ingredients!$D:$K,4,FALSE)/(VLOOKUP(S100,Ingredients!$D:$K,2,FALSE))*T100)),VLOOKUP(S100,Ingredients!$D:$K,4,FALSE)/(VLOOKUP(S100,Ingredients!$D:$K,2,FALSE))*T100,VLOOKUP(S100,Prepared!$D:$G,4,FALSE)/(VLOOKUP(S100,Prepared!$D:$G,3,FALSE))*T100),"")
C101: =IF(AND(A101<>"",B101<>""),IF(NOT(ISNA(VLOOKUP(A101,Ingredients!$D:$K,4,FALSE)/(VLOOKUP(A101,Ingredients!$D:$K,2,FALSE))*B101)),VLOOKUP(A101,Ingredients!$D:$K,4,FALSE)/(VLOOKUP(A101,Ingredients!$D:$K,2,FALSE))*B101,VLOOKUP(A101,Prepared!$D:$G,4,FALSE)/(VLOOKUP(A101,Prepared!$D:$G,3,FALSE))*B101),"") | F101: =IF(AND(D101<>"",E101<>""),IF(NOT(ISNA(VLOOKUP(D101,Ingredients!$D:$K,4,FALSE)/(VLOOKUP(D101,Ingredients!$D:$K,2,FALSE))*E101)),VLOOKUP(D101,Ingredients!$D:$K,4,FALSE)/(VLOOKUP(D101,Ingredients!$D:$K,2,FALSE))*E101,VLOOKUP(D101,Prepared!$D:$G,4,FALSE)/(VLOOKUP(D101,Prepared!$D:$G,3,FALSE))*E101),"") | I101: =IF(AND(G101<>"",H101<>""),IF(NOT(ISNA(VLOOKUP(G101,Ingredients!$D:$K,4,FALSE)/(VLOOKUP(G101,Ingredients!$D:$K,2,FALSE))*H101)),VLOOKUP(G101,Ingredients!$D:$K,4,FALSE)/(VLOOKUP(G101,Ingredients!$D:$K,2,FALSE))*H101,VLOOKUP(G101,Prepared!$D:$G,4,FALSE)/(VLOOKUP(G101,Prepared!$D:$G,3,FALSE))*H101),"") | L101: =IF(AND(J101<>"",K101<>""),IF(NOT(ISNA(VLOOKUP(J101,Ingredients!$D:$K,4,FALSE)/(VLOOKUP(J101,Ingredients!$D:$K,2,FALSE))*K101)),VLOOKUP(J101,Ingredients!$D:$K,4,FALSE)/(VLOOKUP(J101,Ingredients!$D:$K,2,FALSE))*K101,VLOOKUP(J101,Prepared!$D:$G,4,FALSE)/(VLOOKUP(J101,Prepared!$D:$G,3,FALSE))*K101),"") | O101: =IF(AND(M101<>"",N101<>""),IF(NOT(ISNA(VLOOKUP(M101,Ingredients!$D:$K,4,FALSE)/(VLOOKUP(M101,Ingredients!$D:$K,2,FALSE))*N101)),VLOOKUP(M101,Ingredients!$D:$K,4,FALSE)/(VLOOKUP(M101,Ingredients!$D:$K,2,FALSE))*N101,VLOOKUP(M101,Prepared!$D:$G,4,FALSE)/(VLOOKUP(M101,Prepared!$D:$G,3,FALSE))*N101),"") | R101: =IF(AND(P101<>"",Q101<>""),IF(NOT(ISNA(VLOOKUP(P101,Ingredients!$D:$K,4,FALSE)/(VLOOKUP(P101,Ingredients!$D:$K,2,FALSE))*Q101)),VLOOKUP(P101,Ingredients!$D:$K,4,FALSE)/(VLOOKUP(P101,Ingredients!$D:$K,2,FALSE))*Q101,VLOOKUP(P101,Prepared!$D:$G,4,FALSE)/(VLOOKUP(P101,Prepared!$D:$G,3,FALSE))*Q101),"") | U101: =IF(AND(S101<>"",T101<>""),IF(NOT(ISNA(VLOOKUP(S101,Ingredients!$D:$K,4,FALSE)/(VLOOKUP(S101,Ingredients!$D:$K,2,FALSE))*T101)),VLOOKUP(S101,Ingredients!$D:$K,4,FALSE)/(VLOOKUP(S101,Ingredients!$D:$K,2,FALSE))*T101,VLOOKUP(S101,Prepared!$D:$G,4,FALSE)/(VLOOKUP(S101,Prepared!$D:$G,3,FALSE))*T101),"")
C102: =IF(AND(A102<>"",B102<>""),IF(NOT(ISNA(VLOOKUP(A102,Ingredients!$D:$K,4,FALSE)/(VLOOKUP(A102,Ingredients!$D:$K,2,FALSE))*B102)),VLOOKUP(A102,Ingredients!$D:$K,4,FALSE)/(VLOOKUP(A102,Ingredients!$D:$K,2,FALSE))*B102,VLOOKUP(A102,Prepared!$D:$G,4,FALSE)/(VLOOKUP(A102,Prepared!$D:$G,3,FALSE))*B102),"") | F102: =IF(AND(D102<>"",E102<>""),IF(NOT(ISNA(VLOOKUP(D102,Ingredients!$D:$K,4,FALSE)/(VLOOKUP(D102,Ingredients!$D:$K,2,FALSE))*E102)),VLOOKUP(D102,Ingredients!$D:$K,4,FALSE)/(VLOOKUP(D102,Ingredients!$D:$K,2,FALSE))*E102,VLOOKUP(D102,Prepared!$D:$G,4,FALSE)/(VLOOKUP(D102,Prepared!$D:$G,3,FALSE))*E102),"") | I102: =IF(AND(G102<>"",H102<>""),IF(NOT(ISNA(VLOOKUP(G102,Ingredients!$D:$K,4,FALSE)/(VLOOKUP(G102,Ingredients!$D:$K,2,FALSE))*H102)),VLOOKUP(G102,Ingredients!$D:$K,4,FALSE)/(VLOOKUP(G102,Ingredients!$D:$K,2,FALSE))*H102,VLOOKUP(G102,Prepared!$D:$G,4,FALSE)/(VLOOKUP(G102,Prepared!$D:$G,3,FALSE))*H102),"") | L102: =IF(AND(J102<>"",K102<>""),IF(NOT(ISNA(VLOOKUP(J102,Ingredients!$D:$K,4,FALSE)/(VLOOKUP(J102,Ingredients!$D:$K,2,FALSE))*K102)),VLOOKUP(J102,Ingredients!$D:$K,4,FALSE)/(VLOOKUP(J102,Ingredients!$D:$K,2,FALSE))*K102,VLOOKUP(J102,Prepared!$D:$G,4,FALSE)/(VLOOKUP(J102,Prepared!$D:$G,3,FALSE))*K102),"") | O102: =IF(AND(M102<>"",N102<>""),IF(NOT(ISNA(VLOOKUP(M102,Ingredients!$D:$K,4,FALSE)/(VLOOKUP(M102,Ingredients!$D:$K,2,FALSE))*N102)),VLOOKUP(M102,Ingredients!$D:$K,4,FALSE)/(VLOOKUP(M102,Ingredients!$D:$K,2,FALSE))*N102,VLOOKUP(M102,Prepared!$D:$G,4,FALSE)/(VLOOKUP(M102,Prepared!$D:$G,3,FALSE))*N102),"") | R102: =IF(AND(P102<>"",Q102<>""),IF(NOT(ISNA(VLOOKUP(P102,Ingredients!$D:$K,4,FALSE)/(VLOOKUP(P102,Ingredients!$D:$K,2,FALSE))*Q102)),VLOOKUP(P102,Ingredients!$D:$K,4,FALSE)/(VLOOKUP(P102,Ingredients!$D:$K,2,FALSE))*Q102,VLOOKUP(P102,Prepared!$D:$G,4,FALSE)/(VLOOKUP(P102,Prepared!$D:$G,3,FALSE))*Q102),"") | U102: =IF(AND(S102<>"",T102<>""),IF(NOT(ISNA(VLOOKUP(S102,Ingredients!$D:$K,4,FALSE)/(VLOOKUP(S102,Ingredients!$D:$K,2,FALSE))*T102)),VLOOKUP(S102,Ingredients!$D:$K,4,FALSE)/(VLOOKUP(S102,Ingredients!$D:$K,2,FALSE))*T102,VLOOKUP(S102,Prepared!$D:$G,4,FALSE)/(VLOOKUP(S102,Prepared!$D:$G,3,FALSE))*T102),"")
C103: =IF(AND(A103<>"",B103<>""),IF(NOT(ISNA(VLOOKUP(A103,Ingredients!$D:$K,4,FALSE)/(VLOOKUP(A103,Ingredients!$D:$K,2,FALSE))*B103)),VLOOKUP(A103,Ingredients!$D:$K,4,FALSE)/(VLOOKUP(A103,Ingredients!$D:$K,2,FALSE))*B103,VLOOKUP(A103,Prepared!$D:$G,4,FALSE)/(VLOOKUP(A103,Prepared!$D:$G,3,FALSE))*B103),"") | F103: =IF(AND(D103<>"",E103<>""),IF(NOT(ISNA(VLOOKUP(D103,Ingredients!$D:$K,4,FALSE)/(VLOOKUP(D103,Ingredients!$D:$K,2,FALSE))*E103)),VLOOKUP(D103,Ingredients!$D:$K,4,FALSE)/(VLOOKUP(D103,Ingredients!$D:$K,2,FALSE))*E103,VLOOKUP(D103,Prepared!$D:$G,4,FALSE)/(VLOOKUP(D103,Prepared!$D:$G,3,FALSE))*E103),"") | I103: =IF(AND(G103<>"",H103<>""),IF(NOT(ISNA(VLOOKUP(G103,Ingredients!$D:$K,4,FALSE)/(VLOOKUP(G103,Ingredients!$D:$K,2,FALSE))*H103)),VLOOKUP(G103,Ingredients!$D:$K,4,FALSE)/(VLOOKUP(G103,Ingredients!$D:$K,2,FALSE))*H103,VLOOKUP(G103,Prepared!$D:$G,4,FALSE)/(VLOOKUP(G103,Prepared!$D:$G,3,FALSE))*H103),"") | L103: =IF(AND(J103<>"",K103<>""),IF(NOT(ISNA(VLOOKUP(J103,Ingredients!$D:$K,4,FALSE)/(VLOOKUP(J103,Ingredients!$D:$K,2,FALSE))*K103)),VLOOKUP(J103,Ingredients!$D:$K,4,FALSE)/(VLOOKUP(J103,Ingredients!$D:$K,2,FALSE))*K103,VLOOKUP(J103,Prepared!$D:$G,4,FALSE)/(VLOOKUP(J103,Prepared!$D:$G,3,FALSE))*K103),"") | O103: =IF(AND(M103<>"",N103<>""),IF(NOT(ISNA(VLOOKUP(M103,Ingredients!$D:$K,4,FALSE)/(VLOOKUP(M103,Ingredients!$D:$K,2,FALSE))*N103)),VLOOKUP(M103,Ingredients!$D:$K,4,FALSE)/(VLOOKUP(M103,Ingredients!$D:$K,2,FALSE))*N103,VLOOKUP(M103,Prepared!$D:$G,4,FALSE)/(VLOOKUP(M103,Prepared!$D:$G,3,FALSE))*N103),"") | R103: =IF(AND(P103<>"",Q103<>""),IF(NOT(ISNA(VLOOKUP(P103,Ingredients!$D:$K,4,FALSE)/(VLOOKUP(P103,Ingredients!$D:$K,2,FALSE))*Q103)),VLOOKUP(P103,Ingredients!$D:$K,4,FALSE)/(VLOOKUP(P103,Ingredients!$D:$K,2,FALSE))*Q103,VLOOKUP(P103,Prepared!$D:$G,4,FALSE)/(VLOOKUP(P103,Prepared!$D:$G,3,FALSE))*Q103),"") | U103: =IF(AND(S103<>"",T103<>""),IF(NOT(ISNA(VLOOKUP(S103,Ingredients!$D:$K,4,FALSE)/(VLOOKUP(S103,Ingredients!$D:$K,2,FALSE))*T103)),VLOOKUP(S103,Ingredients!$D:$K,4,FALSE)/(VLOOKUP(S103,Ingredients!$D:$K,2,FALSE))*T103,VLOOKUP(S103,Prepared!$D:$G,4,FALSE)/(VLOOKUP(S103,Prepared!$D:$G,3,FALSE))*T103),"")
C104: =IF(AND(A104<>"",B104<>""),IF(NOT(ISNA(VLOOKUP(A104,Ingredients!$D:$K,4,FALSE)/(VLOOKUP(A104,Ingredients!$D:$K,2,FALSE))*B104)),VLOOKUP(A104,Ingredients!$D:$K,4,FALSE)/(VLOOKUP(A104,Ingredients!$D:$K,2,FALSE))*B104,VLOOKUP(A104,Prepared!$D:$G,4,FALSE)/(VLOOKUP(A104,Prepared!$D:$G,3,FALSE))*B104),"") | F104: =IF(AND(D104<>"",E104<>""),IF(NOT(ISNA(VLOOKUP(D104,Ingredients!$D:$K,4,FALSE)/(VLOOKUP(D104,Ingredients!$D:$K,2,FALSE))*E104)),VLOOKUP(D104,Ingredients!$D:$K,4,FALSE)/(VLOOKUP(D104,Ingredients!$D:$K,2,FALSE))*E104,VLOOKUP(D104,Prepared!$D:$G,4,FALSE)/(VLOOKUP(D104,Prepared!$D:$G,3,FALSE))*E104),"") | I104: =IF(AND(G104<>"",H104<>""),IF(NOT(ISNA(VLOOKUP(G104,Ingredients!$D:$K,4,FALSE)/(VLOOKUP(G104,Ingredients!$D:$K,2,FALSE))*H104)),VLOOKUP(G104,Ingredients!$D:$K,4,FALSE)/(VLOOKUP(G104,Ingredients!$D:$K,2,FALSE))*H104,VLOOKUP(G104,Prepared!$D:$G,4,FALSE)/(VLOOKUP(G104,Prepared!$D:$G,3,FALSE))*H104),"") | L104: =IF(AND(J104<>"",K104<>""),IF(NOT(ISNA(VLOOKUP(J104,Ingredients!$D:$K,4,FALSE)/(VLOOKUP(J104,Ingredients!$D:$K,2,FALSE))*K104)),VLOOKUP(J104,Ingredients!$D:$K,4,FALSE)/(VLOOKUP(J104,Ingredients!$D:$K,2,FALSE))*K104,VLOOKUP(J104,Prepared!$D:$G,4,FALSE)/(VLOOKUP(J104,Prepared!$D:$G,3,FALSE))*K104),"") | O104: =IF(AND(M104<>"",N104<>""),IF(NOT(ISNA(VLOOKUP(M104,Ingredients!$D:$K,4,FALSE)/(VLOOKUP(M104,Ingredients!$D:$K,2,FALSE))*N104)),VLOOKUP(M104,Ingredients!$D:$K,4,FALSE)/(VLOOKUP(M104,Ingredients!$D:$K,2,FALSE))*N104,VLOOKUP(M104,Prepared!$D:$G,4,FALSE)/(VLOOKUP(M104,Prepared!$D:$G,3,FALSE))*N104),"") | R104: =IF(AND(P104<>"",Q104<>""),IF(NOT(ISNA(VLOOKUP(P104,Ingredients!$D:$K,4,FALSE)/(VLOOKUP(P104,Ingredients!$D:$K,2,FALSE))*Q104)),VLOOKUP(P104,Ingredients!$D:$K,4,FALSE)/(VLOOKUP(P104,Ingredients!$D:$K,2,FALSE))*Q104,VLOOKUP(P104,Prepared!$D:$G,4,FALSE)/(VLOOKUP(P104,Prepared!$D:$G,3,FALSE))*Q104),"") | U104: =IF(AND(S104<>"",T104<>""),IF(NOT(ISNA(VLOOKUP(S104,Ingredients!$D:$K,4,FALSE)/(VLOOKUP(S104,Ingredients!$D:$K,2,FALSE))*T104)),VLOOKUP(S104,Ingredients!$D:$K,4,FALSE)/(VLOOKUP(S104,Ingredients!$D:$K,2,FALSE))*T104,VLOOKUP(S104,Prepared!$D:$G,4,FALSE)/(VLOOKUP(S104,Prepared!$D:$G,3,FALSE))*T104),"")

Sheet Ingredients
D4: Food | E4: Standard amount | F4: Unit | G4: Calories | H4: Fat | I4: Sugar | J4: Fiber | K4: Salt
D5: Avocado | E5: 100 | F5: g
D6: Banana | E6: 118 | F6: g | G6: 105
D7: Bread | E7: 1 | F7: pcs | G7: 100
D8: Bread Roll | E8: 1 | F8: pcs | G8: 80
D9: Cereal | E9: 100 | F9: g | G9: 340
D10: Cheese | E10: 1 | F10: pcs | G10: 100
D11: Cookie | E11: 1 | G11: 50
D12: corn | E12: 100 | F12: g | G12: 80
D13: cuts | E13: 100 | F13: g | G13: 150
D14: dried Tomato | E14: 100 | F14: g | G14: 165
D15: Frosta | E15: 1 | F15: pcs | G15: 500
D16: Garlic | E16: 1 | F16: pcs | G16: 10
D17: Gyros | E17: 100 | F17: g
D18: Ice cream | E18: 100 | F18: g
D19: Juice | E19: 100 | F19: ml | G19: 50
D20: Mango | E20: 100 | F20: g
D21: Milk | E21: 100 | F21: ml | G21: 65
D22: nomZ
D23: Nuts | E23: 100 | F23: g | G23: 250
D24: Olive Oil | E24: 100 | F24: ml | G24: 800
D25: Onions | E25: 1 | F25: pcs | G25: 40
D26: Pizza | E26: 1 | F26: pcs | G26: 700
D27: Raspberries | E27: 156 | F27: g | G27: 81
D28: Rotkohl | E28: 100 | F28: g
D29: Salad | E29: 100 | F29: g
D30: Salmon | E30: 100 | F30: g
D31: slaw | E31: 100 | F31: g | G31: 70
D32: Stroopwafel | E32: 1 | F32: pcs | G32: 150
D33: Syrup | E33: 100 | F33: g
D34: Toast | E34: 1 | F34: pcs | G34: 100
D35: Tomato | E35: 85 | F35: g | G35: 15
D36: Tuna | E36: 100 | F36: g | G36: 115
D37: Yogurt | E37: 100 | F37: g | G37: 60
D38: Butter | E38: 100 | F38: g | G38: 800
D39: Canned tomato | E39: 100 | F39: g | G39: 24
D40: Seed Roll | E40: 1 | F40: pcs | G40: 220
D41: Veg Spread | E41: 100 | F41: g | G41: 120
D42: Butter | E42: 100 | F42: g | G42: 720
D43: Flour | E43: 100 | F43: g | G43: 340
D44: Egg | E44: 1 | F44: pcs | G44: 95
D45: Maple Syrup | E45: 100 | F45: g | G45: 356
... D57: Potato | E57: 173 | F57: g | G57: 149

Sheet Prepared
D7: Tomato Soup | G7: =SUM(G8:G13) -> 614.5
D8: Canned Tomato | E8: 400 | G8: =IF(AND(D8<>"",E8<>""),VLOOKUP(D8,Ingredients!$D:$K,4,FALSE)/(VLOOKUP(D8,Ingredients!$D:$K,2,FALSE))*E8,"") -> 96
D9: Tuna | E9: 150 | G9: =IF(AND(D9<>"",E9<>""),VLOOKUP(D9,Ingredients!$D:$K,4,FALSE)/(VLOOKUP(D9,Ingredients!$D:$K,2,FALSE))*E9,"") -> 172.5
D10: Onions | E10: 2 | G10: =IF(AND(D10<>"",E10<>""),VLOOKUP(D10,Ingredients!$D:$K,4,FALSE)/(VLOOKUP(D10,Ingredients!$D:$K,2,FALSE))*E10,"") -> 80
D11: dried Tomato | E11: 40 | G11: =IF(AND(D11<>"",E11<>""),VLOOKUP(D11,Ingredients!$D:$K,4,FALSE)/(VLOOKUP(D11,Ingredients!$D:$K,2,FALSE))*E11,"") -> 66
D12: Bread | E12: 0 | G12: =IF(AND(D12<>"",E12<>""),VLOOKUP(D12,Ingredients!$D:$K,4,FALSE)/(VLOOKUP(D12,Ingredients!$D:$K,2,FALSE))*E12,"") -> 0
D13: Olive Oil | E13: 25 | G13: =IF(AND(D13<>"",E13<>""),VLOOKUP(D13,Ingredients!$D:$K,4,FALSE)/(VLOOKUP(D13,Ingredients!$D:$K,2,FALSE))*E13,"") -> 200
D14: Garlic | E14: 1 | G14: =IF(AND(D14<>"",E14<>""),VLOOKUP(D14,Ingredients!$D:$K,4,FALSE)/(VLOOKUP(D14,Ingredients!$D:$K,2,FALSE))*E14,"") -> 10
D15: Breakfast | F15: 1 | G15: =SUM(G16:G19) -> 245
D16: Bread Roll | E16: 1 | G16: =IF(AND(D16<>"",E16<>""),VLOOKUP(D16,Ingredients!$D:$K,4,FALSE)/(VLOOKUP(D16,Ingredients!$D:$K,2,FALSE))*E16,"") -> 80
D17: Butter | E17: 5 | G17: =IF(AND(D17<>"",E17<>""),VLOOKUP(D17,Ingredients!$D:$K,4,FALSE)/(VLOOKUP(D17,Ingredients!$D:$K,2,FALSE))*E17,"") -> 40
D18: Cheese | E18: 1 | G18: =IF(AND(D18<>"",E18<>""),VLOOKUP(D18,Ingredients!$D:$K,4,FALSE)/(VLOOKUP(D18,Ingredients!$D:$K,2,FALSE))*E18,"") -> 100
D19: Juice | E19: 50 | G19: =IF(AND(D19<>"",E19<>""),VLOOKUP(D19,Ingredients!$D:$K,4,FALSE)/(VLOOKUP(D19,Ingredients!$D:$K,2,FALSE))*E19,"") -> 25
D20: Crepes | F20: 8 | G20: =SUM(G21:G24) -> 1103
D21: Egg | E21: 2 | G21: =IF(AND(D21<>"",E21<>""),VLOOKUP(D21,Ingredients!$D:$K,4,FALSE)/(VLOOKUP(D21,Ingredients!$D:$K,2,FALSE))*E21,"") -> 190
D22: Flour | E22: 180 | G22: =IF(AND(D22<>"",E22<>""),VLOOKUP(D22,Ingredients!$D:$K,4,FALSE)/(VLOOKUP(D22,Ingredients!$D:$K,2,FALSE))*E22,"") -> 612
D23: Milk | E23: 340 | G23: =IF(AND(D23<>"",E23<>""),VLOOKUP(D23,Ingredients!$D:$K,4,FALSE)/(VLOOKUP(D23,Ingredients!$D:$K,2,FALSE))*E23,"") -> 221
D24: Butter | E24: 10 | G24: =IF(AND(D24<>"",E24<>""),VLOOKUP(D24,Ingredients!$D:$K,4,FALSE)/(VLOOKUP(D24,Ingredients!$D:$K,2,FALSE))*E24,"") -> 80
D25: Hot Chocolate | F25: 1 | G25: =SUM(G26:G28) -> 367.6
D26: Milk | E26: 400 | G26: =IF(AND(D26<>"",E26<>""),VLOOKUP(D26,Ingredients!$D:$K,4,FALSE)/(VLOOKUP(D26,Ingredients!$D:$K,2,FALSE))*E26,"") -> 260
D27: Maple Syrup | E27: 10 | G27: =IF(AND(D27<>"",E27<>""),VLOOKUP(D27,Ingredients!$D:$K,4,FALSE)/(VLOOKUP(D27,Ingredients!$D:$K,2,FALSE))*E27,"") -> 35.6
D28: Cocoa | E28: 20 | G28: =IF(AND(D28<>"",E28<>""),VLOOKUP(D28,Ingredients!$D:$K,4,FALSE)/(VLOOKUP(D28,Ingredients!$D:$K,2,FALSE))*E28,"") -> 72
D29: Pancakes | F29: 8 | G29: =SUM(G30:G36) -> 2052.6703
D30: Flour | E30: 360 | G30: =IF(AND(D30<>"",E30<>""),VLOOKUP(D30,Ingredients!$D:$K,4,FALSE)/(VLOOKUP(D30,Ingredients!$D:$K,2,FALSE))*E30,"") -> 1224
D31: Blueberries | E31: 250 | G31: =IF(AND(D31<>"",E31<>""),VLOOKUP(D31,Ingredients!$D:$K,4,FALSE)/(VLOOKUP(D31,Ingredients!$D:$K,2,FALSE))*E31,"") -> 145.27027
D32: Maple Syrup | E32: 80 | G32: =IF(AND(D32<>"",E32<>""),VLOOKUP(D32,Ingredients!$D:$K,4,FALSE)/(VLOOKUP(D32,Ingredients!$D:$K,2,FALSE))*E32,"") -> 284.8
D33: Milk | E33: 160 | G33: =IF(AND(D33<>"",E33<>""),VLOOKUP(D33,Ingredients!$D:$K,4,FALSE)/(VLOOKUP(D33,Ingredients!$D:$K,2,FALSE))*E33,"") -> 104
D34: Sugar | E34: 10 | G34: =IF(AND(D34<>"",E34<>""),VLOOKUP(D34,Ingredients!$D:$K,4,FALSE)/(VLOOKUP(D34,Ingredients!$D:$K,2,FALSE))*E34,"") -> 39.6
D35: Butter | E35: 20 | G35: =IF(AND(D35<>"",E35<>""),VLOOKUP(D35,Ingredients!$D:$K,4,FALSE)/(VLOOKUP(D35,Ingredients!$D:$K,2,FALSE))*E35,"") -> 160
D36: Egg | E36: 1 | G36: =IF(AND(D36<>"",E36<>""),VLOOKUP(D36,Ingredients!$D:$K,4,FALSE)/(VLOOKUP(D36,Ingredients!$D:$K,2,FALSE))*E36,"") -> 95
D37: Chicken | E37: 600 | G37: =IF(AND(D37<>"",E37<>""),VLOOKUP(D37,Ingredients!$D:$K,4,FALSE)/(VLOOKUP(D37,Ingredients!$D:$K,2,FALSE))*E37,"") -> #N/A
D38: Bell pepper | E38: 1 | G38: =IF(AND(D38<>"",E38<>""),VLOOKUP(D38,Ingredients!$D:$K,4,FALSE)/(VLOOKUP(D38,Ingredients!$D:$K,2,FALSE))*E38,"") -> #N/A
D39: Sausage | E39: 1 | G39: =IF(AND(D39<>"",E39<>""),VLOOKUP(D39,Ingredients!$D:$K,4,FALSE)/(VLOOKUP(D39,Ingredients!$D:$K,2,FALSE))*E39,"") -> #N/A
E40: 1 | G40: =IF(AND(D40<>"",E40<>""),VLOOKUP(D40,Ingredients!$D:$K,4,FALSE)/(VLOOKUP(D40,Ingredients!$D:$K,2,FALSE))*E40,"")
E41: 1 | G41: =IF(AND(D41<>"",E41<>""),VLOOKUP(D41,Ingredients!$D:$K,4,FALSE)/(VLOOKUP(D41,Ingredients!$D:$K,2,FALSE))*E41,"")
E42: 1 | G42: =IF(AND(D42<>"",E42<>""),VLOOKUP(D42,Ingredients!$D:$K,4,FALSE)/(VLOOKUP(D42,Ingredients!$D:$K,2,FALSE))*E42,"")
E43: 1 | G43: =IF(AND(D43<>"",E43<>""),VLOOKUP(D43,Ingredients!$D:$K,4,FALSE)/(VLOOKUP(D43,Ingredients!$D:$K,2,FALSE))*E43,"")
E44: 1 | G44: =IF(AND(D44<>"",E44<>""),VLOOKUP(D44,Ingredients!$D:$K,4,FALSE)/(VLOOKUP(D44,Ingredients!$D:$K,2,FALSE))*E44,"")
E45: 1 | G45: =IF(AND(D45<>"",E45<>""),VLOOKUP(D45,Ingredients!$D:$K,4,FALSE)/(VLOOKUP(D45,Ingredients!$D:$K,2,FALSE))*E45,"")
E46: 1 | G46: =IF(AND(D46<>"",E46<>""),VLOOKUP(D46,Ingredients!$D:$K,4,FALSE)/(VLOOKUP(D46,Ingredients!$D:$K,2,FALSE))*E46,"")
E47: 1 | G47: =IF(AND(D47<>"",E47<>""),VLOOKUP(D47,Ingredients!$D:$K,4,FALSE)/(VLOOKUP(D47,Ingredients!$D:$K,2,FALSE))*E47,"")
E48: 1 | G48: =IF(AND(D48<>"",E48<>""),VLOOKUP(D48,Ingredients!$D:$K,4,FALSE)/(VLOOKUP(D48,Ingredients!$D:$K,2,FALSE))*E48,"")
E49: 1 | G49: =IF(AND(D49<>"",E49<>""),VLOOKUP(D49,Ingredients!$D:$K,4,FALSE)/(VLOOKUP(D49,Ingredients!$D:$K,2,FALSE))*E49,"")
E50: 1 | G50: =IF(AND(D50<>"",E50<>""),VLOOKUP(D50,Ingredients!$D:$K,4,FALSE)/(VLOOKUP(D50,Ingredients!$D:$K,2,FALSE))*E50,"")
E51: 1 | G51: =IF(AND(D51<>"",E51<>""),VLOOKUP(D51,Ingredients!$D:$K,4,FALSE)/(VLOOKUP(D51,Ingredients!$D:$K,2,FALSE))*E51,"")
E52: 1 | G52: =IF(AND(D52<>"",E52<>""),VLOOKUP(D52,Ingredients!$D:$K,4,FALSE)/(VLOOKUP(D52,Ingredients!$D:$K,2,FALSE))*E52,"")
