Workbook

Sheet Redux v0.4
B2: Fahrzeugwerte | G2: Reifen | L2: Spur | Q2: Stabilisatoren
B4: Grundwerte | G4: Bar | L4: Radsturz | Q4: Stabis
B5: Gewicht | D5: 1250 | G5: Front | I5: =CALC!G17 -> 1.8429693 | L5: Front | N5: =CALC!J12 -> -1 | Q5: Front | S5: =IF(D11="FWD",CALC!M22,CALC!M10) -> 65
B6: Balance | D6: 50 | G6: Heck | I6: =CALC!G18 -> 1.8429693 | L6: Heck | N6: =CALC!J13 -> -1 | Q6: Heck | S6: =IF(D11="FWD",CALC!M23,IF(D11="AWD",CALC!M20,CALC!M14)) -> 7.2222222
B7: Reifen V. | D7: 225
B8: Reifen H. | D8: 225 | G8: Mischung | L8: Spur
B9: Aero Balance | D9: 0 | L9: Front | N9: 0
D10: Forza Aero: 0.37 - 0.42 | L10: Heck | N10: 0
B11: Antriebsart | D11: FWD | E11: ▼
L12: Nachlauf
B13: Untergrund | D13: STRAßE | E13: ▼ | L13: Winkel | N13: 7
B17: Federn | D17: =IF(D13="Straße","Rennfahrwerk","Rallyefahrwerk") -> Rennfahrwerk | G17: Dämpfer | L17: Bremse | Q17: Differenzial | S17: =IF(D11="RWD","Rallye",IF(D11="AWD","Race","Offroad (Rallye)")) -> Offroad (Rallye)
B19: KGF/MM | G19: Zugstufe | L19: Bremskraft | Q19: Front
B20: Front | D20: =CALC!P24 -> 112.26324 | G20: Front | I20: =CALC!S19 -> 10.34875 | L20: Balance | N20: =CALC!V11 -> 56 | Q20: Beschleunigung | S20: =IF(D11="RWD","––",CALC!Y10) -> 45.28125
B21: Heck | D21: =CALC!P25 -> 118.25676 | G21: Heck | I21: =CALC!S20 -> 10.90125 | Q21: Abbremsen | S21: =IF(D11="RWD","––",CALC!Y14) -> 2.2640625
B23: Balance | C23: =DATA!J5 -> 0 | G23: Druckstufe | L23: Bremskraft | Q23: Heck
B24: Front | D24: Heck | G24: Front | I24: =CALC!S23 -> 4.4396137 | L24: Druck | N24: =CALC!V16 -> 104.5 | Q24: Beschleunigung | S24: =IF(D11="FWD","––",CALC!Y11) -> ––
G25: Heck | I25: =CALC!S24 -> 4.6766363 | Q25: Abbremsen | S25: =IF(D11="FWD","––",CALC!Y15) -> ––
B26: Härte | C26: =DATA!N5 -> 0 | L26: Balance | M26: =DATA!R5 -> 0
B27: Weich | D27: Hart | L27: Front | N27: Heck | Q27: Mitte
Q28: Balance | S28: =IF(D11="AWD",CALC!Y22,"––") -> ––

Sheet Gearing v0.1
D3: Drehmoment | F3: 500 | J3: Gang 1 | L3: ='Gearing DataCalc'!F7 -> 3.385
D5: Redline | F5: 7000 | J5: Gang 2 | L5: ='Gearing DataCalc'!F8 -> 2.1199283
D7: Gänge | F7: 4 | G7: ▼ | J7: Gang 3 | L7: ='Gearing DataCalc'!F9 -> 1.3893772
J9: Gang 4 | L9: ='Gearing DataCalc'!F10 -> 0.9675
C11: Erster Gang | E11: ='Gearing DataCalc'!M3 -> 0 | J11: Gang 5 | L11: =IF('Gearing DataCalc'!F11="","",'Gearing DataCalc'!F11)
C12: Kürzer | G12: Länger
J13: Gang 6 | L13: =IF('Gearing DataCalc'!F12="","",'Gearing DataCalc'!F12)
C15: Letzter Gang | E15: ='Gearing DataCalc'!M4 -> 0 | J15: Gang 7 | L15: =IF('Gearing DataCalc'!F13="","",'Gearing DataCalc'!F13)
C16: Kürzer | G16: Länger
J17: Gang 8 | L17: =IF('Gearing DataCalc'!F14="","",'Gearing DataCalc'!F14)
C19: Spreizung | E19: ='Gearing DataCalc'!M5 -> -1.9984014e-14 | J19: Gang 9 | L19: =IF('Gearing DataCalc'!F15="","",'Gearing DataCalc'!F15)
C20: Enger | H20: Weiter
J21: Gang 10 | L21: =IF('Gearing DataCalc'!F16="","",'Gearing DataCalc'!F16)

Sheet CALC
B3: Gewicht Koeffizient | C3: =((C5+C4)/2) -> 0.112508 | F3: Reifen | I3: Spur | L3: Stabis | O3: Federn | R3: Dämpfer | U3: Bremse | X3: Differenzial
B4: Federrate MIN | C4: =0.0406 -> 0.0406
B5: Federrate MAX | C5: =(0.204*P11)*P15 -> 0.184416 | D5: 0.196452 | F5: Bar Umrechnung | G5: 0.0689476 | I5: Reifen F | J5: ='Redux v0.4'!D7 -> 225 | L5: RWD | M5: 1.1 | O5: Federrate Max | P5: ='Redux v0.4'!D5*CALC!C5 -> 230.52 | R5: Dämpfer Max | S5: 20 | U5: Verhältnis Reifen | V5: ='Redux v0.4'!D7/('Redux v0.4'!D7+'Redux v0.4'!D8) -> 0.5 | X5: Reifen F | Y5: ='Redux v0.4'!D7 -> 225
C6: 0.89 | F6: PSI | G6: =DATA!F4 -> 24 | I6: Reifen H | J6: ='Redux v0.4'!D8 -> 225 | L6: AWD | M6: 4 | O6: Gewicht V | P6: =P5*C7 -> 112.26324 | R6: Dämpfer Multi | S6: =('Redux v0.4'!D5/2)/10000+1 -> 1.0625 | U6: Vehältnis Gewicht | V6: ='Redux v0.4'!D6/100 -> 0.5 | X6: Reifen H | Y6: ='Redux v0.4'!D8 -> 225
B7: Gewicht V | C7: =('Redux v0.4'!D6/100)-P22 -> 0.487 | F7: BAR | G7: =G6*G5 -> 1.6547424 | L7: FWD | M7: 5 | O7: Gewicht H | P7: =P5*C8 -> 118.25676
B8: Gewicht H | C8: =(1-'Redux v0.4'!D6/100)+P22 -> 0.513 | F8: Gewicht Front | G8: ='Redux v0.4'!D6/100 -> 0.5 | J8: 1.4 | L8: Antriebsart | M8: 4.5 | O8: Aero V | P8: =IF('Redux v0.4'!D9>0,C10/10+1,1) -> 1 | R8: Gewicht V | S8: =(S5*S6)*C7 -> 10.34875 | U8: Antrieb | V8: =IF('Redux v0.4'!D11="FWD",2,1) -> 2 | X8: Beschleunigung | Y8: 100
I9: Front | J9: =ROUNDDOWN(J5/500,1) -> 0.4 | O9: Aero H | P9: =IF('Redux v0.4'!D9>0,C11/10+1,1) -> 1 | R9: Gewicht H | S9: =(S5*S6)*C8 -> 10.90125 | U9: Balance Slider | V9: =DATA!R4 -> 0 | X9: Antrieb | Y9: =IF('Redux v0.4'!D11="FWD",0.63,1) -> 0.63
B10: Aero V | C10: ='Redux v0.4'!D9 -> 0 | F10: Gewicht F | G10: ='Redux v0.4'!D6/500+1 -> 1.1 | I10: Heck | J10: =ROUNDDOWN(J6/458,1) -> 0.4 | L10: RW Front | M10: =(65*C13)/M8 -> 7.2222222 | R10: Aero V | S10: =IF('Redux v0.4'!D9>0,C10/10+1,1) -> 1 | U10: Porsche | V10: =IF('Redux v0.4'!D6<41,2,0) -> 0 | X10: Front | Y10: =(Y8-Y5/8)*Y9 -> 45.28125
B11: Aero H | C11: =1-'Redux v0.4'!D9 -> 1 | F11: Gewicht H | G11: =(1-G8)/5+1 -> 1.1 | L11: Straße | M11: 65 | O11: Härte | P11: =IF('Redux v0.4'!D13="Straße",CALC!P12,IF('Redux v0.4'!D13="Rallye",CALC!P13,CALC!P14)) -> 0.904 | R11: Aero H | S11: =IF('Redux v0.4'!D9>0,C11/10+1,1) -> 1 | U11: Balance | V11: =(V5*100+4)+V8+V9+V10 -> 56 | X11: Heck | Y11: =Y8-Y6/7 -> 67.857143
F12: Gewicht Multi | G12: ='Redux v0.4'!D5/100000+1 -> 1.0125 | I12: Front | J12: =(J8-J9)*-1 -> -1 | L12: Rallye | M12: =(J6/(J5+J6))*65*1.43 -> 46.475 | O12: Straße | P12: 0.904
B13: Reifen V | C13: ='Redux v0.4'!D7/('Redux v0.4'!D7+'Redux v0.4'!D8) -> 0.5 | I13: Heck | J13: =(J8-J10)*-1 -> -1 | L13: Offroad | M13: =(J6/(J5+J6))*65 -> 32.5 | O13: Rallye | P13: 0.645 | R13: Härte | S13: =IF('Redux v0.4'!D13="STRAßE",CALC!S14,IF('Redux v0.4'!D13="RALLYE",CALC!S15,CALC!S16)) -> 1 | U13: Reifen | V13: =('Redux v0.4'!D7+'Redux v0.4'!D8) -> 450 | X13: Abbremsen
B14: Reifen H | C14: ='Redux v0.4'!D8/('Redux v0.4'!D7+'Redux v0.4'!D8) -> 0.5 | F14: Druck Front PSI | G14: =(G6*G10*G12) -> 26.73 | L14: RW Heck | M14: =IF('Redux v0.4'!D13="Straße",CALC!M11,IF('Redux v0.4'!D13="Rallye",CALC!M12,M13)) -> 65 | O14: Offroad | P14: 0.39 | R14: Straße | S14: 1 | U14: ABS Trigger | V14: FALSE | X14: Front | Y14: =Y10*0.05 -> 2.2640625
F15: Druck Heck PSI | G15: =(G6*G11*G12) -> 26.73 | O15: Härte Regler | P15: =DATA!N4 -> 1 | R15: Rallye | S15: 0.7405 | U15: ABS | V15: =IF(V14=TRUE,40,0) -> 0 | X15: Heck | Y15: =ROUNDUP(Y11*0.47495,0) -> 33
L16: AWD Front | M16: =(65*C13)/M8 -> 7.2222222 | R16: Offroad | S16: 0.418 | U16: Bremskraft | V16: =V13/100+100+V15 -> 104.5
F17: Druck Front BAR | G17: =G14*G5 -> 1.8429693 | L17: Straße | M17: 65 | O17: Balance | P17: =DATA!J4 -> 0 | R17: Härte Regler | S17: =DATA!N4 -> 1 | T17: 0.394
F18: Druck Heck BAR | G18: =G15*G5 -> 1.8429693 | L18: Rallye | M18: =(J6/(J5+J6))*65*1.483 -> 48.1975 | X18: Balance
L19: Offroad | M19: =(J6/(J5+J6))*65*1.43 -> 46.475 | O19: RWD | P19: =0.002+P17 -> 0.002 | R19: Zug V | S19: =S8*S10*S17*S13 -> 10.34875 | X19: Reifenbreite H | Y19: =Y6/(Y5+Y6) -> 0.5
L20: AWD Heck | M20: =IF('Redux v0.4'!D13="Straße",CALC!M17,IF('Redux v0.4'!D13="Rallye",CALC!M18,CALC!M19)) -> 65 | O20: AWD | P20: =0.018+P17 -> 0.018 | R20: Zug H | S20: =S9*S11*S17*S13 -> 10.90125 | X20: Aero Balance H | Y20: =(C11/2)+1 -> 1.5
O21: FWD | P21: =0.013+P17 -> 0.013 | X21: Reifen | Y21: =1+DATA!G3/5 -> 1
L22: FR Front | M22: 65 | O22: Antriebsart | P22: =IF('Redux v0.4'!D11="RWD",CALC!P19,IF('Redux v0.4'!D11="AWD",CALC!P20,CALC!P21)) -> 0.013 | R22: Druck Multi | S22: =IF('Redux v0.4'!D13="RALLYE",0.385,IF('Redux v0.4'!D13="OFFROAD",0.37,0.429)) -> 0.429 | X22: Gesamt | Y22: =ROUNDUP(Y19*Y20*Y21*100,0) -> 75
L23: FR Heck | M23: =(65*C14)/M8 -> 7.2222222 | R23: Druck V | S23: =S19*S22 -> 4.4396137
O24: Front | P24: =P6*P8 -> 112.26324 | R24: Druck H | S24: =S20*S22 -> 4.6766363
O25: Heck | P25: =P7*P9 -> 118.25676

Sheet DATA
B2: Antriebsart | C2: Untergrund | E2: PSI | F2: Reifen | I2: Balance | J2: Balance Regler | K2: Balance Display | M2: Härte | N2: Härte Regler | O2: Härte Display | Q2: Bremsbalance | R2: Regler | S2: Display
B3: RWD | C3: STRAßE | F3: 1 | G3: =OFFSET(G4,F3,0) -> 0 | I3: 0.05 | J3: 50 | K3: 50 | M3: 0.5 | N3: 50 | O3: -50 | Q3: 10 | R3: 10 | S3: 10
B4: AWD | C4: RALLYE | F4: =OFFSET(E4,F3,0) -> 24 | I4: 0.049 | J4: =OFFSET(I3,J3,0) -> 0 | K4: 49 | M4: 0.51 | N4: =OFFSET(M3,N3,0) -> 1 | O4: -49 | Q4: 9 | R4: =OFFSET(Q3,R3,0) -> 0 | S4: 9
B5: FWD | C5: OFFROAD | E5: 24 | F5: Standard | G5: 0 | I5: 0.048 | J5: =OFFSET(K3,J3,0) -> 0 | K5: 48 | M5: 0.52 | N5: =OFFSET(O3,N3,0) -> 0 | O5: -48 | Q5: 8 | R5: =OFFSET(S3,R3,0) -> 0 | S5: 8
E6: 24 | F6: Straße | G6: 0.06 | I6: 0.047 | K6: 47 | M6: 0.53 | O6: -47 | Q6: 7 | S6: 7
E7: 31.5 | F7: Sport | G7: 0.13 | I7: 0.046 | K7: 46 | M7: 0.54 | O7: -46 | Q7: 6 | S7: 6
E8: 27 | F8: Semi-Slick | G8: 0.25 | I8: 0.045 | K8: 45 | M8: 0.55 | O8: -45 | Q8: 5 | S8: 5
E9: 28 | F9: Slick | G9: 0.29 | I9: 0.044 | K9: 44 | M9: 0.56 | O9: -44 | Q9: 4 | S9: 4
E10: 22.5 | F10: Drift | G10: 0.15 | I10: 0.043 | K10: 43 | M10: 0.57 | O10: -43 | Q10: 3 | S10: 3
E11: 23.5 | F11: Rallye | G11: 0.15 | I11: 0.042 | K11: 42 | M11: 0.58 | O11: -42 | Q11: 2 | S11: 2
E12: 15.5 | F12: Offroad | G12: 0.09 | I12: 0.041 | K12: 41 | M12: 0.59 | O12: -41 | Q12: 1 | S12: 1
E13: 15 | F13: Drag | G13: -0.04 | I13: 0.04 | K13: 40 | M13: 0.6 | O13: -40 | Q13: 0 | S13: 0
E14: 29.5 | F14: Vintage | G14: -0.07 | I14: 0.039 | K14: 39 | M14: 0.61 | O14: -39 | Q14: -1 | S14: 1
E15: 29.5 | F15: Weißwand | G15: 0.03 | I15: 0.038 | K15: 38 | M15: 0.62 | O15: -38 | Q15: -2 | S15: 2
E16: 31.5 | F16: Vint. Race | G16: 0.1 | I16: 0.037 | K16: 37 | M16: 0.63 | O16: -37 | Q16: -3 | S16: 3
I17: 0.036 | K17: 36 | M17: 0.64 | O17: -36 | Q17: -4 | S17: 4
I18: 0.035 | K18: 35 | M18: 0.65 | O18: -35 | Q18: -5 | S18: 5
I19: 0.034 | K19: 34 | M19: 0.66 | O19: -34 | Q19: -6 | S19: 6
I20: 0.033 | K20: 33 | M20: 0.67 | O20: -33 | Q20: -7 | S20: 7
I21: 0.032 | K21: 32 | M21: 0.68 | O21: -32 | Q21: -8 | S21: 8
I22: 0.031 | K22: 31 | M22: 0.69 | O22: -31 | Q22: -9 | S22: 9
I23: 0.03 | K23: 30 | M23: 0.7 | O23: -30 | Q23: -10 | S23: 10
I24: 0.029 | K24: 29 | M24: 0.71 | O24: -29
I25: 0.028 | K25: 28 | M25: 0.72 | O25: -28
I26: 0.027 | K26: 27 | M26: 0.73 | O26: -27
I27: 0.026 | K27: 26 | M27: 0.74 | O27: -26
I28: 0.025 | K28: 25 | M28: 0.75 | O28: -25
I29: 0.024 | K29: 24 | M29: 0.76 | O29: -24
I30: 0.023 | K30: 23 | M30: 0.77 | O30: -23
I31: 0.022 | K31: 22 | M31: 0.78 | O31: -22
I32: 0.021 | K32: 21 | M32: 0.79 | O32: -21
I33: 0.02 | K33: 20 | M33: 0.8 | O33: -20
I34: 0.019 | K34: 19 | M34: 0.81 | O34: -19
I35: 0.018 | K35: 18 | M35: 0.82 | O35: -18
... I103: -0.05 | K103: 50 | M103: 1.5 | O103: 50

Sheet Gearing DataCalc
N2: Regler
B3: Redline RPM | C3: ='Gearing v0.1'!F5 -> 7000 | E3: Start | F3: =(C17+C8+C14+(C4/10)^2)+C21 -> 3.385 | L3: First Gear | M3: =OFFSET(Q3,N3,0) -> 0 | N3: 100 | Q3: 1 | S3: 2.85 | U3: 4
B4: Gänge | C4: ='Gearing v0.1'!F7 -> 4 | E4: End | F4: =(1+C7-C18)+C9 -> 0.9675 | L4: Last Gear | M4: =OFFSET(Q53,N4,0) -> 0 | N4: 50 | Q4: 0.99 | S4: 2.8 | U4: 6
B5: Drehmoment | C5: ='Gearing v0.1'!F3 -> 500 | E5: f-Faktor | F5: =((F4/F3)^(1/C4))^(3+M5) -> 0.3909032 | L5: Spacing | M5: =OFFSET(S3,N5,0) -> -1.9984014e-14 | N5: 57 | Q5: 0.98 | S5: 2.75 | U5: 7
Q6: 0.97 | S6: 2.7 | U6: 8
B7: Offeset | C7: =C3/100000/C4 -> 0.0175 | E7: Gang 1 | F7: {=(F3-F5)*((F4-F5)/(F3-F5))^((_xlfn.SEQUENCE(C4,,0))/(C4-1))+F5} -> 3.385 | Q7: 0.96 | S7: 2.65 | U7: 9
B8: First Gear | C8: =2.5+M3 -> 2.5 | E8: Gang 2 | F8: 2.1199283 | Q8: 0.95 | S8: 2.6 | U8: 10
B9: Last Gear | C9: =M4 -> 0 | E9: Gang 3 | F9: 1.3893772 | Q9: 0.94 | S9: 2.55
E10: Gang 4 | F10: 0.9675 | Q10: 0.93 | S10: 2.5
B11: Tire Width F | C11: ='Redux v0.4'!D7 -> 225 | E11: Gang 5 | Q11: 0.92 | S11: 2.45
B12: Tire Width H | C12: ='Redux v0.4'!D8 -> 225 | E12: Gang 6 | Q12: 0.91 | S12: 2.4
B13: Tire Width | C13: =IF('Redux v0.4'!D11="FWD",'Gearing DataCalc'!C11,'Gearing DataCalc'!C12) -> 225 | E13: Gang 7 | Q13: 0.9 | S13: 2.35
B14: Offset | C14: =(C13/1000) -> 0.225 | E14: Gang 8 | Q14: 0.89 | S14: 2.3
E15: Gang 9 | Q15: 0.88 | S15: 2.25
B16: N-m | C16: =C5/1000 -> 0.5 | E16: Gang 10 | Q16: 0.87 | S16: 2.2
B17: Offset First | C17: =(4-C16)/7 -> 0.5 | Q17: 0.86 | S17: 2.15
B18: Offset End | C18: =C5/10000 -> 0.05 | Q18: 0.85 | S18: 2.1
Q19: 0.84 | S19: 2.05
B20: AWD Offset | C20: 0.5 | Q20: 0.83 | S20: 2
B21: AWD Offset | C21: =IF('Redux v0.4'!D11="AWD",'Gearing DataCalc'!C20,0) -> 0 | Q21: 0.82 | S21: 1.95
Q22: 0.81 | S22: 1.9
Q23: 0.8 | S23: 1.85
Q24: 0.79 | S24: 1.8
Q25: 0.78 | S25: 1.75
Q26: 0.77 | S26: 1.7
B27: Tire Width | C27: 265 | Q27: 0.76 | S27: 1.65
B28: Tire Radius "R" | C28: 35 | Q28: 0.75 | S28: 1.6
B29: Rim Size | C29: 18 | Q29: 0.74 | S29: 1.55
B30: Tire OD | C30: =((C27*(C28/100)*2)/25.4)+C29 -> 25.30315 | Q30: 0.73 | S30: 1.5
Q31: 0.72 | S31: 1.45
Q32: 0.71 | S32: 1.4
Q33: 0.7 | S33: 1.35
Q34: 0.69 | S34: 1.3
Q35: 0.68 | S35: 1.25
Q36: 0.67 | S36: 1.2
Q37: 0.66 | S37: 1.15
Q38: 0.65 | S38: 1.1
Q39: 0.64 | S39: 1.05
Q40: 0.63 | S40: 1
Q41: 0.62 | S41: 0.95
Q42: 0.61 | S42: 0.9
... Q117: -0.14 | S117: -2.85
Q118: -0.15
Q119: -0.16
Q120: -0.17
Q121: -0.18
Q122: -0.19
Q123: -0.2
Q124: -0.21
Q125: -0.22
Q126: -0.23
Q127: -0.24
Q128: -0.25
Q129: -0.26
... Q203: -1
