Workbook

Sheet v0.9.2c
E4: 🛈 | J4: 🛈 | O4: 🛈 | T4: 🛈 | Y4: 🛈 | AD4: 🛈 | AI4: 🛈 | AN4: 🛈
D6: Gewicht in KG | E6: 1000 | I6: Reifendruck | J6: Bar | N6: Radsturz | S6: Stabilisatoren | X6: Federn | Y6: KGF/MM | AC6: Zugstufendämpfung | AH6: Bremskraft | AM6: Front
D7: Front% | E7: 50 | I7: Front | J7: =CALC!G26 -> 1.6720452 | N7: Front | O7: =CALC!K10*-1 -> -1 | S7: Front | T7: =CALC!O43 -> 25.89888 | X7: Front | Y7: =CALC!S40 -> 80.253464 | AC7: Front | AD7: =CALC!W36 -> 9.473056 | AH7: Balance | AI7: =IF(AI14="Front",CALC!AA9,IF(AI14="Mid",CALC!AA10,CALC!AA11)) -> 53 | AM7: Beschleunigung | AN7: =IF(E12="RWD","–",IF(E12="AWD",CALC!AF36,CALC!AF36)) -> –
D8: Reifenbreite Front | E8: 245 | I8: Heck | J8: =CALC!G27 -> 1.6720452 | N8: Heck | O8: =CALC!K11*-1 -> -1.1 | S8: Heck | T8: =CALC!O44 -> 33.870285 | X8: Heck | Y8: =CALC!S41 -> 82.367537 | AC8: Heck | AD8: =CALC!W37 -> 9.7225995 | AM8: Abbremsen | AN8: =IF(E12="RWD","–",IF(E12="AWD",CALC!AF40,CALC!AF40)) -> –
D9: Reifenbreite Heck | E9: 245
D10: Aero Balance | E10: 0.37 | I10: Mischung | J10: Standard | K10: ▼ | N10: Spur | X10: Fahrhöhe | AC10: Druckstufendämpfung | AH10: Bremskraft | AM10: Heck
N11: Front | O11: =CALC!K14 -> 0.13333333 | X11: Front | Y11: =IF(E14="Asphalt","Default","MAX") -> Default | AC11: Front | AD11: =CALC!W41 -> 4.4523363 | AH11: Druck | AI11: Default | AM11: Beschleunigung | AN11: =IF(E12="RWD",CALC!AF37,IF(E12="AWD",CALC!AF37,"–")) -> 80.031688
D12: Antriebsart | E12: RWD | F12: ▼ | N12: Heck | O12: =CALC!K17 -> 0 | X12: Heck | Y12: =IF(E14="Asphalt","Default","MAX") -> Default | AC12: Heck | AD12: =CALC!W42 -> 4.5696218 | AM12: Abbremsen | AN12: =IF(E12="RWD",CALC!AF41,IF(E12="AWD",CALC!AF41,"–")) -> 22.408873
D14: Untergrund | E14: ASPHALT | F14: ▼ | N14: Nachlauf vorn | S14: Offset% | T14: 0 | U14: ▼ | X14: Offset% | Y14: 0 | Z14: ▼ | AH14: Preset | AI14: FRONT | AJ14: ▼ | AM14: Mitte
N15: Winkel | O15: =CALC!K21 -> 7 | AM15: Balance | AN15: =IF(E12="AWD",CALC!AE32,"–") -> –
D16: Fahrmodus | E16: BALANCED | F16: ▼ | S16: Härte% | T16: 0 | U16: ▼ | X16: Härte% | Y16: 0 | Z16: ▼
C19: Super Simple Calculator by 9t3ndo
C20: v0.9.2c

Sheet CALC
B2: Werte | F2: Reifen | J2: Spur | N2: Stabilisator | R2: Federn | V2: Dämpfer | Z2: Bremse | AD2: Differential
B4: Gewicht | C4: ='v0.9.2c'!E6 -> 1000
B6: Federrate MAX | C6: 0.204 | F6: Gewichtsverteilung Front | G6: =C11+1 -> 1.5 | J6: Reifenbreite Front | K6: ='v0.9.2c'!E8 -> 245 | N6: Gewichtsverteilung Front | O6: =C13 -> 1 | R6: Federrate MAX Gewicht | S6: =C4*C6 -> 204 | V6: Dämpfer | Z6: Reifenbreite Front | AA6: =C16 -> 0.5 | AD6: Reifenbreite Front | AE6: ='v0.9.2c'!E8 -> 245
B7: Federrate MIN | C7: 0.0406 | F7: Gewichtsverteilung Heck | G7: =C12+1 -> 1.5 | J7: Reifenbreite Heck | K7: ='v0.9.2c'!E9 -> 245 | N7: Gewichtsverteilung Heck | O7: =C14 -> 1 | R7: Federrate MAX Front | S7: =S6*C11 -> 102 | V7: Wert Max | W7: 20 | Z7: Reifenbreite Heck | AA7: =C17 -> 0.5 | AD7: Reifenbreite Heck | AE7: ='v0.9.2c'!E9 -> 245
B8: Federrate MID | C8: =(C6+C7)/2 -> 0.1223 | R8: Federrate MAX Heck | S8: =S6*C12 -> 102 | V8: Offset | W8: 1
B9: Federrate Ideal | C9: 0.673 | F9: Federrate MAX Gewicht | G9: =S6/4750+1 -> 1.0429474 | J9: Sturz | K9: 265 | N9: Reifenbreite Front | O9: =C18 -> 1 | V9: Wert | W9: =W7*W8 -> 20 | Z9: Front | AA9: =ROUND(AA6/(AA6+AA7),2)*100+3 -> 53 | AD9: Sperre% | AE9: 62
F10: Druck Multi | G10: =DATA!J14*G9 -> 1.0638063 | J10: Sturz Front | K10: =ROUNDDOWN(K9/K6,1) -> 1 | N10: Reifenbreite Heck | O10: =C19 -> 1 | R10: Federrate Front | S10: =(S6*C11)*C9 -> 68.646 | Z10: Mid | AA10: =ROUND(AA6/(AA6+AA7),2)*100+2 -> 52
B11: Gewichtsverteilung Front | C11: ='v0.9.2c'!E7/100 -> 0.5 | J11: Sturz Heck | K11: =ROUNDUP(K9/K7,1) -> 1.1 | R11: Federrate Heck | S11: =(S6*C12)*C9 -> 68.646 | V11: Federrate | Z11: Back | AA11: =ROUND(AA6/(AA6+AA7),2)*100+1 -> 51 | AD11: Reifenbreite Front | AE11: =AE6/(AE6+AE7) -> 0.5
B12: Gewichtsverteilung Heck | C12: =1-C11 -> 0.5 | F12: Druck | N12: Aero Balance Front | O12: =C23 -> 0.987 | V12: Front | W12: =1-S40/S6 -> 0.60660067 | AD12: Reifenbreite Heck | AE12: =AE7/(AE6+AE7) -> 0.5
B13: Gewichtsverteilung Front | C13: =1+(C11-0.5) -> 1 | F13: Front | G13: =G10*G6 -> 1.5957095 | J13: Spur | K13: 330 | N13: Aero Balance Heck | O13: =C24 -> 1.013 | R13: Pretune Offset | S13: 1.23 | V13: Heck | W13: =1-S41/S6 -> 0.59623756
B14: Gewichtsverteilung Heck | C14: =1+(C12-0.5) -> 1 | F14: Heck | G14: =G10*G7 -> 1.5957095 | J14: Spur Front | K14: =(ROUNDUP((K13/'v0.9.2c'!E8),1)-1)/3 -> 0.13333333 | R14: Offset | S14: =0.963*S13 -> 1.18449 | AD14: Aero Balance Heck | AE14: =(C22/2)+1 -> 1.315
N15: Stabilisator Front | O15: =32*O6*O9*O12 -> 31.584 | R15: Federrate Front | S15: =S10*C18*S14 -> 81.310501 | V15: Zugstufe | AD15: Aero Balance Heck% | AE15: =AE14/10+1 -> 1.1315
B16: Reifenbreite Front | C16: ='v0.9.2c'!E8/('v0.9.2c'!E8+'v0.9.2c'!E9) -> 0.5 | J16: Spur | K16: 315 | N16: Stabilisator Heck | O16: =32*O7*O10*C24 -> 32.416 | R16: Federrate Heck | S16: =S11*C19*S14 -> 81.310501 | V16: Front | W16: =W9*W12 -> 12.132013
B17: Reifenbreite Heck | C17: =1-C16 -> 0.5 | J17: Spur Heck | K17: 0 | V17: Heck | W17: =W9*W13 -> 11.924751 | AD17: Reifenmischung - | AE17: =1-DATA!K14/5 -> 1
B18: Reifenbreite Front | C18: =1+(C16-0.5) -> 1 | F18: Gewichtsverteilung Front | G18: =C11/10+1 -> 1.05 | J18: Spur Heck | K18: =('v0.9.2c'!E9/K16-1)/2 -> -0.11111111 | N18: Pretune Offset | O18: =IF('v0.9.2c'!E12="RWD",-18,IF('v0.9.2c'!E12="AWD",-39,0)) -> -18 | R18: Aero | AD18: Reifenmischung + | AE18: =1+DATA!K14/5 -> 1
B19: Reifenbreite Heck | C19: =1+(C17-0.5) -> 1 | F19: Gewichtsverteilung Heck | G19: =C12/10+1 -> 1.05 | N19: Offset Front | O19: =(100+O18)/100 -> 0.82 | R19: Federrate Front | S19: =S15*C23 -> 80.253464 | V19: Druckstufe
J20: Nachlauf | K20: 4.7 | N20: Offset Heck | O20: =1+(1-O19^3)/10 -> 1.0448632 | R20: Federrate Heck | S20: =S16*C24 -> 82.367537 | V20: Offset | W20: 0.53 | AD20: Untergrund | AE20: =IF('v0.9.2c'!E14="dirt",1.05,IF('v0.9.2c'!E14="offroad",1.09,1)) -> 1
B21: Aero Balance Front | C21: ='v0.9.2c'!E10 -> 0.37 | F21: Federrate MAX | G21: =C4*C6 -> 204 | J21: Winkel | K21: =ROUNDDOWN(K20*(1+C16),1) -> 7 | V21: Front | W21: =ROUNDDOWN(W16*W20,1) -> 6.4 | AD21: Antrieb | AE21: =IF('v0.9.2c'!E12="FWD",2,1) -> 1
B22: Aero Balance Heck | C22: =1-C21 -> 0.63 | F22: Druck Max | G22: =S6/5000+1 -> 1.0408 | N22: Offset Preset | O22: =IF('v0.9.2c'!E16="Balanced",0,IF('v0.9.2c'!E16="Dynamik",-8,IF('v0.9.2c'!E16="Sport",-12,-18))) -> 0 | R22: Offset Preset | S22: =IF('v0.9.2c'!E16="Balanced",0,IF('v0.9.2c'!E16="Dynamik",-2,IF('v0.9.2c'!E16="Sport",-4,-8))) -> 0 | V22: Heck | W22: =ROUNDDOWN(W17*W20,1) -> 6.3
B23: Aero Balance Front | C23: =1+(C21-0.5)/10 -> 0.987 | F23: Druck Multi | G23: =DATA!J16 -> 1.53 | N23: Offset Front | O23: =(100+O22)/100 -> 1 | R23: Offset Front | S23: =(100+S22)/100 -> 1 | AD23: Sperre | AE23: 185 | AF23: 345 | AG23: 345
B24: Aero Balance Heck | C24: =1+(C22-0.5)/10 -> 1.013 | N24: Offset Heck | O24: =1+(1-O23^3)/10 -> 1 | R24: Offset Heck | S24: =1+(1-S23^3)/10 -> 1 | AD24: Beschleunigen Front | AE24: =IF('v0.9.2c'!E12="FWD",(ROUNDDOWN(AE23/2/'v0.9.2c'!E8,2)*100)*2,ROUNDDOWN(AE23/2/'v0.9.2c'!E8,2)*100) -> 37 | AF24: =1+(AF23/AE6)/10 -> 1.1408163
F25: Druck | V25: Federrate | AD25: Beschleunigen Heck | AE25: =ROUNDDOWN(AE23/'v0.9.2c'!E9,2)*100 -> 75 | AF25: =1+(AF23/AE7)/10 -> 1.1408163
F26: Front | G26: =G18*G22*G23 -> 1.6720452 | N26: Härte Preset | O26: =IF('v0.9.2c'!E16="Balanced",0,IF('v0.9.2c'!E16="Dynamik",2,IF('v0.9.2c'!E16="Sport",4,7))) -> 0 | R26: Härte Preset | S26: =IF('v0.9.2c'!E16="Balanced",0,IF('v0.9.2c'!E16="Dynamik",2,IF('v0.9.2c'!E16="Sport",4,6))) -> 0 | V26: Front | W26: =S40/S6 -> 0.39339933
F27: Heck | G27: =G19*G22*G23 -> 1.6720452 | N27: Härte Front | O27: =1+O26/100 -> 1 | R27: Härte Front | S27: =1+S26/100 -> 1 | V27: Heck | W27: =S41/S6 -> 0.40376244 | AD27: Sperre | AE27: 435
N28: Härte Heck | O28: =1+O26/100 -> 1 | R28: Härte Heck | S28: =1+S26/100 -> 1 | V28: Wert | W28: 20 | AD28: Abbremsen Front | AE28: =ROUNDDOWN(1-'v0.9.2c'!E8/AE27,2)*10 -> 4.3
V29: Gewicht | W29: =S6/1000+1 -> 1.204 | AD29: Abbremsen Heck | AE29: =ROUNDDOWN(1-'v0.9.2c'!E9/AE27,2)*100 -> 43
N30: Offset | O30: ='v0.9.2c'!T14 -> 0 | R30: Offset | S30: ='v0.9.2c'!Y14 -> 0 | V30: Wert_Gewicht | W30: =W28*W29 -> 24.08
N31: Offset Front | O31: =(100+O30)/100 -> 1 | R31: Offset Front | S31: =(100+S30)/100 -> 1 | V31: Preset | W31: =IF('v0.9.2c'!E16="Balanced",1,IF('v0.9.2c'!E16="Dynamik",1.02,IF('v0.9.2c'!E16="Sport",1.05,1.09))) -> 1 | AD31: Balance | AE31: =ROUNDUP(AE12*AE14*AE18*100,0) -> 66
N32: Offset Heck | O32: =1+(1-O31^3)/10 -> 1 | R32: Offset Heck | S32: =1+(1-S31^3)/10 -> 1 | AD32: Balance Preset | AE32: =IF('v0.9.2c'!E16="Balanced",AE31,IF('v0.9.2c'!E16="Dynamik",AE31+1,IF('v0.9.2c'!E16="Sport",AE31+2,AE31+4))) -> 66
V33: Untergrund | W33: =IF('v0.9.2c'!E14="dirt",0.95,IF('v0.9.2c'!E14="offroad",0.9,1)) -> 1
N34: Härte | O34: ='v0.9.2c'!T16 -> 0 | R34: Härte | S34: ='v0.9.2c'!Y16 -> 0
N35: Härte Front | O35: =1+O34/100 -> 1 | R35: Härte Front | S35: =1+S34/100 -> 1 | V35: Zugstufe | AD35: Sperre
N36: Härte Heck | O36: =1+O34/100 -> 1 | R36: Härte Heck | S36: =1+S34/100 -> 1 | V36: Front | W36: =(W30*W26)*W33 -> 9.473056 | AD36: Beschleunigen Front | AE36: =AE24*AE20 -> 37 | AF36: =AE9*AE17*AF24*AE20 -> 70.730612
V37: Heck | W37: =(W30*W27*W31)*W33 -> 9.7225995 | AD37: Beschleunigen Heck | AE37: =AE25*AE20 -> 75 | AF37: =AE9*AF25*AE17*AE15*AE20 -> 80.031688
N38: Stabilisator Front | O38: =(O15*O23^2)*O27*O31*O35*O19 -> 25.89888 | R38: Untergrund | S38: =IF('v0.9.2c'!E14="dirt",0.87,IF('v0.9.2c'!E14="offroad",0.73,1)) -> 1
N39: Stabilisator Heck | O39: =(O16*O24)*O28*O32*O36*O20 -> 33.870285 | V39: Druckstufe | AD39: Sperre
R40: Federrate Front | S40: =(S19*S23*S27*S31*S35)*S38 -> 80.253464 | V40: Offset | W40: 0.47 | AD40: Abbremsen Front | AE40: =AE28*AE20 -> 4.3 | AF40: =AF36*0.082 -> 5.7999102
N41: Untergrund | O41: =IF('v0.9.2c'!E14="dirt",0.87,IF('v0.9.2c'!E14="offroad",0.73,1)) -> 1 | R41: Federrate Heck | S41: =(S20*S24*S28*S32*S36)*S38 -> 82.367537 | V41: Front | W41: =W36*W40 -> 4.4523363 | AD41: Abbremsen Heck | AE41: =AE29*AE20 -> 43 | AF41: =AF37*0.28 -> 22.408873
V42: Heck | W42: =W40*W37 -> 4.5696218
N43: Stabilisator Front | O43: =O38*O41 -> 25.89888 | AD43: Balance | AE43: =AE32 -> 66
...

Sheet DATA
B3: Offset / Härte | D3: Preset | F3: Bremse | H3: Untergrund | I3: Mischung | J3: Reifendruck | K3: Grip | M3: Antriebsart | P3: Futura Extra Black Condensed 20pt
P4: Akzidenz Grotesk BE Ex 14 pt
B5: -50 | D5: BALANCED | F5: FRONT | H5: ASPHALT | I5: Standard | J5: 1.02 | K5: 0 | M5: RWD
B6: -49 | D6: DYNAMIK | F6: MID | H6: DIRT | I6: Straße | J6: 1.06 | K6: 0.06 | M6: AWD | P6: Farbcode #F26235
B7: -48 | D7: SPORT | F7: REAR | H7: OFFROAD | I7: Sport | J7: 1.13 | K7: 0.13 | M7: FWD | P7: Farbcode #EC4C59
B8: -47 | D8: RACE | I8: Semi-Slick | J8: 1.25 | K8: 0.25 | P8: Frabcode #E83382
B9: -46 | I9: Slick | J9: 1.29 | K9: 0.29
B10: -45 | I10: Drift | J10: 1.15 | K10: 0.15
B11: -44 | I11: Rallye | J11: 1.15 | K11: 0.15
B12: -43 | I12: Offroad | J12: 1.09 | K12: 0.09
B13: -42 | I13: Drag | J13: 0.96 | K13: -0.04
B14: -41 | I14: Auswahl | J14: =IF('v0.9.2c'!J10="Standard",J5,IF('v0.9.2c'!J10="Straße",J6,IF('v0.9.2c'!J10="Sport",J7,IF('v0.9.2c'!J10="Semi-Slick",J8,IF('v0.9.2c'!J10="Slick",J9,IF('v0.9.2c'!J10="Drift",J10,IF('v0.9.2c'!J10="Rallye",J11,IF('v0.9.2c'!J10="Offroad",J12,J13)))))))) -> 1.02 | K14: =IF('v0.9.2c'!J10="Standard",K5,IF('v0.9.2c'!J10="Straße",K6,IF('v0.9.2c'!J10="Sport",K7,IF('v0.9.2c'!J10="Semi-Slick",K8,IF('v0.9.2c'!J10="Slick",K9,IF('v0.9.2c'!J10="Drift",K10,IF('v0.9.2c'!J10="Rallye",K11,IF('v0.9.2c'!J10="Offroad",K12,K13)))))))) -> 0
B15: -40 | I15: Multi | J15: 1.5
B16: -39 | I16: WERT | J16: =J14*J15 -> 1.53
B17: -38
B18: -37
B19: -36
B20: -35
B21: -34
B22: -33
B23: -32
B24: -31
B25: -30
B26: -29
B27: -28
B28: -27
... B105: 50
