Workbook

Sheet v0.9.9.8
E4: 🛈 | J4: 🛈 | O4: 🛈 | T4: 🛈 | Y4: 🛈 | AD4: 🛈 | AI4: 🛈 | AN4: 🛈
D6: Gewicht in KG | E6: 1250 | I6: Reifendruck | J6: Bar | N6: Radsturz | S6: Stabilisatoren | X6: Federn | Y6: KGF/MM | AC6: Zugstufendämpfung | AH6: Bremskraft | AM6: Front
D7: Front% | E7: 50 | I7: Front | J7: =CALC!G14 -> 1.8043043 | N7: Front | O7: =CALC!K12*-1 -> -1 | S7: Front | T7: =CALC!O46 -> 12.366391 | X7: Front | Y7: =CALC!S38 -> 103.66786 | AC7: Front | AD7: =CALC!W18 -> 10.475595 | AH7: Balance | AI7: =CALC!AA16 -> 54 | AM7: Beschleunigung | AN7: =IF(E12="RWD","–",IF(E12="AWD",CALC!AE29,CALC!AE29)) -> –
D8: Reifenbreite Front | E8: 225 | I8: Heck | J8: =CALC!G15 -> 1.8043043 | N8: Heck | O8: =CALC!K13*-1 -> -1.2 | S8: Heck | T8: =CALC!O47 -> 33.666852 | X8: Heck | Y8: =CALC!S39 -> 104.90227 | AC8: Heck | AD8: =CALC!W19 -> 10.600331 | AM8: Abbremsen | AN8: =IF(E12="RWD","–",IF(E12="AWD",CALC!AE33,CALC!AE33)) -> –
D9: Reifenbreite Heck | E9: 225
D10: Aero Balance | E10: 0.37 | I10: Mischung | J10: Standard | K10: ▼ | N10: Spur | X10: Fahrhöhe | AC10: Druckstufendämpfung | AH10: Bremskraft | AM10: Heck
N11: Front | O11: =CALC!K18 -> 0 | X11: Front | Y11: =IF(E14="Asphalt","+1 Klick","MAX") -> +1 Klick | AC11: Front | AD11: =CALC!W24 -> 6.5996248 | AH11: Druck | AI11: =CALC!AA19 -> 103 | AM11: Beschleunigung | AN11: =IF(E12="RWD",CALC!AE30,IF(E12="AWD",CALC!AE30,"–")) -> 80.909793
D12: Antriebsart | E12: RWD | F12: ▼ | N12: Heck | O12: =CALC!K21 -> 0 | X12: Heck | Y12: =IF(E14="Asphalt","-1 Klick","MAX") -> -1 Klick | AC12: Heck | AD12: =CALC!W25 -> 6.6782085 | AM12: Abbremsen | AN12: =IF(E12="RWD",CALC!AE34,IF(E12="AWD",CALC!AE34,"–")) -> 22.654742
D14: Untergrund | E14: ASPHALT | F14: ▼ | N14: Nachlauf vorn | S14: Offset% | T14: 0 | U14: ▼ | X14: Offset% | Y14: 0 | Z14: ▼ | AH14: Preset | AI14: FRONT | AJ14: ▼ | AM14: Mitte
N15: Winkel | O15: =CALC!K26 -> 7 | AM15: Balance | AN15: =IF(E12="AWD",CALC!AE37,"–") -> –
D16: Fahrmodus | E16: BALANCED | F16: ▼ | S16: Härte% | T16: 0 | U16: ▼ | X16: Härte% | Y16: 0 | Z16: ▼
C19: Super Simple Calculator by 9t3ndo
C20: v0.9.9.8

Sheet CALC
B2: Werte | F2: Reifen | J2: Spur | N2: Stabilisator | R2: Federn | V2: Dämpfer | Z2: Bremse | AD2: Differential
B4: Gewicht | C4: ='v0.9.9.8'!E6 -> 1250
B6: Federrate MAX | C6: 0.204 | F6: Gewichtsverteilung Front | G6: =C11/10+1 -> 1.05 | J6: Reifenbreite Front | K6: ='v0.9.9.8'!E8 -> 225 | N6: Gewichtsverteilung Front | O6: =C13 -> 1 | R6: Federrate | S6: =C6*0.709 -> 0.144636 | V6: Federrate | Z6: Reifenbreite Front | AA6: =C16 -> 0.5 | AD6: Reifenbreite Front | AE6: ='v0.9.9.8'!E8 -> 225
B7: Federrate MIN | C7: 0.0406 | F7: Gewichtsverteilung Heck | G7: =C12/10+1 -> 1.05 | J7: Reifenbreite Heck | K7: ='v0.9.9.8'!E9 -> 225 | N7: Gewichtsverteilung Heck | O7: =C14 -> 1 | R7: Federrate Max | S7: =C4*S6*S8 -> 180.795 | V7: Front | W7: =S38/S7 -> 0.57340006 | Z7: Reifenbreite Heck | AA7: =C17 -> 0.5 | AD7: Reifenbreite Heck | AE7: ='v0.9.9.8'!E9 -> 225
B8: Federrate MID | C8: =(C6+C7)/2 -> 0.1223 | R8: Untergrund | S8: =IF('v0.9.9.8'!E14="dirt",0.67,IF('v0.9.9.8'!E14="offroad",0.53,1)) -> 1 | V8: Heck | W8: =S39/S7 -> 0.58022771
B9: Federrate Ideal | C9: 0.673 | F9: Federrate MAX | G9: =C4*C6 -> 255 | N9: Reifenbreite Front | O9: =C18 -> 1 | R9: Härte | S9: ='v0.9.9.8'!Y16/100+1 -> 1 | V9: Wert | W9: 16 | Z9: Reifenbreite Front | AA9: ='v0.9.9.8'!E8 -> 225 | AD9: Sperre% | AE9: 62
F10: Druck Max | G10: =G9/5000+1 -> 1.051 | J10: Sturz | K10: 265 | N10: Reifenbreite Heck | O10: =C19 -> 1 | V10: Gewicht | W10: =S7/1000+1 -> 1.180795 | Z10: Reifen Grip | AA10: =DATA!K17^2 -> 1.1881
B11: Gewichtsverteilung Front | C11: ='v0.9.9.8'!E7/100 -> 0.5 | F11: Druck Multi | G11: =DATA!K19 -> 1.635 | J11: Fahrmodi | K11: =IF('v0.9.9.8'!E16="Balanced",-0.1,IF('v0.9.9.8'!E16="Dynamik",-0.1,0)) -> -0.1 | R11: Antrieb | S11: =IF('v0.9.9.8'!E12="AWD",0.97,IF('v0.9.9.8'!E12="FWD",1.01,1)) -> 1 | V11: Wert_Gewicht | W11: =W9*W10 -> 18.89272 | AD11: Reifenbreite Front | AE11: =AE6/(AE6+AE7) -> 0.5
B12: Gewichtsverteilung Heck | C12: =1-C11 -> 0.5 | J12: Sturz Front | K12: =ROUNDDOWN(K10/K6,1)+K11 -> 1 | N12: Aero Balance Front | O12: =C23 -> 0.987 | R12: Front | S12: =S11 -> 1 | V12: Preset | W12: =1 -> 1 | Z12: Antriebsart | AA12: =IF('v0.9.9.8'!E12="FWD",2,1) -> 1 | AD12: Reifenbreite Heck | AE12: =AE7/(AE6+AE7) -> 0.5
B13: Gewichtsverteilung Front | C13: =1+(C11-0.5) -> 1 | F13: Druck | J13: Sturz Heck | K13: =ROUNDUP(K10/K7,1) -> 1.2 | N13: Aero Balance Heck | O13: =C24 -> 1.013 | R13: Heck | S13: =1.1-S11/10 -> 1 | Z13: Preset | AA13: =IF('v0.9.9.8'!AI14="FRONT",3,IF('v0.9.9.8'!AI14="MID",2,1)) -> 3
B14: Gewichtsverteilung Heck | C14: =1+(C12-0.5) -> 1 | F14: Front | G14: =G6*G10*G11 -> 1.8043043 | V14: Pretune Härte | W14: 0.967 | AD14: Aero Balance Heck | AE14: =(C22/2)+1 -> 1.315
F15: Heck | G15: =G7*G10*G11 -> 1.8043043 | J15: Spur | K15: 330 | N15: Stabilisator Front | O15: =32*O6*O9*O12 -> 31.584 | R15: Fahrmodus | S15: =IF('v0.9.9.8'!E16="Balanced",1,IF('v0.9.9.8'!E16="Dynamik",0.98,IF('v0.9.9.8'!E16="Sport",0.95,0.91))) -> 1 | Z15: Balance | AD15: Aero Balance Heck% | AE15: =AE14/10+1 -> 1.1315
B16: Reifenbreite Front | C16: ='v0.9.9.8'!E8/('v0.9.9.8'!E8+'v0.9.9.8'!E9) -> 0.5 | J16: Fahrmodi | K16: =IF('v0.9.9.8'!E16="Dynamik",0.1,0) -> 0 | N16: Stabilisator Heck | O16: =32*O7*O10*C24 -> 32.416 | R16: Front | S16: =S15 -> 1 | V16: Zugstufe | Z16: Balance | AA16: =ROUND(AA6/(AA6+AA7),2)*100+AA13+AA12 -> 54
B17: Reifenbreite Heck | C17: =1-C16 -> 0.5 | J17: Spur Front | K17: =IF('v0.9.9.8'!E16="Balanced",K16,IF('v0.9.9.8'!E16="Dynamik",K16,(ROUNDUP((K15/'v0.9.9.8'!E8),1)-1)/3)) -> 0 | R17: Heck | S17: =1.1-S16/10 -> 1 | V17: Untergrund | W17: =IF('v0.9.9.8'!E14="dirt",0.95,IF('v0.9.9.8'!E14="offroad",0.9,1)) -> 1 | AD17: Reifenmischung - | AE17: =1-DATA!L17/5 -> 1
B18: Reifenbreite Front | C18: =1+(C16-0.5) -> 1 | J18: Spur Front | K18: =IF(K17>0.1,0.1,K17) -> 0 | N18: Pretune Offset | O18: =IF('v0.9.9.8'!E12="RWD",-15,IF('v0.9.9.8'!E12="AWD",-39,0)) -> -15 | V18: Front | W18: =(W11*W7)*W17*W14 -> 10.475595 | Z18: Bremskraft | AD18: Reifenmischung + | AE18: =1+DATA!L17/5 -> 1
B19: Reifenbreite Heck | C19: =1+(C17-0.5) -> 1 | N19: Offset Front | O19: =(100+O18)/100 -> 0.85 | R19: Gewicht Vorn% | S19: ='v0.9.9.8'!E7/100 -> 0.5 | V19: Heck | W19: =(W11*W8*W12)*W17*W14 -> 10.600331 | Z19: Druck | AA19: =ROUND((AA9*AA10)/100+100,0) -> 103
J20: Spur | K20: 315 | N20: Offset Heck | O20: =1+(1-O19^3)/10 -> 1.0385875 | R20: Gewicht Heck% | S20: =1-S19 -> 0.5 | AD20: Untergrund | AE20: =IF('v0.9.9.8'!E14="dirt",1.05,IF('v0.9.9.8'!E14="offroad",1.09,1)) -> 1
B21: Aero Balance Front | C21: ='v0.9.9.8'!E10 -> 0.37 | J21: Spur Heck | K21: 0 | V21: Druckstufe | AD21: Antrieb | AE21: =IF('v0.9.9.8'!E12="FWD",2,1) -> 1
B22: Aero Balance Heck | C22: =1-C21 -> 0.63 | J22: Spur Heck | K22: =('v0.9.9.8'!E9/K20-1)/2 -> -0.14285714 | N22: Offset Preset | O22: =IF('v0.9.9.8'!E16="Balanced",0,IF('v0.9.9.8'!E16="Dynamik",-16,IF('v0.9.9.8'!E16="Sport",-24,-36))) -> 0 | R22: Reifenbreite Front% | S22: =('v0.9.9.8'!E8/('v0.9.9.8'!E8+'v0.9.9.8'!E9))/10+1 -> 1.05 | V22: Offset Antrieb | W22: =IF('v0.9.9.8'!E12="FWD",DATA!O7,IF('v0.9.9.8'!E12="RWD",DATA!O5,DATA!O6)) -> 0.63 | AD22: Antrieb Abbremsen | AE22: =IF('v0.9.9.8'!E12="FWD",0.1857,0.082) -> 0.082
B23: Aero Balance Front | C23: =1+(C21-0.5)/10 -> 0.987 | N23: Offset Front | O23: =(100+O22)/100 -> 1 | R23: Reifenbreite Heck% | S23: =('v0.9.9.8'!E9/('v0.9.9.8'!E8+'v0.9.9.8'!E9))/10+1 -> 1.05 | V23: Untergrund | W23: =IF('v0.9.9.8'!E14="dirt",0.94,IF('v0.9.9.8'!E14="offroad",0.87,1)) -> 1
B24: Aero Balance Heck | C24: =1+(C22-0.5)/10 -> 1.013 | J24: Nachlauf | K24: 4.7 | N24: Offset Heck | O24: =1+(1-O23^3)/10 -> 1 | V24: Front | W24: =W18*W22*W23 -> 6.5996248 | AD24: Sperre | AE24: 345
J25: Winkel | K25: =ROUNDDOWN(K24*(1+C16),1) -> 7 | R25: Aero Front% | S25: ='v0.9.9.8'!E10/10+1 -> 1.037 | V25: Heck | W25: =W22*W19*W23 -> 6.6782085 | AD25: Beschleunigen Front | AE25: =1+(AE24/AE6)/10 -> 1.1533333
J26: Fahrmodi | K26: =IF('v0.9.9.8'!E16="Balanced",7,IF('v0.9.9.8'!E16="Dynamik",7,K25)) -> 7 | N26: Härte Preset | O26: =IF('v0.9.9.8'!E16="Balanced",0,IF('v0.9.9.8'!E16="Dynamik",2,IF('v0.9.9.8'!E16="Sport",4,7))) -> 0 | R26: Aero Heck% | S26: =(1-'v0.9.9.8'!E10)/10+1 -> 1.063 | AD26: Beschleunigen Heck | AE26: =1+(AE24/AE7)/10 -> 1.1533333
N27: Härte Front | O27: =1+O26/100 -> 1
N28: Härte Heck | O28: =1+O26/100 -> 1 | R28: Offset | S28: ='v0.9.9.8'!Y14 -> 0 | AD28: Sperre
R29: Offset Front | S29: =(100+S28)/100 -> 1 | AD29: Beschleunigen Front | AE29: =AE9*AE17*AE25*AE20 -> 71.506667
N30: Offset | O30: ='v0.9.9.8'!T14 -> 0 | R30: Offset Heck | S30: =1+(1-S29^3)/10 -> 1 | AD30: Beschleunigen Heck | AE30: =AE9*AE26*AE17*AE15*AE20 -> 80.909793
N31: Offset Front | O31: =(100+O30)/100 -> 1
N32: Offset Heck | O32: =1+(1-O31^3)/10 -> 1 | R32: Pretune Offset | AD32: Sperre
R33: Front | S33: =DATA!R13 -> 1.0098 | AD33: Abbremsen Front | AE33: =AE29*AE22 -> 5.8635467
N34: Härte | O34: ='v0.9.9.8'!T16 -> 0 | R34: Heck | S34: =DATA!R14 -> 0.99683112 | AD34: Abbremsen Heck | AE34: =AE30*0.28 -> 22.654742
N35: Härte Front | O35: =1+O34/100 -> 1
N36: Härte Heck | O36: =1+O34/100 -> 1 | R36: Pretune Härte | S36: 1.043 | AD36: Balance | AE36: =ROUNDUP(AE12*AE14*AE18*100,0) -> 66
AD37: Balance Preset | AE37: =IF('v0.9.9.8'!E16="Balanced",AE36,IF('v0.9.9.8'!E16="Dynamik",AE36+1,IF('v0.9.9.8'!E16="Sport",AE36+2,AE36+4))) -> 66
N38: Stabilisator Front | O38: =(O15*O23^2)*O27*O31*O35*O19 -> 26.8464 | R38: Federrate Front | S38: =(S7*S19*S22*S25*S8*S9*S12*S16)*S29*S33*S36 -> 103.66786
N39: Stabilisator Heck | O39: =(O16*O24)*O28*O32*O36*O20 -> 33.666852 | R39: Federrate Heck | S39: =(S7*S20*S23*S26*S8*S9*S13*S17)*S30*S34*S36 -> 104.90227
N41: Untergrund | O41: =IF('v0.9.9.8'!E14="dirt",0.87,IF('v0.9.9.8'!E14="offroad",0.73,1)) -> 1
N42: Antriebsart | O42: =IF('v0.9.9.8'!E12="FWD",0.449,IF('v0.9.9.8'!E12="AWD",0.782,0.861)) -> 0.861
N44: PrePretune Offset Front | O44: 0.535
N46: Stabilisator Front | O46: =O38*O41*O42*O44 -> 12.366391
N47: Stabilisator Heck | O47: =O39*O41 -> 33.666852

Sheet DATA
B3: Offset / Härte | D3: Preset | F3: Bremse | H3: Untergrund | J3: Mischung | K3: Reifendruck | L3: Grip Diff | N3: Antriebsart | O3: Druckstufe | Q3: Offest Federn | W3: Futura Extra Black Condensed 20pt
W4: Akzidenz Grotesk BE Ex 14 pt
B5: -50 | D5: BALANCED | F5: FRONT | H5: ASPHALT | J5: Standard | K5: 1.09 | L5: 0 | N5: RWD | O5: 0.63 | Q5: Offset | R5: 2
B6: -49 | D6: DYNAMIK | F6: MID | H6: DIRT | J6: Straße | K6: 1.1 | L6: 0.06 | N6: AWD | O6: 0.62 | Q6: Offset Front | R6: =(100+R5)/100 -> 1.02 | W6: Farbcode #F26235
B7: -48 | D7: SPORT | F7: REAR | H7: OFFROAD | J7: Sport | K7: 1.13 | L7: 0.13 | N7: FWD | O7: 0.64 | Q7: Offset Heck | R7: =1+(1-R6^3)/10 -> 0.9938792 | W7: Farbcode #EC4C59
B8: -47 | D8: RACE | J8: Semi-Slick | K8: 1.17 | L8: 0.25 | W8: Frabcode #E83382
B9: -46 | J9: Slick | K9: 1.26 | L9: 0.29 | Q9: Offset | R9: -1
B10: -45 | J10: Drift | K10: 1.15 | L10: 0.15 | Q10: Offset Front | R10: =(100+R9)/100 -> 0.99
B11: -44 | J11: Rallye | K11: 1.1 | L11: 0.15 | Q11: Offset Heck | R11: =1+(1-R10^3)/10 -> 1.0029701
B12: -43 | J12: Offroad | K12: 0.77 | L12: 0.09
B13: -42 | J13: Drag | K13: 0.63 | L13: -0.04 | Q13: Offset Front | R13: =R6*R10 -> 1.0098
B14: -41 | J14: Vintage | K14: 1.08 | L14: -0.07 | Q14: Offset Heck | R14: =R7*R11 -> 0.99683112
B15: -40 | J15: Weißwand | K15: 1.04 | L15: 0.03
B16: -39 | J16: Vint. Race | K16: 1.12 | L16: 0.1
B17: -38 | J17: Auswahl | K17: =IF('v0.9.9.8'!J10="Standard",K5,IF('v0.9.9.8'!J10="Straße",K6,IF('v0.9.9.8'!J10="Sport",K7,IF('v0.9.9.8'!J10="Semi-Slick",K8,IF('v0.9.9.8'!J10="Slick",K9,IF('v0.9.9.8'!J10="Drift",K10,IF('v0.9.9.8'!J10="Rallye",K11,IF('v0.9.9.8'!J10="Offroad",K12,IF('v0.9.9.8'!J10="Drag",K13,IF('v0.9.9.8'!J10="Vintage",K14,IF('v0.9.9.8'!J10="Weißwand",K15,K16))))))))))) -> 1.09 | L17: =IF('v0.9.9.8'!J10="Standard",L5,IF('v0.9.9.8'!J10="Straße",L6,IF('v0.9.9.8'!J10="Sport",L7,IF('v0.9.9.8'!J10="Semi-Slick",L8,IF('v0.9.9.8'!J10="Slick",L9,IF('v0.9.9.8'!J10="Drift",L10,IF('v0.9.9.8'!J10="Rallye",L11,IF('v0.9.9.8'!J10="Offroad",L12,IF('v0.9.9.8'!J10="Drag",L13,IF('v0.9.9.8'!J10="Vintage",L14,IF('v0.9.9.8'!J10="Weißwand",L15,L16))))))))))) -> 0
B18: -37 | J18: Multi | K18: 1.5
B19: -36 | J19: WERT | K19: =K17*K18 -> 1.635
B20: -35
B21: -34
B22: -33
B23: -32
B24: -31
B25: -30
B26: -29
B27: -28
B28: -27
B29: -26
B30: -25
B31: -24
... B105: 50
