Workbook

Sheet v0.9d
E4: 🛈 | J4: 🛈 | O4: 🛈 | T4: 🛈 | Y4: 🛈 | AD4: 🛈 | AI4: 🛈 | AN4: 🛈
D6: Gewicht in KG | E6: 1500 | I6: Reifendruck | N6: Radsturz | S6: Stabilisatoren | X6: Federn | AC6: Zugstufendämpfung | AH6: Bremskraft | AM6: Front
D7: Front% | E7: 50 | I7: Front | J7: =CALC!G13 -> 1.8680589 | N7: Front | O7: =CALC!K10*-1 -> -1 | S7: Front | T7: =CALC!O38 -> 26.53056 | X7: Front | Y7: =CALC!S37 -> 109.61449 | AC7: Front | AD7: =CALC!W34 -> 8.2604905 | AH7: Balance | AI7: =CALC!AA9 -> 51 | AM7: Beschleunigung | AN7: =IF(E12="RWD","–",IF(E12="AWD",CALC!AE10,CALC!AE10)) -> –
D8: Reifenbreite Front | E8: 245 | I8: Heck | J8: =CALC!G14 -> 1.8680589 | N8: Heck | O8: =CALC!K11*-1 -> -1.1 | S8: Heck | T8: =CALC!O39 -> 33.736291 | X8: Heck | Y8: =CALC!S38 -> 112.502 | AC8: Heck | AD8: =CALC!W35 -> 8.478092 | AM8: Abbremsen | AN8: =IF(E12="RWD","–",IF(E12="AWD",CALC!AE14,CALC!AE14)) -> –
D9: Reifenbreite Heck | E9: 245
D10: Aero Balance | E10: 0.37 | I10: Mischung | J10: Straße | K10: ▼ | N10: Spur | X10: Fahrhöhe | AC10: Druckstufendämpfung | AH10: Bremskraft | AM10: Heck
N11: Front | O11: =CALC!K14 -> 0.13333333 | X11: Front | Y11: Default | AC11: Front | AD11: =CALC!W39 -> 3.8824305 | AH11: Druck | AI11: Default | AM11: Beschleunigung | AN11: =IF(E12="RWD",CALC!AE11,IF(E12="AWD",CALC!AE11,"–")) -> 75
D12: Antriebsart | E12: RWD | F12: ▼ | N12: Heck | O12: =CALC!K17 -> 0 | X12: Heck | Y12: Default | AC12: Heck | AD12: =CALC!W40 -> 3.9847033 | AM12: Abbremsen | AN12: =IF(E12="RWD",CALC!AE15,IF(E12="AWD",CALC!AE15,"–")) -> 43
D14: Preset | E14: Balanced | F14: ▼ | N14: Nachlauf vorn | S14: Offset% | T14: 0 | U14: ▼ | X14: Offset% | Y14: 0 | Z14: ▼ | AM14: Mitte
N15: Winkel | O15: =CALC!K21 -> 7 | S15: Härte% | T15: 0 | U15: ▼ | X15: Härte% | Y15: 0 | Z15: ▼ | AM15: Balance | AN15: =IF(E12="AWD",CALC!AE18,"–") -> –
C18: Super Simple Calculator by 9t3ndo
C19: v.09d

Sheet CALC
B2: Werte | F2: Reifen | J2: Spur | N2: Stabilisator | R2: Federn | V2: Dämpfer | Z2: Bremse | AD2: Differential
B4: Gewicht | C4: ='v0.9d'!E6 -> 1500
B6: Federrate MAX | C6: 0.204 | F6: Gewichtsverteilung Front | G6: =C11+1 -> 1.5 | J6: Reifenbreite Front | K6: ='v0.9d'!E8 -> 245 | N6: Gewichtsverteilung Front | O6: =C13 -> 1 | R6: Federrate MAX Gewicht | S6: =C4*C6 -> 306 | V6: Dämpfer | Z6: Reifenbreite Front | AA6: =C16 -> 0.5 | AD6: Reifenbreite Heck | AE6: =C17 -> 0.5
B7: Federrate MIN | C7: 0.0406 | F7: Gewichtsverteilung Heck | G7: =C12+1 -> 1.5 | J7: Reifenbreite Heck | K7: ='v0.9d'!E9 -> 245 | N7: Gewichtsverteilung Heck | O7: =C14 -> 1 | R7: Federrate MAX Front | S7: =S6*C11 -> 153 | V7: Wert Max | W7: 20 | Z7: Reifenbreite Heck | AA7: =C17 -> 0.5 | AD7: Aero Balance Heck | AE7: =(C22/2)+1 -> 1.315
B8: Federrate MID | C8: =(C6+C7)/2 -> 0.1223 | R8: Federrate MAX Heck | S8: =S6*C12 -> 153 | V8: Offset | W8: 1
B9: Federrate Ideal | C9: 0.673 | F9: Federrate MAX Gewicht | G9: =S6/4750+1 -> 1.0644211 | J9: Sturz | K9: 265 | N9: Reifenbreite Front | O9: =C18 -> 1 | V9: Wert | W9: =W7*W8 -> 20 | Z9: Balance | AA9: =ROUNDUP(AA6/(AA6+AA7),2)*100+1 -> 51 | AD9: Sperre | AE9: 185
F10: Druck Multi | G10: =LIST!G13*G9 -> 1.2453726 | J10: Sturz Front | K10: =ROUNDDOWN(K9/K6,1) -> 1 | N10: Reifenbreite Heck | O10: =C19 -> 1 | R10: Federrate Front | S10: =(S6*C11)*C9 -> 102.969 | AD10: Beschleunigen Front | AE10: =IF('v0.9d'!E12="FWD",(ROUNDDOWN(AE9/2/'v0.9d'!E8,2)*100)*2,ROUNDDOWN(AE9/2/'v0.9d'!E8,2)*100) -> 37
B11: Gewichtsverteilung Front | C11: ='v0.9d'!E7/100 -> 0.5 | J11: Sturz Heck | K11: =ROUNDUP(K9/K7,1) -> 1.1 | R11: Federrate Heck | S11: =(S6*C12)*C9 -> 102.969 | V11: Federrate | AD11: Beschleunigen Heck | AE11: =ROUNDDOWN(AE9/'v0.9d'!E9,2)*100 -> 75
B12: Gewichtsverteilung Heck | C12: =1-C11 -> 0.5 | F12: Druck | N12: Aero Balance Front | O12: =C23 -> 0.987 | V12: Front | W12: =1-S37/S6 -> 0.64178272
B13: Gewichtsverteilung Front | C13: =1+(C11-0.5) -> 1 | F13: Front | G13: =G10*G6 -> 1.8680589 | J13: Spur | K13: 330 | N13: Aero Balance Heck | O13: =C24 -> 1.013 | R13: Offset | S13: 1.07856 | T13: 0.963 | V13: Heck | W13: =1-S38/S6 -> 0.6323464 | AD13: Sperre | AE13: 435
B14: Gewichtsverteilung Heck | C14: =1+(C12-0.5) -> 1 | F14: Heck | G14: =G10*G7 -> 1.8680589 | J14: Spur Front | K14: =(ROUNDUP((K13/'v0.9d'!E8),1)-1)/3 -> 0.13333333 | R14: Federrate Front | S14: =S10*C18*S13 -> 111.05824 | AD14: Abbremsen Front | AE14: =ROUNDDOWN(1-'v0.9d'!E8/AE13,2)*10 -> 4.3
N15: Stabilisator Front | O15: =32*O6*O9*O12 -> 31.584 | R15: Federrate Heck | S15: =S11*C19*S13 -> 111.05824 | V15: Zugstufe | AD15: Abbremsen Heck | AE15: =ROUNDDOWN(1-'v0.9d'!E9/AE13,2)*100 -> 43
B16: Reifenbreite Front | C16: ='v0.9d'!E8/('v0.9d'!E8+'v0.9d'!E9) -> 0.5 | J16: Spur | K16: 315 | N16: Stabilisator Heck | O16: =32*O7*O10*C24 -> 32.416 | V16: Front | W16: =W9*W12 -> 12.835654
B17: Reifenbreite Heck | C17: =1-C16 -> 0.5 | J17: Spur Heck | K17: 0 | R17: Aero | V17: Heck | W17: =W9*W13 -> 12.646928 | AD17: Balance | AE17: =ROUNDUP(AE6*AE7*100,0) -> 66
B18: Reifenbreite Front | C18: =1+(C16-0.5) -> 1 | J18: Spur Heck | K18: =('v0.9d'!E9/K16-1)/2 -> -0.11111111 | N18: Pretune Offset | O18: -16 | R18: Federrate Front | S18: =S14*C23 -> 109.61449 | AD18: Balance Preset | AE18: =IF('v0.9d'!E14="Balanced",AE17,IF('v0.9d'!E14="Dynamik",AE17+1,IF('v0.9d'!E14="Sport",AE17+2,AE17+4))) -> 66
B19: Reifenbreite Heck | C19: =1+(C17-0.5) -> 1 | N19: Offset Front | O19: =(100+O18)/100 -> 0.84 | R19: Federrate Heck | S19: =S15*C24 -> 112.502 | V19: Druckstufe
J20: Nachlauf | K20: 4.7 | N20: Offset Heck | O20: =1+(1-O19^3)/10 -> 1.0407296 | V20: Offset | W20: 0.53
B21: Aero Balance Front | C21: ='v0.9d'!E10 -> 0.37 | J21: Winkel | K21: =ROUNDDOWN(K20*(1+C16),1) -> 7 | R21: Offset Preset | S21: =IF('v0.9d'!E14="Balanced",0,IF('v0.9d'!E14="Dynamik",-2,IF('v0.9d'!E14="Sport",-4,-8))) -> 0 | V21: Front | W21: =ROUNDDOWN(W16*W20,1) -> 6.8
B22: Aero Balance Heck | C22: =1-C21 -> 0.63 | N22: Offset Preset | O22: =IF('v0.9d'!E14="Balanced",0,IF('v0.9d'!E14="Dynamik",-8,IF('v0.9d'!E14="Sport",-12,-18))) -> 0 | R22: Offset Front | S22: =(100+S21)/100 -> 1 | V22: Heck | W22: =ROUNDDOWN(W17*W20,1) -> 6.7
B23: Aero Balance Front | C23: =1+(C21-0.5)/10 -> 0.987 | N23: Offset Front | O23: =(100+O22)/100 -> 1 | R23: Offset Heck | S23: =1+(1-S22^3)/10 -> 1
B24: Aero Balance Heck | C24: =1+(C22-0.5)/10 -> 1.013 | N24: Offset Heck | O24: =1+(1-O23^3)/10 -> 1
R25: Härte Preset | S25: =IF('v0.9d'!E14="Balanced",0,IF('v0.9d'!E14="Dynamik",2,IF('v0.9d'!E14="Sport",4,6))) -> 0 | V25: Federrate
N26: Härte Preset | O26: =IF('v0.9d'!E14="Balanced",0,IF('v0.9d'!E14="Dynamik",2,IF('v0.9d'!E14="Sport",4,7))) -> 0 | R26: Härte Front | S26: =1+S25/100 -> 1 | V26: Front | W26: =S37/S6 -> 0.35821728
N27: Härte Front | O27: =1+O26/100 -> 1 | R27: Härte Heck | S27: =1+S25/100 -> 1 | V27: Heck | W27: =S38/S6 -> 0.3676536
N28: Härte Heck | O28: =1+O26/100 -> 1 | V28: Wert | W28: 20
R29: Offset | S29: ='v0.9d'!Y14 -> 0 | V29: Gewicht | W29: =S6/2000+1 -> 1.153
N30: Offset | O30: ='v0.9d'!T14 -> 0 | R30: Offset Front | S30: =(100+S29)/100 -> 1 | V30: Wert_Gewicht | W30: =W28*W29 -> 23.06
N31: Offset Front | O31: =(100+O30)/100 -> 1 | R31: Offset Heck | S31: =1+(1-S30^3)/10 -> 1 | V31: Preset | W31: =IF('v0.9d'!E14="Balanced",1,IF('v0.9d'!E14="Dynamik",1.02,IF('v0.9d'!E14="Sport",1.05,1.09))) -> 1
N32: Offset Heck | O32: =1+(1-O31^3)/10 -> 1
R33: Härte | S33: ='v0.9d'!Y15 -> 0 | V33: Zugstufe
N34: Härte | O34: ='v0.9d'!T15 -> 0 | R34: Härte Front | S34: =1+S33/100 -> 1 | V34: Front | W34: =W30*W26 -> 8.2604905
N35: Härte Front | O35: =1+O34/100 -> 1 | R35: Härte Heck | S35: =1+S33/100 -> 1 | V35: Heck | W35: =W30*W27*W31 -> 8.478092
N36: Härte Heck | O36: =1+O34/100 -> 1
R37: Federrate Front | S37: =S18*S22*S26*S30*S34 -> 109.61449 | V37: Druckstufe
N38: Stabilisator Front | O38: =(O15*O23^2)*O27*O31*O35*O19 -> 26.53056 | R38: Federrate Heck | S38: =S19*S23*S27*S31*S35 -> 112.502 | V38: Offset | W38: 0.47
N39: Stabilisator Heck | O39: =(O16*O24)*O28*O32*O36*O20 -> 33.736291 | V39: Front | W39: =W34*W38 -> 3.8824305
V40: Heck | W40: =W38*W35 -> 3.9847033

Sheet LIST
B3: Offset / Härte | D3: Preset | F3: Mischung | G3: Reifendruck | I3: Antriebsart | K3: Futura Extra Black Condensed 20pt
K4: Akzidenz Grotesk BE Ex 14 pt
B5: -50 | D5: Balanced | F5: Straße | G5: 1.17 | I5: RWD
B6: -49 | D6: Dynamik | F6: Sport | G6: 1.17 | I6: AWD | K6: Farbcode #F26235
B7: -48 | D7: Sport | F7: Semi-Slick | G7: 1.31 | I7: FWD | K7: Farbcode #EC4C59
B8: -47 | D8: Race | F8: Slick | G8: 1.39 | K8: Frabcode #E83382
B9: -46 | F9: Drift | G9: 1.15
B10: -45 | F10: Rallye | G10: 1.17
B11: -44 | F11: Offroad | G11: 0.77
B12: -43 | F12: Drag | G12: 0.67
B13: -42 | F13: Auswahl | G13: =IF('v0.9d'!J10="Straße",G5,IF('v0.9d'!J10="Sport",G6,IF('v0.9d'!J10="Semi-Slick",G7,IF('v0.9d'!J10="Slick",G8,IF('v0.9d'!J10="Drift",G9,IF('v0.9d'!J10="Rallye",G10,IF('v0.9d'!J10="Offroad",G11,G12))))))) -> 1.17
B14: -41
B15: -40
B16: -39
B17: -38
B18: -37
B19: -36
B20: -35
B21: -34
B22: -33
B23: -32
B24: -31
B25: -30
... B105: 50
