Workbook
Name Feiertag: Mai!$M$1:$M$65537
Name FeiertagWF: Mai!$Q$1:$Q$65537
Name Nacht: Mai!$L$1:$L$65537
Name NachtamFeiertag: Mai!$M$1:$M$65537
Name NachtFeiertag: Mai!$M$1:$M$65537
Name NachtSonntag: Mai!$O$1:$O$65537
Name NachtvorFeiertag: Mai!$N$1:$N$65537
Name NachtvorSonntag: Mai!$P$6:$P$7
Name Sonntag: Mai!$O$1:$O$65537
Name vorFeiertag: Mai!$N$1:$N$65537
Name Z_138B5A87_A4F7_4E0C_B497_DDB95500DE40_.wvu.Rows: April!$A$45:$AMJ$45

Sheet Gesamt
A1: Gesamtübersicht
A3: Name:
A5: Filiale: | F5: Firma:
A7: Sollstunden/Monat:
A8: Stunden/Arbeitstag:
A9: Stunden/Urlaubstag
A11: Monat | B11: Ist-Stunden | C11: +/- - Stunden | E11: Monat | F11: Urlaub | H11: Monat | I11: Krank
A12: Januar | B12: =Januar!$F$45 -> 0 | C12: =IF(B12=0,"",B12-$C$7) | E12: Januar | F12: =Januar!$J$45 -> 0 | H12: Januar | I12: =Januar!$K$45 -> 0
A13: Februar | B13: =Februar!$F$42 -> 0 | C13: =IF(B13=0,"",B13-$C$7) | E13: Februar | F13: =Februar!$J$42 -> 0 | H13: Februar | I13: =Februar!$K$42 -> 0
A14: März | B14: =März!$F$46 -> 0 | C14: =IF(B14=0,"",B14-$C$7) | E14: März | F14: =März!$J$46 -> 0 | H14: März | I14: =März!$K$46 -> 0
A15: April | B15: =April!$F$44 -> 0 | C15: =IF(B15=0,"",B15-$C$7) | E15: April | F15: =April!$J$44 -> 0 | H15: April | I15: =April!$K$44 -> 0
A16: Mai | B16: =Mai!$F$46 -> 0 | C16: =IF(B16=0,"",B16-$C$7) | E16: Mai | F16: =Mai!$J$46 -> 0 | H16: Mai | I16: =Mai!$K$46 -> 0
A17: Juni | B17: =Juni!$F$44 -> 0 | C17: =IF(B17=0,"",B17-$C$7) | E17: Juni | F17: =Juni!$J$44 -> 0 | H17: Juni | I17: =Juni!$K$44 -> 0
A18: Juli | B18: =Juli!$F$45 -> 0 | C18: =IF(B18=0,"",B18-$C$7) | E18: Juli | F18: =Juli!$J$45 -> 0 | H18: Juli | I18: =Juli!$K$45 -> 0
A19: August | B19: =August!$F$46 -> 0 | C19: =IF(B19=0,"",B19-$C$7) | E19: August | F19: =August!$J$46 -> 0 | H19: August | I19: =August!$K$46 -> 0
A20: September | B20: =September!$F$44 -> 0 | C20: =IF(B20=0,"",B20-$C$7) | E20: September | F20: =September!$J$44 -> 0 | H20: September | I20: =September!$K$44 -> 0
A21: Oktober | B21: =Oktober!$F$45 -> 0 | C21: =IF(B21=0,"",B21-$C$7) | E21: Oktober | F21: =Oktober!$J$45 -> 0 | H21: Oktober | I21: =Oktober!$K$45 -> 0
A22: November | B22: =November!$F$45 -> 0 | C22: =IF(B22=0,"",B22-$C$7) | E22: November | F22: =November!$J$45 -> 0 | H22: November | I22: =November!$K$45 -> 0
A23: Dezember | B23: =Dezember!$F$45 -> 0 | C23: =IF(B23=0,"",B23-$C$7) | E23: Dezember | F23: =Dezember!$J$45 -> 0 | H23: Dezember | I23: =Dezember!$K$45 -> 0
E24: Urlaub genommen | F24: =SUM(F12:F23) -> 0
A25: Jahr | B25: =SUM(B12:B24) -> 0 | C25: =SUM(C12:C24) -> 0 | E25: Urlaubsanspruch | H25: Krankheitstage | I25: =SUM(I12:I24) -> 0
A26: Vorjahr | E26: Resturlaub Vorjahr
A27: Gesamt | C27: =SUM(C25:C26) -> 0 | E27: Urlaubsanspruch | F27: =F25+F26-F24 -> 0

Sheet Januar
A1: =A8 -> 42005 | L1: Nacht | M1: Nacht Feiertag | N1: Nachtvor Feiertag | O1: Nacht Sonntag | P1: Nachtvor Sonntag | R1: 20-0
A3: Filiale: | B3: =Gesamt!$B$5 -> 0 | F3: Firma: | G3: =Gesamt!$G$5 -> 0
A5: Name: | B5: =Gesamt!$B$3 -> 0
A7: Datum | B7: Tag | C7: Tätigkeit | D7: von | E7: bis | F7: Stunden | G7: Ab 2000Ab 2000Ab 2000 | H7: Sonntag | I7: Feiertag | J7: Urlaub | K7: Krank
A8: 42005 | B8: Donnerstag | F8: =IF(K8="X",Gesamt!$C$8,IF(J8="X",Gesamt!$C$9,IF(IF(E8<D8,E8+(24-D8),E8-D8)>0,IF(E8<D8,E8+(24-D8),E8-D8),""))) | G8: =IF(SUM(L8:P8)=0,"",SUM(L8:P8)) | H8: =IF(D8="","",IF(Q8=0,IF(B8="Sonntag",IF(D8>E8,24-D8,E8-D8),IF(AND(B8="Samstag",Q9=0),IF(D8>E8,E8,""),"")),IF(AND(B8="Samstag",Q9=0),IF(D8>E8,E8,""),""))) | I8: =IF(D8="","",IF(AND(Q8=1,Q9=1),IF(D8>E8,24-D8+E8,E8-D8),IF(Q8=1,IF(D8>E8,24-D8,E8-D8),IF(AND(Q9=1,D8>E8),E8,"")))) | J8: =IF(C8="Urlaub","X","") | K8: =IF(C8="Krank","X","") | L8: =IF(OR(Q8=1,Q9=1,B8="Sonntag",B9="Sonntag"),"",SUM(R8:W8)) -> 0 | M8: =IF(B8="Sonntag","",IF(AND(Q8=1,D8>E8),SUM(U8:W8),"")) | N8: =IF(OR(AND(Q8=1,Q9=1),AND(Q9=1,B8="Sonntag")),"",IF(Q9=1,SUM(R8:T8),"")) | O8: =IF(Q9=1,"",IF(AND(B8="Sonntag",D8>E8,Q8=0),SUM(U8:W8),"")) | P8: =IF(OR(Q8=1,Q9=1),"",IF(B9="Sonntag",SUM(R8:W8),"")) | Q8: =OR(Feiertage!$B$1=A8,Feiertage!$B$2=A8,Feiertage!$B$3=A8,Feiertage!$B$4=A8,Feiertage!$B$5=A8,Feiertage!$B$6=A8,Feiertage!$B$7=A8,Feiertage!$B$8=A8,Feiertage!$B$9=A8) -> FALSE | R8: =IF(AND(D8>E8,D8<20),4,"") | S8: =IF(AND(D8>E8,D8>=20),24-D8,"") | T8: =IF(AND(D8<E8,E8>=20),E8-20,"") | U8: =IF(AND(D8>E8,E8>=6),6,"") | V8: =IF(AND(D8>E8,E8<6),E8,"") | W8: =IF(AND(D8<E8,E8>=6,D8<=6),6-D8,"") | X8: =IF(AND(D8<E8,E8<6),6-E8,"") | Y8: Mon. bis Fr.
A9: 42006 | B9: Freitag | F9: =IF(K9="X",Gesamt!$C$8,IF(J9="X",Gesamt!$C$9,IF(IF(E9<D9,E9+(24-D9),E9-D9)>0,IF(E9<D9,E9+(24-D9),E9-D9),""))) | G9: =IF(SUM(L9:P9)=0,"",SUM(L9:P9)) | H9: =IF(D9="","",IF(Q9=0,IF(B9="Sonntag",IF(D9>E9,24-D9,E9-D9),IF(AND(B9="Samstag",Q10=0),IF(D9>E9,E9,""),"")),IF(AND(B9="Samstag",Q10=0),IF(D9>E9,E9,""),""))) | I9: =IF(D9="","",IF(AND(Q9=1,Q10=1),IF(D9>E9,24-D9+E9,E9-D9),IF(Q9=1,IF(D9>E9,24-D9,E9-D9),IF(AND(Q10=1,D9>E9),E9,"")))) | J9: =IF(C9="Urlaub","X","") | K9: =IF(C9="Krank","X","") | L9: =IF(OR(Q9=1,Q10=1,B9="Sonntag",B10="Sonntag"),"",SUM(R9:W9)) -> 0 | M9: =IF(B9="Sonntag","",IF(AND(Q9=1,D9>E9),SUM(U9:W9),"")) | N9: =IF(OR(AND(Q9=1,Q10=1),AND(Q10=1,B9="Sonntag")),"",IF(Q10=1,SUM(R9:T9),"")) | O9: =IF(Q10=1,"",IF(AND(B9="Sonntag",D9>E9,Q9=0),SUM(U9:W9),"")) | P9: =IF(OR(Q9=1,Q10=1),"",IF(B10="Sonntag",SUM(R9:W9),"")) | Q9: =OR(Feiertage!$B$1=A9,Feiertage!$B$2=A9,Feiertage!$B$3=A9,Feiertage!$B$4=A9,Feiertage!$B$5=A9,Feiertage!$B$6=A9,Feiertage!$B$7=A9,Feiertage!$B$8=A9,Feiertage!$B$9=A9) -> FALSE | R9: =IF(AND(D9>E9,D9<20),4,"") | S9: =IF(AND(D9>E9,D9>=20),24-D9,"") | T9: =IF(AND(D9<E9,E9>=20),E9-20,"") | U9: =IF(AND(D9>E9,E9>=6),6,"") | V9: =IF(AND(D9>E9,E9<6),E9,"") | W9: =IF(AND(D9<E9,E9>=6,D9<=6),6-D9,"") | X9: =IF(AND(D9<E9,E9<6),6-E9,"") | Y9: Mon. bis Fr.
A10: 42007 | B10: Samstag | F10: =IF(K10="X",Gesamt!$C$8,IF(J10="X",Gesamt!$C$9,IF(IF(E10<D10,E10+(24-D10),E10-D10)>0,IF(E10<D10,E10+(24-D10),E10-D10),""))) | G10: =IF(SUM(L10:P10)=0,"",SUM(L10:P10)) | H10: =IF(D10="","",IF(Q10=0,IF(B10="Sonntag",IF(D10>E10,24-D10,E10-D10),IF(AND(B10="Samstag",Q11=0),IF(D10>E10,E10,""),"")),IF(AND(B10="Samstag",Q11=0),IF(D10>E10,E10,""),""))) | I10: =IF(D10="","",IF(AND(Q10=1,Q11=1),IF(D10>E10,24-D10+E10,E10-D10),IF(Q10=1,IF(D10>E10,24-D10,E10-D10),IF(AND(Q11=1,D10>E10),E10,"")))) | J10: =IF(C10="Urlaub","X","") | K10: =IF(C10="Krank","X","") | L10: =IF(OR(Q10=1,Q11=1,B10="Sonntag",B11="Sonntag"),"",SUM(R10:X10)) | M10: =IF(B10="Sonntag","",IF(AND(Q10=1,D10>E10),SUM(U10:X10),"")) | N10: =IF(AND(Q10=1,Q11=1),"",IF(Q11=1,SUM(R10:T10),"")) | O10: =IF(Q11=1,"",IF(AND(B10="Sonntag",D10>E10,Q10=0),SUM(U10:X10),"")) | P10: =IF(OR(Q10=1,Q11=1),"",IF(B11="Sonntag",SUM(R10:T10),"")) -> 0 | Q10: =OR(Feiertage!$B$1=A10,Feiertage!$B$2=A10,Feiertage!$B$3=A10,Feiertage!$B$4=A10,Feiertage!$B$5=A10,Feiertage!$B$6=A10,Feiertage!$B$7=A10,Feiertage!$B$8=A10,Feiertage!$B$9=A10) -> FALSE | R10: =IF(AND(D10>E10,D10<20),4,IF(AND(D10<E10,D10<=6),6-D10,"")) | S10: =IF(AND(D10>E10,D10>=20),24-D10,"") | T10: =IF(AND(D10<E10,E10>=20),E10-20,"") | U10: =IF(AND(D10>E10,E10>=6),6,"") | V10: =IF(AND(D10>E10,E10<6),E10,"") | W10: =IF(AND(D10<E10,E10>=6,D10<=6),6-D10,"") | X10: =IF(AND(D10<E10,E10<6),6-E10,"") | Y10: Samstag
A11: 42008 | B11: Sonntag | F11: =IF(K11="X",Gesamt!$C$8,IF(J11="X",Gesamt!$C$9,IF(IF(E11<D11,E11+(24-D11),E11-D11)>0,IF(E11<D11,E11+(24-D11),E11-D11),""))) | G11: =IF(SUM(L11:P11)=0,"",SUM(L11:P11)) | H11: =IF(D11="","",IF(Q11=0,IF(B11="Sonntag",IF(D11>E11,24-D11,E11-D11),IF(AND(B11="Samstag",Q12=0),IF(D11>E11,E11,""),"")),IF(AND(B11="Samstag",Q12=0),IF(D11>E11,E11,""),""))) | I11: =IF(D11="","",IF(AND(Q11=1,Q12=1),IF(D11>E11,24-D11+E11,E11-D11),IF(Q11=1,IF(D11>E11,24-D11,E11-D11),IF(AND(Q12=1,D11>E11),E11,"")))) | J11: =IF(C11="Urlaub","X","") | K11: =IF(C11="Krank","X","") | L11: =IF(OR(Q11=1,Q12=1,B11="Sonntag",B12="Sonntag"),"",SUM(R11:X11)) | M11: =IF(B12="Sonntag","",IF(AND(Q11=1,D11>E11),SUM(U11:X11),"")) | N11: =IF(AND(Q11=1,Q13=1),"",IF(Q12=1,SUM(R11:T11),"")) | O11: =IF(Q13=1,"",IF(AND(B11="Sonntag",D11>E11,Q11=0),SUM(U11:X11),"")) | P11: =IF(OR(Q11=1,Q13=1),"",IF(B12="Sonntag",SUM(R11:T11),"")) | Q11: =OR(Feiertage!$B$1=A11,Feiertage!$B$2=A11,Feiertage!$B$3=A11,Feiertage!$B$4=A11,Feiertage!$B$5=A11,Feiertage!$B$6=A11,Feiertage!$B$7=A11,Feiertage!$B$8=A11,Feiertage!$B$9=A11) -> FALSE | R11: =IF(AND(D11>E11,D11<20),4,"") | S11: =IF(AND(D11>E11,D11>=20),24-D11,"") | T11: =IF(AND(D11<E11,E11>=20),E11-20,"") | U11: =IF(AND(D11>E11,E11>=6),6,"") | V11: =IF(AND(D11>E11,E11<6),E11,"") | W11: =IF(AND(D11<E11,E11>=6,D11<=6),6-D11,"") | X11: =IF(AND(D11<E11,E11<6),E11-D11,"") | Y11: Sonntag
D12: Gesamt: | F12: =SUM(F7:F11) -> 0 | G12: =SUM(G7:G11) -> 0 | H12: =SUM(H7:H11) -> 0 | I12: =SUM(I7:I11) -> 0 | J12: =COUNTIF(J7:J11,"X") -> 0 | K12: =COUNTIF(K7:K11,"X") -> 0
A13: 42009 | B13: Montag | F13: =IF(K13="X",Gesamt!$C$8,IF(J13="X",Gesamt!$C$9,IF(IF(E13<D13,E13+(24-D13),E13-D13)>0,IF(E13<D13,E13+(24-D13),E13-D13),""))) | G13: =IF(SUM(L13:P13)=0,"",SUM(L13:P13)) | H13: =IF(D13="","",IF(Q13=0,IF(B13="Sonntag",IF(D13>E13,24-D13,E13-D13),IF(AND(B13="Samstag",Q14=0),IF(D13>E13,E13,""),"")),IF(AND(B13="Samstag",Q14=0),IF(D13>E13,E13,""),""))) | I13: =IF(D13="","",IF(AND(Q13=1,Q14=1),IF(D13>E13,24-D13+E13,E13-D13),IF(Q13=1,IF(D13>E13,24-D13,E13-D13),IF(AND(Q14=1,D13>E13),E13,"")))) | J13: =IF(C13="Urlaub","X","") | K13: =IF(C13="Krank","X","") | L13: =IF(OR(Q13=1,Q14=1,B13="Sonntag",B14="Sonntag"),"",SUM(R13:W13)) -> 0 | M13: =IF(B13="Sonntag","",IF(AND(Q13=1,D13>E13),SUM(U13:W13),"")) | N13: =IF(OR(AND(Q13=1,Q14=1),AND(Q14=1,B13="Sonntag")),"",IF(Q14=1,SUM(R13:T13),"")) | O13: =IF(Q14=1,"",IF(AND(B13="Sonntag",D13>E13,Q13=0),SUM(U13:W13),"")) | P13: =IF(OR(Q13=1,Q14=1),"",IF(B14="Sonntag",SUM(R13:W13),"")) | Q13: =OR(Feiertage!$B$1=A13,Feiertage!$B$2=A13,Feiertage!$B$3=A13,Feiertage!$B$4=A13,Feiertage!$B$5=A13,Feiertage!$B$6=A13,Feiertage!$B$7=A13,Feiertage!$B$8=A13,Feiertage!$B$9=A13) -> FALSE | R13: =IF(AND(D13>E13,D13<20),4,"") | S13: =IF(AND(D13>E13,D13>=20),24-D13,"") | T13: =IF(AND(D13<E13,E13>=20),E13-20,"") | U13: =IF(AND(D13>E13,E13>=6),6,"") | V13: =IF(AND(D13>E13,E13<6),E13,"") | W13: =IF(AND(D13<E13,E13>=6,D13<=6),6-D13,"") | X13: =IF(AND(D13<E13,E13<6),6-E13,"") | Y13: Mon. bis Fr.
A14: 42010 | B14: Dienstag | F14: =IF(K14="X",Gesamt!$C$8,IF(J14="X",Gesamt!$C$9,IF(IF(E14<D14,E14+(24-D14),E14-D14)>0,IF(E14<D14,E14+(24-D14),E14-D14),""))) | G14: =IF(SUM(L14:P14)=0,"",SUM(L14:P14)) | H14: =IF(D14="","",IF(Q14=0,IF(B14="Sonntag",IF(D14>E14,24-D14,E14-D14),IF(AND(B14="Samstag",Q15=0),IF(D14>E14,E14,""),"")),IF(AND(B14="Samstag",Q15=0),IF(D14>E14,E14,""),""))) | I14: =IF(D14="","",IF(AND(Q14=1,Q15=1),IF(D14>E14,24-D14+E14,E14-D14),IF(Q14=1,IF(D14>E14,24-D14,E14-D14),IF(AND(Q15=1,D14>E14),E14,"")))) | J14: =IF(C14="Urlaub","X","") | K14: =IF(C14="Krank","X","") | L14: =IF(OR(Q14=1,Q15=1,B14="Sonntag",B15="Sonntag"),"",SUM(R14:W14)) -> 0 | M14: =IF(B14="Sonntag","",IF(AND(Q14=1,D14>E14),SUM(U14:W14),"")) | N14: =IF(OR(AND(Q14=1,Q15=1),AND(Q15=1,B14="Sonntag")),"",IF(Q15=1,SUM(R14:T14),"")) | O14: =IF(Q15=1,"",IF(AND(B14="Sonntag",D14>E14,Q14=0),SUM(U14:W14),"")) | P14: =IF(OR(Q14=1,Q15=1),"",IF(B15="Sonntag",SUM(R14:W14),"")) | Q14: =OR(Feiertage!$B$1=A14,Feiertage!$B$2=A14,Feiertage!$B$3=A14,Feiertage!$B$4=A14,Feiertage!$B$5=A14,Feiertage!$B$6=A14,Feiertage!$B$7=A14,Feiertage!$B$8=A14,Feiertage!$B$9=A14) -> FALSE | R14: =IF(AND(D14>E14,D14<20),4,"") | S14: =IF(AND(D14>E14,D14>=20),24-D14,"") | T14: =IF(AND(D14<E14,E14>=20),E14-20,"") | U14: =IF(AND(D14>E14,E14>=6),6,"") | V14: =IF(AND(D14>E14,E14<6),E14,"") | W14: =IF(AND(D14<E14,E14>=6,D14<=6),6-D14,"") | X14: =IF(AND(D14<E14,E14<6),6-E14,"") | Y14: Mon. bis Fr.
A15: 42011 | B15: Mittwoch | F15: =IF(K15="X",Gesamt!$C$8,IF(J15="X",Gesamt!$C$9,IF(IF(E15<D15,E15+(24-D15),E15-D15)>0,IF(E15<D15,E15+(24-D15),E15-D15),""))) | G15: =IF(SUM(L15:P15)=0,"",SUM(L15:P15)) | H15: =IF(D15="","",IF(Q15=0,IF(B15="Sonntag",IF(D15>E15,24-D15,E15-D15),IF(AND(B15="Samstag",Q16=0),IF(D15>E15,E15,""),"")),IF(AND(B15="Samstag",Q16=0),IF(D15>E15,E15,""),""))) | I15: =IF(D15="","",IF(AND(Q15=1,Q16=1),IF(D15>E15,24-D15+E15,E15-D15),IF(Q15=1,IF(D15>E15,24-D15,E15-D15),IF(AND(Q16=1,D15>E15),E15,"")))) | J15: =IF(C15="Urlaub","X","") | K15: =IF(C15="Krank","X","") | L15: =IF(OR(Q15=1,Q16=1,B15="Sonntag",B16="Sonntag"),"",SUM(R15:W15)) -> 0 | M15: =IF(B15="Sonntag","",IF(AND(Q15=1,D15>E15),SUM(U15:W15),"")) | N15: =IF(OR(AND(Q15=1,Q16=1),AND(Q16=1,B15="Sonntag")),"",IF(Q16=1,SUM(R15:T15),"")) | O15: =IF(Q16=1,"",IF(AND(B15="Sonntag",D15>E15,Q15=0),SUM(U15:W15),"")) | P15: =IF(OR(Q15=1,Q16=1),"",IF(B16="Sonntag",SUM(R15:W15),"")) | Q15: =OR(Feiertage!$B$1=A15,Feiertage!$B$2=A15,Feiertage!$B$3=A15,Feiertage!$B$4=A15,Feiertage!$B$5=A15,Feiertage!$B$6=A15,Feiertage!$B$7=A15,Feiertage!$B$8=A15,Feiertage!$B$9=A15) -> FALSE | R15: =IF(AND(D15>E15,D15<20),4,"") | S15: =IF(AND(D15>E15,D15>=20),24-D15,"") | T15: =IF(AND(D15<E15,E15>=20),E15-20,"") | U15: =IF(AND(D15>E15,E15>=6),6,"") | V15: =IF(AND(D15>E15,E15<6),E15,"") | W15: =IF(AND(D15<E15,E15>=6,D15<=6),6-D15,"") | X15: =IF(AND(D15<E15,E15<6),6-E15,"") | Y15: Mon. bis Fr.
A16: 42012 | B16: Donnerstag | F16: =IF(K16="X",Gesamt!$C$8,IF(J16="X",Gesamt!$C$9,IF(IF(E16<D16,E16+(24-D16),E16-D16)>0,IF(E16<D16,E16+(24-D16),E16-D16),""))) | G16: =IF(SUM(L16:P16)=0,"",SUM(L16:P16)) | H16: =IF(D16="","",IF(Q16=0,IF(B16="Sonntag",IF(D16>E16,24-D16,E16-D16),IF(AND(B16="Samstag",Q17=0),IF(D16>E16,E16,""),"")),IF(AND(B16="Samstag",Q17=0),IF(D16>E16,E16,""),""))) | I16: =IF(D16="","",IF(AND(Q16=1,Q17=1),IF(D16>E16,24-D16+E16,E16-D16),IF(Q16=1,IF(D16>E16,24-D16,E16-D16),IF(AND(Q17=1,D16>E16),E16,"")))) | J16: =IF(C16="Urlaub","X","") | K16: =IF(C16="Krank","X","") | L16: =IF(OR(Q16=1,Q17=1,B16="Sonntag",B17="Sonntag"),"",SUM(R16:W16)) -> 0 | M16: =IF(B16="Sonntag","",IF(AND(Q16=1,D16>E16),SUM(U16:W16),"")) | N16: =IF(OR(AND(Q16=1,Q17=1),AND(Q17=1,B16="Sonntag")),"",IF(Q17=1,SUM(R16:T16),"")) | O16: =IF(Q17=1,"",IF(AND(B16="Sonntag",D16>E16,Q16=0),SUM(U16:W16),"")) | P16: =IF(OR(Q16=1,Q17=1),"",IF(B17="Sonntag",SUM(R16:W16),"")) | Q16: =OR(Feiertage!$B$1=A16,Feiertage!$B$2=A16,Feiertage!$B$3=A16,Feiertage!$B$4=A16,Feiertage!$B$5=A16,Feiertage!$B$6=A16,Feiertage!$B$7=A16,Feiertage!$B$8=A16,Feiertage!$B$9=A16) -> FALSE | R16: =IF(AND(D16>E16,D16<20),4,"") | S16: =IF(AND(D16>E16,D16>=20),24-D16,"") | T16: =IF(AND(D16<E16,E16>=20),E16-20,"") | U16: =IF(AND(D16>E16,E16>=6),6,"") | V16: =IF(AND(D16>E16,E16<6),E16,"") | W16: =IF(AND(D16<E16,E16>=6,D16<=6),6-D16,"") | X16: =IF(AND(D16<E16,E16<6),6-E16,"") | Y16: Mon. bis Fr.
A17: 42013 | B17: Freitag | F17: =IF(K17="X",Gesamt!$C$8,IF(J17="X",Gesamt!$C$9,IF(IF(E17<D17,E17+(24-D17),E17-D17)>0,IF(E17<D17,E17+(24-D17),E17-D17),""))) | G17: =IF(SUM(L17:P17)=0,"",SUM(L17:P17)) | H17: =IF(D17="","",IF(Q17=0,IF(B17="Sonntag",IF(D17>E17,24-D17,E17-D17),IF(AND(B17="Samstag",Q18=0),IF(D17>E17,E17,""),"")),IF(AND(B17="Samstag",Q18=0),IF(D17>E17,E17,""),""))) | I17: =IF(D17="","",IF(AND(Q17=1,Q18=1),IF(D17>E17,24-D17+E17,E17-D17),IF(Q17=1,IF(D17>E17,24-D17,E17-D17),IF(AND(Q18=1,D17>E17),E17,"")))) | J17: =IF(C17="Urlaub","X","") | K17: =IF(C17="Krank","X","") | L17: =IF(OR(Q17=1,Q18=1,B17="Sonntag",B18="Sonntag"),"",SUM(R17:W17)) -> 0 | M17: =IF(B17="Sonntag","",IF(AND(Q17=1,D17>E17),SUM(U17:W17),"")) | N17: =IF(OR(AND(Q17=1,Q18=1),AND(Q18=1,B17="Sonntag")),"",IF(Q18=1,SUM(R17:T17),"")) | O17: =IF(Q18=1,"",IF(AND(B17="Sonntag",D17>E17,Q17=0),SUM(U17:W17),"")) | P17: =IF(OR(Q17=1,Q18=1),"",IF(B18="Sonntag",SUM(R17:W17),"")) | Q17: =OR(Feiertage!$B$1=A17,Feiertage!$B$2=A17,Feiertage!$B$3=A17,Feiertage!$B$4=A17,Feiertage!$B$5=A17,Feiertage!$B$6=A17,Feiertage!$B$7=A17,Feiertage!$B$8=A17,Feiertage!$B$9=A17) -> FALSE | R17: =IF(AND(D17>E17,D17<20),4,"") | S17: =IF(AND(D17>E17,D17>=20),24-D17,"") | T17: =IF(AND(D17<E17,E17>=20),E17-20,"") | U17: =IF(AND(D17>E17,E17>=6),6,"") | V17: =IF(AND(D17>E17,E17<6),E17,"") | W17: =IF(AND(D17<E17,E17>=6,D17<=6),6-D17,"") | X17: =IF(AND(D17<E17,E17<6),6-E17,"") | Y17: Mon. bis Fr.
A18: 42014 | B18: Samstag | F18: =IF(K18="X",Gesamt!$C$8,IF(J18="X",Gesamt!$C$9,IF(IF(E18<D18,E18+(24-D18),E18-D18)>0,IF(E18<D18,E18+(24-D18),E18-D18),""))) | G18: =IF(SUM(L18:P18)=0,"",SUM(L18:P18)) | H18: =IF(D18="","",IF(Q18=0,IF(B18="Sonntag",IF(D18>E18,24-D18,E18-D18),IF(AND(B18="Samstag",Q19=0),IF(D18>E18,E18,""),"")),IF(AND(B18="Samstag",Q19=0),IF(D18>E18,E18,""),""))) | I18: =IF(D18="","",IF(AND(Q18=1,Q19=1),IF(D18>E18,24-D18+E18,E18-D18),IF(Q18=1,IF(D18>E18,24-D18,E18-D18),IF(AND(Q19=1,D18>E18),E18,"")))) | J18: =IF(C18="Urlaub","X","") | K18: =IF(C18="Krank","X","") | L18: =IF(OR(Q18=1,Q19=1,B18="Sonntag",B19="Sonntag"),"",SUM(R18:X18)) | M18: =IF(B18="Sonntag","",IF(AND(Q18=1,D18>E18),SUM(U18:X18),"")) | N18: =IF(AND(Q18=1,Q19=1),"",IF(Q19=1,SUM(R18:T18),"")) | O18: =IF(Q19=1,"",IF(AND(B18="Sonntag",D18>E18,Q18=0),SUM(U18:X18),"")) | P18: =IF(OR(Q18=1,Q19=1),"",IF(B19="Sonntag",SUM(R18:T18),"")) -> 0 | Q18: =OR(Feiertage!$B$1=A18,Feiertage!$B$2=A18,Feiertage!$B$3=A18,Feiertage!$B$4=A18,Feiertage!$B$5=A18,Feiertage!$B$6=A18,Feiertage!$B$7=A18,Feiertage!$B$8=A18,Feiertage!$B$9=A18) -> FALSE | R18: =IF(AND(D18>E18,D18<20),4,IF(AND(D18<E18,D18<=6),6-D18,"")) | S18: =IF(AND(D18>E18,D18>=20),24-D18,"") | T18: =IF(AND(D18<E18,E18>=20),E18-20,"") | U18: =IF(AND(D18>E18,E18>=6),6,"") | V18: =IF(AND(D18>E18,E18<6),E18,"") | W18: =IF(AND(D18<E18,E18>=6,D18<=6),6-D18,"") | X18: =IF(AND(D18<E18,E18<6),6-E18,"") | Y18: Samstag
A19: 42015 | B19: Sonntag | F19: =IF(K19="X",Gesamt!$C$8,IF(J19="X",Gesamt!$C$9,IF(IF(E19<D19,E19+(24-D19),E19-D19)>0,IF(E19<D19,E19+(24-D19),E19-D19),""))) | G19: =IF(SUM(L19:P19)=0,"",SUM(L19:P19)) | H19: =IF(D19="","",IF(Q19=0,IF(B19="Sonntag",IF(D19>E19,24-D19,E19-D19),IF(AND(B19="Samstag",Q20=0),IF(D19>E19,E19,""),"")),IF(AND(B19="Samstag",Q20=0),IF(D19>E19,E19,""),""))) | I19: =IF(D19="","",IF(AND(Q19=1,Q20=1),IF(D19>E19,24-D19+E19,E19-D19),IF(Q19=1,IF(D19>E19,24-D19,E19-D19),IF(AND(Q20=1,D19>E19),E19,"")))) | J19: =IF(C19="Urlaub","X","") | K19: =IF(C19="Krank","X","") | L19: =IF(OR(Q19=1,Q20=1,B19="Sonntag",B20="Sonntag"),"",SUM(R19:X19)) | M19: =IF(B20="Sonntag","",IF(AND(Q19=1,D19>E19),SUM(U19:X19),"")) | N19: =IF(AND(Q19=1,Q21=1),"",IF(Q20=1,SUM(R19:T19),"")) | O19: =IF(Q21=1,"",IF(AND(B19="Sonntag",D19>E19,Q19=0),SUM(U19:X19),"")) | P19: =IF(OR(Q19=1,Q21=1),"",IF(B20="Sonntag",SUM(R19:T19),"")) | Q19: =OR(Feiertage!$B$1=A19,Feiertage!$B$2=A19,Feiertage!$B$3=A19,Feiertage!$B$4=A19,Feiertage!$B$5=A19,Feiertage!$B$6=A19,Feiertage!$B$7=A19,Feiertage!$B$8=A19,Feiertage!$B$9=A19) -> FALSE | R19: =IF(AND(D19>E19,D19<20),4,"") | S19: =IF(AND(D19>E19,D19>=20),24-D19,"") | T19: =IF(AND(D19<E19,E19>=20),E19-20,"") | U19: =IF(AND(D19>E19,E19>=6),6,"") | V19: =IF(AND(D19>E19,E19<6),E19,"") | W19: =IF(AND(D19<E19,E19>=6,D19<=6),6-D19,"") | X19: =IF(AND(D19<E19,E19<6),E19-D19,"") | Y19: Sonntag
D20: Gesamt: | F20: =SUM(F13:F19) -> 0 | G20: =SUM(G13:G19) -> 0 | H20: =SUM(H13:H19) -> 0 | I20: =SUM(I13:I19) -> 0 | J20: =COUNTIF(J13:J19,"X") -> 0 | K20: =COUNTIF(K13:K19,"X") -> 0
A21: 42016 | B21: Montag | F21: =IF(K21="X",Gesamt!$C$8,IF(J21="X",Gesamt!$C$9,IF(IF(E21<D21,E21+(24-D21),E21-D21)>0,IF(E21<D21,E21+(24-D21),E21-D21),""))) | G21: =IF(SUM(L21:P21)=0,"",SUM(L21:P21)) | H21: =IF(D21="","",IF(Q21=0,IF(B21="Sonntag",IF(D21>E21,24-D21,E21-D21),IF(AND(B21="Samstag",Q22=0),IF(D21>E21,E21,""),"")),IF(AND(B21="Samstag",Q22=0),IF(D21>E21,E21,""),""))) | I21: =IF(D21="","",IF(AND(Q21=1,Q22=1),IF(D21>E21,24-D21+E21,E21-D21),IF(Q21=1,IF(D21>E21,24-D21,E21-D21),IF(AND(Q22=1,D21>E21),E21,"")))) | J21: =IF(C21="Urlaub","X","") | K21: =IF(C21="Krank","X","") | L21: =IF(OR(Q21=1,Q22=1,B21="Sonntag",B22="Sonntag"),"",SUM(R21:W21)) -> 0 | M21: =IF(B21="Sonntag","",IF(AND(Q21=1,D21>E21),SUM(U21:W21),"")) | N21: =IF(OR(AND(Q21=1,Q22=1),AND(Q22=1,B21="Sonntag")),"",IF(Q22=1,SUM(R21:T21),"")) | O21: =IF(Q22=1,"",IF(AND(B21="Sonntag",D21>E21,Q21=0),SUM(U21:W21),"")) | P21: =IF(OR(Q21=1,Q22=1),"",IF(B22="Sonntag",SUM(R21:W21),"")) | Q21: =OR(Feiertage!$B$1=A21,Feiertage!$B$2=A21,Feiertage!$B$3=A21,Feiertage!$B$4=A21,Feiertage!$B$5=A21,Feiertage!$B$6=A21,Feiertage!$B$7=A21,Feiertage!$B$8=A21,Feiertage!$B$9=A21) -> FALSE | R21: =IF(AND(D21>E21,D21<20),4,"") | S21: =IF(AND(D21>E21,D21>=20),24-D21,"") | T21: =IF(AND(D21<E21,E21>=20),E21-20,"") | U21: =IF(AND(D21>E21,E21>=6),6,"") | V21: =IF(AND(D21>E21,E21<6),E21,"") | W21: =IF(AND(D21<E21,E21>=6,D21<=6),6-D21,"") | X21: =IF(AND(D21<E21,E21<6),6-E21,"") | Y21: Mon. bis Fr.
A22: 42017 | B22: Dienstag | F22: =IF(K22="X",Gesamt!$C$8,IF(J22="X",Gesamt!$C$9,IF(IF(E22<D22,E22+(24-D22),E22-D22)>0,IF(E22<D22,E22+(24-D22),E22-D22),""))) | G22: =IF(SUM(L22:P22)=0,"",SUM(L22:P22)) | H22: =IF(D22="","",IF(Q22=0,IF(B22="Sonntag",IF(D22>E22,24-D22,E22-D22),IF(AND(B22="Samstag",Q23=0),IF(D22>E22,E22,""),"")),IF(AND(B22="Samstag",Q23=0),IF(D22>E22,E22,""),""))) | I22: =IF(D22="","",IF(AND(Q22=1,Q23=1),IF(D22>E22,24-D22+E22,E22-D22),IF(Q22=1,IF(D22>E22,24-D22,E22-D22),IF(AND(Q23=1,D22>E22),E22,"")))) | J22: =IF(C22="Urlaub","X","") | K22: =IF(C22="Krank","X","") | L22: =IF(OR(Q22=1,Q23=1,B22="Sonntag",B23="Sonntag"),"",SUM(R22:W22)) -> 0 | M22: =IF(B22="Sonntag","",IF(AND(Q22=1,D22>E22),SUM(U22:W22),"")) | N22: =IF(OR(AND(Q22=1,Q23=1),AND(Q23=1,B22="Sonntag")),"",IF(Q23=1,SUM(R22:T22),"")) | O22: =IF(Q23=1,"",IF(AND(B22="Sonntag",D22>E22,Q22=0),SUM(U22:W22),"")) | P22: =IF(OR(Q22=1,Q23=1),"",IF(B23="Sonntag",SUM(R22:W22),"")) | Q22: =OR(Feiertage!$B$1=A22,Feiertage!$B$2=A22,Feiertage!$B$3=A22,Feiertage!$B$4=A22,Feiertage!$B$5=A22,Feiertage!$B$6=A22,Feiertage!$B$7=A22,Feiertage!$B$8=A22,Feiertage!$B$9=A22) -> FALSE | R22: =IF(AND(D22>E22,D22<20),4,"") | S22: =IF(AND(D22>E22,D22>=20),24-D22,"") | T22: =IF(AND(D22<E22,E22>=20),E22-20,"") | U22: =IF(AND(D22>E22,E22>=6),6,"") | V22: =IF(AND(D22>E22,E22<6),E22,"") | W22: =IF(AND(D22<E22,E22>=6,D22<=6),6-D22,"") | X22: =IF(AND(D22<E22,E22<6),6-E22,"") | Y22: Mon. bis Fr.
A23: 42018 | B23: Mittwoch | F23: =IF(K23="X",Gesamt!$C$8,IF(J23="X",Gesamt!$C$9,IF(IF(E23<D23,E23+(24-D23),E23-D23)>0,IF(E23<D23,E23+(24-D23),E23-D23),""))) | G23: =IF(SUM(L23:P23)=0,"",SUM(L23:P23)) | H23: =IF(D23="","",IF(Q23=0,IF(B23="Sonntag",IF(D23>E23,24-D23,E23-D23),IF(AND(B23="Samstag",Q24=0),IF(D23>E23,E23,""),"")),IF(AND(B23="Samstag",Q24=0),IF(D23>E23,E23,""),""))) | I23: =IF(D23="","",IF(AND(Q23=1,Q24=1),IF(D23>E23,24-D23+E23,E23-D23),IF(Q23=1,IF(D23>E23,24-D23,E23-D23),IF(AND(Q24=1,D23>E23),E23,"")))) | J23: =IF(C23="Urlaub","X","") | K23: =IF(C23="Krank","X","") | L23: =IF(OR(Q23=1,Q24=1,B23="Sonntag",B24="Sonntag"),"",SUM(R23:W23)) -> 0 | M23: =IF(B23="Sonntag","",IF(AND(Q23=1,D23>E23),SUM(U23:W23),"")) | N23: =IF(OR(AND(Q23=1,Q24=1),AND(Q24=1,B23="Sonntag")),"",IF(Q24=1,SUM(R23:T23),"")) | O23: =IF(Q24=1,"",IF(AND(B23="Sonntag",D23>E23,Q23=0),SUM(U23:W23),"")) | P23: =IF(OR(Q23=1,Q24=1),"",IF(B24="Sonntag",SUM(R23:W23),"")) | Q23: =OR(Feiertage!$B$1=A23,Feiertage!$B$2=A23,Feiertage!$B$3=A23,Feiertage!$B$4=A23,Feiertage!$B$5=A23,Feiertage!$B$6=A23,Feiertage!$B$7=A23,Feiertage!$B$8=A23,Feiertage!$B$9=A23) -> FALSE | R23: =IF(AND(D23>E23,D23<20),4,"") | S23: =IF(AND(D23>E23,D23>=20),24-D23,"") | T23: =IF(AND(D23<E23,E23>=20),E23-20,"") | U23: =IF(AND(D23>E23,E23>=6),6,"") | V23: =IF(AND(D23>E23,E23<6),E23,"") | W23: =IF(AND(D23<E23,E23>=6,D23<=6),6-D23,"") | X23: =IF(AND(D23<E23,E23<6),6-E23,"") | Y23: Mon. bis Fr.
A24: 42019 | B24: Donnerstag | F24: =IF(K24="X",Gesamt!$C$8,IF(J24="X",Gesamt!$C$9,IF(IF(E24<D24,E24+(24-D24),E24-D24)>0,IF(E24<D24,E24+(24-D24),E24-D24),""))) | G24: =IF(SUM(L24:P24)=0,"",SUM(L24:P24)) | H24: =IF(D24="","",IF(Q24=0,IF(B24="Sonntag",IF(D24>E24,24-D24,E24-D24),IF(AND(B24="Samstag",Q25=0),IF(D24>E24,E24,""),"")),IF(AND(B24="Samstag",Q25=0),IF(D24>E24,E24,""),""))) | I24: =IF(D24="","",IF(AND(Q24=1,Q25=1),IF(D24>E24,24-D24+E24,E24-D24),IF(Q24=1,IF(D24>E24,24-D24,E24-D24),IF(AND(Q25=1,D24>E24),E24,"")))) | J24: =IF(C24="Urlaub","X","") | K24: =IF(C24="Krank","X","") | L24: =IF(OR(Q24=1,Q25=1,B24="Sonntag",B25="Sonntag"),"",SUM(R24:W24)) -> 0 | M24: =IF(B24="Sonntag","",IF(AND(Q24=1,D24>E24),SUM(U24:W24),"")) | N24: =IF(OR(AND(Q24=1,Q25=1),AND(Q25=1,B24="Sonntag")),"",IF(Q25=1,SUM(R24:T24),"")) | O24: =IF(Q25=1,"",IF(AND(B24="Sonntag",D24>E24,Q24=0),SUM(U24:W24),"")) | P24: =IF(OR(Q24=1,Q25=1),"",IF(B25="Sonntag",SUM(R24:W24),"")) | Q24: =OR(Feiertage!$B$1=A24,Feiertage!$B$2=A24,Feiertage!$B$3=A24,Feiertage!$B$4=A24,Feiertage!$B$5=A24,Feiertage!$B$6=A24,Feiertage!$B$7=A24,Feiertage!$B$8=A24,Feiertage!$B$9=A24) -> FALSE | R24: =IF(AND(D24>E24,D24<20),4,"") | S24: =IF(AND(D24>E24,D24>=20),24-D24,"") | T24: =IF(AND(D24<E24,E24>=20),E24-20,"") | U24: =IF(AND(D24>E24,E24>=6),6,"") | V24: =IF(AND(D24>E24,E24<6),E24,"") | W24: =IF(AND(D24<E24,E24>=6,D24<=6),6-D24,"") | X24: =IF(AND(D24<E24,E24<6),6-E24,"") | Y24: Mon. bis Fr.
A25: 42020 | B25: Freitag | F25: =IF(K25="X",Gesamt!$C$8,IF(J25="X",Gesamt!$C$9,IF(IF(E25<D25,E25+(24-D25),E25-D25)>0,IF(E25<D25,E25+(24-D25),E25-D25),""))) | G25: =IF(SUM(L25:P25)=0,"",SUM(L25:P25)) | H25: =IF(D25="","",IF(Q25=0,IF(B25="Sonntag",IF(D25>E25,24-D25,E25-D25),IF(AND(B25="Samstag",Q26=0),IF(D25>E25,E25,""),"")),IF(AND(B25="Samstag",Q26=0),IF(D25>E25,E25,""),""))) | I25: =IF(D25="","",IF(AND(Q25=1,Q26=1),IF(D25>E25,24-D25+E25,E25-D25),IF(Q25=1,IF(D25>E25,24-D25,E25-D25),IF(AND(Q26=1,D25>E25),E25,"")))) | J25: =IF(C25="Urlaub","X","") | K25: =IF(C25="Krank","X","") | L25: =IF(OR(Q25=1,Q26=1,B25="Sonntag",B26="Sonntag"),"",SUM(R25:W25)) -> 0 | M25: =IF(B25="Sonntag","",IF(AND(Q25=1,D25>E25),SUM(U25:W25),"")) | N25: =IF(OR(AND(Q25=1,Q26=1),AND(Q26=1,B25="Sonntag")),"",IF(Q26=1,SUM(R25:T25),"")) | O25: =IF(Q26=1,"",IF(AND(B25="Sonntag",D25>E25,Q25=0),SUM(U25:W25),"")) | P25: =IF(OR(Q25=1,Q26=1),"",IF(B26="Sonntag",SUM(R25:W25),"")) | Q25: =OR(Feiertage!$B$1=A25,Feiertage!$B$2=A25,Feiertage!$B$3=A25,Feiertage!$B$4=A25,Feiertage!$B$5=A25,Feiertage!$B$6=A25,Feiertage!$B$7=A25,Feiertage!$B$8=A25,Feiertage!$B$9=A25) -> FALSE | R25: =IF(AND(D25>E25,D25<20),4,"") | S25: =IF(AND(D25>E25,D25>=20),24-D25,"") | T25: =IF(AND(D25<E25,E25>=20),E25-20,"") | U25: =IF(AND(D25>E25,E25>=6),6,"") | V25: =IF(AND(D25>E25,E25<6),E25,"") | W25: =IF(AND(D25<E25,E25>=6,D25<=6),6-D25,"") | X25: =IF(AND(D25<E25,E25<6),6-E25,"") | Y25: Mon. bis Fr.
A26: 42021 | B26: Samstag | F26: =IF(K26="X",Gesamt!$C$8,IF(J26="X",Gesamt!$C$9,IF(IF(E26<D26,E26+(24-D26),E26-D26)>0,IF(E26<D26,E26+(24-D26),E26-D26),""))) | G26: =IF(SUM(L26:P26)=0,"",SUM(L26:P26)) | H26: =IF(D26="","",IF(Q26=0,IF(B26="Sonntag",IF(D26>E26,24-D26,E26-D26),IF(AND(B26="Samstag",Q27=0),IF(D26>E26,E26,""),"")),IF(AND(B26="Samstag",Q27=0),IF(D26>E26,E26,""),""))) | I26: =IF(D26="","",IF(AND(Q26=1,Q27=1),IF(D26>E26,24-D26+E26,E26-D26),IF(Q26=1,IF(D26>E26,24-D26,E26-D26),IF(AND(Q27=1,D26>E26),E26,"")))) | J26: =IF(C26="Urlaub","X","") | K26: =IF(C26="Krank","X","") | L26: =IF(OR(Q26=1,Q27=1,B26="Sonntag",B27="Sonntag"),"",SUM(R26:X26)) | M26: =IF(B26="Sonntag","",IF(AND(Q26=1,D26>E26),SUM(U26:X26),"")) | N26: =IF(AND(Q26=1,Q27=1),"",IF(Q27=1,SUM(R26:T26),"")) | O26: =IF(Q27=1,"",IF(AND(B26="Sonntag",D26>E26,Q26=0),SUM(U26:X26),"")) | P26: =IF(OR(Q26=1,Q27=1),"",IF(B27="Sonntag",SUM(R26:T26),"")) -> 0 | Q26: =OR(Feiertage!$B$1=A26,Feiertage!$B$2=A26,Feiertage!$B$3=A26,Feiertage!$B$4=A26,Feiertage!$B$5=A26,Feiertage!$B$6=A26,Feiertage!$B$7=A26,Feiertage!$B$8=A26,Feiertage!$B$9=A26) -> FALSE | R26: =IF(AND(D26>E26,D26<20),4,IF(AND(D26<E26,D26<=6),6-D26,"")) | S26: =IF(AND(D26>E26,D26>=20),24-D26,"") | T26: =IF(AND(D26<E26,E26>=20),E26-20,"") | U26: =IF(AND(D26>E26,E26>=6),6,"") | V26: =IF(AND(D26>E26,E26<6),E26,"") | W26: =IF(AND(D26<E26,E26>=6,D26<=6),6-D26,"") | X26: =IF(AND(D26<E26,E26<6),6-E26,"") | Y26: Samstag
A27: 42022 | B27: Sonntag | F27: =IF(K27="X",Gesamt!$C$8,IF(J27="X",Gesamt!$C$9,IF(IF(E27<D27,E27+(24-D27),E27-D27)>0,IF(E27<D27,E27+(24-D27),E27-D27),""))) | G27: =IF(SUM(L27:P27)=0,"",SUM(L27:P27)) | H27: =IF(D27="","",IF(Q27=0,IF(B27="Sonntag",IF(D27>E27,24-D27,E27-D27),IF(AND(B27="Samstag",Q28=0),IF(D27>E27,E27,""),"")),IF(AND(B27="Samstag",Q28=0),IF(D27>E27,E27,""),""))) | I27: =IF(D27="","",IF(AND(Q27=1,Q28=1),IF(D27>E27,24-D27+E27,E27-D27),IF(Q27=1,IF(D27>E27,24-D27,E27-D27),IF(AND(Q28=1,D27>E27),E27,"")))) | J27: =IF(C27="Urlaub","X","") | K27: =IF(C27="Krank","X","") | L27: =IF(OR(Q27=1,Q28=1,B27="Sonntag",B28="Sonntag"),"",SUM(R27:X27)) | M27: =IF(B28="Sonntag","",IF(AND(Q27=1,D27>E27),SUM(U27:X27),"")) | N27: =IF(AND(Q27=1,Q29=1),"",IF(Q28=1,SUM(R27:T27),"")) | O27: =IF(Q29=1,"",IF(AND(B27="Sonntag",D27>E27,Q27=0),SUM(U27:X27),"")) | P27: =IF(OR(Q27=1,Q29=1),"",IF(B28="Sonntag",SUM(R27:T27),"")) | Q27: =OR(Feiertage!$B$1=A27,Feiertage!$B$2=A27,Feiertage!$B$3=A27,Feiertage!$B$4=A27,Feiertage!$B$5=A27,Feiertage!$B$6=A27,Feiertage!$B$7=A27,Feiertage!$B$8=A27,Feiertage!$B$9=A27) -> FALSE | R27: =IF(AND(D27>E27,D27<20),4,"") | S27: =IF(AND(D27>E27,D27>=20),24-D27,"") | T27: =IF(AND(D27<E27,E27>=20),E27-20,"") | U27: =IF(AND(D27>E27,E27>=6),6,"") | V27: =IF(AND(D27>E27,E27<6),E27,"") | W27: =IF(AND(D27<E27,E27>=6,D27<=6),6-D27,"") | X27: =IF(AND(D27<E27,E27<6),E27-D27,"") | Y27: Sonntag
D28: Gesamt: | F28: =SUM(F21:F27) -> 0 | G28: =SUM(G21:G27) -> 0 | H28: =SUM(H21:H27) -> 0 | I28: =SUM(I21:I27) -> 0 | J28: =COUNTIF(J21:J27,"X") -> 0 | K28: =COUNTIF(K21:K27,"X") -> 0
A29: 42023 | B29: Montag | F29: =IF(K29="X",Gesamt!$C$8,IF(J29="X",Gesamt!$C$9,IF(IF(E29<D29,E29+(24-D29),E29-D29)>0,IF(E29<D29,E29+(24-D29),E29-D29),""))) | G29: =IF(SUM(L29:P29)=0,"",SUM(L29:P29)) | H29: =IF(D29="","",IF(Q29=0,IF(B29="Sonntag",IF(D29>E29,24-D29,E29-D29),IF(AND(B29="Samstag",Q30=0),IF(D29>E29,E29,""),"")),IF(AND(B29="Samstag",Q30=0),IF(D29>E29,E29,""),""))) | I29: =IF(D29="","",IF(AND(Q29=1,Q30=1),IF(D29>E29,24-D29+E29,E29-D29),IF(Q29=1,IF(D29>E29,24-D29,E29-D29),IF(AND(Q30=1,D29>E29),E29,"")))) | J29: =IF(C29="Urlaub","X","") | K29: =IF(C29="Krank","X","") | L29: =IF(OR(Q29=1,Q30=1,B29="Sonntag",B30="Sonntag"),"",SUM(R29:W29)) -> 0 | M29: =IF(B29="Sonntag","",IF(AND(Q29=1,D29>E29),SUM(U29:W29),"")) | N29: =IF(OR(AND(Q29=1,Q30=1),AND(Q30=1,B29="Sonntag")),"",IF(Q30=1,SUM(R29:T29),"")) | O29: =IF(Q30=1,"",IF(AND(B29="Sonntag",D29>E29,Q29=0),SUM(U29:W29),"")) | P29: =IF(OR(Q29=1,Q30=1),"",IF(B30="Sonntag",SUM(R29:W29),"")) | Q29: =OR(Feiertage!$B$1=A29,Feiertage!$B$2=A29,Feiertage!$B$3=A29,Feiertage!$B$4=A29,Feiertage!$B$5=A29,Feiertage!$B$6=A29,Feiertage!$B$7=A29,Feiertage!$B$8=A29,Feiertage!$B$9=A29) -> FALSE | R29: =IF(AND(D29>E29,D29<20),4,"") | S29: =IF(AND(D29>E29,D29>=20),24-D29,"") | T29: =IF(AND(D29<E29,E29>=20),E29-20,"") | U29: =IF(AND(D29>E29,E29>=6),6,"") | V29: =IF(AND(D29>E29,E29<6),E29,"") | W29: =IF(AND(D29<E29,E29>=6,D29<=6),6-D29,"") | X29: =IF(AND(D29<E29,E29<6),6-E29,"") | Y29: Mon. bis Fr.
A30: 42024 | B30: Dienstag | F30: =IF(K30="X",Gesamt!$C$8,IF(J30="X",Gesamt!$C$9,IF(IF(E30<D30,E30+(24-D30),E30-D30)>0,IF(E30<D30,E30+(24-D30),E30-D30),""))) | G30: =IF(SUM(L30:P30)=0,"",SUM(L30:P30)) | H30: =IF(D30="","",IF(Q30=0,IF(B30="Sonntag",IF(D30>E30,24-D30,E30-D30),IF(AND(B30="Samstag",Q31=0),IF(D30>E30,E30,""),"")),IF(AND(B30="Samstag",Q31=0),IF(D30>E30,E30,""),""))) | I30: =IF(D30="","",IF(AND(Q30=1,Q31=1),IF(D30>E30,24-D30+E30,E30-D30),IF(Q30=1,IF(D30>E30,24-D30,E30-D30),IF(AND(Q31=1,D30>E30),E30,"")))) | J30: =IF(C30="Urlaub","X","") | K30: =IF(C30="Krank","X","") | L30: =IF(OR(Q30=1,Q31=1,B30="Sonntag",B31="Sonntag"),"",SUM(R30:W30)) -> 0 | M30: =IF(B30="Sonntag","",IF(AND(Q30=1,D30>E30),SUM(U30:W30),"")) | N30: =IF(OR(AND(Q30=1,Q31=1),AND(Q31=1,B30="Sonntag")),"",IF(Q31=1,SUM(R30:T30),"")) | O30: =IF(Q31=1,"",IF(AND(B30="Sonntag",D30>E30,Q30=0),SUM(U30:W30),"")) | P30: =IF(OR(Q30=1,Q31=1),"",IF(B31="Sonntag",SUM(R30:W30),"")) | Q30: =OR(Feiertage!$B$1=A30,Feiertage!$B$2=A30,Feiertage!$B$3=A30,Feiertage!$B$4=A30,Feiertage!$B$5=A30,Feiertage!$B$6=A30,Feiertage!$B$7=A30,Feiertage!$B$8=A30,Feiertage!$B$9=A30) -> FALSE | R30: =IF(AND(D30>E30,D30<20),4,"") | S30: =IF(AND(D30>E30,D30>=20),24-D30,"") | T30: =IF(AND(D30<E30,E30>=20),E30-20,"") | U30: =IF(AND(D30>E30,E30>=6),6,"") | V30: =IF(AND(D30>E30,E30<6),E30,"") | W30: =IF(AND(D30<E30,E30>=6,D30<=6),6-D30,"") | X30: =IF(AND(D30<E30,E30<6),6-E30,"") | Y30: Mon. bis Fr.
A31: 42025 | B31: Mittwoch | F31: =IF(K31="X",Gesamt!$C$8,IF(J31="X",Gesamt!$C$9,IF(IF(E31<D31,E31+(24-D31),E31-D31)>0,IF(E31<D31,E31+(24-D31),E31-D31),""))) | G31: =IF(SUM(L31:P31)=0,"",SUM(L31:P31)) | H31: =IF(D31="","",IF(Q31=0,IF(B31="Sonntag",IF(D31>E31,24-D31,E31-D31),IF(AND(B31="Samstag",Q32=0),IF(D31>E31,E31,""),"")),IF(AND(B31="Samstag",Q32=0),IF(D31>E31,E31,""),""))) | I31: =IF(D31="","",IF(AND(Q31=1,Q32=1),IF(D31>E31,24-D31+E31,E31-D31),IF(Q31=1,IF(D31>E31,24-D31,E31-D31),IF(AND(Q32=1,D31>E31),E31,"")))) | J31: =IF(C31="Urlaub","X","") | K31: =IF(C31="Krank","X","") | L31: =IF(OR(Q31=1,Q32=1,B31="Sonntag",B32="Sonntag"),"",SUM(R31:W31)) -> 0 | M31: =IF(B31="Sonntag","",IF(AND(Q31=1,D31>E31),SUM(U31:W31),"")) | N31: =IF(OR(AND(Q31=1,Q32=1),AND(Q32=1,B31="Sonntag")),"",IF(Q32=1,SUM(R31:T31),"")) | O31: =IF(Q32=1,"",IF(AND(B31="Sonntag",D31>E31,Q31=0),SUM(U31:W31),"")) | P31: =IF(OR(Q31=1,Q32=1),"",IF(B32="Sonntag",SUM(R31:W31),"")) | Q31: =OR(Feiertage!$B$1=A31,Feiertage!$B$2=A31,Feiertage!$B$3=A31,Feiertage!$B$4=A31,Feiertage!$B$5=A31,Feiertage!$B$6=A31,Feiertage!$B$7=A31,Feiertage!$B$8=A31,Feiertage!$B$9=A31) -> FALSE | R31: =IF(AND(D31>E31,D31<20),4,"") | S31: =IF(AND(D31>E31,D31>=20),24-D31,"") | T31: =IF(AND(D31<E31,E31>=20),E31-20,"") | U31: =IF(AND(D31>E31,E31>=6),6,"") | V31: =IF(AND(D31>E31,E31<6),E31,"") | W31: =IF(AND(D31<E31,E31>=6,D31<=6),6-D31,"") | X31: =IF(AND(D31<E31,E31<6),6-E31,"") | Y31: Mon. bis Fr.
A32: 42026 | B32: Donnerstag | F32: =IF(K32="X",Gesamt!$C$8,IF(J32="X",Gesamt!$C$9,IF(IF(E32<D32,E32+(24-D32),E32-D32)>0,IF(E32<D32,E32+(24-D32),E32-D32),""))) | G32: =IF(SUM(L32:P32)=0,"",SUM(L32:P32)) | H32: =IF(D32="","",IF(Q32=0,IF(B32="Sonntag",IF(D32>E32,24-D32,E32-D32),IF(AND(B32="Samstag",Q33=0),IF(D32>E32,E32,""),"")),IF(AND(B32="Samstag",Q33=0),IF(D32>E32,E32,""),""))) | I32: =IF(D32="","",IF(AND(Q32=1,Q33=1),IF(D32>E32,24-D32+E32,E32-D32),IF(Q32=1,IF(D32>E32,24-D32,E32-D32),IF(AND(Q33=1,D32>E32),E32,"")))) | J32: =IF(C32="Urlaub","X","") | K32: =IF(C32="Krank","X","") | L32: =IF(OR(Q32=1,Q33=1,B32="Sonntag",B33="Sonntag"),"",SUM(R32:W32)) -> 0 | M32: =IF(B32="Sonntag","",IF(AND(Q32=1,D32>E32),SUM(U32:W32),"")) | N32: =IF(OR(AND(Q32=1,Q33=1),AND(Q33=1,B32="Sonntag")),"",IF(Q33=1,SUM(R32:T32),"")) | O32: =IF(Q33=1,"",IF(AND(B32="Sonntag",D32>E32,Q32=0),SUM(U32:W32),"")) | P32: =IF(OR(Q32=1,Q33=1),"",IF(B33="Sonntag",SUM(R32:W32),"")) | Q32: =OR(Feiertage!$B$1=A32,Feiertage!$B$2=A32,Feiertage!$B$3=A32,Feiertage!$B$4=A32,Feiertage!$B$5=A32,Feiertage!$B$6=A32,Feiertage!$B$7=A32,Feiertage!$B$8=A32,Feiertage!$B$9=A32) -> FALSE | R32: =IF(AND(D32>E32,D32<20),4,"") | S32: =IF(AND(D32>E32,D32>=20),24-D32,"") | T32: =IF(AND(D32<E32,E32>=20),E32-20,"") | U32: =IF(AND(D32>E32,E32>=6),6,"") | V32: =IF(AND(D32>E32,E32<6),E32,"") | W32: =IF(AND(D32<E32,E32>=6,D32<=6),6-D32,"") | X32: =IF(AND(D32<E32,E32<6),6-E32,"") | Y32: Mon. bis Fr.
A33: 42027 | B33: Freitag | F33: =IF(K33="X",Gesamt!$C$8,IF(J33="X",Gesamt!$C$9,IF(IF(E33<D33,E33+(24-D33),E33-D33)>0,IF(E33<D33,E33+(24-D33),E33-D33),""))) | G33: =IF(SUM(L33:P33)=0,"",SUM(L33:P33)) | H33: =IF(D33="","",IF(Q33=0,IF(B33="Sonntag",IF(D33>E33,24-D33,E33-D33),IF(AND(B33="Samstag",Q34=0),IF(D33>E33,E33,""),"")),IF(AND(B33="Samstag",Q34=0),IF(D33>E33,E33,""),""))) | I33: =IF(D33="","",IF(AND(Q33=1,Q34=1),IF(D33>E33,24-D33+E33,E33-D33),IF(Q33=1,IF(D33>E33,24-D33,E33-D33),IF(AND(Q34=1,D33>E33),E33,"")))) | J33: =IF(C33="Urlaub","X","") | K33: =IF(C33="Krank","X","") | L33: =IF(OR(Q33=1,Q34=1,B33="Sonntag",B34="Sonntag"),"",SUM(R33:W33)) -> 0 | M33: =IF(B33="Sonntag","",IF(AND(Q33=1,D33>E33),SUM(U33:W33),"")) | N33: =IF(OR(AND(Q33=1,Q34=1),AND(Q34=1,B33="Sonntag")),"",IF(Q34=1,SUM(R33:T33),"")) | O33: =IF(Q34=1,"",IF(AND(B33="Sonntag",D33>E33,Q33=0),SUM(U33:W33),"")) | P33: =IF(OR(Q33=1,Q34=1),"",IF(B34="Sonntag",SUM(R33:W33),"")) | Q33: =OR(Feiertage!$B$1=A33,Feiertage!$B$2=A33,Feiertage!$B$3=A33,Feiertage!$B$4=A33,Feiertage!$B$5=A33,Feiertage!$B$6=A33,Feiertage!$B$7=A33,Feiertage!$B$8=A33,Feiertage!$B$9=A33) -> FALSE | R33: =IF(AND(D33>E33,D33<20),4,"") | S33: =IF(AND(D33>E33,D33>=20),24-D33,"") | T33: =IF(AND(D33<E33,E33>=20),E33-20,"") | U33: =IF(AND(D33>E33,E33>=6),6,"") | V33: =IF(AND(D33>E33,E33<6),E33,"") | W33: =IF(AND(D33<E33,E33>=6,D33<=6),6-D33,"") | X33: =IF(AND(D33<E33,E33<6),6-E33,"") | Y33: Mon. bis Fr.
A34: 42028 | B34: Samstag | F34: =IF(K34="X",Gesamt!$C$8,IF(J34="X",Gesamt!$C$9,IF(IF(E34<D34,E34+(24-D34),E34-D34)>0,IF(E34<D34,E34+(24-D34),E34-D34),""))) | G34: =IF(SUM(L34:P34)=0,"",SUM(L34:P34)) | H34: =IF(D34="","",IF(Q34=0,IF(B34="Sonntag",IF(D34>E34,24-D34,E34-D34),IF(AND(B34="Samstag",Q35=0),IF(D34>E34,E34,""),"")),IF(AND(B34="Samstag",Q35=0),IF(D34>E34,E34,""),""))) | I34: =IF(D34="","",IF(AND(Q34=1,Q35=1),IF(D34>E34,24-D34+E34,E34-D34),IF(Q34=1,IF(D34>E34,24-D34,E34-D34),IF(AND(Q35=1,D34>E34),E34,"")))) | J34: =IF(C34="Urlaub","X","") | K34: =IF(C34="Krank","X","") | L34: =IF(OR(Q34=1,Q35=1,B34="Sonntag",B35="Sonntag"),"",SUM(R34:X34)) | M34: =IF(B34="Sonntag","",IF(AND(Q34=1,D34>E34),SUM(U34:X34),"")) | N34: =IF(AND(Q34=1,Q35=1),"",IF(Q35=1,SUM(R34:T34),"")) | O34: =IF(Q35=1,"",IF(AND(B34="Sonntag",D34>E34,Q34=0),SUM(U34:X34),"")) | P34: =IF(OR(Q34=1,Q35=1),"",IF(B35="Sonntag",SUM(R34:T34),"")) -> 0 | Q34: =OR(Feiertage!$B$1=A34,Feiertage!$B$2=A34,Feiertage!$B$3=A34,Feiertage!$B$4=A34,Feiertage!$B$5=A34,Feiertage!$B$6=A34,Feiertage!$B$7=A34,Feiertage!$B$8=A34,Feiertage!$B$9=A34) -> FALSE | R34: =IF(AND(D34>E34,D34<20),4,IF(AND(D34<E34,D34<=6),6-D34,"")) | S34: =IF(AND(D34>E34,D34>=20),24-D34,"") | T34: =IF(AND(D34<E34,E34>=20),E34-20,"") | U34: =IF(AND(D34>E34,E34>=6),6,"") | V34: =IF(AND(D34>E34,E34<6),E34,"") | W34: =IF(AND(D34<E34,E34>=6,D34<=6),6-D34,"") | X34: =IF(AND(D34<E34,E34<6),6-E34,"") | Y34: Samstag
A35: 42029 | B35: Sonntag | F35: =IF(K35="X",Gesamt!$C$8,IF(J35="X",Gesamt!$C$9,IF(IF(E35<D35,E35+(24-D35),E35-D35)>0,IF(E35<D35,E35+(24-D35),E35-D35),""))) | G35: =IF(SUM(L35:P35)=0,"",SUM(L35:P35)) | H35: =IF(D35="","",IF(Q35=0,IF(B35="Sonntag",IF(D35>E35,24-D35,E35-D35),IF(AND(B35="Samstag",Q36=0),IF(D35>E35,E35,""),"")),IF(AND(B35="Samstag",Q36=0),IF(D35>E35,E35,""),""))) | I35: =IF(D35="","",IF(AND(Q35=1,Q36=1),IF(D35>E35,24-D35+E35,E35-D35),IF(Q35=1,IF(D35>E35,24-D35,E35-D35),IF(AND(Q36=1,D35>E35),E35,"")))) | J35: =IF(C35="Urlaub","X","") | K35: =IF(C35="Krank","X","") | L35: =IF(OR(Q35=1,Q36=1,B35="Sonntag",B36="Sonntag"),"",SUM(R35:X35)) | M35: =IF(B36="Sonntag","",IF(AND(Q35=1,D35>E35),SUM(U35:X35),"")) | N35: =IF(AND(Q35=1,Q37=1),"",IF(Q36=1,SUM(R35:T35),"")) | O35: =IF(Q37=1,"",IF(AND(B35="Sonntag",D35>E35,Q35=0),SUM(U35:X35),"")) | P35: =IF(OR(Q35=1,Q37=1),"",IF(B36="Sonntag",SUM(R35:T35),"")) | Q35: =OR(Feiertage!$B$1=A35,Feiertage!$B$2=A35,Feiertage!$B$3=A35,Feiertage!$B$4=A35,Feiertage!$B$5=A35,Feiertage!$B$6=A35,Feiertage!$B$7=A35,Feiertage!$B$8=A35,Feiertage!$B$9=A35) -> FALSE | R35: =IF(AND(D35>E35,D35<20),4,"") | S35: =IF(AND(D35>E35,D35>=20),24-D35,"") | T35: =IF(AND(D35<E35,E35>=20),E35-20,"") | U35: =IF(AND(D35>E35,E35>=6),6,"") | V35: =IF(AND(D35>E35,E35<6),E35,"") | W35: =IF(AND(D35<E35,E35>=6,D35<=6),6-D35,"") | X35: =IF(AND(D35<E35,E35<6),E35-D35,"") | Y35: Sonntag
D36: Gesamt: | F36: =SUM(F29:F35) -> 0 | G36: =SUM(G29:G35) -> 0 | H36: =SUM(H29:H35) -> 0 | I36: =SUM(I29:I35) -> 0 | J36: =COUNTIF(J29:J35,"X") -> 0 | K36: =COUNTIF(K29:K35,"X") -> 0
A37: 42030 | B37: Montag | F37: =IF(K37="X",Gesamt!$C$8,IF(J37="X",Gesamt!$C$9,IF(IF(E37<D37,E37+(24-D37),E37-D37)>0,IF(E37<D37,E37+(24-D37),E37-D37),""))) | G37: =IF(SUM(L37:P37)=0,"",SUM(L37:P37)) | H37: =IF(D37="","",IF(Q37=0,IF(B37="Sonntag",IF(D37>E37,24-D37,E37-D37),IF(AND(B37="Samstag",Q38=0),IF(D37>E37,E37,""),"")),IF(AND(B37="Samstag",Q38=0),IF(D37>E37,E37,""),""))) | I37: =IF(D37="","",IF(AND(Q37=1,Q38=1),IF(D37>E37,24-D37+E37,E37-D37),IF(Q37=1,IF(D37>E37,24-D37,E37-D37),IF(AND(Q38=1,D37>E37),E37,"")))) | J37: =IF(C37="Urlaub","X","") | K37: =IF(C37="Krank","X","") | L37: =IF(OR(Q37=1,Q38=1,B37="Sonntag",B38="Sonntag"),"",SUM(R37:W37)) -> 0 | M37: =IF(B37="Sonntag","",IF(AND(Q37=1,D37>E37),SUM(U37:W37),"")) | N37: =IF(OR(AND(Q37=1,Q38=1),AND(Q38=1,B37="Sonntag")),"",IF(Q38=1,SUM(R37:T37),"")) | O37: =IF(Q38=1,"",IF(AND(B37="Sonntag",D37>E37,Q37=0),SUM(U37:W37),"")) | P37: =IF(OR(Q37=1,Q38=1),"",IF(B38="Sonntag",SUM(R37:W37),"")) | Q37: =OR(Feiertage!$B$1=A37,Feiertage!$B$2=A37,Feiertage!$B$3=A37,Feiertage!$B$4=A37,Feiertage!$B$5=A37,Feiertage!$B$6=A37,Feiertage!$B$7=A37,Feiertage!$B$8=A37,Feiertage!$B$9=A37) -> FALSE | R37: =IF(AND(D37>E37,D37<20),4,"") | S37: =IF(AND(D37>E37,D37>=20),24-D37,"") | T37: =IF(AND(D37<E37,E37>=20),E37-20,"") | U37: =IF(AND(D37>E37,E37>=6),6,"") | V37: =IF(AND(D37>E37,E37<6),E37,"") | W37: =IF(AND(D37<E37,E37>=6,D37<=6),6-D37,"") | X37: =IF(AND(D37<E37,E37<6),6-E37,"") | Y37: Mon. bis Fr.
A38: 42031 | B38: Dienstag | F38: =IF(K38="X",Gesamt!$C$8,IF(J38="X",Gesamt!$C$9,IF(IF(E38<D38,E38+(24-D38),E38-D38)>0,IF(E38<D38,E38+(24-D38),E38-D38),""))) | G38: =IF(SUM(L38:P38)=0,"",SUM(L38:P38)) | H38: =IF(D38="","",IF(Q38=0,IF(B38="Sonntag",IF(D38>E38,24-D38,E38-D38),IF(AND(B38="Samstag",Q39=0),IF(D38>E38,E38,""),"")),IF(AND(B38="Samstag",Q39=0),IF(D38>E38,E38,""),""))) | I38: =IF(D38="","",IF(AND(Q38=1,Q39=1),IF(D38>E38,24-D38+E38,E38-D38),IF(Q38=1,IF(D38>E38,24-D38,E38-D38),IF(AND(Q39=1,D38>E38),E38,"")))) | J38: =IF(C38="Urlaub","X","") | K38: =IF(C38="Krank","X","") | L38: =IF(OR(Q38=1,Q39=1,B38="Sonntag",B39="Sonntag"),"",SUM(R38:W38)) -> 0 | M38: =IF(B38="Sonntag","",IF(AND(Q38=1,D38>E38),SUM(U38:W38),"")) | N38: =IF(OR(AND(Q38=1,Q39=1),AND(Q39=1,B38="Sonntag")),"",IF(Q39=1,SUM(R38:T38),"")) | O38: =IF(Q39=1,"",IF(AND(B38="Sonntag",D38>E38,Q38=0),SUM(U38:W38),"")) | P38: =IF(OR(Q38=1,Q39=1),"",IF(B39="Sonntag",SUM(R38:W38),"")) | Q38: =OR(Feiertage!$B$1=A38,Feiertage!$B$2=A38,Feiertage!$B$3=A38,Feiertage!$B$4=A38,Feiertage!$B$5=A38,Feiertage!$B$6=A38,Feiertage!$B$7=A38,Feiertage!$B$8=A38,Feiertage!$B$9=A38) -> FALSE | R38: =IF(AND(D38>E38,D38<20),4,"") | S38: =IF(AND(D38>E38,D38>=20),24-D38,"") | T38: =IF(AND(D38<E38,E38>=20),E38-20,"") | U38: =IF(AND(D38>E38,E38>=6),6,"") | V38: =IF(AND(D38>E38,E38<6),E38,"") | W38: =IF(AND(D38<E38,E38>=6,D38<=6),6-D38,"") | X38: =IF(AND(D38<E38,E38<6),6-E38,"") | Y38: Mon. bis Fr.
A39: 42032 | B39: Mittwoch | F39: =IF(K39="X",Gesamt!$C$8,IF(J39="X",Gesamt!$C$9,IF(IF(E39<D39,E39+(24-D39),E39-D39)>0,IF(E39<D39,E39+(24-D39),E39-D39),""))) | G39: =IF(SUM(L39:P39)=0,"",SUM(L39:P39)) | H39: =IF(D39="","",IF(Q39=0,IF(B39="Sonntag",IF(D39>E39,24-D39,E39-D39),IF(AND(B39="Samstag",Q40=0),IF(D39>E39,E39,""),"")),IF(AND(B39="Samstag",Q40=0),IF(D39>E39,E39,""),""))) | I39: =IF(D39="","",IF(AND(Q39=1,Q40=1),IF(D39>E39,24-D39+E39,E39-D39),IF(Q39=1,IF(D39>E39,24-D39,E39-D39),IF(AND(Q40=1,D39>E39),E39,"")))) | J39: =IF(C39="Urlaub","X","") | K39: =IF(C39="Krank","X","") | L39: =IF(OR(Q39=1,Q40=1,B39="Sonntag",B40="Sonntag"),"",SUM(R39:W39)) -> 0 | M39: =IF(B39="Sonntag","",IF(AND(Q39=1,D39>E39),SUM(U39:W39),"")) | N39: =IF(OR(AND(Q39=1,Q40=1),AND(Q40=1,B39="Sonntag")),"",IF(Q40=1,SUM(R39:T39),"")) | O39: =IF(Q40=1,"",IF(AND(B39="Sonntag",D39>E39,Q39=0),SUM(U39:W39),"")) | P39: =IF(OR(Q39=1,Q40=1),"",IF(B40="Sonntag",SUM(R39:W39),"")) | Q39: =OR(Feiertage!$B$1=A39,Feiertage!$B$2=A39,Feiertage!$B$3=A39,Feiertage!$B$4=A39,Feiertage!$B$5=A39,Feiertage!$B$6=A39,Feiertage!$B$7=A39,Feiertage!$B$8=A39,Feiertage!$B$9=A39) -> FALSE | R39: =IF(AND(D39>E39,D39<20),4,"") | S39: =IF(AND(D39>E39,D39>=20),24-D39,"") | T39: =IF(AND(D39<E39,E39>=20),E39-20,"") | U39: =IF(AND(D39>E39,E39>=6),6,"") | V39: =IF(AND(D39>E39,E39<6),E39,"") | W39: =IF(AND(D39<E39,E39>=6,D39<=6),6-D39,"") | X39: =IF(AND(D39<E39,E39<6),6-E39,"") | Y39: Mon. bis Fr.
A40: 42033 | B40: Donnerstag | F40: =IF(K40="X",Gesamt!$C$8,IF(J40="X",Gesamt!$C$9,IF(IF(E40<D40,E40+(24-D40),E40-D40)>0,IF(E40<D40,E40+(24-D40),E40-D40),""))) | G40: =IF(SUM(L40:P40)=0,"",SUM(L40:P40)) | H40: =IF(D40="","",IF(Q40=0,IF(B40="Sonntag",IF(D40>E40,24-D40,E40-D40),IF(AND(B40="Samstag",Q41=0),IF(D40>E40,E40,""),"")),IF(AND(B40="Samstag",Q41=0),IF(D40>E40,E40,""),""))) | I40: =IF(D40="","",IF(AND(Q40=1,Q41=1),IF(D40>E40,24-D40+E40,E40-D40),IF(Q40=1,IF(D40>E40,24-D40,E40-D40),IF(AND(Q41=1,D40>E40),E40,"")))) | J40: =IF(C40="Urlaub","X","") | K40: =IF(C40="Krank","X","") | L40: =IF(OR(Q40=1,Q41=1,B40="Sonntag",B41="Sonntag"),"",SUM(R40:W40)) -> 0 | M40: =IF(B40="Sonntag","",IF(AND(Q40=1,D40>E40),SUM(U40:W40),"")) | N40: =IF(OR(AND(Q40=1,Q41=1),AND(Q41=1,B40="Sonntag")),"",IF(Q41=1,SUM(R40:T40),"")) | O40: =IF(Q41=1,"",IF(AND(B40="Sonntag",D40>E40,Q40=0),SUM(U40:W40),"")) | P40: =IF(OR(Q40=1,Q41=1),"",IF(B41="Sonntag",SUM(R40:W40),"")) | Q40: =OR(Feiertage!$B$1=A40,Feiertage!$B$2=A40,Feiertage!$B$3=A40,Feiertage!$B$4=A40,Feiertage!$B$5=A40,Feiertage!$B$6=A40,Feiertage!$B$7=A40,Feiertage!$B$8=A40,Feiertage!$B$9=A40) -> FALSE | R40: =IF(AND(D40>E40,D40<20),4,"") | S40: =IF(AND(D40>E40,D40>=20),24-D40,"") | T40: =IF(AND(D40<E40,E40>=20),E40-20,"") | U40: =IF(AND(D40>E40,E40>=6),6,"") | V40: =IF(AND(D40>E40,E40<6),E40,"") | W40: =IF(AND(D40<E40,E40>=6,D40<=6),6-D40,"") | X40: =IF(AND(D40<E40,E40<6),6-E40,"") | Y40: Mon. bis Fr.
A41: 42034 | B41: Freitag | F41: =IF(K41="X",Gesamt!$C$8,IF(J41="X",Gesamt!$C$9,IF(IF(E41<D41,E41+(24-D41),E41-D41)>0,IF(E41<D41,E41+(24-D41),E41-D41),""))) | G41: =IF(SUM(L41:P41)=0,"",SUM(L41:P41)) | H41: =IF(D41="","",IF(Q41=0,IF(B41="Sonntag",IF(D41>E41,24-D41,E41-D41),IF(AND(B41="Samstag",Q42=0),IF(D41>E41,E41,""),"")),IF(AND(B41="Samstag",Q42=0),IF(D41>E41,E41,""),""))) | I41: =IF(D41="","",IF(AND(Q41=1,Q42=1),IF(D41>E41,24-D41+E41,E41-D41),IF(Q41=1,IF(D41>E41,24-D41,E41-D41),IF(AND(Q42=1,D41>E41),E41,"")))) | J41: =IF(C41="Urlaub","X","") | K41: =IF(C41="Krank","X","") | L41: =IF(OR(Q41=1,Q42=1,B41="Sonntag",B42="Sonntag"),"",SUM(R41:W41)) -> 0 | M41: =IF(B41="Sonntag","",IF(AND(Q41=1,D41>E41),SUM(U41:W41),"")) | N41: =IF(OR(AND(Q41=1,Q42=1),AND(Q42=1,B41="Sonntag")),"",IF(Q42=1,SUM(R41:T41),"")) | O41: =IF(Q42=1,"",IF(AND(B41="Sonntag",D41>E41,Q41=0),SUM(U41:W41),"")) | P41: =IF(OR(Q41=1,Q42=1),"",IF(B42="Sonntag",SUM(R41:W41),"")) | Q41: =OR(Feiertage!$B$1=A41,Feiertage!$B$2=A41,Feiertage!$B$3=A41,Feiertage!$B$4=A41,Feiertage!$B$5=A41,Feiertage!$B$6=A41,Feiertage!$B$7=A41,Feiertage!$B$8=A41,Feiertage!$B$9=A41) -> FALSE | R41: =IF(AND(D41>E41,D41<20),4,"") | S41: =IF(AND(D41>E41,D41>=20),24-D41,"") | T41: =IF(AND(D41<E41,E41>=20),E41-20,"") | U41: =IF(AND(D41>E41,E41>=6),6,"") | V41: =IF(AND(D41>E41,E41<6),E41,"") | W41: =IF(AND(D41<E41,E41>=6,D41<=6),6-D41,"") | X41: =IF(AND(D41<E41,E41<6),6-E41,"") | Y41: Mon. bis Fr.
A42: 42035 | B42: Samstag | F42: =IF(K42="X",Gesamt!$C$8,IF(J42="X",Gesamt!$C$9,IF(IF(E42<D42,E42+(24-D42),E42-D42)>0,IF(E42<D42,E42+(24-D42),E42-D42),""))) | G42: =IF(SUM(L42:P42)=0,"",SUM(L42:P42)) | H42: =IF(D42="","",IF(Q42=0,IF(B42="Sonntag",IF(D42>E42,24-D42,E42-D42),IF(AND(B42="Samstag",Q43=0),IF(D42>E42,E42,""),"")),IF(AND(B42="Samstag",Q43=0),IF(D42>E42,E42,""),""))) | I42: =IF(D42="","",IF(AND(Q42=1,Q43=1),IF(D42>E42,24-D42+E42,E42-D42),IF(Q42=1,IF(D42>E42,24-D42,E42-D42),IF(AND(Q43=1,D42>E42),E42,"")))) | J42: =IF(C42="Urlaub","X","") | K42: =IF(C42="Krank","X","") | L42: =IF(OR(Q42=1,Q43=1,B42="Sonntag",B43="Sonntag"),"",SUM(R42:X42)) | M42: =IF(B42="Sonntag","",IF(AND(Q42=1,D42>E42),SUM(U42:X42),"")) | N42: =IF(AND(Q42=1,Q43=1),"",IF(Q43=1,SUM(R42:T42),"")) | O42: =IF(Q43=1,"",IF(AND(B42="Sonntag",D42>E42,Q42=0),SUM(U42:X42),"")) | P42: =IF(OR(Q42=1,Q43=1),"",IF(B43="Sonntag",SUM(R42:T42),"")) -> 0 | Q42: =OR(Feiertage!$B$1=A42,Feiertage!$B$2=A42,Feiertage!$B$3=A42,Feiertage!$B$4=A42,Feiertage!$B$5=A42,Feiertage!$B$6=A42,Feiertage!$B$7=A42,Feiertage!$B$8=A42,Feiertage!$B$9=A42) -> FALSE | R42: =IF(AND(D42>E42,D42<20),4,IF(AND(D42<E42,D42<=6),6-D42,"")) | S42: =IF(AND(D42>E42,D42>=20),24-D42,"") | T42: =IF(AND(D42<E42,E42>=20),E42-20,"") | U42: =IF(AND(D42>E42,E42>=6),6,"") | V42: =IF(AND(D42>E42,E42<6),E42,"") | W42: =IF(AND(D42<E42,E42>=6,D42<=6),6-D42,"") | X42: =IF(AND(D42<E42,E42<6),6-E42,"") | Y42: Samstag
A43: 42036 | B43: Sonntag | F43: =IF(K43="X",Gesamt!$C$8,IF(J43="X",Gesamt!$C$9,IF(IF(E43<D43,E43+(24-D43),E43-D43)>0,IF(E43<D43,E43+(24-D43),E43-D43),""))) | G43: =IF(SUM(L43:P43)=0,"",SUM(L43:P43)) | H43: =IF(D43="","",IF(Q43=0,IF(B43="Sonntag",IF(D43>E43,24-D43,E43-D43),IF(AND(B43="Samstag",Q44=0),IF(D43>E43,E43,""),"")),IF(AND(B43="Samstag",Q44=0),IF(D43>E43,E43,""),""))) | I43: =IF(D43="","",IF(AND(Q43=1,Q44=1),IF(D43>E43,24-D43+E43,E43-D43),IF(Q43=1,IF(D43>E43,24-D43,E43-D43),IF(AND(Q44=1,D43>E43),E43,"")))) | J43: =IF(C43="Urlaub","X","") | K43: =IF(C43="Krank","X","") | L43: =IF(OR(Q43=1,Q44=1,B43="Sonntag",B44="Sonntag"),"",SUM(R43:X43)) | M43: =IF(B44="Sonntag","",IF(AND(Q43=1,D43>E43),SUM(U43:X43),"")) | N43: =IF(AND(Q43=1,Q45=1),"",IF(Q44=1,SUM(R43:T43),"")) | O43: =IF(Q45=1,"",IF(AND(B43="Sonntag",D43>E43,Q43=0),SUM(U43:X43),"")) | P43: =IF(OR(Q43=1,Q45=1),"",IF(B44="Sonntag",SUM(R43:T43),"")) | Q43: =OR(Feiertage!$B$1=A43,Feiertage!$B$2=A43,Feiertage!$B$3=A43,Feiertage!$B$4=A43,Feiertage!$B$5=A43,Feiertage!$B$6=A43,Feiertage!$B$7=A43,Feiertage!$B$8=A43,Feiertage!$B$9=A43) -> FALSE | R43: =IF(AND(D43>E43,D43<20),4,"") | S43: =IF(AND(D43>E43,D43>=20),24-D43,"") | T43: =IF(AND(D43<E43,E43>=20),E43-20,"") | U43: =IF(AND(D43>E43,E43>=6),6,"") | V43: =IF(AND(D43>E43,E43<6),E43,"") | W43: =IF(AND(D43<E43,E43>=6,D43<=6),6-D43,"") | X43: =IF(AND(D43<E43,E43<6),E43-D43,"") | Y43: Sonntag
A44: 40575 | D44: Gesamt: | F44: =SUM(F37:F42) -> 0 | G44: =SUM(G37:G42) -> 0 | H44: =SUM(H37:H42) -> 0 | I44: =SUM(I37:I42) -> 0 | J44: =COUNTIF(J37:J42,"X") -> 0 | K44: =COUNTIF(K37:K42,"X") -> 0
D45: Gesamt: | F45: =F12+F20+F28+F36+F44 -> 0 | G45: =G12+G20+G28+G36+G44 -> 0 | H45: =H12+H20+H28+H36+H44 -> 0 | I45: =I12+I20+I28+I36+I44 -> 0 | J45: =J12+J20+J28+J36+J44 -> 0 | K45: =K12+K20+K28+K36+K44 -> 0

Sheet Februar
A1: =A8 -> 42036
A3: Filiale: | B3: =Gesamt!$B$5 -> 0 | F3: Firma: | G3: =Gesamt!$G$5 -> 0
A5: Name: | B5: =Gesamt!$B$3 -> 0
A7: Datum | B7: Tag | C7: Tätigkeit | D7: von | E7: bis | F7: Stunden | G7: Ab 2000Ab 2000 | H7: Sonntag | I7: Feiertag | J7: Urlaub | K7: Krank
A8: 42036 | B8: Sonntag | F8: =IF(K8="X",Gesamt!$C$8,IF(J8="X",Gesamt!$C$9,IF(IF(E8<D8,E8+(24-D8),E8-D8)>0,IF(E8<D8,E8+(24-D8),E8-D8),""))) | G8: =IF(SUM(L8:P8)=0,"",SUM(L8:P8)) | H8: =IF(D8="","",IF(Q8=0,IF(B8="Sonntag",IF(D8>E8,24-D8,E8-D8),IF(AND(B8="Samstag",Q10=0),IF(D8>E8,E8,""),"")),IF(AND(B8="Samstag",Q10=0),IF(D8>E8,E8,""),""))) | I8: =IF(D8="","",IF(AND(Q8=1,Q10=1),IF(D8>E8,24-D8+E8,E8-D8),IF(Q8=1,IF(D8>E8,24-D8,E8-D8),IF(AND(Q10=1,D8>E8),E8,"")))) | J8: =IF(C8="Urlaub","X","") | K8: =IF(C8="Krank","X","") | L8: =IF(OR(Q8=1,Q9=1,B8="Sonntag",B9="Sonntag"),"",SUM(R8:X8)) | M8: =IF(B9="Sonntag","",IF(AND(Q8=1,D8>E8),SUM(U8:X8),"")) | N8: =IF(AND(Q8=1,Q10=1),"",IF(Q9=1,SUM(R8:T8),"")) | O8: =IF(Q10=1,"",IF(AND(B8="Sonntag",D8>E8,Q8=0),SUM(U8:X8),"")) | P8: =IF(OR(Q8=1,Q10=1),"",IF(B9="Sonntag",SUM(R8:T8),"")) | Q8: =OR(Feiertage!$B$1=A8,Feiertage!$B$2=A8,Feiertage!$B$3=A8,Feiertage!$B$4=A8,Feiertage!$B$5=A8,Feiertage!$B$6=A8,Feiertage!$B$7=A8,Feiertage!$B$8=A8,Feiertage!$B$9=A8) -> FALSE | R8: =IF(AND(D8>E8,D8<20),4,"") | S8: =IF(AND(D8>E8,D8>=20),24-D8,"") | T8: =IF(AND(D8<E8,E8>=20),E8-20,"") | U8: =IF(AND(D8>E8,E8>=6),6,"") | V8: =IF(AND(D8>E8,E8<6),E8,"") | W8: =IF(AND(D8<E8,E8>=6,D8<=6),6-D8,"") | X8: =IF(AND(D8<E8,E8<6),E8-D8,"") | Y8: Sonntag
D9: Gesamt: | F9: =SUM(F4:F8) -> 0 | G9: =SUM(G4:G8) -> 0 | H9: =SUM(H8:H8) -> 0 | I9: =SUM(I8:I8) -> 0 | J9: =COUNTIF(J4:J8,"X") -> 0 | K9: =COUNTIF(K4:K8,"X") -> 0
A10: 42037 | B10: Montag | F10: =IF(K10="X",Gesamt!$C$8,IF(J10="X",Gesamt!$C$9,IF(IF(E10<D10,E10+(24-D10),E10-D10)>0,IF(E10<D10,E10+(24-D10),E10-D10),""))) | G10: =IF(SUM(L10:P10)=0,"",SUM(L10:P10)) | H10: =IF(D10="","",IF(Q10=0,IF(B10="Sonntag",IF(D10>E10,24-D10,E10-D10),IF(AND(B10="Samstag",Q11=0),IF(D10>E10,E10,""),"")),IF(AND(B10="Samstag",Q11=0),IF(D10>E10,E10,""),""))) | I10: =IF(D10="","",IF(AND(Q10=1,Q11=1),IF(D10>E10,24-D10+E10,E10-D10),IF(Q10=1,IF(D10>E10,24-D10,E10-D10),IF(AND(Q11=1,D10>E10),E10,"")))) | J10: =IF(C10="Urlaub","X","") | K10: =IF(C10="Krank","X","") | L10: =IF(OR(Q10=1,Q11=1,B10="Sonntag",B11="Sonntag"),"",SUM(R10:W10)) -> 0 | M10: =IF(B10="Sonntag","",IF(AND(Q10=1,D10>E10),SUM(U10:W10),"")) | N10: =IF(OR(AND(Q10=1,Q11=1),AND(Q11=1,B10="Sonntag")),"",IF(Q11=1,SUM(R10:T10),"")) | O10: =IF(Q11=1,"",IF(AND(B10="Sonntag",D10>E10,Q10=0),SUM(U10:W10),"")) | P10: =IF(OR(Q10=1,Q11=1),"",IF(B11="Sonntag",SUM(R10:W10),"")) | Q10: =OR(Feiertage!$B$1=A10,Feiertage!$B$2=A10,Feiertage!$B$3=A10,Feiertage!$B$4=A10,Feiertage!$B$5=A10,Feiertage!$B$6=A10,Feiertage!$B$7=A10,Feiertage!$B$8=A10,Feiertage!$B$9=A10) -> FALSE | R10: =IF(AND(D10>E10,D10<20),4,"") | S10: =IF(AND(D10>E10,D10>=20),24-D10,"") | T10: =IF(AND(D10<E10,E10>=20),E10-20,"") | U10: =IF(AND(D10>E10,E10>=6),6,"") | V10: =IF(AND(D10>E10,E10<6),E10,"") | W10: =IF(AND(D10<E10,E10>=6,D10<=6),6-D10,"") | X10: =IF(AND(D10<E10,E10<6),6-E10,"") | Y10: Mon. bis Fr.
A11: 42038 | B11: Dienstag | F11: =IF(K11="X",Gesamt!$C$8,IF(J11="X",Gesamt!$C$9,IF(IF(E11<D11,E11+(24-D11),E11-D11)>0,IF(E11<D11,E11+(24-D11),E11-D11),""))) | G11: =IF(SUM(L11:P11)=0,"",SUM(L11:P11)) | H11: =IF(D11="","",IF(Q11=0,IF(B11="Sonntag",IF(D11>E11,24-D11,E11-D11),IF(AND(B11="Samstag",Q12=0),IF(D11>E11,E11,""),"")),IF(AND(B11="Samstag",Q12=0),IF(D11>E11,E11,""),""))) | I11: =IF(D11="","",IF(AND(Q11=1,Q12=1),IF(D11>E11,24-D11+E11,E11-D11),IF(Q11=1,IF(D11>E11,24-D11,E11-D11),IF(AND(Q12=1,D11>E11),E11,"")))) | J11: =IF(C11="Urlaub","X","") | K11: =IF(C11="Krank","X","") | L11: =IF(OR(Q11=1,Q12=1,B11="Sonntag",B12="Sonntag"),"",SUM(R11:W11)) -> 0 | M11: =IF(B11="Sonntag","",IF(AND(Q11=1,D11>E11),SUM(U11:W11),"")) | N11: =IF(OR(AND(Q11=1,Q12=1),AND(Q12=1,B11="Sonntag")),"",IF(Q12=1,SUM(R11:T11),"")) | O11: =IF(Q12=1,"",IF(AND(B11="Sonntag",D11>E11,Q11=0),SUM(U11:W11),"")) | P11: =IF(OR(Q11=1,Q12=1),"",IF(B12="Sonntag",SUM(R11:W11),"")) | Q11: =OR(Feiertage!$B$1=A11,Feiertage!$B$2=A11,Feiertage!$B$3=A11,Feiertage!$B$4=A11,Feiertage!$B$5=A11,Feiertage!$B$6=A11,Feiertage!$B$7=A11,Feiertage!$B$8=A11,Feiertage!$B$9=A11) -> FALSE | R11: =IF(AND(D11>E11,D11<20),4,"") | S11: =IF(AND(D11>E11,D11>=20),24-D11,"") | T11: =IF(AND(D11<E11,E11>=20),E11-20,"") | U11: =IF(AND(D11>E11,E11>=6),6,"") | V11: =IF(AND(D11>E11,E11<6),E11,"") | W11: =IF(AND(D11<E11,E11>=6,D11<=6),6-D11,"") | X11: =IF(AND(D11<E11,E11<6),6-E11,"") | Y11: Mon. bis Fr.
A12: 42039 | B12: Mittwoch | F12: =IF(K12="X",Gesamt!$C$8,IF(J12="X",Gesamt!$C$9,IF(IF(E12<D12,E12+(24-D12),E12-D12)>0,IF(E12<D12,E12+(24-D12),E12-D12),""))) | G12: =IF(SUM(L12:P12)=0,"",SUM(L12:P12)) | H12: =IF(D12="","",IF(Q12=0,IF(B12="Sonntag",IF(D12>E12,24-D12,E12-D12),IF(AND(B12="Samstag",Q13=0),IF(D12>E12,E12,""),"")),IF(AND(B12="Samstag",Q13=0),IF(D12>E12,E12,""),""))) | I12: =IF(D12="","",IF(AND(Q12=1,Q13=1),IF(D12>E12,24-D12+E12,E12-D12),IF(Q12=1,IF(D12>E12,24-D12,E12-D12),IF(AND(Q13=1,D12>E12),E12,"")))) | J12: =IF(C12="Urlaub","X","") | K12: =IF(C12="Krank","X","") | L12: =IF(OR(Q12=1,Q13=1,B12="Sonntag",B13="Sonntag"),"",SUM(R12:W12)) -> 0 | M12: =IF(B12="Sonntag","",IF(AND(Q12=1,D12>E12),SUM(U12:W12),"")) | N12: =IF(OR(AND(Q12=1,Q13=1),AND(Q13=1,B12="Sonntag")),"",IF(Q13=1,SUM(R12:T12),"")) | O12: =IF(Q13=1,"",IF(AND(B12="Sonntag",D12>E12,Q12=0),SUM(U12:W12),"")) | P12: =IF(OR(Q12=1,Q13=1),"",IF(B13="Sonntag",SUM(R12:W12),"")) | Q12: =OR(Feiertage!$B$1=A12,Feiertage!$B$2=A12,Feiertage!$B$3=A12,Feiertage!$B$4=A12,Feiertage!$B$5=A12,Feiertage!$B$6=A12,Feiertage!$B$7=A12,Feiertage!$B$8=A12,Feiertage!$B$9=A12) -> FALSE | R12: =IF(AND(D12>E12,D12<20),4,"") | S12: =IF(AND(D12>E12,D12>=20),24-D12,"") | T12: =IF(AND(D12<E12,E12>=20),E12-20,"") | U12: =IF(AND(D12>E12,E12>=6),6,"") | V12: =IF(AND(D12>E12,E12<6),E12,"") | W12: =IF(AND(D12<E12,E12>=6,D12<=6),6-D12,"") | X12: =IF(AND(D12<E12,E12<6),6-E12,"") | Y12: Mon. bis Fr.
A13: 42040 | B13: Donnerstag | F13: =IF(K13="X",Gesamt!$C$8,IF(J13="X",Gesamt!$C$9,IF(IF(E13<D13,E13+(24-D13),E13-D13)>0,IF(E13<D13,E13+(24-D13),E13-D13),""))) | G13: =IF(SUM(L13:P13)=0,"",SUM(L13:P13)) | H13: =IF(D13="","",IF(Q13=0,IF(B13="Sonntag",IF(D13>E13,24-D13,E13-D13),IF(AND(B13="Samstag",Q14=0),IF(D13>E13,E13,""),"")),IF(AND(B13="Samstag",Q14=0),IF(D13>E13,E13,""),""))) | I13: =IF(D13="","",IF(AND(Q13=1,Q14=1),IF(D13>E13,24-D13+E13,E13-D13),IF(Q13=1,IF(D13>E13,24-D13,E13-D13),IF(AND(Q14=1,D13>E13),E13,"")))) | J13: =IF(C13="Urlaub","X","") | K13: =IF(C13="Krank","X","") | L13: =IF(OR(Q13=1,Q14=1,B13="Sonntag",B14="Sonntag"),"",SUM(R13:W13)) -> 0 | M13: =IF(B13="Sonntag","",IF(AND(Q13=1,D13>E13),SUM(U13:W13),"")) | N13: =IF(OR(AND(Q13=1,Q14=1),AND(Q14=1,B13="Sonntag")),"",IF(Q14=1,SUM(R13:T13),"")) | O13: =IF(Q14=1,"",IF(AND(B13="Sonntag",D13>E13,Q13=0),SUM(U13:W13),"")) | P13: =IF(OR(Q13=1,Q14=1),"",IF(B14="Sonntag",SUM(R13:W13),"")) | Q13: =OR(Feiertage!$B$1=A13,Feiertage!$B$2=A13,Feiertage!$B$3=A13,Feiertage!$B$4=A13,Feiertage!$B$5=A13,Feiertage!$B$6=A13,Feiertage!$B$7=A13,Feiertage!$B$8=A13,Feiertage!$B$9=A13) -> FALSE | R13: =IF(AND(D13>E13,D13<20),4,"") | S13: =IF(AND(D13>E13,D13>=20),24-D13,"") | T13: =IF(AND(D13<E13,E13>=20),E13-20,"") | U13: =IF(AND(D13>E13,E13>=6),6,"") | V13: =IF(AND(D13>E13,E13<6),E13,"") | W13: =IF(AND(D13<E13,E13>=6,D13<=6),6-D13,"") | X13: =IF(AND(D13<E13,E13<6),6-E13,"") | Y13: Mon. bis Fr.
A14: 42041 | B14: Freitag | F14: =IF(K14="X",Gesamt!$C$8,IF(J14="X",Gesamt!$C$9,IF(IF(E14<D14,E14+(24-D14),E14-D14)>0,IF(E14<D14,E14+(24-D14),E14-D14),""))) | G14: =IF(SUM(L14:P14)=0,"",SUM(L14:P14)) | H14: =IF(D14="","",IF(Q14=0,IF(B14="Sonntag",IF(D14>E14,24-D14,E14-D14),IF(AND(B14="Samstag",Q15=0),IF(D14>E14,E14,""),"")),IF(AND(B14="Samstag",Q15=0),IF(D14>E14,E14,""),""))) | I14: =IF(D14="","",IF(AND(Q14=1,Q15=1),IF(D14>E14,24-D14+E14,E14-D14),IF(Q14=1,IF(D14>E14,24-D14,E14-D14),IF(AND(Q15=1,D14>E14),E14,"")))) | J14: =IF(C14="Urlaub","X","") | K14: =IF(C14="Krank","X","") | L14: =IF(OR(Q14=1,Q15=1,B14="Sonntag",B15="Sonntag"),"",SUM(R14:W14)) -> 0 | M14: =IF(B14="Sonntag","",IF(AND(Q14=1,D14>E14),SUM(U14:W14),"")) | N14: =IF(OR(AND(Q14=1,Q15=1),AND(Q15=1,B14="Sonntag")),"",IF(Q15=1,SUM(R14:T14),"")) | O14: =IF(Q15=1,"",IF(AND(B14="Sonntag",D14>E14,Q14=0),SUM(U14:W14),"")) | P14: =IF(OR(Q14=1,Q15=1),"",IF(B15="Sonntag",SUM(R14:W14),"")) | Q14: =OR(Feiertage!$B$1=A14,Feiertage!$B$2=A14,Feiertage!$B$3=A14,Feiertage!$B$4=A14,Feiertage!$B$5=A14,Feiertage!$B$6=A14,Feiertage!$B$7=A14,Feiertage!$B$8=A14,Feiertage!$B$9=A14) -> FALSE | R14: =IF(AND(D14>E14,D14<20),4,"") | S14: =IF(AND(D14>E14,D14>=20),24-D14,"") | T14: =IF(AND(D14<E14,E14>=20),E14-20,"") | U14: =IF(AND(D14>E14,E14>=6),6,"") | V14: =IF(AND(D14>E14,E14<6),E14,"") | W14: =IF(AND(D14<E14,E14>=6,D14<=6),6-D14,"") | X14: =IF(AND(D14<E14,E14<6),6-E14,"") | Y14: Mon. bis Fr.
A15: 42042 | B15: Samstag | F15: =IF(K15="X",Gesamt!$C$8,IF(J15="X",Gesamt!$C$9,IF(IF(E15<D15,E15+(24-D15),E15-D15)>0,IF(E15<D15,E15+(24-D15),E15-D15),""))) | G15: =IF(SUM(L15:P15)=0,"",SUM(L15:P15)) | H15: =IF(D15="","",IF(Q15=0,IF(B15="Sonntag",IF(D15>E15,24-D15,E15-D15),IF(AND(B15="Samstag",Q16=0),IF(D15>E15,E15,""),"")),IF(AND(B15="Samstag",Q16=0),IF(D15>E15,E15,""),""))) | I15: =IF(D15="","",IF(AND(Q15=1,Q16=1),IF(D15>E15,24-D15+E15,E15-D15),IF(Q15=1,IF(D15>E15,24-D15,E15-D15),IF(AND(Q16=1,D15>E15),E15,"")))) | J15: =IF(C15="Urlaub","X","") | K15: =IF(C15="Krank","X","") | L15: =IF(OR(Q15=1,Q16=1,B15="Sonntag",B16="Sonntag"),"",SUM(R15:X15)) | M15: =IF(B15="Sonntag","",IF(AND(Q15=1,D15>E15),SUM(U15:X15),"")) | N15: =IF(AND(Q15=1,Q16=1),"",IF(Q16=1,SUM(R15:T15),"")) | O15: =IF(Q16=1,"",IF(AND(B15="Sonntag",D15>E15,Q15=0),SUM(U15:X15),"")) | P15: =IF(OR(Q15=1,Q16=1),"",IF(B16="Sonntag",SUM(R15:T15),"")) -> 0 | Q15: =OR(Feiertage!$B$1=A15,Feiertage!$B$2=A15,Feiertage!$B$3=A15,Feiertage!$B$4=A15,Feiertage!$B$5=A15,Feiertage!$B$6=A15,Feiertage!$B$7=A15,Feiertage!$B$8=A15,Feiertage!$B$9=A15) -> FALSE | R15: =IF(AND(D15>E15,D15<20),4,IF(AND(D15<E15,D15<=6),6-D15,"")) | S15: =IF(AND(D15>E15,D15>=20),24-D15,"") | T15: =IF(AND(D15<E15,E15>=20),E15-20,"") | U15: =IF(AND(D15>E15,E15>=6),6,"") | V15: =IF(AND(D15>E15,E15<6),E15,"") | W15: =IF(AND(D15<E15,E15>=6,D15<=6),6-D15,"") | X15: =IF(AND(D15<E15,E15<6),6-E15,"") | Y15: Samstag
A16: 42043 | B16: Sonntag | F16: =IF(K16="X",Gesamt!$C$8,IF(J16="X",Gesamt!$C$9,IF(IF(E16<D16,E16+(24-D16),E16-D16)>0,IF(E16<D16,E16+(24-D16),E16-D16),""))) | G16: =IF(SUM(L16:P16)=0,"",SUM(L16:P16)) | H16: =IF(D16="","",IF(Q16=0,IF(B16="Sonntag",IF(D16>E16,24-D16,E16-D16),IF(AND(B16="Samstag",Q17=0),IF(D16>E16,E16,""),"")),IF(AND(B16="Samstag",Q17=0),IF(D16>E16,E16,""),""))) | I16: =IF(D16="","",IF(AND(Q16=1,Q17=1),IF(D16>E16,24-D16+E16,E16-D16),IF(Q16=1,IF(D16>E16,24-D16,E16-D16),IF(AND(Q17=1,D16>E16),E16,"")))) | J16: =IF(C16="Urlaub","X","") | K16: =IF(C16="Krank","X","") | L16: =IF(OR(Q16=1,Q17=1,B16="Sonntag",B17="Sonntag"),"",SUM(R16:X16)) | M16: =IF(B17="Sonntag","",IF(AND(Q16=1,D16>E16),SUM(U16:X16),"")) | N16: =IF(AND(Q16=1,Q18=1),"",IF(Q17=1,SUM(R16:T16),"")) | O16: =IF(Q18=1,"",IF(AND(B16="Sonntag",D16>E16,Q16=0),SUM(U16:X16),"")) | P16: =IF(OR(Q16=1,Q18=1),"",IF(B17="Sonntag",SUM(R16:T16),"")) | Q16: =OR(Feiertage!$B$1=A16,Feiertage!$B$2=A16,Feiertage!$B$3=A16,Feiertage!$B$4=A16,Feiertage!$B$5=A16,Feiertage!$B$6=A16,Feiertage!$B$7=A16,Feiertage!$B$8=A16,Feiertage!$B$9=A16) -> FALSE | R16: =IF(AND(D16>E16,D16<20),4,"") | S16: =IF(AND(D16>E16,D16>=20),24-D16,"") | T16: =IF(AND(D16<E16,E16>=20),E16-20,"") | U16: =IF(AND(D16>E16,E16>=6),6,"") | V16: =IF(AND(D16>E16,E16<6),E16,"") | W16: =IF(AND(D16<E16,E16>=6,D16<=6),6-D16,"") | X16: =IF(AND(D16<E16,E16<6),E16-D16,"") | Y16: Sonntag
D17: Gesamt: | F17: =SUM(F10:F16) -> 0 | G17: =SUM(G10:G16) -> 0 | H17: =SUM(H10:H16) -> 0 | I17: =SUM(I10:I16) -> 0 | J17: =COUNTIF(J10:J16,"X") -> 0 | K17: =COUNTIF(K10:K16,"X") -> 0
A18: 42044 | B18: Montag | F18: =IF(K18="X",Gesamt!$C$8,IF(J18="X",Gesamt!$C$9,IF(IF(E18<D18,E18+(24-D18),E18-D18)>0,IF(E18<D18,E18+(24-D18),E18-D18),""))) | G18: =IF(SUM(L18:P18)=0,"",SUM(L18:P18)) | H18: =IF(D18="","",IF(Q18=0,IF(B18="Sonntag",IF(D18>E18,24-D18,E18-D18),IF(AND(B18="Samstag",Q19=0),IF(D18>E18,E18,""),"")),IF(AND(B18="Samstag",Q19=0),IF(D18>E18,E18,""),""))) | I18: =IF(D18="","",IF(AND(Q18=1,Q19=1),IF(D18>E18,24-D18+E18,E18-D18),IF(Q18=1,IF(D18>E18,24-D18,E18-D18),IF(AND(Q19=1,D18>E18),E18,"")))) | J18: =IF(C18="Urlaub","X","") | K18: =IF(C18="Krank","X","") | L18: =IF(OR(Q18=1,Q19=1,B18="Sonntag",B19="Sonntag"),"",SUM(R18:W18)) -> 0 | M18: =IF(B18="Sonntag","",IF(AND(Q18=1,D18>E18),SUM(U18:W18),"")) | N18: =IF(OR(AND(Q18=1,Q19=1),AND(Q19=1,B18="Sonntag")),"",IF(Q19=1,SUM(R18:T18),"")) | O18: =IF(Q19=1,"",IF(AND(B18="Sonntag",D18>E18,Q18=0),SUM(U18:W18),"")) | P18: =IF(OR(Q18=1,Q19=1),"",IF(B19="Sonntag",SUM(R18:W18),"")) | Q18: =OR(Feiertage!$B$1=A18,Feiertage!$B$2=A18,Feiertage!$B$3=A18,Feiertage!$B$4=A18,Feiertage!$B$5=A18,Feiertage!$B$6=A18,Feiertage!$B$7=A18,Feiertage!$B$8=A18,Feiertage!$B$9=A18) -> FALSE | R18: =IF(AND(D18>E18,D18<20),4,"") | S18: =IF(AND(D18>E18,D18>=20),24-D18,"") | T18: =IF(AND(D18<E18,E18>=20),E18-20,"") | U18: =IF(AND(D18>E18,E18>=6),6,"") | V18: =IF(AND(D18>E18,E18<6),E18,"") | W18: =IF(AND(D18<E18,E18>=6,D18<=6),6-D18,"") | X18: =IF(AND(D18<E18,E18<6),6-E18,"") | Y18: Mon. bis Fr.
A19: 42045 | B19: Dienstag | F19: =IF(K19="X",Gesamt!$C$8,IF(J19="X",Gesamt!$C$9,IF(IF(E19<D19,E19+(24-D19),E19-D19)>0,IF(E19<D19,E19+(24-D19),E19-D19),""))) | G19: =IF(SUM(L19:P19)=0,"",SUM(L19:P19)) | H19: =IF(D19="","",IF(Q19=0,IF(B19="Sonntag",IF(D19>E19,24-D19,E19-D19),IF(AND(B19="Samstag",Q20=0),IF(D19>E19,E19,""),"")),IF(AND(B19="Samstag",Q20=0),IF(D19>E19,E19,""),""))) | I19: =IF(D19="","",IF(AND(Q19=1,Q20=1),IF(D19>E19,24-D19+E19,E19-D19),IF(Q19=1,IF(D19>E19,24-D19,E19-D19),IF(AND(Q20=1,D19>E19),E19,"")))) | J19: =IF(C19="Urlaub","X","") | K19: =IF(C19="Krank","X","") | L19: =IF(OR(Q19=1,Q20=1,B19="Sonntag",B20="Sonntag"),"",SUM(R19:W19)) -> 0 | M19: =IF(B19="Sonntag","",IF(AND(Q19=1,D19>E19),SUM(U19:W19),"")) | N19: =IF(OR(AND(Q19=1,Q20=1),AND(Q20=1,B19="Sonntag")),"",IF(Q20=1,SUM(R19:T19),"")) | O19: =IF(Q20=1,"",IF(AND(B19="Sonntag",D19>E19,Q19=0),SUM(U19:W19),"")) | P19: =IF(OR(Q19=1,Q20=1),"",IF(B20="Sonntag",SUM(R19:W19),"")) | Q19: =OR(Feiertage!$B$1=A19,Feiertage!$B$2=A19,Feiertage!$B$3=A19,Feiertage!$B$4=A19,Feiertage!$B$5=A19,Feiertage!$B$6=A19,Feiertage!$B$7=A19,Feiertage!$B$8=A19,Feiertage!$B$9=A19) -> FALSE | R19: =IF(AND(D19>E19,D19<20),4,"") | S19: =IF(AND(D19>E19,D19>=20),24-D19,"") | T19: =IF(AND(D19<E19,E19>=20),E19-20,"") | U19: =IF(AND(D19>E19,E19>=6),6,"") | V19: =IF(AND(D19>E19,E19<6),E19,"") | W19: =IF(AND(D19<E19,E19>=6,D19<=6),6-D19,"") | X19: =IF(AND(D19<E19,E19<6),6-E19,"") | Y19: Mon. bis Fr.
A20: 42046 | B20: Mittwoch | F20: =IF(K20="X",Gesamt!$C$8,IF(J20="X",Gesamt!$C$9,IF(IF(E20<D20,E20+(24-D20),E20-D20)>0,IF(E20<D20,E20+(24-D20),E20-D20),""))) | G20: =IF(SUM(L20:P20)=0,"",SUM(L20:P20)) | H20: =IF(D20="","",IF(Q20=0,IF(B20="Sonntag",IF(D20>E20,24-D20,E20-D20),IF(AND(B20="Samstag",Q21=0),IF(D20>E20,E20,""),"")),IF(AND(B20="Samstag",Q21=0),IF(D20>E20,E20,""),""))) | I20: =IF(D20="","",IF(AND(Q20=1,Q21=1),IF(D20>E20,24-D20+E20,E20-D20),IF(Q20=1,IF(D20>E20,24-D20,E20-D20),IF(AND(Q21=1,D20>E20),E20,"")))) | J20: =IF(C20="Urlaub","X","") | K20: =IF(C20="Krank","X","") | L20: =IF(OR(Q20=1,Q21=1,B20="Sonntag",B21="Sonntag"),"",SUM(R20:W20)) -> 0 | M20: =IF(B20="Sonntag","",IF(AND(Q20=1,D20>E20),SUM(U20:W20),"")) | N20: =IF(OR(AND(Q20=1,Q21=1),AND(Q21=1,B20="Sonntag")),"",IF(Q21=1,SUM(R20:T20),"")) | O20: =IF(Q21=1,"",IF(AND(B20="Sonntag",D20>E20,Q20=0),SUM(U20:W20),"")) | P20: =IF(OR(Q20=1,Q21=1),"",IF(B21="Sonntag",SUM(R20:W20),"")) | Q20: =OR(Feiertage!$B$1=A20,Feiertage!$B$2=A20,Feiertage!$B$3=A20,Feiertage!$B$4=A20,Feiertage!$B$5=A20,Feiertage!$B$6=A20,Feiertage!$B$7=A20,Feiertage!$B$8=A20,Feiertage!$B$9=A20) -> FALSE | R20: =IF(AND(D20>E20,D20<20),4,"") | S20: =IF(AND(D20>E20,D20>=20),24-D20,"") | T20: =IF(AND(D20<E20,E20>=20),E20-20,"") | U20: =IF(AND(D20>E20,E20>=6),6,"") | V20: =IF(AND(D20>E20,E20<6),E20,"") | W20: =IF(AND(D20<E20,E20>=6,D20<=6),6-D20,"") | X20: =IF(AND(D20<E20,E20<6),6-E20,"") | Y20: Mon. bis Fr.
A21: 42047 | B21: Donnerstag | F21: =IF(K21="X",Gesamt!$C$8,IF(J21="X",Gesamt!$C$9,IF(IF(E21<D21,E21+(24-D21),E21-D21)>0,IF(E21<D21,E21+(24-D21),E21-D21),""))) | G21: =IF(SUM(L21:P21)=0,"",SUM(L21:P21)) | H21: =IF(D21="","",IF(Q21=0,IF(B21="Sonntag",IF(D21>E21,24-D21,E21-D21),IF(AND(B21="Samstag",Q22=0),IF(D21>E21,E21,""),"")),IF(AND(B21="Samstag",Q22=0),IF(D21>E21,E21,""),""))) | I21: =IF(D21="","",IF(AND(Q21=1,Q22=1),IF(D21>E21,24-D21+E21,E21-D21),IF(Q21=1,IF(D21>E21,24-D21,E21-D21),IF(AND(Q22=1,D21>E21),E21,"")))) | J21: =IF(C21="Urlaub","X","") | K21: =IF(C21="Krank","X","") | L21: =IF(OR(Q21=1,Q22=1,B21="Sonntag",B22="Sonntag"),"",SUM(R21:W21)) -> 0 | M21: =IF(B21="Sonntag","",IF(AND(Q21=1,D21>E21),SUM(U21:W21),"")) | N21: =IF(OR(AND(Q21=1,Q22=1),AND(Q22=1,B21="Sonntag")),"",IF(Q22=1,SUM(R21:T21),"")) | O21: =IF(Q22=1,"",IF(AND(B21="Sonntag",D21>E21,Q21=0),SUM(U21:W21),"")) | P21: =IF(OR(Q21=1,Q22=1),"",IF(B22="Sonntag",SUM(R21:W21),"")) | Q21: =OR(Feiertage!$B$1=A21,Feiertage!$B$2=A21,Feiertage!$B$3=A21,Feiertage!$B$4=A21,Feiertage!$B$5=A21,Feiertage!$B$6=A21,Feiertage!$B$7=A21,Feiertage!$B$8=A21,Feiertage!$B$9=A21) -> FALSE | R21: =IF(AND(D21>E21,D21<20),4,"") | S21: =IF(AND(D21>E21,D21>=20),24-D21,"") | T21: =IF(AND(D21<E21,E21>=20),E21-20,"") | U21: =IF(AND(D21>E21,E21>=6),6,"") | V21: =IF(AND(D21>E21,E21<6),E21,"") | W21: =IF(AND(D21<E21,E21>=6,D21<=6),6-D21,"") | X21: =IF(AND(D21<E21,E21<6),6-E21,"") | Y21: Mon. bis Fr.
A22: 42048 | B22: Freitag | F22: =IF(K22="X",Gesamt!$C$8,IF(J22="X",Gesamt!$C$9,IF(IF(E22<D22,E22+(24-D22),E22-D22)>0,IF(E22<D22,E22+(24-D22),E22-D22),""))) | G22: =IF(SUM(L22:P22)=0,"",SUM(L22:P22)) | H22: =IF(D22="","",IF(Q22=0,IF(B22="Sonntag",IF(D22>E22,24-D22,E22-D22),IF(AND(B22="Samstag",Q23=0),IF(D22>E22,E22,""),"")),IF(AND(B22="Samstag",Q23=0),IF(D22>E22,E22,""),""))) | I22: =IF(D22="","",IF(AND(Q22=1,Q23=1),IF(D22>E22,24-D22+E22,E22-D22),IF(Q22=1,IF(D22>E22,24-D22,E22-D22),IF(AND(Q23=1,D22>E22),E22,"")))) | J22: =IF(C22="Urlaub","X","") | K22: =IF(C22="Krank","X","") | L22: =IF(OR(Q22=1,Q23=1,B22="Sonntag",B23="Sonntag"),"",SUM(R22:W22)) -> 0 | M22: =IF(B22="Sonntag","",IF(AND(Q22=1,D22>E22),SUM(U22:W22),"")) | N22: =IF(OR(AND(Q22=1,Q23=1),AND(Q23=1,B22="Sonntag")),"",IF(Q23=1,SUM(R22:T22),"")) | O22: =IF(Q23=1,"",IF(AND(B22="Sonntag",D22>E22,Q22=0),SUM(U22:W22),"")) | P22: =IF(OR(Q22=1,Q23=1),"",IF(B23="Sonntag",SUM(R22:W22),"")) | Q22: =OR(Feiertage!$B$1=A22,Feiertage!$B$2=A22,Feiertage!$B$3=A22,Feiertage!$B$4=A22,Feiertage!$B$5=A22,Feiertage!$B$6=A22,Feiertage!$B$7=A22,Feiertage!$B$8=A22,Feiertage!$B$9=A22) -> FALSE | R22: =IF(AND(D22>E22,D22<20),4,"") | S22: =IF(AND(D22>E22,D22>=20),24-D22,"") | T22: =IF(AND(D22<E22,E22>=20),E22-20,"") | U22: =IF(AND(D22>E22,E22>=6),6,"") | V22: =IF(AND(D22>E22,E22<6),E22,"") | W22: =IF(AND(D22<E22,E22>=6,D22<=6),6-D22,"") | X22: =IF(AND(D22<E22,E22<6),6-E22,"") | Y22: Mon. bis Fr.
A23: 42049 | B23: Samstag | F23: =IF(K23="X",Gesamt!$C$8,IF(J23="X",Gesamt!$C$9,IF(IF(E23<D23,E23+(24-D23),E23-D23)>0,IF(E23<D23,E23+(24-D23),E23-D23),""))) | G23: =IF(SUM(L23:P23)=0,"",SUM(L23:P23)) | H23: =IF(D23="","",IF(Q23=0,IF(B23="Sonntag",IF(D23>E23,24-D23,E23-D23),IF(AND(B23="Samstag",Q24=0),IF(D23>E23,E23,""),"")),IF(AND(B23="Samstag",Q24=0),IF(D23>E23,E23,""),""))) | I23: =IF(D23="","",IF(AND(Q23=1,Q24=1),IF(D23>E23,24-D23+E23,E23-D23),IF(Q23=1,IF(D23>E23,24-D23,E23-D23),IF(AND(Q24=1,D23>E23),E23,"")))) | J23: =IF(C23="Urlaub","X","") | K23: =IF(C23="Krank","X","") | L23: =IF(OR(Q23=1,Q24=1,B23="Sonntag",B24="Sonntag"),"",SUM(R23:X23)) | M23: =IF(B23="Sonntag","",IF(AND(Q23=1,D23>E23),SUM(U23:X23),"")) | N23: =IF(AND(Q23=1,Q24=1),"",IF(Q24=1,SUM(R23:T23),"")) | O23: =IF(Q24=1,"",IF(AND(B23="Sonntag",D23>E23,Q23=0),SUM(U23:X23),"")) | P23: =IF(OR(Q23=1,Q24=1),"",IF(B24="Sonntag",SUM(R23:T23),"")) -> 0 | Q23: =OR(Feiertage!$B$1=A23,Feiertage!$B$2=A23,Feiertage!$B$3=A23,Feiertage!$B$4=A23,Feiertage!$B$5=A23,Feiertage!$B$6=A23,Feiertage!$B$7=A23,Feiertage!$B$8=A23,Feiertage!$B$9=A23) -> FALSE | R23: =IF(AND(D23>E23,D23<20),4,IF(AND(D23<E23,D23<=6),6-D23,"")) | S23: =IF(AND(D23>E23,D23>=20),24-D23,"") | T23: =IF(AND(D23<E23,E23>=20),E23-20,"") | U23: =IF(AND(D23>E23,E23>=6),6,"") | V23: =IF(AND(D23>E23,E23<6),E23,"") | W23: =IF(AND(D23<E23,E23>=6,D23<=6),6-D23,"") | X23: =IF(AND(D23<E23,E23<6),6-E23,"") | Y23: Samstag
A24: 42050 | B24: Sonntag | F24: =IF(K24="X",Gesamt!$C$8,IF(J24="X",Gesamt!$C$9,IF(IF(E24<D24,E24+(24-D24),E24-D24)>0,IF(E24<D24,E24+(24-D24),E24-D24),""))) | G24: =IF(SUM(L24:P24)=0,"",SUM(L24:P24)) | H24: =IF(D24="","",IF(Q24=0,IF(B24="Sonntag",IF(D24>E24,24-D24,E24-D24),IF(AND(B24="Samstag",Q25=0),IF(D24>E24,E24,""),"")),IF(AND(B24="Samstag",Q25=0),IF(D24>E24,E24,""),""))) | I24: =IF(D24="","",IF(AND(Q24=1,Q25=1),IF(D24>E24,24-D24+E24,E24-D24),IF(Q24=1,IF(D24>E24,24-D24,E24-D24),IF(AND(Q25=1,D24>E24),E24,"")))) | J24: =IF(C24="Urlaub","X","") | K24: =IF(C24="Krank","X","") | L24: =IF(OR(Q24=1,Q25=1,B24="Sonntag",B25="Sonntag"),"",SUM(R24:X24)) | M24: =IF(B25="Sonntag","",IF(AND(Q24=1,D24>E24),SUM(U24:X24),"")) | N24: =IF(AND(Q24=1,Q26=1),"",IF(Q25=1,SUM(R24:T24),"")) | O24: =IF(Q26=1,"",IF(AND(B24="Sonntag",D24>E24,Q24=0),SUM(U24:X24),"")) | P24: =IF(OR(Q24=1,Q26=1),"",IF(B25="Sonntag",SUM(R24:T24),"")) | Q24: =OR(Feiertage!$B$1=A24,Feiertage!$B$2=A24,Feiertage!$B$3=A24,Feiertage!$B$4=A24,Feiertage!$B$5=A24,Feiertage!$B$6=A24,Feiertage!$B$7=A24,Feiertage!$B$8=A24,Feiertage!$B$9=A24) -> FALSE | R24: =IF(AND(D24>E24,D24<20),4,"") | S24: =IF(AND(D24>E24,D24>=20),24-D24,"") | T24: =IF(AND(D24<E24,E24>=20),E24-20,"") | U24: =IF(AND(D24>E24,E24>=6),6,"") | V24: =IF(AND(D24>E24,E24<6),E24,"") | W24: =IF(AND(D24<E24,E24>=6,D24<=6),6-D24,"") | X24: =IF(AND(D24<E24,E24<6),E24-D24,"") | Y24: Sonntag
D25: Gesamt: | F25: =SUM(F18:F24) -> 0 | G25: =SUM(G18:G24) -> 0 | H25: =SUM(H18:H24) -> 0 | I25: =SUM(I18:I24) -> 0 | J25: =COUNTIF(J18:J24,"X") -> 0 | K25: =COUNTIF(K18:K24,"X") -> 0
A26: 42051 | B26: Montag | F26: =IF(K26="X",Gesamt!$C$8,IF(J26="X",Gesamt!$C$9,IF(IF(E26<D26,E26+(24-D26),E26-D26)>0,IF(E26<D26,E26+(24-D26),E26-D26),""))) | G26: =IF(SUM(L26:P26)=0,"",SUM(L26:P26)) | H26: =IF(D26="","",IF(Q26=0,IF(B26="Sonntag",IF(D26>E26,24-D26,E26-D26),IF(AND(B26="Samstag",Q27=0),IF(D26>E26,E26,""),"")),IF(AND(B26="Samstag",Q27=0),IF(D26>E26,E26,""),""))) | I26: =IF(D26="","",IF(AND(Q26=1,Q27=1),IF(D26>E26,24-D26+E26,E26-D26),IF(Q26=1,IF(D26>E26,24-D26,E26-D26),IF(AND(Q27=1,D26>E26),E26,"")))) | J26: =IF(C26="Urlaub","X","") | K26: =IF(C26="Krank","X","") | L26: =IF(OR(Q26=1,Q27=1,B26="Sonntag",B27="Sonntag"),"",SUM(R26:W26)) -> 0 | M26: =IF(B26="Sonntag","",IF(AND(Q26=1,D26>E26),SUM(U26:W26),"")) | N26: =IF(OR(AND(Q26=1,Q27=1),AND(Q27=1,B26="Sonntag")),"",IF(Q27=1,SUM(R26:T26),"")) | O26: =IF(Q27=1,"",IF(AND(B26="Sonntag",D26>E26,Q26=0),SUM(U26:W26),"")) | P26: =IF(OR(Q26=1,Q27=1),"",IF(B27="Sonntag",SUM(R26:W26),"")) | Q26: =OR(Feiertage!$B$1=A26,Feiertage!$B$2=A26,Feiertage!$B$3=A26,Feiertage!$B$4=A26,Feiertage!$B$5=A26,Feiertage!$B$6=A26,Feiertage!$B$7=A26,Feiertage!$B$8=A26,Feiertage!$B$9=A26) -> FALSE | R26: =IF(AND(D26>E26,D26<20),4,"") | S26: =IF(AND(D26>E26,D26>=20),24-D26,"") | T26: =IF(AND(D26<E26,E26>=20),E26-20,"") | U26: =IF(AND(D26>E26,E26>=6),6,"") | V26: =IF(AND(D26>E26,E26<6),E26,"") | W26: =IF(AND(D26<E26,E26>=6,D26<=6),6-D26,"") | X26: =IF(AND(D26<E26,E26<6),6-E26,"") | Y26: Mon. bis Fr.
A27: 42052 | B27: Dienstag | F27: =IF(K27="X",Gesamt!$C$8,IF(J27="X",Gesamt!$C$9,IF(IF(E27<D27,E27+(24-D27),E27-D27)>0,IF(E27<D27,E27+(24-D27),E27-D27),""))) | G27: =IF(SUM(L27:P27)=0,"",SUM(L27:P27)) | H27: =IF(D27="","",IF(Q27=0,IF(B27="Sonntag",IF(D27>E27,24-D27,E27-D27),IF(AND(B27="Samstag",Q28=0),IF(D27>E27,E27,""),"")),IF(AND(B27="Samstag",Q28=0),IF(D27>E27,E27,""),""))) | I27: =IF(D27="","",IF(AND(Q27=1,Q28=1),IF(D27>E27,24-D27+E27,E27-D27),IF(Q27=1,IF(D27>E27,24-D27,E27-D27),IF(AND(Q28=1,D27>E27),E27,"")))) | J27: =IF(C27="Urlaub","X","") | K27: =IF(C27="Krank","X","") | L27: =IF(OR(Q27=1,Q28=1,B27="Sonntag",B28="Sonntag"),"",SUM(R27:W27)) -> 0 | M27: =IF(B27="Sonntag","",IF(AND(Q27=1,D27>E27),SUM(U27:W27),"")) | N27: =IF(OR(AND(Q27=1,Q28=1),AND(Q28=1,B27="Sonntag")),"",IF(Q28=1,SUM(R27:T27),"")) | O27: =IF(Q28=1,"",IF(AND(B27="Sonntag",D27>E27,Q27=0),SUM(U27:W27),"")) | P27: =IF(OR(Q27=1,Q28=1),"",IF(B28="Sonntag",SUM(R27:W27),"")) | Q27: =OR(Feiertage!$B$1=A27,Feiertage!$B$2=A27,Feiertage!$B$3=A27,Feiertage!$B$4=A27,Feiertage!$B$5=A27,Feiertage!$B$6=A27,Feiertage!$B$7=A27,Feiertage!$B$8=A27,Feiertage!$B$9=A27) -> FALSE | R27: =IF(AND(D27>E27,D27<20),4,"") | S27: =IF(AND(D27>E27,D27>=20),24-D27,"") | T27: =IF(AND(D27<E27,E27>=20),E27-20,"") | U27: =IF(AND(D27>E27,E27>=6),6,"") | V27: =IF(AND(D27>E27,E27<6),E27,"") | W27: =IF(AND(D27<E27,E27>=6,D27<=6),6-D27,"") | X27: =IF(AND(D27<E27,E27<6),6-E27,"") | Y27: Mon. bis Fr.
A28: 42053 | B28: Mittwoch | F28: =IF(K28="X",Gesamt!$C$8,IF(J28="X",Gesamt!$C$9,IF(IF(E28<D28,E28+(24-D28),E28-D28)>0,IF(E28<D28,E28+(24-D28),E28-D28),""))) | G28: =IF(SUM(L28:P28)=0,"",SUM(L28:P28)) | H28: =IF(D28="","",IF(Q28=0,IF(B28="Sonntag",IF(D28>E28,24-D28,E28-D28),IF(AND(B28="Samstag",Q29=0),IF(D28>E28,E28,""),"")),IF(AND(B28="Samstag",Q29=0),IF(D28>E28,E28,""),""))) | I28: =IF(D28="","",IF(AND(Q28=1,Q29=1),IF(D28>E28,24-D28+E28,E28-D28),IF(Q28=1,IF(D28>E28,24-D28,E28-D28),IF(AND(Q29=1,D28>E28),E28,"")))) | J28: =IF(C28="Urlaub","X","") | K28: =IF(C28="Krank","X","") | L28: =IF(OR(Q28=1,Q29=1,B28="Sonntag",B29="Sonntag"),"",SUM(R28:W28)) -> 0 | M28: =IF(B28="Sonntag","",IF(AND(Q28=1,D28>E28),SUM(U28:W28),"")) | N28: =IF(OR(AND(Q28=1,Q29=1),AND(Q29=1,B28="Sonntag")),"",IF(Q29=1,SUM(R28:T28),"")) | O28: =IF(Q29=1,"",IF(AND(B28="Sonntag",D28>E28,Q28=0),SUM(U28:W28),"")) | P28: =IF(OR(Q28=1,Q29=1),"",IF(B29="Sonntag",SUM(R28:W28),"")) | Q28: =OR(Feiertage!$B$1=A28,Feiertage!$B$2=A28,Feiertage!$B$3=A28,Feiertage!$B$4=A28,Feiertage!$B$5=A28,Feiertage!$B$6=A28,Feiertage!$B$7=A28,Feiertage!$B$8=A28,Feiertage!$B$9=A28) -> FALSE | R28: =IF(AND(D28>E28,D28<20),4,"") | S28: =IF(AND(D28>E28,D28>=20),24-D28,"") | T28: =IF(AND(D28<E28,E28>=20),E28-20,"") | U28: =IF(AND(D28>E28,E28>=6),6,"") | V28: =IF(AND(D28>E28,E28<6),E28,"") | W28: =IF(AND(D28<E28,E28>=6,D28<=6),6-D28,"") | X28: =IF(AND(D28<E28,E28<6),6-E28,"") | Y28: Mon. bis Fr.
A29: 42054 | B29: Donnerstag | F29: =IF(K29="X",Gesamt!$C$8,IF(J29="X",Gesamt!$C$9,IF(IF(E29<D29,E29+(24-D29),E29-D29)>0,IF(E29<D29,E29+(24-D29),E29-D29),""))) | G29: =IF(SUM(L29:P29)=0,"",SUM(L29:P29)) | H29: =IF(D29="","",IF(Q29=0,IF(B29="Sonntag",IF(D29>E29,24-D29,E29-D29),IF(AND(B29="Samstag",Q30=0),IF(D29>E29,E29,""),"")),IF(AND(B29="Samstag",Q30=0),IF(D29>E29,E29,""),""))) | I29: =IF(D29="","",IF(AND(Q29=1,Q30=1),IF(D29>E29,24-D29+E29,E29-D29),IF(Q29=1,IF(D29>E29,24-D29,E29-D29),IF(AND(Q30=1,D29>E29),E29,"")))) | J29: =IF(C29="Urlaub","X","") | K29: =IF(C29="Krank","X","") | L29: =IF(OR(Q29=1,Q30=1,B29="Sonntag",B30="Sonntag"),"",SUM(R29:W29)) -> 0 | M29: =IF(B29="Sonntag","",IF(AND(Q29=1,D29>E29),SUM(U29:W29),"")) | N29: =IF(OR(AND(Q29=1,Q30=1),AND(Q30=1,B29="Sonntag")),"",IF(Q30=1,SUM(R29:T29),"")) | O29: =IF(Q30=1,"",IF(AND(B29="Sonntag",D29>E29,Q29=0),SUM(U29:W29),"")) | P29: =IF(OR(Q29=1,Q30=1),"",IF(B30="Sonntag",SUM(R29:W29),"")) | Q29: =OR(Feiertage!$B$1=A29,Feiertage!$B$2=A29,Feiertage!$B$3=A29,Feiertage!$B$4=A29,Feiertage!$B$5=A29,Feiertage!$B$6=A29,Feiertage!$B$7=A29,Feiertage!$B$8=A29,Feiertage!$B$9=A29) -> FALSE | R29: =IF(AND(D29>E29,D29<20),4,"") | S29: =IF(AND(D29>E29,D29>=20),24-D29,"") | T29: =IF(AND(D29<E29,E29>=20),E29-20,"") | U29: =IF(AND(D29>E29,E29>=6),6,"") | V29: =IF(AND(D29>E29,E29<6),E29,"") | W29: =IF(AND(D29<E29,E29>=6,D29<=6),6-D29,"") | X29: =IF(AND(D29<E29,E29<6),6-E29,"") | Y29: Mon. bis Fr.
A30: 42055 | B30: Freitag | F30: =IF(K30="X",Gesamt!$C$8,IF(J30="X",Gesamt!$C$9,IF(IF(E30<D30,E30+(24-D30),E30-D30)>0,IF(E30<D30,E30+(24-D30),E30-D30),""))) | G30: =IF(SUM(L30:P30)=0,"",SUM(L30:P30)) | H30: =IF(D30="","",IF(Q30=0,IF(B30="Sonntag",IF(D30>E30,24-D30,E30-D30),IF(AND(B30="Samstag",Q31=0),IF(D30>E30,E30,""),"")),IF(AND(B30="Samstag",Q31=0),IF(D30>E30,E30,""),""))) | I30: =IF(D30="","",IF(AND(Q30=1,Q31=1),IF(D30>E30,24-D30+E30,E30-D30),IF(Q30=1,IF(D30>E30,24-D30,E30-D30),IF(AND(Q31=1,D30>E30),E30,"")))) | J30: =IF(C30="Urlaub","X","") | K30: =IF(C30="Krank","X","") | L30: =IF(OR(Q30=1,Q31=1,B30="Sonntag",B31="Sonntag"),"",SUM(R30:W30)) -> 0 | M30: =IF(B30="Sonntag","",IF(AND(Q30=1,D30>E30),SUM(U30:W30),"")) | N30: =IF(OR(AND(Q30=1,Q31=1),AND(Q31=1,B30="Sonntag")),"",IF(Q31=1,SUM(R30:T30),"")) | O30: =IF(Q31=1,"",IF(AND(B30="Sonntag",D30>E30,Q30=0),SUM(U30:W30),"")) | P30: =IF(OR(Q30=1,Q31=1),"",IF(B31="Sonntag",SUM(R30:W30),"")) | Q30: =OR(Feiertage!$B$1=A30,Feiertage!$B$2=A30,Feiertage!$B$3=A30,Feiertage!$B$4=A30,Feiertage!$B$5=A30,Feiertage!$B$6=A30,Feiertage!$B$7=A30,Feiertage!$B$8=A30,Feiertage!$B$9=A30) -> FALSE | R30: =IF(AND(D30>E30,D30<20),4,"") | S30: =IF(AND(D30>E30,D30>=20),24-D30,"") | T30: =IF(AND(D30<E30,E30>=20),E30-20,"") | U30: =IF(AND(D30>E30,E30>=6),6,"") | V30: =IF(AND(D30>E30,E30<6),E30,"") | W30: =IF(AND(D30<E30,E30>=6,D30<=6),6-D30,"") | X30: =IF(AND(D30<E30,E30<6),6-E30,"") | Y30: Mon. bis Fr.
A31: 42056 | B31: Samstag | F31: =IF(K31="X",Gesamt!$C$8,IF(J31="X",Gesamt!$C$9,IF(IF(E31<D31,E31+(24-D31),E31-D31)>0,IF(E31<D31,E31+(24-D31),E31-D31),""))) | G31: =IF(SUM(L31:P31)=0,"",SUM(L31:P31)) | H31: =IF(D31="","",IF(Q31=0,IF(B31="Sonntag",IF(D31>E31,24-D31,E31-D31),IF(AND(B31="Samstag",Q32=0),IF(D31>E31,E31,""),"")),IF(AND(B31="Samstag",Q32=0),IF(D31>E31,E31,""),""))) | I31: =IF(D31="","",IF(AND(Q31=1,Q32=1),IF(D31>E31,24-D31+E31,E31-D31),IF(Q31=1,IF(D31>E31,24-D31,E31-D31),IF(AND(Q32=1,D31>E31),E31,"")))) | J31: =IF(C31="Urlaub","X","") | K31: =IF(C31="Krank","X","") | L31: =IF(OR(Q31=1,Q32=1,B31="Sonntag",B32="Sonntag"),"",SUM(R31:X31)) | M31: =IF(B31="Sonntag","",IF(AND(Q31=1,D31>E31),SUM(U31:X31),"")) | N31: =IF(AND(Q31=1,Q32=1),"",IF(Q32=1,SUM(R31:T31),"")) | O31: =IF(Q32=1,"",IF(AND(B31="Sonntag",D31>E31,Q31=0),SUM(U31:X31),"")) | P31: =IF(OR(Q31=1,Q32=1),"",IF(B32="Sonntag",SUM(R31:T31),"")) -> 0 | Q31: =OR(Feiertage!$B$1=A31,Feiertage!$B$2=A31,Feiertage!$B$3=A31,Feiertage!$B$4=A31,Feiertage!$B$5=A31,Feiertage!$B$6=A31,Feiertage!$B$7=A31,Feiertage!$B$8=A31,Feiertage!$B$9=A31) -> FALSE | R31: =IF(AND(D31>E31,D31<20),4,IF(AND(D31<E31,D31<=6),6-D31,"")) | S31: =IF(AND(D31>E31,D31>=20),24-D31,"") | T31: =IF(AND(D31<E31,E31>=20),E31-20,"") | U31: =IF(AND(D31>E31,E31>=6),6,"") | V31: =IF(AND(D31>E31,E31<6),E31,"") | W31: =IF(AND(D31<E31,E31>=6,D31<=6),6-D31,"") | X31: =IF(AND(D31<E31,E31<6),6-E31,"") | Y31: Samstag
A32: 42057 | B32: Sonntag | F32: =IF(K32="X",Gesamt!$C$8,IF(J32="X",Gesamt!$C$9,IF(IF(E32<D32,E32+(24-D32),E32-D32)>0,IF(E32<D32,E32+(24-D32),E32-D32),""))) | G32: =IF(SUM(L32:P32)=0,"",SUM(L32:P32)) | H32: =IF(D32="","",IF(Q32=0,IF(B32="Sonntag",IF(D32>E32,24-D32,E32-D32),IF(AND(B32="Samstag",Q33=0),IF(D32>E32,E32,""),"")),IF(AND(B32="Samstag",Q33=0),IF(D32>E32,E32,""),""))) | I32: =IF(D32="","",IF(AND(Q32=1,Q33=1),IF(D32>E32,24-D32+E32,E32-D32),IF(Q32=1,IF(D32>E32,24-D32,E32-D32),IF(AND(Q33=1,D32>E32),E32,"")))) | J32: =IF(C32="Urlaub","X","") | K32: =IF(C32="Krank","X","") | L32: =IF(OR(Q32=1,Q33=1,B32="Sonntag",B33="Sonntag"),"",SUM(R32:X32)) | M32: =IF(B33="Sonntag","",IF(AND(Q32=1,D32>E32),SUM(U32:X32),"")) | N32: =IF(AND(Q32=1,Q34=1),"",IF(Q33=1,SUM(R32:T32),"")) | O32: =IF(Q34=1,"",IF(AND(B32="Sonntag",D32>E32,Q32=0),SUM(U32:X32),"")) | P32: =IF(OR(Q32=1,Q34=1),"",IF(B33="Sonntag",SUM(R32:T32),"")) | Q32: =OR(Feiertage!$B$1=A32,Feiertage!$B$2=A32,Feiertage!$B$3=A32,Feiertage!$B$4=A32,Feiertage!$B$5=A32,Feiertage!$B$6=A32,Feiertage!$B$7=A32,Feiertage!$B$8=A32,Feiertage!$B$9=A32) -> FALSE | R32: =IF(AND(D32>E32,D32<20),4,"") | S32: =IF(AND(D32>E32,D32>=20),24-D32,"") | T32: =IF(AND(D32<E32,E32>=20),E32-20,"") | U32: =IF(AND(D32>E32,E32>=6),6,"") | V32: =IF(AND(D32>E32,E32<6),E32,"") | W32: =IF(AND(D32<E32,E32>=6,D32<=6),6-D32,"") | X32: =IF(AND(D32<E32,E32<6),E32-D32,"") | Y32: Sonntag
D33: Gesamt: | F33: =SUM(F26:F32) -> 0 | G33: =SUM(G26:G32) -> 0 | H33: =SUM(H26:H32) -> 0 | I33: =SUM(I26:I32) -> 0 | J33: =COUNTIF(J26:J32,"X") -> 0 | K33: =COUNTIF(K26:K32,"X") -> 0
A34: 42058 | B34: Montag | F34: =IF(K34="X",Gesamt!$C$8,IF(J34="X",Gesamt!$C$9,IF(IF(E34<D34,E34+(24-D34),E34-D34)>0,IF(E34<D34,E34+(24-D34),E34-D34),""))) | G34: =IF(SUM(L34:P34)=0,"",SUM(L34:P34)) | H34: =IF(D34="","",IF(Q34=0,IF(B34="Sonntag",IF(D34>E34,24-D34,E34-D34),IF(AND(B34="Samstag",Q35=0),IF(D34>E34,E34,""),"")),IF(AND(B34="Samstag",Q35=0),IF(D34>E34,E34,""),""))) | I34: =IF(D34="","",IF(AND(Q34=1,Q35=1),IF(D34>E34,24-D34+E34,E34-D34),IF(Q34=1,IF(D34>E34,24-D34,E34-D34),IF(AND(Q35=1,D34>E34),E34,"")))) | J34: =IF(C34="Urlaub","X","") | K34: =IF(C34="Krank","X","") | L34: =IF(OR(Q34=1,Q35=1,B34="Sonntag",B35="Sonntag"),"",SUM(R34:W34)) -> 0 | M34: =IF(B34="Sonntag","",IF(AND(Q34=1,D34>E34),SUM(U34:W34),"")) | N34: =IF(OR(AND(Q34=1,Q35=1),AND(Q35=1,B34="Sonntag")),"",IF(Q35=1,SUM(R34:T34),"")) | O34: =IF(Q35=1,"",IF(AND(B34="Sonntag",D34>E34,Q34=0),SUM(U34:W34),"")) | P34: =IF(OR(Q34=1,Q35=1),"",IF(B35="Sonntag",SUM(R34:W34),"")) | Q34: =OR(Feiertage!$B$1=A34,Feiertage!$B$2=A34,Feiertage!$B$3=A34,Feiertage!$B$4=A34,Feiertage!$B$5=A34,Feiertage!$B$6=A34,Feiertage!$B$7=A34,Feiertage!$B$8=A34,Feiertage!$B$9=A34) -> FALSE | R34: =IF(AND(D34>E34,D34<20),4,"") | S34: =IF(AND(D34>E34,D34>=20),24-D34,"") | T34: =IF(AND(D34<E34,E34>=20),E34-20,"") | U34: =IF(AND(D34>E34,E34>=6),6,"") | V34: =IF(AND(D34>E34,E34<6),E34,"") | W34: =IF(AND(D34<E34,E34>=6,D34<=6),6-D34,"") | X34: =IF(AND(D34<E34,E34<6),6-E34,"") | Y34: Mon. bis Fr.
A35: 42059 | B35: Dienstag | F35: =IF(K35="X",Gesamt!$C$8,IF(J35="X",Gesamt!$C$9,IF(IF(E35<D35,E35+(24-D35),E35-D35)>0,IF(E35<D35,E35+(24-D35),E35-D35),""))) | G35: =IF(SUM(L35:P35)=0,"",SUM(L35:P35)) | H35: =IF(D35="","",IF(Q35=0,IF(B35="Sonntag",IF(D35>E35,24-D35,E35-D35),IF(AND(B35="Samstag",Q36=0),IF(D35>E35,E35,""),"")),IF(AND(B35="Samstag",Q36=0),IF(D35>E35,E35,""),""))) | I35: =IF(D35="","",IF(AND(Q35=1,Q36=1),IF(D35>E35,24-D35+E35,E35-D35),IF(Q35=1,IF(D35>E35,24-D35,E35-D35),IF(AND(Q36=1,D35>E35),E35,"")))) | J35: =IF(C35="Urlaub","X","") | K35: =IF(C35="Krank","X","") | L35: =IF(OR(Q35=1,Q36=1,B35="Sonntag",B36="Sonntag"),"",SUM(R35:W35)) -> 0 | M35: =IF(B35="Sonntag","",IF(AND(Q35=1,D35>E35),SUM(U35:W35),"")) | N35: =IF(OR(AND(Q35=1,Q36=1),AND(Q36=1,B35="Sonntag")),"",IF(Q36=1,SUM(R35:T35),"")) | O35: =IF(Q36=1,"",IF(AND(B35="Sonntag",D35>E35,Q35=0),SUM(U35:W35),"")) | P35: =IF(OR(Q35=1,Q36=1),"",IF(B36="Sonntag",SUM(R35:W35),"")) | Q35: =OR(Feiertage!$B$1=A35,Feiertage!$B$2=A35,Feiertage!$B$3=A35,Feiertage!$B$4=A35,Feiertage!$B$5=A35,Feiertage!$B$6=A35,Feiertage!$B$7=A35,Feiertage!$B$8=A35,Feiertage!$B$9=A35) -> FALSE | R35: =IF(AND(D35>E35,D35<20),4,"") | S35: =IF(AND(D35>E35,D35>=20),24-D35,"") | T35: =IF(AND(D35<E35,E35>=20),E35-20,"") | U35: =IF(AND(D35>E35,E35>=6),6,"") | V35: =IF(AND(D35>E35,E35<6),E35,"") | W35: =IF(AND(D35<E35,E35>=6,D35<=6),6-D35,"") | X35: =IF(AND(D35<E35,E35<6),6-E35,"") | Y35: Mon. bis Fr.
A36: 42060 | B36: Mittwoch | F36: =IF(K36="X",Gesamt!$C$8,IF(J36="X",Gesamt!$C$9,IF(IF(E36<D36,E36+(24-D36),E36-D36)>0,IF(E36<D36,E36+(24-D36),E36-D36),""))) | G36: =IF(SUM(L36:P36)=0,"",SUM(L36:P36)) | H36: =IF(D36="","",IF(Q36=0,IF(B36="Sonntag",IF(D36>E36,24-D36,E36-D36),IF(AND(B36="Samstag",Q37=0),IF(D36>E36,E36,""),"")),IF(AND(B36="Samstag",Q37=0),IF(D36>E36,E36,""),""))) | I36: =IF(D36="","",IF(AND(Q36=1,Q37=1),IF(D36>E36,24-D36+E36,E36-D36),IF(Q36=1,IF(D36>E36,24-D36,E36-D36),IF(AND(Q37=1,D36>E36),E36,"")))) | J36: =IF(C36="Urlaub","X","") | K36: =IF(C36="Krank","X","") | L36: =IF(OR(Q36=1,Q37=1,B36="Sonntag",B37="Sonntag"),"",SUM(R36:W36)) -> 0 | M36: =IF(B36="Sonntag","",IF(AND(Q36=1,D36>E36),SUM(U36:W36),"")) | N36: =IF(OR(AND(Q36=1,Q37=1),AND(Q37=1,B36="Sonntag")),"",IF(Q37=1,SUM(R36:T36),"")) | O36: =IF(Q37=1,"",IF(AND(B36="Sonntag",D36>E36,Q36=0),SUM(U36:W36),"")) | P36: =IF(OR(Q36=1,Q37=1),"",IF(B37="Sonntag",SUM(R36:W36),"")) | Q36: =OR(Feiertage!$B$1=A36,Feiertage!$B$2=A36,Feiertage!$B$3=A36,Feiertage!$B$4=A36,Feiertage!$B$5=A36,Feiertage!$B$6=A36,Feiertage!$B$7=A36,Feiertage!$B$8=A36,Feiertage!$B$9=A36) -> FALSE | R36: =IF(AND(D36>E36,D36<20),4,"") | S36: =IF(AND(D36>E36,D36>=20),24-D36,"") | T36: =IF(AND(D36<E36,E36>=20),E36-20,"") | U36: =IF(AND(D36>E36,E36>=6),6,"") | V36: =IF(AND(D36>E36,E36<6),E36,"") | W36: =IF(AND(D36<E36,E36>=6,D36<=6),6-D36,"") | X36: =IF(AND(D36<E36,E36<6),6-E36,"") | Y36: Mon. bis Fr.
A37: 42061 | B37: Donnerstag | F37: =IF(K37="X",Gesamt!$C$8,IF(J37="X",Gesamt!$C$9,IF(IF(E37<D37,E37+(24-D37),E37-D37)>0,IF(E37<D37,E37+(24-D37),E37-D37),""))) | G37: =IF(SUM(L37:P37)=0,"",SUM(L37:P37)) | H37: =IF(D37="","",IF(Q37=0,IF(B37="Sonntag",IF(D37>E37,24-D37,E37-D37),IF(AND(B37="Samstag",Q38=0),IF(D37>E37,E37,""),"")),IF(AND(B37="Samstag",Q38=0),IF(D37>E37,E37,""),""))) | I37: =IF(D37="","",IF(AND(Q37=1,Q38=1),IF(D37>E37,24-D37+E37,E37-D37),IF(Q37=1,IF(D37>E37,24-D37,E37-D37),IF(AND(Q38=1,D37>E37),E37,"")))) | J37: =IF(C37="Urlaub","X","") | K37: =IF(C37="Krank","X","") | L37: =IF(OR(Q37=1,Q38=1,B37="Sonntag",B38="Sonntag"),"",SUM(R37:W37)) -> 0 | M37: =IF(B37="Sonntag","",IF(AND(Q37=1,D37>E37),SUM(U37:W37),"")) | N37: =IF(OR(AND(Q37=1,Q38=1),AND(Q38=1,B37="Sonntag")),"",IF(Q38=1,SUM(R37:T37),"")) | O37: =IF(Q38=1,"",IF(AND(B37="Sonntag",D37>E37,Q37=0),SUM(U37:W37),"")) | P37: =IF(OR(Q37=1,Q38=1),"",IF(B38="Sonntag",SUM(R37:W37),"")) | Q37: =OR(Feiertage!$B$1=A37,Feiertage!$B$2=A37,Feiertage!$B$3=A37,Feiertage!$B$4=A37,Feiertage!$B$5=A37,Feiertage!$B$6=A37,Feiertage!$B$7=A37,Feiertage!$B$8=A37,Feiertage!$B$9=A37) -> FALSE | R37: =IF(AND(D37>E37,D37<20),4,"") | S37: =IF(AND(D37>E37,D37>=20),24-D37,"") | T37: =IF(AND(D37<E37,E37>=20),E37-20,"") | U37: =IF(AND(D37>E37,E37>=6),6,"") | V37: =IF(AND(D37>E37,E37<6),E37,"") | W37: =IF(AND(D37<E37,E37>=6,D37<=6),6-D37,"") | X37: =IF(AND(D37<E37,E37<6),6-E37,"") | Y37: Mon. bis Fr.
A38: 42062 | B38: Freitag | F38: =IF(K38="X",Gesamt!$C$8,IF(J38="X",Gesamt!$C$9,IF(IF(E38<D38,E38+(24-D38),E38-D38)>0,IF(E38<D38,E38+(24-D38),E38-D38),""))) | G38: =IF(SUM(L38:P38)=0,"",SUM(L38:P38)) | H38: =IF(D38="","",IF(Q38=0,IF(B38="Sonntag",IF(D38>E38,24-D38,E38-D38),IF(AND(B38="Samstag",Q39=0),IF(D38>E38,E38,""),"")),IF(AND(B38="Samstag",Q39=0),IF(D38>E38,E38,""),""))) | I38: =IF(D38="","",IF(AND(Q38=1,Q39=1),IF(D38>E38,24-D38+E38,E38-D38),IF(Q38=1,IF(D38>E38,24-D38,E38-D38),IF(AND(Q39=1,D38>E38),E38,"")))) | J38: =IF(C38="Urlaub","X","") | K38: =IF(C38="Krank","X","") | L38: =IF(OR(Q38=1,Q39=1,B38="Sonntag",B39="Sonntag"),"",SUM(R38:W38)) -> 0 | M38: =IF(B38="Sonntag","",IF(AND(Q38=1,D38>E38),SUM(U38:W38),"")) | N38: =IF(OR(AND(Q38=1,Q39=1),AND(Q39=1,B38="Sonntag")),"",IF(Q39=1,SUM(R38:T38),"")) | O38: =IF(Q39=1,"",IF(AND(B38="Sonntag",D38>E38,Q38=0),SUM(U38:W38),"")) | P38: =IF(OR(Q38=1,Q39=1),"",IF(B39="Sonntag",SUM(R38:W38),"")) | Q38: =OR(Feiertage!$B$1=A38,Feiertage!$B$2=A38,Feiertage!$B$3=A38,Feiertage!$B$4=A38,Feiertage!$B$5=A38,Feiertage!$B$6=A38,Feiertage!$B$7=A38,Feiertage!$B$8=A38,Feiertage!$B$9=A38) -> FALSE | R38: =IF(AND(D38>E38,D38<20),4,"") | S38: =IF(AND(D38>E38,D38>=20),24-D38,"") | T38: =IF(AND(D38<E38,E38>=20),E38-20,"") | U38: =IF(AND(D38>E38,E38>=6),6,"") | V38: =IF(AND(D38>E38,E38<6),E38,"") | W38: =IF(AND(D38<E38,E38>=6,D38<=6),6-D38,"") | X38: =IF(AND(D38<E38,E38<6),6-E38,"") | Y38: Mon. bis Fr.
A39: 42063 | B39: Samstag | F39: =IF(K39="X",Gesamt!$C$8,IF(J39="X",Gesamt!$C$9,IF(IF(E39<D39,E39+(24-D39),E39-D39)>0,IF(E39<D39,E39+(24-D39),E39-D39),""))) | G39: =IF(SUM(L39:P39)=0,"",SUM(L39:P39)) | H39: =IF(D39="","",IF(Q39=0,IF(B39="Sonntag",IF(D39>E39,24-D39,E39-D39),IF(AND(B39="Samstag",Q40=0),IF(D39>E39,E39,""),"")),IF(AND(B39="Samstag",Q40=0),IF(D39>E39,E39,""),""))) | I39: =IF(D39="","",IF(AND(Q39=1,Q40=1),IF(D39>E39,24-D39+E39,E39-D39),IF(Q39=1,IF(D39>E39,24-D39,E39-D39),IF(AND(Q40=1,D39>E39),E39,"")))) | J39: =IF(C39="Urlaub","X","") | K39: =IF(C39="Krank","X","") | L39: =IF(OR(Q39=1,Q40=1,B39="Sonntag",B40="Sonntag"),"",SUM(R39:X39)) | M39: =IF(B39="Sonntag","",IF(AND(Q39=1,D39>E39),SUM(U39:X39),"")) | N39: =IF(AND(Q39=1,Q40=1),"",IF(Q40=1,SUM(R39:T39),"")) | O39: =IF(Q40=1,"",IF(AND(B39="Sonntag",D39>E39,Q39=0),SUM(U39:X39),"")) | P39: =IF(OR(Q39=1,Q40=1),"",IF(B40="Sonntag",SUM(R39:T39),"")) -> 0 | Q39: =OR(Feiertage!$B$1=A39,Feiertage!$B$2=A39,Feiertage!$B$3=A39,Feiertage!$B$4=A39,Feiertage!$B$5=A39,Feiertage!$B$6=A39,Feiertage!$B$7=A39,Feiertage!$B$8=A39,Feiertage!$B$9=A39) -> FALSE | R39: =IF(AND(D39>E39,D39<20),4,IF(AND(D39<E39,D39<=6),6-D39,"")) | S39: =IF(AND(D39>E39,D39>=20),24-D39,"") | T39: =IF(AND(D39<E39,E39>=20),E39-20,"") | U39: =IF(AND(D39>E39,E39>=6),6,"") | V39: =IF(AND(D39>E39,E39<6),E39,"") | W39: =IF(AND(D39<E39,E39>=6,D39<=6),6-D39,"") | X39: =IF(AND(D39<E39,E39<6),6-E39,"") | Y39: Samstag
A40: 42064 | B40: Sonntag | F40: =IF(K40="X",Gesamt!$C$8,IF(J40="X",Gesamt!$C$9,IF(IF(E40<D40,E40+(24-D40),E40-D40)>0,IF(E40<D40,E40+(24-D40),E40-D40),""))) | G40: =IF(SUM(L40:P40)=0,"",SUM(L40:P40)) | H40: =IF(D40="","",IF(Q40=0,IF(B40="Sonntag",IF(D40>E40,24-D40,E40-D40),IF(AND(B40="Samstag",Q42=0),IF(D40>E40,E40,""),"")),IF(AND(B40="Samstag",Q42=0),IF(D40>E40,E40,""),""))) | I40: =IF(D40="","",IF(AND(Q40=1,Q42=1),IF(D40>E40,24-D40+E40,E40-D40),IF(Q40=1,IF(D40>E40,24-D40,E40-D40),IF(AND(Q42=1,D40>E40),E40,"")))) | J40: =IF(C40="Urlaub","X","") | K40: =IF(C40="Krank","X","") | L40: =IF(OR(Q40=1,Q41=1,B40="Sonntag",B41="Sonntag"),"",SUM(R40:X40)) | M40: =IF(B41="Sonntag","",IF(AND(Q40=1,D40>E40),SUM(U40:X40),"")) | N40: =IF(AND(Q40=1,Q42=1),"",IF(Q41=1,SUM(R40:T40),"")) | O40: =IF(Q42=1,"",IF(AND(B40="Sonntag",D40>E40,Q40=0),SUM(U40:X40),"")) | P40: =IF(OR(Q40=1,Q42=1),"",IF(B41="Sonntag",SUM(R40:T40),"")) | Q40: =OR(Feiertage!$B$1=A40,Feiertage!$B$2=A40,Feiertage!$B$3=A40,Feiertage!$B$4=A40,Feiertage!$B$5=A40,Feiertage!$B$6=A40,Feiertage!$B$7=A40,Feiertage!$B$8=A40,Feiertage!$B$9=A40) -> FALSE | R40: =IF(AND(D40>E40,D40<20),4,"") | S40: =IF(AND(D40>E40,D40>=20),24-D40,"") | T40: =IF(AND(D40<E40,E40>=20),E40-20,"") | U40: =IF(AND(D40>E40,E40>=6),6,"") | V40: =IF(AND(D40>E40,E40<6),E40,"") | W40: =IF(AND(D40<E40,E40>=6,D40<=6),6-D40,"") | X40: =IF(AND(D40<E40,E40<6),E40-D40,"") | Y40: Sonntag
D41: Gesamt: | F41: =SUM(F34:F39) -> 0 | G41: =SUM(G34:G39) -> 0 | H41: =SUM(H34:H39) -> 0 | I41: =SUM(I34:I39) -> 0 | J41: =COUNTIF(J34:J39,"X") -> 0 | K41: =COUNTIF(K34:K39,"X") -> 0
D42: Gesamt: | F42: =SUM(F9+F17+F25+F33+F41) -> 0 | G42: =SUM(G9+G17+G25+G33+G41) -> 0 | H42: =SUM(H9+H17+H25+H33+H41) -> 0 | I42: =SUM(I9+I17+I25+I33+I41) -> 0 | J42: =SUM(J9+J17+J25+J33+J41) -> 0 | K42: =SUM(K9+K17+K25+K33+K41) -> 0

Sheet März
A1: =A8 -> 42064
A3: Filiale: | B3: =Gesamt!$B$5 -> 0 | F3: Firma: | G3: =Gesamt!$G$5 -> 0
A5: Name: | B5: =Gesamt!$B$3 -> 0
A7: Datum | B7: Tag | C7: Tätigkeit | D7: von | E7: bis | F7: Stunden | G7: Ab 2000Ab 2000 | H7: Sonntag | I7: Feiertag | J7: Urlaub | K7: Krank
A8: 42064 | B8: Sonntag | F8: =IF(K8="X",Gesamt!$C$8,IF(J8="X",Gesamt!$C$9,IF(IF(E8<D8,E8+(24-D8),E8-D8)>0,IF(E8<D8,E8+(24-D8),E8-D8),""))) | G8: =IF(SUM(L8:P8)=0,"",SUM(L8:P8)) | H8: =IF(D8="","",IF(Q8=0,IF(B8="Sonntag",IF(D8>E8,24-D8,E8-D8),IF(AND(B8="Samstag",Q10=0),IF(D8>E8,E8,""),"")),IF(AND(B8="Samstag",Q10=0),IF(D8>E8,E8,""),""))) | I8: =IF(D8="","",IF(AND(Q8=1,Q10=1),IF(D8>E8,24-D8+E8,E8-D8),IF(Q8=1,IF(D8>E8,24-D8,E8-D8),IF(AND(Q10=1,D8>E8),E8,"")))) | J8: =IF(C8="Urlaub","X","") | K8: =IF(C8="Krank","X","") | L8: =IF(OR(Q8=1,Q9=1,B8="Sonntag",B9="Sonntag"),"",SUM(R8:X8)) | M8: =IF(B9="Sonntag","",IF(AND(Q8=1,D8>E8),SUM(U8:X8),"")) | N8: =IF(AND(Q8=1,Q10=1),"",IF(Q9=1,SUM(R8:T8),"")) | O8: =IF(Q10=1,"",IF(AND(B8="Sonntag",D8>E8,Q8=0),SUM(U8:X8),"")) | P8: =IF(OR(Q8=1,Q10=1),"",IF(B9="Sonntag",SUM(R8:T8),"")) | Q8: =OR(Feiertage!$B$1=A8,Feiertage!$B$2=A8,Feiertage!$B$3=A8,Feiertage!$B$4=A8,Feiertage!$B$5=A8,Feiertage!$B$6=A8,Feiertage!$B$7=A8,Feiertage!$B$8=A8,Feiertage!$B$9=A8) -> FALSE | R8: =IF(AND(D8>E8,D8<20),4,"") | S8: =IF(AND(D8>E8,D8>=20),24-D8,"") | T8: =IF(AND(D8<E8,E8>=20),E8-20,"") | U8: =IF(AND(D8>E8,E8>=6),6,"") | V8: =IF(AND(D8>E8,E8<6),E8,"") | W8: =IF(AND(D8<E8,E8>=6,D8<=6),6-D8,"") | X8: =IF(AND(D8<E8,E8<6),E8-D8,"") | Y8: Sonntag
D9: Gesamt: | F9: =SUM(F4:F8) -> 0 | G9: =SUM(G4:G8) -> 0 | H9: =SUM(H4:H8) -> 0 | I9: =SUM(I4:I8) -> 0 | J9: =COUNTIF(J4:J8,"X") -> 0 | K9: =COUNTIF(K4:K8,"X") -> 0
A10: 42065 | B10: Montag | F10: =IF(K10="X",Gesamt!$C$8,IF(J10="X",Gesamt!$C$9,IF(IF(E10<D10,E10+(24-D10),E10-D10)>0,IF(E10<D10,E10+(24-D10),E10-D10),""))) | G10: =IF(SUM(L10:P10)=0,"",SUM(L10:P10)) | H10: =IF(D10="","",IF(Q10=0,IF(B10="Sonntag",IF(D10>E10,24-D10,E10-D10),IF(AND(B10="Samstag",Q11=0),IF(D10>E10,E10,""),"")),IF(AND(B10="Samstag",Q11=0),IF(D10>E10,E10,""),""))) | I10: =IF(D10="","",IF(AND(Q10=1,Q11=1),IF(D10>E10,24-D10+E10,E10-D10),IF(Q10=1,IF(D10>E10,24-D10,E10-D10),IF(AND(Q11=1,D10>E10),E10,"")))) | J10: =IF(C10="Urlaub","X","") | K10: =IF(C10="Krank","X","") | L10: =IF(OR(Q10=1,Q11=1,B10="Sonntag",B11="Sonntag"),"",SUM(R10:W10)) -> 0 | M10: =IF(B10="Sonntag","",IF(AND(Q10=1,D10>E10),SUM(U10:W10),"")) | N10: =IF(OR(AND(Q10=1,Q11=1),AND(Q11=1,B10="Sonntag")),"",IF(Q11=1,SUM(R10:T10),"")) | O10: =IF(Q11=1,"",IF(AND(B10="Sonntag",D10>E10,Q10=0),SUM(U10:W10),"")) | P10: =IF(OR(Q10=1,Q11=1),"",IF(B11="Sonntag",SUM(R10:W10),"")) | Q10: =OR(Feiertage!$B$1=A10,Feiertage!$B$2=A10,Feiertage!$B$3=A10,Feiertage!$B$4=A10,Feiertage!$B$5=A10,Feiertage!$B$6=A10,Feiertage!$B$7=A10,Feiertage!$B$8=A10,Feiertage!$B$9=A10) -> FALSE | R10: =IF(AND(D10>E10,D10<20),4,"") | S10: =IF(AND(D10>E10,D10>=20),24-D10,"") | T10: =IF(AND(D10<E10,E10>=20),E10-20,"") | U10: =IF(AND(D10>E10,E10>=6),6,"") | V10: =IF(AND(D10>E10,E10<6),E10,"") | W10: =IF(AND(D10<E10,E10>=6,D10<=6),6-D10,"") | X10: =IF(AND(D10<E10,E10<6),6-E10,"") | Y10: Mon. bis Fr.
A11: 42066 | B11: Dienstag | F11: =IF(K11="X",Gesamt!$C$8,IF(J11="X",Gesamt!$C$9,IF(IF(E11<D11,E11+(24-D11),E11-D11)>0,IF(E11<D11,E11+(24-D11),E11-D11),""))) | G11: =IF(SUM(L11:P11)=0,"",SUM(L11:P11)) | H11: =IF(D11="","",IF(Q11=0,IF(B11="Sonntag",IF(D11>E11,24-D11,E11-D11),IF(AND(B11="Samstag",Q12=0),IF(D11>E11,E11,""),"")),IF(AND(B11="Samstag",Q12=0),IF(D11>E11,E11,""),""))) | I11: =IF(D11="","",IF(AND(Q11=1,Q12=1),IF(D11>E11,24-D11+E11,E11-D11),IF(Q11=1,IF(D11>E11,24-D11,E11-D11),IF(AND(Q12=1,D11>E11),E11,"")))) | J11: =IF(C11="Urlaub","X","") | K11: =IF(C11="Krank","X","") | L11: =IF(OR(Q11=1,Q12=1,B11="Sonntag",B12="Sonntag"),"",SUM(R11:W11)) -> 0 | M11: =IF(B11="Sonntag","",IF(AND(Q11=1,D11>E11),SUM(U11:W11),"")) | N11: =IF(OR(AND(Q11=1,Q12=1),AND(Q12=1,B11="Sonntag")),"",IF(Q12=1,SUM(R11:T11),"")) | O11: =IF(Q12=1,"",IF(AND(B11="Sonntag",D11>E11,Q11=0),SUM(U11:W11),"")) | P11: =IF(OR(Q11=1,Q12=1),"",IF(B12="Sonntag",SUM(R11:W11),"")) | Q11: =OR(Feiertage!$B$1=A11,Feiertage!$B$2=A11,Feiertage!$B$3=A11,Feiertage!$B$4=A11,Feiertage!$B$5=A11,Feiertage!$B$6=A11,Feiertage!$B$7=A11,Feiertage!$B$8=A11,Feiertage!$B$9=A11) -> FALSE | R11: =IF(AND(D11>E11,D11<20),4,"") | S11: =IF(AND(D11>E11,D11>=20),24-D11,"") | T11: =IF(AND(D11<E11,E11>=20),E11-20,"") | U11: =IF(AND(D11>E11,E11>=6),6,"") | V11: =IF(AND(D11>E11,E11<6),E11,"") | W11: =IF(AND(D11<E11,E11>=6,D11<=6),6-D11,"") | X11: =IF(AND(D11<E11,E11<6),6-E11,"") | Y11: Mon. bis Fr.
A12: 42067 | B12: Mittwoch | F12: =IF(K12="X",Gesamt!$C$8,IF(J12="X",Gesamt!$C$9,IF(IF(E12<D12,E12+(24-D12),E12-D12)>0,IF(E12<D12,E12+(24-D12),E12-D12),""))) | G12: =IF(SUM(L12:P12)=0,"",SUM(L12:P12)) | H12: =IF(D12="","",IF(Q12=0,IF(B12="Sonntag",IF(D12>E12,24-D12,E12-D12),IF(AND(B12="Samstag",Q13=0),IF(D12>E12,E12,""),"")),IF(AND(B12="Samstag",Q13=0),IF(D12>E12,E12,""),""))) | I12: =IF(D12="","",IF(AND(Q12=1,Q13=1),IF(D12>E12,24-D12+E12,E12-D12),IF(Q12=1,IF(D12>E12,24-D12,E12-D12),IF(AND(Q13=1,D12>E12),E12,"")))) | J12: =IF(C12="Urlaub","X","") | K12: =IF(C12="Krank","X","") | L12: =IF(OR(Q12=1,Q13=1,B12="Sonntag",B13="Sonntag"),"",SUM(R12:W12)) -> 0 | M12: =IF(B12="Sonntag","",IF(AND(Q12=1,D12>E12),SUM(U12:W12),"")) | N12: =IF(OR(AND(Q12=1,Q13=1),AND(Q13=1,B12="Sonntag")),"",IF(Q13=1,SUM(R12:T12),"")) | O12: =IF(Q13=1,"",IF(AND(B12="Sonntag",D12>E12,Q12=0),SUM(U12:W12),"")) | P12: =IF(OR(Q12=1,Q13=1),"",IF(B13="Sonntag",SUM(R12:W12),"")) | Q12: =OR(Feiertage!$B$1=A12,Feiertage!$B$2=A12,Feiertage!$B$3=A12,Feiertage!$B$4=A12,Feiertage!$B$5=A12,Feiertage!$B$6=A12,Feiertage!$B$7=A12,Feiertage!$B$8=A12,Feiertage!$B$9=A12) -> FALSE | R12: =IF(AND(D12>E12,D12<20),4,"") | S12: =IF(AND(D12>E12,D12>=20),24-D12,"") | T12: =IF(AND(D12<E12,E12>=20),E12-20,"") | U12: =IF(AND(D12>E12,E12>=6),6,"") | V12: =IF(AND(D12>E12,E12<6),E12,"") | W12: =IF(AND(D12<E12,E12>=6,D12<=6),6-D12,"") | X12: =IF(AND(D12<E12,E12<6),6-E12,"") | Y12: Mon. bis Fr.
A13: 42068 | B13: Donnerstag | F13: =IF(K13="X",Gesamt!$C$8,IF(J13="X",Gesamt!$C$9,IF(IF(E13<D13,E13+(24-D13),E13-D13)>0,IF(E13<D13,E13+(24-D13),E13-D13),""))) | G13: =IF(SUM(L13:P13)=0,"",SUM(L13:P13)) | H13: =IF(D13="","",IF(Q13=0,IF(B13="Sonntag",IF(D13>E13,24-D13,E13-D13),IF(AND(B13="Samstag",Q14=0),IF(D13>E13,E13,""),"")),IF(AND(B13="Samstag",Q14=0),IF(D13>E13,E13,""),""))) | I13: =IF(D13="","",IF(AND(Q13=1,Q14=1),IF(D13>E13,24-D13+E13,E13-D13),IF(Q13=1,IF(D13>E13,24-D13,E13-D13),IF(AND(Q14=1,D13>E13),E13,"")))) | J13: =IF(C13="Urlaub","X","") | K13: =IF(C13="Krank","X","") | L13: =IF(OR(Q13=1,Q14=1,B13="Sonntag",B14="Sonntag"),"",SUM(R13:W13)) -> 0 | M13: =IF(B13="Sonntag","",IF(AND(Q13=1,D13>E13),SUM(U13:W13),"")) | N13: =IF(OR(AND(Q13=1,Q14=1),AND(Q14=1,B13="Sonntag")),"",IF(Q14=1,SUM(R13:T13),"")) | O13: =IF(Q14=1,"",IF(AND(B13="Sonntag",D13>E13,Q13=0),SUM(U13:W13),"")) | P13: =IF(OR(Q13=1,Q14=1),"",IF(B14="Sonntag",SUM(R13:W13),"")) | Q13: =OR(Feiertage!$B$1=A13,Feiertage!$B$2=A13,Feiertage!$B$3=A13,Feiertage!$B$4=A13,Feiertage!$B$5=A13,Feiertage!$B$6=A13,Feiertage!$B$7=A13,Feiertage!$B$8=A13,Feiertage!$B$9=A13) -> FALSE | R13: =IF(AND(D13>E13,D13<20),4,"") | S13: =IF(AND(D13>E13,D13>=20),24-D13,"") | T13: =IF(AND(D13<E13,E13>=20),E13-20,"") | U13: =IF(AND(D13>E13,E13>=6),6,"") | V13: =IF(AND(D13>E13,E13<6),E13,"") | W13: =IF(AND(D13<E13,E13>=6,D13<=6),6-D13,"") | X13: =IF(AND(D13<E13,E13<6),6-E13,"") | Y13: Mon. bis Fr.
A14: 42069 | B14: Freitag | F14: =IF(K14="X",Gesamt!$C$8,IF(J14="X",Gesamt!$C$9,IF(IF(E14<D14,E14+(24-D14),E14-D14)>0,IF(E14<D14,E14+(24-D14),E14-D14),""))) | G14: =IF(SUM(L14:P14)=0,"",SUM(L14:P14)) | H14: =IF(D14="","",IF(Q14=0,IF(B14="Sonntag",IF(D14>E14,24-D14,E14-D14),IF(AND(B14="Samstag",Q15=0),IF(D14>E14,E14,""),"")),IF(AND(B14="Samstag",Q15=0),IF(D14>E14,E14,""),""))) | I14: =IF(D14="","",IF(AND(Q14=1,Q15=1),IF(D14>E14,24-D14+E14,E14-D14),IF(Q14=1,IF(D14>E14,24-D14,E14-D14),IF(AND(Q15=1,D14>E14),E14,"")))) | J14: =IF(C14="Urlaub","X","") | K14: =IF(C14="Krank","X","") | L14: =IF(OR(Q14=1,Q15=1,B14="Sonntag",B15="Sonntag"),"",SUM(R14:W14)) -> 0 | M14: =IF(B14="Sonntag","",IF(AND(Q14=1,D14>E14),SUM(U14:W14),"")) | N14: =IF(OR(AND(Q14=1,Q15=1),AND(Q15=1,B14="Sonntag")),"",IF(Q15=1,SUM(R14:T14),"")) | O14: =IF(Q15=1,"",IF(AND(B14="Sonntag",D14>E14,Q14=0),SUM(U14:W14),"")) | P14: =IF(OR(Q14=1,Q15=1),"",IF(B15="Sonntag",SUM(R14:W14),"")) | Q14: =OR(Feiertage!$B$1=A14,Feiertage!$B$2=A14,Feiertage!$B$3=A14,Feiertage!$B$4=A14,Feiertage!$B$5=A14,Feiertage!$B$6=A14,Feiertage!$B$7=A14,Feiertage!$B$8=A14,Feiertage!$B$9=A14) -> FALSE | R14: =IF(AND(D14>E14,D14<20),4,"") | S14: =IF(AND(D14>E14,D14>=20),24-D14,"") | T14: =IF(AND(D14<E14,E14>=20),E14-20,"") | U14: =IF(AND(D14>E14,E14>=6),6,"") | V14: =IF(AND(D14>E14,E14<6),E14,"") | W14: =IF(AND(D14<E14,E14>=6,D14<=6),6-D14,"") | X14: =IF(AND(D14<E14,E14<6),6-E14,"") | Y14: Mon. bis Fr.
A15: 42070 | B15: Samstag | F15: =IF(K15="X",Gesamt!$C$8,IF(J15="X",Gesamt!$C$9,IF(IF(E15<D15,E15+(24-D15),E15-D15)>0,IF(E15<D15,E15+(24-D15),E15-D15),""))) | G15: =IF(SUM(L15:P15)=0,"",SUM(L15:P15)) | H15: =IF(D15="","",IF(Q15=0,IF(B15="Sonntag",IF(D15>E15,24-D15,E15-D15),IF(AND(B15="Samstag",Q16=0),IF(D15>E15,E15,""),"")),IF(AND(B15="Samstag",Q16=0),IF(D15>E15,E15,""),""))) | I15: =IF(D15="","",IF(AND(Q15=1,Q16=1),IF(D15>E15,24-D15+E15,E15-D15),IF(Q15=1,IF(D15>E15,24-D15,E15-D15),IF(AND(Q16=1,D15>E15),E15,"")))) | J15: =IF(C15="Urlaub","X","") | K15: =IF(C15="Krank","X","") | L15: =IF(OR(Q15=1,Q16=1,B15="Sonntag",B16="Sonntag"),"",SUM(R15:X15)) | M15: =IF(B15="Sonntag","",IF(AND(Q15=1,D15>E15),SUM(U15:X15),"")) | N15: =IF(AND(Q15=1,Q16=1),"",IF(Q16=1,SUM(R15:T15),"")) | O15: =IF(Q16=1,"",IF(AND(B15="Sonntag",D15>E15,Q15=0),SUM(U15:X15),"")) | P15: =IF(OR(Q15=1,Q16=1),"",IF(B16="Sonntag",SUM(R15:T15),"")) -> 0 | Q15: =OR(Feiertage!$B$1=A15,Feiertage!$B$2=A15,Feiertage!$B$3=A15,Feiertage!$B$4=A15,Feiertage!$B$5=A15,Feiertage!$B$6=A15,Feiertage!$B$7=A15,Feiertage!$B$8=A15,Feiertage!$B$9=A15) -> FALSE | R15: =IF(AND(D15>E15,D15<20),4,IF(AND(D15<E15,D15<=6),6-D15,"")) | S15: =IF(AND(D15>E15,D15>=20),24-D15,"") | T15: =IF(AND(D15<E15,E15>=20),E15-20,"") | U15: =IF(AND(D15>E15,E15>=6),6,"") | V15: =IF(AND(D15>E15,E15<6),E15,"") | W15: =IF(AND(D15<E15,E15>=6,D15<=6),6-D15,"") | X15: =IF(AND(D15<E15,E15<6),6-E15,"") | Y15: Samstag
A16: 42071 | B16: Sonntag | F16: =IF(K16="X",Gesamt!$C$8,IF(J16="X",Gesamt!$C$9,IF(IF(E16<D16,E16+(24-D16),E16-D16)>0,IF(E16<D16,E16+(24-D16),E16-D16),""))) | G16: =IF(SUM(L16:P16)=0,"",SUM(L16:P16)) | H16: =IF(D16="","",IF(Q16=0,IF(B16="Sonntag",IF(D16>E16,24-D16,E16-D16),IF(AND(B16="Samstag",Q17=0),IF(D16>E16,E16,""),"")),IF(AND(B16="Samstag",Q17=0),IF(D16>E16,E16,""),""))) | I16: =IF(D16="","",IF(AND(Q16=1,Q17=1),IF(D16>E16,24-D16+E16,E16-D16),IF(Q16=1,IF(D16>E16,24-D16,E16-D16),IF(AND(Q17=1,D16>E16),E16,"")))) | J16: =IF(C16="Urlaub","X","") | K16: =IF(C16="Krank","X","") | L16: =IF(OR(Q16=1,Q17=1,B16="Sonntag",B17="Sonntag"),"",SUM(R16:X16)) | M16: =IF(B17="Sonntag","",IF(AND(Q16=1,D16>E16),SUM(U16:X16),"")) | N16: =IF(AND(Q16=1,Q18=1),"",IF(Q17=1,SUM(R16:T16),"")) | O16: =IF(Q18=1,"",IF(AND(B16="Sonntag",D16>E16,Q16=0),SUM(U16:X16),"")) | P16: =IF(OR(Q16=1,Q18=1),"",IF(B17="Sonntag",SUM(R16:T16),"")) | Q16: =OR(Feiertage!$B$1=A16,Feiertage!$B$2=A16,Feiertage!$B$3=A16,Feiertage!$B$4=A16,Feiertage!$B$5=A16,Feiertage!$B$6=A16,Feiertage!$B$7=A16,Feiertage!$B$8=A16,Feiertage!$B$9=A16) -> FALSE | R16: =IF(AND(D16>E16,D16<20),4,"") | S16: =IF(AND(D16>E16,D16>=20),24-D16,"") | T16: =IF(AND(D16<E16,E16>=20),E16-20,"") | U16: =IF(AND(D16>E16,E16>=6),6,"") | V16: =IF(AND(D16>E16,E16<6),E16,"") | W16: =IF(AND(D16<E16,E16>=6,D16<=6),6-D16,"") | X16: =IF(AND(D16<E16,E16<6),E16-D16,"") | Y16: Sonntag
D17: Gesamt: | F17: =SUM(F10:F16) -> 0 | G17: =SUM(G10:G16) -> 0 | H17: =SUM(H10:H16) -> 0 | I17: =SUM(I10:I16) -> 0 | J17: =COUNTIF(J10:J16,"X") -> 0 | K17: =COUNTIF(K10:K16,"X") -> 0
A18: 42072 | B18: Montag | F18: =IF(K18="X",Gesamt!$C$8,IF(J18="X",Gesamt!$C$9,IF(IF(E18<D18,E18+(24-D18),E18-D18)>0,IF(E18<D18,E18+(24-D18),E18-D18),""))) | G18: =IF(SUM(L18:P18)=0,"",SUM(L18:P18)) | H18: =IF(D18="","",IF(Q18=0,IF(B18="Sonntag",IF(D18>E18,24-D18,E18-D18),IF(AND(B18="Samstag",Q19=0),IF(D18>E18,E18,""),"")),IF(AND(B18="Samstag",Q19=0),IF(D18>E18,E18,""),""))) | I18: =IF(D18="","",IF(AND(Q18=1,Q19=1),IF(D18>E18,24-D18+E18,E18-D18),IF(Q18=1,IF(D18>E18,24-D18,E18-D18),IF(AND(Q19=1,D18>E18),E18,"")))) | J18: =IF(C18="Urlaub","X","") | K18: =IF(C18="Krank","X","") | L18: =IF(OR(Q18=1,Q19=1,B18="Sonntag",B19="Sonntag"),"",SUM(R18:W18)) -> 0 | M18: =IF(B18="Sonntag","",IF(AND(Q18=1,D18>E18),SUM(U18:W18),"")) | N18: =IF(OR(AND(Q18=1,Q19=1),AND(Q19=1,B18="Sonntag")),"",IF(Q19=1,SUM(R18:T18),"")) | O18: =IF(Q19=1,"",IF(AND(B18="Sonntag",D18>E18,Q18=0),SUM(U18:W18),"")) | P18: =IF(OR(Q18=1,Q19=1),"",IF(B19="Sonntag",SUM(R18:W18),"")) | Q18: =OR(Feiertage!$B$1=A18,Feiertage!$B$2=A18,Feiertage!$B$3=A18,Feiertage!$B$4=A18,Feiertage!$B$5=A18,Feiertage!$B$6=A18,Feiertage!$B$7=A18,Feiertage!$B$8=A18,Feiertage!$B$9=A18) -> FALSE | R18: =IF(AND(D18>E18,D18<20),4,"") | S18: =IF(AND(D18>E18,D18>=20),24-D18,"") | T18: =IF(AND(D18<E18,E18>=20),E18-20,"") | U18: =IF(AND(D18>E18,E18>=6),6,"") | V18: =IF(AND(D18>E18,E18<6),E18,"") | W18: =IF(AND(D18<E18,E18>=6,D18<=6),6-D18,"") | X18: =IF(AND(D18<E18,E18<6),6-E18,"") | Y18: Mon. bis Fr.
A19: 42073 | B19: Dienstag | F19: =IF(K19="X",Gesamt!$C$8,IF(J19="X",Gesamt!$C$9,IF(IF(E19<D19,E19+(24-D19),E19-D19)>0,IF(E19<D19,E19+(24-D19),E19-D19),""))) | G19: =IF(SUM(L19:P19)=0,"",SUM(L19:P19)) | H19: =IF(D19="","",IF(Q19=0,IF(B19="Sonntag",IF(D19>E19,24-D19,E19-D19),IF(AND(B19="Samstag",Q20=0),IF(D19>E19,E19,""),"")),IF(AND(B19="Samstag",Q20=0),IF(D19>E19,E19,""),""))) | I19: =IF(D19="","",IF(AND(Q19=1,Q20=1),IF(D19>E19,24-D19+E19,E19-D19),IF(Q19=1,IF(D19>E19,24-D19,E19-D19),IF(AND(Q20=1,D19>E19),E19,"")))) | J19: =IF(C19="Urlaub","X","") | K19: =IF(C19="Krank","X","") | L19: =IF(OR(Q19=1,Q20=1,B19="Sonntag",B20="Sonntag"),"",SUM(R19:W19)) -> 0 | M19: =IF(B19="Sonntag","",IF(AND(Q19=1,D19>E19),SUM(U19:W19),"")) | N19: =IF(OR(AND(Q19=1,Q20=1),AND(Q20=1,B19="Sonntag")),"",IF(Q20=1,SUM(R19:T19),"")) | O19: =IF(Q20=1,"",IF(AND(B19="Sonntag",D19>E19,Q19=0),SUM(U19:W19),"")) | P19: =IF(OR(Q19=1,Q20=1),"",IF(B20="Sonntag",SUM(R19:W19),"")) | Q19: =OR(Feiertage!$B$1=A19,Feiertage!$B$2=A19,Feiertage!$B$3=A19,Feiertage!$B$4=A19,Feiertage!$B$5=A19,Feiertage!$B$6=A19,Feiertage!$B$7=A19,Feiertage!$B$8=A19,Feiertage!$B$9=A19) -> FALSE | R19: =IF(AND(D19>E19,D19<20),4,"") | S19: =IF(AND(D19>E19,D19>=20),24-D19,"") | T19: =IF(AND(D19<E19,E19>=20),E19-20,"") | U19: =IF(AND(D19>E19,E19>=6),6,"") | V19: =IF(AND(D19>E19,E19<6),E19,"") | W19: =IF(AND(D19<E19,E19>=6,D19<=6),6-D19,"") | X19: =IF(AND(D19<E19,E19<6),6-E19,"") | Y19: Mon. bis Fr.
A20: 42074 | B20: Mittwoch | F20: =IF(K20="X",Gesamt!$C$8,IF(J20="X",Gesamt!$C$9,IF(IF(E20<D20,E20+(24-D20),E20-D20)>0,IF(E20<D20,E20+(24-D20),E20-D20),""))) | G20: =IF(SUM(L20:P20)=0,"",SUM(L20:P20)) | H20: =IF(D20="","",IF(Q20=0,IF(B20="Sonntag",IF(D20>E20,24-D20,E20-D20),IF(AND(B20="Samstag",Q21=0),IF(D20>E20,E20,""),"")),IF(AND(B20="Samstag",Q21=0),IF(D20>E20,E20,""),""))) | I20: =IF(D20="","",IF(AND(Q20=1,Q21=1),IF(D20>E20,24-D20+E20,E20-D20),IF(Q20=1,IF(D20>E20,24-D20,E20-D20),IF(AND(Q21=1,D20>E20),E20,"")))) | J20: =IF(C20="Urlaub","X","") | K20: =IF(C20="Krank","X","") | L20: =IF(OR(Q20=1,Q21=1,B20="Sonntag",B21="Sonntag"),"",SUM(R20:W20)) -> 0 | M20: =IF(B20="Sonntag","",IF(AND(Q20=1,D20>E20),SUM(U20:W20),"")) | N20: =IF(OR(AND(Q20=1,Q21=1),AND(Q21=1,B20="Sonntag")),"",IF(Q21=1,SUM(R20:T20),"")) | O20: =IF(Q21=1,"",IF(AND(B20="Sonntag",D20>E20,Q20=0),SUM(U20:W20),"")) | P20: =IF(OR(Q20=1,Q21=1),"",IF(B21="Sonntag",SUM(R20:W20),"")) | Q20: =OR(Feiertage!$B$1=A20,Feiertage!$B$2=A20,Feiertage!$B$3=A20,Feiertage!$B$4=A20,Feiertage!$B$5=A20,Feiertage!$B$6=A20,Feiertage!$B$7=A20,Feiertage!$B$8=A20,Feiertage!$B$9=A20) -> FALSE | R20: =IF(AND(D20>E20,D20<20),4,"") | S20: =IF(AND(D20>E20,D20>=20),24-D20,"") | T20: =IF(AND(D20<E20,E20>=20),E20-20,"") | U20: =IF(AND(D20>E20,E20>=6),6,"") | V20: =IF(AND(D20>E20,E20<6),E20,"") | W20: =IF(AND(D20<E20,E20>=6,D20<=6),6-D20,"") | X20: =IF(AND(D20<E20,E20<6),6-E20,"") | Y20: Mon. bis Fr.
A21: 42075 | B21: Donnerstag | F21: =IF(K21="X",Gesamt!$C$8,IF(J21="X",Gesamt!$C$9,IF(IF(E21<D21,E21+(24-D21),E21-D21)>0,IF(E21<D21,E21+(24-D21),E21-D21),""))) | G21: =IF(SUM(L21:P21)=0,"",SUM(L21:P21)) | H21: =IF(D21="","",IF(Q21=0,IF(B21="Sonntag",IF(D21>E21,24-D21,E21-D21),IF(AND(B21="Samstag",Q22=0),IF(D21>E21,E21,""),"")),IF(AND(B21="Samstag",Q22=0),IF(D21>E21,E21,""),""))) | I21: =IF(D21="","",IF(AND(Q21=1,Q22=1),IF(D21>E21,24-D21+E21,E21-D21),IF(Q21=1,IF(D21>E21,24-D21,E21-D21),IF(AND(Q22=1,D21>E21),E21,"")))) | J21: =IF(C21="Urlaub","X","") | K21: =IF(C21="Krank","X","") | L21: =IF(OR(Q21=1,Q22=1,B21="Sonntag",B22="Sonntag"),"",SUM(R21:W21)) -> 0 | M21: =IF(B21="Sonntag","",IF(AND(Q21=1,D21>E21),SUM(U21:W21),"")) | N21: =IF(OR(AND(Q21=1,Q22=1),AND(Q22=1,B21="Sonntag")),"",IF(Q22=1,SUM(R21:T21),"")) | O21: =IF(Q22=1,"",IF(AND(B21="Sonntag",D21>E21,Q21=0),SUM(U21:W21),"")) | P21: =IF(OR(Q21=1,Q22=1),"",IF(B22="Sonntag",SUM(R21:W21),"")) | Q21: =OR(Feiertage!$B$1=A21,Feiertage!$B$2=A21,Feiertage!$B$3=A21,Feiertage!$B$4=A21,Feiertage!$B$5=A21,Feiertage!$B$6=A21,Feiertage!$B$7=A21,Feiertage!$B$8=A21,Feiertage!$B$9=A21) -> FALSE | R21: =IF(AND(D21>E21,D21<20),4,"") | S21: =IF(AND(D21>E21,D21>=20),24-D21,"") | T21: =IF(AND(D21<E21,E21>=20),E21-20,"") | U21: =IF(AND(D21>E21,E21>=6),6,"") | V21: =IF(AND(D21>E21,E21<6),E21,"") | W21: =IF(AND(D21<E21,E21>=6,D21<=6),6-D21,"") | X21: =IF(AND(D21<E21,E21<6),6-E21,"") | Y21: Mon. bis Fr.
A22: 42076 | B22: Freitag | F22: =IF(K22="X",Gesamt!$C$8,IF(J22="X",Gesamt!$C$9,IF(IF(E22<D22,E22+(24-D22),E22-D22)>0,IF(E22<D22,E22+(24-D22),E22-D22),""))) | G22: =IF(SUM(L22:P22)=0,"",SUM(L22:P22)) | H22: =IF(D22="","",IF(Q22=0,IF(B22="Sonntag",IF(D22>E22,24-D22,E22-D22),IF(AND(B22="Samstag",Q23=0),IF(D22>E22,E22,""),"")),IF(AND(B22="Samstag",Q23=0),IF(D22>E22,E22,""),""))) | I22: =IF(D22="","",IF(AND(Q22=1,Q23=1),IF(D22>E22,24-D22+E22,E22-D22),IF(Q22=1,IF(D22>E22,24-D22,E22-D22),IF(AND(Q23=1,D22>E22),E22,"")))) | J22: =IF(C22="Urlaub","X","") | K22: =IF(C22="Krank","X","") | L22: =IF(OR(Q22=1,Q23=1,B22="Sonntag",B23="Sonntag"),"",SUM(R22:W22)) -> 0 | M22: =IF(B22="Sonntag","",IF(AND(Q22=1,D22>E22),SUM(U22:W22),"")) | N22: =IF(OR(AND(Q22=1,Q23=1),AND(Q23=1,B22="Sonntag")),"",IF(Q23=1,SUM(R22:T22),"")) | O22: =IF(Q23=1,"",IF(AND(B22="Sonntag",D22>E22,Q22=0),SUM(U22:W22),"")) | P22: =IF(OR(Q22=1,Q23=1),"",IF(B23="Sonntag",SUM(R22:W22),"")) | Q22: =OR(Feiertage!$B$1=A22,Feiertage!$B$2=A22,Feiertage!$B$3=A22,Feiertage!$B$4=A22,Feiertage!$B$5=A22,Feiertage!$B$6=A22,Feiertage!$B$7=A22,Feiertage!$B$8=A22,Feiertage!$B$9=A22) -> FALSE | R22: =IF(AND(D22>E22,D22<20),4,"") | S22: =IF(AND(D22>E22,D22>=20),24-D22,"") | T22: =IF(AND(D22<E22,E22>=20),E22-20,"") | U22: =IF(AND(D22>E22,E22>=6),6,"") | V22: =IF(AND(D22>E22,E22<6),E22,"") | W22: =IF(AND(D22<E22,E22>=6,D22<=6),6-D22,"") | X22: =IF(AND(D22<E22,E22<6),6-E22,"") | Y22: Mon. bis Fr.
A23: 42077 | B23: Samstag | F23: =IF(K23="X",Gesamt!$C$8,IF(J23="X",Gesamt!$C$9,IF(IF(E23<D23,E23+(24-D23),E23-D23)>0,IF(E23<D23,E23+(24-D23),E23-D23),""))) | G23: =IF(SUM(L23:P23)=0,"",SUM(L23:P23)) | H23: =IF(D23="","",IF(Q23=0,IF(B23="Sonntag",IF(D23>E23,24-D23,E23-D23),IF(AND(B23="Samstag",Q24=0),IF(D23>E23,E23,""),"")),IF(AND(B23="Samstag",Q24=0),IF(D23>E23,E23,""),""))) | I23: =IF(D23="","",IF(AND(Q23=1,Q24=1),IF(D23>E23,24-D23+E23,E23-D23),IF(Q23=1,IF(D23>E23,24-D23,E23-D23),IF(AND(Q24=1,D23>E23),E23,"")))) | J23: =IF(C23="Urlaub","X","") | K23: =IF(C23="Krank","X","") | L23: =IF(OR(Q23=1,Q24=1,B23="Sonntag",B24="Sonntag"),"",SUM(R23:X23)) | M23: =IF(B23="Sonntag","",IF(AND(Q23=1,D23>E23),SUM(U23:X23),"")) | N23: =IF(AND(Q23=1,Q24=1),"",IF(Q24=1,SUM(R23:T23),"")) | O23: =IF(Q24=1,"",IF(AND(B23="Sonntag",D23>E23,Q23=0),SUM(U23:X23),"")) | P23: =IF(OR(Q23=1,Q24=1),"",IF(B24="Sonntag",SUM(R23:T23),"")) -> 0 | Q23: =OR(Feiertage!$B$1=A23,Feiertage!$B$2=A23,Feiertage!$B$3=A23,Feiertage!$B$4=A23,Feiertage!$B$5=A23,Feiertage!$B$6=A23,Feiertage!$B$7=A23,Feiertage!$B$8=A23,Feiertage!$B$9=A23) -> FALSE | R23: =IF(AND(D23>E23,D23<20),4,IF(AND(D23<E23,D23<=6),6-D23,"")) | S23: =IF(AND(D23>E23,D23>=20),24-D23,"") | T23: =IF(AND(D23<E23,E23>=20),E23-20,"") | U23: =IF(AND(D23>E23,E23>=6),6,"") | V23: =IF(AND(D23>E23,E23<6),E23,"") | W23: =IF(AND(D23<E23,E23>=6,D23<=6),6-D23,"") | X23: =IF(AND(D23<E23,E23<6),6-E23,"") | Y23: Samstag
A24: 42078 | B24: Sonntag | F24: =IF(K24="X",Gesamt!$C$8,IF(J24="X",Gesamt!$C$9,IF(IF(E24<D24,E24+(24-D24),E24-D24)>0,IF(E24<D24,E24+(24-D24),E24-D24),""))) | G24: =IF(SUM(L24:P24)=0,"",SUM(L24:P24)) | H24: =IF(D24="","",IF(Q24=0,IF(B24="Sonntag",IF(D24>E24,24-D24,E24-D24),IF(AND(B24="Samstag",Q25=0),IF(D24>E24,E24,""),"")),IF(AND(B24="Samstag",Q25=0),IF(D24>E24,E24,""),""))) | I24: =IF(D24="","",IF(AND(Q24=1,Q25=1),IF(D24>E24,24-D24+E24,E24-D24),IF(Q24=1,IF(D24>E24,24-D24,E24-D24),IF(AND(Q25=1,D24>E24),E24,"")))) | J24: =IF(C24="Urlaub","X","") | K24: =IF(C24="Krank","X","") | L24: =IF(OR(Q24=1,Q25=1,B24="Sonntag",B25="Sonntag"),"",SUM(R24:X24)) | M24: =IF(B25="Sonntag","",IF(AND(Q24=1,D24>E24),SUM(U24:X24),"")) | N24: =IF(AND(Q24=1,Q26=1),"",IF(Q25=1,SUM(R24:T24),"")) | O24: =IF(Q26=1,"",IF(AND(B24="Sonntag",D24>E24,Q24=0),SUM(U24:X24),"")) | P24: =IF(OR(Q24=1,Q26=1),"",IF(B25="Sonntag",SUM(R24:T24),"")) | Q24: =OR(Feiertage!$B$1=A24,Feiertage!$B$2=A24,Feiertage!$B$3=A24,Feiertage!$B$4=A24,Feiertage!$B$5=A24,Feiertage!$B$6=A24,Feiertage!$B$7=A24,Feiertage!$B$8=A24,Feiertage!$B$9=A24) -> FALSE | R24: =IF(AND(D24>E24,D24<20),4,"") | S24: =IF(AND(D24>E24,D24>=20),24-D24,"") | T24: =IF(AND(D24<E24,E24>=20),E24-20,"") | U24: =IF(AND(D24>E24,E24>=6),6,"") | V24: =IF(AND(D24>E24,E24<6),E24,"") | W24: =IF(AND(D24<E24,E24>=6,D24<=6),6-D24,"") | X24: =IF(AND(D24<E24,E24<6),E24-D24,"") | Y24: Sonntag
D25: Gesamt: | F25: =SUM(F18:F24) -> 0 | G25: =SUM(G18:G24) -> 0 | H25: =SUM(H18:H24) -> 0 | I25: =SUM(I18:I24) -> 0 | J25: =COUNTIF(J18:J24,"X") -> 0 | K25: =COUNTIF(K18:K24,"X") -> 0
A26: 42079 | B26: Montag | F26: =IF(K26="X",Gesamt!$C$8,IF(J26="X",Gesamt!$C$9,IF(IF(E26<D26,E26+(24-D26),E26-D26)>0,IF(E26<D26,E26+(24-D26),E26-D26),""))) | G26: =IF(SUM(L26:P26)=0,"",SUM(L26:P26)) | H26: =IF(D26="","",IF(Q26=0,IF(B26="Sonntag",IF(D26>E26,24-D26,E26-D26),IF(AND(B26="Samstag",Q27=0),IF(D26>E26,E26,""),"")),IF(AND(B26="Samstag",Q27=0),IF(D26>E26,E26,""),""))) | I26: =IF(D26="","",IF(AND(Q26=1,Q27=1),IF(D26>E26,24-D26+E26,E26-D26),IF(Q26=1,IF(D26>E26,24-D26,E26-D26),IF(AND(Q27=1,D26>E26),E26,"")))) | J26: =IF(C26="Urlaub","X","") | K26: =IF(C26="Krank","X","") | L26: =IF(OR(Q26=1,Q27=1,B26="Sonntag",B27="Sonntag"),"",SUM(R26:W26)) -> 0 | M26: =IF(B26="Sonntag","",IF(AND(Q26=1,D26>E26),SUM(U26:W26),"")) | N26: =IF(OR(AND(Q26=1,Q27=1),AND(Q27=1,B26="Sonntag")),"",IF(Q27=1,SUM(R26:T26),"")) | O26: =IF(Q27=1,"",IF(AND(B26="Sonntag",D26>E26,Q26=0),SUM(U26:W26),"")) | P26: =IF(OR(Q26=1,Q27=1),"",IF(B27="Sonntag",SUM(R26:W26),"")) | Q26: =OR(Feiertage!$B$1=A26,Feiertage!$B$2=A26,Feiertage!$B$3=A26,Feiertage!$B$4=A26,Feiertage!$B$5=A26,Feiertage!$B$6=A26,Feiertage!$B$7=A26,Feiertage!$B$8=A26,Feiertage!$B$9=A26) -> FALSE | R26: =IF(AND(D26>E26,D26<20),4,"") | S26: =IF(AND(D26>E26,D26>=20),24-D26,"") | T26: =IF(AND(D26<E26,E26>=20),E26-20,"") | U26: =IF(AND(D26>E26,E26>=6),6,"") | V26: =IF(AND(D26>E26,E26<6),E26,"") | W26: =IF(AND(D26<E26,E26>=6,D26<=6),6-D26,"") | X26: =IF(AND(D26<E26,E26<6),6-E26,"") | Y26: Mon. bis Fr.
A27: 42080 | B27: Dienstag | F27: =IF(K27="X",Gesamt!$C$8,IF(J27="X",Gesamt!$C$9,IF(IF(E27<D27,E27+(24-D27),E27-D27)>0,IF(E27<D27,E27+(24-D27),E27-D27),""))) | G27: =IF(SUM(L27:P27)=0,"",SUM(L27:P27)) | H27: =IF(D27="","",IF(Q27=0,IF(B27="Sonntag",IF(D27>E27,24-D27,E27-D27),IF(AND(B27="Samstag",Q28=0),IF(D27>E27,E27,""),"")),IF(AND(B27="Samstag",Q28=0),IF(D27>E27,E27,""),""))) | I27: =IF(D27="","",IF(AND(Q27=1,Q28=1),IF(D27>E27,24-D27+E27,E27-D27),IF(Q27=1,IF(D27>E27,24-D27,E27-D27),IF(AND(Q28=1,D27>E27),E27,"")))) | J27: =IF(C27="Urlaub","X","") | K27: =IF(C27="Krank","X","") | L27: =IF(OR(Q27=1,Q28=1,B27="Sonntag",B28="Sonntag"),"",SUM(R27:W27)) -> 0 | M27: =IF(B27="Sonntag","",IF(AND(Q27=1,D27>E27),SUM(U27:W27),"")) | N27: =IF(OR(AND(Q27=1,Q28=1),AND(Q28=1,B27="Sonntag")),"",IF(Q28=1,SUM(R27:T27),"")) | O27: =IF(Q28=1,"",IF(AND(B27="Sonntag",D27>E27,Q27=0),SUM(U27:W27),"")) | P27: =IF(OR(Q27=1,Q28=1),"",IF(B28="Sonntag",SUM(R27:W27),"")) | Q27: =OR(Feiertage!$B$1=A27,Feiertage!$B$2=A27,Feiertage!$B$3=A27,Feiertage!$B$4=A27,Feiertage!$B$5=A27,Feiertage!$B$6=A27,Feiertage!$B$7=A27,Feiertage!$B$8=A27,Feiertage!$B$9=A27) -> FALSE | R27: =IF(AND(D27>E27,D27<20),4,"") | S27: =IF(AND(D27>E27,D27>=20),24-D27,"") | T27: =IF(AND(D27<E27,E27>=20),E27-20,"") | U27: =IF(AND(D27>E27,E27>=6),6,"") | V27: =IF(AND(D27>E27,E27<6),E27,"") | W27: =IF(AND(D27<E27,E27>=6,D27<=6),6-D27,"") | X27: =IF(AND(D27<E27,E27<6),6-E27,"") | Y27: Mon. bis Fr.
A28: 42081 | B28: Mittwoch | F28: =IF(K28="X",Gesamt!$C$8,IF(J28="X",Gesamt!$C$9,IF(IF(E28<D28,E28+(24-D28),E28-D28)>0,IF(E28<D28,E28+(24-D28),E28-D28),""))) | G28: =IF(SUM(L28:P28)=0,"",SUM(L28:P28)) | H28: =IF(D28="","",IF(Q28=0,IF(B28="Sonntag",IF(D28>E28,24-D28,E28-D28),IF(AND(B28="Samstag",Q29=0),IF(D28>E28,E28,""),"")),IF(AND(B28="Samstag",Q29=0),IF(D28>E28,E28,""),""))) | I28: =IF(D28="","",IF(AND(Q28=1,Q29=1),IF(D28>E28,24-D28+E28,E28-D28),IF(Q28=1,IF(D28>E28,24-D28,E28-D28),IF(AND(Q29=1,D28>E28),E28,"")))) | J28: =IF(C28="Urlaub","X","") | K28: =IF(C28="Krank","X","") | L28: =IF(OR(Q28=1,Q29=1,B28="Sonntag",B29="Sonntag"),"",SUM(R28:W28)) -> 0 | M28: =IF(B28="Sonntag","",IF(AND(Q28=1,D28>E28),SUM(U28:W28),"")) | N28: =IF(OR(AND(Q28=1,Q29=1),AND(Q29=1,B28="Sonntag")),"",IF(Q29=1,SUM(R28:T28),"")) | O28: =IF(Q29=1,"",IF(AND(B28="Sonntag",D28>E28,Q28=0),SUM(U28:W28),"")) | P28: =IF(OR(Q28=1,Q29=1),"",IF(B29="Sonntag",SUM(R28:W28),"")) | Q28: =OR(Feiertage!$B$1=A28,Feiertage!$B$2=A28,Feiertage!$B$3=A28,Feiertage!$B$4=A28,Feiertage!$B$5=A28,Feiertage!$B$6=A28,Feiertage!$B$7=A28,Feiertage!$B$8=A28,Feiertage!$B$9=A28) -> FALSE | R28: =IF(AND(D28>E28,D28<20),4,"") | S28: =IF(AND(D28>E28,D28>=20),24-D28,"") | T28: =IF(AND(D28<E28,E28>=20),E28-20,"") | U28: =IF(AND(D28>E28,E28>=6),6,"") | V28: =IF(AND(D28>E28,E28<6),E28,"") | W28: =IF(AND(D28<E28,E28>=6,D28<=6),6-D28,"") | X28: =IF(AND(D28<E28,E28<6),6-E28,"") | Y28: Mon. bis Fr.
A29: 42082 | B29: Donnerstag | F29: =IF(K29="X",Gesamt!$C$8,IF(J29="X",Gesamt!$C$9,IF(IF(E29<D29,E29+(24-D29),E29-D29)>0,IF(E29<D29,E29+(24-D29),E29-D29),""))) | G29: =IF(SUM(L29:P29)=0,"",SUM(L29:P29)) | H29: =IF(D29="","",IF(Q29=0,IF(B29="Sonntag",IF(D29>E29,24-D29,E29-D29),IF(AND(B29="Samstag",Q30=0),IF(D29>E29,E29,""),"")),IF(AND(B29="Samstag",Q30=0),IF(D29>E29,E29,""),""))) | I29: =IF(D29="","",IF(AND(Q29=1,Q30=1),IF(D29>E29,24-D29+E29,E29-D29),IF(Q29=1,IF(D29>E29,24-D29,E29-D29),IF(AND(Q30=1,D29>E29),E29,"")))) | J29: =IF(C29="Urlaub","X","") | K29: =IF(C29="Krank","X","") | L29: =IF(OR(Q29=1,Q30=1,B29="Sonntag",B30="Sonntag"),"",SUM(R29:W29)) -> 0 | M29: =IF(B29="Sonntag","",IF(AND(Q29=1,D29>E29),SUM(U29:W29),"")) | N29: =IF(OR(AND(Q29=1,Q30=1),AND(Q30=1,B29="Sonntag")),"",IF(Q30=1,SUM(R29:T29),"")) | O29: =IF(Q30=1,"",IF(AND(B29="Sonntag",D29>E29,Q29=0),SUM(U29:W29),"")) | P29: =IF(OR(Q29=1,Q30=1),"",IF(B30="Sonntag",SUM(R29:W29),"")) | Q29: =OR(Feiertage!$B$1=A29,Feiertage!$B$2=A29,Feiertage!$B$3=A29,Feiertage!$B$4=A29,Feiertage!$B$5=A29,Feiertage!$B$6=A29,Feiertage!$B$7=A29,Feiertage!$B$8=A29,Feiertage!$B$9=A29) -> FALSE | R29: =IF(AND(D29>E29,D29<20),4,"") | S29: =IF(AND(D29>E29,D29>=20),24-D29,"") | T29: =IF(AND(D29<E29,E29>=20),E29-20,"") | U29: =IF(AND(D29>E29,E29>=6),6,"") | V29: =IF(AND(D29>E29,E29<6),E29,"") | W29: =IF(AND(D29<E29,E29>=6,D29<=6),6-D29,"") | X29: =IF(AND(D29<E29,E29<6),6-E29,"") | Y29: Mon. bis Fr.
A30: 42083 | B30: Freitag | F30: =IF(K30="X",Gesamt!$C$8,IF(J30="X",Gesamt!$C$9,IF(IF(E30<D30,E30+(24-D30),E30-D30)>0,IF(E30<D30,E30+(24-D30),E30-D30),""))) | G30: =IF(SUM(L30:P30)=0,"",SUM(L30:P30)) | H30: =IF(D30="","",IF(Q30=0,IF(B30="Sonntag",IF(D30>E30,24-D30,E30-D30),IF(AND(B30="Samstag",Q31=0),IF(D30>E30,E30,""),"")),IF(AND(B30="Samstag",Q31=0),IF(D30>E30,E30,""),""))) | I30: =IF(D30="","",IF(AND(Q30=1,Q31=1),IF(D30>E30,24-D30+E30,E30-D30),IF(Q30=1,IF(D30>E30,24-D30,E30-D30),IF(AND(Q31=1,D30>E30),E30,"")))) | J30: =IF(C30="Urlaub","X","") | K30: =IF(C30="Krank","X","") | L30: =IF(OR(Q30=1,Q31=1,B30="Sonntag",B31="Sonntag"),"",SUM(R30:W30)) -> 0 | M30: =IF(B30="Sonntag","",IF(AND(Q30=1,D30>E30),SUM(U30:W30),"")) | N30: =IF(OR(AND(Q30=1,Q31=1),AND(Q31=1,B30="Sonntag")),"",IF(Q31=1,SUM(R30:T30),"")) | O30: =IF(Q31=1,"",IF(AND(B30="Sonntag",D30>E30,Q30=0),SUM(U30:W30),"")) | P30: =IF(OR(Q30=1,Q31=1),"",IF(B31="Sonntag",SUM(R30:W30),"")) | Q30: =OR(Feiertage!$B$1=A30,Feiertage!$B$2=A30,Feiertage!$B$3=A30,Feiertage!$B$4=A30,Feiertage!$B$5=A30,Feiertage!$B$6=A30,Feiertage!$B$7=A30,Feiertage!$B$8=A30,Feiertage!$B$9=A30) -> FALSE | R30: =IF(AND(D30>E30,D30<20),4,"") | S30: =IF(AND(D30>E30,D30>=20),24-D30,"") | T30: =IF(AND(D30<E30,E30>=20),E30-20,"") | U30: =IF(AND(D30>E30,E30>=6),6,"") | V30: =IF(AND(D30>E30,E30<6),E30,"") | W30: =IF(AND(D30<E30,E30>=6,D30<=6),6-D30,"") | X30: =IF(AND(D30<E30,E30<6),6-E30,"") | Y30: Mon. bis Fr.
A31: 42084 | B31: Samstag | F31: =IF(K31="X",Gesamt!$C$8,IF(J31="X",Gesamt!$C$9,IF(IF(E31<D31,E31+(24-D31),E31-D31)>0,IF(E31<D31,E31+(24-D31),E31-D31),""))) | G31: =IF(SUM(L31:P31)=0,"",SUM(L31:P31)) | H31: =IF(D31="","",IF(Q31=0,IF(B31="Sonntag",IF(D31>E31,24-D31,E31-D31),IF(AND(B31="Samstag",Q32=0),IF(D31>E31,E31,""),"")),IF(AND(B31="Samstag",Q32=0),IF(D31>E31,E31,""),""))) | I31: =IF(D31="","",IF(AND(Q31=1,Q32=1),IF(D31>E31,24-D31+E31,E31-D31),IF(Q31=1,IF(D31>E31,24-D31,E31-D31),IF(AND(Q32=1,D31>E31),E31,"")))) | J31: =IF(C31="Urlaub","X","") | K31: =IF(C31="Krank","X","") | L31: =IF(OR(Q31=1,Q32=1,B31="Sonntag",B32="Sonntag"),"",SUM(R31:X31)) | M31: =IF(B31="Sonntag","",IF(AND(Q31=1,D31>E31),SUM(U31:X31),"")) | N31: =IF(AND(Q31=1,Q32=1),"",IF(Q32=1,SUM(R31:T31),"")) | O31: =IF(Q32=1,"",IF(AND(B31="Sonntag",D31>E31,Q31=0),SUM(U31:X31),"")) | P31: =IF(OR(Q31=1,Q32=1),"",IF(B32="Sonntag",SUM(R31:T31),"")) -> 0 | Q31: =OR(Feiertage!$B$1=A31,Feiertage!$B$2=A31,Feiertage!$B$3=A31,Feiertage!$B$4=A31,Feiertage!$B$5=A31,Feiertage!$B$6=A31,Feiertage!$B$7=A31,Feiertage!$B$8=A31,Feiertage!$B$9=A31) -> FALSE | R31: =IF(AND(D31>E31,D31<20),4,IF(AND(D31<E31,D31<=6),6-D31,"")) | S31: =IF(AND(D31>E31,D31>=20),24-D31,"") | T31: =IF(AND(D31<E31,E31>=20),E31-20,"") | U31: =IF(AND(D31>E31,E31>=6),6,"") | V31: =IF(AND(D31>E31,E31<6),E31,"") | W31: =IF(AND(D31<E31,E31>=6,D31<=6),6-D31,"") | X31: =IF(AND(D31<E31,E31<6),6-E31,"") | Y31: Samstag
A32: 42085 | B32: Sonntag | F32: =IF(K32="X",Gesamt!$C$8,IF(J32="X",Gesamt!$C$9,IF(IF(E32<D32,E32+(24-D32),E32-D32)>0,IF(E32<D32,E32+(24-D32),E32-D32),""))) | G32: =IF(SUM(L32:P32)=0,"",SUM(L32:P32)) | H32: =IF(D32="","",IF(Q32=0,IF(B32="Sonntag",IF(D32>E32,24-D32,E32-D32),IF(AND(B32="Samstag",Q33=0),IF(D32>E32,E32,""),"")),IF(AND(B32="Samstag",Q33=0),IF(D32>E32,E32,""),""))) | I32: =IF(D32="","",IF(AND(Q32=1,Q33=1),IF(D32>E32,24-D32+E32,E32-D32),IF(Q32=1,IF(D32>E32,24-D32,E32-D32),IF(AND(Q33=1,D32>E32),E32,"")))) | J32: =IF(C32="Urlaub","X","") | K32: =IF(C32="Krank","X","") | L32: =IF(OR(Q32=1,Q33=1,B32="Sonntag",B33="Sonntag"),"",SUM(R32:X32)) | M32: =IF(B33="Sonntag","",IF(AND(Q32=1,D32>E32),SUM(U32:X32),"")) | N32: =IF(AND(Q32=1,Q34=1),"",IF(Q33=1,SUM(R32:T32),"")) | O32: =IF(Q34=1,"",IF(AND(B32="Sonntag",D32>E32,Q32=0),SUM(U32:X32),"")) | P32: =IF(OR(Q32=1,Q34=1),"",IF(B33="Sonntag",SUM(R32:T32),"")) | Q32: =OR(Feiertage!$B$1=A32,Feiertage!$B$2=A32,Feiertage!$B$3=A32,Feiertage!$B$4=A32,Feiertage!$B$5=A32,Feiertage!$B$6=A32,Feiertage!$B$7=A32,Feiertage!$B$8=A32,Feiertage!$B$9=A32) -> FALSE | R32: =IF(AND(D32>E32,D32<20),4,"") | S32: =IF(AND(D32>E32,D32>=20),24-D32,"") | T32: =IF(AND(D32<E32,E32>=20),E32-20,"") | U32: =IF(AND(D32>E32,E32>=6),6,"") | V32: =IF(AND(D32>E32,E32<6),E32,"") | W32: =IF(AND(D32<E32,E32>=6,D32<=6),6-D32,"") | X32: =IF(AND(D32<E32,E32<6),E32-D32,"") | Y32: Sonntag
D33: Gesamt: | F33: =SUM(F26:F32) -> 0 | G33: =SUM(G26:G32) -> 0 | H33: =SUM(H26:H32) -> 0 | I33: =SUM(I26:I32) -> 0 | J33: =COUNTIF(J26:J32,"X") -> 0 | K33: =COUNTIF(K26:K32,"X") -> 0
A34: 42086 | B34: Montag | F34: =IF(K34="X",Gesamt!$C$8,IF(J34="X",Gesamt!$C$9,IF(IF(E34<D34,E34+(24-D34),E34-D34)>0,IF(E34<D34,E34+(24-D34),E34-D34),""))) | G34: =IF(SUM(L34:P34)=0,"",SUM(L34:P34)) | H34: =IF(D34="","",IF(Q34=0,IF(B34="Sonntag",IF(D34>E34,24-D34,E34-D34),IF(AND(B34="Samstag",Q35=0),IF(D34>E34,E34,""),"")),IF(AND(B34="Samstag",Q35=0),IF(D34>E34,E34,""),""))) | I34: =IF(D34="","",IF(AND(Q34=1,Q35=1),IF(D34>E34,24-D34+E34,E34-D34),IF(Q34=1,IF(D34>E34,24-D34,E34-D34),IF(AND(Q35=1,D34>E34),E34,"")))) | J34: =IF(C34="Urlaub","X","") | K34: =IF(C34="Krank","X","") | L34: =IF(OR(Q34=1,Q35=1,B34="Sonntag",B35="Sonntag"),"",SUM(R34:W34)) -> 0 | M34: =IF(B34="Sonntag","",IF(AND(Q34=1,D34>E34),SUM(U34:W34),"")) | N34: =IF(OR(AND(Q34=1,Q35=1),AND(Q35=1,B34="Sonntag")),"",IF(Q35=1,SUM(R34:T34),"")) | O34: =IF(Q35=1,"",IF(AND(B34="Sonntag",D34>E34,Q34=0),SUM(U34:W34),"")) | P34: =IF(OR(Q34=1,Q35=1),"",IF(B35="Sonntag",SUM(R34:W34),"")) | Q34: =OR(Feiertage!$B$1=A34,Feiertage!$B$2=A34,Feiertage!$B$3=A34,Feiertage!$B$4=A34,Feiertage!$B$5=A34,Feiertage!$B$6=A34,Feiertage!$B$7=A34,Feiertage!$B$8=A34,Feiertage!$B$9=A34) -> FALSE | R34: =IF(AND(D34>E34,D34<20),4,"") | S34: =IF(AND(D34>E34,D34>=20),24-D34,"") | T34: =IF(AND(D34<E34,E34>=20),E34-20,"") | U34: =IF(AND(D34>E34,E34>=6),6,"") | V34: =IF(AND(D34>E34,E34<6),E34,"") | W34: =IF(AND(D34<E34,E34>=6,D34<=6),6-D34,"") | X34: =IF(AND(D34<E34,E34<6),6-E34,"") | Y34: Mon. bis Fr.
A35: 42087 | B35: Dienstag | F35: =IF(K35="X",Gesamt!$C$8,IF(J35="X",Gesamt!$C$9,IF(IF(E35<D35,E35+(24-D35),E35-D35)>0,IF(E35<D35,E35+(24-D35),E35-D35),""))) | G35: =IF(SUM(L35:P35)=0,"",SUM(L35:P35)) | H35: =IF(D35="","",IF(Q35=0,IF(B35="Sonntag",IF(D35>E35,24-D35,E35-D35),IF(AND(B35="Samstag",Q36=0),IF(D35>E35,E35,""),"")),IF(AND(B35="Samstag",Q36=0),IF(D35>E35,E35,""),""))) | I35: =IF(D35="","",IF(AND(Q35=1,Q36=1),IF(D35>E35,24-D35+E35,E35-D35),IF(Q35=1,IF(D35>E35,24-D35,E35-D35),IF(AND(Q36=1,D35>E35),E35,"")))) | J35: =IF(C35="Urlaub","X","") | K35: =IF(C35="Krank","X","") | L35: =IF(OR(Q35=1,Q36=1,B35="Sonntag",B36="Sonntag"),"",SUM(R35:W35)) -> 0 | M35: =IF(B35="Sonntag","",IF(AND(Q35=1,D35>E35),SUM(U35:W35),"")) | N35: =IF(OR(AND(Q35=1,Q36=1),AND(Q36=1,B35="Sonntag")),"",IF(Q36=1,SUM(R35:T35),"")) | O35: =IF(Q36=1,"",IF(AND(B35="Sonntag",D35>E35,Q35=0),SUM(U35:W35),"")) | P35: =IF(OR(Q35=1,Q36=1),"",IF(B36="Sonntag",SUM(R35:W35),"")) | Q35: =OR(Feiertage!$B$1=A35,Feiertage!$B$2=A35,Feiertage!$B$3=A35,Feiertage!$B$4=A35,Feiertage!$B$5=A35,Feiertage!$B$6=A35,Feiertage!$B$7=A35,Feiertage!$B$8=A35,Feiertage!$B$9=A35) -> FALSE | R35: =IF(AND(D35>E35,D35<20),4,"") | S35: =IF(AND(D35>E35,D35>=20),24-D35,"") | T35: =IF(AND(D35<E35,E35>=20),E35-20,"") | U35: =IF(AND(D35>E35,E35>=6),6,"") | V35: =IF(AND(D35>E35,E35<6),E35,"") | W35: =IF(AND(D35<E35,E35>=6,D35<=6),6-D35,"") | X35: =IF(AND(D35<E35,E35<6),6-E35,"") | Y35: Mon. bis Fr.
A36: 42088 | B36: Mittwoch | F36: =IF(K36="X",Gesamt!$C$8,IF(J36="X",Gesamt!$C$9,IF(IF(E36<D36,E36+(24-D36),E36-D36)>0,IF(E36<D36,E36+(24-D36),E36-D36),""))) | G36: =IF(SUM(L36:P36)=0,"",SUM(L36:P36)) | H36: =IF(D36="","",IF(Q36=0,IF(B36="Sonntag",IF(D36>E36,24-D36,E36-D36),IF(AND(B36="Samstag",Q37=0),IF(D36>E36,E36,""),"")),IF(AND(B36="Samstag",Q37=0),IF(D36>E36,E36,""),""))) | I36: =IF(D36="","",IF(AND(Q36=1,Q37=1),IF(D36>E36,24-D36+E36,E36-D36),IF(Q36=1,IF(D36>E36,24-D36,E36-D36),IF(AND(Q37=1,D36>E36),E36,"")))) | J36: =IF(C36="Urlaub","X","") | K36: =IF(C36="Krank","X","") | L36: =IF(OR(Q36=1,Q37=1,B36="Sonntag",B37="Sonntag"),"",SUM(R36:W36)) -> 0 | M36: =IF(B36="Sonntag","",IF(AND(Q36=1,D36>E36),SUM(U36:W36),"")) | N36: =IF(OR(AND(Q36=1,Q37=1),AND(Q37=1,B36="Sonntag")),"",IF(Q37=1,SUM(R36:T36),"")) | O36: =IF(Q37=1,"",IF(AND(B36="Sonntag",D36>E36,Q36=0),SUM(U36:W36),"")) | P36: =IF(OR(Q36=1,Q37=1),"",IF(B37="Sonntag",SUM(R36:W36),"")) | Q36: =OR(Feiertage!$B$1=A36,Feiertage!$B$2=A36,Feiertage!$B$3=A36,Feiertage!$B$4=A36,Feiertage!$B$5=A36,Feiertage!$B$6=A36,Feiertage!$B$7=A36,Feiertage!$B$8=A36,Feiertage!$B$9=A36) -> FALSE | R36: =IF(AND(D36>E36,D36<20),4,"") | S36: =IF(AND(D36>E36,D36>=20),24-D36,"") | T36: =IF(AND(D36<E36,E36>=20),E36-20,"") | U36: =IF(AND(D36>E36,E36>=6),6,"") | V36: =IF(AND(D36>E36,E36<6),E36,"") | W36: =IF(AND(D36<E36,E36>=6,D36<=6),6-D36,"") | X36: =IF(AND(D36<E36,E36<6),6-E36,"") | Y36: Mon. bis Fr.
A37: 42089 | B37: Donnerstag | F37: =IF(K37="X",Gesamt!$C$8,IF(J37="X",Gesamt!$C$9,IF(IF(E37<D37,E37+(24-D37),E37-D37)>0,IF(E37<D37,E37+(24-D37),E37-D37),""))) | G37: =IF(SUM(L37:P37)=0,"",SUM(L37:P37)) | H37: =IF(D37="","",IF(Q37=0,IF(B37="Sonntag",IF(D37>E37,24-D37,E37-D37),IF(AND(B37="Samstag",Q38=0),IF(D37>E37,E37,""),"")),IF(AND(B37="Samstag",Q38=0),IF(D37>E37,E37,""),""))) | I37: =IF(D37="","",IF(AND(Q37=1,Q38=1),IF(D37>E37,24-D37+E37,E37-D37),IF(Q37=1,IF(D37>E37,24-D37,E37-D37),IF(AND(Q38=1,D37>E37),E37,"")))) | J37: =IF(C37="Urlaub","X","") | K37: =IF(C37="Krank","X","") | L37: =IF(OR(Q37=1,Q38=1,B37="Sonntag",B38="Sonntag"),"",SUM(R37:W37)) -> 0 | M37: =IF(B37="Sonntag","",IF(AND(Q37=1,D37>E37),SUM(U37:W37),"")) | N37: =IF(OR(AND(Q37=1,Q38=1),AND(Q38=1,B37="Sonntag")),"",IF(Q38=1,SUM(R37:T37),"")) | O37: =IF(Q38=1,"",IF(AND(B37="Sonntag",D37>E37,Q37=0),SUM(U37:W37),"")) | P37: =IF(OR(Q37=1,Q38=1),"",IF(B38="Sonntag",SUM(R37:W37),"")) | Q37: =OR(Feiertage!$B$1=A37,Feiertage!$B$2=A37,Feiertage!$B$3=A37,Feiertage!$B$4=A37,Feiertage!$B$5=A37,Feiertage!$B$6=A37,Feiertage!$B$7=A37,Feiertage!$B$8=A37,Feiertage!$B$9=A37) -> FALSE | R37: =IF(AND(D37>E37,D37<20),4,"") | S37: =IF(AND(D37>E37,D37>=20),24-D37,"") | T37: =IF(AND(D37<E37,E37>=20),E37-20,"") | U37: =IF(AND(D37>E37,E37>=6),6,"") | V37: =IF(AND(D37>E37,E37<6),E37,"") | W37: =IF(AND(D37<E37,E37>=6,D37<=6),6-D37,"") | X37: =IF(AND(D37<E37,E37<6),6-E37,"") | Y37: Mon. bis Fr.
A38: 42090 | B38: Freitag | F38: =IF(K38="X",Gesamt!$C$8,IF(J38="X",Gesamt!$C$9,IF(IF(E38<D38,E38+(24-D38),E38-D38)>0,IF(E38<D38,E38+(24-D38),E38-D38),""))) | G38: =IF(SUM(L38:P38)=0,"",SUM(L38:P38)) | H38: =IF(D38="","",IF(Q38=0,IF(B38="Sonntag",IF(D38>E38,24-D38,E38-D38),IF(AND(B38="Samstag",Q39=0),IF(D38>E38,E38,""),"")),IF(AND(B38="Samstag",Q39=0),IF(D38>E38,E38,""),""))) | I38: =IF(D38="","",IF(AND(Q38=1,Q39=1),IF(D38>E38,24-D38+E38,E38-D38),IF(Q38=1,IF(D38>E38,24-D38,E38-D38),IF(AND(Q39=1,D38>E38),E38,"")))) | J38: =IF(C38="Urlaub","X","") | K38: =IF(C38="Krank","X","") | L38: =IF(OR(Q38=1,Q39=1,B38="Sonntag",B39="Sonntag"),"",SUM(R38:W38)) -> 0 | M38: =IF(B38="Sonntag","",IF(AND(Q38=1,D38>E38),SUM(U38:W38),"")) | N38: =IF(OR(AND(Q38=1,Q39=1),AND(Q39=1,B38="Sonntag")),"",IF(Q39=1,SUM(R38:T38),"")) | O38: =IF(Q39=1,"",IF(AND(B38="Sonntag",D38>E38,Q38=0),SUM(U38:W38),"")) | P38: =IF(OR(Q38=1,Q39=1),"",IF(B39="Sonntag",SUM(R38:W38),"")) | Q38: =OR(Feiertage!$B$1=A38,Feiertage!$B$2=A38,Feiertage!$B$3=A38,Feiertage!$B$4=A38,Feiertage!$B$5=A38,Feiertage!$B$6=A38,Feiertage!$B$7=A38,Feiertage!$B$8=A38,Feiertage!$B$9=A38) -> FALSE | R38: =IF(AND(D38>E38,D38<20),4,"") | S38: =IF(AND(D38>E38,D38>=20),24-D38,"") | T38: =IF(AND(D38<E38,E38>=20),E38-20,"") | U38: =IF(AND(D38>E38,E38>=6),6,"") | V38: =IF(AND(D38>E38,E38<6),E38,"") | W38: =IF(AND(D38<E38,E38>=6,D38<=6),6-D38,"") | X38: =IF(AND(D38<E38,E38<6),6-E38,"") | Y38: Mon. bis Fr.
A39: 42091 | B39: Samstag | F39: =IF(K39="X",Gesamt!$C$8,IF(J39="X",Gesamt!$C$9,IF(IF(E39<D39,E39+(24-D39),E39-D39)>0,IF(E39<D39,E39+(24-D39),E39-D39),""))) | G39: =IF(SUM(L39:P39)=0,"",SUM(L39:P39)) | H39: =IF(D39="","",IF(Q39=0,IF(B39="Sonntag",IF(D39>E39,24-D39,E39-D39),IF(AND(B39="Samstag",Q40=0),IF(D39>E39,E39,""),"")),IF(AND(B39="Samstag",Q40=0),IF(D39>E39,E39,""),""))) | I39: =IF(D39="","",IF(AND(Q39=1,Q40=1),IF(D39>E39,24-D39+E39,E39-D39),IF(Q39=1,IF(D39>E39,24-D39,E39-D39),IF(AND(Q40=1,D39>E39),E39,"")))) | J39: =IF(C39="Urlaub","X","") | K39: =IF(C39="Krank","X","") | L39: =IF(OR(Q39=1,Q40=1,B39="Sonntag",B40="Sonntag"),"",SUM(R39:X39)) | M39: =IF(B39="Sonntag","",IF(AND(Q39=1,D39>E39),SUM(U39:X39),"")) | N39: =IF(AND(Q39=1,Q40=1),"",IF(Q40=1,SUM(R39:T39),"")) | O39: =IF(Q40=1,"",IF(AND(B39="Sonntag",D39>E39,Q39=0),SUM(U39:X39),"")) | P39: =IF(OR(Q39=1,Q40=1),"",IF(B40="Sonntag",SUM(R39:T39),"")) -> 0 | Q39: =OR(Feiertage!$B$1=A39,Feiertage!$B$2=A39,Feiertage!$B$3=A39,Feiertage!$B$4=A39,Feiertage!$B$5=A39,Feiertage!$B$6=A39,Feiertage!$B$7=A39,Feiertage!$B$8=A39,Feiertage!$B$9=A39) -> FALSE | R39: =IF(AND(D39>E39,D39<20),4,IF(AND(D39<E39,D39<=6),6-D39,"")) | S39: =IF(AND(D39>E39,D39>=20),24-D39,"") | T39: =IF(AND(D39<E39,E39>=20),E39-20,"") | U39: =IF(AND(D39>E39,E39>=6),6,"") | V39: =IF(AND(D39>E39,E39<6),E39,"") | W39: =IF(AND(D39<E39,E39>=6,D39<=6),6-D39,"") | X39: =IF(AND(D39<E39,E39<6),6-E39,"") | Y39: Samstag
A40: 42092 | B40: Sonntag | F40: =IF(K40="X",Gesamt!$C$8,IF(J40="X",Gesamt!$C$9,IF(IF(E40<D40,E40+(24-D40),E40-D40)>0,IF(E40<D40,E40+(24-D40),E40-D40),""))) | G40: =IF(SUM(L40:P40)=0,"",SUM(L40:P40)) | H40: =IF(D40="","",IF(Q40=0,IF(B40="Sonntag",IF(D40>E40,24-D40,E40-D40),IF(AND(B40="Samstag",Q41=0),IF(D40>E40,E40,""),"")),IF(AND(B40="Samstag",Q41=0),IF(D40>E40,E40,""),""))) | I40: =IF(D40="","",IF(AND(Q40=1,Q41=1),IF(D40>E40,24-D40+E40,E40-D40),IF(Q40=1,IF(D40>E40,24-D40,E40-D40),IF(AND(Q41=1,D40>E40),E40,"")))) | J40: =IF(C40="Urlaub","X","") | K40: =IF(C40="Krank","X","") | L40: =IF(OR(Q40=1,Q41=1,B40="Sonntag",B41="Sonntag"),"",SUM(R40:X40)) | M40: =IF(B41="Sonntag","",IF(AND(Q40=1,D40>E40),SUM(U40:X40),"")) | N40: =IF(AND(Q40=1,Q44=1),"",IF(Q41=1,SUM(R40:T40),"")) | O40: =IF(Q44=1,"",IF(AND(B40="Sonntag",D40>E40,Q40=0),SUM(U40:X40),"")) | P40: =IF(OR(Q40=1,Q44=1),"",IF(B41="Sonntag",SUM(R40:T40),"")) | Q40: =OR(Feiertage!$B$1=A40,Feiertage!$B$2=A40,Feiertage!$B$3=A40,Feiertage!$B$4=A40,Feiertage!$B$5=A40,Feiertage!$B$6=A40,Feiertage!$B$7=A40,Feiertage!$B$8=A40,Feiertage!$B$9=A40) -> FALSE | R40: =IF(AND(D40>E40,D40<20),4,"") | S40: =IF(AND(D40>E40,D40>=20),24-D40,"") | T40: =IF(AND(D40<E40,E40>=20),E40-20,"") | U40: =IF(AND(D40>E40,E40>=6),6,"") | V40: =IF(AND(D40>E40,E40<6),E40,"") | W40: =IF(AND(D40<E40,E40>=6,D40<=6),6-D40,"") | X40: =IF(AND(D40<E40,E40<6),E40-D40,"") | Y40: Sonntag
D41: Gesamt: | F41: =SUM(F34:F40) -> 0 | G41: =SUM(G34:G40) -> 0 | H41: =SUM(H34:H40) -> 0 | I41: =SUM(I34:I40) -> 0 | J41: =COUNTIF(J34:J40,"X") -> 0 | K41: =COUNTIF(K34:K40,"X") -> 0
A42: 42093 | B42: Montag | F42: =IF(K42="X",Gesamt!$C$8,IF(J42="X",Gesamt!$C$9,IF(IF(E42<D42,E42+(24-D42),E42-D42)>0,IF(E42<D42,E42+(24-D42),E42-D42),""))) | G42: =IF(SUM(L42:P42)=0,"",SUM(L42:P42)) | H42: =IF(D42="","",IF(Q42=0,IF(B42="Sonntag",IF(D42>E42,24-D42,E42-D42),IF(AND(B42="Samstag",Q43=0),IF(D42>E42,E42,""),"")),IF(AND(B42="Samstag",Q43=0),IF(D42>E42,E42,""),""))) | I42: =IF(D42="","",IF(AND(Q42=1,Q43=1),IF(D42>E42,24-D42+E42,E42-D42),IF(Q42=1,IF(D42>E42,24-D42,E42-D42),IF(AND(Q43=1,D42>E42),E42,"")))) | J42: =IF(C42="Urlaub","X","") | K42: =IF(C42="Krank","X","") | L42: =IF(OR(Q42=1,Q43=1,B42="Sonntag",B43="Sonntag"),"",SUM(R42:W42)) -> 0 | M42: =IF(B42="Sonntag","",IF(AND(Q42=1,D42>E42),SUM(U42:W42),"")) | N42: =IF(OR(AND(Q42=1,Q43=1),AND(Q43=1,B42="Sonntag")),"",IF(Q43=1,SUM(R42:T42),"")) | O42: =IF(Q43=1,"",IF(AND(B42="Sonntag",D42>E42,Q42=0),SUM(U42:W42),"")) | P42: =IF(OR(Q42=1,Q43=1),"",IF(B43="Sonntag",SUM(R42:W42),"")) | Q42: =OR(Feiertage!$B$1=A42,Feiertage!$B$2=A42,Feiertage!$B$3=A42,Feiertage!$B$4=A42,Feiertage!$B$5=A42,Feiertage!$B$6=A42,Feiertage!$B$7=A42,Feiertage!$B$8=A42,Feiertage!$B$9=A42) -> FALSE | R42: =IF(AND(D42>E42,D42<20),4,"") | S42: =IF(AND(D42>E42,D42>=20),24-D42,"") | T42: =IF(AND(D42<E42,E42>=20),E42-20,"") | U42: =IF(AND(D42>E42,E42>=6),6,"") | V42: =IF(AND(D42>E42,E42<6),E42,"") | W42: =IF(AND(D42<E42,E42>=6,D42<=6),6-D42,"") | X42: =IF(AND(D42<E42,E42<6),6-E42,"") | Y42: Mon. bis Fr.
A43: 42094 | B43: Dienstag | F43: =IF(K43="X",Gesamt!$C$8,IF(J43="X",Gesamt!$C$9,IF(IF(E43<D43,E43+(24-D43),E43-D43)>0,IF(E43<D43,E43+(24-D43),E43-D43),""))) | G43: =IF(SUM(L43:P43)=0,"",SUM(L43:P43)) | H43: =IF(D43="","",IF(Q43=0,IF(B43="Sonntag",IF(D43>E43,24-D43,E43-D43),IF(AND(B43="Samstag",Q44=0),IF(D43>E43,E43,""),"")),IF(AND(B43="Samstag",Q44=0),IF(D43>E43,E43,""),""))) | I43: =IF(D43="","",IF(AND(Q43=1,Q44=1),IF(D43>E43,24-D43+E43,E43-D43),IF(Q43=1,IF(D43>E43,24-D43,E43-D43),IF(AND(Q44=1,D43>E43),E43,"")))) | J43: =IF(C43="Urlaub","X","") | K43: =IF(C43="Krank","X","") | L43: =IF(OR(Q43=1,Q44=1,B43="Sonntag",B44="Sonntag"),"",SUM(R43:W43)) -> 0 | M43: =IF(B43="Sonntag","",IF(AND(Q43=1,D43>E43),SUM(U43:W43),"")) | N43: =IF(OR(AND(Q43=1,Q44=1),AND(Q44=1,B43="Sonntag")),"",IF(Q44=1,SUM(R43:T43),"")) | O43: =IF(Q44=1,"",IF(AND(B43="Sonntag",D43>E43,Q43=0),SUM(U43:W43),"")) | P43: =IF(OR(Q43=1,Q44=1),"",IF(B44="Sonntag",SUM(R43:W43),"")) | Q43: =OR(Feiertage!$B$1=A43,Feiertage!$B$2=A43,Feiertage!$B$3=A43,Feiertage!$B$4=A43,Feiertage!$B$5=A43,Feiertage!$B$6=A43,Feiertage!$B$7=A43,Feiertage!$B$8=A43,Feiertage!$B$9=A43) -> FALSE | R43: =IF(AND(D43>E43,D43<20),4,"") | S43: =IF(AND(D43>E43,D43>=20),24-D43,"") | T43: =IF(AND(D43<E43,E43>=20),E43-20,"") | U43: =IF(AND(D43>E43,E43>=6),6,"") | V43: =IF(AND(D43>E43,E43<6),E43,"") | W43: =IF(AND(D43<E43,E43>=6,D43<=6),6-D43,"") | X43: =IF(AND(D43<E43,E43<6),6-E43,"") | Y43: Mon. bis Fr.
A44: 42095 | B44: Mittwoch | F44: =IF(K44="X",Gesamt!$C$8,IF(J44="X",Gesamt!$C$9,IF(IF(E44<D44,E44+(24-D44),E44-D44)>0,IF(E44<D44,E44+(24-D44),E44-D44),""))) | G44: =IF(SUM(L44:P44)=0,"",SUM(L44:P44)) | H44: =IF(D44="","",IF(Q44=0,IF(B44="Sonntag",IF(D44>E44,24-D44,E44-D44),IF(AND(B44="Samstag",Q44=0),IF(D44>E44,E44,""),"")),IF(AND(B44="Samstag",Q44=0),IF(D44>E44,E44,""),""))) | I44: =IF(D44="","",IF(AND(Q44=1,Q44=1),IF(D44>E44,24-D44+E44,E44-D44),IF(Q44=1,IF(D44>E44,24-D44,E44-D44),IF(AND(Q44=1,D44>E44),E44,"")))) | J44: =IF(C44="Urlaub","X","") | K44: =IF(C44="Krank","X","") | L44: =IF(OR(Q44=1,Q45=1,B44="Sonntag",B45="Sonntag"),"",SUM(R44:W44)) -> 0 | M44: =IF(B44="Sonntag","",IF(AND(Q44=1,D44>E44),SUM(U44:W44),"")) | N44: =IF(OR(AND(Q44=1,Q45=1),AND(Q45=1,B44="Sonntag")),"",IF(Q45=1,SUM(R44:T44),"")) | O44: =IF(Q45=1,"",IF(AND(B44="Sonntag",D44>E44,Q44=0),SUM(U44:W44),"")) | P44: =IF(OR(Q44=1,Q45=1),"",IF(B45="Sonntag",SUM(R44:W44),"")) | Q44: =OR(Feiertage!$B$1=A44,Feiertage!$B$2=A44,Feiertage!$B$3=A44,Feiertage!$B$4=A44,Feiertage!$B$5=A44,Feiertage!$B$6=A44,Feiertage!$B$7=A44,Feiertage!$B$8=A44,Feiertage!$B$9=A44) -> FALSE | R44: =IF(AND(D44>E44,D44<20),4,"") | S44: =IF(AND(D44>E44,D44>=20),24-D44,"") | T44: =IF(AND(D44<E44,E44>=20),E44-20,"") | U44: =IF(AND(D44>E44,E44>=6),6,"") | V44: =IF(AND(D44>E44,E44<6),E44,"") | W44: =IF(AND(D44<E44,E44>=6,D44<=6),6-D44,"") | X44: =IF(AND(D44<E44,E44<6),6-E44,"") | Y44: Mon. bis Fr.
D45: Gesamt: | F45: =SUM(F42:F43) -> 0 | G45: =SUM(G42:G43) -> 0 | H45: =SUM(H42:H43) -> 0 | I45: =SUM(I42:I43) -> 0 | J45: =COUNTIF(J42:J43,"X") -> 0 | K45: =COUNTIF(K42:K43,"X") -> 0
D46: Gesamt: | F46: =F9+F17+F25+F33+F41+F45 -> 0 | G46: =G9+G17+G25+G33+G41+G45 -> 0 | H46: =H9+H17+H25+H33+H41+H45 -> 0 | I46: =I9+I17+I25+I33+I41+I45 -> 0 | J46: =J9+J17+J25+J33+J41+J45 -> 0 | K46: =K9+K17+K25+K33+K41+K45 -> 0

Sheet April
A1: =A8 -> 42095
A3: Filiale: | B3: =Gesamt!$B$5 -> 0 | F3: Firma: | G3: =Gesamt!$G$5 -> 0
A5: Name: | B5: =Gesamt!$B$3 -> 0
A7: Datum | B7: Tag | C7: Tätigkeit | D7: von | E7: bis | F7: Stunden | G7: Ab 2000Ab 2000 | H7: Sonntag | I7: Feiertag | J7: Urlaub | K7: Krank
A8: 42095 | B8: Mittwoch | F8: =IF(K8="X",Gesamt!$C$8,IF(J8="X",Gesamt!$C$9,IF(IF(E8<D8,E8+(24-D8),E8-D8)>0,IF(E8<D8,E8+(24-D8),E8-D8),""))) | G8: =IF(SUM(L8:P8)=0,"",SUM(L8:P8)) | H8: =IF(D8="","",IF(Q8=0,IF(B8="Sonntag",IF(D8>E8,24-D8,E8-D8),IF(AND(B8="Samstag",Q9=0),IF(D8>E8,E8,""),"")),IF(AND(B8="Samstag",Q9=0),IF(D8>E8,E8,""),""))) | I8: =IF(D8="","",IF(AND(Q8=1,Q9=1),IF(D8>E8,24-D8+E8,E8-D8),IF(Q8=1,IF(D8>E8,24-D8,E8-D8),IF(AND(Q9=1,D8>E8),E8,"")))) | J8: =IF(C8="Urlaub","X","") | K8: =IF(C8="Krank","X","") | L8: =IF(OR(Q8=1,Q9=1,B8="Sonntag",B9="Sonntag"),"",SUM(R8:W8)) -> 0 | M8: =IF(B8="Sonntag","",IF(AND(Q8=1,D8>E8),SUM(U8:W8),"")) | N8: =IF(OR(AND(Q8=1,Q9=1),AND(Q9=1,B8="Sonntag")),"",IF(Q9=1,SUM(R8:T8),"")) | O8: =IF(Q9=1,"",IF(AND(B8="Sonntag",D8>E8,Q8=0),SUM(U8:W8),"")) | P8: =IF(OR(Q8=1,Q9=1),"",IF(B9="Sonntag",SUM(R8:W8),"")) | Q8: =OR(Feiertage!$B$1=A8,Feiertage!$B$2=A8,Feiertage!$B$3=A8,Feiertage!$B$4=A8,Feiertage!$B$5=A8,Feiertage!$B$6=A8,Feiertage!$B$7=A8,Feiertage!$B$8=A8,Feiertage!$B$9=A8) -> FALSE | R8: =IF(AND(D8>E8,D8<20),4,"") | S8: =IF(AND(D8>E8,D8>=20),24-D8,"") | T8: =IF(AND(D8<E8,E8>=20),E8-20,"") | U8: =IF(AND(D8>E8,E8>=6),6,"") | V8: =IF(AND(D8>E8,E8<6),E8,"") | W8: =IF(AND(D8<E8,E8>=6,D8<=6),6-D8,"") | X8: =IF(AND(D8<E8,E8<6),6-E8,"") | Y8: Mon. bis Fr.
A9: 42096 | B9: Donnerstag | F9: =IF(K9="X",Gesamt!$C$8,IF(J9="X",Gesamt!$C$9,IF(IF(E9<D9,E9+(24-D9),E9-D9)>0,IF(E9<D9,E9+(24-D9),E9-D9),""))) | G9: =IF(SUM(L9:P9)=0,"",SUM(L9:P9)) | H9: =IF(D9="","",IF(Q9=0,IF(B9="Sonntag",IF(D9>E9,24-D9,E9-D9),IF(AND(B9="Samstag",Q10=0),IF(D9>E9,E9,""),"")),IF(AND(B9="Samstag",Q10=0),IF(D9>E9,E9,""),""))) | I9: =IF(D9="","",IF(AND(Q9=1,Q10=1),IF(D9>E9,24-D9+E9,E9-D9),IF(Q9=1,IF(D9>E9,24-D9,E9-D9),IF(AND(Q10=1,D9>E9),E9,"")))) | J9: =IF(C9="Urlaub","X","") | K9: =IF(C9="Krank","X","") | L9: =IF(OR(Q9=1,Q10=1,B9="Sonntag",B10="Sonntag"),"",SUM(R9:W9)) -> 0 | M9: =IF(B9="Sonntag","",IF(AND(Q9=1,D9>E9),SUM(U9:W9),"")) | N9: =IF(OR(AND(Q9=1,Q10=1),AND(Q10=1,B9="Sonntag")),"",IF(Q10=1,SUM(R9:T9),"")) | O9: =IF(Q10=1,"",IF(AND(B9="Sonntag",D9>E9,Q9=0),SUM(U9:W9),"")) | P9: =IF(OR(Q9=1,Q10=1),"",IF(B10="Sonntag",SUM(R9:W9),"")) | Q9: =OR(Feiertage!$B$1=A9,Feiertage!$B$2=A9,Feiertage!$B$3=A9,Feiertage!$B$4=A9,Feiertage!$B$5=A9,Feiertage!$B$6=A9,Feiertage!$B$7=A9,Feiertage!$B$8=A9,Feiertage!$B$9=A9) -> FALSE | R9: =IF(AND(D9>E9,D9<20),4,"") | S9: =IF(AND(D9>E9,D9>=20),24-D9,"") | T9: =IF(AND(D9<E9,E9>=20),E9-20,"") | U9: =IF(AND(D9>E9,E9>=6),6,"") | V9: =IF(AND(D9>E9,E9<6),E9,"") | W9: =IF(AND(D9<E9,E9>=6,D9<=6),6-D9,"") | X9: =IF(AND(D9<E9,E9<6),6-E9,"") | Y9: Mon. bis Fr.
A10: 42097 | B10: Freitag | F10: =IF(K10="X",Gesamt!$C$8,IF(J10="X",Gesamt!$C$9,IF(IF(E10<D10,E10+(24-D10),E10-D10)>0,IF(E10<D10,E10+(24-D10),E10-D10),""))) | G10: =IF(SUM(L10:P10)=0,"",SUM(L10:P10)) | H10: =IF(D10="","",IF(Q10=0,IF(B10="Sonntag",IF(D10>E10,24-D10,E10-D10),IF(AND(B10="Samstag",Q11=0),IF(D10>E10,E10,""),"")),IF(AND(B10="Samstag",Q11=0),IF(D10>E10,E10,""),""))) | I10: =IF(D10="","",IF(AND(Q10=1,Q11=1),IF(D10>E10,24-D10+E10,E10-D10),IF(Q10=1,IF(D10>E10,24-D10,E10-D10),IF(AND(Q11=1,D10>E10),E10,"")))) | J10: =IF(C10="Urlaub","X","") | K10: =IF(C10="Krank","X","") | L10: =IF(OR(Q10=1,Q11=1,B10="Sonntag",B11="Sonntag"),"",SUM(R10:W10)) -> 0 | M10: =IF(B10="Sonntag","",IF(AND(Q10=1,D10>E10),SUM(U10:W10),"")) | N10: =IF(OR(AND(Q10=1,Q11=1),AND(Q11=1,B10="Sonntag")),"",IF(Q11=1,SUM(R10:T10),"")) | O10: =IF(Q11=1,"",IF(AND(B10="Sonntag",D10>E10,Q10=0),SUM(U10:W10),"")) | P10: =IF(OR(Q10=1,Q11=1),"",IF(B11="Sonntag",SUM(R10:W10),"")) | Q10: =OR(Feiertage!$B$1=A10,Feiertage!$B$2=A10,Feiertage!$B$3=A10,Feiertage!$B$4=A10,Feiertage!$B$5=A10,Feiertage!$B$6=A10,Feiertage!$B$7=A10,Feiertage!$B$8=A10,Feiertage!$B$9=A10) -> FALSE | R10: =IF(AND(D10>E10,D10<20),4,"") | S10: =IF(AND(D10>E10,D10>=20),24-D10,"") | T10: =IF(AND(D10<E10,E10>=20),E10-20,"") | U10: =IF(AND(D10>E10,E10>=6),6,"") | V10: =IF(AND(D10>E10,E10<6),E10,"") | W10: =IF(AND(D10<E10,E10>=6,D10<=6),6-D10,"") | X10: =IF(AND(D10<E10,E10<6),6-E10,"") | Y10: Mon. bis Fr.
A11: 42098 | B11: Samstag | F11: =IF(K11="X",Gesamt!$C$8,IF(J11="X",Gesamt!$C$9,IF(IF(E11<D11,E11+(24-D11),E11-D11)>0,IF(E11<D11,E11+(24-D11),E11-D11),""))) | G11: =IF(SUM(L11:P11)=0,"",SUM(L11:P11)) | H11: =IF(D11="","",IF(Q11=0,IF(B11="Sonntag",IF(D11>E11,24-D11,E11-D11),IF(AND(B11="Samstag",Q12=0),IF(D11>E11,E11,""),"")),IF(AND(B11="Samstag",Q12=0),IF(D11>E11,E11,""),""))) | I11: =IF(D11="","",IF(AND(Q11=1,Q12=1),IF(D11>E11,24-D11+E11,E11-D11),IF(Q11=1,IF(D11>E11,24-D11,E11-D11),IF(AND(Q12=1,D11>E11),E11,"")))) | J11: =IF(C11="Urlaub","X","") | K11: =IF(C11="Krank","X","") | L11: =IF(OR(Q11=1,Q12=1,B11="Sonntag",B12="Sonntag"),"",SUM(R11:X11)) | M11: =IF(B11="Sonntag","",IF(AND(Q11=1,D11>E11),SUM(U11:X11),"")) | N11: =IF(AND(Q11=1,Q12=1),"",IF(Q12=1,SUM(R11:T11),"")) | O11: =IF(Q12=1,"",IF(AND(B11="Sonntag",D11>E11,Q11=0),SUM(U11:X11),"")) | P11: =IF(OR(Q11=1,Q12=1),"",IF(B12="Sonntag",SUM(R11:T11),"")) -> 0 | Q11: =OR(Feiertage!$B$1=A11,Feiertage!$B$2=A11,Feiertage!$B$3=A11,Feiertage!$B$4=A11,Feiertage!$B$5=A11,Feiertage!$B$6=A11,Feiertage!$B$7=A11,Feiertage!$B$8=A11,Feiertage!$B$9=A11) -> FALSE | R11: =IF(AND(D11>E11,D11<20),4,IF(AND(D11<E11,D11<=6),6-D11,"")) | S11: =IF(AND(D11>E11,D11>=20),24-D11,"") | T11: =IF(AND(D11<E11,E11>=20),E11-20,"") | U11: =IF(AND(D11>E11,E11>=6),6,"") | V11: =IF(AND(D11>E11,E11<6),E11,"") | W11: =IF(AND(D11<E11,E11>=6,D11<=6),6-D11,"") | X11: =IF(AND(D11<E11,E11<6),6-E11,"") | Y11: Samstag
A12: 42099 | B12: Sonntag | F12: =IF(K12="X",Gesamt!$C$8,IF(J12="X",Gesamt!$C$9,IF(IF(E12<D12,E12+(24-D12),E12-D12)>0,IF(E12<D12,E12+(24-D12),E12-D12),""))) | G12: =IF(SUM(L12:P12)=0,"",SUM(L12:P12)) | H12: =IF(D12="","",IF(Q12=0,IF(B12="Sonntag",IF(D12>E12,24-D12,E12-D12),IF(AND(B12="Samstag",Q13=0),IF(D12>E12,E12,""),"")),IF(AND(B12="Samstag",Q13=0),IF(D12>E12,E12,""),""))) | I12: =IF(D12="","",IF(AND(Q12=1,Q13=1),IF(D12>E12,24-D12+E12,E12-D12),IF(Q12=1,IF(D12>E12,24-D12,E12-D12),IF(AND(Q13=1,D12>E12),E12,"")))) | J12: =IF(C12="Urlaub","X","") | K12: =IF(C12="Krank","X","") | L12: =IF(OR(Q12=1,Q13=1,B12="Sonntag",B13="Sonntag"),"",SUM(R12:X12)) | M12: =IF(B13="Sonntag","",IF(AND(Q12=1,D12>E12),SUM(U12:X12),"")) | N12: =IF(AND(Q12=1,Q14=1),"",IF(Q13=1,SUM(R12:T12),"")) | O12: =IF(Q14=1,"",IF(AND(B12="Sonntag",D12>E12,Q12=0),SUM(U12:X12),"")) | P12: =IF(OR(Q12=1,Q14=1),"",IF(B13="Sonntag",SUM(R12:T12),"")) | Q12: =OR(Feiertage!$B$1=A12,Feiertage!$B$2=A12,Feiertage!$B$3=A12,Feiertage!$B$4=A12,Feiertage!$B$5=A12,Feiertage!$B$6=A12,Feiertage!$B$7=A12,Feiertage!$B$8=A12,Feiertage!$B$9=A12) -> FALSE | R12: =IF(AND(D12>E12,D12<20),4,"") | S12: =IF(AND(D12>E12,D12>=20),24-D12,"") | T12: =IF(AND(D12<E12,E12>=20),E12-20,"") | U12: =IF(AND(D12>E12,E12>=6),6,"") | V12: =IF(AND(D12>E12,E12<6),E12,"") | W12: =IF(AND(D12<E12,E12>=6,D12<=6),6-D12,"") | X12: =IF(AND(D12<E12,E12<6),E12-D12,"") | Y12: Sonntag
D13: Gesamt: | F13: =SUM(F8:F12) -> 0 | G13: =SUM(G8:G12) -> 0 | H13: =SUM(H8:H12) -> 0 | I13: =SUM(I8:I12) -> 0 | J13: =COUNTIF(J8:J12,"X") -> 0 | K13: =COUNTIF(K8:K12,"X") -> 0
A14: 42100 | B14: Montag | F14: =IF(K14="X",Gesamt!$C$8,IF(J14="X",Gesamt!$C$9,IF(IF(E14<D14,E14+(24-D14),E14-D14)>0,IF(E14<D14,E14+(24-D14),E14-D14),""))) | G14: =IF(SUM(L14:P14)=0,"",SUM(L14:P14)) | H14: =IF(D14="","",IF(Q14=0,IF(B14="Sonntag",IF(D14>E14,24-D14,E14-D14),IF(AND(B14="Samstag",Q15=0),IF(D14>E14,E14,""),"")),IF(AND(B14="Samstag",Q15=0),IF(D14>E14,E14,""),""))) | I14: =IF(D14="","",IF(AND(Q14=1,Q15=1),IF(D14>E14,24-D14+E14,E14-D14),IF(Q14=1,IF(D14>E14,24-D14,E14-D14),IF(AND(Q15=1,D14>E14),E14,"")))) | J14: =IF(C14="Urlaub","X","") | K14: =IF(C14="Krank","X","") | L14: =IF(OR(Q14=1,Q15=1,B14="Sonntag",B15="Sonntag"),"",SUM(R14:W14)) -> 0 | M14: =IF(B14="Sonntag","",IF(AND(Q14=1,D14>E14),SUM(U14:W14),"")) | N14: =IF(OR(AND(Q14=1,Q15=1),AND(Q15=1,B14="Sonntag")),"",IF(Q15=1,SUM(R14:T14),"")) | O14: =IF(Q15=1,"",IF(AND(B14="Sonntag",D14>E14,Q14=0),SUM(U14:W14),"")) | P14: =IF(OR(Q14=1,Q15=1),"",IF(B15="Sonntag",SUM(R14:W14),"")) | Q14: =OR(Feiertage!$B$1=A14,Feiertage!$B$2=A14,Feiertage!$B$3=A14,Feiertage!$B$4=A14,Feiertage!$B$5=A14,Feiertage!$B$6=A14,Feiertage!$B$7=A14,Feiertage!$B$8=A14,Feiertage!$B$9=A14) -> FALSE | R14: =IF(AND(D14>E14,D14<20),4,"") | S14: =IF(AND(D14>E14,D14>=20),24-D14,"") | T14: =IF(AND(D14<E14,E14>=20),E14-20,"") | U14: =IF(AND(D14>E14,E14>=6),6,"") | V14: =IF(AND(D14>E14,E14<6),E14,"") | W14: =IF(AND(D14<E14,E14>=6,D14<=6),6-D14,"") | X14: =IF(AND(D14<E14,E14<6),6-E14,"") | Y14: Mon. bis Fr.
A15: 42101 | B15: Dienstag | F15: =IF(K15="X",Gesamt!$C$8,IF(J15="X",Gesamt!$C$9,IF(IF(E15<D15,E15+(24-D15),E15-D15)>0,IF(E15<D15,E15+(24-D15),E15-D15),""))) | G15: =IF(SUM(L15:P15)=0,"",SUM(L15:P15)) | H15: =IF(D15="","",IF(Q15=0,IF(B15="Sonntag",IF(D15>E15,24-D15,E15-D15),IF(AND(B15="Samstag",Q16=0),IF(D15>E15,E15,""),"")),IF(AND(B15="Samstag",Q16=0),IF(D15>E15,E15,""),""))) | I15: =IF(D15="","",IF(AND(Q15=1,Q16=1),IF(D15>E15,24-D15+E15,E15-D15),IF(Q15=1,IF(D15>E15,24-D15,E15-D15),IF(AND(Q16=1,D15>E15),E15,"")))) | J15: =IF(C15="Urlaub","X","") | K15: =IF(C15="Krank","X","") | L15: =IF(OR(Q15=1,Q16=1,B15="Sonntag",B16="Sonntag"),"",SUM(R15:W15)) -> 0 | M15: =IF(B15="Sonntag","",IF(AND(Q15=1,D15>E15),SUM(U15:W15),"")) | N15: =IF(OR(AND(Q15=1,Q16=1),AND(Q16=1,B15="Sonntag")),"",IF(Q16=1,SUM(R15:T15),"")) | O15: =IF(Q16=1,"",IF(AND(B15="Sonntag",D15>E15,Q15=0),SUM(U15:W15),"")) | P15: =IF(OR(Q15=1,Q16=1),"",IF(B16="Sonntag",SUM(R15:W15),"")) | Q15: =OR(Feiertage!$B$1=A15,Feiertage!$B$2=A15,Feiertage!$B$3=A15,Feiertage!$B$4=A15,Feiertage!$B$5=A15,Feiertage!$B$6=A15,Feiertage!$B$7=A15,Feiertage!$B$8=A15,Feiertage!$B$9=A15) -> FALSE | R15: =IF(AND(D15>E15,D15<20),4,"") | S15: =IF(AND(D15>E15,D15>=20),24-D15,"") | T15: =IF(AND(D15<E15,E15>=20),E15-20,"") | U15: =IF(AND(D15>E15,E15>=6),6,"") | V15: =IF(AND(D15>E15,E15<6),E15,"") | W15: =IF(AND(D15<E15,E15>=6,D15<=6),6-D15,"") | X15: =IF(AND(D15<E15,E15<6),6-E15,"") | Y15: Mon. bis Fr.
A16: 42102 | B16: Mittwoch | F16: =IF(K16="X",Gesamt!$C$8,IF(J16="X",Gesamt!$C$9,IF(IF(E16<D16,E16+(24-D16),E16-D16)>0,IF(E16<D16,E16+(24-D16),E16-D16),""))) | G16: =IF(SUM(L16:P16)=0,"",SUM(L16:P16)) | H16: =IF(D16="","",IF(Q16=0,IF(B16="Sonntag",IF(D16>E16,24-D16,E16-D16),IF(AND(B16="Samstag",Q17=0),IF(D16>E16,E16,""),"")),IF(AND(B16="Samstag",Q17=0),IF(D16>E16,E16,""),""))) | I16: =IF(D16="","",IF(AND(Q16=1,Q17=1),IF(D16>E16,24-D16+E16,E16-D16),IF(Q16=1,IF(D16>E16,24-D16,E16-D16),IF(AND(Q17=1,D16>E16),E16,"")))) | J16: =IF(C16="Urlaub","X","") | K16: =IF(C16="Krank","X","") | L16: =IF(OR(Q16=1,Q17=1,B16="Sonntag",B17="Sonntag"),"",SUM(R16:W16)) -> 0 | M16: =IF(B16="Sonntag","",IF(AND(Q16=1,D16>E16),SUM(U16:W16),"")) | N16: =IF(OR(AND(Q16=1,Q17=1),AND(Q17=1,B16="Sonntag")),"",IF(Q17=1,SUM(R16:T16),"")) | O16: =IF(Q17=1,"",IF(AND(B16="Sonntag",D16>E16,Q16=0),SUM(U16:W16),"")) | P16: =IF(OR(Q16=1,Q17=1),"",IF(B17="Sonntag",SUM(R16:W16),"")) | Q16: =OR(Feiertage!$B$1=A16,Feiertage!$B$2=A16,Feiertage!$B$3=A16,Feiertage!$B$4=A16,Feiertage!$B$5=A16,Feiertage!$B$6=A16,Feiertage!$B$7=A16,Feiertage!$B$8=A16,Feiertage!$B$9=A16) -> FALSE | R16: =IF(AND(D16>E16,D16<20),4,"") | S16: =IF(AND(D16>E16,D16>=20),24-D16,"") | T16: =IF(AND(D16<E16,E16>=20),E16-20,"") | U16: =IF(AND(D16>E16,E16>=6),6,"") | V16: =IF(AND(D16>E16,E16<6),E16,"") | W16: =IF(AND(D16<E16,E16>=6,D16<=6),6-D16,"") | X16: =IF(AND(D16<E16,E16<6),6-E16,"") | Y16: Mon. bis Fr.
A17: 42103 | B17: Donnerstag | F17: =IF(K17="X",Gesamt!$C$8,IF(J17="X",Gesamt!$C$9,IF(IF(E17<D17,E17+(24-D17),E17-D17)>0,IF(E17<D17,E17+(24-D17),E17-D17),""))) | G17: =IF(SUM(L17:P17)=0,"",SUM(L17:P17)) | H17: =IF(D17="","",IF(Q17=0,IF(B17="Sonntag",IF(D17>E17,24-D17,E17-D17),IF(AND(B17="Samstag",Q18=0),IF(D17>E17,E17,""),"")),IF(AND(B17="Samstag",Q18=0),IF(D17>E17,E17,""),""))) | I17: =IF(D17="","",IF(AND(Q17=1,Q18=1),IF(D17>E17,24-D17+E17,E17-D17),IF(Q17=1,IF(D17>E17,24-D17,E17-D17),IF(AND(Q18=1,D17>E17),E17,"")))) | J17: =IF(C17="Urlaub","X","") | K17: =IF(C17="Krank","X","") | L17: =IF(OR(Q17=1,Q18=1,B17="Sonntag",B18="Sonntag"),"",SUM(R17:W17)) -> 0 | M17: =IF(B17="Sonntag","",IF(AND(Q17=1,D17>E17),SUM(U17:W17),"")) | N17: =IF(OR(AND(Q17=1,Q18=1),AND(Q18=1,B17="Sonntag")),"",IF(Q18=1,SUM(R17:T17),"")) | O17: =IF(Q18=1,"",IF(AND(B17="Sonntag",D17>E17,Q17=0),SUM(U17:W17),"")) | P17: =IF(OR(Q17=1,Q18=1),"",IF(B18="Sonntag",SUM(R17:W17),"")) | Q17: =OR(Feiertage!$B$1=A17,Feiertage!$B$2=A17,Feiertage!$B$3=A17,Feiertage!$B$4=A17,Feiertage!$B$5=A17,Feiertage!$B$6=A17,Feiertage!$B$7=A17,Feiertage!$B$8=A17,Feiertage!$B$9=A17) -> FALSE | R17: =IF(AND(D17>E17,D17<20),4,"") | S17: =IF(AND(D17>E17,D17>=20),24-D17,"") | T17: =IF(AND(D17<E17,E17>=20),E17-20,"") | U17: =IF(AND(D17>E17,E17>=6),6,"") | V17: =IF(AND(D17>E17,E17<6),E17,"") | W17: =IF(AND(D17<E17,E17>=6,D17<=6),6-D17,"") | X17: =IF(AND(D17<E17,E17<6),6-E17,"") | Y17: Mon. bis Fr.
A18: 42104 | B18: Freitag | F18: =IF(K18="X",Gesamt!$C$8,IF(J18="X",Gesamt!$C$9,IF(IF(E18<D18,E18+(24-D18),E18-D18)>0,IF(E18<D18,E18+(24-D18),E18-D18),""))) | G18: =IF(SUM(L18:P18)=0,"",SUM(L18:P18)) | H18: =IF(D18="","",IF(Q18=0,IF(B18="Sonntag",IF(D18>E18,24-D18,E18-D18),IF(AND(B18="Samstag",Q19=0),IF(D18>E18,E18,""),"")),IF(AND(B18="Samstag",Q19=0),IF(D18>E18,E18,""),""))) | I18: =IF(D18="","",IF(AND(Q18=1,Q19=1),IF(D18>E18,24-D18+E18,E18-D18),IF(Q18=1,IF(D18>E18,24-D18,E18-D18),IF(AND(Q19=1,D18>E18),E18,"")))) | J18: =IF(C18="Urlaub","X","") | K18: =IF(C18="Krank","X","") | L18: =IF(OR(Q18=1,Q19=1,B18="Sonntag",B19="Sonntag"),"",SUM(R18:W18)) -> 0 | M18: =IF(B18="Sonntag","",IF(AND(Q18=1,D18>E18),SUM(U18:W18),"")) | N18: =IF(OR(AND(Q18=1,Q19=1),AND(Q19=1,B18="Sonntag")),"",IF(Q19=1,SUM(R18:T18),"")) | O18: =IF(Q19=1,"",IF(AND(B18="Sonntag",D18>E18,Q18=0),SUM(U18:W18),"")) | P18: =IF(OR(Q18=1,Q19=1),"",IF(B19="Sonntag",SUM(R18:W18),"")) | Q18: =OR(Feiertage!$B$1=A18,Feiertage!$B$2=A18,Feiertage!$B$3=A18,Feiertage!$B$4=A18,Feiertage!$B$5=A18,Feiertage!$B$6=A18,Feiertage!$B$7=A18,Feiertage!$B$8=A18,Feiertage!$B$9=A18) -> FALSE | R18: =IF(AND(D18>E18,D18<20),4,"") | S18: =IF(AND(D18>E18,D18>=20),24-D18,"") | T18: =IF(AND(D18<E18,E18>=20),E18-20,"") | U18: =IF(AND(D18>E18,E18>=6),6,"") | V18: =IF(AND(D18>E18,E18<6),E18,"") | W18: =IF(AND(D18<E18,E18>=6,D18<=6),6-D18,"") | X18: =IF(AND(D18<E18,E18<6),6-E18,"") | Y18: Mon. bis Fr.
A19: 42105 | B19: Samstag | F19: =IF(K19="X",Gesamt!$C$8,IF(J19="X",Gesamt!$C$9,IF(IF(E19<D19,E19+(24-D19),E19-D19)>0,IF(E19<D19,E19+(24-D19),E19-D19),""))) | G19: =IF(SUM(L19:P19)=0,"",SUM(L19:P19)) | H19: =IF(D19="","",IF(Q19=0,IF(B19="Sonntag",IF(D19>E19,24-D19,E19-D19),IF(AND(B19="Samstag",Q20=0),IF(D19>E19,E19,""),"")),IF(AND(B19="Samstag",Q20=0),IF(D19>E19,E19,""),""))) | I19: =IF(D19="","",IF(AND(Q19=1,Q20=1),IF(D19>E19,24-D19+E19,E19-D19),IF(Q19=1,IF(D19>E19,24-D19,E19-D19),IF(AND(Q20=1,D19>E19),E19,"")))) | J19: =IF(C19="Urlaub","X","") | K19: =IF(C19="Krank","X","") | L19: =IF(OR(Q19=1,Q20=1,B19="Sonntag",B20="Sonntag"),"",SUM(R19:X19)) | M19: =IF(B19="Sonntag","",IF(AND(Q19=1,D19>E19),SUM(U19:X19),"")) | N19: =IF(AND(Q19=1,Q20=1),"",IF(Q20=1,SUM(R19:T19),"")) | O19: =IF(Q20=1,"",IF(AND(B19="Sonntag",D19>E19,Q19=0),SUM(U19:X19),"")) | P19: =IF(OR(Q19=1,Q20=1),"",IF(B20="Sonntag",SUM(R19:T19),"")) -> 0 | Q19: =OR(Feiertage!$B$1=A19,Feiertage!$B$2=A19,Feiertage!$B$3=A19,Feiertage!$B$4=A19,Feiertage!$B$5=A19,Feiertage!$B$6=A19,Feiertage!$B$7=A19,Feiertage!$B$8=A19,Feiertage!$B$9=A19) -> FALSE | R19: =IF(AND(D19>E19,D19<20),4,IF(AND(D19<E19,D19<=6),6-D19,"")) | S19: =IF(AND(D19>E19,D19>=20),24-D19,"") | T19: =IF(AND(D19<E19,E19>=20),E19-20,"") | U19: =IF(AND(D19>E19,E19>=6),6,"") | V19: =IF(AND(D19>E19,E19<6),E19,"") | W19: =IF(AND(D19<E19,E19>=6,D19<=6),6-D19,"") | X19: =IF(AND(D19<E19,E19<6),6-E19,"") | Y19: Samstag
A20: 42106 | B20: Sonntag | F20: =IF(K20="X",Gesamt!$C$8,IF(J20="X",Gesamt!$C$9,IF(IF(E20<D20,E20+(24-D20),E20-D20)>0,IF(E20<D20,E20+(24-D20),E20-D20),""))) | G20: =IF(SUM(L20:P20)=0,"",SUM(L20:P20)) | H20: =IF(D20="","",IF(Q20=0,IF(B20="Sonntag",IF(D20>E20,24-D20,E20-D20),IF(AND(B20="Samstag",Q21=0),IF(D20>E20,E20,""),"")),IF(AND(B20="Samstag",Q21=0),IF(D20>E20,E20,""),""))) | I20: =IF(D20="","",IF(AND(Q20=1,Q21=1),IF(D20>E20,24-D20+E20,E20-D20),IF(Q20=1,IF(D20>E20,24-D20,E20-D20),IF(AND(Q21=1,D20>E20),E20,"")))) | J20: =IF(C20="Urlaub","X","") | K20: =IF(C20="Krank","X","") | L20: =IF(OR(Q20=1,Q21=1,B20="Sonntag",B21="Sonntag"),"",SUM(R20:X20)) | M20: =IF(B21="Sonntag","",IF(AND(Q20=1,D20>E20),SUM(U20:X20),"")) | N20: =IF(AND(Q20=1,Q22=1),"",IF(Q21=1,SUM(R20:T20),"")) | O20: =IF(Q22=1,"",IF(AND(B20="Sonntag",D20>E20,Q20=0),SUM(U20:X20),"")) | P20: =IF(OR(Q20=1,Q22=1),"",IF(B21="Sonntag",SUM(R20:T20),"")) | Q20: =OR(Feiertage!$B$1=A20,Feiertage!$B$2=A20,Feiertage!$B$3=A20,Feiertage!$B$4=A20,Feiertage!$B$5=A20,Feiertage!$B$6=A20,Feiertage!$B$7=A20,Feiertage!$B$8=A20,Feiertage!$B$9=A20) -> FALSE | R20: =IF(AND(D20>E20,D20<20),4,"") | S20: =IF(AND(D20>E20,D20>=20),24-D20,"") | T20: =IF(AND(D20<E20,E20>=20),E20-20,"") | U20: =IF(AND(D20>E20,E20>=6),6,"") | V20: =IF(AND(D20>E20,E20<6),E20,"") | W20: =IF(AND(D20<E20,E20>=6,D20<=6),6-D20,"") | X20: =IF(AND(D20<E20,E20<6),E20-D20,"") | Y20: Sonntag
D21: Gesamt: | F21: =SUM(F14:F20) -> 0 | G21: =SUM(G14:G20) -> 0 | H21: =SUM(H14:H20) -> 0 | I21: =SUM(I14:I20) -> 0 | J21: =COUNTIF(J14:J20,"X") -> 0 | K21: =COUNTIF(K14:K20,"X") -> 0
A22: 42107 | B22: Montag | F22: =IF(K22="X",Gesamt!$C$8,IF(J22="X",Gesamt!$C$9,IF(IF(E22<D22,E22+(24-D22),E22-D22)>0,IF(E22<D22,E22+(24-D22),E22-D22),""))) | G22: =IF(SUM(L22:P22)=0,"",SUM(L22:P22)) | H22: =IF(D22="","",IF(Q22=0,IF(B22="Sonntag",IF(D22>E22,24-D22,E22-D22),IF(AND(B22="Samstag",Q23=0),IF(D22>E22,E22,""),"")),IF(AND(B22="Samstag",Q23=0),IF(D22>E22,E22,""),""))) | I22: =IF(D22="","",IF(AND(Q22=1,Q23=1),IF(D22>E22,24-D22+E22,E22-D22),IF(Q22=1,IF(D22>E22,24-D22,E22-D22),IF(AND(Q23=1,D22>E22),E22,"")))) | J22: =IF(C22="Urlaub","X","") | K22: =IF(C22="Krank","X","") | L22: =IF(OR(Q22=1,Q23=1,B22="Sonntag",B23="Sonntag"),"",SUM(R22:W22)) -> 0 | M22: =IF(B22="Sonntag","",IF(AND(Q22=1,D22>E22),SUM(U22:W22),"")) | N22: =IF(OR(AND(Q22=1,Q23=1),AND(Q23=1,B22="Sonntag")),"",IF(Q23=1,SUM(R22:T22),"")) | O22: =IF(Q23=1,"",IF(AND(B22="Sonntag",D22>E22,Q22=0),SUM(U22:W22),"")) | P22: =IF(OR(Q22=1,Q23=1),"",IF(B23="Sonntag",SUM(R22:W22),"")) | Q22: =OR(Feiertage!$B$1=A22,Feiertage!$B$2=A22,Feiertage!$B$3=A22,Feiertage!$B$4=A22,Feiertage!$B$5=A22,Feiertage!$B$6=A22,Feiertage!$B$7=A22,Feiertage!$B$8=A22,Feiertage!$B$9=A22) -> FALSE | R22: =IF(AND(D22>E22,D22<20),4,"") | S22: =IF(AND(D22>E22,D22>=20),24-D22,"") | T22: =IF(AND(D22<E22,E22>=20),E22-20,"") | U22: =IF(AND(D22>E22,E22>=6),6,"") | V22: =IF(AND(D22>E22,E22<6),E22,"") | W22: =IF(AND(D22<E22,E22>=6,D22<=6),6-D22,"") | X22: =IF(AND(D22<E22,E22<6),6-E22,"") | Y22: Mon. bis Fr.
A23: 42108 | B23: Dienstag | F23: =IF(K23="X",Gesamt!$C$8,IF(J23="X",Gesamt!$C$9,IF(IF(E23<D23,E23+(24-D23),E23-D23)>0,IF(E23<D23,E23+(24-D23),E23-D23),""))) | G23: =IF(SUM(L23:P23)=0,"",SUM(L23:P23)) | H23: =IF(D23="","",IF(Q23=0,IF(B23="Sonntag",IF(D23>E23,24-D23,E23-D23),IF(AND(B23="Samstag",Q24=0),IF(D23>E23,E23,""),"")),IF(AND(B23="Samstag",Q24=0),IF(D23>E23,E23,""),""))) | I23: =IF(D23="","",IF(AND(Q23=1,Q24=1),IF(D23>E23,24-D23+E23,E23-D23),IF(Q23=1,IF(D23>E23,24-D23,E23-D23),IF(AND(Q24=1,D23>E23),E23,"")))) | J23: =IF(C23="Urlaub","X","") | K23: =IF(C23="Krank","X","") | L23: =IF(OR(Q23=1,Q24=1,B23="Sonntag",B24="Sonntag"),"",SUM(R23:W23)) -> 0 | M23: =IF(B23="Sonntag","",IF(AND(Q23=1,D23>E23),SUM(U23:W23),"")) | N23: =IF(OR(AND(Q23=1,Q24=1),AND(Q24=1,B23="Sonntag")),"",IF(Q24=1,SUM(R23:T23),"")) | O23: =IF(Q24=1,"",IF(AND(B23="Sonntag",D23>E23,Q23=0),SUM(U23:W23),"")) | P23: =IF(OR(Q23=1,Q24=1),"",IF(B24="Sonntag",SUM(R23:W23),"")) | Q23: =OR(Feiertage!$B$1=A23,Feiertage!$B$2=A23,Feiertage!$B$3=A23,Feiertage!$B$4=A23,Feiertage!$B$5=A23,Feiertage!$B$6=A23,Feiertage!$B$7=A23,Feiertage!$B$8=A23,Feiertage!$B$9=A23) -> FALSE | R23: =IF(AND(D23>E23,D23<20),4,"") | S23: =IF(AND(D23>E23,D23>=20),24-D23,"") | T23: =IF(AND(D23<E23,E23>=20),E23-20,"") | U23: =IF(AND(D23>E23,E23>=6),6,"") | V23: =IF(AND(D23>E23,E23<6),E23,"") | W23: =IF(AND(D23<E23,E23>=6,D23<=6),6-D23,"") | X23: =IF(AND(D23<E23,E23<6),6-E23,"") | Y23: Mon. bis Fr.
A24: 42109 | B24: Mittwoch | F24: =IF(K24="X",Gesamt!$C$8,IF(J24="X",Gesamt!$C$9,IF(IF(E24<D24,E24+(24-D24),E24-D24)>0,IF(E24<D24,E24+(24-D24),E24-D24),""))) | G24: =IF(SUM(L24:P24)=0,"",SUM(L24:P24)) | H24: =IF(D24="","",IF(Q24=0,IF(B24="Sonntag",IF(D24>E24,24-D24,E24-D24),IF(AND(B24="Samstag",Q25=0),IF(D24>E24,E24,""),"")),IF(AND(B24="Samstag",Q25=0),IF(D24>E24,E24,""),""))) | I24: =IF(D24="","",IF(AND(Q24=1,Q25=1),IF(D24>E24,24-D24+E24,E24-D24),IF(Q24=1,IF(D24>E24,24-D24,E24-D24),IF(AND(Q25=1,D24>E24),E24,"")))) | J24: =IF(C24="Urlaub","X","") | K24: =IF(C24="Krank","X","") | L24: =IF(OR(Q24=1,Q25=1,B24="Sonntag",B25="Sonntag"),"",SUM(R24:W24)) -> 0 | M24: =IF(B24="Sonntag","",IF(AND(Q24=1,D24>E24),SUM(U24:W24),"")) | N24: =IF(OR(AND(Q24=1,Q25=1),AND(Q25=1,B24="Sonntag")),"",IF(Q25=1,SUM(R24:T24),"")) | O24: =IF(Q25=1,"",IF(AND(B24="Sonntag",D24>E24,Q24=0),SUM(U24:W24),"")) | P24: =IF(OR(Q24=1,Q25=1),"",IF(B25="Sonntag",SUM(R24:W24),"")) | Q24: =OR(Feiertage!$B$1=A24,Feiertage!$B$2=A24,Feiertage!$B$3=A24,Feiertage!$B$4=A24,Feiertage!$B$5=A24,Feiertage!$B$6=A24,Feiertage!$B$7=A24,Feiertage!$B$8=A24,Feiertage!$B$9=A24) -> FALSE | R24: =IF(AND(D24>E24,D24<20),4,"") | S24: =IF(AND(D24>E24,D24>=20),24-D24,"") | T24: =IF(AND(D24<E24,E24>=20),E24-20,"") | U24: =IF(AND(D24>E24,E24>=6),6,"") | V24: =IF(AND(D24>E24,E24<6),E24,"") | W24: =IF(AND(D24<E24,E24>=6,D24<=6),6-D24,"") | X24: =IF(AND(D24<E24,E24<6),6-E24,"") | Y24: Mon. bis Fr.
A25: 42110 | B25: Donnerstag | F25: =IF(K25="X",Gesamt!$C$8,IF(J25="X",Gesamt!$C$9,IF(IF(E25<D25,E25+(24-D25),E25-D25)>0,IF(E25<D25,E25+(24-D25),E25-D25),""))) | G25: =IF(SUM(L25:P25)=0,"",SUM(L25:P25)) | H25: =IF(D25="","",IF(Q25=0,IF(B25="Sonntag",IF(D25>E25,24-D25,E25-D25),IF(AND(B25="Samstag",Q26=0),IF(D25>E25,E25,""),"")),IF(AND(B25="Samstag",Q26=0),IF(D25>E25,E25,""),""))) | I25: =IF(D25="","",IF(AND(Q25=1,Q26=1),IF(D25>E25,24-D25+E25,E25-D25),IF(Q25=1,IF(D25>E25,24-D25,E25-D25),IF(AND(Q26=1,D25>E25),E25,"")))) | J25: =IF(C25="Urlaub","X","") | K25: =IF(C25="Krank","X","") | L25: =IF(OR(Q25=1,Q26=1,B25="Sonntag",B26="Sonntag"),"",SUM(R25:W25)) -> 0 | M25: =IF(B25="Sonntag","",IF(AND(Q25=1,D25>E25),SUM(U25:W25),"")) | N25: =IF(OR(AND(Q25=1,Q26=1),AND(Q26=1,B25="Sonntag")),"",IF(Q26=1,SUM(R25:T25),"")) | O25: =IF(Q26=1,"",IF(AND(B25="Sonntag",D25>E25,Q25=0),SUM(U25:W25),"")) | P25: =IF(OR(Q25=1,Q26=1),"",IF(B26="Sonntag",SUM(R25:W25),"")) | Q25: =OR(Feiertage!$B$1=A25,Feiertage!$B$2=A25,Feiertage!$B$3=A25,Feiertage!$B$4=A25,Feiertage!$B$5=A25,Feiertage!$B$6=A25,Feiertage!$B$7=A25,Feiertage!$B$8=A25,Feiertage!$B$9=A25) -> FALSE | R25: =IF(AND(D25>E25,D25<20),4,"") | S25: =IF(AND(D25>E25,D25>=20),24-D25,"") | T25: =IF(AND(D25<E25,E25>=20),E25-20,"") | U25: =IF(AND(D25>E25,E25>=6),6,"") | V25: =IF(AND(D25>E25,E25<6),E25,"") | W25: =IF(AND(D25<E25,E25>=6,D25<=6),6-D25,"") | X25: =IF(AND(D25<E25,E25<6),6-E25,"") | Y25: Mon. bis Fr.
A26: 42111 | B26: Freitag | F26: =IF(K26="X",Gesamt!$C$8,IF(J26="X",Gesamt!$C$9,IF(IF(E26<D26,E26+(24-D26),E26-D26)>0,IF(E26<D26,E26+(24-D26),E26-D26),""))) | G26: =IF(SUM(L26:P26)=0,"",SUM(L26:P26)) | H26: =IF(D26="","",IF(Q26=0,IF(B26="Sonntag",IF(D26>E26,24-D26,E26-D26),IF(AND(B26="Samstag",Q27=0),IF(D26>E26,E26,""),"")),IF(AND(B26="Samstag",Q27=0),IF(D26>E26,E26,""),""))) | I26: =IF(D26="","",IF(AND(Q26=1,Q27=1),IF(D26>E26,24-D26+E26,E26-D26),IF(Q26=1,IF(D26>E26,24-D26,E26-D26),IF(AND(Q27=1,D26>E26),E26,"")))) | J26: =IF(C26="Urlaub","X","") | K26: =IF(C26="Krank","X","") | L26: =IF(OR(Q26=1,Q27=1,B26="Sonntag",B27="Sonntag"),"",SUM(R26:W26)) -> 0 | M26: =IF(B26="Sonntag","",IF(AND(Q26=1,D26>E26),SUM(U26:W26),"")) | N26: =IF(OR(AND(Q26=1,Q27=1),AND(Q27=1,B26="Sonntag")),"",IF(Q27=1,SUM(R26:T26),"")) | O26: =IF(Q27=1,"",IF(AND(B26="Sonntag",D26>E26,Q26=0),SUM(U26:W26),"")) | P26: =IF(OR(Q26=1,Q27=1),"",IF(B27="Sonntag",SUM(R26:W26),"")) | Q26: =OR(Feiertage!$B$1=A26,Feiertage!$B$2=A26,Feiertage!$B$3=A26,Feiertage!$B$4=A26,Feiertage!$B$5=A26,Feiertage!$B$6=A26,Feiertage!$B$7=A26,Feiertage!$B$8=A26,Feiertage!$B$9=A26) -> FALSE | R26: =IF(AND(D26>E26,D26<20),4,"") | S26: =IF(AND(D26>E26,D26>=20),24-D26,"") | T26: =IF(AND(D26<E26,E26>=20),E26-20,"") | U26: =IF(AND(D26>E26,E26>=6),6,"") | V26: =IF(AND(D26>E26,E26<6),E26,"") | W26: =IF(AND(D26<E26,E26>=6,D26<=6),6-D26,"") | X26: =IF(AND(D26<E26,E26<6),6-E26,"") | Y26: Mon. bis Fr.
A27: 42112 | B27: Samstag | F27: =IF(K27="X",Gesamt!$C$8,IF(J27="X",Gesamt!$C$9,IF(IF(E27<D27,E27+(24-D27),E27-D27)>0,IF(E27<D27,E27+(24-D27),E27-D27),""))) | G27: =IF(SUM(L27:P27)=0,"",SUM(L27:P27)) | H27: =IF(D27="","",IF(Q27=0,IF(B27="Sonntag",IF(D27>E27,24-D27,E27-D27),IF(AND(B27="Samstag",Q28=0),IF(D27>E27,E27,""),"")),IF(AND(B27="Samstag",Q28=0),IF(D27>E27,E27,""),""))) | I27: =IF(D27="","",IF(AND(Q27=1,Q28=1),IF(D27>E27,24-D27+E27,E27-D27),IF(Q27=1,IF(D27>E27,24-D27,E27-D27),IF(AND(Q28=1,D27>E27),E27,"")))) | J27: =IF(C27="Urlaub","X","") | K27: =IF(C27="Krank","X","") | L27: =IF(OR(Q27=1,Q28=1,B27="Sonntag",B28="Sonntag"),"",SUM(R27:X27)) | M27: =IF(B27="Sonntag","",IF(AND(Q27=1,D27>E27),SUM(U27:X27),"")) | N27: =IF(AND(Q27=1,Q28=1),"",IF(Q28=1,SUM(R27:T27),"")) | O27: =IF(Q28=1,"",IF(AND(B27="Sonntag",D27>E27,Q27=0),SUM(U27:X27),"")) | P27: =IF(OR(Q27=1,Q28=1),"",IF(B28="Sonntag",SUM(R27:T27),"")) -> 0 | Q27: =OR(Feiertage!$B$1=A27,Feiertage!$B$2=A27,Feiertage!$B$3=A27,Feiertage!$B$4=A27,Feiertage!$B$5=A27,Feiertage!$B$6=A27,Feiertage!$B$7=A27,Feiertage!$B$8=A27,Feiertage!$B$9=A27) -> FALSE | R27: =IF(AND(D27>E27,D27<20),4,IF(AND(D27<E27,D27<=6),6-D27,"")) | S27: =IF(AND(D27>E27,D27>=20),24-D27,"") | T27: =IF(AND(D27<E27,E27>=20),E27-20,"") | U27: =IF(AND(D27>E27,E27>=6),6,"") | V27: =IF(AND(D27>E27,E27<6),E27,"") | W27: =IF(AND(D27<E27,E27>=6,D27<=6),6-D27,"") | X27: =IF(AND(D27<E27,E27<6),6-E27,"") | Y27: Samstag
A28: 42113 | B28: Sonntag | F28: =IF(K28="X",Gesamt!$C$8,IF(J28="X",Gesamt!$C$9,IF(IF(E28<D28,E28+(24-D28),E28-D28)>0,IF(E28<D28,E28+(24-D28),E28-D28),""))) | G28: =IF(SUM(L28:P28)=0,"",SUM(L28:P28)) | H28: =IF(D28="","",IF(Q28=0,IF(B28="Sonntag",IF(D28>E28,24-D28,E28-D28),IF(AND(B28="Samstag",Q29=0),IF(D28>E28,E28,""),"")),IF(AND(B28="Samstag",Q29=0),IF(D28>E28,E28,""),""))) | I28: =IF(D28="","",IF(AND(Q28=1,Q29=1),IF(D28>E28,24-D28+E28,E28-D28),IF(Q28=1,IF(D28>E28,24-D28,E28-D28),IF(AND(Q29=1,D28>E28),E28,"")))) | J28: =IF(C28="Urlaub","X","") | K28: =IF(C28="Krank","X","") | L28: =IF(OR(Q28=1,Q29=1,B28="Sonntag",B29="Sonntag"),"",SUM(R28:X28)) | M28: =IF(B29="Sonntag","",IF(AND(Q28=1,D28>E28),SUM(U28:X28),"")) | N28: =IF(AND(Q28=1,Q30=1),"",IF(Q29=1,SUM(R28:T28),"")) | O28: =IF(Q30=1,"",IF(AND(B28="Sonntag",D28>E28,Q28=0),SUM(U28:X28),"")) | P28: =IF(OR(Q28=1,Q30=1),"",IF(B29="Sonntag",SUM(R28:T28),"")) | Q28: =OR(Feiertage!$B$1=A28,Feiertage!$B$2=A28,Feiertage!$B$3=A28,Feiertage!$B$4=A28,Feiertage!$B$5=A28,Feiertage!$B$6=A28,Feiertage!$B$7=A28,Feiertage!$B$8=A28,Feiertage!$B$9=A28) -> FALSE | R28: =IF(AND(D28>E28,D28<20),4,"") | S28: =IF(AND(D28>E28,D28>=20),24-D28,"") | T28: =IF(AND(D28<E28,E28>=20),E28-20,"") | U28: =IF(AND(D28>E28,E28>=6),6,"") | V28: =IF(AND(D28>E28,E28<6),E28,"") | W28: =IF(AND(D28<E28,E28>=6,D28<=6),6-D28,"") | X28: =IF(AND(D28<E28,E28<6),E28-D28,"") | Y28: Sonntag
D29: Gesamt: | F29: =SUM(F22:F28) -> 0 | G29: =SUM(G22:G28) -> 0 | H29: =SUM(H22:H28) -> 0 | I29: =SUM(I22:I28) -> 0 | J29: =COUNTIF(J22:J28,"X") -> 0 | K29: =COUNTIF(K22:K28,"X") -> 0
A30: 42114 | B30: Montag | F30: =IF(K30="X",Gesamt!$C$8,IF(J30="X",Gesamt!$C$9,IF(IF(E30<D30,E30+(24-D30),E30-D30)>0,IF(E30<D30,E30+(24-D30),E30-D30),""))) | G30: =IF(SUM(L30:P30)=0,"",SUM(L30:P30)) | H30: =IF(D30="","",IF(Q30=0,IF(B30="Sonntag",IF(D30>E30,24-D30,E30-D30),IF(AND(B30="Samstag",Q31=0),IF(D30>E30,E30,""),"")),IF(AND(B30="Samstag",Q31=0),IF(D30>E30,E30,""),""))) | I30: =IF(D30="","",IF(AND(Q30=1,Q31=1),IF(D30>E30,24-D30+E30,E30-D30),IF(Q30=1,IF(D30>E30,24-D30,E30-D30),IF(AND(Q31=1,D30>E30),E30,"")))) | J30: =IF(C30="Urlaub","X","") | K30: =IF(C30="Krank","X","") | L30: =IF(OR(Q30=1,Q31=1,B30="Sonntag",B31="Sonntag"),"",SUM(R30:W30)) -> 0 | M30: =IF(B30="Sonntag","",IF(AND(Q30=1,D30>E30),SUM(U30:W30),"")) | N30: =IF(OR(AND(Q30=1,Q31=1),AND(Q31=1,B30="Sonntag")),"",IF(Q31=1,SUM(R30:T30),"")) | O30: =IF(Q31=1,"",IF(AND(B30="Sonntag",D30>E30,Q30=0),SUM(U30:W30),"")) | P30: =IF(OR(Q30=1,Q31=1),"",IF(B31="Sonntag",SUM(R30:W30),"")) | Q30: =OR(Feiertage!$B$1=A30,Feiertage!$B$2=A30,Feiertage!$B$3=A30,Feiertage!$B$4=A30,Feiertage!$B$5=A30,Feiertage!$B$6=A30,Feiertage!$B$7=A30,Feiertage!$B$8=A30,Feiertage!$B$9=A30) -> FALSE | R30: =IF(AND(D30>E30,D30<20),4,"") | S30: =IF(AND(D30>E30,D30>=20),24-D30,"") | T30: =IF(AND(D30<E30,E30>=20),E30-20,"") | U30: =IF(AND(D30>E30,E30>=6),6,"") | V30: =IF(AND(D30>E30,E30<6),E30,"") | W30: =IF(AND(D30<E30,E30>=6,D30<=6),6-D30,"") | X30: =IF(AND(D30<E30,E30<6),6-E30,"") | Y30: Mon. bis Fr.
A31: 42115 | B31: Dienstag | F31: =IF(K31="X",Gesamt!$C$8,IF(J31="X",Gesamt!$C$9,IF(IF(E31<D31,E31+(24-D31),E31-D31)>0,IF(E31<D31,E31+(24-D31),E31-D31),""))) | G31: =IF(SUM(L31:P31)=0,"",SUM(L31:P31)) | H31: =IF(D31="","",IF(Q31=0,IF(B31="Sonntag",IF(D31>E31,24-D31,E31-D31),IF(AND(B31="Samstag",Q32=0),IF(D31>E31,E31,""),"")),IF(AND(B31="Samstag",Q32=0),IF(D31>E31,E31,""),""))) | I31: =IF(D31="","",IF(AND(Q31=1,Q32=1),IF(D31>E31,24-D31+E31,E31-D31),IF(Q31=1,IF(D31>E31,24-D31,E31-D31),IF(AND(Q32=1,D31>E31),E31,"")))) | J31: =IF(C31="Urlaub","X","") | K31: =IF(C31="Krank","X","") | L31: =IF(OR(Q31=1,Q32=1,B31="Sonntag",B32="Sonntag"),"",SUM(R31:W31)) -> 0 | M31: =IF(B31="Sonntag","",IF(AND(Q31=1,D31>E31),SUM(U31:W31),"")) | N31: =IF(OR(AND(Q31=1,Q32=1),AND(Q32=1,B31="Sonntag")),"",IF(Q32=1,SUM(R31:T31),"")) | O31: =IF(Q32=1,"",IF(AND(B31="Sonntag",D31>E31,Q31=0),SUM(U31:W31),"")) | P31: =IF(OR(Q31=1,Q32=1),"",IF(B32="Sonntag",SUM(R31:W31),"")) | Q31: =OR(Feiertage!$B$1=A31,Feiertage!$B$2=A31,Feiertage!$B$3=A31,Feiertage!$B$4=A31,Feiertage!$B$5=A31,Feiertage!$B$6=A31,Feiertage!$B$7=A31,Feiertage!$B$8=A31,Feiertage!$B$9=A31) -> FALSE | R31: =IF(AND(D31>E31,D31<20),4,"") | S31: =IF(AND(D31>E31,D31>=20),24-D31,"") | T31: =IF(AND(D31<E31,E31>=20),E31-20,"") | U31: =IF(AND(D31>E31,E31>=6),6,"") | V31: =IF(AND(D31>E31,E31<6),E31,"") | W31: =IF(AND(D31<E31,E31>=6,D31<=6),6-D31,"") | X31: =IF(AND(D31<E31,E31<6),6-E31,"") | Y31: Mon. bis Fr.
A32: 42116 | B32: Mittwoch | F32: =IF(K32="X",Gesamt!$C$8,IF(J32="X",Gesamt!$C$9,IF(IF(E32<D32,E32+(24-D32),E32-D32)>0,IF(E32<D32,E32+(24-D32),E32-D32),""))) | G32: =IF(SUM(L32:P32)=0,"",SUM(L32:P32)) | H32: =IF(D32="","",IF(Q32=0,IF(B32="Sonntag",IF(D32>E32,24-D32,E32-D32),IF(AND(B32="Samstag",Q33=0),IF(D32>E32,E32,""),"")),IF(AND(B32="Samstag",Q33=0),IF(D32>E32,E32,""),""))) | I32: =IF(D32="","",IF(AND(Q32=1,Q33=1),IF(D32>E32,24-D32+E32,E32-D32),IF(Q32=1,IF(D32>E32,24-D32,E32-D32),IF(AND(Q33=1,D32>E32),E32,"")))) | J32: =IF(C32="Urlaub","X","") | K32: =IF(C32="Krank","X","") | L32: =IF(OR(Q32=1,Q33=1,B32="Sonntag",B33="Sonntag"),"",SUM(R32:W32)) -> 0 | M32: =IF(B32="Sonntag","",IF(AND(Q32=1,D32>E32),SUM(U32:W32),"")) | N32: =IF(OR(AND(Q32=1,Q33=1),AND(Q33=1,B32="Sonntag")),"",IF(Q33=1,SUM(R32:T32),"")) | O32: =IF(Q33=1,"",IF(AND(B32="Sonntag",D32>E32,Q32=0),SUM(U32:W32),"")) | P32: =IF(OR(Q32=1,Q33=1),"",IF(B33="Sonntag",SUM(R32:W32),"")) | Q32: =OR(Feiertage!$B$1=A32,Feiertage!$B$2=A32,Feiertage!$B$3=A32,Feiertage!$B$4=A32,Feiertage!$B$5=A32,Feiertage!$B$6=A32,Feiertage!$B$7=A32,Feiertage!$B$8=A32,Feiertage!$B$9=A32) -> FALSE | R32: =IF(AND(D32>E32,D32<20),4,"") | S32: =IF(AND(D32>E32,D32>=20),24-D32,"") | T32: =IF(AND(D32<E32,E32>=20),E32-20,"") | U32: =IF(AND(D32>E32,E32>=6),6,"") | V32: =IF(AND(D32>E32,E32<6),E32,"") | W32: =IF(AND(D32<E32,E32>=6,D32<=6),6-D32,"") | X32: =IF(AND(D32<E32,E32<6),6-E32,"") | Y32: Mon. bis Fr.
A33: 42117 | B33: Donnerstag | F33: =IF(K33="X",Gesamt!$C$8,IF(J33="X",Gesamt!$C$9,IF(IF(E33<D33,E33+(24-D33),E33-D33)>0,IF(E33<D33,E33+(24-D33),E33-D33),""))) | G33: =IF(SUM(L33:P33)=0,"",SUM(L33:P33)) | H33: =IF(D33="","",IF(Q33=0,IF(B33="Sonntag",IF(D33>E33,24-D33,E33-D33),IF(AND(B33="Samstag",Q34=0),IF(D33>E33,E33,""),"")),IF(AND(B33="Samstag",Q34=0),IF(D33>E33,E33,""),""))) | I33: =IF(D33="","",IF(AND(Q33=1,Q34=1),IF(D33>E33,24-D33+E33,E33-D33),IF(Q33=1,IF(D33>E33,24-D33,E33-D33),IF(AND(Q34=1,D33>E33),E33,"")))) | J33: =IF(C33="Urlaub","X","") | K33: =IF(C33="Krank","X","") | L33: =IF(OR(Q33=1,Q34=1,B33="Sonntag",B34="Sonntag"),"",SUM(R33:W33)) -> 0 | M33: =IF(B33="Sonntag","",IF(AND(Q33=1,D33>E33),SUM(U33:W33),"")) | N33: =IF(OR(AND(Q33=1,Q34=1),AND(Q34=1,B33="Sonntag")),"",IF(Q34=1,SUM(R33:T33),"")) | O33: =IF(Q34=1,"",IF(AND(B33="Sonntag",D33>E33,Q33=0),SUM(U33:W33),"")) | P33: =IF(OR(Q33=1,Q34=1),"",IF(B34="Sonntag",SUM(R33:W33),"")) | Q33: =OR(Feiertage!$B$1=A33,Feiertage!$B$2=A33,Feiertage!$B$3=A33,Feiertage!$B$4=A33,Feiertage!$B$5=A33,Feiertage!$B$6=A33,Feiertage!$B$7=A33,Feiertage!$B$8=A33,Feiertage!$B$9=A33) -> FALSE | R33: =IF(AND(D33>E33,D33<20),4,"") | S33: =IF(AND(D33>E33,D33>=20),24-D33,"") | T33: =IF(AND(D33<E33,E33>=20),E33-20,"") | U33: =IF(AND(D33>E33,E33>=6),6,"") | V33: =IF(AND(D33>E33,E33<6),E33,"") | W33: =IF(AND(D33<E33,E33>=6,D33<=6),6-D33,"") | X33: =IF(AND(D33<E33,E33<6),6-E33,"") | Y33: Mon. bis Fr.
A34: 42118 | B34: Freitag | F34: =IF(K34="X",Gesamt!$C$8,IF(J34="X",Gesamt!$C$9,IF(IF(E34<D34,E34+(24-D34),E34-D34)>0,IF(E34<D34,E34+(24-D34),E34-D34),""))) | G34: =IF(SUM(L34:P34)=0,"",SUM(L34:P34)) | H34: =IF(D34="","",IF(Q34=0,IF(B34="Sonntag",IF(D34>E34,24-D34,E34-D34),IF(AND(B34="Samstag",Q35=0),IF(D34>E34,E34,""),"")),IF(AND(B34="Samstag",Q35=0),IF(D34>E34,E34,""),""))) | I34: =IF(D34="","",IF(AND(Q34=1,Q35=1),IF(D34>E34,24-D34+E34,E34-D34),IF(Q34=1,IF(D34>E34,24-D34,E34-D34),IF(AND(Q35=1,D34>E34),E34,"")))) | J34: =IF(C34="Urlaub","X","") | K34: =IF(C34="Krank","X","") | L34: =IF(OR(Q34=1,Q35=1,B34="Sonntag",B35="Sonntag"),"",SUM(R34:W34)) -> 0 | M34: =IF(B34="Sonntag","",IF(AND(Q34=1,D34>E34),SUM(U34:W34),"")) | N34: =IF(OR(AND(Q34=1,Q35=1),AND(Q35=1,B34="Sonntag")),"",IF(Q35=1,SUM(R34:T34),"")) | O34: =IF(Q35=1,"",IF(AND(B34="Sonntag",D34>E34,Q34=0),SUM(U34:W34),"")) | P34: =IF(OR(Q34=1,Q35=1),"",IF(B35="Sonntag",SUM(R34:W34),"")) | Q34: =OR(Feiertage!$B$1=A34,Feiertage!$B$2=A34,Feiertage!$B$3=A34,Feiertage!$B$4=A34,Feiertage!$B$5=A34,Feiertage!$B$6=A34,Feiertage!$B$7=A34,Feiertage!$B$8=A34,Feiertage!$B$9=A34) -> FALSE | R34: =IF(AND(D34>E34,D34<20),4,"") | S34: =IF(AND(D34>E34,D34>=20),24-D34,"") | T34: =IF(AND(D34<E34,E34>=20),E34-20,"") | U34: =IF(AND(D34>E34,E34>=6),6,"") | V34: =IF(AND(D34>E34,E34<6),E34,"") | W34: =IF(AND(D34<E34,E34>=6,D34<=6),6-D34,"") | X34: =IF(AND(D34<E34,E34<6),6-E34,"") | Y34: Mon. bis Fr.
A35: 42119 | B35: Samstag | F35: =IF(K35="X",Gesamt!$C$8,IF(J35="X",Gesamt!$C$9,IF(IF(E35<D35,E35+(24-D35),E35-D35)>0,IF(E35<D35,E35+(24-D35),E35-D35),""))) | G35: =IF(SUM(L35:P35)=0,"",SUM(L35:P35)) | H35: =IF(D35="","",IF(Q35=0,IF(B35="Sonntag",IF(D35>E35,24-D35,E35-D35),IF(AND(B35="Samstag",Q36=0),IF(D35>E35,E35,""),"")),IF(AND(B35="Samstag",Q36=0),IF(D35>E35,E35,""),""))) | I35: =IF(D35="","",IF(AND(Q35=1,Q36=1),IF(D35>E35,24-D35+E35,E35-D35),IF(Q35=1,IF(D35>E35,24-D35,E35-D35),IF(AND(Q36=1,D35>E35),E35,"")))) | J35: =IF(C35="Urlaub","X","") | K35: =IF(C35="Krank","X","") | L35: =IF(OR(Q35=1,Q36=1,B35="Sonntag",B36="Sonntag"),"",SUM(R35:X35)) | M35: =IF(B35="Sonntag","",IF(AND(Q35=1,D35>E35),SUM(U35:X35),"")) | N35: =IF(AND(Q35=1,Q36=1),"",IF(Q36=1,SUM(R35:T35),"")) | O35: =IF(Q36=1,"",IF(AND(B35="Sonntag",D35>E35,Q35=0),SUM(U35:X35),"")) | P35: =IF(OR(Q35=1,Q36=1),"",IF(B36="Sonntag",SUM(R35:T35),"")) -> 0 | Q35: =OR(Feiertage!$B$1=A35,Feiertage!$B$2=A35,Feiertage!$B$3=A35,Feiertage!$B$4=A35,Feiertage!$B$5=A35,Feiertage!$B$6=A35,Feiertage!$B$7=A35,Feiertage!$B$8=A35,Feiertage!$B$9=A35) -> FALSE | R35: =IF(AND(D35>E35,D35<20),4,IF(AND(D35<E35,D35<=6),6-D35,"")) | S35: =IF(AND(D35>E35,D35>=20),24-D35,"") | T35: =IF(AND(D35<E35,E35>=20),E35-20,"") | U35: =IF(AND(D35>E35,E35>=6),6,"") | V35: =IF(AND(D35>E35,E35<6),E35,"") | W35: =IF(AND(D35<E35,E35>=6,D35<=6),6-D35,"") | X35: =IF(AND(D35<E35,E35<6),6-E35,"") | Y35: Samstag
A36: 42120 | B36: Sonntag | F36: =IF(K36="X",Gesamt!$C$8,IF(J36="X",Gesamt!$C$9,IF(IF(E36<D36,E36+(24-D36),E36-D36)>0,IF(E36<D36,E36+(24-D36),E36-D36),""))) | G36: =IF(SUM(L36:P36)=0,"",SUM(L36:P36)) | H36: =IF(D36="","",IF(Q36=0,IF(B36="Sonntag",IF(D36>E36,24-D36,E36-D36),IF(AND(B36="Samstag",Q37=0),IF(D36>E36,E36,""),"")),IF(AND(B36="Samstag",Q37=0),IF(D36>E36,E36,""),""))) | I36: =IF(D36="","",IF(AND(Q36=1,Q37=1),IF(D36>E36,24-D36+E36,E36-D36),IF(Q36=1,IF(D36>E36,24-D36,E36-D36),IF(AND(Q37=1,D36>E36),E36,"")))) | J36: =IF(C36="Urlaub","X","") | K36: =IF(C36="Krank","X","") | L36: =IF(OR(Q36=1,Q37=1,B36="Sonntag",B37="Sonntag"),"",SUM(R36:X36)) | M36: =IF(B37="Sonntag","",IF(AND(Q36=1,D36>E36),SUM(U36:X36),"")) | N36: =IF(AND(Q36=1,Q38=1),"",IF(Q37=1,SUM(R36:T36),"")) | O36: =IF(Q38=1,"",IF(AND(B36="Sonntag",D36>E36,Q36=0),SUM(U36:X36),"")) | P36: =IF(OR(Q36=1,Q38=1),"",IF(B37="Sonntag",SUM(R36:T36),"")) | Q36: =OR(Feiertage!$B$1=A36,Feiertage!$B$2=A36,Feiertage!$B$3=A36,Feiertage!$B$4=A36,Feiertage!$B$5=A36,Feiertage!$B$6=A36,Feiertage!$B$7=A36,Feiertage!$B$8=A36,Feiertage!$B$9=A36) -> FALSE | R36: =IF(AND(D36>E36,D36<20),4,"") | S36: =IF(AND(D36>E36,D36>=20),24-D36,"") | T36: =IF(AND(D36<E36,E36>=20),E36-20,"") | U36: =IF(AND(D36>E36,E36>=6),6,"") | V36: =IF(AND(D36>E36,E36<6),E36,"") | W36: =IF(AND(D36<E36,E36>=6,D36<=6),6-D36,"") | X36: =IF(AND(D36<E36,E36<6),E36-D36,"") | Y36: Sonntag
D37: Gesamt: | F37: =SUM(F30:F36) -> 0 | G37: =SUM(G30:G36) -> 0 | H37: =SUM(H30:H36) -> 0 | I37: =SUM(I30:I36) -> 0 | J37: =COUNTIF(J30:J36,"X") -> 0 | K37: =COUNTIF(K30:K36,"X") -> 0
A38: 42121 | B38: Montag | F38: =IF(K38="X",Gesamt!$C$8,IF(J38="X",Gesamt!$C$9,IF(IF(E38<D38,E38+(24-D38),E38-D38)>0,IF(E38<D38,E38+(24-D38),E38-D38),""))) | G38: =IF(SUM(L38:P38)=0,"",SUM(L38:P38)) | H38: =IF(D38="","",IF(Q38=0,IF(B38="Sonntag",IF(D38>E38,24-D38,E38-D38),IF(AND(B38="Samstag",Q39=0),IF(D38>E38,E38,""),"")),IF(AND(B38="Samstag",Q39=0),IF(D38>E38,E38,""),""))) | I38: =IF(D38="","",IF(AND(Q38=1,Q39=1),IF(D38>E38,24-D38+E38,E38-D38),IF(Q38=1,IF(D38>E38,24-D38,E38-D38),IF(AND(Q39=1,D38>E38),E38,"")))) | J38: =IF(C38="Urlaub","X","") | K38: =IF(C38="Krank","X","") | L38: =IF(OR(Q38=1,Q39=1,B38="Sonntag",B39="Sonntag"),"",SUM(R38:W38)) -> 0 | M38: =IF(B38="Sonntag","",IF(AND(Q38=1,D38>E38),SUM(U38:W38),"")) | N38: =IF(OR(AND(Q38=1,Q39=1),AND(Q39=1,B38="Sonntag")),"",IF(Q39=1,SUM(R38:T38),"")) | O38: =IF(Q39=1,"",IF(AND(B38="Sonntag",D38>E38,Q38=0),SUM(U38:W38),"")) | P38: =IF(OR(Q38=1,Q39=1),"",IF(B39="Sonntag",SUM(R38:W38),"")) | Q38: =OR(Feiertage!$B$1=A38,Feiertage!$B$2=A38,Feiertage!$B$3=A38,Feiertage!$B$4=A38,Feiertage!$B$5=A38,Feiertage!$B$6=A38,Feiertage!$B$7=A38,Feiertage!$B$8=A38,Feiertage!$B$9=A38) -> FALSE | R38: =IF(AND(D38>E38,D38<20),4,"") | S38: =IF(AND(D38>E38,D38>=20),24-D38,"") | T38: =IF(AND(D38<E38,E38>=20),E38-20,"") | U38: =IF(AND(D38>E38,E38>=6),6,"") | V38: =IF(AND(D38>E38,E38<6),E38,"") | W38: =IF(AND(D38<E38,E38>=6,D38<=6),6-D38,"") | X38: =IF(AND(D38<E38,E38<6),6-E38,"") | Y38: Mon. bis Fr.
A39: 42122 | B39: Dienstag | F39: =IF(K39="X",Gesamt!$C$8,IF(J39="X",Gesamt!$C$9,IF(IF(E39<D39,E39+(24-D39),E39-D39)>0,IF(E39<D39,E39+(24-D39),E39-D39),""))) | G39: =IF(SUM(L39:P39)=0,"",SUM(L39:P39)) | H39: =IF(D39="","",IF(Q39=0,IF(B39="Sonntag",IF(D39>E39,24-D39,E39-D39),IF(AND(B39="Samstag",Q40=0),IF(D39>E39,E39,""),"")),IF(AND(B39="Samstag",Q40=0),IF(D39>E39,E39,""),""))) | I39: =IF(D39="","",IF(AND(Q39=1,Q40=1),IF(D39>E39,24-D39+E39,E39-D39),IF(Q39=1,IF(D39>E39,24-D39,E39-D39),IF(AND(Q40=1,D39>E39),E39,"")))) | J39: =IF(C39="Urlaub","X","") | K39: =IF(C39="Krank","X","") | L39: =IF(OR(Q39=1,Q40=1,B39="Sonntag",B40="Sonntag"),"",SUM(R39:W39)) -> 0 | M39: =IF(B39="Sonntag","",IF(AND(Q39=1,D39>E39),SUM(U39:W39),"")) | N39: =IF(OR(AND(Q39=1,Q40=1),AND(Q40=1,B39="Sonntag")),"",IF(Q40=1,SUM(R39:T39),"")) | O39: =IF(Q40=1,"",IF(AND(B39="Sonntag",D39>E39,Q39=0),SUM(U39:W39),"")) | P39: =IF(OR(Q39=1,Q40=1),"",IF(B40="Sonntag",SUM(R39:W39),"")) | Q39: =OR(Feiertage!$B$1=A39,Feiertage!$B$2=A39,Feiertage!$B$3=A39,Feiertage!$B$4=A39,Feiertage!$B$5=A39,Feiertage!$B$6=A39,Feiertage!$B$7=A39,Feiertage!$B$8=A39,Feiertage!$B$9=A39) -> FALSE | R39: =IF(AND(D39>E39,D39<20),4,"") | S39: =IF(AND(D39>E39,D39>=20),24-D39,"") | T39: =IF(AND(D39<E39,E39>=20),E39-20,"") | U39: =IF(AND(D39>E39,E39>=6),6,"") | V39: =IF(AND(D39>E39,E39<6),E39,"") | W39: =IF(AND(D39<E39,E39>=6,D39<=6),6-D39,"") | X39: =IF(AND(D39<E39,E39<6),6-E39,"") | Y39: Mon. bis Fr.
A40: 42123 | B40: Mittwoch | F40: =IF(K40="X",Gesamt!$C$8,IF(J40="X",Gesamt!$C$9,IF(IF(E40<D40,E40+(24-D40),E40-D40)>0,IF(E40<D40,E40+(24-D40),E40-D40),""))) | G40: =IF(SUM(L40:P40)=0,"",SUM(L40:P40)) | H40: =IF(D40="","",IF(Q40=0,IF(B40="Sonntag",IF(D40>E40,24-D40,E40-D40),IF(AND(B40="Samstag",Q41=0),IF(D40>E40,E40,""),"")),IF(AND(B40="Samstag",Q41=0),IF(D40>E40,E40,""),""))) | I40: =IF(D40="","",IF(AND(Q40=1,Q41=1),IF(D40>E40,24-D40+E40,E40-D40),IF(Q40=1,IF(D40>E40,24-D40,E40-D40),IF(AND(Q41=1,D40>E40),E40,"")))) | J40: =IF(C40="Urlaub","X","") | K40: =IF(C40="Krank","X","") | L40: =IF(OR(Q40=1,Q41=1,B40="Sonntag",B41="Sonntag"),"",SUM(R40:W40)) -> 0 | M40: =IF(B40="Sonntag","",IF(AND(Q40=1,D40>E40),SUM(U40:W40),"")) | N40: =IF(OR(AND(Q40=1,Q41=1),AND(Q41=1,B40="Sonntag")),"",IF(Q41=1,SUM(R40:T40),"")) | O40: =IF(Q41=1,"",IF(AND(B40="Sonntag",D40>E40,Q40=0),SUM(U40:W40),"")) | P40: =IF(OR(Q40=1,Q41=1),"",IF(B41="Sonntag",SUM(R40:W40),"")) | Q40: =OR(Feiertage!$B$1=A40,Feiertage!$B$2=A40,Feiertage!$B$3=A40,Feiertage!$B$4=A40,Feiertage!$B$5=A40,Feiertage!$B$6=A40,Feiertage!$B$7=A40,Feiertage!$B$8=A40,Feiertage!$B$9=A40) -> FALSE | R40: =IF(AND(D40>E40,D40<20),4,"") | S40: =IF(AND(D40>E40,D40>=20),24-D40,"") | T40: =IF(AND(D40<E40,E40>=20),E40-20,"") | U40: =IF(AND(D40>E40,E40>=6),6,"") | V40: =IF(AND(D40>E40,E40<6),E40,"") | W40: =IF(AND(D40<E40,E40>=6,D40<=6),6-D40,"") | X40: =IF(AND(D40<E40,E40<6),6-E40,"") | Y40: Mon. bis Fr.
A41: 42124 | B41: Donnerstag | F41: =IF(K41="X",Gesamt!$C$8,IF(J41="X",Gesamt!$C$9,IF(IF(E41<D41,E41+(24-D41),E41-D41)>0,IF(E41<D41,E41+(24-D41),E41-D41),""))) | G41: =IF(SUM(L41:P41)=0,"",SUM(L41:P41)) | H41: =IF(D41="","",IF(Q41=0,IF(B41="Sonntag",IF(D41>E41,24-D41,E41-D41),IF(AND(B41="Samstag",Q42=0),IF(D41>E41,E41,""),"")),IF(AND(B41="Samstag",Q42=0),IF(D41>E41,E41,""),""))) | I41: =IF(D41="","",IF(AND(Q41=1,Q42=1),IF(D41>E41,24-D41+E41,E41-D41),IF(Q41=1,IF(D41>E41,24-D41,E41-D41),IF(AND(Q42=1,D41>E41),E41,"")))) | J41: =IF(C41="Urlaub","X","") | K41: =IF(C41="Krank","X","") | L41: =IF(OR(Q41=1,Q42=1,B41="Sonntag",B42="Sonntag"),"",SUM(R41:W41)) -> 0 | M41: =IF(B41="Sonntag","",IF(AND(Q41=1,D41>E41),SUM(U41:W41),"")) | N41: =IF(OR(AND(Q41=1,Q42=1),AND(Q42=1,B41="Sonntag")),"",IF(Q42=1,SUM(R41:T41),"")) | O41: =IF(Q42=1,"",IF(AND(B41="Sonntag",D41>E41,Q41=0),SUM(U41:W41),"")) | P41: =IF(OR(Q41=1,Q42=1),"",IF(B42="Sonntag",SUM(R41:W41),"")) | Q41: =OR(Feiertage!$B$1=A41,Feiertage!$B$2=A41,Feiertage!$B$3=A41,Feiertage!$B$4=A41,Feiertage!$B$5=A41,Feiertage!$B$6=A41,Feiertage!$B$7=A41,Feiertage!$B$8=A41,Feiertage!$B$9=A41) -> FALSE | R41: =IF(AND(D41>E41,D41<20),4,"") | S41: =IF(AND(D41>E41,D41>=20),24-D41,"") | T41: =IF(AND(D41<E41,E41>=20),E41-20,"") | U41: =IF(AND(D41>E41,E41>=6),6,"") | V41: =IF(AND(D41>E41,E41<6),E41,"") | W41: =IF(AND(D41<E41,E41>=6,D41<=6),6-D41,"") | X41: =IF(AND(D41<E41,E41<6),6-E41,"") | Y41: Mon. bis Fr.
A42: 42125 | B42: Freitag | F42: =IF(K42="X",Gesamt!$C$8,IF(J42="X",Gesamt!$C$9,IF(IF(E42<D42,E42+(24-D42),E42-D42)>0,IF(E42<D42,E42+(24-D42),E42-D42),""))) | G42: =IF(SUM(L42:P42)=0,"",SUM(L42:P42)) | H42: =IF(D42="","",IF(Q42=0,IF(B42="Sonntag",IF(D42>E42,24-D42,E42-D42),IF(AND(B42="Samstag",Q43=0),IF(D42>E42,E42,""),"")),IF(AND(B42="Samstag",Q43=0),IF(D42>E42,E42,""),""))) | I42: =IF(D42="","",IF(AND(Q42=1,Q43=1),IF(D42>E42,24-D42+E42,E42-D42),IF(Q42=1,IF(D42>E42,24-D42,E42-D42),IF(AND(Q43=1,D42>E42),E42,"")))) | J42: =IF(C42="Urlaub","X","") | K42: =IF(C42="Krank","X","") | L42: =IF(OR(Q42=1,Q43=1,B42="Sonntag",B43="Sonntag"),"",SUM(R42:W42)) -> 0 | M42: =IF(B42="Sonntag","",IF(AND(Q42=1,D42>E42),SUM(U42:W42),"")) | N42: =IF(OR(AND(Q42=1,Q43=1),AND(Q43=1,B42="Sonntag")),"",IF(Q43=1,SUM(R42:T42),"")) | O42: =IF(Q43=1,"",IF(AND(B42="Sonntag",D42>E42,Q42=0),SUM(U42:W42),"")) | P42: =IF(OR(Q42=1,Q43=1),"",IF(B43="Sonntag",SUM(R42:W42),"")) | Q42: =OR(Feiertage!$B$1=A42,Feiertage!$B$2=A42,Feiertage!$B$3=A42,Feiertage!$B$4=A42,Feiertage!$B$5=A42,Feiertage!$B$6=A42,Feiertage!$B$7=A42,Feiertage!$B$8=A42,Feiertage!$B$9=A42) -> FALSE | R42: =IF(AND(D42>E42,D42<20),4,"") | S42: =IF(AND(D42>E42,D42>=20),24-D42,"") | T42: =IF(AND(D42<E42,E42>=20),E42-20,"") | U42: =IF(AND(D42>E42,E42>=6),6,"") | V42: =IF(AND(D42>E42,E42<6),E42,"") | W42: =IF(AND(D42<E42,E42>=6,D42<=6),6-D42,"") | X42: =IF(AND(D42<E42,E42<6),6-E42,"") | Y42: Mon. bis Fr.
D43: Gesamt: | F43: =SUM(F38:F41) -> 0 | G43: =SUM(G38:G41) -> 0 | H43: =SUM(H38:H41) -> 0 | I43: =SUM(I38:I41) -> 0 | J43: =COUNTIF(J38:J41,"X") -> 0 | K43: =COUNTIF(K38:K41,"X") -> 0
D44: Gesamt: | F44: =F13+F21+F29+F37+F43 -> 0 | G44: =G13+G21+G29+G37+G43 -> 0 | H44: =H13+H21+H29+H37+H43 -> 0 | I44: =I13+I21+I29+I37+I43 -> 0 | J44: =J13+J21+J29+J37+J43 -> 0 | K44: =K13+K21+K29+K37+K43 -> 0
F45: =IF(IF(E45<D45,E45+(24-D45),E45-D45)>0,IF(E45<D45,E45+(24-D45),E45-D45),"") | G45: =IF(D45="","",IF(B45="Sonntag",IF(E45<9,E45,""),IF(OR(E45>20,E45<9),IF(E45<9,4+E45,E45-20),""))) | H45: =IF(D45="","",IF(Q45=0,IF(B45="Sonntag",IF(D45>E45,24-D45,E45-D45),IF(AND(B45="Samstag",Q44=0),IF(D45>E45,E45,""),"")),IF(AND(B45="Samstag",Q44=0),IF(D45>E45,E45,""),""))) | L45: =IF(OR(Q45=1,Q44=1,B45="Sonntag",B44="Sonntag"),"",SUM(R45:W45)) -> 0 | M45: =IF(AND(Q45=1,D45>E45),SUM(U45:W45),"") | N45: =IF(OR(AND(Q45=1,Q44=1),AND(Q44=1,B45="Sonntag")),"",IF(Q44=1,SUM(R45:T45),"")) | O45: =IF(AND(B45="Sonntag",D45>E45),SUM(U45:W45),"") | P45: =IF(B44="Sonntag",SUM(R45:T45),"") | Q45: =FALSE() -> FALSE | R45: =IF(AND(D45>E45,D45<20),4,"") | S45: =IF(AND(D45>E45,D45>=20),24-D45,"") | T45: =IF(AND(D45<E45,E45>=20),E45-20,"") | U45: =IF(AND(D45>E45,E45>=6),6,"") | V45: =IF(AND(D45>E45,E45<6),E45,"") | W45: =IF(AND(D45<E45,E45>=6,D45<=6),6-D45,"")

Sheet Mai
A1: =A8 -> 42125 | L1: Nacht | M1: NachtFeiertag | N1: NachtvorFeiertag | O1: NachtSonntag | P1: NachtvorSonntag
A3: Filiale: | B3: =Gesamt!$B$5 -> 0 | F3: Firma: | G3: =Gesamt!$G$5 -> 0
A5: Name: | B5: =Gesamt!$B$3 -> 0
R6: 20-0
A7: Datum | B7: Tag | C7: Tätigkeit | D7: von | E7: bis | F7: Stunden | G7: Ab 2000Ab 2000Ab 2000 | H7: Sonntag | I7: Feiertag | J7: Urlaub | K7: Krank
A8: 42125 | B8: Freitag | F8: =IF(K8="X",Gesamt!$C$8,IF(J8="X",Gesamt!$C$9,IF(IF(E8<D8,E8+(24-D8),E8-D8)>0,IF(E8<D8,E8+(24-D8),E8-D8),""))) | G8: =IF(SUM(L8:P8)=0,"",SUM(L8:P8)) | H8: =IF(D8="","",IF(Q8=0,IF(B8="Sonntag",IF(D8>E8,24-D8,E8-D8),IF(AND(B8="Samstag",Q9=0),IF(D8>E8,E8,""),"")),IF(AND(B8="Samstag",Q9=0),IF(D8>E8,E8,""),""))) | I8: =IF(D8="","",IF(AND(Q8=1,Q9=1),IF(D8>E8,24-D8+E8,E8-D8),IF(Q8=1,IF(D8>E8,24-D8,E8-D8),IF(AND(Q9=1,D8>E8),E8,"")))) | J8: =IF(C8="Urlaub","X","") | K8: =IF(C8="Krank","X","") | L8: =IF(OR(Q8=1,Q9=1,B8="Sonntag",B9="Sonntag"),"",SUM(R8:W8)) -> 0 | M8: =IF(B8="Sonntag","",IF(AND(Q8=1,D8>E8),SUM(U8:W8),"")) | N8: =IF(OR(AND(Q8=1,Q9=1),AND(Q9=1,B8="Sonntag")),"",IF(Q9=1,SUM(R8:T8),"")) | O8: =IF(Q9=1,"",IF(AND(B8="Sonntag",D8>E8,Q8=0),SUM(U8:W8),"")) | P8: =IF(OR(Q8=1,Q9=1),"",IF(B9="Sonntag",SUM(R8:W8),"")) | Q8: =OR(Feiertage!$B$1=A8,Feiertage!$B$2=A8,Feiertage!$B$3=A8,Feiertage!$B$4=A8,Feiertage!$B$5=A8,Feiertage!$B$6=A8,Feiertage!$B$7=A8,Feiertage!$B$8=A8,Feiertage!$B$9=A8) -> FALSE | R8: =IF(AND(D8>E8,D8<20),4,"") | S8: =IF(AND(D8>E8,D8>=20),24-D8,"") | T8: =IF(AND(D8<E8,E8>=20),E8-20,"") | U8: =IF(AND(D8>E8,E8>=6),6,"") | V8: =IF(AND(D8>E8,E8<6),E8,"") | W8: =IF(AND(D8<E8,E8>=6,D8<=6),6-D8,"") | X8: =IF(AND(D8<E8,E8<6),6-E8,"") | Y8: Mon. bis Fr.
A9: 42126 | B9: Samstag | F9: =IF(K9="X",Gesamt!$C$8,IF(J9="X",Gesamt!$C$9,IF(IF(E9<D9,E9+(24-D9),E9-D9)>0,IF(E9<D9,E9+(24-D9),E9-D9),""))) | G9: =IF(SUM(L9:P9)=0,"",SUM(L9:P9)) | H9: =IF(D9="","",IF(Q9=0,IF(B9="Sonntag",IF(D9>E9,24-D9,E9-D9),IF(AND(B9="Samstag",Q10=0),IF(D9>E9,E9,""),"")),IF(AND(B9="Samstag",Q10=0),IF(D9>E9,E9,""),""))) | I9: =IF(D9="","",IF(AND(Q9=1,Q10=1),IF(D9>E9,24-D9+E9,E9-D9),IF(Q9=1,IF(D9>E9,24-D9,E9-D9),IF(AND(Q10=1,D9>E9),E9,"")))) | J9: =IF(C9="Urlaub","X","") | K9: =IF(C9="Krank","X","") | L9: =IF(OR(Q9=1,Q10=1,B9="Sonntag",B10="Sonntag"),"",SUM(R9:X9)) | M9: =IF(B9="Sonntag","",IF(AND(Q9=1,D9>E9),SUM(U9:X9),"")) | N9: =IF(AND(Q9=1,Q10=1),"",IF(Q10=1,SUM(R9:T9),"")) | O9: =IF(Q10=1,"",IF(AND(B9="Sonntag",D9>E9,Q9=0),SUM(U9:X9),"")) | P9: =IF(OR(Q9=1,Q10=1),"",IF(B10="Sonntag",SUM(R9:T9),"")) -> 0 | Q9: =OR(Feiertage!$B$1=A9,Feiertage!$B$2=A9,Feiertage!$B$3=A9,Feiertage!$B$4=A9,Feiertage!$B$5=A9,Feiertage!$B$6=A9,Feiertage!$B$7=A9,Feiertage!$B$8=A9,Feiertage!$B$9=A9) -> FALSE | R9: =IF(AND(D9>E9,D9<20),4,IF(AND(D9<E9,D9<=6),6-D9,"")) | S9: =IF(AND(D9>E9,D9>=20),24-D9,"") | T9: =IF(AND(D9<E9,E9>=20),E9-20,"") | U9: =IF(AND(D9>E9,E9>=6),6,"") | V9: =IF(AND(D9>E9,E9<6),E9,"") | W9: =IF(AND(D9<E9,E9>=6,D9<=6),6-D9,"") | X9: =IF(AND(D9<E9,E9<6),6-E9,"") | Y9: Samstag
A10: 42127 | B10: Sonntag | F10: =IF(K10="X",Gesamt!$C$8,IF(J10="X",Gesamt!$C$9,IF(IF(E10<D10,E10+(24-D10),E10-D10)>0,IF(E10<D10,E10+(24-D10),E10-D10),""))) | G10: =IF(SUM(L10:P10)=0,"",SUM(L10:P10)) | H10: =IF(D10="","",IF(Q10=0,IF(B10="Sonntag",IF(D10>E10,24-D10,E10-D10),IF(AND(B10="Samstag",Q11=0),IF(D10>E10,E10,""),"")),IF(AND(B10="Samstag",Q11=0),IF(D10>E10,E10,""),""))) | I10: =IF(D10="","",IF(AND(Q10=1,Q11=1),IF(D10>E10,24-D10+E10,E10-D10),IF(Q10=1,IF(D10>E10,24-D10,E10-D10),IF(AND(Q11=1,D10>E10),E10,"")))) | J10: =IF(C10="Urlaub","X","") | K10: =IF(C10="Krank","X","") | L10: =IF(OR(Q10=1,Q11=1,B10="Sonntag",B11="Sonntag"),"",SUM(R10:X10)) | M10: =IF(B11="Sonntag","",IF(AND(Q10=1,D10>E10),SUM(U10:X10),"")) | N10: =IF(AND(Q10=1,Q12=1),"",IF(Q11=1,SUM(R10:T10),"")) | O10: =IF(Q12=1,"",IF(AND(B10="Sonntag",D10>E10,Q10=0),SUM(U10:X10),"")) | P10: =IF(OR(Q10=1,Q12=1),"",IF(B11="Sonntag",SUM(R10:T10),"")) | Q10: =OR(Feiertage!$B$1=A10,Feiertage!$B$2=A10,Feiertage!$B$3=A10,Feiertage!$B$4=A10,Feiertage!$B$5=A10,Feiertage!$B$6=A10,Feiertage!$B$7=A10,Feiertage!$B$8=A10,Feiertage!$B$9=A10) -> FALSE | R10: =IF(AND(D10>E10,D10<20),4,"") | S10: =IF(AND(D10>E10,D10>=20),24-D10,"") | T10: =IF(AND(D10<E10,E10>=20),E10-20,"") | U10: =IF(AND(D10>E10,E10>=6),6,"") | V10: =IF(AND(D10>E10,E10<6),E10,"") | W10: =IF(AND(D10<E10,E10>=6,D10<=6),6-D10,"") | X10: =IF(AND(D10<E10,E10<6),E10-D10,"") | Y10: Sonntag
D11: Gesamt: | F11: =SUM(F6:F10) -> 0 | G11: =SUM(G6:G10) -> 0 | H11: =SUM(H6:H10) -> 0 | I11: =SUM(I6:I10) -> 0 | J11: =COUNTIF(J6:J10,"X") -> 0 | K11: =COUNTIF(K6:K10,"X") -> 0
A12: 42128 | B12: Montag | F12: =IF(K12="X",Gesamt!$C$8,IF(J12="X",Gesamt!$C$9,IF(IF(E12<D12,E12+(24-D12),E12-D12)>0,IF(E12<D12,E12+(24-D12),E12-D12),""))) | G12: =IF(SUM(L12:P12)=0,"",SUM(L12:P12)) | H12: =IF(D12="","",IF(Q12=0,IF(B12="Sonntag",IF(D12>E12,24-D12,E12-D12),IF(AND(B12="Samstag",Q13=0),IF(D12>E12,E12,""),"")),IF(AND(B12="Samstag",Q13=0),IF(D12>E12,E12,""),""))) | I12: =IF(D12="","",IF(AND(Q12=1,Q13=1),IF(D12>E12,24-D12+E12,E12-D12),IF(Q12=1,IF(D12>E12,24-D12,E12-D12),IF(AND(Q13=1,D12>E12),E12,"")))) | J12: =IF(C12="Urlaub","X","") | K12: =IF(C12="Krank","X","") | L12: =IF(OR(Q12=1,Q13=1,B12="Sonntag",B13="Sonntag"),"",SUM(R12:W12)) -> 0 | M12: =IF(B12="Sonntag","",IF(AND(Q12=1,D12>E12),SUM(U12:W12),"")) | N12: =IF(OR(AND(Q12=1,Q13=1),AND(Q13=1,B12="Sonntag")),"",IF(Q13=1,SUM(R12:T12),"")) | O12: =IF(Q13=1,"",IF(AND(B12="Sonntag",D12>E12,Q12=0),SUM(U12:W12),"")) | P12: =IF(OR(Q12=1,Q13=1),"",IF(B13="Sonntag",SUM(R12:W12),"")) | Q12: =OR(Feiertage!$B$1=A12,Feiertage!$B$2=A12,Feiertage!$B$3=A12,Feiertage!$B$4=A12,Feiertage!$B$5=A12,Feiertage!$B$6=A12,Feiertage!$B$7=A12,Feiertage!$B$8=A12,Feiertage!$B$9=A12) -> FALSE | R12: =IF(AND(D12>E12,D12<20),4,"") | S12: =IF(AND(D12>E12,D12>=20),24-D12,"") | T12: =IF(AND(D12<E12,E12>=20),E12-20,"") | U12: =IF(AND(D12>E12,E12>=6),6,"") | V12: =IF(AND(D12>E12,E12<6),E12,"") | W12: =IF(AND(D12<E12,E12>=6,D12<=6),6-D12,"") | X12: =IF(AND(D12<E12,E12<6),6-E12,"") | Y12: Mon. bis Fr.
A13: 42129 | B13: Dienstag | F13: =IF(K13="X",Gesamt!$C$8,IF(J13="X",Gesamt!$C$9,IF(IF(E13<D13,E13+(24-D13),E13-D13)>0,IF(E13<D13,E13+(24-D13),E13-D13),""))) | G13: =IF(SUM(L13:P13)=0,"",SUM(L13:P13)) | H13: =IF(D13="","",IF(Q13=0,IF(B13="Sonntag",IF(D13>E13,24-D13,E13-D13),IF(AND(B13="Samstag",Q14=0),IF(D13>E13,E13,""),"")),IF(AND(B13="Samstag",Q14=0),IF(D13>E13,E13,""),""))) | I13: =IF(D13="","",IF(AND(Q13=1,Q14=1),IF(D13>E13,24-D13+E13,E13-D13),IF(Q13=1,IF(D13>E13,24-D13,E13-D13),IF(AND(Q14=1,D13>E13),E13,"")))) | J13: =IF(C13="Urlaub","X","") | K13: =IF(C13="Krank","X","") | L13: =IF(OR(Q13=1,Q14=1,B13="Sonntag",B14="Sonntag"),"",SUM(R13:W13)) -> 0 | M13: =IF(B13="Sonntag","",IF(AND(Q13=1,D13>E13),SUM(U13:W13),"")) | N13: =IF(OR(AND(Q13=1,Q14=1),AND(Q14=1,B13="Sonntag")),"",IF(Q14=1,SUM(R13:T13),"")) | O13: =IF(Q14=1,"",IF(AND(B13="Sonntag",D13>E13,Q13=0),SUM(U13:W13),"")) | P13: =IF(OR(Q13=1,Q14=1),"",IF(B14="Sonntag",SUM(R13:W13),"")) | Q13: =OR(Feiertage!$B$1=A13,Feiertage!$B$2=A13,Feiertage!$B$3=A13,Feiertage!$B$4=A13,Feiertage!$B$5=A13,Feiertage!$B$6=A13,Feiertage!$B$7=A13,Feiertage!$B$8=A13,Feiertage!$B$9=A13) -> FALSE | R13: =IF(AND(D13>E13,D13<20),4,"") | S13: =IF(AND(D13>E13,D13>=20),24-D13,"") | T13: =IF(AND(D13<E13,E13>=20),E13-20,"") | U13: =IF(AND(D13>E13,E13>=6),6,"") | V13: =IF(AND(D13>E13,E13<6),E13,"") | W13: =IF(AND(D13<E13,E13>=6,D13<=6),6-D13,"") | X13: =IF(AND(D13<E13,E13<6),6-E13,"") | Y13: Mon. bis Fr.
A14: 42130 | B14: Mittwoch | F14: =IF(K14="X",Gesamt!$C$8,IF(J14="X",Gesamt!$C$9,IF(IF(E14<D14,E14+(24-D14),E14-D14)>0,IF(E14<D14,E14+(24-D14),E14-D14),""))) | G14: =IF(SUM(L14:P14)=0,"",SUM(L14:P14)) | H14: =IF(D14="","",IF(Q14=0,IF(B14="Sonntag",IF(D14>E14,24-D14,E14-D14),IF(AND(B14="Samstag",Q15=0),IF(D14>E14,E14,""),"")),IF(AND(B14="Samstag",Q15=0),IF(D14>E14,E14,""),""))) | I14: =IF(D14="","",IF(AND(Q14=1,Q15=1),IF(D14>E14,24-D14+E14,E14-D14),IF(Q14=1,IF(D14>E14,24-D14,E14-D14),IF(AND(Q15=1,D14>E14),E14,"")))) | J14: =IF(C14="Urlaub","X","") | K14: =IF(C14="Krank","X","") | L14: =IF(OR(Q14=1,Q15=1,B14="Sonntag",B15="Sonntag"),"",SUM(R14:W14)) -> 0 | M14: =IF(B14="Sonntag","",IF(AND(Q14=1,D14>E14),SUM(U14:W14),"")) | N14: =IF(OR(AND(Q14=1,Q15=1),AND(Q15=1,B14="Sonntag")),"",IF(Q15=1,SUM(R14:T14),"")) | O14: =IF(Q15=1,"",IF(AND(B14="Sonntag",D14>E14,Q14=0),SUM(U14:W14),"")) | P14: =IF(OR(Q14=1,Q15=1),"",IF(B15="Sonntag",SUM(R14:W14),"")) | Q14: =OR(Feiertage!$B$1=A14,Feiertage!$B$2=A14,Feiertage!$B$3=A14,Feiertage!$B$4=A14,Feiertage!$B$5=A14,Feiertage!$B$6=A14,Feiertage!$B$7=A14,Feiertage!$B$8=A14,Feiertage!$B$9=A14) -> FALSE | R14: =IF(AND(D14>E14,D14<20),4,"") | S14: =IF(AND(D14>E14,D14>=20),24-D14,"") | T14: =IF(AND(D14<E14,E14>=20),E14-20,"") | U14: =IF(AND(D14>E14,E14>=6),6,"") | V14: =IF(AND(D14>E14,E14<6),E14,"") | W14: =IF(AND(D14<E14,E14>=6,D14<=6),6-D14,"") | X14: =IF(AND(D14<E14,E14<6),6-E14,"") | Y14: Mon. bis Fr.
A15: 42131 | B15: Donnerstag | F15: =IF(K15="X",Gesamt!$C$8,IF(J15="X",Gesamt!$C$9,IF(IF(E15<D15,E15+(24-D15),E15-D15)>0,IF(E15<D15,E15+(24-D15),E15-D15),""))) | G15: =IF(SUM(L15:P15)=0,"",SUM(L15:P15)) | H15: =IF(D15="","",IF(Q15=0,IF(B15="Sonntag",IF(D15>E15,24-D15,E15-D15),IF(AND(B15="Samstag",Q16=0),IF(D15>E15,E15,""),"")),IF(AND(B15="Samstag",Q16=0),IF(D15>E15,E15,""),""))) | I15: =IF(D15="","",IF(AND(Q15=1,Q16=1),IF(D15>E15,24-D15+E15,E15-D15),IF(Q15=1,IF(D15>E15,24-D15,E15-D15),IF(AND(Q16=1,D15>E15),E15,"")))) | J15: =IF(C15="Urlaub","X","") | K15: =IF(C15="Krank","X","") | L15: =IF(OR(Q15=1,Q16=1,B15="Sonntag",B16="Sonntag"),"",SUM(R15:W15)) -> 0 | M15: =IF(B15="Sonntag","",IF(AND(Q15=1,D15>E15),SUM(U15:W15),"")) | N15: =IF(OR(AND(Q15=1,Q16=1),AND(Q16=1,B15="Sonntag")),"",IF(Q16=1,SUM(R15:T15),"")) | O15: =IF(Q16=1,"",IF(AND(B15="Sonntag",D15>E15,Q15=0),SUM(U15:W15),"")) | P15: =IF(OR(Q15=1,Q16=1),"",IF(B16="Sonntag",SUM(R15:W15),"")) | Q15: =OR(Feiertage!$B$1=A15,Feiertage!$B$2=A15,Feiertage!$B$3=A15,Feiertage!$B$4=A15,Feiertage!$B$5=A15,Feiertage!$B$6=A15,Feiertage!$B$7=A15,Feiertage!$B$8=A15,Feiertage!$B$9=A15) -> FALSE | R15: =IF(AND(D15>E15,D15<20),4,"") | S15: =IF(AND(D15>E15,D15>=20),24-D15,"") | T15: =IF(AND(D15<E15,E15>=20),E15-20,"") | U15: =IF(AND(D15>E15,E15>=6),6,"") | V15: =IF(AND(D15>E15,E15<6),E15,"") | W15: =IF(AND(D15<E15,E15>=6,D15<=6),6-D15,"") | X15: =IF(AND(D15<E15,E15<6),6-E15,"") | Y15: Mon. bis Fr.
