Workbook
Name Feiertag: #REF!
Name FeiertagWF: #REF!
Name Nacht: #REF!
Name NachtamFeiertag: #REF!
Name NachtFeiertag: #REF!
Name NachtSonntag: #REF!
Name NachtvorFeiertag: #REF!
Name NachtvorSonntag: #REF!
Name Sonntag: #REF!
Name vorFeiertag: #REF!

Sheet Gesamt
B1: Gesamtübersicht
B3: Name: | G3: Jahr: | H3: 2016
B5: Filiale: | G5: Firma:
B7: Vorgaben
B8: Sollstunden pro Monat:
B9: Stunden pro Arbeitstag:
B10: Stunden pro Urlaubstag:
B12: Arbeitszeiten | F12: Urlaub | I12: Krankheit
B13: Monat | C13: Stunden | D13: Abw. zum Soll | F13: Monat | G13: Stunden | I13: Monat | J13: Stunden
B14: Januar | C14: =Jan!$G$55 -> 0 | D14: =IF(C14=0,"",C14-$D$8) | F14: Januar | G14: =Jan!$K$55 -> 0 | I14: Januar | J14: =Jan!$L$55 -> 0
B15: Februar | C15: =Feb!$G$55 -> 0 | D15: =IF(C15=0,"",C15-$D$8) | F15: Februar | G15: =Feb!$K$55 -> 0 | I15: Februar | J15: =Feb!$L$55 -> 0
B16: März | C16: =Mrz!$G$55 -> 0 | D16: =IF(C16=0,"",C16-$D$8) | F16: März | G16: =Mrz!$K$55 -> 0 | I16: März | J16: =Mrz!$L$55 -> 0
B17: April | C17: =Apr!$G$55 -> 0 | D17: =IF(C17=0,"",C17-$D$8) | F17: April | G17: =Apr!$K$55 -> 0 | I17: April | J17: =Apr!$L$55 -> 0
B18: Mai | C18: =Mai!$G$55 -> 0 | D18: =IF(C18=0,"",C18-$D$8) | F18: Mai | G18: =Mai!$K$55 -> 0 | I18: Mai | J18: =Mai!$L$55 -> 0
B19: Juni | C19: =Jun!$G$55 -> 0 | D19: =IF(C19=0,"",C19-$D$8) | F19: Juni | G19: =Jun!$K$55 -> 0 | I19: Juni | J19: =Jun!$L$55 -> 0
B20: Juli | C20: =Jul!$G$55 -> 0 | D20: =IF(C20=0,"",C20-$D$8) | F20: Juli | G20: =Jul!$K$55 -> 0 | I20: Juli | J20: =Jul!$L$55 -> 0
B21: August | C21: =Aug!$G$55 -> 0 | D21: =IF(C21=0,"",C21-$D$8) | F21: August | G21: =Aug!$K$55 -> 0 | I21: August | J21: =Aug!$L$55 -> 0
B22: September | C22: =Sep!$G$55 -> 0 | D22: =IF(C22=0,"",C22-$D$8) | F22: September | G22: =Sep!$K$55 -> 0 | I22: September | J22: =Sep!$L$55 -> 0
B23: Oktober | C23: =Okt!$G$55 -> 0 | D23: =IF(C23=0,"",C23-$D$8) | F23: Oktober | G23: =Okt!$K$55 -> 0 | I23: Oktober | J23: =Okt!$L$55 -> 0
B24: November | C24: =Nov!$G$55 -> 0 | D24: =IF(C24=0,"",C24-$D$8) | F24: November | G24: =Nov!$K$55 -> 0 | I24: November | J24: =Nov!$L$55 -> 0
B25: Dezember | C25: =Dez!$G$55 -> 0 | D25: =IF(C25=0,"",C25-$D$8) | F25: Dezember | G25: =Dez!$K$55 -> 0 | I25: Dezember | J25: =Dez!$L$55 -> 0
B26: Gesamt | C26: =SUM(C14:C25) -> 0 | D26: =SUM(D14:D25) -> 0 | F26: Gesamt | G26: =SUM(G14:G25) -> 0 | I26: Gesamt | J26: =SUM(J14:J25) -> 0
B27: Vorjahr | F27: Anspruch
D28: =SUM(D26:D27) -> 0 | F28: Resturlaub
G29: =G27+G28-G26 -> 0

Sheet Feiertage
B2: Feiertage
B3: Neujahr | C3: 42370
B4: Karfreitag | C4: 42454
B5: Ostermontag | C5: 42457
B6: Maifeiertag | C6: 42491
B7: Christi Himmelfahrt | C7: 42495
B8: Pfingstmontag | C8: 42506
B9: Tag der deutschen Einheit | C9: 42646
B10: 1. Weihnachtsfeiertag | C10: 42729
B11: 2. Weihnachtsfeiertag | C11: 42730

Sheet Jan
C1: =DATE(Gesamt!H3,1,1) -> 42370
C2: Name: | D2: =Gesamt!C3 -> 0
C4: Filiale: | D4: =Gesamt!C5 -> 0 | G4: Firma: | H4: =Gesamt!H5 -> 0
M5: Nacht | N5: Nacht Feiertag | O5: Nacht vor Feiertag | P5: Nacht Sonntag | Q5: Nacht vor Sonntag | R5: Ist Feiertag? | S5: 0 Uhr - 6 Uhr | T5: 20 Uhr - 0 Uhr | U5: 0 Uhr - 6 Uhr Folgetag
C6: Datum | D6: Tätigkeit | E6: von | F6: bis | G6: Stunden | H6: Nacht | I6: Sonntag | J6: Feiertag | K6: Urlaub | L6: Krank
B7: =WEEKNUM(C7,21) -> 53 | C7: =C1-WEEKDAY(C1,3) -> 42366 | G7: =IF(L7="X",Gesamt!$D$9, IF(K7="X",Gesamt!$D$10, IF(F7-E7<0,F7-E7+24,F7-E7))) -> 0 | H7: =SUM(M7:Q7) -> 0 | I7: =IF(AND(NOT(R8),WEEKDAY(C8,2)=7), IF(E7>F7,F7,0), IF(AND(NOT(R7),WEEKDAY(C7,2)=7), IF(E7>F7,24-E7,F7-E7), 0)) -> 0 | J7: =IF(AND(R7,R8), IF(E7>F7,24-E7+F7,F7-E7), IF(R7, IF(E7>F7,24-E7,F7-E7), IF(AND(R8,E7>F7),F7,0))) -> 0 | K7: =IF(D7="Urlaub","X","") | L7: =IF(D7="Krank","X","") | M7: =IF(OR(R7,R8,WEEKDAY(C7,2)=7,WEEKDAY(C8,2)=7),"",SUM(S7:U7)) -> 0 | N7: =IF(R7,U7,"") | O7: =IF(AND(NOT(R7),R8),SUM(S7:T7),"") | P7: =IF(AND(WEEKDAY(C7,2)=7,NOT(R7),NOT(R8)),U7,"") | Q7: =IF(AND(WEEKDAY(C8,2)=7,NOT(R7),NOT(R8)),SUM(S7:T7),"") | R7: =NOT(ISERROR(MATCH(C7,Feiertage!$C:$C,0))) -> FALSE | S7: =IF(OR(E7>F7,F7>6), IF(E7<=6,6-E7,0), F7-E7) -> 0 | T7: =IF(E7>F7,MIN(24-E7,4), IF(E7>=20,F7-E7,MAX(F7-20,0))) -> 0 | U7: =IF(E7>F7,MIN(F7,6),0) -> 0
C8: =C7+1 -> 42367 | G8: =IF(L8="X",Gesamt!$D$9, IF(K8="X",Gesamt!$D$10, IF(F8-E8<0,F8-E8+24,F8-E8))) -> 0 | H8: =SUM(M8:Q8) -> 0 | I8: =IF(AND(NOT(R9),WEEKDAY(C9,2)=7), IF(E8>F8,F8,0), IF(AND(NOT(R8),WEEKDAY(C8,2)=7), IF(E8>F8,24-E8,F8-E8), 0)) -> 0 | J8: =IF(AND(R8,R9), IF(E8>F8,24-E8+F8,F8-E8), IF(R8, IF(E8>F8,24-E8,F8-E8), IF(AND(R9,E8>F8),F8,0))) -> 0 | K8: =IF(D8="Urlaub","X","") | L8: =IF(D8="Krank","X","") | M8: =IF(OR(R8,R9,WEEKDAY(C8,2)=7,WEEKDAY(C9,2)=7),"",SUM(S8:U8)) -> 0 | N8: =IF(R8,U8,"") | O8: =IF(AND(NOT(R8),R9),SUM(S8:T8),"") | P8: =IF(AND(WEEKDAY(C8,2)=7,NOT(R8),NOT(R9)),U8,"") | Q8: =IF(AND(WEEKDAY(C9,2)=7,NOT(R8),NOT(R9)),SUM(S8:T8),"") | R8: =NOT(ISERROR(MATCH(C8,Feiertage!$C:$C,0))) -> FALSE | S8: =IF(OR(E8>F8,F8>6), IF(E8<=6,6-E8,0), F8-E8) -> 0 | T8: =IF(E8>F8,MIN(24-E8,4), IF(E8>=20,F8-E8,MAX(F8-20,0))) -> 0 | U8: =IF(E8>F8,MIN(F8,6),0) -> 0
C9: =C8+1 -> 42368 | G9: =IF(L9="X",Gesamt!$D$9, IF(K9="X",Gesamt!$D$10, IF(F9-E9<0,F9-E9+24,F9-E9))) -> 0 | H9: =SUM(M9:Q9) -> 0 | I9: =IF(AND(NOT(R10),WEEKDAY(C10,2)=7), IF(E9>F9,F9,0), IF(AND(NOT(R9),WEEKDAY(C9,2)=7), IF(E9>F9,24-E9,F9-E9), 0)) -> 0 | J9: =IF(AND(R9,R10), IF(E9>F9,24-E9+F9,F9-E9), IF(R9, IF(E9>F9,24-E9,F9-E9), IF(AND(R10,E9>F9),F9,0))) -> 0 | K9: =IF(D9="Urlaub","X","") | L9: =IF(D9="Krank","X","") | M9: =IF(OR(R9,R10,WEEKDAY(C9,2)=7,WEEKDAY(C10,2)=7),"",SUM(S9:U9)) -> 0 | N9: =IF(R9,U9,"") | O9: =IF(AND(NOT(R9),R10),SUM(S9:T9),"") | P9: =IF(AND(WEEKDAY(C9,2)=7,NOT(R9),NOT(R10)),U9,"") | Q9: =IF(AND(WEEKDAY(C10,2)=7,NOT(R9),NOT(R10)),SUM(S9:T9),"") | R9: =NOT(ISERROR(MATCH(C9,Feiertage!$C:$C,0))) -> FALSE | S9: =IF(OR(E9>F9,F9>6), IF(E9<=6,6-E9,0), F9-E9) -> 0 | T9: =IF(E9>F9,MIN(24-E9,4), IF(E9>=20,F9-E9,MAX(F9-20,0))) -> 0 | U9: =IF(E9>F9,MIN(F9,6),0) -> 0
C10: =C9+1 -> 42369 | G10: =IF(L10="X",Gesamt!$D$9, IF(K10="X",Gesamt!$D$10, IF(F10-E10<0,F10-E10+24,F10-E10))) -> 0 | H10: =SUM(M10:Q10) -> 0 | I10: =IF(AND(NOT(R11),WEEKDAY(C11,2)=7), IF(E10>F10,F10,0), IF(AND(NOT(R10),WEEKDAY(C10,2)=7), IF(E10>F10,24-E10,F10-E10), 0)) -> 0 | J10: =IF(AND(R10,R11), IF(E10>F10,24-E10+F10,F10-E10), IF(R10, IF(E10>F10,24-E10,F10-E10), IF(AND(R11,E10>F10),F10,0))) -> 0 | K10: =IF(D10="Urlaub","X","") | L10: =IF(D10="Krank","X","") | M10: =IF(OR(R10,R11,WEEKDAY(C10,2)=7,WEEKDAY(C11,2)=7),"",SUM(S10:U10)) | N10: =IF(R10,U10,"") | O10: =IF(AND(NOT(R10),R11),SUM(S10:T10),"") -> 0 | P10: =IF(AND(WEEKDAY(C10,2)=7,NOT(R10),NOT(R11)),U10,"") | Q10: =IF(AND(WEEKDAY(C11,2)=7,NOT(R10),NOT(R11)),SUM(S10:T10),"") | R10: =NOT(ISERROR(MATCH(C10,Feiertage!$C:$C,0))) -> FALSE | S10: =IF(OR(E10>F10,F10>6), IF(E10<=6,6-E10,0), F10-E10) -> 0 | T10: =IF(E10>F10,MIN(24-E10,4), IF(E10>=20,F10-E10,MAX(F10-20,0))) -> 0 | U10: =IF(E10>F10,MIN(F10,6),0) -> 0
C11: =C10+1 -> 42370 | G11: =IF(L11="X",Gesamt!$D$9, IF(K11="X",Gesamt!$D$10, IF(F11-E11<0,F11-E11+24,F11-E11))) -> 0 | H11: =SUM(M11:Q11) -> 0 | I11: =IF(AND(NOT(R12),WEEKDAY(C12,2)=7), IF(E11>F11,F11,0), IF(AND(NOT(R11),WEEKDAY(C11,2)=7), IF(E11>F11,24-E11,F11-E11), 0)) -> 0 | J11: =IF(AND(R11,R12), IF(E11>F11,24-E11+F11,F11-E11), IF(R11, IF(E11>F11,24-E11,F11-E11), IF(AND(R12,E11>F11),F11,0))) -> 0 | K11: =IF(D11="Urlaub","X","") | L11: =IF(D11="Krank","X","") | M11: =IF(OR(R11,R12,WEEKDAY(C11,2)=7,WEEKDAY(C12,2)=7),"",SUM(S11:U11)) | N11: =IF(R11,U11,"") -> 0 | O11: =IF(AND(NOT(R11),R12),SUM(S11:T11),"") | P11: =IF(AND(WEEKDAY(C11,2)=7,NOT(R11),NOT(R12)),U11,"") | Q11: =IF(AND(WEEKDAY(C12,2)=7,NOT(R11),NOT(R12)),SUM(S11:T11),"") | R11: =NOT(ISERROR(MATCH(C11,Feiertage!$C:$C,0))) -> TRUE | S11: =IF(OR(E11>F11,F11>6), IF(E11<=6,6-E11,0), F11-E11) -> 0 | T11: =IF(E11>F11,MIN(24-E11,4), IF(E11>=20,F11-E11,MAX(F11-20,0))) -> 0 | U11: =IF(E11>F11,MIN(F11,6),0) -> 0
C12: =C11+1 -> 42371 | G12: =IF(L12="X",Gesamt!$D$9, IF(K12="X",Gesamt!$D$10, IF(F12-E12<0,F12-E12+24,F12-E12))) -> 0 | H12: =SUM(M12:Q12) -> 0 | I12: =IF(AND(NOT(R13),WEEKDAY(C13,2)=7), IF(E12>F12,F12,0), IF(AND(NOT(R12),WEEKDAY(C12,2)=7), IF(E12>F12,24-E12,F12-E12), 0)) -> 0 | J12: =IF(AND(R12,R13), IF(E12>F12,24-E12+F12,F12-E12), IF(R12, IF(E12>F12,24-E12,F12-E12), IF(AND(R13,E12>F12),F12,0))) -> 0 | K12: =IF(D12="Urlaub","X","") | L12: =IF(D12="Krank","X","") | M12: =IF(OR(R12,R13,WEEKDAY(C12,2)=7,WEEKDAY(C13,2)=7),"",SUM(S12:U12)) | N12: =IF(R12,U12,"") | O12: =IF(AND(NOT(R12),R13),SUM(S12:T12),"") | P12: =IF(AND(WEEKDAY(C12,2)=7,NOT(R12),NOT(R13)),U12,"") | Q12: =IF(AND(WEEKDAY(C13,2)=7,NOT(R12),NOT(R13)),SUM(S12:T12),"") -> 0 | R12: =NOT(ISERROR(MATCH(C12,Feiertage!$C:$C,0))) -> FALSE | S12: =IF(OR(E12>F12,F12>6), IF(E12<=6,6-E12,0), F12-E12) -> 0 | T12: =IF(E12>F12,MIN(24-E12,4), IF(E12>=20,F12-E12,MAX(F12-20,0))) -> 0 | U12: =IF(E12>F12,MIN(F12,6),0) -> 0
C13: =C12+1 -> 42372 | G13: =IF(L13="X",Gesamt!$D$9, IF(K13="X",Gesamt!$D$10, IF(F13-E13<0,F13-E13+24,F13-E13))) -> 0 | H13: =SUM(M13:Q13) -> 0 | I13: =IF(AND(NOT(R14),WEEKDAY(C14,2)=7), IF(E13>F13,F13,0), IF(AND(NOT(R13),WEEKDAY(C13,2)=7), IF(E13>F13,24-E13,F13-E13), 0)) -> 0 | J13: =IF(AND(R13,R14), IF(E13>F13,24-E13+F13,F13-E13), IF(R13, IF(E13>F13,24-E13,F13-E13), IF(AND(R14,E13>F13),F13,0))) -> 0 | K13: =IF(D13="Urlaub","X","") | L13: =IF(D13="Krank","X","") | M13: =IF(OR(R13,R14,WEEKDAY(C13,2)=7,WEEKDAY(C14,2)=7),"",SUM(S13:U13)) | N13: =IF(R13,U13,"") | O13: =IF(AND(NOT(R13),R14),SUM(S13:T13),"") | P13: =IF(AND(WEEKDAY(C13,2)=7,NOT(R13),NOT(R14)),U13,"") -> 0 | Q13: =IF(AND(WEEKDAY(C14,2)=7,NOT(R13),NOT(R14)),SUM(S13:T13),"") | R13: =NOT(ISERROR(MATCH(C13,Feiertage!$C:$C,0))) -> FALSE | S13: =IF(OR(E13>F13,F13>6), IF(E13<=6,6-E13,0), F13-E13) -> 0 | T13: =IF(E13>F13,MIN(24-E13,4), IF(E13>=20,F13-E13,MAX(F13-20,0))) -> 0 | U13: =IF(E13>F13,MIN(F13,6),0) -> 0
C14: =C13+1 -> 42373 | E14: Woche | G14: =SUM(G7:G13) -> 0 | H14: =SUM(H7:H13) -> 0 | I14: =SUM(I7:I13) -> 0 | J14: =SUM(J7:J13) -> 0 | K14: =COUNTIF(K7:K13,"X") -> 0 | L14: =COUNTIF(L7:L13,"X") -> 0 | R14: =NOT(ISERROR(MATCH(C14,Feiertage!$C:$C,0))) -> FALSE
B15: =WEEKNUM(C15,21) -> 1 | C15: =C13+1 -> 42373 | G15: =IF(L15="X",Gesamt!$D$9, IF(K15="X",Gesamt!$D$10, IF(F15-E15<0,F15-E15+24,F15-E15))) -> 0 | H15: =SUM(M15:Q15) -> 0 | I15: =IF(AND(NOT(R16),WEEKDAY(C16,2)=7), IF(E15>F15,F15,0), IF(AND(NOT(R15),WEEKDAY(C15,2)=7), IF(E15>F15,24-E15,F15-E15), 0)) -> 0 | J15: =IF(AND(R15,R16), IF(E15>F15,24-E15+F15,F15-E15), IF(R15, IF(E15>F15,24-E15,F15-E15), IF(AND(R16,E15>F15),F15,0))) -> 0 | K15: =IF(D15="Urlaub","X","") | L15: =IF(D15="Krank","X","") | M15: =IF(OR(R15,R16,WEEKDAY(C15,2)=7,WEEKDAY(C16,2)=7),"",SUM(S15:U15)) -> 0 | N15: =IF(R15,U15,"") | O15: =IF(AND(NOT(R15),R16),SUM(S15:T15),"") | P15: =IF(AND(WEEKDAY(C15,2)=7,NOT(R15),NOT(R16)),U15,"") | Q15: =IF(AND(WEEKDAY(C16,2)=7,NOT(R15),NOT(R16)),SUM(S15:T15),"") | R15: =NOT(ISERROR(MATCH(C15,Feiertage!$C:$C,0))) -> FALSE | S15: =IF(OR(E15>F15,F15>6), IF(E15<=6,6-E15,0), F15-E15) -> 0 | T15: =IF(E15>F15,MIN(24-E15,4), IF(E15>=20,F15-E15,MAX(F15-20,0))) -> 0 | U15: =IF(E15>F15,MIN(F15,6),0) -> 0
C16: =C15+1 -> 42374 | G16: =IF(L16="X",Gesamt!$D$9, IF(K16="X",Gesamt!$D$10, IF(F16-E16<0,F16-E16+24,F16-E16))) -> 0 | H16: =SUM(M16:Q16) -> 0 | I16: =IF(AND(NOT(R17),WEEKDAY(C17,2)=7), IF(E16>F16,F16,0), IF(AND(NOT(R16),WEEKDAY(C16,2)=7), IF(E16>F16,24-E16,F16-E16), 0)) -> 0 | J16: =IF(AND(R16,R17), IF(E16>F16,24-E16+F16,F16-E16), IF(R16, IF(E16>F16,24-E16,F16-E16), IF(AND(R17,E16>F16),F16,0))) -> 0 | K16: =IF(D16="Urlaub","X","") | L16: =IF(D16="Krank","X","") | M16: =IF(OR(R16,R17,WEEKDAY(C16,2)=7,WEEKDAY(C17,2)=7),"",SUM(S16:U16)) -> 0 | N16: =IF(R16,U16,"") | O16: =IF(AND(NOT(R16),R17),SUM(S16:T16),"") | P16: =IF(AND(WEEKDAY(C16,2)=7,NOT(R16),NOT(R17)),U16,"") | Q16: =IF(AND(WEEKDAY(C17,2)=7,NOT(R16),NOT(R17)),SUM(S16:T16),"") | R16: =NOT(ISERROR(MATCH(C16,Feiertage!$C:$C,0))) -> FALSE | S16: =IF(OR(E16>F16,F16>6), IF(E16<=6,6-E16,0), F16-E16) -> 0 | T16: =IF(E16>F16,MIN(24-E16,4), IF(E16>=20,F16-E16,MAX(F16-20,0))) -> 0 | U16: =IF(E16>F16,MIN(F16,6),0) -> 0
C17: =C16+1 -> 42375 | G17: =IF(L17="X",Gesamt!$D$9, IF(K17="X",Gesamt!$D$10, IF(F17-E17<0,F17-E17+24,F17-E17))) -> 0 | H17: =SUM(M17:Q17) -> 0 | I17: =IF(AND(NOT(R18),WEEKDAY(C18,2)=7), IF(E17>F17,F17,0), IF(AND(NOT(R17),WEEKDAY(C17,2)=7), IF(E17>F17,24-E17,F17-E17), 0)) -> 0 | J17: =IF(AND(R17,R18), IF(E17>F17,24-E17+F17,F17-E17), IF(R17, IF(E17>F17,24-E17,F17-E17), IF(AND(R18,E17>F17),F17,0))) -> 0 | K17: =IF(D17="Urlaub","X","") | L17: =IF(D17="Krank","X","") | M17: =IF(OR(R17,R18,WEEKDAY(C17,2)=7,WEEKDAY(C18,2)=7),"",SUM(S17:U17)) -> 0 | N17: =IF(R17,U17,"") | O17: =IF(AND(NOT(R17),R18),SUM(S17:T17),"") | P17: =IF(AND(WEEKDAY(C17,2)=7,NOT(R17),NOT(R18)),U17,"") | Q17: =IF(AND(WEEKDAY(C18,2)=7,NOT(R17),NOT(R18)),SUM(S17:T17),"") | R17: =NOT(ISERROR(MATCH(C17,Feiertage!$C:$C,0))) -> FALSE | S17: =IF(OR(E17>F17,F17>6), IF(E17<=6,6-E17,0), F17-E17) -> 0 | T17: =IF(E17>F17,MIN(24-E17,4), IF(E17>=20,F17-E17,MAX(F17-20,0))) -> 0 | U17: =IF(E17>F17,MIN(F17,6),0) -> 0
C18: =C17+1 -> 42376 | G18: =IF(L18="X",Gesamt!$D$9, IF(K18="X",Gesamt!$D$10, IF(F18-E18<0,F18-E18+24,F18-E18))) -> 0 | H18: =SUM(M18:Q18) -> 0 | I18: =IF(AND(NOT(R19),WEEKDAY(C19,2)=7), IF(E18>F18,F18,0), IF(AND(NOT(R18),WEEKDAY(C18,2)=7), IF(E18>F18,24-E18,F18-E18), 0)) -> 0 | J18: =IF(AND(R18,R19), IF(E18>F18,24-E18+F18,F18-E18), IF(R18, IF(E18>F18,24-E18,F18-E18), IF(AND(R19,E18>F18),F18,0))) -> 0 | K18: =IF(D18="Urlaub","X","") | L18: =IF(D18="Krank","X","") | M18: =IF(OR(R18,R19,WEEKDAY(C18,2)=7,WEEKDAY(C19,2)=7),"",SUM(S18:U18)) -> 0 | N18: =IF(R18,U18,"") | O18: =IF(AND(NOT(R18),R19),SUM(S18:T18),"") | P18: =IF(AND(WEEKDAY(C18,2)=7,NOT(R18),NOT(R19)),U18,"") | Q18: =IF(AND(WEEKDAY(C19,2)=7,NOT(R18),NOT(R19)),SUM(S18:T18),"") | R18: =NOT(ISERROR(MATCH(C18,Feiertage!$C:$C,0))) -> FALSE | S18: =IF(OR(E18>F18,F18>6), IF(E18<=6,6-E18,0), F18-E18) -> 0 | T18: =IF(E18>F18,MIN(24-E18,4), IF(E18>=20,F18-E18,MAX(F18-20,0))) -> 0 | U18: =IF(E18>F18,MIN(F18,6),0) -> 0
C19: =C18+1 -> 42377 | G19: =IF(L19="X",Gesamt!$D$9, IF(K19="X",Gesamt!$D$10, IF(F19-E19<0,F19-E19+24,F19-E19))) -> 0 | H19: =SUM(M19:Q19) -> 0 | I19: =IF(AND(NOT(R20),WEEKDAY(C20,2)=7), IF(E19>F19,F19,0), IF(AND(NOT(R19),WEEKDAY(C19,2)=7), IF(E19>F19,24-E19,F19-E19), 0)) -> 0 | J19: =IF(AND(R19,R20), IF(E19>F19,24-E19+F19,F19-E19), IF(R19, IF(E19>F19,24-E19,F19-E19), IF(AND(R20,E19>F19),F19,0))) -> 0 | K19: =IF(D19="Urlaub","X","") | L19: =IF(D19="Krank","X","") | M19: =IF(OR(R19,R20,WEEKDAY(C19,2)=7,WEEKDAY(C20,2)=7),"",SUM(S19:U19)) -> 0 | N19: =IF(R19,U19,"") | O19: =IF(AND(NOT(R19),R20),SUM(S19:T19),"") | P19: =IF(AND(WEEKDAY(C19,2)=7,NOT(R19),NOT(R20)),U19,"") | Q19: =IF(AND(WEEKDAY(C20,2)=7,NOT(R19),NOT(R20)),SUM(S19:T19),"") | R19: =NOT(ISERROR(MATCH(C19,Feiertage!$C:$C,0))) -> FALSE | S19: =IF(OR(E19>F19,F19>6), IF(E19<=6,6-E19,0), F19-E19) -> 0 | T19: =IF(E19>F19,MIN(24-E19,4), IF(E19>=20,F19-E19,MAX(F19-20,0))) -> 0 | U19: =IF(E19>F19,MIN(F19,6),0) -> 0
C20: =C19+1 -> 42378 | G20: =IF(L20="X",Gesamt!$D$9, IF(K20="X",Gesamt!$D$10, IF(F20-E20<0,F20-E20+24,F20-E20))) -> 0 | H20: =SUM(M20:Q20) -> 0 | I20: =IF(AND(NOT(R21),WEEKDAY(C21,2)=7), IF(E20>F20,F20,0), IF(AND(NOT(R20),WEEKDAY(C20,2)=7), IF(E20>F20,24-E20,F20-E20), 0)) -> 0 | J20: =IF(AND(R20,R21), IF(E20>F20,24-E20+F20,F20-E20), IF(R20, IF(E20>F20,24-E20,F20-E20), IF(AND(R21,E20>F20),F20,0))) -> 0 | K20: =IF(D20="Urlaub","X","") | L20: =IF(D20="Krank","X","") | M20: =IF(OR(R20,R21,WEEKDAY(C20,2)=7,WEEKDAY(C21,2)=7),"",SUM(S20:U20)) | N20: =IF(R20,U20,"") | O20: =IF(AND(NOT(R20),R21),SUM(S20:T20),"") | P20: =IF(AND(WEEKDAY(C20,2)=7,NOT(R20),NOT(R21)),U20,"") | Q20: =IF(AND(WEEKDAY(C21,2)=7,NOT(R20),NOT(R21)),SUM(S20:T20),"") -> 0 | R20: =NOT(ISERROR(MATCH(C20,Feiertage!$C:$C,0))) -> FALSE | S20: =IF(OR(E20>F20,F20>6), IF(E20<=6,6-E20,0), F20-E20) -> 0 | T20: =IF(E20>F20,MIN(24-E20,4), IF(E20>=20,F20-E20,MAX(F20-20,0))) -> 0 | U20: =IF(E20>F20,MIN(F20,6),0) -> 0
C21: =C20+1 -> 42379 | G21: =IF(L21="X",Gesamt!$D$9, IF(K21="X",Gesamt!$D$10, IF(F21-E21<0,F21-E21+24,F21-E21))) -> 0 | H21: =SUM(M21:Q21) -> 0 | I21: =IF(AND(NOT(R22),WEEKDAY(C22,2)=7), IF(E21>F21,F21,0), IF(AND(NOT(R21),WEEKDAY(C21,2)=7), IF(E21>F21,24-E21,F21-E21), 0)) -> 0 | J21: =IF(AND(R21,R22), IF(E21>F21,24-E21+F21,F21-E21), IF(R21, IF(E21>F21,24-E21,F21-E21), IF(AND(R22,E21>F21),F21,0))) -> 0 | K21: =IF(D21="Urlaub","X","") | L21: =IF(D21="Krank","X","") | M21: =IF(OR(R21,R22,WEEKDAY(C21,2)=7,WEEKDAY(C22,2)=7),"",SUM(S21:U21)) | N21: =IF(R21,U21,"") | O21: =IF(AND(NOT(R21),R22),SUM(S21:T21),"") | P21: =IF(AND(WEEKDAY(C21,2)=7,NOT(R21),NOT(R22)),U21,"") -> 0 | Q21: =IF(AND(WEEKDAY(C22,2)=7,NOT(R21),NOT(R22)),SUM(S21:T21),"") | R21: =NOT(ISERROR(MATCH(C21,Feiertage!$C:$C,0))) -> FALSE | S21: =IF(OR(E21>F21,F21>6), IF(E21<=6,6-E21,0), F21-E21) -> 0 | T21: =IF(E21>F21,MIN(24-E21,4), IF(E21>=20,F21-E21,MAX(F21-20,0))) -> 0 | U21: =IF(E21>F21,MIN(F21,6),0) -> 0
C22: =C21+1 -> 42380 | E22: Woche | G22: =SUM(G15:G21) -> 0 | H22: =SUM(H15:H21) -> 0 | I22: =SUM(I15:I21) -> 0 | J22: =SUM(J15:J21) -> 0 | K22: =COUNTIF(K15:K21,"X") -> 0 | L22: =COUNTIF(L15:L21,"X") -> 0 | R22: =NOT(ISERROR(MATCH(C22,Feiertage!$C:$C,0))) -> FALSE
B23: =WEEKNUM(C23,21) -> 2 | C23: =C21+1 -> 42380 | G23: =IF(L23="X",Gesamt!$D$9, IF(K23="X",Gesamt!$D$10, IF(F23-E23<0,F23-E23+24,F23-E23))) -> 0 | H23: =SUM(M23:Q23) -> 0 | I23: =IF(AND(NOT(R24),WEEKDAY(C24,2)=7), IF(E23>F23,F23,0), IF(AND(NOT(R23),WEEKDAY(C23,2)=7), IF(E23>F23,24-E23,F23-E23), 0)) -> 0 | J23: =IF(AND(R23,R24), IF(E23>F23,24-E23+F23,F23-E23), IF(R23, IF(E23>F23,24-E23,F23-E23), IF(AND(R24,E23>F23),F23,0))) -> 0 | K23: =IF(D23="Urlaub","X","") | L23: =IF(D23="Krank","X","") | M23: =IF(OR(R23,R24,WEEKDAY(C23,2)=7,WEEKDAY(C24,2)=7),"",SUM(S23:U23)) -> 0 | N23: =IF(R23,U23,"") | O23: =IF(AND(NOT(R23),R24),SUM(S23:T23),"") | P23: =IF(AND(WEEKDAY(C23,2)=7,NOT(R23),NOT(R24)),U23,"") | Q23: =IF(AND(WEEKDAY(C24,2)=7,NOT(R23),NOT(R24)),SUM(S23:T23),"") | R23: =NOT(ISERROR(MATCH(C23,Feiertage!$C:$C,0))) -> FALSE | S23: =IF(OR(E23>F23,F23>6), IF(E23<=6,6-E23,0), F23-E23) -> 0 | T23: =IF(E23>F23,MIN(24-E23,4), IF(E23>=20,F23-E23,MAX(F23-20,0))) -> 0 | U23: =IF(E23>F23,MIN(F23,6),0) -> 0
C24: =C23+1 -> 42381 | G24: =IF(L24="X",Gesamt!$D$9, IF(K24="X",Gesamt!$D$10, IF(F24-E24<0,F24-E24+24,F24-E24))) -> 0 | H24: =SUM(M24:Q24) -> 0 | I24: =IF(AND(NOT(R25),WEEKDAY(C25,2)=7), IF(E24>F24,F24,0), IF(AND(NOT(R24),WEEKDAY(C24,2)=7), IF(E24>F24,24-E24,F24-E24), 0)) -> 0 | J24: =IF(AND(R24,R25), IF(E24>F24,24-E24+F24,F24-E24), IF(R24, IF(E24>F24,24-E24,F24-E24), IF(AND(R25,E24>F24),F24,0))) -> 0 | K24: =IF(D24="Urlaub","X","") | L24: =IF(D24="Krank","X","") | M24: =IF(OR(R24,R25,WEEKDAY(C24,2)=7,WEEKDAY(C25,2)=7),"",SUM(S24:U24)) -> 0 | N24: =IF(R24,U24,"") | O24: =IF(AND(NOT(R24),R25),SUM(S24:T24),"") | P24: =IF(AND(WEEKDAY(C24,2)=7,NOT(R24),NOT(R25)),U24,"") | Q24: =IF(AND(WEEKDAY(C25,2)=7,NOT(R24),NOT(R25)),SUM(S24:T24),"") | R24: =NOT(ISERROR(MATCH(C24,Feiertage!$C:$C,0))) -> FALSE | S24: =IF(OR(E24>F24,F24>6), IF(E24<=6,6-E24,0), F24-E24) -> 0 | T24: =IF(E24>F24,MIN(24-E24,4), IF(E24>=20,F24-E24,MAX(F24-20,0))) -> 0 | U24: =IF(E24>F24,MIN(F24,6),0) -> 0
C25: =C24+1 -> 42382 | G25: =IF(L25="X",Gesamt!$D$9, IF(K25="X",Gesamt!$D$10, IF(F25-E25<0,F25-E25+24,F25-E25))) -> 0 | H25: =SUM(M25:Q25) -> 0 | I25: =IF(AND(NOT(R26),WEEKDAY(C26,2)=7), IF(E25>F25,F25,0), IF(AND(NOT(R25),WEEKDAY(C25,2)=7), IF(E25>F25,24-E25,F25-E25), 0)) -> 0 | J25: =IF(AND(R25,R26), IF(E25>F25,24-E25+F25,F25-E25), IF(R25, IF(E25>F25,24-E25,F25-E25), IF(AND(R26,E25>F25),F25,0))) -> 0 | K25: =IF(D25="Urlaub","X","") | L25: =IF(D25="Krank","X","") | M25: =IF(OR(R25,R26,WEEKDAY(C25,2)=7,WEEKDAY(C26,2)=7),"",SUM(S25:U25)) -> 0 | N25: =IF(R25,U25,"") | O25: =IF(AND(NOT(R25),R26),SUM(S25:T25),"") | P25: =IF(AND(WEEKDAY(C25,2)=7,NOT(R25),NOT(R26)),U25,"") | Q25: =IF(AND(WEEKDAY(C26,2)=7,NOT(R25),NOT(R26)),SUM(S25:T25),"") | R25: =NOT(ISERROR(MATCH(C25,Feiertage!$C:$C,0))) -> FALSE | S25: =IF(OR(E25>F25,F25>6), IF(E25<=6,6-E25,0), F25-E25) -> 0 | T25: =IF(E25>F25,MIN(24-E25,4), IF(E25>=20,F25-E25,MAX(F25-20,0))) -> 0 | U25: =IF(E25>F25,MIN(F25,6),0) -> 0
C26: =C25+1 -> 42383 | G26: =IF(L26="X",Gesamt!$D$9, IF(K26="X",Gesamt!$D$10, IF(F26-E26<0,F26-E26+24,F26-E26))) -> 0 | H26: =SUM(M26:Q26) -> 0 | I26: =IF(AND(NOT(R27),WEEKDAY(C27,2)=7), IF(E26>F26,F26,0), IF(AND(NOT(R26),WEEKDAY(C26,2)=7), IF(E26>F26,24-E26,F26-E26), 0)) -> 0 | J26: =IF(AND(R26,R27), IF(E26>F26,24-E26+F26,F26-E26), IF(R26, IF(E26>F26,24-E26,F26-E26), IF(AND(R27,E26>F26),F26,0))) -> 0 | K26: =IF(D26="Urlaub","X","") | L26: =IF(D26="Krank","X","") | M26: =IF(OR(R26,R27,WEEKDAY(C26,2)=7,WEEKDAY(C27,2)=7),"",SUM(S26:U26)) -> 0 | N26: =IF(R26,U26,"") | O26: =IF(AND(NOT(R26),R27),SUM(S26:T26),"") | P26: =IF(AND(WEEKDAY(C26,2)=7,NOT(R26),NOT(R27)),U26,"") | Q26: =IF(AND(WEEKDAY(C27,2)=7,NOT(R26),NOT(R27)),SUM(S26:T26),"") | R26: =NOT(ISERROR(MATCH(C26,Feiertage!$C:$C,0))) -> FALSE | S26: =IF(OR(E26>F26,F26>6), IF(E26<=6,6-E26,0), F26-E26) -> 0 | T26: =IF(E26>F26,MIN(24-E26,4), IF(E26>=20,F26-E26,MAX(F26-20,0))) -> 0 | U26: =IF(E26>F26,MIN(F26,6),0) -> 0
C27: =C26+1 -> 42384 | G27: =IF(L27="X",Gesamt!$D$9, IF(K27="X",Gesamt!$D$10, IF(F27-E27<0,F27-E27+24,F27-E27))) -> 0 | H27: =SUM(M27:Q27) -> 0 | I27: =IF(AND(NOT(R28),WEEKDAY(C28,2)=7), IF(E27>F27,F27,0), IF(AND(NOT(R27),WEEKDAY(C27,2)=7), IF(E27>F27,24-E27,F27-E27), 0)) -> 0 | J27: =IF(AND(R27,R28), IF(E27>F27,24-E27+F27,F27-E27), IF(R27, IF(E27>F27,24-E27,F27-E27), IF(AND(R28,E27>F27),F27,0))) -> 0 | K27: =IF(D27="Urlaub","X","") | L27: =IF(D27="Krank","X","") | M27: =IF(OR(R27,R28,WEEKDAY(C27,2)=7,WEEKDAY(C28,2)=7),"",SUM(S27:U27)) -> 0 | N27: =IF(R27,U27,"") | O27: =IF(AND(NOT(R27),R28),SUM(S27:T27),"") | P27: =IF(AND(WEEKDAY(C27,2)=7,NOT(R27),NOT(R28)),U27,"") | Q27: =IF(AND(WEEKDAY(C28,2)=7,NOT(R27),NOT(R28)),SUM(S27:T27),"") | R27: =NOT(ISERROR(MATCH(C27,Feiertage!$C:$C,0))) -> FALSE | S27: =IF(OR(E27>F27,F27>6), IF(E27<=6,6-E27,0), F27-E27) -> 0 | T27: =IF(E27>F27,MIN(24-E27,4), IF(E27>=20,F27-E27,MAX(F27-20,0))) -> 0 | U27: =IF(E27>F27,MIN(F27,6),0) -> 0
C28: =C27+1 -> 42385 | G28: =IF(L28="X",Gesamt!$D$9, IF(K28="X",Gesamt!$D$10, IF(F28-E28<0,F28-E28+24,F28-E28))) -> 0 | H28: =SUM(M28:Q28) -> 0 | I28: =IF(AND(NOT(R29),WEEKDAY(C29,2)=7), IF(E28>F28,F28,0), IF(AND(NOT(R28),WEEKDAY(C28,2)=7), IF(E28>F28,24-E28,F28-E28), 0)) -> 0 | J28: =IF(AND(R28,R29), IF(E28>F28,24-E28+F28,F28-E28), IF(R28, IF(E28>F28,24-E28,F28-E28), IF(AND(R29,E28>F28),F28,0))) -> 0 | K28: =IF(D28="Urlaub","X","") | L28: =IF(D28="Krank","X","") | M28: =IF(OR(R28,R29,WEEKDAY(C28,2)=7,WEEKDAY(C29,2)=7),"",SUM(S28:U28)) | N28: =IF(R28,U28,"") | O28: =IF(AND(NOT(R28),R29),SUM(S28:T28),"") | P28: =IF(AND(WEEKDAY(C28,2)=7,NOT(R28),NOT(R29)),U28,"") | Q28: =IF(AND(WEEKDAY(C29,2)=7,NOT(R28),NOT(R29)),SUM(S28:T28),"") -> 0 | R28: =NOT(ISERROR(MATCH(C28,Feiertage!$C:$C,0))) -> FALSE | S28: =IF(OR(E28>F28,F28>6), IF(E28<=6,6-E28,0), F28-E28) -> 0 | T28: =IF(E28>F28,MIN(24-E28,4), IF(E28>=20,F28-E28,MAX(F28-20,0))) -> 0 | U28: =IF(E28>F28,MIN(F28,6),0) -> 0
C29: =C28+1 -> 42386 | G29: =IF(L29="X",Gesamt!$D$9, IF(K29="X",Gesamt!$D$10, IF(F29-E29<0,F29-E29+24,F29-E29))) -> 0 | H29: =SUM(M29:Q29) -> 0 | I29: =IF(AND(NOT(R30),WEEKDAY(C30,2)=7), IF(E29>F29,F29,0), IF(AND(NOT(R29),WEEKDAY(C29,2)=7), IF(E29>F29,24-E29,F29-E29), 0)) -> 0 | J29: =IF(AND(R29,R30), IF(E29>F29,24-E29+F29,F29-E29), IF(R29, IF(E29>F29,24-E29,F29-E29), IF(AND(R30,E29>F29),F29,0))) -> 0 | K29: =IF(D29="Urlaub","X","") | L29: =IF(D29="Krank","X","") | M29: =IF(OR(R29,R30,WEEKDAY(C29,2)=7,WEEKDAY(C30,2)=7),"",SUM(S29:U29)) | N29: =IF(R29,U29,"") | O29: =IF(AND(NOT(R29),R30),SUM(S29:T29),"") | P29: =IF(AND(WEEKDAY(C29,2)=7,NOT(R29),NOT(R30)),U29,"") -> 0 | Q29: =IF(AND(WEEKDAY(C30,2)=7,NOT(R29),NOT(R30)),SUM(S29:T29),"") | R29: =NOT(ISERROR(MATCH(C29,Feiertage!$C:$C,0))) -> FALSE | S29: =IF(OR(E29>F29,F29>6), IF(E29<=6,6-E29,0), F29-E29) -> 0 | T29: =IF(E29>F29,MIN(24-E29,4), IF(E29>=20,F29-E29,MAX(F29-20,0))) -> 0 | U29: =IF(E29>F29,MIN(F29,6),0) -> 0
C30: =C29+1 -> 42387 | E30: Woche | G30: =SUM(G23:G29) -> 0 | H30: =SUM(H23:H29) -> 0 | I30: =SUM(I23:I29) -> 0 | J30: =SUM(J23:J29) -> 0 | K30: =COUNTIF(K23:K29,"X") -> 0 | L30: =COUNTIF(L23:L29,"X") -> 0 | R30: =NOT(ISERROR(MATCH(C30,Feiertage!$C:$C,0))) -> FALSE
B31: =WEEKNUM(C31,21) -> 3 | C31: =C29+1 -> 42387 | G31: =IF(L31="X",Gesamt!$D$9, IF(K31="X",Gesamt!$D$10, IF(F31-E31<0,F31-E31+24,F31-E31))) -> 0 | H31: =SUM(M31:Q31) -> 0 | I31: =IF(AND(NOT(R32),WEEKDAY(C32,2)=7), IF(E31>F31,F31,0), IF(AND(NOT(R31),WEEKDAY(C31,2)=7), IF(E31>F31,24-E31,F31-E31), 0)) -> 0 | J31: =IF(AND(R31,R32), IF(E31>F31,24-E31+F31,F31-E31), IF(R31, IF(E31>F31,24-E31,F31-E31), IF(AND(R32,E31>F31),F31,0))) -> 0 | K31: =IF(D31="Urlaub","X","") | L31: =IF(D31="Krank","X","") | M31: =IF(OR(R31,R32,WEEKDAY(C31,2)=7,WEEKDAY(C32,2)=7),"",SUM(S31:U31)) -> 0 | N31: =IF(R31,U31,"") | O31: =IF(AND(NOT(R31),R32),SUM(S31:T31),"") | P31: =IF(AND(WEEKDAY(C31,2)=7,NOT(R31),NOT(R32)),U31,"") | Q31: =IF(AND(WEEKDAY(C32,2)=7,NOT(R31),NOT(R32)),SUM(S31:T31),"") | R31: =NOT(ISERROR(MATCH(C31,Feiertage!$C:$C,0))) -> FALSE | S31: =IF(OR(E31>F31,F31>6), IF(E31<=6,6-E31,0), F31-E31) -> 0 | T31: =IF(E31>F31,MIN(24-E31,4), IF(E31>=20,F31-E31,MAX(F31-20,0))) -> 0 | U31: =IF(E31>F31,MIN(F31,6),0) -> 0
C32: =C31+1 -> 42388 | G32: =IF(L32="X",Gesamt!$D$9, IF(K32="X",Gesamt!$D$10, IF(F32-E32<0,F32-E32+24,F32-E32))) -> 0 | H32: =SUM(M32:Q32) -> 0 | I32: =IF(AND(NOT(R33),WEEKDAY(C33,2)=7), IF(E32>F32,F32,0), IF(AND(NOT(R32),WEEKDAY(C32,2)=7), IF(E32>F32,24-E32,F32-E32), 0)) -> 0 | J32: =IF(AND(R32,R33), IF(E32>F32,24-E32+F32,F32-E32), IF(R32, IF(E32>F32,24-E32,F32-E32), IF(AND(R33,E32>F32),F32,0))) -> 0 | K32: =IF(D32="Urlaub","X","") | L32: =IF(D32="Krank","X","") | M32: =IF(OR(R32,R33,WEEKDAY(C32,2)=7,WEEKDAY(C33,2)=7),"",SUM(S32:U32)) -> 0 | N32: =IF(R32,U32,"") | O32: =IF(AND(NOT(R32),R33),SUM(S32:T32),"") | P32: =IF(AND(WEEKDAY(C32,2)=7,NOT(R32),NOT(R33)),U32,"") | Q32: =IF(AND(WEEKDAY(C33,2)=7,NOT(R32),NOT(R33)),SUM(S32:T32),"") | R32: =NOT(ISERROR(MATCH(C32,Feiertage!$C:$C,0))) -> FALSE | S32: =IF(OR(E32>F32,F32>6), IF(E32<=6,6-E32,0), F32-E32) -> 0 | T32: =IF(E32>F32,MIN(24-E32,4), IF(E32>=20,F32-E32,MAX(F32-20,0))) -> 0 | U32: =IF(E32>F32,MIN(F32,6),0) -> 0
C33: =C32+1 -> 42389 | G33: =IF(L33="X",Gesamt!$D$9, IF(K33="X",Gesamt!$D$10, IF(F33-E33<0,F33-E33+24,F33-E33))) -> 0 | H33: =SUM(M33:Q33) -> 0 | I33: =IF(AND(NOT(R34),WEEKDAY(C34,2)=7), IF(E33>F33,F33,0), IF(AND(NOT(R33),WEEKDAY(C33,2)=7), IF(E33>F33,24-E33,F33-E33), 0)) -> 0 | J33: =IF(AND(R33,R34), IF(E33>F33,24-E33+F33,F33-E33), IF(R33, IF(E33>F33,24-E33,F33-E33), IF(AND(R34,E33>F33),F33,0))) -> 0 | K33: =IF(D33="Urlaub","X","") | L33: =IF(D33="Krank","X","") | M33: =IF(OR(R33,R34,WEEKDAY(C33,2)=7,WEEKDAY(C34,2)=7),"",SUM(S33:U33)) -> 0 | N33: =IF(R33,U33,"") | O33: =IF(AND(NOT(R33),R34),SUM(S33:T33),"") | P33: =IF(AND(WEEKDAY(C33,2)=7,NOT(R33),NOT(R34)),U33,"") | Q33: =IF(AND(WEEKDAY(C34,2)=7,NOT(R33),NOT(R34)),SUM(S33:T33),"") | R33: =NOT(ISERROR(MATCH(C33,Feiertage!$C:$C,0))) -> FALSE | S33: =IF(OR(E33>F33,F33>6), IF(E33<=6,6-E33,0), F33-E33) -> 0 | T33: =IF(E33>F33,MIN(24-E33,4), IF(E33>=20,F33-E33,MAX(F33-20,0))) -> 0 | U33: =IF(E33>F33,MIN(F33,6),0) -> 0
C34: =C33+1 -> 42390 | G34: =IF(L34="X",Gesamt!$D$9, IF(K34="X",Gesamt!$D$10, IF(F34-E34<0,F34-E34+24,F34-E34))) -> 0 | H34: =SUM(M34:Q34) -> 0 | I34: =IF(AND(NOT(R35),WEEKDAY(C35,2)=7), IF(E34>F34,F34,0), IF(AND(NOT(R34),WEEKDAY(C34,2)=7), IF(E34>F34,24-E34,F34-E34), 0)) -> 0 | J34: =IF(AND(R34,R35), IF(E34>F34,24-E34+F34,F34-E34), IF(R34, IF(E34>F34,24-E34,F34-E34), IF(AND(R35,E34>F34),F34,0))) -> 0 | K34: =IF(D34="Urlaub","X","") | L34: =IF(D34="Krank","X","") | M34: =IF(OR(R34,R35,WEEKDAY(C34,2)=7,WEEKDAY(C35,2)=7),"",SUM(S34:U34)) -> 0 | N34: =IF(R34,U34,"") | O34: =IF(AND(NOT(R34),R35),SUM(S34:T34),"") | P34: =IF(AND(WEEKDAY(C34,2)=7,NOT(R34),NOT(R35)),U34,"") | Q34: =IF(AND(WEEKDAY(C35,2)=7,NOT(R34),NOT(R35)),SUM(S34:T34),"") | R34: =NOT(ISERROR(MATCH(C34,Feiertage!$C:$C,0))) -> FALSE | S34: =IF(OR(E34>F34,F34>6), IF(E34<=6,6-E34,0), F34-E34) -> 0 | T34: =IF(E34>F34,MIN(24-E34,4), IF(E34>=20,F34-E34,MAX(F34-20,0))) -> 0 | U34: =IF(E34>F34,MIN(F34,6),0) -> 0
C35: =C34+1 -> 42391 | G35: =IF(L35="X",Gesamt!$D$9, IF(K35="X",Gesamt!$D$10, IF(F35-E35<0,F35-E35+24,F35-E35))) -> 0 | H35: =SUM(M35:Q35) -> 0 | I35: =IF(AND(NOT(R36),WEEKDAY(C36,2)=7), IF(E35>F35,F35,0), IF(AND(NOT(R35),WEEKDAY(C35,2)=7), IF(E35>F35,24-E35,F35-E35), 0)) -> 0 | J35: =IF(AND(R35,R36), IF(E35>F35,24-E35+F35,F35-E35), IF(R35, IF(E35>F35,24-E35,F35-E35), IF(AND(R36,E35>F35),F35,0))) -> 0 | K35: =IF(D35="Urlaub","X","") | L35: =IF(D35="Krank","X","") | M35: =IF(OR(R35,R36,WEEKDAY(C35,2)=7,WEEKDAY(C36,2)=7),"",SUM(S35:U35)) -> 0 | N35: =IF(R35,U35,"") | O35: =IF(AND(NOT(R35),R36),SUM(S35:T35),"") | P35: =IF(AND(WEEKDAY(C35,2)=7,NOT(R35),NOT(R36)),U35,"") | Q35: =IF(AND(WEEKDAY(C36,2)=7,NOT(R35),NOT(R36)),SUM(S35:T35),"") | R35: =NOT(ISERROR(MATCH(C35,Feiertage!$C:$C,0))) -> FALSE | S35: =IF(OR(E35>F35,F35>6), IF(E35<=6,6-E35,0), F35-E35) -> 0 | T35: =IF(E35>F35,MIN(24-E35,4), IF(E35>=20,F35-E35,MAX(F35-20,0))) -> 0 | U35: =IF(E35>F35,MIN(F35,6),0) -> 0
C36: =C35+1 -> 42392 | G36: =IF(L36="X",Gesamt!$D$9, IF(K36="X",Gesamt!$D$10, IF(F36-E36<0,F36-E36+24,F36-E36))) -> 0 | H36: =SUM(M36:Q36) -> 0 | I36: =IF(AND(NOT(R37),WEEKDAY(C37,2)=7), IF(E36>F36,F36,0), IF(AND(NOT(R36),WEEKDAY(C36,2)=7), IF(E36>F36,24-E36,F36-E36), 0)) -> 0 | J36: =IF(AND(R36,R37), IF(E36>F36,24-E36+F36,F36-E36), IF(R36, IF(E36>F36,24-E36,F36-E36), IF(AND(R37,E36>F36),F36,0))) -> 0 | K36: =IF(D36="Urlaub","X","") | L36: =IF(D36="Krank","X","") | M36: =IF(OR(R36,R37,WEEKDAY(C36,2)=7,WEEKDAY(C37,2)=7),"",SUM(S36:U36)) | N36: =IF(R36,U36,"") | O36: =IF(AND(NOT(R36),R37),SUM(S36:T36),"") | P36: =IF(AND(WEEKDAY(C36,2)=7,NOT(R36),NOT(R37)),U36,"") | Q36: =IF(AND(WEEKDAY(C37,2)=7,NOT(R36),NOT(R37)),SUM(S36:T36),"") -> 0 | R36: =NOT(ISERROR(MATCH(C36,Feiertage!$C:$C,0))) -> FALSE | S36: =IF(OR(E36>F36,F36>6), IF(E36<=6,6-E36,0), F36-E36) -> 0 | T36: =IF(E36>F36,MIN(24-E36,4), IF(E36>=20,F36-E36,MAX(F36-20,0))) -> 0 | U36: =IF(E36>F36,MIN(F36,6),0) -> 0
C37: =C36+1 -> 42393 | G37: =IF(L37="X",Gesamt!$D$9, IF(K37="X",Gesamt!$D$10, IF(F37-E37<0,F37-E37+24,F37-E37))) -> 0 | H37: =SUM(M37:Q37) -> 0 | I37: =IF(AND(NOT(R38),WEEKDAY(C38,2)=7), IF(E37>F37,F37,0), IF(AND(NOT(R37),WEEKDAY(C37,2)=7), IF(E37>F37,24-E37,F37-E37), 0)) -> 0 | J37: =IF(AND(R37,R38), IF(E37>F37,24-E37+F37,F37-E37), IF(R37, IF(E37>F37,24-E37,F37-E37), IF(AND(R38,E37>F37),F37,0))) -> 0 | K37: =IF(D37="Urlaub","X","") | L37: =IF(D37="Krank","X","") | M37: =IF(OR(R37,R38,WEEKDAY(C37,2)=7,WEEKDAY(C38,2)=7),"",SUM(S37:U37)) | N37: =IF(R37,U37,"") | O37: =IF(AND(NOT(R37),R38),SUM(S37:T37),"") | P37: =IF(AND(WEEKDAY(C37,2)=7,NOT(R37),NOT(R38)),U37,"") -> 0 | Q37: =IF(AND(WEEKDAY(C38,2)=7,NOT(R37),NOT(R38)),SUM(S37:T37),"") | R37: =NOT(ISERROR(MATCH(C37,Feiertage!$C:$C,0))) -> FALSE | S37: =IF(OR(E37>F37,F37>6), IF(E37<=6,6-E37,0), F37-E37) -> 0 | T37: =IF(E37>F37,MIN(24-E37,4), IF(E37>=20,F37-E37,MAX(F37-20,0))) -> 0 | U37: =IF(E37>F37,MIN(F37,6),0) -> 0
C38: =C37+1 -> 42394 | E38: Woche | G38: =SUM(G31:G37) -> 0 | H38: =SUM(H31:H37) -> 0 | I38: =SUM(I31:I37) -> 0 | J38: =SUM(J31:J37) -> 0 | K38: =COUNTIF(K31:K37,"X") -> 0 | L38: =COUNTIF(L31:L37,"X") -> 0 | R38: =NOT(ISERROR(MATCH(C38,Feiertage!$C:$C,0))) -> FALSE
B39: =IF(MONTH(C39)=MONTH($C$1),WEEKNUM(C39,21)) -> 4 | C39: =C37+1 -> 42394 | G39: =IF(L39="X",Gesamt!$D$9, IF(K39="X",Gesamt!$D$10, IF(F39-E39<0,F39-E39+24,F39-E39))) -> 0 | H39: =SUM(M39:Q39) -> 0 | I39: =IF(AND(NOT(R40),WEEKDAY(C40,2)=7), IF(E39>F39,F39,0), IF(AND(NOT(R39),WEEKDAY(C39,2)=7), IF(E39>F39,24-E39,F39-E39), 0)) -> 0 | J39: =IF(AND(R39,R40), IF(E39>F39,24-E39+F39,F39-E39), IF(R39, IF(E39>F39,24-E39,F39-E39), IF(AND(R40,E39>F39),F39,0))) -> 0 | K39: =IF(D39="Urlaub","X","") | L39: =IF(D39="Krank","X","") | M39: =IF(OR(R39,R40,WEEKDAY(C39,2)=7,WEEKDAY(C40,2)=7),"",SUM(S39:U39)) -> 0 | N39: =IF(R39,U39,"") | O39: =IF(AND(NOT(R39),R40),SUM(S39:T39),"") | P39: =IF(AND(WEEKDAY(C39,2)=7,NOT(R39),NOT(R40)),U39,"") | Q39: =IF(AND(WEEKDAY(C40,2)=7,NOT(R39),NOT(R40)),SUM(S39:T39),"") | R39: =NOT(ISERROR(MATCH(C39,Feiertage!$C:$C,0))) -> FALSE | S39: =IF(OR(E39>F39,F39>6), IF(E39<=6,6-E39,0), F39-E39) -> 0 | T39: =IF(E39>F39,MIN(24-E39,4), IF(E39>=20,F39-E39,MAX(F39-20,0))) -> 0 | U39: =IF(E39>F39,MIN(F39,6),0) -> 0
C40: =C39+1 -> 42395 | G40: =IF(L40="X",Gesamt!$D$9, IF(K40="X",Gesamt!$D$10, IF(F40-E40<0,F40-E40+24,F40-E40))) -> 0 | H40: =SUM(M40:Q40) -> 0 | I40: =IF(AND(NOT(R41),WEEKDAY(C41,2)=7), IF(E40>F40,F40,0), IF(AND(NOT(R40),WEEKDAY(C40,2)=7), IF(E40>F40,24-E40,F40-E40), 0)) -> 0 | J40: =IF(AND(R40,R41), IF(E40>F40,24-E40+F40,F40-E40), IF(R40, IF(E40>F40,24-E40,F40-E40), IF(AND(R41,E40>F40),F40,0))) -> 0 | K40: =IF(D40="Urlaub","X","") | L40: =IF(D40="Krank","X","") | M40: =IF(OR(R40,R41,WEEKDAY(C40,2)=7,WEEKDAY(C41,2)=7),"",SUM(S40:U40)) -> 0 | N40: =IF(R40,U40,"") | O40: =IF(AND(NOT(R40),R41),SUM(S40:T40),"") | P40: =IF(AND(WEEKDAY(C40,2)=7,NOT(R40),NOT(R41)),U40,"") | Q40: =IF(AND(WEEKDAY(C41,2)=7,NOT(R40),NOT(R41)),SUM(S40:T40),"") | R40: =NOT(ISERROR(MATCH(C40,Feiertage!$C:$C,0))) -> FALSE | S40: =IF(OR(E40>F40,F40>6), IF(E40<=6,6-E40,0), F40-E40) -> 0 | T40: =IF(E40>F40,MIN(24-E40,4), IF(E40>=20,F40-E40,MAX(F40-20,0))) -> 0 | U40: =IF(E40>F40,MIN(F40,6),0) -> 0
C41: =C40+1 -> 42396 | G41: =IF(L41="X",Gesamt!$D$9, IF(K41="X",Gesamt!$D$10, IF(F41-E41<0,F41-E41+24,F41-E41))) -> 0 | H41: =SUM(M41:Q41) -> 0 | I41: =IF(AND(NOT(R42),WEEKDAY(C42,2)=7), IF(E41>F41,F41,0), IF(AND(NOT(R41),WEEKDAY(C41,2)=7), IF(E41>F41,24-E41,F41-E41), 0)) -> 0 | J41: =IF(AND(R41,R42), IF(E41>F41,24-E41+F41,F41-E41), IF(R41, IF(E41>F41,24-E41,F41-E41), IF(AND(R42,E41>F41),F41,0))) -> 0 | K41: =IF(D41="Urlaub","X","") | L41: =IF(D41="Krank","X","") | M41: =IF(OR(R41,R42,WEEKDAY(C41,2)=7,WEEKDAY(C42,2)=7),"",SUM(S41:U41)) -> 0 | N41: =IF(R41,U41,"") | O41: =IF(AND(NOT(R41),R42),SUM(S41:T41),"") | P41: =IF(AND(WEEKDAY(C41,2)=7,NOT(R41),NOT(R42)),U41,"") | Q41: =IF(AND(WEEKDAY(C42,2)=7,NOT(R41),NOT(R42)),SUM(S41:T41),"") | R41: =NOT(ISERROR(MATCH(C41,Feiertage!$C:$C,0))) -> FALSE | S41: =IF(OR(E41>F41,F41>6), IF(E41<=6,6-E41,0), F41-E41) -> 0 | T41: =IF(E41>F41,MIN(24-E41,4), IF(E41>=20,F41-E41,MAX(F41-20,0))) -> 0 | U41: =IF(E41>F41,MIN(F41,6),0) -> 0
...

Sheet Feb
C1: =DATE(Gesamt!H3,2,1) -> 42401
C2: Name: | D2: =Gesamt!C3 -> 0
C4: Filiale: | D4: =Gesamt!C5 -> 0 | G4: Firma: | H4: =Gesamt!H5 -> 0
M5: Nacht | N5: Nacht Feiertag | O5: Nacht vor Feiertag | P5: Nacht Sonntag | Q5: Nacht vor Sonntag | R5: Ist Feiertag? | S5: 0 Uhr - 6 Uhr | T5: 20 Uhr - 0 Uhr | U5: 0 Uhr - 6 Uhr Folgetag
C6: Datum | D6: Tätigkeit | E6: von | F6: bis | G6: Stunden | H6: Nacht | I6: Sonntag | J6: Feiertag | K6: Urlaub | L6: Krank
B7: =WEEKNUM(C7,21) -> 5 | C7: =C1-WEEKDAY(C1,3) -> 42401 | G7: =IF(L7="X",Gesamt!$D$9, IF(K7="X",Gesamt!$D$10, IF(F7-E7<0,F7-E7+24,F7-E7))) -> 0 | H7: =SUM(M7:Q7) -> 0 | I7: =IF(AND(NOT(R8),WEEKDAY(C8,2)=7), IF(E7>F7,F7,0), IF(AND(NOT(R7),WEEKDAY(C7,2)=7), IF(E7>F7,24-E7,F7-E7), 0)) -> 0 | J7: =IF(AND(R7,R8), IF(E7>F7,24-E7+F7,F7-E7), IF(R7, IF(E7>F7,24-E7,F7-E7), IF(AND(R8,E7>F7),F7,0))) -> 0 | K7: =IF(D7="Urlaub","X","") | L7: =IF(D7="Krank","X","") | M7: =IF(OR(R7,R8,WEEKDAY(C7,2)=7,WEEKDAY(C8,2)=7),"",SUM(S7:U7)) -> 0 | N7: =IF(R7,U7,"") | O7: =IF(AND(NOT(R7),R8),SUM(S7:T7),"") | P7: =IF(AND(WEEKDAY(C7,2)=7,NOT(R7),NOT(R8)),U7,"") | Q7: =IF(AND(WEEKDAY(C8,2)=7,NOT(R7),NOT(R8)),SUM(S7:T7),"") | R7: =NOT(ISERROR(MATCH(C7,Feiertage!$C:$C,0))) -> FALSE | S7: =IF(OR(E7>F7,F7>6), IF(E7<=6,6-E7,0), F7-E7) -> 0 | T7: =IF(E7>F7,MIN(24-E7,4), IF(E7>=20,F7-E7,MAX(F7-20,0))) -> 0 | U7: =IF(E7>F7,MIN(F7,6),0) -> 0
C8: =C7+1 -> 42402 | G8: =IF(L8="X",Gesamt!$D$9, IF(K8="X",Gesamt!$D$10, IF(F8-E8<0,F8-E8+24,F8-E8))) -> 0 | H8: =SUM(M8:Q8) -> 0 | I8: =IF(AND(NOT(R9),WEEKDAY(C9,2)=7), IF(E8>F8,F8,0), IF(AND(NOT(R8),WEEKDAY(C8,2)=7), IF(E8>F8,24-E8,F8-E8), 0)) -> 0 | J8: =IF(AND(R8,R9), IF(E8>F8,24-E8+F8,F8-E8), IF(R8, IF(E8>F8,24-E8,F8-E8), IF(AND(R9,E8>F8),F8,0))) -> 0 | K8: =IF(D8="Urlaub","X","") | L8: =IF(D8="Krank","X","") | M8: =IF(OR(R8,R9,WEEKDAY(C8,2)=7,WEEKDAY(C9,2)=7),"",SUM(S8:U8)) -> 0 | N8: =IF(R8,U8,"") | O8: =IF(AND(NOT(R8),R9),SUM(S8:T8),"") | P8: =IF(AND(WEEKDAY(C8,2)=7,NOT(R8),NOT(R9)),U8,"") | Q8: =IF(AND(WEEKDAY(C9,2)=7,NOT(R8),NOT(R9)),SUM(S8:T8),"") | R8: =NOT(ISERROR(MATCH(C8,Feiertage!$C:$C,0))) -> FALSE | S8: =IF(OR(E8>F8,F8>6), IF(E8<=6,6-E8,0), F8-E8) -> 0 | T8: =IF(E8>F8,MIN(24-E8,4), IF(E8>=20,F8-E8,MAX(F8-20,0))) -> 0 | U8: =IF(E8>F8,MIN(F8,6),0) -> 0
C9: =C8+1 -> 42403 | G9: =IF(L9="X",Gesamt!$D$9, IF(K9="X",Gesamt!$D$10, IF(F9-E9<0,F9-E9+24,F9-E9))) -> 0 | H9: =SUM(M9:Q9) -> 0 | I9: =IF(AND(NOT(R10),WEEKDAY(C10,2)=7), IF(E9>F9,F9,0), IF(AND(NOT(R9),WEEKDAY(C9,2)=7), IF(E9>F9,24-E9,F9-E9), 0)) -> 0 | J9: =IF(AND(R9,R10), IF(E9>F9,24-E9+F9,F9-E9), IF(R9, IF(E9>F9,24-E9,F9-E9), IF(AND(R10,E9>F9),F9,0))) -> 0 | K9: =IF(D9="Urlaub","X","") | L9: =IF(D9="Krank","X","") | M9: =IF(OR(R9,R10,WEEKDAY(C9,2)=7,WEEKDAY(C10,2)=7),"",SUM(S9:U9)) -> 0 | N9: =IF(R9,U9,"") | O9: =IF(AND(NOT(R9),R10),SUM(S9:T9),"") | P9: =IF(AND(WEEKDAY(C9,2)=7,NOT(R9),NOT(R10)),U9,"") | Q9: =IF(AND(WEEKDAY(C10,2)=7,NOT(R9),NOT(R10)),SUM(S9:T9),"") | R9: =NOT(ISERROR(MATCH(C9,Feiertage!$C:$C,0))) -> FALSE | S9: =IF(OR(E9>F9,F9>6), IF(E9<=6,6-E9,0), F9-E9) -> 0 | T9: =IF(E9>F9,MIN(24-E9,4), IF(E9>=20,F9-E9,MAX(F9-20,0))) -> 0 | U9: =IF(E9>F9,MIN(F9,6),0) -> 0
C10: =C9+1 -> 42404 | G10: =IF(L10="X",Gesamt!$D$9, IF(K10="X",Gesamt!$D$10, IF(F10-E10<0,F10-E10+24,F10-E10))) -> 0 | H10: =SUM(M10:Q10) -> 0 | I10: =IF(AND(NOT(R11),WEEKDAY(C11,2)=7), IF(E10>F10,F10,0), IF(AND(NOT(R10),WEEKDAY(C10,2)=7), IF(E10>F10,24-E10,F10-E10), 0)) -> 0 | J10: =IF(AND(R10,R11), IF(E10>F10,24-E10+F10,F10-E10), IF(R10, IF(E10>F10,24-E10,F10-E10), IF(AND(R11,E10>F10),F10,0))) -> 0 | K10: =IF(D10="Urlaub","X","") | L10: =IF(D10="Krank","X","") | M10: =IF(OR(R10,R11,WEEKDAY(C10,2)=7,WEEKDAY(C11,2)=7),"",SUM(S10:U10)) -> 0 | N10: =IF(R10,U10,"") | O10: =IF(AND(NOT(R10),R11),SUM(S10:T10),"") | P10: =IF(AND(WEEKDAY(C10,2)=7,NOT(R10),NOT(R11)),U10,"") | Q10: =IF(AND(WEEKDAY(C11,2)=7,NOT(R10),NOT(R11)),SUM(S10:T10),"") | R10: =NOT(ISERROR(MATCH(C10,Feiertage!$C:$C,0))) -> FALSE | S10: =IF(OR(E10>F10,F10>6), IF(E10<=6,6-E10,0), F10-E10) -> 0 | T10: =IF(E10>F10,MIN(24-E10,4), IF(E10>=20,F10-E10,MAX(F10-20,0))) -> 0 | U10: =IF(E10>F10,MIN(F10,6),0) -> 0
C11: =C10+1 -> 42405 | G11: =IF(L11="X",Gesamt!$D$9, IF(K11="X",Gesamt!$D$10, IF(F11-E11<0,F11-E11+24,F11-E11))) -> 0 | H11: =SUM(M11:Q11) -> 0 | I11: =IF(AND(NOT(R12),WEEKDAY(C12,2)=7), IF(E11>F11,F11,0), IF(AND(NOT(R11),WEEKDAY(C11,2)=7), IF(E11>F11,24-E11,F11-E11), 0)) -> 0 | J11: =IF(AND(R11,R12), IF(E11>F11,24-E11+F11,F11-E11), IF(R11, IF(E11>F11,24-E11,F11-E11), IF(AND(R12,E11>F11),F11,0))) -> 0 | K11: =IF(D11="Urlaub","X","") | L11: =IF(D11="Krank","X","") | M11: =IF(OR(R11,R12,WEEKDAY(C11,2)=7,WEEKDAY(C12,2)=7),"",SUM(S11:U11)) -> 0 | N11: =IF(R11,U11,"") | O11: =IF(AND(NOT(R11),R12),SUM(S11:T11),"") | P11: =IF(AND(WEEKDAY(C11,2)=7,NOT(R11),NOT(R12)),U11,"") | Q11: =IF(AND(WEEKDAY(C12,2)=7,NOT(R11),NOT(R12)),SUM(S11:T11),"") | R11: =NOT(ISERROR(MATCH(C11,Feiertage!$C:$C,0))) -> FALSE | S11: =IF(OR(E11>F11,F11>6), IF(E11<=6,6-E11,0), F11-E11) -> 0 | T11: =IF(E11>F11,MIN(24-E11,4), IF(E11>=20,F11-E11,MAX(F11-20,0))) -> 0 | U11: =IF(E11>F11,MIN(F11,6),0) -> 0
C12: =C11+1 -> 42406 | G12: =IF(L12="X",Gesamt!$D$9, IF(K12="X",Gesamt!$D$10, IF(F12-E12<0,F12-E12+24,F12-E12))) -> 0 | H12: =SUM(M12:Q12) -> 0 | I12: =IF(AND(NOT(R13),WEEKDAY(C13,2)=7), IF(E12>F12,F12,0), IF(AND(NOT(R12),WEEKDAY(C12,2)=7), IF(E12>F12,24-E12,F12-E12), 0)) -> 0 | J12: =IF(AND(R12,R13), IF(E12>F12,24-E12+F12,F12-E12), IF(R12, IF(E12>F12,24-E12,F12-E12), IF(AND(R13,E12>F12),F12,0))) -> 0 | K12: =IF(D12="Urlaub","X","") | L12: =IF(D12="Krank","X","") | M12: =IF(OR(R12,R13,WEEKDAY(C12,2)=7,WEEKDAY(C13,2)=7),"",SUM(S12:U12)) | N12: =IF(R12,U12,"") | O12: =IF(AND(NOT(R12),R13),SUM(S12:T12),"") | P12: =IF(AND(WEEKDAY(C12,2)=7,NOT(R12),NOT(R13)),U12,"") | Q12: =IF(AND(WEEKDAY(C13,2)=7,NOT(R12),NOT(R13)),SUM(S12:T12),"") -> 0 | R12: =NOT(ISERROR(MATCH(C12,Feiertage!$C:$C,0))) -> FALSE | S12: =IF(OR(E12>F12,F12>6), IF(E12<=6,6-E12,0), F12-E12) -> 0 | T12: =IF(E12>F12,MIN(24-E12,4), IF(E12>=20,F12-E12,MAX(F12-20,0))) -> 0 | U12: =IF(E12>F12,MIN(F12,6),0) -> 0
C13: =C12+1 -> 42407 | G13: =IF(L13="X",Gesamt!$D$9, IF(K13="X",Gesamt!$D$10, IF(F13-E13<0,F13-E13+24,F13-E13))) -> 0 | H13: =SUM(M13:Q13) -> 0 | I13: =IF(AND(NOT(R14),WEEKDAY(C14,2)=7), IF(E13>F13,F13,0), IF(AND(NOT(R13),WEEKDAY(C13,2)=7), IF(E13>F13,24-E13,F13-E13), 0)) -> 0 | J13: =IF(AND(R13,R14), IF(E13>F13,24-E13+F13,F13-E13), IF(R13, IF(E13>F13,24-E13,F13-E13), IF(AND(R14,E13>F13),F13,0))) -> 0 | K13: =IF(D13="Urlaub","X","") | L13: =IF(D13="Krank","X","") | M13: =IF(OR(R13,R14,WEEKDAY(C13,2)=7,WEEKDAY(C14,2)=7),"",SUM(S13:U13)) | N13: =IF(R13,U13,"") | O13: =IF(AND(NOT(R13),R14),SUM(S13:T13),"") | P13: =IF(AND(WEEKDAY(C13,2)=7,NOT(R13),NOT(R14)),U13,"") -> 0 | Q13: =IF(AND(WEEKDAY(C14,2)=7,NOT(R13),NOT(R14)),SUM(S13:T13),"") | R13: =NOT(ISERROR(MATCH(C13,Feiertage!$C:$C,0))) -> FALSE | S13: =IF(OR(E13>F13,F13>6), IF(E13<=6,6-E13,0), F13-E13) -> 0 | T13: =IF(E13>F13,MIN(24-E13,4), IF(E13>=20,F13-E13,MAX(F13-20,0))) -> 0 | U13: =IF(E13>F13,MIN(F13,6),0) -> 0
C14: =C13+1 -> 42408 | E14: Woche | G14: =SUM(G7:G13) -> 0 | H14: =SUM(H7:H13) -> 0 | I14: =SUM(I7:I13) -> 0 | J14: =SUM(J7:J13) -> 0 | K14: =COUNTIF(K7:K13,"X") -> 0 | L14: =COUNTIF(L7:L13,"X") -> 0 | R14: =NOT(ISERROR(MATCH(C14,Feiertage!$C:$C,0))) -> FALSE
B15: =WEEKNUM(C15,21) -> 6 | C15: =C13+1 -> 42408 | G15: =IF(L15="X",Gesamt!$D$9, IF(K15="X",Gesamt!$D$10, IF(F15-E15<0,F15-E15+24,F15-E15))) -> 0 | H15: =SUM(M15:Q15) -> 0 | I15: =IF(AND(NOT(R16),WEEKDAY(C16,2)=7), IF(E15>F15,F15,0), IF(AND(NOT(R15),WEEKDAY(C15,2)=7), IF(E15>F15,24-E15,F15-E15), 0)) -> 0 | J15: =IF(AND(R15,R16), IF(E15>F15,24-E15+F15,F15-E15), IF(R15, IF(E15>F15,24-E15,F15-E15), IF(AND(R16,E15>F15),F15,0))) -> 0 | K15: =IF(D15="Urlaub","X","") | L15: =IF(D15="Krank","X","") | M15: =IF(OR(R15,R16,WEEKDAY(C15,2)=7,WEEKDAY(C16,2)=7),"",SUM(S15:U15)) -> 0 | N15: =IF(R15,U15,"") | O15: =IF(AND(NOT(R15),R16),SUM(S15:T15),"") | P15: =IF(AND(WEEKDAY(C15,2)=7,NOT(R15),NOT(R16)),U15,"") | Q15: =IF(AND(WEEKDAY(C16,2)=7,NOT(R15),NOT(R16)),SUM(S15:T15),"") | R15: =NOT(ISERROR(MATCH(C15,Feiertage!$C:$C,0))) -> FALSE | S15: =IF(OR(E15>F15,F15>6), IF(E15<=6,6-E15,0), F15-E15) -> 0 | T15: =IF(E15>F15,MIN(24-E15,4), IF(E15>=20,F15-E15,MAX(F15-20,0))) -> 0 | U15: =IF(E15>F15,MIN(F15,6),0) -> 0
C16: =C15+1 -> 42409 | G16: =IF(L16="X",Gesamt!$D$9, IF(K16="X",Gesamt!$D$10, IF(F16-E16<0,F16-E16+24,F16-E16))) -> 0 | H16: =SUM(M16:Q16) -> 0 | I16: =IF(AND(NOT(R17),WEEKDAY(C17,2)=7), IF(E16>F16,F16,0), IF(AND(NOT(R16),WEEKDAY(C16,2)=7), IF(E16>F16,24-E16,F16-E16), 0)) -> 0 | J16: =IF(AND(R16,R17), IF(E16>F16,24-E16+F16,F16-E16), IF(R16, IF(E16>F16,24-E16,F16-E16), IF(AND(R17,E16>F16),F16,0))) -> 0 | K16: =IF(D16="Urlaub","X","") | L16: =IF(D16="Krank","X","") | M16: =IF(OR(R16,R17,WEEKDAY(C16,2)=7,WEEKDAY(C17,2)=7),"",SUM(S16:U16)) -> 0 | N16: =IF(R16,U16,"") | O16: =IF(AND(NOT(R16),R17),SUM(S16:T16),"") | P16: =IF(AND(WEEKDAY(C16,2)=7,NOT(R16),NOT(R17)),U16,"") | Q16: =IF(AND(WEEKDAY(C17,2)=7,NOT(R16),NOT(R17)),SUM(S16:T16),"") | R16: =NOT(ISERROR(MATCH(C16,Feiertage!$C:$C,0))) -> FALSE | S16: =IF(OR(E16>F16,F16>6), IF(E16<=6,6-E16,0), F16-E16) -> 0 | T16: =IF(E16>F16,MIN(24-E16,4), IF(E16>=20,F16-E16,MAX(F16-20,0))) -> 0 | U16: =IF(E16>F16,MIN(F16,6),0) -> 0
C17: =C16+1 -> 42410 | G17: =IF(L17="X",Gesamt!$D$9, IF(K17="X",Gesamt!$D$10, IF(F17-E17<0,F17-E17+24,F17-E17))) -> 0 | H17: =SUM(M17:Q17) -> 0 | I17: =IF(AND(NOT(R18),WEEKDAY(C18,2)=7), IF(E17>F17,F17,0), IF(AND(NOT(R17),WEEKDAY(C17,2)=7), IF(E17>F17,24-E17,F17-E17), 0)) -> 0 | J17: =IF(AND(R17,R18), IF(E17>F17,24-E17+F17,F17-E17), IF(R17, IF(E17>F17,24-E17,F17-E17), IF(AND(R18,E17>F17),F17,0))) -> 0 | K17: =IF(D17="Urlaub","X","") | L17: =IF(D17="Krank","X","") | M17: =IF(OR(R17,R18,WEEKDAY(C17,2)=7,WEEKDAY(C18,2)=7),"",SUM(S17:U17)) -> 0 | N17: =IF(R17,U17,"") | O17: =IF(AND(NOT(R17),R18),SUM(S17:T17),"") | P17: =IF(AND(WEEKDAY(C17,2)=7,NOT(R17),NOT(R18)),U17,"") | Q17: =IF(AND(WEEKDAY(C18,2)=7,NOT(R17),NOT(R18)),SUM(S17:T17),"") | R17: =NOT(ISERROR(MATCH(C17,Feiertage!$C:$C,0))) -> FALSE | S17: =IF(OR(E17>F17,F17>6), IF(E17<=6,6-E17,0), F17-E17) -> 0 | T17: =IF(E17>F17,MIN(24-E17,4), IF(E17>=20,F17-E17,MAX(F17-20,0))) -> 0 | U17: =IF(E17>F17,MIN(F17,6),0) -> 0
C18: =C17+1 -> 42411 | G18: =IF(L18="X",Gesamt!$D$9, IF(K18="X",Gesamt!$D$10, IF(F18-E18<0,F18-E18+24,F18-E18))) -> 0 | H18: =SUM(M18:Q18) -> 0 | I18: =IF(AND(NOT(R19),WEEKDAY(C19,2)=7), IF(E18>F18,F18,0), IF(AND(NOT(R18),WEEKDAY(C18,2)=7), IF(E18>F18,24-E18,F18-E18), 0)) -> 0 | J18: =IF(AND(R18,R19), IF(E18>F18,24-E18+F18,F18-E18), IF(R18, IF(E18>F18,24-E18,F18-E18), IF(AND(R19,E18>F18),F18,0))) -> 0 | K18: =IF(D18="Urlaub","X","") | L18: =IF(D18="Krank","X","") | M18: =IF(OR(R18,R19,WEEKDAY(C18,2)=7,WEEKDAY(C19,2)=7),"",SUM(S18:U18)) -> 0 | N18: =IF(R18,U18,"") | O18: =IF(AND(NOT(R18),R19),SUM(S18:T18),"") | P18: =IF(AND(WEEKDAY(C18,2)=7,NOT(R18),NOT(R19)),U18,"") | Q18: =IF(AND(WEEKDAY(C19,2)=7,NOT(R18),NOT(R19)),SUM(S18:T18),"") | R18: =NOT(ISERROR(MATCH(C18,Feiertage!$C:$C,0))) -> FALSE | S18: =IF(OR(E18>F18,F18>6), IF(E18<=6,6-E18,0), F18-E18) -> 0 | T18: =IF(E18>F18,MIN(24-E18,4), IF(E18>=20,F18-E18,MAX(F18-20,0))) -> 0 | U18: =IF(E18>F18,MIN(F18,6),0) -> 0
C19: =C18+1 -> 42412 | G19: =IF(L19="X",Gesamt!$D$9, IF(K19="X",Gesamt!$D$10, IF(F19-E19<0,F19-E19+24,F19-E19))) -> 0 | H19: =SUM(M19:Q19) -> 0 | I19: =IF(AND(NOT(R20),WEEKDAY(C20,2)=7), IF(E19>F19,F19,0), IF(AND(NOT(R19),WEEKDAY(C19,2)=7), IF(E19>F19,24-E19,F19-E19), 0)) -> 0 | J19: =IF(AND(R19,R20), IF(E19>F19,24-E19+F19,F19-E19), IF(R19, IF(E19>F19,24-E19,F19-E19), IF(AND(R20,E19>F19),F19,0))) -> 0 | K19: =IF(D19="Urlaub","X","") | L19: =IF(D19="Krank","X","") | M19: =IF(OR(R19,R20,WEEKDAY(C19,2)=7,WEEKDAY(C20,2)=7),"",SUM(S19:U19)) -> 0 | N19: =IF(R19,U19,"") | O19: =IF(AND(NOT(R19),R20),SUM(S19:T19),"") | P19: =IF(AND(WEEKDAY(C19,2)=7,NOT(R19),NOT(R20)),U19,"") | Q19: =IF(AND(WEEKDAY(C20,2)=7,NOT(R19),NOT(R20)),SUM(S19:T19),"") | R19: =NOT(ISERROR(MATCH(C19,Feiertage!$C:$C,0))) -> FALSE | S19: =IF(OR(E19>F19,F19>6), IF(E19<=6,6-E19,0), F19-E19) -> 0 | T19: =IF(E19>F19,MIN(24-E19,4), IF(E19>=20,F19-E19,MAX(F19-20,0))) -> 0 | U19: =IF(E19>F19,MIN(F19,6),0) -> 0
C20: =C19+1 -> 42413 | G20: =IF(L20="X",Gesamt!$D$9, IF(K20="X",Gesamt!$D$10, IF(F20-E20<0,F20-E20+24,F20-E20))) -> 0 | H20: =SUM(M20:Q20) -> 0 | I20: =IF(AND(NOT(R21),WEEKDAY(C21,2)=7), IF(E20>F20,F20,0), IF(AND(NOT(R20),WEEKDAY(C20,2)=7), IF(E20>F20,24-E20,F20-E20), 0)) -> 0 | J20: =IF(AND(R20,R21), IF(E20>F20,24-E20+F20,F20-E20), IF(R20, IF(E20>F20,24-E20,F20-E20), IF(AND(R21,E20>F20),F20,0))) -> 0 | K20: =IF(D20="Urlaub","X","") | L20: =IF(D20="Krank","X","") | M20: =IF(OR(R20,R21,WEEKDAY(C20,2)=7,WEEKDAY(C21,2)=7),"",SUM(S20:U20)) | N20: =IF(R20,U20,"") | O20: =IF(AND(NOT(R20),R21),SUM(S20:T20),"") | P20: =IF(AND(WEEKDAY(C20,2)=7,NOT(R20),NOT(R21)),U20,"") | Q20: =IF(AND(WEEKDAY(C21,2)=7,NOT(R20),NOT(R21)),SUM(S20:T20),"") -> 0 | R20: =NOT(ISERROR(MATCH(C20,Feiertage!$C:$C,0))) -> FALSE | S20: =IF(OR(E20>F20,F20>6), IF(E20<=6,6-E20,0), F20-E20) -> 0 | T20: =IF(E20>F20,MIN(24-E20,4), IF(E20>=20,F20-E20,MAX(F20-20,0))) -> 0 | U20: =IF(E20>F20,MIN(F20,6),0) -> 0
C21: =C20+1 -> 42414 | G21: =IF(L21="X",Gesamt!$D$9, IF(K21="X",Gesamt!$D$10, IF(F21-E21<0,F21-E21+24,F21-E21))) -> 0 | H21: =SUM(M21:Q21) -> 0 | I21: =IF(AND(NOT(R22),WEEKDAY(C22,2)=7), IF(E21>F21,F21,0), IF(AND(NOT(R21),WEEKDAY(C21,2)=7), IF(E21>F21,24-E21,F21-E21), 0)) -> 0 | J21: =IF(AND(R21,R22), IF(E21>F21,24-E21+F21,F21-E21), IF(R21, IF(E21>F21,24-E21,F21-E21), IF(AND(R22,E21>F21),F21,0))) -> 0 | K21: =IF(D21="Urlaub","X","") | L21: =IF(D21="Krank","X","") | M21: =IF(OR(R21,R22,WEEKDAY(C21,2)=7,WEEKDAY(C22,2)=7),"",SUM(S21:U21)) | N21: =IF(R21,U21,"") | O21: =IF(AND(NOT(R21),R22),SUM(S21:T21),"") | P21: =IF(AND(WEEKDAY(C21,2)=7,NOT(R21),NOT(R22)),U21,"") -> 0 | Q21: =IF(AND(WEEKDAY(C22,2)=7,NOT(R21),NOT(R22)),SUM(S21:T21),"") | R21: =NOT(ISERROR(MATCH(C21,Feiertage!$C:$C,0))) -> FALSE | S21: =IF(OR(E21>F21,F21>6), IF(E21<=6,6-E21,0), F21-E21) -> 0 | T21: =IF(E21>F21,MIN(24-E21,4), IF(E21>=20,F21-E21,MAX(F21-20,0))) -> 0 | U21: =IF(E21>F21,MIN(F21,6),0) -> 0
C22: =C21+1 -> 42415 | E22: Woche | G22: =SUM(G15:G21) -> 0 | H22: =SUM(H15:H21) -> 0 | I22: =SUM(I15:I21) -> 0 | J22: =SUM(J15:J21) -> 0 | K22: =COUNTIF(K15:K21,"X") -> 0 | L22: =COUNTIF(L15:L21,"X") -> 0 | R22: =NOT(ISERROR(MATCH(C22,Feiertage!$C:$C,0))) -> FALSE
B23: =WEEKNUM(C23,21) -> 7 | C23: =C21+1 -> 42415 | G23: =IF(L23="X",Gesamt!$D$9, IF(K23="X",Gesamt!$D$10, IF(F23-E23<0,F23-E23+24,F23-E23))) -> 0 | H23: =SUM(M23:Q23) -> 0 | I23: =IF(AND(NOT(R24),WEEKDAY(C24,2)=7), IF(E23>F23,F23,0), IF(AND(NOT(R23),WEEKDAY(C23,2)=7), IF(E23>F23,24-E23,F23-E23), 0)) -> 0 | J23: =IF(AND(R23,R24), IF(E23>F23,24-E23+F23,F23-E23), IF(R23, IF(E23>F23,24-E23,F23-E23), IF(AND(R24,E23>F23),F23,0))) -> 0 | K23: =IF(D23="Urlaub","X","") | L23: =IF(D23="Krank","X","") | M23: =IF(OR(R23,R24,WEEKDAY(C23,2)=7,WEEKDAY(C24,2)=7),"",SUM(S23:U23)) -> 0 | N23: =IF(R23,U23,"") | O23: =IF(AND(NOT(R23),R24),SUM(S23:T23),"") | P23: =IF(AND(WEEKDAY(C23,2)=7,NOT(R23),NOT(R24)),U23,"") | Q23: =IF(AND(WEEKDAY(C24,2)=7,NOT(R23),NOT(R24)),SUM(S23:T23),"") | R23: =NOT(ISERROR(MATCH(C23,Feiertage!$C:$C,0))) -> FALSE | S23: =IF(OR(E23>F23,F23>6), IF(E23<=6,6-E23,0), F23-E23) -> 0 | T23: =IF(E23>F23,MIN(24-E23,4), IF(E23>=20,F23-E23,MAX(F23-20,0))) -> 0 | U23: =IF(E23>F23,MIN(F23,6),0) -> 0
C24: =C23+1 -> 42416 | G24: =IF(L24="X",Gesamt!$D$9, IF(K24="X",Gesamt!$D$10, IF(F24-E24<0,F24-E24+24,F24-E24))) -> 0 | H24: =SUM(M24:Q24) -> 0 | I24: =IF(AND(NOT(R25),WEEKDAY(C25,2)=7), IF(E24>F24,F24,0), IF(AND(NOT(R24),WEEKDAY(C24,2)=7), IF(E24>F24,24-E24,F24-E24), 0)) -> 0 | J24: =IF(AND(R24,R25), IF(E24>F24,24-E24+F24,F24-E24), IF(R24, IF(E24>F24,24-E24,F24-E24), IF(AND(R25,E24>F24),F24,0))) -> 0 | K24: =IF(D24="Urlaub","X","") | L24: =IF(D24="Krank","X","") | M24: =IF(OR(R24,R25,WEEKDAY(C24,2)=7,WEEKDAY(C25,2)=7),"",SUM(S24:U24)) -> 0 | N24: =IF(R24,U24,"") | O24: =IF(AND(NOT(R24),R25),SUM(S24:T24),"") | P24: =IF(AND(WEEKDAY(C24,2)=7,NOT(R24),NOT(R25)),U24,"") | Q24: =IF(AND(WEEKDAY(C25,2)=7,NOT(R24),NOT(R25)),SUM(S24:T24),"") | R24: =NOT(ISERROR(MATCH(C24,Feiertage!$C:$C,0))) -> FALSE | S24: =IF(OR(E24>F24,F24>6), IF(E24<=6,6-E24,0), F24-E24) -> 0 | T24: =IF(E24>F24,MIN(24-E24,4), IF(E24>=20,F24-E24,MAX(F24-20,0))) -> 0 | U24: =IF(E24>F24,MIN(F24,6),0) -> 0
C25: =C24+1 -> 42417 | G25: =IF(L25="X",Gesamt!$D$9, IF(K25="X",Gesamt!$D$10, IF(F25-E25<0,F25-E25+24,F25-E25))) -> 0 | H25: =SUM(M25:Q25) -> 0 | I25: =IF(AND(NOT(R26),WEEKDAY(C26,2)=7), IF(E25>F25,F25,0), IF(AND(NOT(R25),WEEKDAY(C25,2)=7), IF(E25>F25,24-E25,F25-E25), 0)) -> 0 | J25: =IF(AND(R25,R26), IF(E25>F25,24-E25+F25,F25-E25), IF(R25, IF(E25>F25,24-E25,F25-E25), IF(AND(R26,E25>F25),F25,0))) -> 0 | K25: =IF(D25="Urlaub","X","") | L25: =IF(D25="Krank","X","") | M25: =IF(OR(R25,R26,WEEKDAY(C25,2)=7,WEEKDAY(C26,2)=7),"",SUM(S25:U25)) -> 0 | N25: =IF(R25,U25,"") | O25: =IF(AND(NOT(R25),R26),SUM(S25:T25),"") | P25: =IF(AND(WEEKDAY(C25,2)=7,NOT(R25),NOT(R26)),U25,"") | Q25: =IF(AND(WEEKDAY(C26,2)=7,NOT(R25),NOT(R26)),SUM(S25:T25),"") | R25: =NOT(ISERROR(MATCH(C25,Feiertage!$C:$C,0))) -> FALSE | S25: =IF(OR(E25>F25,F25>6), IF(E25<=6,6-E25,0), F25-E25) -> 0 | T25: =IF(E25>F25,MIN(24-E25,4), IF(E25>=20,F25-E25,MAX(F25-20,0))) -> 0 | U25: =IF(E25>F25,MIN(F25,6),0) -> 0
C26: =C25+1 -> 42418 | G26: =IF(L26="X",Gesamt!$D$9, IF(K26="X",Gesamt!$D$10, IF(F26-E26<0,F26-E26+24,F26-E26))) -> 0 | H26: =SUM(M26:Q26) -> 0 | I26: =IF(AND(NOT(R27),WEEKDAY(C27,2)=7), IF(E26>F26,F26,0), IF(AND(NOT(R26),WEEKDAY(C26,2)=7), IF(E26>F26,24-E26,F26-E26), 0)) -> 0 | J26: =IF(AND(R26,R27), IF(E26>F26,24-E26+F26,F26-E26), IF(R26, IF(E26>F26,24-E26,F26-E26), IF(AND(R27,E26>F26),F26,0))) -> 0 | K26: =IF(D26="Urlaub","X","") | L26: =IF(D26="Krank","X","") | M26: =IF(OR(R26,R27,WEEKDAY(C26,2)=7,WEEKDAY(C27,2)=7),"",SUM(S26:U26)) -> 0 | N26: =IF(R26,U26,"") | O26: =IF(AND(NOT(R26),R27),SUM(S26:T26),"") | P26: =IF(AND(WEEKDAY(C26,2)=7,NOT(R26),NOT(R27)),U26,"") | Q26: =IF(AND(WEEKDAY(C27,2)=7,NOT(R26),NOT(R27)),SUM(S26:T26),"") | R26: =NOT(ISERROR(MATCH(C26,Feiertage!$C:$C,0))) -> FALSE | S26: =IF(OR(E26>F26,F26>6), IF(E26<=6,6-E26,0), F26-E26) -> 0 | T26: =IF(E26>F26,MIN(24-E26,4), IF(E26>=20,F26-E26,MAX(F26-20,0))) -> 0 | U26: =IF(E26>F26,MIN(F26,6),0) -> 0
C27: =C26+1 -> 42419 | G27: =IF(L27="X",Gesamt!$D$9, IF(K27="X",Gesamt!$D$10, IF(F27-E27<0,F27-E27+24,F27-E27))) -> 0 | H27: =SUM(M27:Q27) -> 0 | I27: =IF(AND(NOT(R28),WEEKDAY(C28,2)=7), IF(E27>F27,F27,0), IF(AND(NOT(R27),WEEKDAY(C27,2)=7), IF(E27>F27,24-E27,F27-E27), 0)) -> 0 | J27: =IF(AND(R27,R28), IF(E27>F27,24-E27+F27,F27-E27), IF(R27, IF(E27>F27,24-E27,F27-E27), IF(AND(R28,E27>F27),F27,0))) -> 0 | K27: =IF(D27="Urlaub","X","") | L27: =IF(D27="Krank","X","") | M27: =IF(OR(R27,R28,WEEKDAY(C27,2)=7,WEEKDAY(C28,2)=7),"",SUM(S27:U27)) -> 0 | N27: =IF(R27,U27,"") | O27: =IF(AND(NOT(R27),R28),SUM(S27:T27),"") | P27: =IF(AND(WEEKDAY(C27,2)=7,NOT(R27),NOT(R28)),U27,"") | Q27: =IF(AND(WEEKDAY(C28,2)=7,NOT(R27),NOT(R28)),SUM(S27:T27),"") | R27: =NOT(ISERROR(MATCH(C27,Feiertage!$C:$C,0))) -> FALSE | S27: =IF(OR(E27>F27,F27>6), IF(E27<=6,6-E27,0), F27-E27) -> 0 | T27: =IF(E27>F27,MIN(24-E27,4), IF(E27>=20,F27-E27,MAX(F27-20,0))) -> 0 | U27: =IF(E27>F27,MIN(F27,6),0) -> 0
C28: =C27+1 -> 42420 | G28: =IF(L28="X",Gesamt!$D$9, IF(K28="X",Gesamt!$D$10, IF(F28-E28<0,F28-E28+24,F28-E28))) -> 0 | H28: =SUM(M28:Q28) -> 0 | I28: =IF(AND(NOT(R29),WEEKDAY(C29,2)=7), IF(E28>F28,F28,0), IF(AND(NOT(R28),WEEKDAY(C28,2)=7), IF(E28>F28,24-E28,F28-E28), 0)) -> 0 | J28: =IF(AND(R28,R29), IF(E28>F28,24-E28+F28,F28-E28), IF(R28, IF(E28>F28,24-E28,F28-E28), IF(AND(R29,E28>F28),F28,0))) -> 0 | K28: =IF(D28="Urlaub","X","") | L28: =IF(D28="Krank","X","") | M28: =IF(OR(R28,R29,WEEKDAY(C28,2)=7,WEEKDAY(C29,2)=7),"",SUM(S28:U28)) | N28: =IF(R28,U28,"") | O28: =IF(AND(NOT(R28),R29),SUM(S28:T28),"") | P28: =IF(AND(WEEKDAY(C28,2)=7,NOT(R28),NOT(R29)),U28,"") | Q28: =IF(AND(WEEKDAY(C29,2)=7,NOT(R28),NOT(R29)),SUM(S28:T28),"") -> 0 | R28: =NOT(ISERROR(MATCH(C28,Feiertage!$C:$C,0))) -> FALSE | S28: =IF(OR(E28>F28,F28>6), IF(E28<=6,6-E28,0), F28-E28) -> 0 | T28: =IF(E28>F28,MIN(24-E28,4), IF(E28>=20,F28-E28,MAX(F28-20,0))) -> 0 | U28: =IF(E28>F28,MIN(F28,6),0) -> 0
C29: =C28+1 -> 42421 | G29: =IF(L29="X",Gesamt!$D$9, IF(K29="X",Gesamt!$D$10, IF(F29-E29<0,F29-E29+24,F29-E29))) -> 0 | H29: =SUM(M29:Q29) -> 0 | I29: =IF(AND(NOT(R30),WEEKDAY(C30,2)=7), IF(E29>F29,F29,0), IF(AND(NOT(R29),WEEKDAY(C29,2)=7), IF(E29>F29,24-E29,F29-E29), 0)) -> 0 | J29: =IF(AND(R29,R30), IF(E29>F29,24-E29+F29,F29-E29), IF(R29, IF(E29>F29,24-E29,F29-E29), IF(AND(R30,E29>F29),F29,0))) -> 0 | K29: =IF(D29="Urlaub","X","") | L29: =IF(D29="Krank","X","") | M29: =IF(OR(R29,R30,WEEKDAY(C29,2)=7,WEEKDAY(C30,2)=7),"",SUM(S29:U29)) | N29: =IF(R29,U29,"") | O29: =IF(AND(NOT(R29),R30),SUM(S29:T29),"") | P29: =IF(AND(WEEKDAY(C29,2)=7,NOT(R29),NOT(R30)),U29,"") -> 0 | Q29: =IF(AND(WEEKDAY(C30,2)=7,NOT(R29),NOT(R30)),SUM(S29:T29),"") | R29: =NOT(ISERROR(MATCH(C29,Feiertage!$C:$C,0))) -> FALSE | S29: =IF(OR(E29>F29,F29>6), IF(E29<=6,6-E29,0), F29-E29) -> 0 | T29: =IF(E29>F29,MIN(24-E29,4), IF(E29>=20,F29-E29,MAX(F29-20,0))) -> 0 | U29: =IF(E29>F29,MIN(F29,6),0) -> 0
C30: =C29+1 -> 42422 | E30: Woche | G30: =SUM(G23:G29) -> 0 | H30: =SUM(H23:H29) -> 0 | I30: =SUM(I23:I29) -> 0 | J30: =SUM(J23:J29) -> 0 | K30: =COUNTIF(K23:K29,"X") -> 0 | L30: =COUNTIF(L23:L29,"X") -> 0 | R30: =NOT(ISERROR(MATCH(C30,Feiertage!$C:$C,0))) -> FALSE
B31: =WEEKNUM(C31,21) -> 8 | C31: =C29+1 -> 42422 | G31: =IF(L31="X",Gesamt!$D$9, IF(K31="X",Gesamt!$D$10, IF(F31-E31<0,F31-E31+24,F31-E31))) -> 0 | H31: =SUM(M31:Q31) -> 0 | I31: =IF(AND(NOT(R32),WEEKDAY(C32,2)=7), IF(E31>F31,F31,0), IF(AND(NOT(R31),WEEKDAY(C31,2)=7), IF(E31>F31,24-E31,F31-E31), 0)) -> 0 | J31: =IF(AND(R31,R32), IF(E31>F31,24-E31+F31,F31-E31), IF(R31, IF(E31>F31,24-E31,F31-E31), IF(AND(R32,E31>F31),F31,0))) -> 0 | K31: =IF(D31="Urlaub","X","") | L31: =IF(D31="Krank","X","") | M31: =IF(OR(R31,R32,WEEKDAY(C31,2)=7,WEEKDAY(C32,2)=7),"",SUM(S31:U31)) -> 0 | N31: =IF(R31,U31,"") | O31: =IF(AND(NOT(R31),R32),SUM(S31:T31),"") | P31: =IF(AND(WEEKDAY(C31,2)=7,NOT(R31),NOT(R32)),U31,"") | Q31: =IF(AND(WEEKDAY(C32,2)=7,NOT(R31),NOT(R32)),SUM(S31:T31),"") | R31: =NOT(ISERROR(MATCH(C31,Feiertage!$C:$C,0))) -> FALSE | S31: =IF(OR(E31>F31,F31>6), IF(E31<=6,6-E31,0), F31-E31) -> 0 | T31: =IF(E31>F31,MIN(24-E31,4), IF(E31>=20,F31-E31,MAX(F31-20,0))) -> 0 | U31: =IF(E31>F31,MIN(F31,6),0) -> 0
C32: =C31+1 -> 42423 | G32: =IF(L32="X",Gesamt!$D$9, IF(K32="X",Gesamt!$D$10, IF(F32-E32<0,F32-E32+24,F32-E32))) -> 0 | H32: =SUM(M32:Q32) -> 0 | I32: =IF(AND(NOT(R33),WEEKDAY(C33,2)=7), IF(E32>F32,F32,0), IF(AND(NOT(R32),WEEKDAY(C32,2)=7), IF(E32>F32,24-E32,F32-E32), 0)) -> 0 | J32: =IF(AND(R32,R33), IF(E32>F32,24-E32+F32,F32-E32), IF(R32, IF(E32>F32,24-E32,F32-E32), IF(AND(R33,E32>F32),F32,0))) -> 0 | K32: =IF(D32="Urlaub","X","") | L32: =IF(D32="Krank","X","") | M32: =IF(OR(R32,R33,WEEKDAY(C32,2)=7,WEEKDAY(C33,2)=7),"",SUM(S32:U32)) -> 0 | N32: =IF(R32,U32,"") | O32: =IF(AND(NOT(R32),R33),SUM(S32:T32),"") | P32: =IF(AND(WEEKDAY(C32,2)=7,NOT(R32),NOT(R33)),U32,"") | Q32: =IF(AND(WEEKDAY(C33,2)=7,NOT(R32),NOT(R33)),SUM(S32:T32),"") | R32: =NOT(ISERROR(MATCH(C32,Feiertage!$C:$C,0))) -> FALSE | S32: =IF(OR(E32>F32,F32>6), IF(E32<=6,6-E32,0), F32-E32) -> 0 | T32: =IF(E32>F32,MIN(24-E32,4), IF(E32>=20,F32-E32,MAX(F32-20,0))) -> 0 | U32: =IF(E32>F32,MIN(F32,6),0) -> 0
C33: =C32+1 -> 42424 | G33: =IF(L33="X",Gesamt!$D$9, IF(K33="X",Gesamt!$D$10, IF(F33-E33<0,F33-E33+24,F33-E33))) -> 0 | H33: =SUM(M33:Q33) -> 0 | I33: =IF(AND(NOT(R34),WEEKDAY(C34,2)=7), IF(E33>F33,F33,0), IF(AND(NOT(R33),WEEKDAY(C33,2)=7), IF(E33>F33,24-E33,F33-E33), 0)) -> 0 | J33: =IF(AND(R33,R34), IF(E33>F33,24-E33+F33,F33-E33), IF(R33, IF(E33>F33,24-E33,F33-E33), IF(AND(R34,E33>F33),F33,0))) -> 0 | K33: =IF(D33="Urlaub","X","") | L33: =IF(D33="Krank","X","") | M33: =IF(OR(R33,R34,WEEKDAY(C33,2)=7,WEEKDAY(C34,2)=7),"",SUM(S33:U33)) -> 0 | N33: =IF(R33,U33,"") | O33: =IF(AND(NOT(R33),R34),SUM(S33:T33),"") | P33: =IF(AND(WEEKDAY(C33,2)=7,NOT(R33),NOT(R34)),U33,"") | Q33: =IF(AND(WEEKDAY(C34,2)=7,NOT(R33),NOT(R34)),SUM(S33:T33),"") | R33: =NOT(ISERROR(MATCH(C33,Feiertage!$C:$C,0))) -> FALSE | S33: =IF(OR(E33>F33,F33>6), IF(E33<=6,6-E33,0), F33-E33) -> 0 | T33: =IF(E33>F33,MIN(24-E33,4), IF(E33>=20,F33-E33,MAX(F33-20,0))) -> 0 | U33: =IF(E33>F33,MIN(F33,6),0) -> 0
