Workbook

Sheet Tabelle1
A1: Wert | B1: In Tabelle 2 vorhanden?
A2: 1 | B2: =VLOOKUP(A2,Tabelle2!$A$2:$A$14,1,0) -> 1
A3: 2 | B3: =VLOOKUP(A3,Tabelle2!$A$2:$A$14,1,0) -> 2
A4: 3 | B4: =VLOOKUP(A4,Tabelle2!$A$2:$A$14,1,0) -> 3
A5: 4 | B5: =VLOOKUP(A5,Tabelle2!$A$2:$A$14,1,0) -> #N/A
A6: 5 | B6: =VLOOKUP(A6,Tabelle2!$A$2:$A$14,1,0) -> 5
A7: 6 | B7: =VLOOKUP(A7,Tabelle2!$A$2:$A$14,1,0) -> #N/A
A8: 7 | B8: =VLOOKUP(A8,Tabelle2!$A$2:$A$14,1,0) -> #N/A
A9: 8 | B9: =VLOOKUP(A9,Tabelle2!$A$2:$A$14,1,0) -> #N/A
A10: 9 | B10: =VLOOKUP(A10,Tabelle2!$A$2:$A$14,1,0) -> 9
A11: 10 | B11: =VLOOKUP(A11,Tabelle2!$A$2:$A$14,1,0) -> #N/A
A12: 11 | B12: =VLOOKUP(A12,Tabelle2!$A$2:$A$14,1,0) -> #N/A
A13: 12 | B13: =VLOOKUP(A13,Tabelle2!$A$2:$A$14,1,0) -> #N/A
... A21: 20 | B21: =VLOOKUP(A21,Tabelle2!$A$2:$A$14,1,0) -> 20

Sheet Tabelle2
A1: Wert | B1: In Tabelle 1 vorhanden?
A2: 1 | B2: =VLOOKUP(A2,Tabelle1!$A$2:$A$21,1,0) -> 1
A3: 2 | B3: =VLOOKUP(A3,Tabelle1!$A$2:$A$21,1,0) -> 2
A4: 3 | B4: =VLOOKUP(A4,Tabelle1!$A$2:$A$21,1,0) -> 3
A5: 5 | B5: =VLOOKUP(A5,Tabelle1!$A$2:$A$21,1,0) -> 5
A6: 9 | B6: =VLOOKUP(A6,Tabelle1!$A$2:$A$21,1,0) -> 9
A7: 14 | B7: =VLOOKUP(A7,Tabelle1!$A$2:$A$21,1,0) -> 14
A8: 17 | B8: =VLOOKUP(A8,Tabelle1!$A$2:$A$21,1,0) -> 17
A9: 19 | B9: =VLOOKUP(A9,Tabelle1!$A$2:$A$21,1,0) -> 19
A10: 20 | B10: =VLOOKUP(A10,Tabelle1!$A$2:$A$21,1,0) -> 20
A11: 21 | B11: =VLOOKUP(A11,Tabelle1!$A$2:$A$21,1,0) -> #N/A
A12: 23 | B12: =VLOOKUP(A12,Tabelle1!$A$2:$A$21,1,0) -> #N/A
A13: 25 | B13: =VLOOKUP(A13,Tabelle1!$A$2:$A$21,1,0) -> #N/A
A14: 29 | B14: =VLOOKUP(A14,Tabelle1!$A$2:$A$21,1,0) -> #N/A
