Workbook

Sheet Entwicklung
A1: Siege | B1: 1950 | C1: 1951 | D1: 1952 | E1: 1953 | F1: 1954 | G1: 1955 | H1: 1956 | I1: 1957 | J1: 1958 | K1: 1959 | L1: 1960 | M1: 1961 | N1: 1962 | O1: 1963 | P1: 1964 | Q1: 1965 | R1: 1966 | S1: 1967 | T1: 1968 | U1: 1969 | V1: 1970 | W1: 1971 | X1: 1972 | Y1: 1973 | Z1: 1974 | AA1: 1975 | AB1: 1976 | AC1: 1977 | AD1: 1978 | AE1: 1979 | AF1: 1980 | AG1: 1981 | AH1: 1982 | AI1: 1983 | AJ1: 1984 | AK1: 1985 | AL1: 1986 | AM1: 1987 | AN1: 1988 | AO1: 1989 | AP1: 1990 | AQ1: 1991 | AR1: 1992 | AS1: 1993 | AT1: 1994 | AU1: 1995 | AV1: 1996 | AW1: 1997 | AX1: 1998 | AY1: 1999 | AZ1: 2000 | BA1: 2001 | BB1: 2002 | BC1: 2003 | BD1: 2004 | BE1: 2005 | BF1: 2006 | BG1: 2007 | BH1: 2008 | BI1: 2009 | BJ1: 2010 | BK1: 2011 | BL1: 2012 | BM1: 2013 | BN1: 2014 | BO1: 2015 | BP1: 2016 | BQ1: 2017 | BR1: 2018 | BS1: 2019 | BT1: 2020 | BU1: 2021 | BW1: Gesamt
A2: Ferrari | C2: 3 | D2: 7 | E2: 7 | F2: 2 | G2: 1 | H2: 5 | J2: 2 | K2: 2 | L2: 1 | M2: 5 | O2: 1 | P2: 3 | R2: 2 | T2: 1 | V2: 4 | W2: 2 | X2: 1 | Z2: 3 | AA2: 6 | AB2: 6 | AC2: 4 | AD2: 5 | AE2: 6 | AG2: 2 | AH2: 3 | AI2: 4 | AJ2: 1 | AK2: 2 | AM2: 2 | AN2: 1 | AO2: 3 | AP2: 6 | AT2: 1 | AU2: 1 | AV2: 3 | AW2: 5 | AX2: 6 | AY2: 6 | AZ2: 10 | BA2: 9 | BB2: 15 | BC2: 8 | BD2: 15 | BE2: 1 | BF2: 9 | BG2: 9 | BH2: 8 | BI2: 1 | BJ2: 5 | BK2: 1 | BL2: 3 | BM2: 2 | BO2: 3 | BQ2: 5 | BR2: 6 | BS2: 3 | BW2: =SUM(B2:BU2) -> 238 | BX2: =A2 -> Ferrari
A3: McLaren | T3: 3 | U3: 1 | X3: 1 | Y3: 3 | Z3: 4 | AA3: 3 | AB3: 6 | AC3: 3 | AG3: 1 | AH3: 4 | AI3: 1 | AJ3: 12 | AK3: 6 | AL3: 4 | AM3: 3 | AN3: 15 | AO3: 10 | AP3: 6 | AQ3: 8 | AR3: 5 | AS3: 5 | AW3: 3 | AX3: 9 | AY3: 7 | AZ3: 7 | BA3: 4 | BB3: 1 | BC3: 2 | BD3: 1 | BE3: 10 | BG3: 8 | BH3: 6 | BI3: 2 | BJ3: 5 | BK3: 6 | BL3: 7 | BW3: =SUM(B3:BU3) -> 182 | BX3: =A3 -> McLaren
A4: Mercedes-Benz | F4: 4 | G4: 5 | BL4: 1 | BM4: 3 | BN4: 16 | BO4: 16 | BP4: 19 | BQ4: 12 | BR4: 11 | BS4: 15 | BT4: 13 | BU4: 1 | BW4: =SUM(B4:BU4) -> 116 | BX4: =A4 -> Mercedes-Benz
A5: Williams | AE5: 5 | AF5: 6 | AG5: 4 | AH5: 1 | AI5: 1 | AJ5: 1 | AK5: 4 | AL5: 9 | AM5: 9 | AO5: 2 | AP5: 2 | AQ5: 7 | AR5: 10 | AS5: 10 | AT5: 7 | AU5: 5 | AV5: 12 | AW5: 8 | BA5: 4 | BB5: 1 | BC5: 4 | BD5: 1 | BL5: 1 | BW5: =SUM(B5:BU5) -> 114 | BX5: =A5 -> Williams
A6: Lotus | L6: 2 | M6: 3 | N6: 3 | O6: 7 | P6: 3 | Q6: 6 | R6: 1 | S6: 4 | T6: 5 | U6: 2 | V6: 6 | X6: 5 | Y6: 7 | Z6: 3 | AB6: 1 | AC6: 5 | AD6: 8 | AH6: 1 | AK6: 3 | AL6: 2 | AM6: 2 | BL6: 1 | BM6: 1 | BW6: =SUM(B6:BU6) -> 81 | BX6: =A6 -> Lotus
A7: Red Bull Racing | BI7: 6 | BJ7: 9 | BK7: 12 | BL7: 7 | BM7: 13 | BN7: 3 | BP7: 2 | BQ7: 3 | BR7: 4 | BS7: 3 | BT7: 2 | BW7: =SUM(B7:BU7) -> 64 | BX7: =A7 -> Red Bull Racing
A8: Brabham | P8: 2 | R8: 4 | S8: 4 | U8: 2 | V8: 1 | Z8: 3 | AA8: 2 | AD8: 2 | AF8: 3 | AG8: 3 | AH8: 2 | AI8: 4 | AJ8: 2 | AK8: 1 | BW8: =SUM(B8:BU8) -> 35 | BX8: =A8 -> Brabham
A9: Renault | AE9: 1 | AF9: 3 | AG9: 3 | AH9: 4 | AI9: 4 | BC9: 1 | BD9: 1 | BE9: 8 | BF9: 8 | BH9: 2 | BW9: =SUM(B9:BU9) -> 35 | BX9: =A9 -> Renault
A10: Benetton | AL10: 1 | AO10: 1 | AP10: 2 | AQ10: 1 | AR10: 1 | AS10: 1 | AT10: 8 | AU10: 11 | AW10: 1 | BW10: =SUM(B10:BU10) -> 27 | BX10: =A10 -> Benetton
A11: Tyrrell | W11: 7 | X11: 4 | Y11: 5 | Z11: 2 | AA11: 1 | AB11: 1 | AD11: 1 | AH11: 1 | AI11: 1 | BW11: =SUM(B11:BU11) -> 23 | BX11: =A11 -> Tyrrell
A12: BRM | K12: 1 | N12: 4 | O12: 2 | P12: 2 | Q12: 3 | R12: 1 | V12: 1 | W12: 2 | X12: 1 | BW12: =SUM(B12:BU12) -> 17 | BX12: =A12 -> BRM
A13: Cooper | J13: 2 | K13: 5 | L13: 6 | N13: 1 | R13: 1 | S13: 1 | BW13: =SUM(B13:BU13) -> 16 | BX13: =A13 -> Cooper
A14: Alfa Romeo | B14: 6 | C14: 4 | BW14: =SUM(B14:BU14) -> 10 | BX14: =A14 -> Alfa Romeo
A15: Ligier | AC15: 1 | AE15: 3 | AF15: 2 | AG15: 2 | AV15: 1 | BW15: =SUM(B15:BU15) -> 9 | BX15: =A15 -> Ligier
A16: Maserati | E16: 1 | F16: 2 | H16: 2 | I16: 4 | BW16: =SUM(B16:BU16) -> 9 | BX16: =A16 -> Maserati
A17: Matra | T17: 3 | U17: 6 | BW17: =SUM(B17:BU17) -> 9 | BX17: =A17 -> Matra
A18: Vanwall | I18: 3 | J18: 6 | BW18: =SUM(B18:BU18) -> 9 | BX18: =A18 -> Vanwall
A19: Brawn GP | BI19: 8 | BW19: =SUM(B19:BU19) -> 8 | BX19: =A19 -> Brawn GP
A20: Jordan | AX20: 1 | AY20: 2 | BC20: 1 | BW20: =SUM(B20:BU20) -> 4 | BX20: =A20 -> Jordan
A21: Honda | Q21: 1 | S21: 1 | BF21: 1 | BW21: =SUM(B21:BU21) -> 3 | BX21: =A21 -> Honda
A22: Wolf | AC22: 3 | BW22: =SUM(B22:BU22) -> 3 | BX22: =A22 -> Wolf
A23: March | V23: 1 | AA23: 1 | AB23: 1 | BW23: =SUM(B23:BU23) -> 3 | BX23: =A23 -> March
A24: Alpha Tauri | BT24: 1 | BW24: =SUM(B24:BU24) -> 1 | BX24: =A24 -> Alpha Tauri
A25: Racing Point | BT25: 1 | BW25: =SUM(B25:BU25) -> 1 | BX25: =A25 -> Racing Point
A26: Porsche | N26: 1 | BW26: =SUM(B26:BU26) -> 1 | BX26: =A26 -> Porsche
A27: BMW | BH27: 1 | BW27: =SUM(B27:BU27) -> 1 | BX27: =A27 -> BMW
A28: Toro Rosso | BH28: 1 | BW28: =SUM(B28:BU28) -> 1 | BX28: =A28 -> Toro Rosso
A29: Stewart | AY29: 1 | BW29: =SUM(B29:BU29) -> 1 | BX29: =A29 -> Stewart
A30: Eagle | S30: 1 | BW30: =SUM(B30:BU30) -> 1 | BX30: =A30 -> Eagle
A31: Hesketh | AA31: 1 | BW31: =SUM(B31:BU31) -> 1 | BX31: =A31 -> Hesketh
A32: Kurtis Kraft | B32: 1 | BW32: =SUM(B32:BU32) -> 1 | BX32: =A32 -> Kurtis Kraft
A33: Penske | AB33: 1 | BW33: =SUM(B33:BU33) -> 1 | BX33: =A33 -> Penske
A34: Shadow | AC34: 1 | BW34: =SUM(B34:BU34) -> 1 | BX34: =A34 -> Shadow

Sheet Kummuliert
A1: =Entwicklung!A1 -> Siege | B1: =Entwicklung!B1 -> 1950 | C1: =Entwicklung!C1 -> 1951 | D1: =Entwicklung!D1 -> 1952 | E1: =Entwicklung!E1 -> 1953 | F1: =Entwicklung!F1 -> 1954 | G1: =Entwicklung!G1 -> 1955 | H1: =Entwicklung!H1 -> 1956 | ... BU1: =Entwicklung!BU1 -> 2021 | BW1: =Entwicklung!BW1 -> Gesamt
A2: =Entwicklung!A2 -> Ferrari | B2: =Entwicklung!B2 -> 0 | C2: =B2+Entwicklung!C2 -> 3 | D2: =C2+Entwicklung!D2 -> 10 | E2: =D2+Entwicklung!E2 -> 17 | F2: =E2+Entwicklung!F2 -> 19 | G2: =F2+Entwicklung!G2 -> 20 | H2: =G2+Entwicklung!H2 -> 25 | I2: =H2+Entwicklung!I2 -> 25 | J2: =I2+Entwicklung!J2 -> 27 | ... BU2: =BT2+Entwicklung!BU2 -> 238 | BW2: =BV2+Entwicklung!BW2 -> 238
A3: =Entwicklung!A3 -> McLaren | B3: =Entwicklung!B3 -> 0 | C3: =B3+Entwicklung!C3 -> 0 | D3: =C3+Entwicklung!D3 -> 0 | E3: =D3+Entwicklung!E3 -> 0 | F3: =E3+Entwicklung!F3 -> 0 | G3: =F3+Entwicklung!G3 -> 0 | H3: =G3+Entwicklung!H3 -> 0 | I3: =H3+Entwicklung!I3 -> 0 | J3: =I3+Entwicklung!J3 -> 0 | ... BU3: =BT3+Entwicklung!BU3 -> 182 | BW3: =BV3+Entwicklung!BW3 -> 182
A4: =Entwicklung!A4 -> Mercedes-Benz | B4: =Entwicklung!B4 -> 0 | C4: =B4+Entwicklung!C4 -> 0 | D4: =C4+Entwicklung!D4 -> 0 | E4: =D4+Entwicklung!E4 -> 0 | F4: =E4+Entwicklung!F4 -> 4 | G4: =F4+Entwicklung!G4 -> 9 | H4: =G4+Entwicklung!H4 -> 9 | I4: =H4+Entwicklung!I4 -> 9 | J4: =I4+Entwicklung!J4 -> 9 | ... BU4: =BT4+Entwicklung!BU4 -> 116 | BW4: =BV4+Entwicklung!BW4 -> 116
A5: =Entwicklung!A5 -> Williams | B5: =Entwicklung!B5 -> 0 | C5: =B5+Entwicklung!C5 -> 0 | D5: =C5+Entwicklung!D5 -> 0 | E5: =D5+Entwicklung!E5 -> 0 | F5: =E5+Entwicklung!F5 -> 0 | G5: =F5+Entwicklung!G5 -> 0 | H5: =G5+Entwicklung!H5 -> 0 | I5: =H5+Entwicklung!I5 -> 0 | J5: =I5+Entwicklung!J5 -> 0 | ... BU5: =BT5+Entwicklung!BU5 -> 114 | BW5: =BV5+Entwicklung!BW5 -> 114
A6: =Entwicklung!A6 -> Lotus | B6: =Entwicklung!B6 -> 0 | C6: =B6+Entwicklung!C6 -> 0 | D6: =C6+Entwicklung!D6 -> 0 | E6: =D6+Entwicklung!E6 -> 0 | F6: =E6+Entwicklung!F6 -> 0 | G6: =F6+Entwicklung!G6 -> 0 | H6: =G6+Entwicklung!H6 -> 0 | I6: =H6+Entwicklung!I6 -> 0 | J6: =I6+Entwicklung!J6 -> 0 | ... BU6: =BT6+Entwicklung!BU6 -> 81 | BW6: =BV6+Entwicklung!BW6 -> 81
A7: =Entwicklung!A7 -> Red Bull Racing | B7: =Entwicklung!B7 -> 0 | C7: =B7+Entwicklung!C7 -> 0 | D7: =C7+Entwicklung!D7 -> 0 | E7: =D7+Entwicklung!E7 -> 0 | F7: =E7+Entwicklung!F7 -> 0 | G7: =F7+Entwicklung!G7 -> 0 | H7: =G7+Entwicklung!H7 -> 0 | I7: =H7+Entwicklung!I7 -> 0 | J7: =I7+Entwicklung!J7 -> 0 | ... BU7: =BT7+Entwicklung!BU7 -> 64 | BW7: =BV7+Entwicklung!BW7 -> 64
A8: =Entwicklung!A8 -> Brabham | B8: =Entwicklung!B8 -> 0 | C8: =B8+Entwicklung!C8 -> 0 | D8: =C8+Entwicklung!D8 -> 0 | E8: =D8+Entwicklung!E8 -> 0 | F8: =E8+Entwicklung!F8 -> 0 | G8: =F8+Entwicklung!G8 -> 0 | H8: =G8+Entwicklung!H8 -> 0 | I8: =H8+Entwicklung!I8 -> 0 | J8: =I8+Entwicklung!J8 -> 0 | ... BU8: =BT8+Entwicklung!BU8 -> 35 | BW8: =BV8+Entwicklung!BW8 -> 35
A9: =Entwicklung!A9 -> Renault | B9: =Entwicklung!B9 -> 0 | C9: =B9+Entwicklung!C9 -> 0 | D9: =C9+Entwicklung!D9 -> 0 | E9: =D9+Entwicklung!E9 -> 0 | F9: =E9+Entwicklung!F9 -> 0 | G9: =F9+Entwicklung!G9 -> 0 | H9: =G9+Entwicklung!H9 -> 0 | I9: =H9+Entwicklung!I9 -> 0 | J9: =I9+Entwicklung!J9 -> 0 | ... BU9: =BT9+Entwicklung!BU9 -> 35 | BW9: =BV9+Entwicklung!BW9 -> 35
A10: =Entwicklung!A10 -> Benetton | B10: =Entwicklung!B10 -> 0 | C10: =B10+Entwicklung!C10 -> 0 | D10: =C10+Entwicklung!D10 -> 0 | E10: =D10+Entwicklung!E10 -> 0 | F10: =E10+Entwicklung!F10 -> 0 | G10: =F10+Entwicklung!G10 -> 0 | H10: =G10+Entwicklung!H10 -> 0 | I10: =H10+Entwicklung!I10 -> 0 | J10: =I10+Entwicklung!J10 -> 0 | ... BU10: =BT10+Entwicklung!BU10 -> 27 | BW10: =BV10+Entwicklung!BW10 -> 27
A11: =Entwicklung!A11 -> Tyrrell | B11: =Entwicklung!B11 -> 0 | C11: =B11+Entwicklung!C11 -> 0 | D11: =C11+Entwicklung!D11 -> 0 | E11: =D11+Entwicklung!E11 -> 0 | F11: =E11+Entwicklung!F11 -> 0 | G11: =F11+Entwicklung!G11 -> 0 | H11: =G11+Entwicklung!H11 -> 0 | I11: =H11+Entwicklung!I11 -> 0 | J11: =I11+Entwicklung!J11 -> 0 | ... BU11: =BT11+Entwicklung!BU11 -> 23 | BW11: =BV11+Entwicklung!BW11 -> 23
A12: =Entwicklung!A12 -> BRM | B12: =Entwicklung!B12 -> 0 | C12: =B12+Entwicklung!C12 -> 0 | D12: =C12+Entwicklung!D12 -> 0 | E12: =D12+Entwicklung!E12 -> 0 | F12: =E12+Entwicklung!F12 -> 0 | G12: =F12+Entwicklung!G12 -> 0 | H12: =G12+Entwicklung!H12 -> 0 | I12: =H12+Entwicklung!I12 -> 0 | J12: =I12+Entwicklung!J12 -> 0 | ... BU12: =BT12+Entwicklung!BU12 -> 17 | BW12: =BV12+Entwicklung!BW12 -> 17
A13: =Entwicklung!A13 -> Cooper | B13: =Entwicklung!B13 -> 0 | C13: =B13+Entwicklung!C13 -> 0 | D13: =C13+Entwicklung!D13 -> 0 | E13: =D13+Entwicklung!E13 -> 0 | F13: =E13+Entwicklung!F13 -> 0 | G13: =F13+Entwicklung!G13 -> 0 | H13: =G13+Entwicklung!H13 -> 0 | I13: =H13+Entwicklung!I13 -> 0 | J13: =I13+Entwicklung!J13 -> 2 | ... BU13: =BT13+Entwicklung!BU13 -> 16 | BW13: =BV13+Entwicklung!BW13 -> 16
... A34: =Entwicklung!A34 -> Shadow | B34: =Entwicklung!B34 -> 0 | C34: =B34+Entwicklung!C34 -> 0 | D34: =C34+Entwicklung!D34 -> 0 | E34: =D34+Entwicklung!E34 -> 0 | F34: =E34+Entwicklung!F34 -> 0 | G34: =F34+Entwicklung!G34 -> 0 | H34: =G34+Entwicklung!H34 -> 0 | I34: =H34+Entwicklung!I34 -> 0 | J34: =I34+Entwicklung!J34 -> 0 | ... BU34: =BT34+Entwicklung!BU34 -> 1 | BW34: =BV34+Entwicklung!BW34 -> 1
