Workbook

Sheet Deckblatt
A1: Name | B1: Datum | C1: nächstes Datum | D1: Status | E1: Ort | F1: Nummer | G1: Kürzel | H1: Bemerkung
A2: Vorlage1
A4: =INDEX(Vorlage1!$B$22:$B$43,ROW(A1)*22-21) -> Vorlage1 | B4: =INDEX(Vorlage1!$E$23:$E$43,ROW(A1)*22-21) -> 44354 | C4: =IF(B4="-","-",B4+365) -> 44719 | D4: =IF(Kontrollkästchen!A1=TRUE,"Abgeschlossen","Ausstehend") -> Ausstehend | E4: =INDEX(Vorlage1!$B$24:$B$43,ROW(A1)*22-21) -> drüben | F4: =INDEX(Vorlage1!$B$23:$B$43,ROW(A1)*22-21) -> 123123123 | G4: =INDEX(Vorlage1!$F$23:$F$43,ROW(A1)*22-21) -> MKR | H4: =INDEX(Vorlage1!$B$25:$B$43,ROW(A1)*22-21) -> -
A5: Vorlage2
A7: =INDEX(Vorlage2!$B$22:$B$1000000,ROW(A1)*22-21) -> Vorlage2 | B7: =INDEX(Vorlage2!$D$23:$D$1000000,ROW(A1)*22-21) -> 44354 | C7: =IF(B7="-","-",B7+365) -> 44719 | D7: =IF(Kontrollkästchen!B1=TRUE,"Abgeschlossen","Ausstehend") -> Ausstehend | E7: =INDEX(Vorlage2!$B$38:$B$1000000,ROW(A1)*22-21) -> Ort | F7: =INDEX(Vorlage2!$B$23:$B$1000000,ROW(A1)*22-21) -> 115678 | G7: =INDEX(Vorlage2!$D$24:$D$1000000,ROW(A1)*22-21) -> MKR | H7: =INDEX(Vorlage2!$B$24:$B$1000000,ROW(A1)*22-21) -> testestest
H51: =INDEX(#REF!,ROW(A1)*22-21) -> #REF!

Sheet Vorlagen
A1: Vorlage1 | I1: Vorlage 2
B3: Vorlage | J3: Vorlage
B4: 123123123 | E4: 44354 | F4: MKR | J4: - | L4: -
B5: drüben | J5: - | L5: -
B6: -
F12: =AVERAGE(E12-D12) -> 0 | G12: 0
F13: =E13-D13 -> 0 | G13: =(E13-D13)/E13*100 -> #DIV/0!
F14: =(E14-D14) -> 0 | G14: =(E14-D14)/E14*100 -> #DIV/0! | M14: =(K14-L14) -> 0 | N14: =(K14-L14)/K14*100 -> #DIV/0!
F15: =(E15-D15) -> 0 | G15: =(E15-D15)/E15*100 -> #DIV/0! | M15: =(K15-L15) -> 0 | N15: =(K15-L15)/K15*100 -> #DIV/0!
F16: =(E16-D16) -> 0 | G16: =(E16-D16)/E16*100 -> #DIV/0! | M16: =(K16-L16) -> 0 | N16: =(K16-L16)/K16*100 -> #DIV/0!
F17: =AVERAGE(E17-D17) -> 0 | G17: =(E17-D17)/E17*100 -> #DIV/0!
M18: =(K18-L18) -> 0 | N18: =(K18-L18)/K18*100 -> #DIV/0!
F19: =(D19-E19) -> 0 | G19: =(E19-D19)/E19*100 -> #DIV/0! | J19: - | M19: =(K19-L19) -> 0 | N19: =(K19-L19)/K19*100 -> #DIV/0!
F20: =(D20-E20) -> 0 | G20: =(E20-D20)/E20*100 -> #DIV/0!
M21: =(K21-L21) -> 0 | N21: =(K21-L21)/K21*100 -> #DIV/0!
F22: =(D22-E22) -> 0 | G22: =(E22-D22)/E22*100 -> #DIV/0! | M22: =(K22-L22) -> 0 | N22: =(K22-L22)/K22*100 -> #DIV/0!
F23: =(D23-E23) -> 0 | G23: =(E23-D23)/E23*100 -> #DIV/0!

Sheet Vorlage1
B22: Vorlage1
B23: 123123123 | E23: 44354 | F23: MKR
B24: drüben
B25: -
F31: =AVERAGE(E31-D31) -> 0 | G31: 0
F32: =E32-D32 -> 0 | G32: =(E32-D32)/E32*100 -> #DIV/0!
F33: =(E33-D33) -> 0 | G33: =(E33-D33)/E33*100 -> #DIV/0!
F34: =(E34-D34) -> 0 | G34: =(E34-D34)/E34*100 -> #DIV/0!
F35: =(E35-D35) -> 0 | G35: =(E35-D35)/E35*100 -> #DIV/0!
F36: =AVERAGE(E36-D36) -> 0 | G36: =(E36-D36)/E36*100 -> #DIV/0!
F38: =(D38-E38) -> 0 | G38: =(E38-D38)/E38*100 -> #DIV/0!
F39: =(D39-E39) -> 0 | G39: =(E39-D39)/E39*100 -> #DIV/0!
F41: =(D41-E41) -> 0 | G41: =(E41-D41)/E41*100 -> #DIV/0!
F42: =(D42-E42) -> 0 | G42: =(E42-D42)/E42*100 -> #DIV/0!

Sheet Vorlage2
B22: Vorlage2
B23: 115678 | D23: 44354
B24: testestest | D24: MKR
E33: =(C33-D33) -> 0 | F33: =(C33-D33)/C33*100 -> #DIV/0!
E34: =(C34-D34) -> 0 | F34: =(C34-D34)/C34*100 -> #DIV/0!
E35: =(C35-D35) -> 0 | F35: =(C35-D35)/C35*100 -> #DIV/0!
E37: =(C37-D37) -> 0 | F37: =(C37-D37)/C37*100 -> #DIV/0!
B38: Ort | E38: =(C38-D38) -> 0 | F38: =(C38-D38)/C38*100 -> #DIV/0!
E40: =(C40-D40) -> 0 | F40: =(C40-D40)/C40*100 -> #DIV/0!
E41: =(C41-D41) -> 0 | F41: =(C41-D41)/C41*100 -> #DIV/0!

Sheet Kontrollkästchen
S25: =TODAY() -> 44447
