Workbook
Name Bezeichnung: Tabelle1[Bezeichnung]
Name Peter: PListe!$A:$A
Name Schwanz: PListe!#REF!
Name tessst: PListe!#REF!
Name Test: Tabelle1[Bezeichnung]

Sheet Rechnung
A12: Herrn
A13: Mustermann
A14: Musterstraße
A15: LKW Town
A17: Rechnung
A19: Rechnungs-Nr.: | D19: Hersteller
A20: Datum: | B20: =TODAY() -> 42534 | D20: Kennzeichen
D21: Typ
D22: Fg.-Nr.
A23: Ust-ID Kunde | D23: Zul. Datum
A24: Leistungsdatum: | D24: km-Stand
A26: Position | B26: Menge | C26: Bezeichnung | D26: Preis/Aw | E26: Nettobetrag
D27: =IF(ISBLANK(Rechnung!C27),"",VLOOKUP(Rechnung!C27,PListe!$A$3:$C$16,3,FALSE)) | E27: =IFERROR(D27*B27,"")
D28: =IF(ISBLANK(Rechnung!C28),"",VLOOKUP(Rechnung!C28,PListe!$A$3:$C$16,3,FALSE)) | E28: =IFERROR(D28*B28,"")
D29: =IF(ISBLANK(Rechnung!C29),"",VLOOKUP(Rechnung!C29,PListe!$A$3:$C$16,3,FALSE)) | E29: =IFERROR(D29*B29,"")
D30: =IF(ISBLANK(Rechnung!C30),"",VLOOKUP(Rechnung!C30,PListe!$A$3:$C$16,3,FALSE)) | E30: =IFERROR(D30*B30,"")
D31: =IF(ISBLANK(Rechnung!C31),"",VLOOKUP(Rechnung!C31,PListe!$A$3:$C$16,3,FALSE)) | E31: =IFERROR(D31*B31,"")
D32: =IF(ISBLANK(Rechnung!C32),"",VLOOKUP(Rechnung!C32,PListe!$A$3:$C$16,3,FALSE)) | E32: =IFERROR(D32*B32,"")
D33: =IF(ISBLANK(Rechnung!C33),"",VLOOKUP(Rechnung!C33,PListe!$A$3:$C$16,3,FALSE)) | E33: =IFERROR(D33*B33,"")
D34: =IF(ISBLANK(Rechnung!C34),"",VLOOKUP(Rechnung!C34,PListe!$A$3:$C$16,3,FALSE)) | E34: =IFERROR(D34*B34,"")
D35: =IF(ISBLANK(Rechnung!C35),"",VLOOKUP(Rechnung!C35,PListe!$A$3:$C$16,3,FALSE)) | E35: =IFERROR(D35*B35,"")
D36: =IF(ISBLANK(Rechnung!C36),"",VLOOKUP(Rechnung!C36,PListe!$A$3:$C$16,3,FALSE)) | E36: =IFERROR(D36*B36,"")
D37: =IF(ISBLANK(Rechnung!C37),"",VLOOKUP(Rechnung!C37,PListe!$A$3:$C$16,3,FALSE)) | E37: =IFERROR(D37*B37,"")
D38: =IF(ISBLANK(Rechnung!C38),"",VLOOKUP(Rechnung!C38,PListe!$A$3:$C$16,3,FALSE)) | E38: =IFERROR(D38*B38,"")
... D45: =IF(ISBLANK(Rechnung!C45),"",VLOOKUP(Rechnung!C45,PListe!$A$3:$C$16,3,FALSE)) | E45: =IFERROR(D45*B45,"")
D46: Nettobetrag | E46: =SUM(E27:E45) -> 0
D47: zzgl. 19% MwSt | E47: =E46*0.19 -> 0
D48: zzgl. Auslagen TÜV:
D49: Rechnungsbetrag: | E49: =SUM(E46:E48) -> 0
A51: ____________________________________________________________________________________________

Sheet Tabelle2

Sheet PListe
A1: Bezeichnung | B1: Menge | C1: Preis
A3: Motoröl PKW | B3: 1L | C3: 6.5
A4: Motoröl LKW | B4: 1L | C4: 3.5
A5: Kühlflüssigkeit | B5: 1L | C5: 4.5
A6: Fett | B6: 1 Stk | C6: 4.5
A7: Hydraulik ÖL | B7: 1L | C7: 4.1
A8: GL 5 Hinterachse | B8: 1L | C8: 9.5
A9: GL 4 Getriebe | B9: 1L | C9: 6.5
A10: ATF | B10: 1L | C10: 9.5
A11: Bremsflüssigkeit | B11: 1L | C11: 8.5
A12: Bremsenreiniger | B12: 1L | C12: 2.5
A13: Klimaanlage füllen | C13: 60
A14: Pentosin | B14: 1L | C14: 12
A15: Scheibenklar | B15: 1 Stk | C15: 2.5
A16: Arbeitslohn | B16: 1 Std | C16: 45
