Workbook

Sheet Startseite

Sheet Bereitstellung
A1: Vor22 | B1: A121534-07 | F1: Produkt 26 | H1: 4680 | I1: KG | O1: 42072 | P1: 42072 | S1: =IF(A1="","",TEXT(H1,"#.###.###")) -> 4.680 | T1: =IF(A1="","",TEXT(O1,"TT.MM.JJ")) -> 09.03.15 | U1: =IF(A1="","",TEXT(P1,"TT.MM.JJ")) -> 09.03.15 | W1: =IF(A1="","",A1&" "&B1&CHAR(10)&F1&CHAR(10)&S1&" "&I1&CHAR(10)&T1&" - "&U1) -> Vor22 A121534-07 Produkt 26 4.680 KG 09.03.15 - 09.03.15
A2: Vor22 | B2: A121662-04 | F2: Produkt 27 | H2: 13000 | I2: KG | O2: 42075 | P2: 42079 | S2: =IF(A2="","",TEXT(H2,"#.###.###")) -> 13.000 | T2: =IF(A2="","",TEXT(O2,"TT.MM.JJ")) -> 12.03.15 | U2: =IF(A2="","",TEXT(P2,"TT.MM.JJ")) -> 16.03.15 | W2: =IF(A2="","",A2&" "&B2&CHAR(10)&F2&CHAR(10)&S2&" "&I2&CHAR(10)&T2&" - "&U2) -> Vor22 A121662-04 Produkt 27 13.000 KG 12.03.15 - 16.03.15
A3: Vor23 | B3: A121744-02 | F3: Produkt 38 | H3: 7611.75 | I3: KG | O3: 42075 | P3: 42083 | S3: =IF(A3="","",TEXT(H3,"#.###.###")) -> 7.612 | T3: =IF(A3="","",TEXT(O3,"TT.MM.JJ")) -> 12.03.15 | U3: =IF(A3="","",TEXT(P3,"TT.MM.JJ")) -> 20.03.15 | W3: =IF(A3="","",A3&" "&B3&CHAR(10)&F3&CHAR(10)&S3&" "&I3&CHAR(10)&T3&" - "&U3) -> Vor23 A121744-02 Produkt 38 7.612 KG 12.03.15 - 20.03.15
A4: Vor14 | B4: A121554-01 | F4: Produkt 50 | H4: 716 | I4: KG | O4: 42075 | P4: 42080 | S4: =IF(A4="","",TEXT(H4,"#.###.###")) -> 716 | T4: =IF(A4="","",TEXT(O4,"TT.MM.JJ")) -> 12.03.15 | U4: =IF(A4="","",TEXT(P4,"TT.MM.JJ")) -> 17.03.15 | W4: =IF(A4="","",A4&" "&B4&CHAR(10)&F4&CHAR(10)&S4&" "&I4&CHAR(10)&T4&" - "&U4) -> Vor14 A121554-01 Produkt 50 716 KG 12.03.15 - 17.03.15
A5: Vor21 | B5: A122505-01 | F5: Produkt 14 | H5: 2327.5 | I5: KG | O5: 42076 | P5: 42082 | S5: =IF(A5="","",TEXT(H5,"#.###.###")) -> 2.328 | T5: =IF(A5="","",TEXT(O5,"TT.MM.JJ")) -> 13.03.15 | U5: =IF(A5="","",TEXT(P5,"TT.MM.JJ")) -> 19.03.15 | W5: =IF(A5="","",A5&" "&B5&CHAR(10)&F5&CHAR(10)&S5&" "&I5&CHAR(10)&T5&" - "&U5) -> Vor21 A122505-01 Produkt 14 2.328 KG 13.03.15 - 19.03.15
A6: Vor21 | B6: A122174-01 | F6: Produkt 15 | H6: 1862 | I6: KG | O6: 42080 | P6: 42083 | S6: =IF(A6="","",TEXT(H6,"#.###.###")) -> 1.862 | T6: =IF(A6="","",TEXT(O6,"TT.MM.JJ")) -> 17.03.15 | U6: =IF(A6="","",TEXT(P6,"TT.MM.JJ")) -> 20.03.15 | W6: =IF(A6="","",A6&" "&B6&CHAR(10)&F6&CHAR(10)&S6&" "&I6&CHAR(10)&T6&" - "&U6) -> Vor21 A122174-01 Produkt 15 1.862 KG 17.03.15 - 20.03.15
A7: Vor22 | B7: A121662-07 | F7: Produkt 28 | H7: 15000 | I7: KG | O7: 42080 | P7: 42082 | S7: =IF(A7="","",TEXT(H7,"#.###.###")) -> 15.000 | T7: =IF(A7="","",TEXT(O7,"TT.MM.JJ")) -> 17.03.15 | U7: =IF(A7="","",TEXT(P7,"TT.MM.JJ")) -> 19.03.15 | W7: =IF(A7="","",A7&" "&B7&CHAR(10)&F7&CHAR(10)&S7&" "&I7&CHAR(10)&T7&" - "&U7) -> Vor22 A121662-07 Produkt 28 15.000 KG 17.03.15 - 19.03.15
A8: Vor27 | B8: A122592-01 | F8: Produkt 86 | H8: 1811.7 | I8: KG | O8: 42080 | P8: 42082 | S8: =IF(A8="","",TEXT(H8,"#.###.###")) -> 1.812 | T8: =IF(A8="","",TEXT(O8,"TT.MM.JJ")) -> 17.03.15 | U8: =IF(A8="","",TEXT(P8,"TT.MM.JJ")) -> 19.03.15 | W8: =IF(A8="","",A8&" "&B8&CHAR(10)&F8&CHAR(10)&S8&" "&I8&CHAR(10)&T8&" - "&U8) -> Vor27 A122592-01 Produkt 86 1.812 KG 17.03.15 - 19.03.15
A9: Vor21 | B9: A122179-01 | F9: Produkt 16 | H9: 931 | I9: KG | O9: 42081 | P9: 42082 | S9: =IF(A9="","",TEXT(H9,"#.###.###")) -> 931 | T9: =IF(A9="","",TEXT(O9,"TT.MM.JJ")) -> 18.03.15 | U9: =IF(A9="","",TEXT(P9,"TT.MM.JJ")) -> 19.03.15 | W9: =IF(A9="","",A9&" "&B9&CHAR(10)&F9&CHAR(10)&S9&" "&I9&CHAR(10)&T9&" - "&U9) -> Vor21 A122179-01 Produkt 16 931 KG 18.03.15 - 19.03.15
A10: Vor01 | B10: A121857-01 | F10: Produkt 2 | H10: 599.2 | I10: KG | O10: 42081 | P10: 42082 | S10: =IF(A10="","",TEXT(H10,"#.###.###")) -> 599 | T10: =IF(A10="","",TEXT(O10,"TT.MM.JJ")) -> 18.03.15 | U10: =IF(A10="","",TEXT(P10,"TT.MM.JJ")) -> 19.03.15 | W10: =IF(A10="","",A10&" "&B10&CHAR(10)&F10&CHAR(10)&S10&" "&I10&CHAR(10)&T10&" - "&U10) -> Vor01 A121857-01 Produkt 2 599 KG 18.03.15 - 19.03.15
A11: Vor24 | B11: A123150-01 | F11: Produkt 50 | H11: 684 | I11: KG | O11: 42081 | P11: 42082 | S11: =IF(A11="","",TEXT(H11,"#.###.###")) -> 684 | T11: =IF(A11="","",TEXT(O11,"TT.MM.JJ")) -> 18.03.15 | U11: =IF(A11="","",TEXT(P11,"TT.MM.JJ")) -> 19.03.15 | W11: =IF(A11="","",A11&" "&B11&CHAR(10)&F11&CHAR(10)&S11&" "&I11&CHAR(10)&T11&" - "&U11) -> Vor24 A123150-01 Produkt 50 684 KG 18.03.15 - 19.03.15
A12: Vor24 | B12: A123150-06 | F12: Produkt 51 | H12: 1368 | I12: KG | O12: 42081 | P12: 42082 | S12: =IF(A12="","",TEXT(H12,"#.###.###")) -> 1.368 | T12: =IF(A12="","",TEXT(O12,"TT.MM.JJ")) -> 18.03.15 | U12: =IF(A12="","",TEXT(P12,"TT.MM.JJ")) -> 19.03.15 | W12: =IF(A12="","",A12&" "&B12&CHAR(10)&F12&CHAR(10)&S12&" "&I12&CHAR(10)&T12&" - "&U12) -> Vor24 A123150-06 Produkt 51 1.368 KG 18.03.15 - 19.03.15
... A163: Vor15 | B163: A122287-01 | F163: Produkt 70 | H163: 544.908 | I163: KG | O163: 42163 | P163: 42164 | S163: =IF(A163="","",TEXT(H163,"#.###.###")) -> 545 | T163: =IF(A163="","",TEXT(O163,"TT.MM.JJ")) -> 08.06.15 | U163: =IF(A163="","",TEXT(P163,"TT.MM.JJ")) -> 09.06.15 | W163: =IF(A163="","",A163&" "&B163&CHAR(10)&F163&CHAR(10)&S163&" "&I163&CHAR(10)&T163&" - "&U163) -> Vor15 A122287-01 Produkt 70 545 KG 08.06.15 - 09.06.15
S164: =IF(A164="","",TEXT(H164,"#.###.###")) | T164: =IF(A164="","",TEXT(O164,"TT.MM.JJ")) | U164: =IF(A164="","",TEXT(P164,"TT.MM.JJ")) | W164: =IF(A164="","",A164&" "&B164&CHAR(10)&F164&CHAR(10)&S164&" "&I164&CHAR(10)&T164&" - "&U164)
S165: =IF(A165="","",TEXT(H165,"#.###.###")) | T165: =IF(A165="","",TEXT(O165,"TT.MM.JJ")) | U165: =IF(A165="","",TEXT(P165,"TT.MM.JJ")) | W165: =IF(A165="","",A165&" "&B165&CHAR(10)&F165&CHAR(10)&S165&" "&I165&CHAR(10)&T165&" - "&U165)
S166: =IF(A166="","",TEXT(H166,"#.###.###")) | T166: =IF(A166="","",TEXT(O166,"TT.MM.JJ")) | U166: =IF(A166="","",TEXT(P166,"TT.MM.JJ")) | W166: =IF(A166="","",A166&" "&B166&CHAR(10)&F166&CHAR(10)&S166&" "&I166&CHAR(10)&T166&" - "&U166)
S167: =IF(A167="","",TEXT(H167,"#.###.###")) | T167: =IF(A167="","",TEXT(O167,"TT.MM.JJ")) | U167: =IF(A167="","",TEXT(P167,"TT.MM.JJ")) | W167: =IF(A167="","",A167&" "&B167&CHAR(10)&F167&CHAR(10)&S167&" "&I167&CHAR(10)&T167&" - "&U167)
S168: =IF(A168="","",TEXT(H168,"#.###.###")) | T168: =IF(A168="","",TEXT(O168,"TT.MM.JJ")) | U168: =IF(A168="","",TEXT(P168,"TT.MM.JJ")) | W168: =IF(A168="","",A168&" "&B168&CHAR(10)&F168&CHAR(10)&S168&" "&I168&CHAR(10)&T168&" - "&U168)
S169: =IF(A169="","",TEXT(H169,"#.###.###")) | T169: =IF(A169="","",TEXT(O169,"TT.MM.JJ")) | U169: =IF(A169="","",TEXT(P169,"TT.MM.JJ")) | W169: =IF(A169="","",A169&" "&B169&CHAR(10)&F169&CHAR(10)&S169&" "&I169&CHAR(10)&T169&" - "&U169)
S170: =IF(A170="","",TEXT(H170,"#.###.###")) | T170: =IF(A170="","",TEXT(O170,"TT.MM.JJ")) | U170: =IF(A170="","",TEXT(P170,"TT.MM.JJ")) | W170: =IF(A170="","",A170&" "&B170&CHAR(10)&F170&CHAR(10)&S170&" "&I170&CHAR(10)&T170&" - "&U170)
S171: =IF(A171="","",TEXT(H171,"#.###.###")) | T171: =IF(A171="","",TEXT(O171,"TT.MM.JJ")) | U171: =IF(A171="","",TEXT(P171,"TT.MM.JJ")) | W171: =IF(A171="","",A171&" "&B171&CHAR(10)&F171&CHAR(10)&S171&" "&I171&CHAR(10)&T171&" - "&U171)
S172: =IF(A172="","",TEXT(H172,"#.###.###")) | T172: =IF(A172="","",TEXT(O172,"TT.MM.JJ")) | U172: =IF(A172="","",TEXT(P172,"TT.MM.JJ")) | W172: =IF(A172="","",A172&" "&B172&CHAR(10)&F172&CHAR(10)&S172&" "&I172&CHAR(10)&T172&" - "&U172)
S173: =IF(A173="","",TEXT(H173,"#.###.###")) | T173: =IF(A173="","",TEXT(O173,"TT.MM.JJ")) | U173: =IF(A173="","",TEXT(P173,"TT.MM.JJ")) | W173: =IF(A173="","",A173&" "&B173&CHAR(10)&F173&CHAR(10)&S173&" "&I173&CHAR(10)&T173&" - "&U173)
S174: =IF(A174="","",TEXT(H174,"#.###.###")) | T174: =IF(A174="","",TEXT(O174,"TT.MM.JJ")) | U174: =IF(A174="","",TEXT(P174,"TT.MM.JJ")) | W174: =IF(A174="","",A174&" "&B174&CHAR(10)&F174&CHAR(10)&S174&" "&I174&CHAR(10)&T174&" - "&U174)
S175: =IF(A175="","",TEXT(H175,"#.###.###")) | T175: =IF(A175="","",TEXT(O175,"TT.MM.JJ")) | U175: =IF(A175="","",TEXT(P175,"TT.MM.JJ")) | W175: =IF(A175="","",A175&" "&B175&CHAR(10)&F175&CHAR(10)&S175&" "&I175&CHAR(10)&T175&" - "&U175)
S176: =IF(A176="","",TEXT(H176,"#.###.###")) | T176: =IF(A176="","",TEXT(O176,"TT.MM.JJ")) | U176: =IF(A176="","",TEXT(P176,"TT.MM.JJ")) | W176: =IF(A176="","",A176&" "&B176&CHAR(10)&F176&CHAR(10)&S176&" "&I176&CHAR(10)&T176&" - "&U176)
S177: =IF(A177="","",TEXT(H177,"#.###.###")) | T177: =IF(A177="","",TEXT(O177,"TT.MM.JJ")) | U177: =IF(A177="","",TEXT(P177,"TT.MM.JJ")) | W177: 8
S178: =IF(A178="","",TEXT(H178,"#.###.###")) | T178: =IF(A178="","",TEXT(O178,"TT.MM.JJ")) | U178: =IF(A178="","",TEXT(P178,"TT.MM.JJ")) | W178: =IF(A178="","",A178&" "&B178&CHAR(10)&F178&CHAR(10)&S178&" "&I178&CHAR(10)&T178&" - "&U178)
S179: =IF(A179="","",TEXT(H179,"#.###.###")) | T179: =IF(A179="","",TEXT(O179,"TT.MM.JJ")) | U179: =IF(A179="","",TEXT(P179,"TT.MM.JJ")) | W179: =IF(A179="","",A179&" "&B179&CHAR(10)&F179&CHAR(10)&S179&" "&I179&CHAR(10)&T179&" - "&U179)
S180: =IF(A180="","",TEXT(H180,"#.###.###")) | T180: =IF(A180="","",TEXT(O180,"TT.MM.JJ")) | U180: =IF(A180="","",TEXT(P180,"TT.MM.JJ")) | W180: =IF(A180="","",A180&" "&B180&CHAR(10)&F180&CHAR(10)&S180&" "&I180&CHAR(10)&T180&" - "&U180)
S181: =IF(A181="","",TEXT(H181,"#.###.###")) | T181: =IF(A181="","",TEXT(O181,"TT.MM.JJ")) | U181: =IF(A181="","",TEXT(P181,"TT.MM.JJ")) | W181: =IF(A181="","",A181&" "&B181&CHAR(10)&F181&CHAR(10)&S181&" "&I181&CHAR(10)&T181&" - "&U181)
S182: =IF(A182="","",TEXT(H182,"#.###.###")) | T182: =IF(A182="","",TEXT(O182,"TT.MM.JJ")) | U182: =IF(A182="","",TEXT(P182,"TT.MM.JJ")) | W182: =IF(A182="","",A182&" "&B182&CHAR(10)&F182&CHAR(10)&S182&" "&I182&CHAR(10)&T182&" - "&U182)
S183: =IF(A183="","",TEXT(H183,"#.###.###")) | T183: =IF(A183="","",TEXT(O183,"TT.MM.JJ")) | U183: =IF(A183="","",TEXT(P183,"TT.MM.JJ")) | W183: =IF(A183="","",A183&" "&B183&CHAR(10)&F183&CHAR(10)&S183&" "&I183&CHAR(10)&T183&" - "&U183)
S184: =IF(A184="","",TEXT(H184,"#.###.###")) | T184: =IF(A184="","",TEXT(O184,"TT.MM.JJ")) | U184: =IF(A184="","",TEXT(P184,"TT.MM.JJ")) | W184: =IF(A184="","",A184&" "&B184&CHAR(10)&F184&CHAR(10)&S184&" "&I184&CHAR(10)&T184&" - "&U184)
S185: =IF(A185="","",TEXT(H185,"#.###.###")) | T185: =IF(A185="","",TEXT(O185,"TT.MM.JJ")) | U185: =IF(A185="","",TEXT(P185,"TT.MM.JJ")) | W185: =IF(A185="","",A185&" "&B185&CHAR(10)&F185&CHAR(10)&S185&" "&I185&CHAR(10)&T185&" - "&U185)
S186: =IF(A186="","",TEXT(H186,"#.###.###")) | T186: =IF(A186="","",TEXT(O186,"TT.MM.JJ")) | U186: =IF(A186="","",TEXT(P186,"TT.MM.JJ")) | W186: =IF(A186="","",A186&" "&B186&CHAR(10)&F186&CHAR(10)&S186&" "&I186&CHAR(10)&T186&" - "&U186)
S187: =IF(A187="","",TEXT(H187,"#.###.###")) | T187: =IF(A187="","",TEXT(O187,"TT.MM.JJ")) | U187: =IF(A187="","",TEXT(P187,"TT.MM.JJ")) | W187: =IF(A187="","",A187&" "&B187&CHAR(10)&F187&CHAR(10)&S187&" "&I187&CHAR(10)&T187&" - "&U187)
S188: =IF(A188="","",TEXT(H188,"#.###.###")) | T188: =IF(A188="","",TEXT(O188,"TT.MM.JJ")) | U188: =IF(A188="","",TEXT(P188,"TT.MM.JJ")) | W188: =IF(A188="","",A188&" "&B188&CHAR(10)&F188&CHAR(10)&S188&" "&I188&CHAR(10)&T188&" - "&U188)
S189: =IF(A189="","",TEXT(H189,"#.###.###")) | T189: =IF(A189="","",TEXT(O189,"TT.MM.JJ")) | U189: =IF(A189="","",TEXT(P189,"TT.MM.JJ")) | W189: =IF(A189="","",A189&" "&B189&CHAR(10)&F189&CHAR(10)&S189&" "&I189&CHAR(10)&T189&" - "&U189)
... S200: =IF(A200="","",TEXT(H200,"#.###.###")) | T200: =IF(A200="","",TEXT(O200,"TT.MM.JJ")) | U200: =IF(A200="","",TEXT(P200,"TT.MM.JJ")) | W200: =IF(A200="","",A200&" "&B200&CHAR(10)&F200&CHAR(10)&S200&" "&I200&CHAR(10)&T200&" - "&U200)

Sheet Gruppe_Vor_01
A1: Vor01 | B1: A000000-00 | F1: Produkt 1 | H1: 1 | I1: KG | O1: 42055 | P1: 42057 | S1: =IF(A1="","",TEXT(H1,"#.###.###")) -> 1 | T1: =IF(A1="","",TEXT(O1,"TT.MM.JJ")) -> 20.02.15 | U1: =IF(A1="","",TEXT(P1,"TT.MM.JJ")) -> 22.02.15 | W1: =IF(A1="","",B1&CHAR(10)&F1&CHAR(10)&S1&" "&I1&CHAR(10)&T1&" - "&U1) -> A000000-00 Produkt 1 1 KG 20.02.15 - 22.02.15
A2: Vor01 | B2: A121857-01 | F2: Produkt 2 | H2: 599.2 | I2: KG | O2: 42081 | P2: 42082 | S2: =IF(A2="","",TEXT(H2,"#.###.###")) -> 599 | T2: =IF(A2="","",TEXT(O2,"TT.MM.JJ")) -> 18.03.15 | U2: =IF(A2="","",TEXT(P2,"TT.MM.JJ")) -> 19.03.15 | W2: =IF(A2="","",B2&CHAR(10)&F2&CHAR(10)&S2&" "&I2&CHAR(10)&T2&" - "&U2) -> A121857-01 Produkt 2 599 KG 18.03.15 - 19.03.15
A3: Vor01 | B3: A122546-01 | F3: Produkt 3 | H3: 1861.2 | I3: KG | O3: 42086 | P3: 42087 | S3: =IF(A3="","",TEXT(H3,"#.###.###")) -> 1.861 | T3: =IF(A3="","",TEXT(O3,"TT.MM.JJ")) -> 23.03.15 | U3: =IF(A3="","",TEXT(P3,"TT.MM.JJ")) -> 24.03.15 | W3: =IF(A3="","",B3&CHAR(10)&F3&CHAR(10)&S3&" "&I3&CHAR(10)&T3&" - "&U3) -> A122546-01 Produkt 3 1.861 KG 23.03.15 - 24.03.15
A4: Vor01 | B4: A122575-01 | F4: Produkt 4 | H4: 2138.4 | I4: KG | O4: 42087 | P4: 42094 | S4: =IF(A4="","",TEXT(H4,"#.###.###")) -> 2.138 | T4: =IF(A4="","",TEXT(O4,"TT.MM.JJ")) -> 24.03.15 | U4: =IF(A4="","",TEXT(P4,"TT.MM.JJ")) -> 31.03.15 | W4: =IF(A4="","",B4&CHAR(10)&F4&CHAR(10)&S4&" "&I4&CHAR(10)&T4&" - "&U4) -> A122575-01 Produkt 4 2.138 KG 24.03.15 - 31.03.15
A5: Vor01 | B5: A121921-01 | F5: Produkt 5 | H5: 6340.4 | I5: KG | O5: 42094 | P5: 42101 | S5: =IF(A5="","",TEXT(H5,"#.###.###")) -> 6.340 | T5: =IF(A5="","",TEXT(O5,"TT.MM.JJ")) -> 31.03.15 | U5: =IF(A5="","",TEXT(P5,"TT.MM.JJ")) -> 07.04.15 | W5: =IF(A5="","",B5&CHAR(10)&F5&CHAR(10)&S5&" "&I5&CHAR(10)&T5&" - "&U5) -> A121921-01 Produkt 5 6.340 KG 31.03.15 - 07.04.15
A6: Vor01 | B6: A122218-01 | F6: Produkt 6 | H6: 1441.44 | I6: KG | O6: 42110 | P6: 42115 | S6: =IF(A6="","",TEXT(H6,"#.###.###")) -> 1.441 | T6: =IF(A6="","",TEXT(O6,"TT.MM.JJ")) -> 16.04.15 | U6: =IF(A6="","",TEXT(P6,"TT.MM.JJ")) -> 21.04.15 | W6: =IF(A6="","",B6&CHAR(10)&F6&CHAR(10)&S6&" "&I6&CHAR(10)&T6&" - "&U6) -> A122218-01 Produkt 6 1.441 KG 16.04.15 - 21.04.15
A7: Vor01 | B7: A122612-01 | F7: Produkt 7 | H7: 1441.44 | I7: KG | O7: 42115 | P7: 42117 | S7: =IF(A7="","",TEXT(H7,"#.###.###")) -> 1.441 | T7: =IF(A7="","",TEXT(O7,"TT.MM.JJ")) -> 21.04.15 | U7: =IF(A7="","",TEXT(P7,"TT.MM.JJ")) -> 23.04.15 | W7: =IF(A7="","",B7&CHAR(10)&F7&CHAR(10)&S7&" "&I7&CHAR(10)&T7&" - "&U7) -> A122612-01 Produkt 7 1.441 KG 21.04.15 - 23.04.15
A8: Vor01 | B8: A122604-01 | F8: Produkt 8 | H8: 1441.44 | I8: KG | O8: 42117 | P8: 42122 | S8: =IF(A8="","",TEXT(H8,"#.###.###")) -> 1.441 | T8: =IF(A8="","",TEXT(O8,"TT.MM.JJ")) -> 23.04.15 | U8: =IF(A8="","",TEXT(P8,"TT.MM.JJ")) -> 28.04.15 | W8: =IF(A8="","",B8&CHAR(10)&F8&CHAR(10)&S8&" "&I8&CHAR(10)&T8&" - "&U8) -> A122604-01 Produkt 8 1.441 KG 23.04.15 - 28.04.15
A9: Vor01 | B9: A123065-01 | F9: Produkt 9 | H9: 1441.44 | I9: KG | O9: 42122 | P9: 42124 | S9: =IF(A9="","",TEXT(H9,"#.###.###")) -> 1.441 | T9: =IF(A9="","",TEXT(O9,"TT.MM.JJ")) -> 28.04.15 | U9: =IF(A9="","",TEXT(P9,"TT.MM.JJ")) -> 30.04.15 | W9: =IF(A9="","",B9&CHAR(10)&F9&CHAR(10)&S9&" "&I9&CHAR(10)&T9&" - "&U9) -> A123065-01 Produkt 9 1.441 KG 28.04.15 - 30.04.15
A10: Vor01 | B10: A123076-01 | F10: Produkt 10 | H10: 1441.44 | I10: KG | O10: 42142 | P10: 42150 | S10: =IF(A10="","",TEXT(H10,"#.###.###")) -> 1.441 | T10: =IF(A10="","",TEXT(O10,"TT.MM.JJ")) -> 18.05.15 | U10: =IF(A10="","",TEXT(P10,"TT.MM.JJ")) -> 26.05.15 | W10: =IF(A10="","",B10&CHAR(10)&F10&CHAR(10)&S10&" "&I10&CHAR(10)&T10&" - "&U10) -> A123076-01 Produkt 10 1.441 KG 18.05.15 - 26.05.15
S11: =IF(A11="","",TEXT(H11,"#.###.###")) | T11: =IF(A11="","",TEXT(O11,"TT.MM.JJ")) | U11: =IF(A11="","",TEXT(P11,"TT.MM.JJ")) | W11: =IF(A11="","",B11&CHAR(10)&F11&CHAR(10)&S11&" "&I11&CHAR(10)&T11&" - "&U11)
S12: =IF(A12="","",TEXT(H12,"#.###.###")) | T12: =IF(A12="","",TEXT(O12,"TT.MM.JJ")) | U12: =IF(A12="","",TEXT(P12,"TT.MM.JJ")) | W12: =IF(A12="","",B12&CHAR(10)&F12&CHAR(10)&S12&" "&I12&CHAR(10)&T12&" - "&U12)
A13: Vor02 | B13: A000000-00 | F13: Produkt 13 | H13: 1 | I13: KG | O13: 42055 | P13: 42057 | S13: =IF(A13="","",TEXT(H13,"#.###.###")) -> 1 | T13: =IF(A13="","",TEXT(O13,"TT.MM.JJ")) -> 20.02.15 | U13: =IF(A13="","",TEXT(P13,"TT.MM.JJ")) -> 22.02.15 | W13: =IF(A13="","",B13&CHAR(10)&F13&CHAR(10)&S13&" "&I13&CHAR(10)&T13&" - "&U13) -> A000000-00 Produkt 13 1 KG 20.02.15 - 22.02.15
A14: Vor02 | B14: A123135-01 | F14: Produkt 14 | H14: 600 | I14: KG | O14: 42088 | P14: 42088 | S14: =IF(A14="","",TEXT(H14,"#.###.###")) -> 600 | T14: =IF(A14="","",TEXT(O14,"TT.MM.JJ")) -> 25.03.15 | U14: =IF(A14="","",TEXT(P14,"TT.MM.JJ")) -> 25.03.15 | W14: =IF(A14="","",B14&CHAR(10)&F14&CHAR(10)&S14&" "&I14&CHAR(10)&T14&" - "&U14) -> A123135-01 Produkt 14 600 KG 25.03.15 - 25.03.15
A15: Vor02 | B15: A122282-02 | F15: Produkt 15 | H15: 456.54 | I15: KG | O15: 42093 | P15: 42093 | S15: =IF(A15="","",TEXT(H15,"#.###.###")) -> 457 | T15: =IF(A15="","",TEXT(O15,"TT.MM.JJ")) -> 30.03.15 | U15: =IF(A15="","",TEXT(P15,"TT.MM.JJ")) -> 30.03.15 | W15: =IF(A15="","",B15&CHAR(10)&F15&CHAR(10)&S15&" "&I15&CHAR(10)&T15&" - "&U15) -> A122282-02 Produkt 15 457 KG 30.03.15 - 30.03.15
A16: Vor02 | B16: A122282-03 | F16: Produkt 16 | H16: 948.38 | I16: KG | O16: 42093 | P16: 42094 | S16: =IF(A16="","",TEXT(H16,"#.###.###")) -> 948 | T16: =IF(A16="","",TEXT(O16,"TT.MM.JJ")) -> 30.03.15 | U16: =IF(A16="","",TEXT(P16,"TT.MM.JJ")) -> 31.03.15 | W16: =IF(A16="","",B16&CHAR(10)&F16&CHAR(10)&S16&" "&I16&CHAR(10)&T16&" - "&U16) -> A122282-03 Produkt 16 948 KG 30.03.15 - 31.03.15
A17: Vor02 | B17: A122551-02 | F17: Produkt 17 | H17: 228.27 | I17: KG | O17: 42094 | P17: 42094 | S17: =IF(A17="","",TEXT(H17,"#.###.###")) -> 228 | T17: =IF(A17="","",TEXT(O17,"TT.MM.JJ")) -> 31.03.15 | U17: =IF(A17="","",TEXT(P17,"TT.MM.JJ")) -> 31.03.15 | W17: =IF(A17="","",B17&CHAR(10)&F17&CHAR(10)&S17&" "&I17&CHAR(10)&T17&" - "&U17) -> A122551-02 Produkt 17 228 KG 31.03.15 - 31.03.15
A18: Vor02 | B18: A122551-03 | F18: Produkt 18 | H18: 474.19 | I18: KG | O18: 42094 | P18: 42094 | S18: =IF(A18="","",TEXT(H18,"#.###.###")) -> 474 | T18: =IF(A18="","",TEXT(O18,"TT.MM.JJ")) -> 31.03.15 | U18: =IF(A18="","",TEXT(P18,"TT.MM.JJ")) -> 31.03.15 | W18: =IF(A18="","",B18&CHAR(10)&F18&CHAR(10)&S18&" "&I18&CHAR(10)&T18&" - "&U18) -> A122551-03 Produkt 18 474 KG 31.03.15 - 31.03.15
A19: Vor02 | B19: A122968-02 | F19: Produkt 19 | H19: 1896.76 | I19: KG | O19: 42094 | P19: 42095 | S19: =IF(A19="","",TEXT(H19,"#.###.###")) -> 1.897 | T19: =IF(A19="","",TEXT(O19,"TT.MM.JJ")) -> 31.03.15 | U19: =IF(A19="","",TEXT(P19,"TT.MM.JJ")) -> 01.04.15 | W19: =IF(A19="","",B19&CHAR(10)&F19&CHAR(10)&S19&" "&I19&CHAR(10)&T19&" - "&U19) -> A122968-02 Produkt 19 1.897 KG 31.03.15 - 01.04.15
A20: Vor02 | B20: A122968-01 | F20: Produkt 20 | H20: 913.08 | I20: KG | O20: 42095 | P20: 42096 | S20: =IF(A20="","",TEXT(H20,"#.###.###")) -> 913 | T20: =IF(A20="","",TEXT(O20,"TT.MM.JJ")) -> 01.04.15 | U20: =IF(A20="","",TEXT(P20,"TT.MM.JJ")) -> 02.04.15 | W20: =IF(A20="","",B20&CHAR(10)&F20&CHAR(10)&S20&" "&I20&CHAR(10)&T20&" - "&U20) -> A122968-01 Produkt 20 913 KG 01.04.15 - 02.04.15
A21: Vor02 | B21: A123138-01 | F21: Produkt 21 | H21: 1800 | I21: KG | O21: 42101 | P21: 42101 | S21: =IF(A21="","",TEXT(H21,"#.###.###")) -> 1.800 | T21: =IF(A21="","",TEXT(O21,"TT.MM.JJ")) -> 07.04.15 | U21: =IF(A21="","",TEXT(P21,"TT.MM.JJ")) -> 07.04.15 | W21: =IF(A21="","",B21&CHAR(10)&F21&CHAR(10)&S21&" "&I21&CHAR(10)&T21&" - "&U21) -> A123138-01 Produkt 21 1.800 KG 07.04.15 - 07.04.15
A22: Vor02 | B22: A122684-01 | F22: Produkt 22 | H22: 2138.4 | I22: KG | O22: 42101 | P22: 42107 | S22: =IF(A22="","",TEXT(H22,"#.###.###")) -> 2.138 | T22: =IF(A22="","",TEXT(O22,"TT.MM.JJ")) -> 07.04.15 | U22: =IF(A22="","",TEXT(P22,"TT.MM.JJ")) -> 13.04.15 | W22: =IF(A22="","",B22&CHAR(10)&F22&CHAR(10)&S22&" "&I22&CHAR(10)&T22&" - "&U22) -> A122684-01 Produkt 22 2.138 KG 07.04.15 - 13.04.15
S23: =IF(A23="","",TEXT(H23,"#.###.###")) | T23: =IF(A23="","",TEXT(O23,"TT.MM.JJ")) | U23: =IF(A23="","",TEXT(P23,"TT.MM.JJ")) | W23: =IF(A23="","",B23&CHAR(10)&F23&CHAR(10)&S23&" "&I23&CHAR(10)&T23&" - "&U23)
S24: =IF(A24="","",TEXT(H24,"#.###.###")) | T24: =IF(A24="","",TEXT(O24,"TT.MM.JJ")) | U24: =IF(A24="","",TEXT(P24,"TT.MM.JJ")) | W24: =IF(A24="","",B24&CHAR(10)&F24&CHAR(10)&S24&" "&I24&CHAR(10)&T24&" - "&U24)
A25: Vor03 | B25: A000000-00 | F25: Produkt 25 | H25: 1 | I25: KG | O25: 42055 | P25: 42057 | S25: =IF(A25="","",TEXT(H25,"#.###.###")) -> 1 | T25: =IF(A25="","",TEXT(O25,"TT.MM.JJ")) -> 20.02.15 | U25: =IF(A25="","",TEXT(P25,"TT.MM.JJ")) -> 22.02.15 | W25: =IF(A25="","",B25&CHAR(10)&F25&CHAR(10)&S25&" "&I25&CHAR(10)&T25&" - "&U25) -> A000000-00 Produkt 25 1 KG 20.02.15 - 22.02.15
A26: Vor03 | B26: A121744-03 | F26: Produkt 26 | H26: 7002.81 | I26: KG | O26: 42082 | P26: 42095 | S26: =IF(A26="","",TEXT(H26,"#.###.###")) -> 7.003 | T26: =IF(A26="","",TEXT(O26,"TT.MM.JJ")) -> 19.03.15 | U26: =IF(A26="","",TEXT(P26,"TT.MM.JJ")) -> 01.04.15 | W26: =IF(A26="","",B26&CHAR(10)&F26&CHAR(10)&S26&" "&I26&CHAR(10)&T26&" - "&U26) -> A121744-03 Produkt 26 7.003 KG 19.03.15 - 01.04.15
A27: Vor03 | B27: A123662-02 | F27: Produkt 27 | H27: 79.2 | I27: KG | O27: 42090 | P27: 42090 | S27: =IF(A27="","",TEXT(H27,"#.###.###")) -> 79 | T27: =IF(A27="","",TEXT(O27,"TT.MM.JJ")) -> 27.03.15 | U27: =IF(A27="","",TEXT(P27,"TT.MM.JJ")) -> 27.03.15 | W27: =IF(A27="","",B27&CHAR(10)&F27&CHAR(10)&S27&" "&I27&CHAR(10)&T27&" - "&U27) -> A123662-02 Produkt 27 79 KG 27.03.15 - 27.03.15
A28: Vor03 | B28: A122239-02 | F28: Produkt 28 | H28: 3326.4 | I28: KG | O28: 42093 | P28: 42095 | S28: =IF(A28="","",TEXT(H28,"#.###.###")) -> 3.326 | T28: =IF(A28="","",TEXT(O28,"TT.MM.JJ")) -> 30.03.15 | U28: =IF(A28="","",TEXT(P28,"TT.MM.JJ")) -> 01.04.15 | W28: =IF(A28="","",B28&CHAR(10)&F28&CHAR(10)&S28&" "&I28&CHAR(10)&T28&" - "&U28) -> A122239-02 Produkt 28 3.326 KG 30.03.15 - 01.04.15
A29: Vor03 | B29: A123246-03 | F29: Produkt 29 | H29: 304.47 | I29: KG | O29: 42107 | P29: 42107 | S29: =IF(A29="","",TEXT(H29,"#.###.###")) -> 304 | T29: =IF(A29="","",TEXT(O29,"TT.MM.JJ")) -> 13.04.15 | U29: =IF(A29="","",TEXT(P29,"TT.MM.JJ")) -> 13.04.15 | W29: =IF(A29="","",B29&CHAR(10)&F29&CHAR(10)&S29&" "&I29&CHAR(10)&T29&" - "&U29) -> A123246-03 Produkt 29 304 KG 13.04.15 - 13.04.15
A30: Vor03 | B30: A122981-02 | F30: Produkt 30 | H30: 1468.8 | I30: KG | O30: 42108 | P30: 42108 | S30: =IF(A30="","",TEXT(H30,"#.###.###")) -> 1.469 | T30: =IF(A30="","",TEXT(O30,"TT.MM.JJ")) -> 14.04.15 | U30: =IF(A30="","",TEXT(P30,"TT.MM.JJ")) -> 14.04.15 | W30: =IF(A30="","",B30&CHAR(10)&F30&CHAR(10)&S30&" "&I30&CHAR(10)&T30&" - "&U30) -> A122981-02 Produkt 30 1.469 KG 14.04.15 - 14.04.15
A31: Vor03 | B31: A122261-02 | F31: Produkt 31 | H31: 12178.8 | I31: KG | O31: 42114 | P31: 42137 | S31: =IF(A31="","",TEXT(H31,"#.###.###")) -> 12.179 | T31: =IF(A31="","",TEXT(O31,"TT.MM.JJ")) -> 20.04.15 | U31: =IF(A31="","",TEXT(P31,"TT.MM.JJ")) -> 13.05.15 | W31: =IF(A31="","",B31&CHAR(10)&F31&CHAR(10)&S31&" "&I31&CHAR(10)&T31&" - "&U31) -> A122261-02 Produkt 31 12.179 KG 20.04.15 - 13.05.15
A32: Vor03 | B32: A115438-02 | F32: Produkt 32 | H32: 465.5 | I32: KG | O32: 42142 | P32: 42142 | S32: =IF(A32="","",TEXT(H32,"#.###.###")) -> 466 | T32: =IF(A32="","",TEXT(O32,"TT.MM.JJ")) -> 18.05.15 | U32: =IF(A32="","",TEXT(P32,"TT.MM.JJ")) -> 18.05.15 | W32: =IF(A32="","",B32&CHAR(10)&F32&CHAR(10)&S32&" "&I32&CHAR(10)&T32&" - "&U32) -> A115438-02 Produkt 32 466 KG 18.05.15 - 18.05.15
A33: Vor03 | B33: A123359-08 | F33: Produkt 33 | H33: 476 | I33: KG | O33: 42143 | P33: 42143 | S33: =IF(A33="","",TEXT(H33,"#.###.###")) -> 476 | T33: =IF(A33="","",TEXT(O33,"TT.MM.JJ")) -> 19.05.15 | U33: =IF(A33="","",TEXT(P33,"TT.MM.JJ")) -> 19.05.15 | W33: =IF(A33="","",B33&CHAR(10)&F33&CHAR(10)&S33&" "&I33&CHAR(10)&T33&" - "&U33) -> A123359-08 Produkt 33 476 KG 19.05.15 - 19.05.15
A34: Vor03 | B34: A123359-02 | F34: Produkt 34 | H34: 952 | I34: KG | O34: 42144 | P34: 42144 | S34: =IF(A34="","",TEXT(H34,"#.###.###")) -> 952 | T34: =IF(A34="","",TEXT(O34,"TT.MM.JJ")) -> 20.05.15 | U34: =IF(A34="","",TEXT(P34,"TT.MM.JJ")) -> 20.05.15 | W34: =IF(A34="","",B34&CHAR(10)&F34&CHAR(10)&S34&" "&I34&CHAR(10)&T34&" - "&U34) -> A123359-02 Produkt 34 952 KG 20.05.15 - 20.05.15
S35: =IF(A35="","",TEXT(H35,"#.###.###")) | T35: =IF(A35="","",TEXT(O35,"TT.MM.JJ")) | U35: =IF(A35="","",TEXT(P35,"TT.MM.JJ")) | W35: =IF(A35="","",B35&CHAR(10)&F35&CHAR(10)&S35&" "&I35&CHAR(10)&T35&" - "&U35)
S36: =IF(A36="","",TEXT(H36,"#.###.###")) | T36: =IF(A36="","",TEXT(O36,"TT.MM.JJ")) | U36: =IF(A36="","",TEXT(P36,"TT.MM.JJ")) | W36: =IF(A36="","",B36&CHAR(10)&F36&CHAR(10)&S36&" "&I36&CHAR(10)&T36&" - "&U36)
A37: Vor04 | B37: A000000-00 | F37: Produkt 37 | H37: 1 | I37: KG | O37: 42055 | P37: 42057 | S37: =IF(A37="","",TEXT(H37,"#.###.###")) -> 1 | T37: =IF(A37="","",TEXT(O37,"TT.MM.JJ")) -> 20.02.15 | U37: =IF(A37="","",TEXT(P37,"TT.MM.JJ")) -> 22.02.15 | W37: =IF(A37="","",B37&CHAR(10)&F37&CHAR(10)&S37&" "&I37&CHAR(10)&T37&" - "&U37) -> A000000-00 Produkt 37 1 KG 20.02.15 - 22.02.15
A38: Vor04 | B38: A120143-02 | F38: Produkt 38 | H38: 465.5 | I38: KG | O38: 42086 | P38: 42087 | S38: =IF(A38="","",TEXT(H38,"#.###.###")) -> 466 | T38: =IF(A38="","",TEXT(O38,"TT.MM.JJ")) -> 23.03.15 | U38: =IF(A38="","",TEXT(P38,"TT.MM.JJ")) -> 24.03.15 | W38: =IF(A38="","",B38&CHAR(10)&F38&CHAR(10)&S38&" "&I38&CHAR(10)&T38&" - "&U38) -> A120143-02 Produkt 38 466 KG 23.03.15 - 24.03.15
A39: Vor04 | B39: A122727-03 | F39: Produkt 39 | H39: 501.6 | I39: KG | O39: 42086 | P39: 42088 | S39: =IF(A39="","",TEXT(H39,"#.###.###")) -> 502 | T39: =IF(A39="","",TEXT(O39,"TT.MM.JJ")) -> 23.03.15 | U39: =IF(A39="","",TEXT(P39,"TT.MM.JJ")) -> 25.03.15 | W39: =IF(A39="","",B39&CHAR(10)&F39&CHAR(10)&S39&" "&I39&CHAR(10)&T39&" - "&U39) -> A122727-03 Produkt 39 502 KG 23.03.15 - 25.03.15
A40: Vor04 | B40: A120903-02 | F40: Produkt 40 | H40: 16667.75 | I40: KG | O40: 42121 | P40: 42132 | S40: =IF(A40="","",TEXT(H40,"#.###.###")) -> 16.668 | T40: =IF(A40="","",TEXT(O40,"TT.MM.JJ")) -> 27.04.15 | U40: =IF(A40="","",TEXT(P40,"TT.MM.JJ")) -> 08.05.15 | W40: =IF(A40="","",B40&CHAR(10)&F40&CHAR(10)&S40&" "&I40&CHAR(10)&T40&" - "&U40) -> A120903-02 Produkt 40 16.668 KG 27.04.15 - 08.05.15
S41: =IF(A41="","",TEXT(H41,"#.###.###")) | T41: =IF(A41="","",TEXT(O41,"TT.MM.JJ")) | U41: =IF(A41="","",TEXT(P41,"TT.MM.JJ")) | W41: =IF(A41="","",B41&CHAR(10)&F41&CHAR(10)&S41&" "&I41&CHAR(10)&T41&" - "&U41)
S42: =IF(A42="","",TEXT(H42,"#.###.###")) | T42: =IF(A42="","",TEXT(O42,"TT.MM.JJ")) | U42: =IF(A42="","",TEXT(P42,"TT.MM.JJ")) | W42: =IF(A42="","",B42&CHAR(10)&F42&CHAR(10)&S42&" "&I42&CHAR(10)&T42&" - "&U42)
S43: =IF(A43="","",TEXT(H43,"#.###.###")) | T43: =IF(A43="","",TEXT(O43,"TT.MM.JJ")) | U43: =IF(A43="","",TEXT(P43,"TT.MM.JJ")) | W43: =IF(A43="","",B43&CHAR(10)&F43&CHAR(10)&S43&" "&I43&CHAR(10)&T43&" - "&U43)
S44: =IF(A44="","",TEXT(H44,"#.###.###")) | T44: =IF(A44="","",TEXT(O44,"TT.MM.JJ")) | U44: =IF(A44="","",TEXT(P44,"TT.MM.JJ")) | W44: =IF(A44="","",B44&CHAR(10)&F44&CHAR(10)&S44&" "&I44&CHAR(10)&T44&" - "&U44)
S45: =IF(A45="","",TEXT(H45,"#.###.###")) | T45: =IF(A45="","",TEXT(O45,"TT.MM.JJ")) | U45: =IF(A45="","",TEXT(P45,"TT.MM.JJ")) | W45: =IF(A45="","",B45&CHAR(10)&F45&CHAR(10)&S45&" "&I45&CHAR(10)&T45&" - "&U45)
S46: =IF(A46="","",TEXT(H46,"#.###.###")) | T46: =IF(A46="","",TEXT(O46,"TT.MM.JJ")) | U46: =IF(A46="","",TEXT(P46,"TT.MM.JJ")) | W46: =IF(A46="","",B46&CHAR(10)&F46&CHAR(10)&S46&" "&I46&CHAR(10)&T46&" - "&U46)
S47: =IF(A47="","",TEXT(H47,"#.###.###")) | T47: =IF(A47="","",TEXT(O47,"TT.MM.JJ")) | U47: =IF(A47="","",TEXT(P47,"TT.MM.JJ")) | W47: =IF(A47="","",B47&CHAR(10)&F47&CHAR(10)&S47&" "&I47&CHAR(10)&T47&" - "&U47)
S48: =IF(A48="","",TEXT(H48,"#.###.###")) | T48: =IF(A48="","",TEXT(O48,"TT.MM.JJ")) | U48: =IF(A48="","",TEXT(P48,"TT.MM.JJ")) | W48: =IF(A48="","",B48&CHAR(10)&F48&CHAR(10)&S48&" "&I48&CHAR(10)&T48&" - "&U48)
A49: Vor05 | B49: A000000-00 | F49: Produkt 49 | H49: 1 | I49: KG | O49: 42055 | P49: 42057 | S49: =IF(A49="","",TEXT(H49,"#.###.###")) -> 1 | T49: =IF(A49="","",TEXT(O49,"TT.MM.JJ")) -> 20.02.15 | U49: =IF(A49="","",TEXT(P49,"TT.MM.JJ")) -> 22.02.15 | W49: =IF(A49="","",B49&CHAR(10)&F49&CHAR(10)&S49&" "&I49&CHAR(10)&T49&" - "&U49) -> A000000-00 Produkt 49 1 KG 20.02.15 - 22.02.15
A50: Vor05 | B50: A122030-01 | F50: Produkt 50 | H50: 4930 | I50: KG | O50: 42087 | P50: 42090 | S50: =IF(A50="","",TEXT(H50,"#.###.###")) -> 4.930 | T50: =IF(A50="","",TEXT(O50,"TT.MM.JJ")) -> 24.03.15 | U50: =IF(A50="","",TEXT(P50,"TT.MM.JJ")) -> 27.03.15 | W50: =IF(A50="","",B50&CHAR(10)&F50&CHAR(10)&S50&" "&I50&CHAR(10)&T50&" - "&U50) -> A122030-01 Produkt 50 4.930 KG 24.03.15 - 27.03.15
A51: Vor05 | B51: A122574-01 | F51: Produkt 51 | H51: 985.755 | I51: KG | O51: 42089 | P51: 42090 | S51: =IF(A51="","",TEXT(H51,"#.###.###")) -> 986 | T51: =IF(A51="","",TEXT(O51,"TT.MM.JJ")) -> 26.03.15 | U51: =IF(A51="","",TEXT(P51,"TT.MM.JJ")) -> 27.03.15 | W51: =IF(A51="","",B51&CHAR(10)&F51&CHAR(10)&S51&" "&I51&CHAR(10)&T51&" - "&U51) -> A122574-01 Produkt 51 986 KG 26.03.15 - 27.03.15
A52: Vor05 | B52: A122574-07 | F52: Produkt 52 | H52: 2464.386 | I52: KG | O52: 42090 | P52: 42093 | S52: =IF(A52="","",TEXT(H52,"#.###.###")) -> 2.464 | T52: =IF(A52="","",TEXT(O52,"TT.MM.JJ")) -> 27.03.15 | U52: =IF(A52="","",TEXT(P52,"TT.MM.JJ")) -> 30.03.15 | W52: =IF(A52="","",B52&CHAR(10)&F52&CHAR(10)&S52&" "&I52&CHAR(10)&T52&" - "&U52) -> A122574-07 Produkt 52 2.464 KG 27.03.15 - 30.03.15
A53: Vor05 | B53: A123423-01 | F53: Produkt 53 | H53: 9743.5 | I53: KG | O53: 42094 | P53: 42103 | S53: =IF(A53="","",TEXT(H53,"#.###.###")) -> 9.744 | T53: =IF(A53="","",TEXT(O53,"TT.MM.JJ")) -> 31.03.15 | U53: =IF(A53="","",TEXT(P53,"TT.MM.JJ")) -> 09.04.15 | W53: =IF(A53="","",B53&CHAR(10)&F53&CHAR(10)&S53&" "&I53&CHAR(10)&T53&" - "&U53) -> A123423-01 Produkt 53 9.744 KG 31.03.15 - 09.04.15
A54: Vor05 | B54: A122843-01 | F54: Produkt 54 | H54: 1832 | I54: KG | O54: 42104 | P54: 42108 | S54: =IF(A54="","",TEXT(H54,"#.###.###")) -> 1.832 | T54: =IF(A54="","",TEXT(O54,"TT.MM.JJ")) -> 10.04.15 | U54: =IF(A54="","",TEXT(P54,"TT.MM.JJ")) -> 14.04.15 | W54: =IF(A54="","",B54&CHAR(10)&F54&CHAR(10)&S54&" "&I54&CHAR(10)&T54&" - "&U54) -> A122843-01 Produkt 54 1.832 KG 10.04.15 - 14.04.15
A55: Vor05 | B55: A123496-01 | F55: Produkt 55 | H55: 1832 | I55: KG | O55: 42108 | P55: 42110 | S55: =IF(A55="","",TEXT(H55,"#.###.###")) -> 1.832 | T55: =IF(A55="","",TEXT(O55,"TT.MM.JJ")) -> 14.04.15 | U55: =IF(A55="","",TEXT(P55,"TT.MM.JJ")) -> 16.04.15 | W55: =IF(A55="","",B55&CHAR(10)&F55&CHAR(10)&S55&" "&I55&CHAR(10)&T55&" - "&U55) -> A123496-01 Produkt 55 1.832 KG 14.04.15 - 16.04.15
A56: Vor05 | B56: A121395-01 | F56: Produkt 56 | H56: 2290 | I56: KG | O56: 42110 | P56: 42114 | S56: =IF(A56="","",TEXT(H56,"#.###.###")) -> 2.290 | T56: =IF(A56="","",TEXT(O56,"TT.MM.JJ")) -> 16.04.15 | U56: =IF(A56="","",TEXT(P56,"TT.MM.JJ")) -> 20.04.15 | W56: =IF(A56="","",B56&CHAR(10)&F56&CHAR(10)&S56&" "&I56&CHAR(10)&T56&" - "&U56) -> A121395-01 Produkt 56 2.290 KG 16.04.15 - 20.04.15
A57: Vor05 | B57: A120028-01 | F57: Produkt 57 | H57: 5496 | I57: KG | O57: 42114 | P57: 42117 | S57: =IF(A57="","",TEXT(H57,"#.###.###")) -> 5.496 | T57: =IF(A57="","",TEXT(O57,"TT.MM.JJ")) -> 20.04.15 | U57: =IF(A57="","",TEXT(P57,"TT.MM.JJ")) -> 23.04.15 | W57: =IF(A57="","",B57&CHAR(10)&F57&CHAR(10)&S57&" "&I57&CHAR(10)&T57&" - "&U57) -> A120028-01 Produkt 57 5.496 KG 20.04.15 - 23.04.15
A58: Vor05 | B58: A122095-01 | F58: Produkt 58 | H58: 916 | I58: KG | O58: 42117 | P58: 42118 | S58: =IF(A58="","",TEXT(H58,"#.###.###")) -> 916 | T58: =IF(A58="","",TEXT(O58,"TT.MM.JJ")) -> 23.04.15 | U58: =IF(A58="","",TEXT(P58,"TT.MM.JJ")) -> 24.04.15 | W58: =IF(A58="","",B58&CHAR(10)&F58&CHAR(10)&S58&" "&I58&CHAR(10)&T58&" - "&U58) -> A122095-01 Produkt 58 916 KG 23.04.15 - 24.04.15
S59: =IF(A59="","",TEXT(H59,"#.###.###")) | T59: =IF(A59="","",TEXT(O59,"TT.MM.JJ")) | U59: =IF(A59="","",TEXT(P59,"TT.MM.JJ")) | W59: =IF(A59="","",B59&CHAR(10)&F59&CHAR(10)&S59&" "&I59&CHAR(10)&T59&" - "&U59)
S60: =IF(A60="","",TEXT(H60,"#.###.###")) | T60: =IF(A60="","",TEXT(O60,"TT.MM.JJ")) | U60: =IF(A60="","",TEXT(P60,"TT.MM.JJ")) | W60: =IF(A60="","",B60&CHAR(10)&F60&CHAR(10)&S60&" "&I60&CHAR(10)&T60&" - "&U60)
A61: Vor06 | B61: A000000-00 | F61: Produkt 61 | H61: 1 | I61: KG | O61: 42055 | P61: 42057 | S61: =IF(A61="","",TEXT(H61,"#.###.###")) -> 1 | T61: =IF(A61="","",TEXT(O61,"TT.MM.JJ")) -> 20.02.15 | U61: =IF(A61="","",TEXT(P61,"TT.MM.JJ")) -> 22.02.15 | W61: =IF(A61="","",B61&CHAR(10)&F61&CHAR(10)&S61&" "&I61&CHAR(10)&T61&" - "&U61) -> A000000-00 Produkt 61 1 KG 20.02.15 - 22.02.15
A62: Vor06 | B62: A121583-01 | F62: Produkt 62 | H62: 4948.5 | I62: KG | O62: 42081 | P62: 42090 | S62: =IF(A62="","",TEXT(H62,"#.###.###")) -> 4.949 | T62: =IF(A62="","",TEXT(O62,"TT.MM.JJ")) -> 18.03.15 | U62: =IF(A62="","",TEXT(P62,"TT.MM.JJ")) -> 27.03.15 | W62: =IF(A62="","",B62&CHAR(10)&F62&CHAR(10)&S62&" "&I62&CHAR(10)&T62&" - "&U62) -> A121583-01 Produkt 62 4.949 KG 18.03.15 - 27.03.15
A63: Vor06 | B63: A122369-01 | F63: Produkt 63 | H63: 11000 | I63: KG | O63: 42093 | P63: 42102 | S63: =IF(A63="","",TEXT(H63,"#.###.###")) -> 11.000 | T63: =IF(A63="","",TEXT(O63,"TT.MM.JJ")) -> 30.03.15 | U63: =IF(A63="","",TEXT(P63,"TT.MM.JJ")) -> 08.04.15 | W63: =IF(A63="","",B63&CHAR(10)&F63&CHAR(10)&S63&" "&I63&CHAR(10)&T63&" - "&U63) -> A122369-01 Produkt 63 11.000 KG 30.03.15 - 08.04.15
A64: Vor06 | B64: A122892-01 | F64: Produkt 64 | H64: 11000 | I64: KG | O64: 42102 | P64: 42110 | S64: =IF(A64="","",TEXT(H64,"#.###.###")) -> 11.000 | T64: =IF(A64="","",TEXT(O64,"TT.MM.JJ")) -> 08.04.15 | U64: =IF(A64="","",TEXT(P64,"TT.MM.JJ")) -> 16.04.15 | W64: =IF(A64="","",B64&CHAR(10)&F64&CHAR(10)&S64&" "&I64&CHAR(10)&T64&" - "&U64) -> A122892-01 Produkt 64 11.000 KG 08.04.15 - 16.04.15
A65: Vor06 | B65: A121995-01 | F65: Produkt 65 | H65: 5910 | I65: KG | O65: 42111 | P65: 42116 | S65: =IF(A65="","",TEXT(H65,"#.###.###")) -> 5.910 | T65: =IF(A65="","",TEXT(O65,"TT.MM.JJ")) -> 17.04.15 | U65: =IF(A65="","",TEXT(P65,"TT.MM.JJ")) -> 22.04.15 | W65: =IF(A65="","",B65&CHAR(10)&F65&CHAR(10)&S65&" "&I65&CHAR(10)&T65&" - "&U65) -> A121995-01 Produkt 65 5.910 KG 17.04.15 - 22.04.15
A66: Vor06 | B66: A122905-01 | F66: Produkt 66 | H66: 510 | I66: KG | O66: 42117 | P66: 42118 | S66: =IF(A66="","",TEXT(H66,"#.###.###")) -> 510 | T66: =IF(A66="","",TEXT(O66,"TT.MM.JJ")) -> 23.04.15 | U66: =IF(A66="","",TEXT(P66,"TT.MM.JJ")) -> 24.04.15 | W66: =IF(A66="","",B66&CHAR(10)&F66&CHAR(10)&S66&" "&I66&CHAR(10)&T66&" - "&U66) -> A122905-01 Produkt 66 510 KG 23.04.15 - 24.04.15
A67: Vor06 | B67: A122079-01 | F67: Produkt 67 | H67: 8925 | I67: KG | O67: 42118 | P67: 42125 | S67: =IF(A67="","",TEXT(H67,"#.###.###")) -> 8.925 | T67: =IF(A67="","",TEXT(O67,"TT.MM.JJ")) -> 24.04.15 | U67: =IF(A67="","",TEXT(P67,"TT.MM.JJ")) -> 01.05.15 | W67: =IF(A67="","",B67&CHAR(10)&F67&CHAR(10)&S67&" "&I67&CHAR(10)&T67&" - "&U67) -> A122079-01 Produkt 67 8.925 KG 24.04.15 - 01.05.15
A68: Vor06 | B68: A122706-01 | F68: Produkt 68 | H68: 2474.25 | I68: KG | O68: 42128 | P68: 42132 | S68: =IF(A68="","",TEXT(H68,"#.###.###")) -> 2.474 | T68: =IF(A68="","",TEXT(O68,"TT.MM.JJ")) -> 04.05.15 | U68: =IF(A68="","",TEXT(P68,"TT.MM.JJ")) -> 08.05.15 | W68: =IF(A68="","",B68&CHAR(10)&F68&CHAR(10)&S68&" "&I68&CHAR(10)&T68&" - "&U68) -> A122706-01 Produkt 68 2.474 KG 04.05.15 - 08.05.15
A69: Vor06 | B69: A122896-01 | F69: Produkt 69 | H69: 14476 | I69: KG | O69: 42135 | P69: 42153 | S69: =IF(A69="","",TEXT(H69,"#.###.###")) -> 14.476 | T69: =IF(A69="","",TEXT(O69,"TT.MM.JJ")) -> 11.05.15 | U69: =IF(A69="","",TEXT(P69,"TT.MM.JJ")) -> 29.05.15 | W69: =IF(A69="","",B69&CHAR(10)&F69&CHAR(10)&S69&" "&I69&CHAR(10)&T69&" - "&U69) -> A122896-01 Produkt 69 14.476 KG 11.05.15 - 29.05.15
A70: Vor06 | B70: A123234-01 | F70: Produkt 70 | H70: 22000 | I70: KG | O70: 42153 | P70: 42177 | S70: =IF(A70="","",TEXT(H70,"#.###.###")) -> 22.000 | T70: =IF(A70="","",TEXT(O70,"TT.MM.JJ")) -> 29.05.15 | U70: =IF(A70="","",TEXT(P70,"TT.MM.JJ")) -> 22.06.15 | W70: =IF(A70="","",B70&CHAR(10)&F70&CHAR(10)&S70&" "&I70&CHAR(10)&T70&" - "&U70) -> A123234-01 Produkt 70 22.000 KG 29.05.15 - 22.06.15
S71: =IF(A71="","",TEXT(H71,"#.###.###")) | T71: =IF(A71="","",TEXT(O71,"TT.MM.JJ")) | U71: =IF(A71="","",TEXT(P71,"TT.MM.JJ")) | W71: =IF(A71="","",B71&CHAR(10)&F71&CHAR(10)&S71&" "&I71&CHAR(10)&T71&" - "&U71)
S72: =IF(A72="","",TEXT(H72,"#.###.###")) | T72: =IF(A72="","",TEXT(O72,"TT.MM.JJ")) | U72: =IF(A72="","",TEXT(P72,"TT.MM.JJ")) | W72: =IF(A72="","",B72&CHAR(10)&F72&CHAR(10)&S72&" "&I72&CHAR(10)&T72&" - "&U72)
A73: Vor07 | B73: A000000-00 | F73: Produkt 73 | H73: 1 | I73: KG | O73: 42055 | P73: 42057 | S73: =IF(A73="","",TEXT(H73,"#.###.###")) -> 1 | T73: =IF(A73="","",TEXT(O73,"TT.MM.JJ")) -> 20.02.15 | U73: =IF(A73="","",TEXT(P73,"TT.MM.JJ")) -> 22.02.15 | W73: =IF(A73="","",B73&CHAR(10)&F73&CHAR(10)&S73&" "&I73&CHAR(10)&T73&" - "&U73) -> A000000-00 Produkt 73 1 KG 20.02.15 - 22.02.15
A74: Vor07 | B74: A122298-02 | F74: Produkt 74 | H74: 810.42 | I74: KG | O74: 42093 | P74: 42093 | S74: =IF(A74="","",TEXT(H74,"#.###.###")) -> 810 | T74: =IF(A74="","",TEXT(O74,"TT.MM.JJ")) -> 30.03.15 | U74: =IF(A74="","",TEXT(P74,"TT.MM.JJ")) -> 30.03.15 | W74: =IF(A74="","",B74&CHAR(10)&F74&CHAR(10)&S74&" "&I74&CHAR(10)&T74&" - "&U74) -> A122298-02 Produkt 74 810 KG 30.03.15 - 30.03.15
A75: Vor07 | B75: A122493-02 | F75: Produkt 75 | H75: 2202.915 | I75: KG | O75: 42095 | P75: 42095 | S75: =IF(A75="","",TEXT(H75,"#.###.###")) -> 2.203 | T75: =IF(A75="","",TEXT(O75,"TT.MM.JJ")) -> 01.04.15 | U75: =IF(A75="","",TEXT(P75,"TT.MM.JJ")) -> 01.04.15 | W75: =IF(A75="","",B75&CHAR(10)&F75&CHAR(10)&S75&" "&I75&CHAR(10)&T75&" - "&U75) -> A122493-02 Produkt 75 2.203 KG 01.04.15 - 01.04.15
A76: Vor07 | B76: A122299-02 | F76: Produkt 76 | H76: 1528.8 | I76: KG | O76: 42101 | P76: 42101 | S76: =IF(A76="","",TEXT(H76,"#.###.###")) -> 1.529 | T76: =IF(A76="","",TEXT(O76,"TT.MM.JJ")) -> 07.04.15 | U76: =IF(A76="","",TEXT(P76,"TT.MM.JJ")) -> 07.04.15 | W76: =IF(A76="","",B76&CHAR(10)&F76&CHAR(10)&S76&" "&I76&CHAR(10)&T76&" - "&U76) -> A122299-02 Produkt 76 1.529 KG 07.04.15 - 07.04.15
A77: Vor07 | B77: A122299-06 | F77: Produkt 77 | H77: 1337.7 | I77: KG | O77: 42103 | P77: 42103 | S77: =IF(A77="","",TEXT(H77,"#.###.###")) -> 1.338 | T77: =IF(A77="","",TEXT(O77,"TT.MM.JJ")) -> 09.04.15 | U77: =IF(A77="","",TEXT(P77,"TT.MM.JJ")) -> 09.04.15 | W77: =IF(A77="","",B77&CHAR(10)&F77&CHAR(10)&S77&" "&I77&CHAR(10)&T77&" - "&U77) -> A122299-06 Produkt 77 1.338 KG 09.04.15 - 09.04.15
A78: Vor07 | B78: A122262-02 | F78: Produkt 78 | H78: 1186.185 | I78: KG | O78: 42115 | P78: 42115 | S78: =IF(A78="","",TEXT(H78,"#.###.###")) -> 1.186 | T78: =IF(A78="","",TEXT(O78,"TT.MM.JJ")) -> 21.04.15 | U78: =IF(A78="","",TEXT(P78,"TT.MM.JJ")) -> 21.04.15 | W78: =IF(A78="","",B78&CHAR(10)&F78&CHAR(10)&S78&" "&I78&CHAR(10)&T78&" - "&U78) -> A122262-02 Produkt 78 1.186 KG 21.04.15 - 21.04.15
A79: Vor07 | B79: A122494-02 | F79: Produkt 79 | H79: 1694.55 | I79: KG | O79: 42118 | P79: 42118 | S79: =IF(A79="","",TEXT(H79,"#.###.###")) -> 1.695 | T79: =IF(A79="","",TEXT(O79,"TT.MM.JJ")) -> 24.04.15 | U79: =IF(A79="","",TEXT(P79,"TT.MM.JJ")) -> 24.04.15 | W79: =IF(A79="","",B79&CHAR(10)&F79&CHAR(10)&S79&" "&I79&CHAR(10)&T79&" - "&U79) -> A122494-02 Produkt 79 1.695 KG 24.04.15 - 24.04.15
A80: Vor07 | B80: A123449-02 | F80: Produkt 80 | H80: 338.9 | I80: KG | O80: 42124 | P80: 42124 | S80: =IF(A80="","",TEXT(H80,"#.###.###")) -> 339 | T80: =IF(A80="","",TEXT(O80,"TT.MM.JJ")) -> 30.04.15 | U80: =IF(A80="","",TEXT(P80,"TT.MM.JJ")) -> 30.04.15 | W80: =IF(A80="","",B80&CHAR(10)&F80&CHAR(10)&S80&" "&I80&CHAR(10)&T80&" - "&U80) -> A123449-02 Produkt 80 339 KG 30.04.15 - 30.04.15
A81: Vor07 | B81: A123454-02 | F81: Produkt 81 | H81: 169.45 | I81: KG | O81: 42124 | P81: 42124 | S81: =IF(A81="","",TEXT(H81,"#.###.###")) -> 169 | T81: =IF(A81="","",TEXT(O81,"TT.MM.JJ")) -> 30.04.15 | U81: =IF(A81="","",TEXT(P81,"TT.MM.JJ")) -> 30.04.15 | W81: =IF(A81="","",B81&CHAR(10)&F81&CHAR(10)&S81&" "&I81&CHAR(10)&T81&" - "&U81) -> A123454-02 Produkt 81 169 KG 30.04.15 - 30.04.15
A82: Vor07 | B82: A122500-02 | F82: Produkt 82 | H82: 148.72 | I82: KG | O82: 42128 | P82: 42128 | S82: =IF(A82="","",TEXT(H82,"#.###.###")) -> 149 | T82: =IF(A82="","",TEXT(O82,"TT.MM.JJ")) -> 04.05.15 | U82: =IF(A82="","",TEXT(P82,"TT.MM.JJ")) -> 04.05.15 | W82: =IF(A82="","",B82&CHAR(10)&F82&CHAR(10)&S82&" "&I82&CHAR(10)&T82&" - "&U82) -> A122500-02 Produkt 82 149 KG 04.05.15 - 04.05.15
S83: =IF(A83="","",TEXT(H83,"#.###.###")) | T83: =IF(A83="","",TEXT(O83,"TT.MM.JJ")) | U83: =IF(A83="","",TEXT(P83,"TT.MM.JJ")) | W83: =IF(A83="","",B83&CHAR(10)&F83&CHAR(10)&S83&" "&I83&CHAR(10)&T83&" - "&U83)
S84: =IF(A84="","",TEXT(H84,"#.###.###")) | T84: =IF(A84="","",TEXT(O84,"TT.MM.JJ")) | U84: =IF(A84="","",TEXT(P84,"TT.MM.JJ")) | W84: =IF(A84="","",B84&CHAR(10)&F84&CHAR(10)&S84&" "&I84&CHAR(10)&T84&" - "&U84)
S85: =IF(A85="","",TEXT(H85,"#.###.###")) | T85: =IF(A85="","",TEXT(O85,"TT.MM.JJ")) | U85: =IF(A85="","",TEXT(P85,"TT.MM.JJ")) | W85: =IF(A85="","",B85&CHAR(10)&F85&CHAR(10)&S85&" "&I85&CHAR(10)&T85&" - "&U85)
S86: =IF(A86="","",TEXT(H86,"#.###.###")) | T86: =IF(A86="","",TEXT(O86,"TT.MM.JJ")) | U86: =IF(A86="","",TEXT(P86,"TT.MM.JJ")) | W86: =IF(A86="","",B86&CHAR(10)&F86&CHAR(10)&S86&" "&I86&CHAR(10)&T86&" - "&U86)
S87: =IF(A87="","",TEXT(H87,"#.###.###")) | T87: =IF(A87="","",TEXT(O87,"TT.MM.JJ")) | U87: =IF(A87="","",TEXT(P87,"TT.MM.JJ")) | W87: =IF(A87="","",B87&CHAR(10)&F87&CHAR(10)&S87&" "&I87&CHAR(10)&T87&" - "&U87)
S88: =IF(A88="","",TEXT(H88,"#.###.###")) | T88: =IF(A88="","",TEXT(O88,"TT.MM.JJ")) | U88: =IF(A88="","",TEXT(P88,"TT.MM.JJ")) | W88: =IF(A88="","",B88&CHAR(10)&F88&CHAR(10)&S88&" "&I88&CHAR(10)&T88&" - "&U88)
S89: =IF(A89="","",TEXT(H89,"#.###.###")) | T89: =IF(A89="","",TEXT(O89,"TT.MM.JJ")) | U89: =IF(A89="","",TEXT(P89,"TT.MM.JJ")) | W89: =IF(A89="","",B89&CHAR(10)&F89&CHAR(10)&S89&" "&I89&CHAR(10)&T89&" - "&U89)
S90: =IF(A90="","",TEXT(H90,"#.###.###")) | T90: =IF(A90="","",TEXT(O90,"TT.MM.JJ")) | U90: =IF(A90="","",TEXT(P90,"TT.MM.JJ")) | W90: =IF(A90="","",B90&CHAR(10)&F90&CHAR(10)&S90&" "&I90&CHAR(10)&T90&" - "&U90)
S91: =IF(A91="","",TEXT(H91,"#.###.###")) | T91: =IF(A91="","",TEXT(O91,"TT.MM.JJ")) | U91: =IF(A91="","",TEXT(P91,"TT.MM.JJ")) | W91: =IF(A91="","",B91&CHAR(10)&F91&CHAR(10)&S91&" "&I91&CHAR(10)&T91&" - "&U91)
S92: =IF(A92="","",TEXT(H92,"#.###.###")) | T92: =IF(A92="","",TEXT(O92,"TT.MM.JJ")) | U92: =IF(A92="","",TEXT(P92,"TT.MM.JJ")) | W92: =IF(A92="","",B92&CHAR(10)&F92&CHAR(10)&S92&" "&I92&CHAR(10)&T92&" - "&U92)
S93: =IF(A93="","",TEXT(H93,"#.###.###")) | T93: =IF(A93="","",TEXT(O93,"TT.MM.JJ")) | U93: =IF(A93="","",TEXT(P93,"TT.MM.JJ")) | W93: =IF(A93="","",B93&CHAR(10)&F93&CHAR(10)&S93&" "&I93&CHAR(10)&T93&" - "&U93)
S94: =IF(A94="","",TEXT(H94,"#.###.###")) | T94: =IF(A94="","",TEXT(O94,"TT.MM.JJ")) | U94: =IF(A94="","",TEXT(P94,"TT.MM.JJ")) | W94: =IF(A94="","",B94&CHAR(10)&F94&CHAR(10)&S94&" "&I94&CHAR(10)&T94&" - "&U94)
... S200: =IF(A200="","",TEXT(H200,"#.###.###")) | T200: =IF(A200="","",TEXT(O200,"TT.MM.JJ")) | U200: =IF(A200="","",TEXT(P200,"TT.MM.JJ")) | W200: =IF(A200="","",B200&CHAR(10)&F200&CHAR(10)&S200&" "&I200&CHAR(10)&T200&" - "&U200)

Sheet Gruppe_Vor_02
A1: Vor10 | B1: A000000-00 | F1: Produkt 1 | H1: 1 | I1: KG | O1: 42055 | P1: 42057 | S1: =IF(A1="","",TEXT(H1,"#.###.###")) -> 1 | T1: =IF(A1="","",TEXT(O1,"TT.MM.JJ")) -> 20.02.15 | U1: =IF(A1="","",TEXT(P1,"TT.MM.JJ")) -> 22.02.15 | W1: =IF(A1="","",B1&CHAR(10)&F1&CHAR(10)&S1&" "&I1&CHAR(10)&T1&" - "&U1) -> A000000-00 Produkt 1 1 KG 20.02.15 - 22.02.15
A2: Vor10 | B2: A121601-01 | F2: Produkt 2 | H2: 600.025 | I2: KG | O2: 42128 | P2: 42131 | S2: =IF(A2="","",TEXT(H2,"#.###.###")) -> 600 | T2: =IF(A2="","",TEXT(O2,"TT.MM.JJ")) -> 04.05.15 | U2: =IF(A2="","",TEXT(P2,"TT.MM.JJ")) -> 07.05.15 | W2: =IF(A2="","",B2&CHAR(10)&F2&CHAR(10)&S2&" "&I2&CHAR(10)&T2&" - "&U2) -> A121601-01 Produkt 2 600 KG 04.05.15 - 07.05.15
A3: Vor10 | B3: A121601-02 | F3: Produkt 3 | H3: 600.025 | I3: KG | O3: 42131 | P3: 42135 | S3: =IF(A3="","",TEXT(H3,"#.###.###")) -> 600 | T3: =IF(A3="","",TEXT(O3,"TT.MM.JJ")) -> 07.05.15 | U3: =IF(A3="","",TEXT(P3,"TT.MM.JJ")) -> 11.05.15 | W3: =IF(A3="","",B3&CHAR(10)&F3&CHAR(10)&S3&" "&I3&CHAR(10)&T3&" - "&U3) -> A121601-02 Produkt 3 600 KG 07.05.15 - 11.05.15
A4: Vor10 | B4: A121601-03 | F4: Produkt 4 | H4: 600.025 | I4: KG | O4: 42135 | P4: 42137 | S4: =IF(A4="","",TEXT(H4,"#.###.###")) -> 600 | T4: =IF(A4="","",TEXT(O4,"TT.MM.JJ")) -> 11.05.15 | U4: =IF(A4="","",TEXT(P4,"TT.MM.JJ")) -> 13.05.15 | W4: =IF(A4="","",B4&CHAR(10)&F4&CHAR(10)&S4&" "&I4&CHAR(10)&T4&" - "&U4) -> A121601-03 Produkt 4 600 KG 11.05.15 - 13.05.15
A5: Vor10 | B5: A121601-04 | F5: Produkt 5 | H5: 600.025 | I5: KG | O5: 42137 | P5: 42380 | S5: =IF(A5="","",TEXT(H5,"#.###.###")) -> 600 | T5: =IF(A5="","",TEXT(O5,"TT.MM.JJ")) -> 13.05.15 | U5: =IF(A5="","",TEXT(P5,"TT.MM.JJ")) -> 11.01.16 | W5: =IF(A5="","",B5&CHAR(10)&F5&CHAR(10)&S5&" "&I5&CHAR(10)&T5&" - "&U5) -> A121601-04 Produkt 5 600 KG 13.05.15 - 11.01.16
S6: =IF(A6="","",TEXT(H6,"#.###.###")) | T6: =IF(A6="","",TEXT(O6,"TT.MM.JJ")) | U6: =IF(A6="","",TEXT(P6,"TT.MM.JJ")) | W6: =IF(A6="","",B6&CHAR(10)&F6&CHAR(10)&S6&" "&I6&CHAR(10)&T6&" - "&U6)
S7: =IF(A7="","",TEXT(H7,"#.###.###")) | T7: =IF(A7="","",TEXT(O7,"TT.MM.JJ")) | U7: =IF(A7="","",TEXT(P7,"TT.MM.JJ")) | W7: =IF(A7="","",B7&CHAR(10)&F7&CHAR(10)&S7&" "&I7&CHAR(10)&T7&" - "&U7)
S8: =IF(A8="","",TEXT(H8,"#.###.###")) | T8: =IF(A8="","",TEXT(O8,"TT.MM.JJ")) | U8: =IF(A8="","",TEXT(P8,"TT.MM.JJ")) | W8: =IF(A8="","",B8&CHAR(10)&F8&CHAR(10)&S8&" "&I8&CHAR(10)&T8&" - "&U8)
S9: =IF(A9="","",TEXT(H9,"#.###.###")) | T9: =IF(A9="","",TEXT(O9,"TT.MM.JJ")) | U9: =IF(A9="","",TEXT(P9,"TT.MM.JJ")) | W9: =IF(A9="","",B9&CHAR(10)&F9&CHAR(10)&S9&" "&I9&CHAR(10)&T9&" - "&U9)
S10: =IF(A10="","",TEXT(H10,"#.###.###")) | T10: =IF(A10="","",TEXT(O10,"TT.MM.JJ")) | U10: =IF(A10="","",TEXT(P10,"TT.MM.JJ")) | W10: =IF(A10="","",B10&CHAR(10)&F10&CHAR(10)&S10&" "&I10&CHAR(10)&T10&" - "&U10)
S11: =IF(A11="","",TEXT(H11,"#.###.###")) | T11: =IF(A11="","",TEXT(O11,"TT.MM.JJ")) | U11: =IF(A11="","",TEXT(P11,"TT.MM.JJ")) | W11: =IF(A11="","",B11&CHAR(10)&F11&CHAR(10)&S11&" "&I11&CHAR(10)&T11&" - "&U11)
S12: =IF(A12="","",TEXT(H12,"#.###.###")) | T12: =IF(A12="","",TEXT(O12,"TT.MM.JJ")) | U12: =IF(A12="","",TEXT(P12,"TT.MM.JJ")) | W12: =IF(A12="","",B12&CHAR(10)&F12&CHAR(10)&S12&" "&I12&CHAR(10)&T12&" - "&U12)
A13: Vor11 | B13: A000000-00 | F13: Produkt 13 | H13: 1 | I13: KG | O13: 42055 | P13: 42057 | S13: =IF(A13="","",TEXT(H13,"#.###.###")) -> 1 | T13: =IF(A13="","",TEXT(O13,"TT.MM.JJ")) -> 20.02.15 | U13: =IF(A13="","",TEXT(P13,"TT.MM.JJ")) -> 22.02.15 | W13: =IF(A13="","",B13&CHAR(10)&F13&CHAR(10)&S13&" "&I13&CHAR(10)&T13&" - "&U13) -> A000000-00 Produkt 13 1 KG 20.02.15 - 22.02.15
A14: Vor11 | B14: A121948-01 | F14: Produkt 14 | H14: 462.15 | I14: KG | O14: 42083 | P14: 42086 | S14: =IF(A14="","",TEXT(H14,"#.###.###")) -> 462 | T14: =IF(A14="","",TEXT(O14,"TT.MM.JJ")) -> 20.03.15 | U14: =IF(A14="","",TEXT(P14,"TT.MM.JJ")) -> 23.03.15 | W14: =IF(A14="","",B14&CHAR(10)&F14&CHAR(10)&S14&" "&I14&CHAR(10)&T14&" - "&U14) -> A121948-01 Produkt 14 462 KG 20.03.15 - 23.03.15
A15: Vor11 | B15: A122456-01 | F15: Produkt 15 | H15: 218.46 | I15: KG | O15: 42087 | P15: 42087 | S15: =IF(A15="","",TEXT(H15,"#.###.###")) -> 218 | T15: =IF(A15="","",TEXT(O15,"TT.MM.JJ")) -> 24.03.15 | U15: =IF(A15="","",TEXT(P15,"TT.MM.JJ")) -> 24.03.15 | W15: =IF(A15="","",B15&CHAR(10)&F15&CHAR(10)&S15&" "&I15&CHAR(10)&T15&" - "&U15) -> A122456-01 Produkt 15 218 KG 24.03.15 - 24.03.15
A16: Vor11 | B16: A122456-04 | F16: Produkt 16 | H16: 218.46 | I16: KG | O16: 42087 | P16: 42087 | S16: =IF(A16="","",TEXT(H16,"#.###.###")) -> 218 | T16: =IF(A16="","",TEXT(O16,"TT.MM.JJ")) -> 24.03.15 | U16: =IF(A16="","",TEXT(P16,"TT.MM.JJ")) -> 24.03.15 | W16: =IF(A16="","",B16&CHAR(10)&F16&CHAR(10)&S16&" "&I16&CHAR(10)&T16&" - "&U16) -> A122456-04 Produkt 16 218 KG 24.03.15 - 24.03.15
A17: Vor11 | B17: A122858-01 | F17: Produkt 17 | H17: 759.938 | I17: KG | O17: 42088 | P17: 42089 | S17: =IF(A17="","",TEXT(H17,"#.###.###")) -> 760 | T17: =IF(A17="","",TEXT(O17,"TT.MM.JJ")) -> 25.03.15 | U17: =IF(A17="","",TEXT(P17,"TT.MM.JJ")) -> 26.03.15 | W17: =IF(A17="","",B17&CHAR(10)&F17&CHAR(10)&S17&" "&I17&CHAR(10)&T17&" - "&U17) -> A122858-01 Produkt 17 760 KG 25.03.15 - 26.03.15
A18: Vor11 | B18: A122298-01 | F18: Produkt 18 | H18: 369.72 | I18: KG | O18: 42089 | P18: 42090 | S18: =IF(A18="","",TEXT(H18,"#.###.###")) -> 370 | T18: =IF(A18="","",TEXT(O18,"TT.MM.JJ")) -> 26.03.15 | U18: =IF(A18="","",TEXT(P18,"TT.MM.JJ")) -> 27.03.15 | W18: =IF(A18="","",B18&CHAR(10)&F18&CHAR(10)&S18&" "&I18&CHAR(10)&T18&" - "&U18) -> A122298-01 Produkt 18 370 KG 26.03.15 - 27.03.15
A19: Vor11 | B19: A122493-01 | F19: Produkt 19 | H19: 1201.59 | I19: KG | O19: 42090 | P19: 42095 | S19: =IF(A19="","",TEXT(H19,"#.###.###")) -> 1.202 | T19: =IF(A19="","",TEXT(O19,"TT.MM.JJ")) -> 27.03.15 | U19: =IF(A19="","",TEXT(P19,"TT.MM.JJ")) -> 01.04.15 | W19: =IF(A19="","",B19&CHAR(10)&F19&CHAR(10)&S19&" "&I19&CHAR(10)&T19&" - "&U19) -> A122493-01 Produkt 19 1.202 KG 27.03.15 - 01.04.15
A20: Vor11 | B20: A122491-02 | F20: Produkt 20 | H20: 586.944 | I20: KG | O20: 42095 | P20: 42096 | S20: =IF(A20="","",TEXT(H20,"#.###.###")) -> 587 | T20: =IF(A20="","",TEXT(O20,"TT.MM.JJ")) -> 01.04.15 | U20: =IF(A20="","",TEXT(P20,"TT.MM.JJ")) -> 02.04.15 | W20: =IF(A20="","",B20&CHAR(10)&F20&CHAR(10)&S20&" "&I20&CHAR(10)&T20&" - "&U20) -> A122491-02 Produkt 20 587 KG 01.04.15 - 02.04.15
A21: Vor11 | B21: A122299-01 | F21: Produkt 21 | H21: 184.88 | I21: KG | O21: 42101 | P21: 42101 | S21: =IF(A21="","",TEXT(H21,"#.###.###")) -> 185 | T21: =IF(A21="","",TEXT(O21,"TT.MM.JJ")) -> 07.04.15 | U21: =IF(A21="","",TEXT(P21,"TT.MM.JJ")) -> 07.04.15 | W21: =IF(A21="","",B21&CHAR(10)&F21&CHAR(10)&S21&" "&I21&CHAR(10)&T21&" - "&U21) -> A122299-01 Produkt 21 185 KG 07.04.15 - 07.04.15
A22: Vor11 | B22: A122583-01 | F22: Produkt 22 | H22: 386.8 | I22: KG | O22: 42102 | P22: 42102 | S22: =IF(A22="","",TEXT(H22,"#.###.###")) -> 387 | T22: =IF(A22="","",TEXT(O22,"TT.MM.JJ")) -> 08.04.15 | U22: =IF(A22="","",TEXT(P22,"TT.MM.JJ")) -> 08.04.15 | W22: =IF(A22="","",B22&CHAR(10)&F22&CHAR(10)&S22&" "&I22&CHAR(10)&T22&" - "&U22) -> A122583-01 Produkt 22 387 KG 08.04.15 - 08.04.15
S23: =IF(A23="","",TEXT(H23,"#.###.###")) | T23: =IF(A23="","",TEXT(O23,"TT.MM.JJ")) | U23: =IF(A23="","",TEXT(P23,"TT.MM.JJ")) | W23: =IF(A23="","",B23&CHAR(10)&F23&CHAR(10)&S23&" "&I23&CHAR(10)&T23&" - "&U23)
S24: =IF(A24="","",TEXT(H24,"#.###.###")) | T24: =IF(A24="","",TEXT(O24,"TT.MM.JJ")) | U24: =IF(A24="","",TEXT(P24,"TT.MM.JJ")) | W24: =IF(A24="","",B24&CHAR(10)&F24&CHAR(10)&S24&" "&I24&CHAR(10)&T24&" - "&U24)
A25: Vor12 | B25: A000000-00 | F25: Produkt 25 | H25: 1 | I25: KG | O25: 42055 | P25: 42057 | S25: =IF(A25="","",TEXT(H25,"#.###.###")) -> 1 | T25: =IF(A25="","",TEXT(O25,"TT.MM.JJ")) -> 20.02.15 | U25: =IF(A25="","",TEXT(P25,"TT.MM.JJ")) -> 22.02.15 | W25: =IF(A25="","",B25&CHAR(10)&F25&CHAR(10)&S25&" "&I25&CHAR(10)&T25&" - "&U25) -> A000000-00 Produkt 25 1 KG 20.02.15 - 22.02.15
A26: Vor12 | B26: A121618-01 | F26: Produkt 26 | H26: 612 | I26: KG | O26: 42093 | P26: 42094 | S26: =IF(A26="","",TEXT(H26,"#.###.###")) -> 612 | T26: =IF(A26="","",TEXT(O26,"TT.MM.JJ")) -> 30.03.15 | U26: =IF(A26="","",TEXT(P26,"TT.MM.JJ")) -> 31.03.15 | W26: =IF(A26="","",B26&CHAR(10)&F26&CHAR(10)&S26&" "&I26&CHAR(10)&T26&" - "&U26) -> A121618-01 Produkt 26 612 KG 30.03.15 - 31.03.15
A27: Vor12 | B27: A122359-02 | F27: Produkt 27 | H27: 810 | I27: KG | O27: 42095 | P27: 42101 | S27: =IF(A27="","",TEXT(H27,"#.###.###")) -> 810 | T27: =IF(A27="","",TEXT(O27,"TT.MM.JJ")) -> 01.04.15 | U27: =IF(A27="","",TEXT(P27,"TT.MM.JJ")) -> 07.04.15 | W27: =IF(A27="","",B27&CHAR(10)&F27&CHAR(10)&S27&" "&I27&CHAR(10)&T27&" - "&U27) -> A122359-02 Produkt 27 810 KG 01.04.15 - 07.04.15
A28: Vor12 | B28: A121593-01 | F28: Produkt 28 | H28: 3456 | I28: KG | O28: 42102 | P28: 42104 | S28: =IF(A28="","",TEXT(H28,"#.###.###")) -> 3.456 | T28: =IF(A28="","",TEXT(O28,"TT.MM.JJ")) -> 08.04.15 | U28: =IF(A28="","",TEXT(P28,"TT.MM.JJ")) -> 10.04.15 | W28: =IF(A28="","",B28&CHAR(10)&F28&CHAR(10)&S28&" "&I28&CHAR(10)&T28&" - "&U28) -> A121593-01 Produkt 28 3.456 KG 08.04.15 - 10.04.15
A29: Vor12 | B29: A122231-01 | F29: Produkt 29 | H29: 7344 | I29: KG | O29: 42104 | P29: 42115 | S29: =IF(A29="","",TEXT(H29,"#.###.###")) -> 7.344 | T29: =IF(A29="","",TEXT(O29,"TT.MM.JJ")) -> 10.04.15 | U29: =IF(A29="","",TEXT(P29,"TT.MM.JJ")) -> 21.04.15 | W29: =IF(A29="","",B29&CHAR(10)&F29&CHAR(10)&S29&" "&I29&CHAR(10)&T29&" - "&U29) -> A122231-01 Produkt 29 7.344 KG 10.04.15 - 21.04.15
A30: Vor12 | B30: A123653-01 | F30: Produkt 30 | H30: 328.5 | I30: KG | O30: 42116 | P30: 42116 | S30: =IF(A30="","",TEXT(H30,"#.###.###")) -> 329 | T30: =IF(A30="","",TEXT(O30,"TT.MM.JJ")) -> 22.04.15 | U30: =IF(A30="","",TEXT(P30,"TT.MM.JJ")) -> 22.04.15 | W30: =IF(A30="","",B30&CHAR(10)&F30&CHAR(10)&S30&" "&I30&CHAR(10)&T30&" - "&U30) -> A123653-01 Produkt 30 329 KG 22.04.15 - 22.04.15
A31: Vor12 | B31: A122590-01 | F31: Produkt 31 | H31: 985.5 | I31: KG | O31: 42116 | P31: 42118 | S31: =IF(A31="","",TEXT(H31,"#.###.###")) -> 986 | T31: =IF(A31="","",TEXT(O31,"TT.MM.JJ")) -> 22.04.15 | U31: =IF(A31="","",TEXT(P31,"TT.MM.JJ")) -> 24.04.15 | W31: =IF(A31="","",B31&CHAR(10)&F31&CHAR(10)&S31&" "&I31&CHAR(10)&T31&" - "&U31) -> A122590-01 Produkt 31 986 KG 22.04.15 - 24.04.15
A32: Vor12 | B32: A121732-01 | F32: Produkt 32 | H32: 714 | I32: KG | O32: 42128 | P32: 42129 | S32: =IF(A32="","",TEXT(H32,"#.###.###")) -> 714 | T32: =IF(A32="","",TEXT(O32,"TT.MM.JJ")) -> 04.05.15 | U32: =IF(A32="","",TEXT(P32,"TT.MM.JJ")) -> 05.05.15 | W32: =IF(A32="","",B32&CHAR(10)&F32&CHAR(10)&S32&" "&I32&CHAR(10)&T32&" - "&U32) -> A121732-01 Produkt 32 714 KG 04.05.15 - 05.05.15
A33: Vor12 | B33: A123397-01 | F33: Produkt 33 | H33: 1080 | I33: KG | O33: 42130 | P33: 42132 | S33: =IF(A33="","",TEXT(H33,"#.###.###")) -> 1.080 | T33: =IF(A33="","",TEXT(O33,"TT.MM.JJ")) -> 06.05.15 | U33: =IF(A33="","",TEXT(P33,"TT.MM.JJ")) -> 08.05.15 | W33: =IF(A33="","",B33&CHAR(10)&F33&CHAR(10)&S33&" "&I33&CHAR(10)&T33&" - "&U33) -> A123397-01 Produkt 33 1.080 KG 06.05.15 - 08.05.15
A34: Vor12 | B34: A123151-01 | F34: Produkt 34 | H34: 657 | I34: KG | O34: 42135 | P34: 42136 | S34: =IF(A34="","",TEXT(H34,"#.###.###")) -> 657 | T34: =IF(A34="","",TEXT(O34,"TT.MM.JJ")) -> 11.05.15 | U34: =IF(A34="","",TEXT(P34,"TT.MM.JJ")) -> 12.05.15 | W34: =IF(A34="","",B34&CHAR(10)&F34&CHAR(10)&S34&" "&I34&CHAR(10)&T34&" - "&U34) -> A123151-01 Produkt 34 657 KG 11.05.15 - 12.05.15
S35: =IF(A35="","",TEXT(H35,"#.###.###")) | T35: =IF(A35="","",TEXT(O35,"TT.MM.JJ")) | U35: =IF(A35="","",TEXT(P35,"TT.MM.JJ")) | W35: =IF(A35="","",B35&CHAR(10)&F35&CHAR(10)&S35&" "&I35&CHAR(10)&T35&" - "&U35)
S36: =IF(A36="","",TEXT(H36,"#.###.###")) | T36: =IF(A36="","",TEXT(O36,"TT.MM.JJ")) | U36: =IF(A36="","",TEXT(P36,"TT.MM.JJ")) | W36: =IF(A36="","",B36&CHAR(10)&F36&CHAR(10)&S36&" "&I36&CHAR(10)&T36&" - "&U36)
A37: Vor13 | B37: A000000-00 | F37: Produkt 37 | H37: 1 | I37: KG | O37: 42055 | P37: 42057 | S37: =IF(A37="","",TEXT(H37,"#.###.###")) -> 1 | T37: =IF(A37="","",TEXT(O37,"TT.MM.JJ")) -> 20.02.15 | U37: =IF(A37="","",TEXT(P37,"TT.MM.JJ")) -> 22.02.15 | W37: =IF(A37="","",B37&CHAR(10)&F37&CHAR(10)&S37&" "&I37&CHAR(10)&T37&" - "&U37) -> A000000-00 Produkt 37 1 KG 20.02.15 - 22.02.15
A38: Vor13 | B38: A121591-01 | F38: Produkt 38 | H38: 301.5 | I38: KG | O38: 42086 | P38: 42086 | S38: =IF(A38="","",TEXT(H38,"#.###.###")) -> 302 | T38: =IF(A38="","",TEXT(O38,"TT.MM.JJ")) -> 23.03.15 | U38: =IF(A38="","",TEXT(P38,"TT.MM.JJ")) -> 23.03.15 | W38: =IF(A38="","",B38&CHAR(10)&F38&CHAR(10)&S38&" "&I38&CHAR(10)&T38&" - "&U38) -> A121591-01 Produkt 38 302 KG 23.03.15 - 23.03.15
A39: Vor13 | B39: A122247-01 | F39: Produkt 39 | H39: 340.5 | I39: KG | O39: 42086 | P39: 42087 | S39: =IF(A39="","",TEXT(H39,"#.###.###")) -> 341 | T39: =IF(A39="","",TEXT(O39,"TT.MM.JJ")) -> 23.03.15 | U39: =IF(A39="","",TEXT(P39,"TT.MM.JJ")) -> 24.03.15 | W39: =IF(A39="","",B39&CHAR(10)&F39&CHAR(10)&S39&" "&I39&CHAR(10)&T39&" - "&U39) -> A122247-01 Produkt 39 341 KG 23.03.15 - 24.03.15
A40: Vor13 | B40: A122727-04 | F40: Produkt 40 | H40: 511.2 | I40: KG | O40: 42088 | P40: 42089 | S40: =IF(A40="","",TEXT(H40,"#.###.###")) -> 511 | T40: =IF(A40="","",TEXT(O40,"TT.MM.JJ")) -> 25.03.15 | U40: =IF(A40="","",TEXT(P40,"TT.MM.JJ")) -> 26.03.15 | W40: =IF(A40="","",B40&CHAR(10)&F40&CHAR(10)&S40&" "&I40&CHAR(10)&T40&" - "&U40) -> A122727-04 Produkt 40 511 KG 25.03.15 - 26.03.15
A41: Vor13 | B41: A122672-01 | F41: Produkt 41 | H41: 1653.684 | I41: KG | O41: 42089 | P41: 42094 | S41: =IF(A41="","",TEXT(H41,"#.###.###")) -> 1.654 | T41: =IF(A41="","",TEXT(O41,"TT.MM.JJ")) -> 26.03.15 | U41: =IF(A41="","",TEXT(P41,"TT.MM.JJ")) -> 31.03.15 | W41: =IF(A41="","",B41&CHAR(10)&F41&CHAR(10)&S41&" "&I41&CHAR(10)&T41&" - "&U41) -> A122672-01 Produkt 41 1.654 KG 26.03.15 - 31.03.15
A42: Vor13 | B42: A122668-01 | F42: Produkt 42 | H42: 2756.14 | I42: KG | O42: 42094 | P42: 42101 | S42: =IF(A42="","",TEXT(H42,"#.###.###")) -> 2.756 | T42: =IF(A42="","",TEXT(O42,"TT.MM.JJ")) -> 31.03.15 | U42: =IF(A42="","",TEXT(P42,"TT.MM.JJ")) -> 07.04.15 | W42: =IF(A42="","",B42&CHAR(10)&F42&CHAR(10)&S42&" "&I42&CHAR(10)&T42&" - "&U42) -> A122668-01 Produkt 42 2.756 KG 31.03.15 - 07.04.15
A43: Vor13 | B43: A122883-01 | F43: Produkt 43 | H43: 330 | I43: KG | O43: 42102 | P43: 42103 | S43: =IF(A43="","",TEXT(H43,"#.###.###")) -> 330 | T43: =IF(A43="","",TEXT(O43,"TT.MM.JJ")) -> 08.04.15 | U43: =IF(A43="","",TEXT(P43,"TT.MM.JJ")) -> 09.04.15 | W43: =IF(A43="","",B43&CHAR(10)&F43&CHAR(10)&S43&" "&I43&CHAR(10)&T43&" - "&U43) -> A122883-01 Produkt 43 330 KG 08.04.15 - 09.04.15
A44: Vor13 | B44: A123464-01 | F44: Produkt 44 | H44: 330 | I44: KG | O44: 42103 | P44: 42104 | S44: =IF(A44="","",TEXT(H44,"#.###.###")) -> 330 | T44: =IF(A44="","",TEXT(O44,"TT.MM.JJ")) -> 09.04.15 | U44: =IF(A44="","",TEXT(P44,"TT.MM.JJ")) -> 10.04.15 | W44: =IF(A44="","",B44&CHAR(10)&F44&CHAR(10)&S44&" "&I44&CHAR(10)&T44&" - "&U44) -> A123464-01 Produkt 44 330 KG 09.04.15 - 10.04.15
A45: Vor13 | B45: A122873-01 | F45: Produkt 45 | H45: 1665.72 | I45: KG | O45: 42107 | P45: 42109 | S45: =IF(A45="","",TEXT(H45,"#.###.###")) -> 1.666 | T45: =IF(A45="","",TEXT(O45,"TT.MM.JJ")) -> 13.04.15 | U45: =IF(A45="","",TEXT(P45,"TT.MM.JJ")) -> 15.04.15 | W45: =IF(A45="","",B45&CHAR(10)&F45&CHAR(10)&S45&" "&I45&CHAR(10)&T45&" - "&U45) -> A122873-01 Produkt 45 1.666 KG 13.04.15 - 15.04.15
A46: Vor13 | B46: A122781-01 | F46: Produkt 46 | H46: 750 | I46: KG | O46: 42110 | P46: 42114 | S46: =IF(A46="","",TEXT(H46,"#.###.###")) -> 750 | T46: =IF(A46="","",TEXT(O46,"TT.MM.JJ")) -> 16.04.15 | U46: =IF(A46="","",TEXT(P46,"TT.MM.JJ")) -> 20.04.15 | W46: =IF(A46="","",B46&CHAR(10)&F46&CHAR(10)&S46&" "&I46&CHAR(10)&T46&" - "&U46) -> A122781-01 Produkt 46 750 KG 16.04.15 - 20.04.15
S47: =IF(A47="","",TEXT(H47,"#.###.###")) | T47: =IF(A47="","",TEXT(O47,"TT.MM.JJ")) | U47: =IF(A47="","",TEXT(P47,"TT.MM.JJ")) | W47: =IF(A47="","",B47&CHAR(10)&F47&CHAR(10)&S47&" "&I47&CHAR(10)&T47&" - "&U47)
S48: =IF(A48="","",TEXT(H48,"#.###.###")) | T48: =IF(A48="","",TEXT(O48,"TT.MM.JJ")) | U48: =IF(A48="","",TEXT(P48,"TT.MM.JJ")) | W48: =IF(A48="","",B48&CHAR(10)&F48&CHAR(10)&S48&" "&I48&CHAR(10)&T48&" - "&U48)
A49: Vor14 | B49: A000000-00 | F49: Produkt 49 | H49: 1 | I49: KG | O49: 42055 | P49: 42057 | S49: =IF(A49="","",TEXT(H49,"#.###.###")) -> 1 | T49: =IF(A49="","",TEXT(O49,"TT.MM.JJ")) -> 20.02.15 | U49: =IF(A49="","",TEXT(P49,"TT.MM.JJ")) -> 22.02.15 | W49: =IF(A49="","",B49&CHAR(10)&F49&CHAR(10)&S49&" "&I49&CHAR(10)&T49&" - "&U49) -> A000000-00 Produkt 49 1 KG 20.02.15 - 22.02.15
A50: Vor14 | B50: A121554-01 | F50: Produkt 50 | H50: 716 | I50: KG | O50: 42075 | P50: 42080 | S50: =IF(A50="","",TEXT(H50,"#.###.###")) -> 716 | T50: =IF(A50="","",TEXT(O50,"TT.MM.JJ")) -> 12.03.15 | U50: =IF(A50="","",TEXT(P50,"TT.MM.JJ")) -> 17.03.15 | W50: =IF(A50="","",B50&CHAR(10)&F50&CHAR(10)&S50&" "&I50&CHAR(10)&T50&" - "&U50) -> A121554-01 Produkt 50 716 KG 12.03.15 - 17.03.15
A51: Vor14 | B51: A122728-01 | F51: Produkt 51 | H51: 1388.1 | I51: KG | O51: 42087 | P51: 42090 | S51: =IF(A51="","",TEXT(H51,"#.###.###")) -> 1.388 | T51: =IF(A51="","",TEXT(O51,"TT.MM.JJ")) -> 24.03.15 | U51: =IF(A51="","",TEXT(P51,"TT.MM.JJ")) -> 27.03.15 | W51: =IF(A51="","",B51&CHAR(10)&F51&CHAR(10)&S51&" "&I51&CHAR(10)&T51&" - "&U51) -> A122728-01 Produkt 51 1.388 KG 24.03.15 - 27.03.15
A52: Vor14 | B52: A123129-01 | F52: Produkt 52 | H52: 886.944 | I52: KG | O52: 42101 | P52: 42103 | S52: =IF(A52="","",TEXT(H52,"#.###.###")) -> 887 | T52: =IF(A52="","",TEXT(O52,"TT.MM.JJ")) -> 07.04.15 | U52: =IF(A52="","",TEXT(P52,"TT.MM.JJ")) -> 09.04.15 | W52: =IF(A52="","",B52&CHAR(10)&F52&CHAR(10)&S52&" "&I52&CHAR(10)&T52&" - "&U52) -> A123129-01 Produkt 52 887 KG 07.04.15 - 09.04.15
A53: Vor14 | B53: A121909-01 | F53: Produkt 53 | H53: 2817 | I53: KG | O53: 42104 | P53: 42109 | S53: =IF(A53="","",TEXT(H53,"#.###.###")) -> 2.817 | T53: =IF(A53="","",TEXT(O53,"TT.MM.JJ")) -> 10.04.15 | U53: =IF(A53="","",TEXT(P53,"TT.MM.JJ")) -> 15.04.15 | W53: =IF(A53="","",B53&CHAR(10)&F53&CHAR(10)&S53&" "&I53&CHAR(10)&T53&" - "&U53) -> A121909-01 Produkt 53 2.817 KG 10.04.15 - 15.04.15
A54: Vor14 | B54: A118541-01 | F54: Produkt 54 | H54: 442.8 | I54: KG | O54: 42110 | P54: 42111 | S54: =IF(A54="","",TEXT(H54,"#.###.###")) -> 443 | T54: =IF(A54="","",TEXT(O54,"TT.MM.JJ")) -> 16.04.15 | U54: =IF(A54="","",TEXT(P54,"TT.MM.JJ")) -> 17.04.15 | W54: =IF(A54="","",B54&CHAR(10)&F54&CHAR(10)&S54&" "&I54&CHAR(10)&T54&" - "&U54) -> A118541-01 Produkt 54 443 KG 16.04.15 - 17.04.15
A55: Vor14 | B55: A120390-01 | F55: Produkt 55 | H55: 514.6 | I55: KG | O55: 42114 | P55: 42116 | S55: =IF(A55="","",TEXT(H55,"#.###.###")) -> 515 | T55: =IF(A55="","",TEXT(O55,"TT.MM.JJ")) -> 20.04.15 | U55: =IF(A55="","",TEXT(P55,"TT.MM.JJ")) -> 22.04.15 | W55: =IF(A55="","",B55&CHAR(10)&F55&CHAR(10)&S55&" "&I55&CHAR(10)&T55&" - "&U55) -> A120390-01 Produkt 55 515 KG 20.04.15 - 22.04.15
A56: Vor14 | B56: A120389-01 | F56: Produkt 56 | H56: 771.9 | I56: KG | O56: 42116 | P56: 42118 | S56: =IF(A56="","",TEXT(H56,"#.###.###")) -> 772 | T56: =IF(A56="","",TEXT(O56,"TT.MM.JJ")) -> 22.04.15 | U56: =IF(A56="","",TEXT(P56,"TT.MM.JJ")) -> 24.04.15 | W56: =IF(A56="","",B56&CHAR(10)&F56&CHAR(10)&S56&" "&I56&CHAR(10)&T56&" - "&U56) -> A120389-01 Produkt 56 772 KG 22.04.15 - 24.04.15
A57: Vor14 | B57: A122859-01 | F57: Produkt 57 | H57: 1035 | I57: KG | O57: 42121 | P57: 42123 | S57: =IF(A57="","",TEXT(H57,"#.###.###")) -> 1.035 | T57: =IF(A57="","",TEXT(O57,"TT.MM.JJ")) -> 27.04.15 | U57: =IF(A57="","",TEXT(P57,"TT.MM.JJ")) -> 29.04.15 | W57: =IF(A57="","",B57&CHAR(10)&F57&CHAR(10)&S57&" "&I57&CHAR(10)&T57&" - "&U57) -> A122859-01 Produkt 57 1.035 KG 27.04.15 - 29.04.15
A58: Vor14 | B58: A121908-01 | F58: Produkt 58 | H58: 2817 | I58: KG | O58: 42123 | P58: 42130 | S58: =IF(A58="","",TEXT(H58,"#.###.###")) -> 2.817 | T58: =IF(A58="","",TEXT(O58,"TT.MM.JJ")) -> 29.04.15 | U58: =IF(A58="","",TEXT(P58,"TT.MM.JJ")) -> 06.05.15 | W58: =IF(A58="","",B58&CHAR(10)&F58&CHAR(10)&S58&" "&I58&CHAR(10)&T58&" - "&U58) -> A121908-01 Produkt 58 2.817 KG 29.04.15 - 06.05.15
S59: =IF(A59="","",TEXT(H59,"#.###.###")) | T59: =IF(A59="","",TEXT(O59,"TT.MM.JJ")) | U59: =IF(A59="","",TEXT(P59,"TT.MM.JJ")) | W59: =IF(A59="","",B59&CHAR(10)&F59&CHAR(10)&S59&" "&I59&CHAR(10)&T59&" - "&U59)
S60: =IF(A60="","",TEXT(H60,"#.###.###")) | T60: =IF(A60="","",TEXT(O60,"TT.MM.JJ")) | U60: =IF(A60="","",TEXT(P60,"TT.MM.JJ")) | W60: =IF(A60="","",B60&CHAR(10)&F60&CHAR(10)&S60&" "&I60&CHAR(10)&T60&" - "&U60)
A61: Vor15 | B61: A000000-00 | F61: Produkt 61 | H61: 1 | I61: KG | O61: 42055 | P61: 42057 | S61: =IF(A61="","",TEXT(H61,"#.###.###")) -> 1 | T61: =IF(A61="","",TEXT(O61,"TT.MM.JJ")) -> 20.02.15 | U61: =IF(A61="","",TEXT(P61,"TT.MM.JJ")) -> 22.02.15 | W61: =IF(A61="","",B61&CHAR(10)&F61&CHAR(10)&S61&" "&I61&CHAR(10)&T61&" - "&U61) -> A000000-00 Produkt 61 1 KG 20.02.15 - 22.02.15
A62: Vor15 | B62: A122024-01 | F62: Produkt 62 | H62: 499.36 | I62: KG | O62: 42086 | P62: 42087 | S62: =IF(A62="","",TEXT(H62,"#.###.###")) -> 499 | T62: =IF(A62="","",TEXT(O62,"TT.MM.JJ")) -> 23.03.15 | U62: =IF(A62="","",TEXT(P62,"TT.MM.JJ")) -> 24.03.15 | W62: =IF(A62="","",B62&CHAR(10)&F62&CHAR(10)&S62&" "&I62&CHAR(10)&T62&" - "&U62) -> A122024-01 Produkt 62 499 KG 23.03.15 - 24.03.15
A63: Vor15 | B63: A122018-01 | F63: Produkt 63 | H63: 400 | I63: KG | O63: 42087 | P63: 42088 | S63: =IF(A63="","",TEXT(H63,"#.###.###")) -> 400 | T63: =IF(A63="","",TEXT(O63,"TT.MM.JJ")) -> 24.03.15 | U63: =IF(A63="","",TEXT(P63,"TT.MM.JJ")) -> 25.03.15 | W63: =IF(A63="","",B63&CHAR(10)&F63&CHAR(10)&S63&" "&I63&CHAR(10)&T63&" - "&U63) -> A122018-01 Produkt 63 400 KG 24.03.15 - 25.03.15
A64: Vor15 | B64: A121351-01 | F64: Produkt 64 | H64: 2835 | I64: KG | O64: 42088 | P64: 42095 | S64: =IF(A64="","",TEXT(H64,"#.###.###")) -> 2.835 | T64: =IF(A64="","",TEXT(O64,"TT.MM.JJ")) -> 25.03.15 | U64: =IF(A64="","",TEXT(P64,"TT.MM.JJ")) -> 01.04.15 | W64: =IF(A64="","",B64&CHAR(10)&F64&CHAR(10)&S64&" "&I64&CHAR(10)&T64&" - "&U64) -> A121351-01 Produkt 64 2.835 KG 25.03.15 - 01.04.15
A65: Vor15 | B65: A122195-01 | F65: Produkt 65 | H65: 5356.8 | I65: KG | O65: 42096 | P65: 42116 | S65: =IF(A65="","",TEXT(H65,"#.###.###")) -> 5.357 | T65: =IF(A65="","",TEXT(O65,"TT.MM.JJ")) -> 02.04.15 | U65: =IF(A65="","",TEXT(P65,"TT.MM.JJ")) -> 22.04.15 | W65: =IF(A65="","",B65&CHAR(10)&F65&CHAR(10)&S65&" "&I65&CHAR(10)&T65&" - "&U65) -> A122195-01 Produkt 65 5.357 KG 02.04.15 - 22.04.15
A66: Vor15 | B66: A122195-04 | F66: Produkt 66 | H66: 446.4 | I66: KG | O66: 42116 | P66: 42117 | S66: =IF(A66="","",TEXT(H66,"#.###.###")) -> 446 | T66: =IF(A66="","",TEXT(O66,"TT.MM.JJ")) -> 22.04.15 | U66: =IF(A66="","",TEXT(P66,"TT.MM.JJ")) -> 23.04.15 | W66: =IF(A66="","",B66&CHAR(10)&F66&CHAR(10)&S66&" "&I66&CHAR(10)&T66&" - "&U66) -> A122195-04 Produkt 66 446 KG 22.04.15 - 23.04.15
A67: Vor15 | B67: A121353-01 | F67: Produkt 67 | H67: 3780 | I67: KG | O67: 42118 | P67: 42131 | S67: =IF(A67="","",TEXT(H67,"#.###.###")) -> 3.780 | T67: =IF(A67="","",TEXT(O67,"TT.MM.JJ")) -> 24.04.15 | U67: =IF(A67="","",TEXT(P67,"TT.MM.JJ")) -> 07.05.15 | W67: =IF(A67="","",B67&CHAR(10)&F67&CHAR(10)&S67&" "&I67&CHAR(10)&T67&" - "&U67) -> A121353-01 Produkt 67 3.780 KG 24.04.15 - 07.05.15
A68: Vor15 | B68: A122529-02 | F68: Produkt 68 | H68: 5742.158 | I68: KG | O68: 42131 | P68: 42152 | S68: =IF(A68="","",TEXT(H68,"#.###.###")) -> 5.742 | T68: =IF(A68="","",TEXT(O68,"TT.MM.JJ")) -> 07.05.15 | U68: =IF(A68="","",TEXT(P68,"TT.MM.JJ")) -> 28.05.15 | W68: =IF(A68="","",B68&CHAR(10)&F68&CHAR(10)&S68&" "&I68&CHAR(10)&T68&" - "&U68) -> A122529-02 Produkt 68 5.742 KG 07.05.15 - 28.05.15
A69: Vor15 | B69: A122534-02 | F69: Produkt 69 | H69: 1688.85 | I69: KG | O69: 42152 | P69: 42158 | S69: =IF(A69="","",TEXT(H69,"#.###.###")) -> 1.689 | T69: =IF(A69="","",TEXT(O69,"TT.MM.JJ")) -> 28.05.15 | U69: =IF(A69="","",TEXT(P69,"TT.MM.JJ")) -> 03.06.15 | W69: =IF(A69="","",B69&CHAR(10)&F69&CHAR(10)&S69&" "&I69&CHAR(10)&T69&" - "&U69) -> A122534-02 Produkt 69 1.689 KG 28.05.15 - 03.06.15
A70: Vor15 | B70: A122287-01 | F70: Produkt 70 | H70: 544.908 | I70: KG | O70: 42163 | P70: 42164 | S70: =IF(A70="","",TEXT(H70,"#.###.###")) -> 545 | T70: =IF(A70="","",TEXT(O70,"TT.MM.JJ")) -> 08.06.15 | U70: =IF(A70="","",TEXT(P70,"TT.MM.JJ")) -> 09.06.15 | W70: =IF(A70="","",B70&CHAR(10)&F70&CHAR(10)&S70&" "&I70&CHAR(10)&T70&" - "&U70) -> A122287-01 Produkt 70 545 KG 08.06.15 - 09.06.15
S71: =IF(A71="","",TEXT(H71,"#.###.###")) | T71: =IF(A71="","",TEXT(O71,"TT.MM.JJ")) | U71: =IF(A71="","",TEXT(P71,"TT.MM.JJ")) | W71: =IF(A71="","",B71&CHAR(10)&F71&CHAR(10)&S71&" "&I71&CHAR(10)&T71&" - "&U71)
S72: =IF(A72="","",TEXT(H72,"#.###.###")) | T72: =IF(A72="","",TEXT(O72,"TT.MM.JJ")) | U72: =IF(A72="","",TEXT(P72,"TT.MM.JJ")) | W72: =IF(A72="","",B72&CHAR(10)&F72&CHAR(10)&S72&" "&I72&CHAR(10)&T72&" - "&U72)
A73: Vor16 | B73: A000000-00 | F73: Produkt 73 | H73: 1 | I73: KG | O73: 42055 | P73: 42057 | S73: =IF(A73="","",TEXT(H73,"#.###.###")) -> 1 | T73: =IF(A73="","",TEXT(O73,"TT.MM.JJ")) -> 20.02.15 | U73: =IF(A73="","",TEXT(P73,"TT.MM.JJ")) -> 22.02.15 | W73: =IF(A73="","",B73&CHAR(10)&F73&CHAR(10)&S73&" "&I73&CHAR(10)&T73&" - "&U73) -> A000000-00 Produkt 73 1 KG 20.02.15 - 22.02.15
A74: Vor16 | B74: A122398-01 | F74: Produkt 74 | H74: 3235.94 | I74: KG | O74: 42083 | P74: 42094 | S74: =IF(A74="","",TEXT(H74,"#.###.###")) -> 3.236 | T74: =IF(A74="","",TEXT(O74,"TT.MM.JJ")) -> 20.03.15 | U74: =IF(A74="","",TEXT(P74,"TT.MM.JJ")) -> 31.03.15 | W74: =IF(A74="","",B74&CHAR(10)&F74&CHAR(10)&S74&" "&I74&CHAR(10)&T74&" - "&U74) -> A122398-01 Produkt 74 3.236 KG 20.03.15 - 31.03.15
A75: Vor16 | B75: A122484-01 | F75: Produkt 75 | H75: 233.044 | I75: KG | O75: 42093 | P75: 42094 | S75: =IF(A75="","",TEXT(H75,"#.###.###")) -> 233 | T75: =IF(A75="","",TEXT(O75,"TT.MM.JJ")) -> 30.03.15 | U75: =IF(A75="","",TEXT(P75,"TT.MM.JJ")) -> 31.03.15 | W75: =IF(A75="","",B75&CHAR(10)&F75&CHAR(10)&S75&" "&I75&CHAR(10)&T75&" - "&U75) -> A122484-01 Produkt 75 233 KG 30.03.15 - 31.03.15
A76: Vor16 | B76: A122900-01 | F76: Produkt 76 | H76: 251.19 | I76: KG | O76: 42094 | P76: 42094 | S76: =IF(A76="","",TEXT(H76,"#.###.###")) -> 251 | T76: =IF(A76="","",TEXT(O76,"TT.MM.JJ")) -> 31.03.15 | U76: =IF(A76="","",TEXT(P76,"TT.MM.JJ")) -> 31.03.15 | W76: =IF(A76="","",B76&CHAR(10)&F76&CHAR(10)&S76&" "&I76&CHAR(10)&T76&" - "&U76) -> A122900-01 Produkt 76 251 KG 31.03.15 - 31.03.15
A77: Vor16 | B77: A122507-01 | F77: Produkt 77 | H77: 1733.6 | I77: KG | O77: 42095 | P77: 42104 | S77: =IF(A77="","",TEXT(H77,"#.###.###")) -> 1.734 | T77: =IF(A77="","",TEXT(O77,"TT.MM.JJ")) -> 01.04.15 | U77: =IF(A77="","",TEXT(P77,"TT.MM.JJ")) -> 10.04.15 | W77: =IF(A77="","",B77&CHAR(10)&F77&CHAR(10)&S77&" "&I77&CHAR(10)&T77&" - "&U77) -> A122507-01 Produkt 77 1.734 KG 01.04.15 - 10.04.15
A78: Vor16 | B78: A122111-01 | F78: Produkt 78 | H78: 1424.7 | I78: KG | O78: 42107 | P78: 42110 | S78: =IF(A78="","",TEXT(H78,"#.###.###")) -> 1.425 | T78: =IF(A78="","",TEXT(O78,"TT.MM.JJ")) -> 13.04.15 | U78: =IF(A78="","",TEXT(P78,"TT.MM.JJ")) -> 16.04.15 | W78: =IF(A78="","",B78&CHAR(10)&F78&CHAR(10)&S78&" "&I78&CHAR(10)&T78&" - "&U78) -> A122111-01 Produkt 78 1.425 KG 13.04.15 - 16.04.15
A79: Vor16 | B79: A121271-01 | F79: Produkt 79 | H79: 463.32 | I79: KG | O79: 42114 | P79: 42115 | S79: =IF(A79="","",TEXT(H79,"#.###.###")) -> 463 | T79: =IF(A79="","",TEXT(O79,"TT.MM.JJ")) -> 20.04.15 | U79: =IF(A79="","",TEXT(P79,"TT.MM.JJ")) -> 21.04.15 | W79: =IF(A79="","",B79&CHAR(10)&F79&CHAR(10)&S79&" "&I79&CHAR(10)&T79&" - "&U79) -> A121271-01 Produkt 79 463 KG 20.04.15 - 21.04.15
A80: Vor16 | B80: A121271-02 | F80: Produkt 80 | H80: 481.545 | I80: KG | O80: 42115 | P80: 42116 | S80: =IF(A80="","",TEXT(H80,"#.###.###")) -> 482 | T80: =IF(A80="","",TEXT(O80,"TT.MM.JJ")) -> 21.04.15 | U80: =IF(A80="","",TEXT(P80,"TT.MM.JJ")) -> 22.04.15 | W80: =IF(A80="","",B80&CHAR(10)&F80&CHAR(10)&S80&" "&I80&CHAR(10)&T80&" - "&U80) -> A121271-02 Produkt 80 482 KG 21.04.15 - 22.04.15
A81: Vor16 | B81: A121271-03 | F81: Produkt 81 | H81: 481.545 | I81: KG | O81: 42116 | P81: 42116 | S81: =IF(A81="","",TEXT(H81,"#.###.###")) -> 482 | T81: =IF(A81="","",TEXT(O81,"TT.MM.JJ")) -> 22.04.15 | U81: =IF(A81="","",TEXT(P81,"TT.MM.JJ")) -> 22.04.15 | W81: =IF(A81="","",B81&CHAR(10)&F81&CHAR(10)&S81&" "&I81&CHAR(10)&T81&" - "&U81) -> A121271-03 Produkt 81 482 KG 22.04.15 - 22.04.15
A82: Vor16 | B82: A121590-01 | F82: Produkt 82 | H82: 2800.56 | I82: KG | O82: 42117 | P82: 42124 | S82: =IF(A82="","",TEXT(H82,"#.###.###")) -> 2.801 | T82: =IF(A82="","",TEXT(O82,"TT.MM.JJ")) -> 23.04.15 | U82: =IF(A82="","",TEXT(P82,"TT.MM.JJ")) -> 30.04.15 | W82: =IF(A82="","",B82&CHAR(10)&F82&CHAR(10)&S82&" "&I82&CHAR(10)&T82&" - "&U82) -> A121590-01 Produkt 82 2.801 KG 23.04.15 - 30.04.15
S83: =IF(A83="","",TEXT(H83,"#.###.###")) | T83: =IF(A83="","",TEXT(O83,"TT.MM.JJ")) | U83: =IF(A83="","",TEXT(P83,"TT.MM.JJ")) | W83: =IF(A83="","",B83&CHAR(10)&F83&CHAR(10)&S83&" "&I83&CHAR(10)&T83&" - "&U83)
S84: =IF(A84="","",TEXT(H84,"#.###.###")) | T84: =IF(A84="","",TEXT(O84,"TT.MM.JJ")) | U84: =IF(A84="","",TEXT(P84,"TT.MM.JJ")) | W84: =IF(A84="","",B84&CHAR(10)&F84&CHAR(10)&S84&" "&I84&CHAR(10)&T84&" - "&U84)
S85: =IF(A85="","",TEXT(H85,"#.###.###")) | T85: =IF(A85="","",TEXT(O85,"TT.MM.JJ")) | U85: =IF(A85="","",TEXT(P85,"TT.MM.JJ")) | W85: =IF(A85="","",B85&CHAR(10)&F85&CHAR(10)&S85&" "&I85&CHAR(10)&T85&" - "&U85)
S86: =IF(A86="","",TEXT(H86,"#.###.###")) | T86: =IF(A86="","",TEXT(O86,"TT.MM.JJ")) | U86: =IF(A86="","",TEXT(P86,"TT.MM.JJ")) | W86: =IF(A86="","",B86&CHAR(10)&F86&CHAR(10)&S86&" "&I86&CHAR(10)&T86&" - "&U86)
S87: =IF(A87="","",TEXT(H87,"#.###.###")) | T87: =IF(A87="","",TEXT(O87,"TT.MM.JJ")) | U87: =IF(A87="","",TEXT(P87,"TT.MM.JJ")) | W87: =IF(A87="","",B87&CHAR(10)&F87&CHAR(10)&S87&" "&I87&CHAR(10)&T87&" - "&U87)
S88: =IF(A88="","",TEXT(H88,"#.###.###")) | T88: =IF(A88="","",TEXT(O88,"TT.MM.JJ")) | U88: =IF(A88="","",TEXT(P88,"TT.MM.JJ")) | W88: =IF(A88="","",B88&CHAR(10)&F88&CHAR(10)&S88&" "&I88&CHAR(10)&T88&" - "&U88)
S89: =IF(A89="","",TEXT(H89,"#.###.###")) | T89: =IF(A89="","",TEXT(O89,"TT.MM.JJ")) | U89: =IF(A89="","",TEXT(P89,"TT.MM.JJ")) | W89: =IF(A89="","",B89&CHAR(10)&F89&CHAR(10)&S89&" "&I89&CHAR(10)&T89&" - "&U89)
S90: =IF(A90="","",TEXT(H90,"#.###.###")) | T90: =IF(A90="","",TEXT(O90,"TT.MM.JJ")) | U90: =IF(A90="","",TEXT(P90,"TT.MM.JJ")) | W90: =IF(A90="","",B90&CHAR(10)&F90&CHAR(10)&S90&" "&I90&CHAR(10)&T90&" - "&U90)
S91: =IF(A91="","",TEXT(H91,"#.###.###")) | T91: =IF(A91="","",TEXT(O91,"TT.MM.JJ")) | U91: =IF(A91="","",TEXT(P91,"TT.MM.JJ")) | W91: =IF(A91="","",B91&CHAR(10)&F91&CHAR(10)&S91&" "&I91&CHAR(10)&T91&" - "&U91)
S92: =IF(A92="","",TEXT(H92,"#.###.###")) | T92: =IF(A92="","",TEXT(O92,"TT.MM.JJ")) | U92: =IF(A92="","",TEXT(P92,"TT.MM.JJ")) | W92: =IF(A92="","",B92&CHAR(10)&F92&CHAR(10)&S92&" "&I92&CHAR(10)&T92&" - "&U92)
S93: =IF(A93="","",TEXT(H93,"#.###.###")) | T93: =IF(A93="","",TEXT(O93,"TT.MM.JJ")) | U93: =IF(A93="","",TEXT(P93,"TT.MM.JJ")) | W93: =IF(A93="","",B93&CHAR(10)&F93&CHAR(10)&S93&" "&I93&CHAR(10)&T93&" - "&U93)
S94: =IF(A94="","",TEXT(H94,"#.###.###")) | T94: =IF(A94="","",TEXT(O94,"TT.MM.JJ")) | U94: =IF(A94="","",TEXT(P94,"TT.MM.JJ")) | W94: =IF(A94="","",B94&CHAR(10)&F94&CHAR(10)&S94&" "&I94&CHAR(10)&T94&" - "&U94)
... S200: =IF(A200="","",TEXT(H200,"#.###.###")) | T200: =IF(A200="","",TEXT(O200,"TT.MM.JJ")) | U200: =IF(A200="","",TEXT(P200,"TT.MM.JJ")) | W200: =IF(A200="","",B200&CHAR(10)&F200&CHAR(10)&S200&" "&I200&CHAR(10)&T200&" - "&U200)

Sheet Gruppe_Vor_03
A1: Vor20 | B1: A000000-00 | F1: Produkt 1 | H1: 1 | I1: KG | O1: 42055 | P1: 42057 | S1: =IF(A1="","",TEXT(H1,"#.###.###")) -> 1 | T1: =IF(A1="","",TEXT(O1,"TT.MM.JJ")) -> 20.02.15 | U1: =IF(A1="","",TEXT(P1,"TT.MM.JJ")) -> 22.02.15 | W1: =IF(A1="","",B1&CHAR(10)&F1&CHAR(10)&S1&" "&I1&CHAR(10)&T1&" - "&U1) -> A000000-00 Produkt 1 1 KG 20.02.15 - 22.02.15
A2: Vor20 | B2: A122568-01 | F2: Produkt 2 | H2: 723 | I2: KG | O2: 42102 | P2: 42102 | S2: =IF(A2="","",TEXT(H2,"#.###.###")) -> 723 | T2: =IF(A2="","",TEXT(O2,"TT.MM.JJ")) -> 08.04.15 | U2: =IF(A2="","",TEXT(P2,"TT.MM.JJ")) -> 08.04.15 | W2: =IF(A2="","",B2&CHAR(10)&F2&CHAR(10)&S2&" "&I2&CHAR(10)&T2&" - "&U2) -> A122568-01 Produkt 2 723 KG 08.04.15 - 08.04.15
A3: Vor20 | B3: A122912-01 | F3: Produkt 3 | H3: 357.885 | I3: KG | O3: 42103 | P3: 42103 | S3: =IF(A3="","",TEXT(H3,"#.###.###")) -> 358 | T3: =IF(A3="","",TEXT(O3,"TT.MM.JJ")) -> 09.04.15 | U3: =IF(A3="","",TEXT(P3,"TT.MM.JJ")) -> 09.04.15 | W3: =IF(A3="","",B3&CHAR(10)&F3&CHAR(10)&S3&" "&I3&CHAR(10)&T3&" - "&U3) -> A122912-01 Produkt 3 358 KG 09.04.15 - 09.04.15
A4: Vor20 | B4: A123387-01 | F4: Produkt 4 | H4: 642.6 | I4: KG | O4: 42122 | P4: 42124 | S4: =IF(A4="","",TEXT(H4,"#.###.###")) -> 643 | T4: =IF(A4="","",TEXT(O4,"TT.MM.JJ")) -> 28.04.15 | U4: =IF(A4="","",TEXT(P4,"TT.MM.JJ")) -> 30.04.15 | W4: =IF(A4="","",B4&CHAR(10)&F4&CHAR(10)&S4&" "&I4&CHAR(10)&T4&" - "&U4) -> A123387-01 Produkt 4 643 KG 28.04.15 - 30.04.15
A5: Vor20 | B5: A123115-01 | F5: Produkt 5 | H5: 3200 | I5: KG | O5: 42150 | P5: 42151 | S5: =IF(A5="","",TEXT(H5,"#.###.###")) -> 3.200 | T5: =IF(A5="","",TEXT(O5,"TT.MM.JJ")) -> 26.05.15 | U5: =IF(A5="","",TEXT(P5,"TT.MM.JJ")) -> 27.05.15 | W5: =IF(A5="","",B5&CHAR(10)&F5&CHAR(10)&S5&" "&I5&CHAR(10)&T5&" - "&U5) -> A123115-01 Produkt 5 3.200 KG 26.05.15 - 27.05.15
S6: =IF(A6="","",TEXT(H6,"#.###.###")) | T6: =IF(A6="","",TEXT(O6,"TT.MM.JJ")) | U6: =IF(A6="","",TEXT(P6,"TT.MM.JJ")) | W6: =IF(A6="","",B6&CHAR(10)&F6&CHAR(10)&S6&" "&I6&CHAR(10)&T6&" - "&U6)
S7: =IF(A7="","",TEXT(H7,"#.###.###")) | T7: =IF(A7="","",TEXT(O7,"TT.MM.JJ")) | U7: =IF(A7="","",TEXT(P7,"TT.MM.JJ")) | W7: =IF(A7="","",B7&CHAR(10)&F7&CHAR(10)&S7&" "&I7&CHAR(10)&T7&" - "&U7)
S8: =IF(A8="","",TEXT(H8,"#.###.###")) | T8: =IF(A8="","",TEXT(O8,"TT.MM.JJ")) | U8: =IF(A8="","",TEXT(P8,"TT.MM.JJ")) | W8: =IF(A8="","",B8&CHAR(10)&F8&CHAR(10)&S8&" "&I8&CHAR(10)&T8&" - "&U8)
S9: =IF(A9="","",TEXT(H9,"#.###.###")) | T9: =IF(A9="","",TEXT(O9,"TT.MM.JJ")) | U9: =IF(A9="","",TEXT(P9,"TT.MM.JJ")) | W9: =IF(A9="","",B9&CHAR(10)&F9&CHAR(10)&S9&" "&I9&CHAR(10)&T9&" - "&U9)
S10: =IF(A10="","",TEXT(H10,"#.###.###")) | T10: =IF(A10="","",TEXT(O10,"TT.MM.JJ")) | U10: =IF(A10="","",TEXT(P10,"TT.MM.JJ")) | W10: =IF(A10="","",B10&CHAR(10)&F10&CHAR(10)&S10&" "&I10&CHAR(10)&T10&" - "&U10)
S11: =IF(A11="","",TEXT(H11,"#.###.###")) | T11: =IF(A11="","",TEXT(O11,"TT.MM.JJ")) | U11: =IF(A11="","",TEXT(P11,"TT.MM.JJ")) | W11: =IF(A11="","",B11&CHAR(10)&F11&CHAR(10)&S11&" "&I11&CHAR(10)&T11&" - "&U11)
S12: =IF(A12="","",TEXT(H12,"#.###.###")) | T12: =IF(A12="","",TEXT(O12,"TT.MM.JJ")) | U12: =IF(A12="","",TEXT(P12,"TT.MM.JJ")) | W12: =IF(A12="","",B12&CHAR(10)&F12&CHAR(10)&S12&" "&I12&CHAR(10)&T12&" - "&U12)
A13: Vor21 | B13: A000000-00 | F13: Produkt 13 | H13: 1 | I13: KG | O13: 42055 | P13: 42057 | S13: =IF(A13="","",TEXT(H13,"#.###.###")) -> 1 | T13: =IF(A13="","",TEXT(O13,"TT.MM.JJ")) -> 20.02.15 | U13: =IF(A13="","",TEXT(P13,"TT.MM.JJ")) -> 22.02.15 | W13: =IF(A13="","",B13&CHAR(10)&F13&CHAR(10)&S13&" "&I13&CHAR(10)&T13&" - "&U13) -> A000000-00 Produkt 13 1 KG 20.02.15 - 22.02.15
A14: Vor21 | B14: A122505-01 | F14: Produkt 14 | H14: 2327.5 | I14: KG | O14: 42076 | P14: 42082 | S14: =IF(A14="","",TEXT(H14,"#.###.###")) -> 2.328 | T14: =IF(A14="","",TEXT(O14,"TT.MM.JJ")) -> 13.03.15 | U14: =IF(A14="","",TEXT(P14,"TT.MM.JJ")) -> 19.03.15 | W14: =IF(A14="","",B14&CHAR(10)&F14&CHAR(10)&S14&" "&I14&CHAR(10)&T14&" - "&U14) -> A122505-01 Produkt 14 2.328 KG 13.03.15 - 19.03.15
A15: Vor21 | B15: A122174-01 | F15: Produkt 15 | H15: 1862 | I15: KG | O15: 42080 | P15: 42083 | S15: =IF(A15="","",TEXT(H15,"#.###.###")) -> 1.862 | T15: =IF(A15="","",TEXT(O15,"TT.MM.JJ")) -> 17.03.15 | U15: =IF(A15="","",TEXT(P15,"TT.MM.JJ")) -> 20.03.15 | W15: =IF(A15="","",B15&CHAR(10)&F15&CHAR(10)&S15&" "&I15&CHAR(10)&T15&" - "&U15) -> A122174-01 Produkt 15 1.862 KG 17.03.15 - 20.03.15
A16: Vor21 | B16: A122179-01 | F16: Produkt 16 | H16: 931 | I16: KG | O16: 42081 | P16: 42082 | S16: =IF(A16="","",TEXT(H16,"#.###.###")) -> 931 | T16: =IF(A16="","",TEXT(O16,"TT.MM.JJ")) -> 18.03.15 | U16: =IF(A16="","",TEXT(P16,"TT.MM.JJ")) -> 19.03.15 | W16: =IF(A16="","",B16&CHAR(10)&F16&CHAR(10)&S16&" "&I16&CHAR(10)&T16&" - "&U16) -> A122179-01 Produkt 16 931 KG 18.03.15 - 19.03.15
A17: Vor21 | B17: A122586-01 | F17: Produkt 17 | H17: 465.5 | I17: KG | O17: 42102 | P17: 42104 | S17: =IF(A17="","",TEXT(H17,"#.###.###")) -> 466 | T17: =IF(A17="","",TEXT(O17,"TT.MM.JJ")) -> 08.04.15 | U17: =IF(A17="","",TEXT(P17,"TT.MM.JJ")) -> 10.04.15 | W17: =IF(A17="","",B17&CHAR(10)&F17&CHAR(10)&S17&" "&I17&CHAR(10)&T17&" - "&U17) -> A122586-01 Produkt 17 466 KG 08.04.15 - 10.04.15
A18: Vor21 | B18: A122504-01 | F18: Produkt 18 | H18: 1862 | I18: KG | O18: 42108 | P18: 42111 | S18: =IF(A18="","",TEXT(H18,"#.###.###")) -> 1.862 | T18: =IF(A18="","",TEXT(O18,"TT.MM.JJ")) -> 14.04.15 | U18: =IF(A18="","",TEXT(P18,"TT.MM.JJ")) -> 17.04.15 | W18: =IF(A18="","",B18&CHAR(10)&F18&CHAR(10)&S18&" "&I18&CHAR(10)&T18&" - "&U18) -> A122504-01 Produkt 18 1.862 KG 14.04.15 - 17.04.15
A19: Vor21 | B19: A122615-01 | F19: Produkt 19 | H19: 931 | I19: KG | O19: 42121 | P19: 42122 | S19: =IF(A19="","",TEXT(H19,"#.###.###")) -> 931 | T19: =IF(A19="","",TEXT(O19,"TT.MM.JJ")) -> 27.04.15 | U19: =IF(A19="","",TEXT(P19,"TT.MM.JJ")) -> 28.04.15 | W19: =IF(A19="","",B19&CHAR(10)&F19&CHAR(10)&S19&" "&I19&CHAR(10)&T19&" - "&U19) -> A122615-01 Produkt 19 931 KG 27.04.15 - 28.04.15
A20: Vor21 | B20: A122588-01 | F20: Produkt 20 | H20: 4177.555 | I20: KG | O20: 42128 | P20: 42130 | S20: =IF(A20="","",TEXT(H20,"#.###.###")) -> 4.178 | T20: =IF(A20="","",TEXT(O20,"TT.MM.JJ")) -> 04.05.15 | U20: =IF(A20="","",TEXT(P20,"TT.MM.JJ")) -> 06.05.15 | W20: =IF(A20="","",B20&CHAR(10)&F20&CHAR(10)&S20&" "&I20&CHAR(10)&T20&" - "&U20) -> A122588-01 Produkt 20 4.178 KG 04.05.15 - 06.05.15
S21: =IF(A21="","",TEXT(H21,"#.###.###")) | T21: =IF(A21="","",TEXT(O21,"TT.MM.JJ")) | U21: =IF(A21="","",TEXT(P21,"TT.MM.JJ")) | W21: =IF(A21="","",B21&CHAR(10)&F21&CHAR(10)&S21&" "&I21&CHAR(10)&T21&" - "&U21)
S22: =IF(A22="","",TEXT(H22,"#.###.###")) | T22: =IF(A22="","",TEXT(O22,"TT.MM.JJ")) | U22: =IF(A22="","",TEXT(P22,"TT.MM.JJ")) | W22: =IF(A22="","",B22&CHAR(10)&F22&CHAR(10)&S22&" "&I22&CHAR(10)&T22&" - "&U22)
S23: =IF(A23="","",TEXT(H23,"#.###.###")) | T23: =IF(A23="","",TEXT(O23,"TT.MM.JJ")) | U23: =IF(A23="","",TEXT(P23,"TT.MM.JJ")) | W23: =IF(A23="","",B23&CHAR(10)&F23&CHAR(10)&S23&" "&I23&CHAR(10)&T23&" - "&U23)
S24: =IF(A24="","",TEXT(H24,"#.###.###")) | T24: =IF(A24="","",TEXT(O24,"TT.MM.JJ")) | U24: =IF(A24="","",TEXT(P24,"TT.MM.JJ")) | W24: =IF(A24="","",B24&CHAR(10)&F24&CHAR(10)&S24&" "&I24&CHAR(10)&T24&" - "&U24)
A25: Vor22 | B25: A000000-00 | F25: Produkt 25 | H25: 1 | I25: KG | O25: 42055 | P25: 42057 | S25: =IF(A25="","",TEXT(H25,"#.###.###")) -> 1 | T25: =IF(A25="","",TEXT(O25,"TT.MM.JJ")) -> 20.02.15 | U25: =IF(A25="","",TEXT(P25,"TT.MM.JJ")) -> 22.02.15 | W25: =IF(A25="","",B25&CHAR(10)&F25&CHAR(10)&S25&" "&I25&CHAR(10)&T25&" - "&U25) -> A000000-00 Produkt 25 1 KG 20.02.15 - 22.02.15
A26: Vor22 | B26: A121534-07 | F26: Produkt 26 | H26: 4680 | I26: KG | O26: 42072 | P26: 42072 | S26: =IF(A26="","",TEXT(H26,"#.###.###")) -> 4.680 | T26: =IF(A26="","",TEXT(O26,"TT.MM.JJ")) -> 09.03.15 | U26: =IF(A26="","",TEXT(P26,"TT.MM.JJ")) -> 09.03.15 | W26: =IF(A26="","",B26&CHAR(10)&F26&CHAR(10)&S26&" "&I26&CHAR(10)&T26&" - "&U26) -> A121534-07 Produkt 26 4.680 KG 09.03.15 - 09.03.15
A27: Vor22 | B27: A121662-04 | F27: Produkt 27 | H27: 13000 | I27: KG | O27: 42075 | P27: 42079 | S27: =IF(A27="","",TEXT(H27,"#.###.###")) -> 13.000 | T27: =IF(A27="","",TEXT(O27,"TT.MM.JJ")) -> 12.03.15 | U27: =IF(A27="","",TEXT(P27,"TT.MM.JJ")) -> 16.03.15 | W27: =IF(A27="","",B27&CHAR(10)&F27&CHAR(10)&S27&" "&I27&CHAR(10)&T27&" - "&U27) -> A121662-04 Produkt 27 13.000 KG 12.03.15 - 16.03.15
A28: Vor22 | B28: A121662-07 | F28: Produkt 28 | H28: 15000 | I28: KG | O28: 42080 | P28: 42082 | S28: =IF(A28="","",TEXT(H28,"#.###.###")) -> 15.000 | T28: =IF(A28="","",TEXT(O28,"TT.MM.JJ")) -> 17.03.15 | U28: =IF(A28="","",TEXT(P28,"TT.MM.JJ")) -> 19.03.15 | W28: =IF(A28="","",B28&CHAR(10)&F28&CHAR(10)&S28&" "&I28&CHAR(10)&T28&" - "&U28) -> A121662-07 Produkt 28 15.000 KG 17.03.15 - 19.03.15
A29: Vor22 | B29: A122144-01 | F29: Produkt 29 | H29: 6696 | I29: KG | O29: 42086 | P29: 42086 | S29: =IF(A29="","",TEXT(H29,"#.###.###")) -> 6.696 | T29: =IF(A29="","",TEXT(O29,"TT.MM.JJ")) -> 23.03.15 | U29: =IF(A29="","",TEXT(P29,"TT.MM.JJ")) -> 23.03.15 | W29: =IF(A29="","",B29&CHAR(10)&F29&CHAR(10)&S29&" "&I29&CHAR(10)&T29&" - "&U29) -> A122144-01 Produkt 29 6.696 KG 23.03.15 - 23.03.15
A30: Vor22 | B30: A122763-01 | F30: Produkt 30 | H30: 6696 | I30: KG | O30: 42089 | P30: 42089 | S30: =IF(A30="","",TEXT(H30,"#.###.###")) -> 6.696 | T30: =IF(A30="","",TEXT(O30,"TT.MM.JJ")) -> 26.03.15 | U30: =IF(A30="","",TEXT(P30,"TT.MM.JJ")) -> 26.03.15 | W30: =IF(A30="","",B30&CHAR(10)&F30&CHAR(10)&S30&" "&I30&CHAR(10)&T30&" - "&U30) -> A122763-01 Produkt 30 6.696 KG 26.03.15 - 26.03.15
A31: Vor22 | B31: A121663-01 | F31: Produkt 31 | H31: 15000 | I31: KG | O31: 42107 | P31: 42108 | S31: =IF(A31="","",TEXT(H31,"#.###.###")) -> 15.000 | T31: =IF(A31="","",TEXT(O31,"TT.MM.JJ")) -> 13.04.15 | U31: =IF(A31="","",TEXT(P31,"TT.MM.JJ")) -> 14.04.15 | W31: =IF(A31="","",B31&CHAR(10)&F31&CHAR(10)&S31&" "&I31&CHAR(10)&T31&" - "&U31) -> A121663-01 Produkt 31 15.000 KG 13.04.15 - 14.04.15
A32: Vor22 | B32: A121654-01 | F32: Produkt 32 | H32: 6000 | I32: KG | O32: 42108 | P32: 42108 | S32: =IF(A32="","",TEXT(H32,"#.###.###")) -> 6.000 | T32: =IF(A32="","",TEXT(O32,"TT.MM.JJ")) -> 14.04.15 | U32: =IF(A32="","",TEXT(P32,"TT.MM.JJ")) -> 14.04.15 | W32: =IF(A32="","",B32&CHAR(10)&F32&CHAR(10)&S32&" "&I32&CHAR(10)&T32&" - "&U32) -> A121654-01 Produkt 32 6.000 KG 14.04.15 - 14.04.15
A33: Vor22 | B33: A121663-04 | F33: Produkt 33 | H33: 15000 | I33: KG | O33: 42109 | P33: 42110 | S33: =IF(A33="","",TEXT(H33,"#.###.###")) -> 15.000 | T33: =IF(A33="","",TEXT(O33,"TT.MM.JJ")) -> 15.04.15 | U33: =IF(A33="","",TEXT(P33,"TT.MM.JJ")) -> 16.04.15 | W33: =IF(A33="","",B33&CHAR(10)&F33&CHAR(10)&S33&" "&I33&CHAR(10)&T33&" - "&U33) -> A121663-04 Produkt 33 15.000 KG 15.04.15 - 16.04.15
A34: Vor22 | B34: A121663-07 | F34: Produkt 34 | H34: 15000 | I34: KG | O34: 42115 | P34: 42117 | S34: =IF(A34="","",TEXT(H34,"#.###.###")) -> 15.000 | T34: =IF(A34="","",TEXT(O34,"TT.MM.JJ")) -> 21.04.15 | U34: =IF(A34="","",TEXT(P34,"TT.MM.JJ")) -> 23.04.15 | W34: =IF(A34="","",B34&CHAR(10)&F34&CHAR(10)&S34&" "&I34&CHAR(10)&T34&" - "&U34) -> A121663-07 Produkt 34 15.000 KG 21.04.15 - 23.04.15
S35: =IF(A35="","",TEXT(H35,"#.###.###")) | T35: =IF(A35="","",TEXT(O35,"TT.MM.JJ")) | U35: =IF(A35="","",TEXT(P35,"TT.MM.JJ")) | W35: =IF(A35="","",B35&CHAR(10)&F35&CHAR(10)&S35&" "&I35&CHAR(10)&T35&" - "&U35)
S36: =IF(A36="","",TEXT(H36,"#.###.###")) | T36: =IF(A36="","",TEXT(O36,"TT.MM.JJ")) | U36: =IF(A36="","",TEXT(P36,"TT.MM.JJ")) | W36: =IF(A36="","",B36&CHAR(10)&F36&CHAR(10)&S36&" "&I36&CHAR(10)&T36&" - "&U36)
A37: Vor23 | B37: A000000-00 | F37: Produkt 37 | H37: 1 | I37: KG | O37: 42055 | P37: 42057 | S37: =IF(A37="","",TEXT(H37,"#.###.###")) -> 1 | T37: =IF(A37="","",TEXT(O37,"TT.MM.JJ")) -> 20.02.15 | U37: =IF(A37="","",TEXT(P37,"TT.MM.JJ")) -> 22.02.15 | W37: =IF(A37="","",B37&CHAR(10)&F37&CHAR(10)&S37&" "&I37&CHAR(10)&T37&" - "&U37) -> A000000-00 Produkt 37 1 KG 20.02.15 - 22.02.15
A38: Vor23 | B38: A121744-02 | F38: Produkt 38 | H38: 7611.75 | I38: KG | O38: 42075 | P38: 42083 | S38: =IF(A38="","",TEXT(H38,"#.###.###")) -> 7.612 | T38: =IF(A38="","",TEXT(O38,"TT.MM.JJ")) -> 12.03.15 | U38: =IF(A38="","",TEXT(P38,"TT.MM.JJ")) -> 20.03.15 | W38: =IF(A38="","",B38&CHAR(10)&F38&CHAR(10)&S38&" "&I38&CHAR(10)&T38&" - "&U38) -> A121744-02 Produkt 38 7.612 KG 12.03.15 - 20.03.15
A39: Vor23 | B39: A122727-02 | F39: Produkt 39 | H39: 501.6 | I39: KG | O39: 42086 | P39: 42086 | S39: =IF(A39="","",TEXT(H39,"#.###.###")) -> 502 | T39: =IF(A39="","",TEXT(O39,"TT.MM.JJ")) -> 23.03.15 | U39: =IF(A39="","",TEXT(P39,"TT.MM.JJ")) -> 23.03.15 | W39: =IF(A39="","",B39&CHAR(10)&F39&CHAR(10)&S39&" "&I39&CHAR(10)&T39&" - "&U39) -> A122727-02 Produkt 39 502 KG 23.03.15 - 23.03.15
A40: Vor23 | B40: A123246-02 | F40: Produkt 40 | H40: 304.47 | I40: KG | O40: 42107 | P40: 42107 | S40: =IF(A40="","",TEXT(H40,"#.###.###")) -> 304 | T40: =IF(A40="","",TEXT(O40,"TT.MM.JJ")) -> 13.04.15 | U40: =IF(A40="","",TEXT(P40,"TT.MM.JJ")) -> 13.04.15 | W40: =IF(A40="","",B40&CHAR(10)&F40&CHAR(10)&S40&" "&I40&CHAR(10)&T40&" - "&U40) -> A123246-02 Produkt 40 304 KG 13.04.15 - 13.04.15
A41: Vor23 | B41: A122261-01 | F41: Produkt 41 | H41: 12178.8 | I41: KG | O41: 42114 | P41: 42123 | S41: =IF(A41="","",TEXT(H41,"#.###.###")) -> 12.179 | T41: =IF(A41="","",TEXT(O41,"TT.MM.JJ")) -> 20.04.15 | U41: =IF(A41="","",TEXT(P41,"TT.MM.JJ")) -> 29.04.15 | W41: =IF(A41="","",B41&CHAR(10)&F41&CHAR(10)&S41&" "&I41&CHAR(10)&T41&" - "&U41) -> A122261-01 Produkt 41 12.179 KG 20.04.15 - 29.04.15
A42: Vor23 | B42: A120903-01 | F42: Produkt 42 | H42: 16667.75 | I42: KG | O42: 42121 | P42: 42130 | S42: =IF(A42="","",TEXT(H42,"#.###.###")) -> 16.668 | T42: =IF(A42="","",TEXT(O42,"TT.MM.JJ")) -> 27.04.15 | U42: =IF(A42="","",TEXT(P42,"TT.MM.JJ")) -> 06.05.15 | W42: =IF(A42="","",B42&CHAR(10)&F42&CHAR(10)&S42&" "&I42&CHAR(10)&T42&" - "&U42) -> A120903-01 Produkt 42 16.668 KG 27.04.15 - 06.05.15
S43: =IF(A43="","",TEXT(H43,"#.###.###")) | T43: =IF(A43="","",TEXT(O43,"TT.MM.JJ")) | U43: =IF(A43="","",TEXT(P43,"TT.MM.JJ")) | W43: =IF(A43="","",B43&CHAR(10)&F43&CHAR(10)&S43&" "&I43&CHAR(10)&T43&" - "&U43)
S44: =IF(A44="","",TEXT(H44,"#.###.###")) | T44: =IF(A44="","",TEXT(O44,"TT.MM.JJ")) | U44: =IF(A44="","",TEXT(P44,"TT.MM.JJ")) | W44: =IF(A44="","",B44&CHAR(10)&F44&CHAR(10)&S44&" "&I44&CHAR(10)&T44&" - "&U44)
S45: =IF(A45="","",TEXT(H45,"#.###.###")) | T45: =IF(A45="","",TEXT(O45,"TT.MM.JJ")) | U45: =IF(A45="","",TEXT(P45,"TT.MM.JJ")) | W45: =IF(A45="","",B45&CHAR(10)&F45&CHAR(10)&S45&" "&I45&CHAR(10)&T45&" - "&U45)
S46: =IF(A46="","",TEXT(H46,"#.###.###")) | T46: =IF(A46="","",TEXT(O46,"TT.MM.JJ")) | U46: =IF(A46="","",TEXT(P46,"TT.MM.JJ")) | W46: =IF(A46="","",B46&CHAR(10)&F46&CHAR(10)&S46&" "&I46&CHAR(10)&T46&" - "&U46)
S47: =IF(A47="","",TEXT(H47,"#.###.###")) | T47: =IF(A47="","",TEXT(O47,"TT.MM.JJ")) | U47: =IF(A47="","",TEXT(P47,"TT.MM.JJ")) | W47: =IF(A47="","",B47&CHAR(10)&F47&CHAR(10)&S47&" "&I47&CHAR(10)&T47&" - "&U47)
S48: =IF(A48="","",TEXT(H48,"#.###.###")) | T48: =IF(A48="","",TEXT(O48,"TT.MM.JJ")) | U48: =IF(A48="","",TEXT(P48,"TT.MM.JJ")) | W48: =IF(A48="","",B48&CHAR(10)&F48&CHAR(10)&S48&" "&I48&CHAR(10)&T48&" - "&U48)
A49: Vor24 | B49: A000000-00 | F49: Produkt 49 | H49: 1 | I49: KG | O49: 42055 | P49: 42057 | S49: =IF(A49="","",TEXT(H49,"#.###.###")) -> 1 | T49: =IF(A49="","",TEXT(O49,"TT.MM.JJ")) -> 20.02.15 | U49: =IF(A49="","",TEXT(P49,"TT.MM.JJ")) -> 22.02.15 | W49: =IF(A49="","",B49&CHAR(10)&F49&CHAR(10)&S49&" "&I49&CHAR(10)&T49&" - "&U49) -> A000000-00 Produkt 49 1 KG 20.02.15 - 22.02.15
A50: Vor24 | B50: A123150-01 | F50: Produkt 50 | H50: 684 | I50: KG | O50: 42081 | P50: 42082 | S50: =IF(A50="","",TEXT(H50,"#.###.###")) -> 684 | T50: =IF(A50="","",TEXT(O50,"TT.MM.JJ")) -> 18.03.15 | U50: =IF(A50="","",TEXT(P50,"TT.MM.JJ")) -> 19.03.15 | W50: =IF(A50="","",B50&CHAR(10)&F50&CHAR(10)&S50&" "&I50&CHAR(10)&T50&" - "&U50) -> A123150-01 Produkt 50 684 KG 18.03.15 - 19.03.15
A51: Vor24 | B51: A123150-06 | F51: Produkt 51 | H51: 1368 | I51: KG | O51: 42081 | P51: 42082 | S51: =IF(A51="","",TEXT(H51,"#.###.###")) -> 1.368 | T51: =IF(A51="","",TEXT(O51,"TT.MM.JJ")) -> 18.03.15 | U51: =IF(A51="","",TEXT(P51,"TT.MM.JJ")) -> 19.03.15 | W51: =IF(A51="","",B51&CHAR(10)&F51&CHAR(10)&S51&" "&I51&CHAR(10)&T51&" - "&U51) -> A123150-06 Produkt 51 1.368 KG 18.03.15 - 19.03.15
A52: Vor24 | B52: A122906-02 | F52: Produkt 52 | H52: 1457.28 | I52: KG | O52: 42086 | P52: 42087 | S52: =IF(A52="","",TEXT(H52,"#.###.###")) -> 1.457 | T52: =IF(A52="","",TEXT(O52,"TT.MM.JJ")) -> 23.03.15 | U52: =IF(A52="","",TEXT(P52,"TT.MM.JJ")) -> 24.03.15 | W52: =IF(A52="","",B52&CHAR(10)&F52&CHAR(10)&S52&" "&I52&CHAR(10)&T52&" - "&U52) -> A122906-02 Produkt 52 1.457 KG 23.03.15 - 24.03.15
A53: Vor24 | B53: A122860-01 | F53: Produkt 53 | H53: 2428.8 | I53: KG | O53: 42087 | P53: 42089 | S53: =IF(A53="","",TEXT(H53,"#.###.###")) -> 2.429 | T53: =IF(A53="","",TEXT(O53,"TT.MM.JJ")) -> 24.03.15 | U53: =IF(A53="","",TEXT(P53,"TT.MM.JJ")) -> 26.03.15 | W53: =IF(A53="","",B53&CHAR(10)&F53&CHAR(10)&S53&" "&I53&CHAR(10)&T53&" - "&U53) -> A122860-01 Produkt 53 2.429 KG 24.03.15 - 26.03.15
A54: Vor24 | B54: A123408-01 | F54: Produkt 54 | H54: 1200 | I54: KG | O54: 42089 | P54: 42093 | S54: =IF(A54="","",TEXT(H54,"#.###.###")) -> 1.200 | T54: =IF(A54="","",TEXT(O54,"TT.MM.JJ")) -> 26.03.15 | U54: =IF(A54="","",TEXT(P54,"TT.MM.JJ")) -> 30.03.15 | W54: =IF(A54="","",B54&CHAR(10)&F54&CHAR(10)&S54&" "&I54&CHAR(10)&T54&" - "&U54) -> A123408-01 Produkt 54 1.200 KG 26.03.15 - 30.03.15
A55: Vor24 | B55: A122224-02 | F55: Produkt 55 | H55: 196.875 | I55: KG | O55: 42093 | P55: 42093 | S55: =IF(A55="","",TEXT(H55,"#.###.###")) -> 197 | T55: =IF(A55="","",TEXT(O55,"TT.MM.JJ")) -> 30.03.15 | U55: =IF(A55="","",TEXT(P55,"TT.MM.JJ")) -> 30.03.15 | W55: =IF(A55="","",B55&CHAR(10)&F55&CHAR(10)&S55&" "&I55&CHAR(10)&T55&" - "&U55) -> A122224-02 Produkt 55 197 KG 30.03.15 - 30.03.15
A56: Vor24 | B56: A122656-01 | F56: Produkt 56 | H56: 235.5 | I56: KG | O56: 42094 | P56: 42094 | S56: =IF(A56="","",TEXT(H56,"#.###.###")) -> 236 | T56: =IF(A56="","",TEXT(O56,"TT.MM.JJ")) -> 31.03.15 | U56: =IF(A56="","",TEXT(P56,"TT.MM.JJ")) -> 31.03.15 | W56: =IF(A56="","",B56&CHAR(10)&F56&CHAR(10)&S56&" "&I56&CHAR(10)&T56&" - "&U56) -> A122656-01 Produkt 56 236 KG 31.03.15 - 31.03.15
A57: Vor24 | B57: A122436-01 | F57: Produkt 57 | H57: 2025 | I57: KG | O57: 42101 | P57: 42103 | S57: =IF(A57="","",TEXT(H57,"#.###.###")) -> 2.025 | T57: =IF(A57="","",TEXT(O57,"TT.MM.JJ")) -> 07.04.15 | U57: =IF(A57="","",TEXT(P57,"TT.MM.JJ")) -> 09.04.15 | W57: =IF(A57="","",B57&CHAR(10)&F57&CHAR(10)&S57&" "&I57&CHAR(10)&T57&" - "&U57) -> A122436-01 Produkt 57 2.025 KG 07.04.15 - 09.04.15
A58: Vor24 | B58: A118857-01 | F58: Produkt 58 | H58: 405 | I58: KG | O58: 42103 | P58: 42103 | S58: =IF(A58="","",TEXT(H58,"#.###.###")) -> 405 | T58: =IF(A58="","",TEXT(O58,"TT.MM.JJ")) -> 09.04.15 | U58: =IF(A58="","",TEXT(P58,"TT.MM.JJ")) -> 09.04.15 | W58: =IF(A58="","",B58&CHAR(10)&F58&CHAR(10)&S58&" "&I58&CHAR(10)&T58&" - "&U58) -> A118857-01 Produkt 58 405 KG 09.04.15 - 09.04.15
S59: =IF(A59="","",TEXT(H59,"#.###.###")) | T59: =IF(A59="","",TEXT(O59,"TT.MM.JJ")) | U59: =IF(A59="","",TEXT(P59,"TT.MM.JJ")) | W59: =IF(A59="","",B59&CHAR(10)&F59&CHAR(10)&S59&" "&I59&CHAR(10)&T59&" - "&U59)
S60: =IF(A60="","",TEXT(H60,"#.###.###")) | T60: =IF(A60="","",TEXT(O60,"TT.MM.JJ")) | U60: =IF(A60="","",TEXT(P60,"TT.MM.JJ")) | W60: =IF(A60="","",B60&CHAR(10)&F60&CHAR(10)&S60&" "&I60&CHAR(10)&T60&" - "&U60)
A61: Vor25 | B61: A000000-00 | F61: Produkt 61 | H61: 1 | I61: KG | O61: 42055 | P61: 42057 | S61: =IF(A61="","",TEXT(H61,"#.###.###")) -> 1 | T61: =IF(A61="","",TEXT(O61,"TT.MM.JJ")) -> 20.02.15 | U61: =IF(A61="","",TEXT(P61,"TT.MM.JJ")) -> 22.02.15 | W61: =IF(A61="","",B61&CHAR(10)&F61&CHAR(10)&S61&" "&I61&CHAR(10)&T61&" - "&U61) -> A000000-00 Produkt 61 1 KG 20.02.15 - 22.02.15
A62: Vor25 | B62: A122855-01 | F62: Produkt 62 | H62: 840 | I62: KG | O62: 42082 | P62: 42082 | S62: =IF(A62="","",TEXT(H62,"#.###.###")) -> 840 | T62: =IF(A62="","",TEXT(O62,"TT.MM.JJ")) -> 19.03.15 | U62: =IF(A62="","",TEXT(P62,"TT.MM.JJ")) -> 19.03.15 | W62: =IF(A62="","",B62&CHAR(10)&F62&CHAR(10)&S62&" "&I62&CHAR(10)&T62&" - "&U62) -> A122855-01 Produkt 62 840 KG 19.03.15 - 19.03.15
A63: Vor25 | B63: A122861-01 | F63: Produkt 63 | H63: 420 | I63: KG | O63: 42082 | P63: 42082 | S63: =IF(A63="","",TEXT(H63,"#.###.###")) -> 420 | T63: =IF(A63="","",TEXT(O63,"TT.MM.JJ")) -> 19.03.15 | U63: =IF(A63="","",TEXT(P63,"TT.MM.JJ")) -> 19.03.15 | W63: =IF(A63="","",B63&CHAR(10)&F63&CHAR(10)&S63&" "&I63&CHAR(10)&T63&" - "&U63) -> A122861-01 Produkt 63 420 KG 19.03.15 - 19.03.15
A64: Vor25 | B64: A122162-01 | F64: Produkt 64 | H64: 4000 | I64: KG | O64: 42083 | P64: 42088 | S64: =IF(A64="","",TEXT(H64,"#.###.###")) -> 4.000 | T64: =IF(A64="","",TEXT(O64,"TT.MM.JJ")) -> 20.03.15 | U64: =IF(A64="","",TEXT(P64,"TT.MM.JJ")) -> 25.03.15 | W64: =IF(A64="","",B64&CHAR(10)&F64&CHAR(10)&S64&" "&I64&CHAR(10)&T64&" - "&U64) -> A122162-01 Produkt 64 4.000 KG 20.03.15 - 25.03.15
A65: Vor25 | B65: A121722-01 | F65: Produkt 65 | H65: 952 | I65: KG | O65: 42087 | P65: 42088 | S65: =IF(A65="","",TEXT(H65,"#.###.###")) -> 952 | T65: =IF(A65="","",TEXT(O65,"TT.MM.JJ")) -> 24.03.15 | U65: =IF(A65="","",TEXT(P65,"TT.MM.JJ")) -> 25.03.15 | W65: =IF(A65="","",B65&CHAR(10)&F65&CHAR(10)&S65&" "&I65&CHAR(10)&T65&" - "&U65) -> A121722-01 Produkt 65 952 KG 24.03.15 - 25.03.15
A66: Vor25 | B66: A122241-01 | F66: Produkt 66 | H66: 4882.5 | I66: KG | O66: 42088 | P66: 42093 | S66: =IF(A66="","",TEXT(H66,"#.###.###")) -> 4.883 | T66: =IF(A66="","",TEXT(O66,"TT.MM.JJ")) -> 25.03.15 | U66: =IF(A66="","",TEXT(P66,"TT.MM.JJ")) -> 30.03.15 | W66: =IF(A66="","",B66&CHAR(10)&F66&CHAR(10)&S66&" "&I66&CHAR(10)&T66&" - "&U66) -> A122241-01 Produkt 66 4.883 KG 25.03.15 - 30.03.15
A67: Vor25 | B67: A121743-01 | F67: Produkt 67 | H67: 1609.62 | I67: KG | O67: 42093 | P67: 42094 | S67: =IF(A67="","",TEXT(H67,"#.###.###")) -> 1.610 | T67: =IF(A67="","",TEXT(O67,"TT.MM.JJ")) -> 30.03.15 | U67: =IF(A67="","",TEXT(P67,"TT.MM.JJ")) -> 31.03.15 | W67: =IF(A67="","",B67&CHAR(10)&F67&CHAR(10)&S67&" "&I67&CHAR(10)&T67&" - "&U67) -> A121743-01 Produkt 67 1.610 KG 30.03.15 - 31.03.15
A68: Vor25 | B68: A122211-01 | F68: Produkt 68 | H68: 12072.15 | I68: KG | O68: 42094 | P68: 42102 | S68: =IF(A68="","",TEXT(H68,"#.###.###")) -> 12.072 | T68: =IF(A68="","",TEXT(O68,"TT.MM.JJ")) -> 31.03.15 | U68: =IF(A68="","",TEXT(P68,"TT.MM.JJ")) -> 08.04.15 | W68: =IF(A68="","",B68&CHAR(10)&F68&CHAR(10)&S68&" "&I68&CHAR(10)&T68&" - "&U68) -> A122211-01 Produkt 68 12.072 KG 31.03.15 - 08.04.15
A69: Vor25 | B69: A119220-01 | F69: Produkt 69 | H69: 516 | I69: KG | O69: 42108 | P69: 42108 | S69: =IF(A69="","",TEXT(H69,"#.###.###")) -> 516 | T69: =IF(A69="","",TEXT(O69,"TT.MM.JJ")) -> 14.04.15 | U69: =IF(A69="","",TEXT(P69,"TT.MM.JJ")) -> 14.04.15 | W69: =IF(A69="","",B69&CHAR(10)&F69&CHAR(10)&S69&" "&I69&CHAR(10)&T69&" - "&U69) -> A119220-01 Produkt 69 516 KG 14.04.15 - 14.04.15
A70: Vor25 | B70: A122619-01 | F70: Produkt 70 | H70: 476 | I70: KG | O70: 42110 | P70: 42110 | S70: =IF(A70="","",TEXT(H70,"#.###.###")) -> 476 | T70: =IF(A70="","",TEXT(O70,"TT.MM.JJ")) -> 16.04.15 | U70: =IF(A70="","",TEXT(P70,"TT.MM.JJ")) -> 16.04.15 | W70: =IF(A70="","",B70&CHAR(10)&F70&CHAR(10)&S70&" "&I70&CHAR(10)&T70&" - "&U70) -> A122619-01 Produkt 70 476 KG 16.04.15 - 16.04.15
S71: =IF(A71="","",TEXT(H71,"#.###.###")) | T71: =IF(A71="","",TEXT(O71,"TT.MM.JJ")) | U71: =IF(A71="","",TEXT(P71,"TT.MM.JJ")) | W71: =IF(A71="","",B71&CHAR(10)&F71&CHAR(10)&S71&" "&I71&CHAR(10)&T71&" - "&U71)
S72: =IF(A72="","",TEXT(H72,"#.###.###")) | T72: =IF(A72="","",TEXT(O72,"TT.MM.JJ")) | U72: =IF(A72="","",TEXT(P72,"TT.MM.JJ")) | W72: =IF(A72="","",B72&CHAR(10)&F72&CHAR(10)&S72&" "&I72&CHAR(10)&T72&" - "&U72)
A73: Vor26 | B73: A000000-00 | F73: Produkt 73 | H73: 1 | I73: KG | O73: 42055 | P73: 42057 | S73: =IF(A73="","",TEXT(H73,"#.###.###")) -> 1 | T73: =IF(A73="","",TEXT(O73,"TT.MM.JJ")) -> 20.02.15 | U73: =IF(A73="","",TEXT(P73,"TT.MM.JJ")) -> 22.02.15 | W73: =IF(A73="","",B73&CHAR(10)&F73&CHAR(10)&S73&" "&I73&CHAR(10)&T73&" - "&U73) -> A000000-00 Produkt 73 1 KG 20.02.15 - 22.02.15
A74: Vor26 | B74: A122710-01 | F74: Produkt 74 | H74: 120 | I74: KG | O74: 42128 | P74: 42128 | S74: =IF(A74="","",TEXT(H74,"#.###.###")) -> 120 | T74: =IF(A74="","",TEXT(O74,"TT.MM.JJ")) -> 04.05.15 | U74: =IF(A74="","",TEXT(P74,"TT.MM.JJ")) -> 04.05.15 | W74: =IF(A74="","",B74&CHAR(10)&F74&CHAR(10)&S74&" "&I74&CHAR(10)&T74&" - "&U74) -> A122710-01 Produkt 74 120 KG 04.05.15 - 04.05.15
S75: =IF(A75="","",TEXT(H75,"#.###.###")) | T75: =IF(A75="","",TEXT(O75,"TT.MM.JJ")) | U75: =IF(A75="","",TEXT(P75,"TT.MM.JJ")) | W75: =IF(A75="","",B75&CHAR(10)&F75&CHAR(10)&S75&" "&I75&CHAR(10)&T75&" - "&U75)
S76: =IF(A76="","",TEXT(H76,"#.###.###")) | T76: =IF(A76="","",TEXT(O76,"TT.MM.JJ")) | U76: =IF(A76="","",TEXT(P76,"TT.MM.JJ")) | W76: =IF(A76="","",B76&CHAR(10)&F76&CHAR(10)&S76&" "&I76&CHAR(10)&T76&" - "&U76)
S77: =IF(A77="","",TEXT(H77,"#.###.###")) | T77: =IF(A77="","",TEXT(O77,"TT.MM.JJ")) | U77: =IF(A77="","",TEXT(P77,"TT.MM.JJ")) | W77: =IF(A77="","",B77&CHAR(10)&F77&CHAR(10)&S77&" "&I77&CHAR(10)&T77&" - "&U77)
S78: =IF(A78="","",TEXT(H78,"#.###.###")) | T78: =IF(A78="","",TEXT(O78,"TT.MM.JJ")) | U78: =IF(A78="","",TEXT(P78,"TT.MM.JJ")) | W78: =IF(A78="","",B78&CHAR(10)&F78&CHAR(10)&S78&" "&I78&CHAR(10)&T78&" - "&U78)
S79: =IF(A79="","",TEXT(H79,"#.###.###")) | T79: =IF(A79="","",TEXT(O79,"TT.MM.JJ")) | U79: =IF(A79="","",TEXT(P79,"TT.MM.JJ")) | W79: =IF(A79="","",B79&CHAR(10)&F79&CHAR(10)&S79&" "&I79&CHAR(10)&T79&" - "&U79)
S80: =IF(A80="","",TEXT(H80,"#.###.###")) | T80: =IF(A80="","",TEXT(O80,"TT.MM.JJ")) | U80: =IF(A80="","",TEXT(P80,"TT.MM.JJ")) | W80: =IF(A80="","",B80&CHAR(10)&F80&CHAR(10)&S80&" "&I80&CHAR(10)&T80&" - "&U80)
S81: =IF(A81="","",TEXT(H81,"#.###.###")) | T81: =IF(A81="","",TEXT(O81,"TT.MM.JJ")) | U81: =IF(A81="","",TEXT(P81,"TT.MM.JJ")) | W81: =IF(A81="","",B81&CHAR(10)&F81&CHAR(10)&S81&" "&I81&CHAR(10)&T81&" - "&U81)
S82: =IF(A82="","",TEXT(H82,"#.###.###")) | T82: =IF(A82="","",TEXT(O82,"TT.MM.JJ")) | U82: =IF(A82="","",TEXT(P82,"TT.MM.JJ")) | W82: =IF(A82="","",B82&CHAR(10)&F82&CHAR(10)&S82&" "&I82&CHAR(10)&T82&" - "&U82)
S83: =IF(A83="","",TEXT(H83,"#.###.###")) | T83: =IF(A83="","",TEXT(O83,"TT.MM.JJ")) | U83: =IF(A83="","",TEXT(P83,"TT.MM.JJ")) | W83: =IF(A83="","",B83&CHAR(10)&F83&CHAR(10)&S83&" "&I83&CHAR(10)&T83&" - "&U83)
S84: =IF(A84="","",TEXT(H84,"#.###.###")) | T84: =IF(A84="","",TEXT(O84,"TT.MM.JJ")) | U84: =IF(A84="","",TEXT(P84,"TT.MM.JJ")) | W84: =IF(A84="","",B84&CHAR(10)&F84&CHAR(10)&S84&" "&I84&CHAR(10)&T84&" - "&U84)
A85: Vor27 | B85: A000000-00 | F85: Produkt 85 | H85: 1 | I85: KG | O85: 42055 | P85: 42057 | S85: =IF(A85="","",TEXT(H85,"#.###.###")) -> 1 | T85: =IF(A85="","",TEXT(O85,"TT.MM.JJ")) -> 20.02.15 | U85: =IF(A85="","",TEXT(P85,"TT.MM.JJ")) -> 22.02.15 | W85: =IF(A85="","",B85&CHAR(10)&F85&CHAR(10)&S85&" "&I85&CHAR(10)&T85&" - "&U85) -> A000000-00 Produkt 85 1 KG 20.02.15 - 22.02.15
A86: Vor27 | B86: A122592-01 | F86: Produkt 86 | H86: 1811.7 | I86: KG | O86: 42080 | P86: 42082 | S86: =IF(A86="","",TEXT(H86,"#.###.###")) -> 1.812 | T86: =IF(A86="","",TEXT(O86,"TT.MM.JJ")) -> 17.03.15 | U86: =IF(A86="","",TEXT(P86,"TT.MM.JJ")) -> 19.03.15 | W86: =IF(A86="","",B86&CHAR(10)&F86&CHAR(10)&S86&" "&I86&CHAR(10)&T86&" - "&U86) -> A122592-01 Produkt 86 1.812 KG 17.03.15 - 19.03.15
A87: Vor27 | B87: A122239-01 | F87: Produkt 87 | H87: 3326.4 | I87: KG | O87: 42088 | P87: 42090 | S87: =IF(A87="","",TEXT(H87,"#.###.###")) -> 3.326 | T87: =IF(A87="","",TEXT(O87,"TT.MM.JJ")) -> 25.03.15 | U87: =IF(A87="","",TEXT(P87,"TT.MM.JJ")) -> 27.03.15 | W87: =IF(A87="","",B87&CHAR(10)&F87&CHAR(10)&S87&" "&I87&CHAR(10)&T87&" - "&U87) -> A122239-01 Produkt 87 3.326 KG 25.03.15 - 27.03.15
A88: Vor27 | B88: A122603-01 | F88: Produkt 88 | H88: 787.68 | I88: KG | O88: 42101 | P88: 42101 | S88: =IF(A88="","",TEXT(H88,"#.###.###")) -> 788 | T88: =IF(A88="","",TEXT(O88,"TT.MM.JJ")) -> 07.04.15 | U88: =IF(A88="","",TEXT(P88,"TT.MM.JJ")) -> 07.04.15 | W88: =IF(A88="","",B88&CHAR(10)&F88&CHAR(10)&S88&" "&I88&CHAR(10)&T88&" - "&U88) -> A122603-01 Produkt 88 788 KG 07.04.15 - 07.04.15
A89: Vor27 | B89: A123091-01 | F89: Produkt 89 | H89: 300 | I89: KG | O89: 42102 | P89: 42103 | S89: =IF(A89="","",TEXT(H89,"#.###.###")) -> 300 | T89: =IF(A89="","",TEXT(O89,"TT.MM.JJ")) -> 08.04.15 | U89: =IF(A89="","",TEXT(P89,"TT.MM.JJ")) -> 09.04.15 | W89: =IF(A89="","",B89&CHAR(10)&F89&CHAR(10)&S89&" "&I89&CHAR(10)&T89&" - "&U89) -> A123091-01 Produkt 89 300 KG 08.04.15 - 09.04.15
A90: Vor27 | B90: A122300-01 | F90: Produkt 90 | H90: 547.4 | I90: KG | O90: 42107 | P90: 42108 | S90: =IF(A90="","",TEXT(H90,"#.###.###")) -> 547 | T90: =IF(A90="","",TEXT(O90,"TT.MM.JJ")) -> 13.04.15 | U90: =IF(A90="","",TEXT(P90,"TT.MM.JJ")) -> 14.04.15 | W90: =IF(A90="","",B90&CHAR(10)&F90&CHAR(10)&S90&" "&I90&CHAR(10)&T90&" - "&U90) -> A122300-01 Produkt 90 547 KG 13.04.15 - 14.04.15
A91: Vor27 | B91: A122028-01 | F91: Produkt 91 | H91: 178.56 | I91: KG | O91: 42108 | P91: 42108 | S91: =IF(A91="","",TEXT(H91,"#.###.###")) -> 179 | T91: =IF(A91="","",TEXT(O91,"TT.MM.JJ")) -> 14.04.15 | U91: =IF(A91="","",TEXT(P91,"TT.MM.JJ")) -> 14.04.15 | W91: =IF(A91="","",B91&CHAR(10)&F91&CHAR(10)&S91&" "&I91&CHAR(10)&T91&" - "&U91) -> A122028-01 Produkt 91 179 KG 14.04.15 - 14.04.15
A92: Vor27 | B92: A122405-01 | F92: Produkt 92 | H92: 535.68 | I92: KG | O92: 42108 | P92: 42109 | S92: =IF(A92="","",TEXT(H92,"#.###.###")) -> 536 | T92: =IF(A92="","",TEXT(O92,"TT.MM.JJ")) -> 14.04.15 | U92: =IF(A92="","",TEXT(P92,"TT.MM.JJ")) -> 15.04.15 | W92: =IF(A92="","",B92&CHAR(10)&F92&CHAR(10)&S92&" "&I92&CHAR(10)&T92&" - "&U92) -> A122405-01 Produkt 92 536 KG 14.04.15 - 15.04.15
A93: Vor27 | B93: A122152-01 | F93: Produkt 93 | H93: 1471.44 | I93: KG | O93: 42110 | P93: 42111 | S93: =IF(A93="","",TEXT(H93,"#.###.###")) -> 1.471 | T93: =IF(A93="","",TEXT(O93,"TT.MM.JJ")) -> 16.04.15 | U93: =IF(A93="","",TEXT(P93,"TT.MM.JJ")) -> 17.04.15 | W93: =IF(A93="","",B93&CHAR(10)&F93&CHAR(10)&S93&" "&I93&CHAR(10)&T93&" - "&U93) -> A122152-01 Produkt 93 1.471 KG 16.04.15 - 17.04.15
A94: Vor27 | B94: A123238-01 | F94: Produkt 94 | H94: 1575.36 | I94: KG | O94: 42116 | P94: 42117 | S94: =IF(A94="","",TEXT(H94,"#.###.###")) -> 1.575 | T94: =IF(A94="","",TEXT(O94,"TT.MM.JJ")) -> 22.04.15 | U94: =IF(A94="","",TEXT(P94,"TT.MM.JJ")) -> 23.04.15 | W94: =IF(A94="","",B94&CHAR(10)&F94&CHAR(10)&S94&" "&I94&CHAR(10)&T94&" - "&U94) -> A123238-01 Produkt 94 1.575 KG 22.04.15 - 23.04.15
S95: =IF(A95="","",TEXT(H95,"#.###.###")) | T95: =IF(A95="","",TEXT(O95,"TT.MM.JJ")) | U95: =IF(A95="","",TEXT(P95,"TT.MM.JJ")) | W95: =IF(A95="","",B95&CHAR(10)&F95&CHAR(10)&S95&" "&I95&CHAR(10)&T95&" - "&U95)
S96: =IF(A96="","",TEXT(H96,"#.###.###")) | T96: =IF(A96="","",TEXT(O96,"TT.MM.JJ")) | U96: =IF(A96="","",TEXT(P96,"TT.MM.JJ")) | W96: =IF(A96="","",B96&CHAR(10)&F96&CHAR(10)&S96&" "&I96&CHAR(10)&T96&" - "&U96)
A97: Vor28 | B97: A000000-00 | F97: Produkt 97 | H97: 1 | I97: KG | O97: 42055 | P97: 42057 | S97: =IF(A97="","",TEXT(H97,"#.###.###")) -> 1 | T97: =IF(A97="","",TEXT(O97,"TT.MM.JJ")) -> 20.02.15 | U97: =IF(A97="","",TEXT(P97,"TT.MM.JJ")) -> 22.02.15 | W97: =IF(A97="","",B97&CHAR(10)&F97&CHAR(10)&S97&" "&I97&CHAR(10)&T97&" - "&U97) -> A000000-00 Produkt 97 1 KG 20.02.15 - 22.02.15
A98: Vor28 | B98: A122224-01 | F98: Produkt 98 | H98: 33.75 | I98: KG | O98: 42089 | P98: 42089 | S98: =IF(A98="","",TEXT(H98,"#.###.###")) -> 34 | T98: =IF(A98="","",TEXT(O98,"TT.MM.JJ")) -> 26.03.15 | U98: =IF(A98="","",TEXT(P98,"TT.MM.JJ")) -> 26.03.15 | W98: =IF(A98="","",B98&CHAR(10)&F98&CHAR(10)&S98&" "&I98&CHAR(10)&T98&" - "&U98) -> A122224-01 Produkt 98 34 KG 26.03.15 - 26.03.15
A99: Vor28 | B99: A122359-01 | F99: Produkt 99 | H99: 0.96 | I99: KG | O99: 42093 | P99: 42093 | S99: =IF(A99="","",TEXT(H99,"#.###.###")) -> 1 | T99: =IF(A99="","",TEXT(O99,"TT.MM.JJ")) -> 30.03.15 | U99: =IF(A99="","",TEXT(P99,"TT.MM.JJ")) -> 30.03.15 | W99: =IF(A99="","",B99&CHAR(10)&F99&CHAR(10)&S99&" "&I99&CHAR(10)&T99&" - "&U99) -> A122359-01 Produkt 99 1 KG 30.03.15 - 30.03.15
A100: Vor28 | B100: A123386-01 | F100: Produkt 100 | H100: 23.02 | I100: KG | O100: 42117 | P100: 42117 | S100: =IF(A100="","",TEXT(H100,"#.###.###")) -> 23 | T100: =IF(A100="","",TEXT(O100,"TT.MM.JJ")) -> 23.04.15 | U100: =IF(A100="","",TEXT(P100,"TT.MM.JJ")) -> 23.04.15 | W100: =IF(A100="","",B100&CHAR(10)&F100&CHAR(10)&S100&" "&I100&CHAR(10)&T100&" - "&U100) -> A123386-01 Produkt 100 23 KG 23.04.15 - 23.04.15
...

Sheet Gruppe_Msch_kl
A1: Msch01 | B1: A000000-00 | F1: Produkt1 | H1: 1 | I1: ST | O1: 42055 | P1: 42057 | S1: =TEXT(H1,"#.###.###") -> 1 | T1: =TEXT(O1,"TT.MM.JJ") -> 20.02.15 | U1: =TEXT(P1,"TT.MM.JJ") -> 22.02.15 | W1: =IF(A1="","",B1&CHAR(10)&F1&CHAR(10)&S1&" "&I1&CHAR(10)&T1&" - "&U1) -> A000000-00 Produkt1 1 ST 20.02.15 - 22.02.15
A2: Msch01 | B2: A121540-03 | F2: Produkt2 | H2: 16898 | I2: ST | O2: 42082 | P2: 42086 | S2: =TEXT(H2,"#.###.###") -> 16.898 | T2: =TEXT(O2,"TT.MM.JJ") -> 19.03.15 | U2: =TEXT(P2,"TT.MM.JJ") -> 23.03.15 | W2: =IF(A2="","",B2&CHAR(10)&F2&CHAR(10)&S2&" "&I2&CHAR(10)&T2&" - "&U2) -> A121540-03 Produkt2 16.898 ST 19.03.15 - 23.03.15
A3: Msch01 | B3: A121997-03 | F3: Produkt3 | H3: 2500000 | I3: ST | O3: 42086 | P3: 42088 | S3: =TEXT(H3,"#.###.###") -> 2.500.000 | T3: =TEXT(O3,"TT.MM.JJ") -> 23.03.15 | U3: =TEXT(P3,"TT.MM.JJ") -> 25.03.15 | W3: =IF(A3="","",B3&CHAR(10)&F3&CHAR(10)&S3&" "&I3&CHAR(10)&T3&" - "&U3) -> A121997-03 Produkt3 2.500.000 ST 23.03.15 - 25.03.15
A4: Msch01 | B4: A122172-03 | F4: Produkt4 | H4: 1050000 | I4: ST | O4: 42086 | P4: 42088 | S4: =TEXT(H4,"#.###.###") -> 1.050.000 | T4: =TEXT(O4,"TT.MM.JJ") -> 23.03.15 | U4: =TEXT(P4,"TT.MM.JJ") -> 25.03.15 | W4: =IF(A4="","",B4&CHAR(10)&F4&CHAR(10)&S4&" "&I4&CHAR(10)&T4&" - "&U4) -> A122172-03 Produkt4 1.050.000 ST 23.03.15 - 25.03.15
A5: Msch01 | B5: A122247-03 | F5: Produkt5 | H5: 1000000 | I5: ST | O5: 42089 | P5: 42090 | S5: =TEXT(H5,"#.###.###") -> 1.000.000 | T5: =TEXT(O5,"TT.MM.JJ") -> 26.03.15 | U5: =TEXT(P5,"TT.MM.JJ") -> 27.03.15 | W5: =IF(A5="","",B5&CHAR(10)&F5&CHAR(10)&S5&" "&I5&CHAR(10)&T5&" - "&U5) -> A122247-03 Produkt5 1.000.000 ST 26.03.15 - 27.03.15
A6: Msch01 | B6: A122018-03 | F6: Produkt6 | H6: 1000000 | I6: ST | O6: 42090 | P6: 42093 | S6: =TEXT(H6,"#.###.###") -> 1.000.000 | T6: =TEXT(O6,"TT.MM.JJ") -> 27.03.15 | U6: =TEXT(P6,"TT.MM.JJ") -> 30.03.15 | W6: =IF(A6="","",B6&CHAR(10)&F6&CHAR(10)&S6&" "&I6&CHAR(10)&T6&" - "&U6) -> A122018-03 Produkt6 1.000.000 ST 27.03.15 - 30.03.15
A7: Msch01 | B7: A122484-03 | F7: Produkt7 | H7: 700000 | I7: ST | O7: 42094 | P7: 42095 | S7: =TEXT(H7,"#.###.###") -> 700.000 | T7: =TEXT(O7,"TT.MM.JJ") -> 31.03.15 | U7: =TEXT(P7,"TT.MM.JJ") -> 01.04.15 | W7: =IF(A7="","",B7&CHAR(10)&F7&CHAR(10)&S7&" "&I7&CHAR(10)&T7&" - "&U7) -> A122484-03 Produkt7 700.000 ST 31.03.15 - 01.04.15
A8: Msch01 | B8: A122485-04 | F8: Produkt8 | H8: 1500000 | I8: ST | O8: 42095 | P8: 42096 | S8: =TEXT(H8,"#.###.###") -> 1.500.000 | T8: =TEXT(O8,"TT.MM.JJ") -> 01.04.15 | U8: =TEXT(P8,"TT.MM.JJ") -> 02.04.15 | W8: =IF(A8="","",B8&CHAR(10)&F8&CHAR(10)&S8&" "&I8&CHAR(10)&T8&" - "&U8) -> A122485-04 Produkt8 1.500.000 ST 01.04.15 - 02.04.15
A9: Msch01 | B9: A122900-03 | F9: Produkt9 | H9: 3000000 | I9: ST | O9: 42101 | P9: 42103 | S9: =TEXT(H9,"#.###.###") -> 3.000.000 | T9: =TEXT(O9,"TT.MM.JJ") -> 07.04.15 | U9: =TEXT(P9,"TT.MM.JJ") -> 09.04.15 | W9: =IF(A9="","",B9&CHAR(10)&F9&CHAR(10)&S9&" "&I9&CHAR(10)&T9&" - "&U9) -> A122900-03 Produkt9 3.000.000 ST 07.04.15 - 09.04.15
A10: Msch01 | B10: A122385-03 | F10: Produkt10 | H10: 6000000 | I10: ST | O10: 42107 | P10: 42110 | S10: =TEXT(H10,"#.###.###") -> 6.000.000 | T10: =TEXT(O10,"TT.MM.JJ") -> 13.04.15 | U10: =TEXT(P10,"TT.MM.JJ") -> 16.04.15 | W10: =IF(A10="","",B10&CHAR(10)&F10&CHAR(10)&S10&" "&I10&CHAR(10)&T10&" - "&U10) -> A122385-03 Produkt10 6.000.000 ST 13.04.15 - 16.04.15
W11: =IF(A11="","",B11&CHAR(10)&F11&CHAR(10)&S11&" "&I11&CHAR(10)&T11&" - "&U11)
W12: =IF(A12="","",B12&CHAR(10)&F12&CHAR(10)&S12&" "&I12&CHAR(10)&T12&" - "&U12)
A13: Msch02 | B13: A000000-00 | F13: Produkt13 | H13: 1 | I13: ST | O13: 42055 | P13: 42057 | S13: =TEXT(H13,"#.###.###") -> 1 | T13: =TEXT(O13,"TT.MM.JJ") -> 20.02.15 | U13: =TEXT(P13,"TT.MM.JJ") -> 22.02.15 | W13: =IF(A13="","",B13&CHAR(10)&F13&CHAR(10)&S13&" "&I13&CHAR(10)&T13&" - "&U13) -> A000000-00 Produkt13 1 ST 20.02.15 - 22.02.15
A14: Msch02 | B14: A122477-03 | F14: Produkt14 | H14: 75176 | I14: ST | O14: 42082 | P14: 42088 | S14: =TEXT(H14,"#.###.###") -> 75.176 | T14: =TEXT(O14,"TT.MM.JJ") -> 19.03.15 | U14: =TEXT(P14,"TT.MM.JJ") -> 25.03.15 | W14: =IF(A14="","",B14&CHAR(10)&F14&CHAR(10)&S14&" "&I14&CHAR(10)&T14&" - "&U14) -> A122477-03 Produkt14 75.176 ST 19.03.15 - 25.03.15
A15: Msch02 | B15: A122477-03 | F15: Produkt15 | H15: 58397 | I15: ST | O15: 42087 | P15: 42088 | S15: =TEXT(H15,"#.###.###") -> 58.397 | T15: =TEXT(O15,"TT.MM.JJ") -> 24.03.15 | U15: =TEXT(P15,"TT.MM.JJ") -> 25.03.15 | W15: =IF(A15="","",B15&CHAR(10)&F15&CHAR(10)&S15&" "&I15&CHAR(10)&T15&" - "&U15) -> A122477-03 Produkt15 58.397 ST 24.03.15 - 25.03.15
A16: Msch02 | B16: A122024-03 | F16: Produkt16 | H16: 9803920 | I16: ST | O16: 42088 | P16: 42102 | S16: =TEXT(H16,"#.###.###") -> 9.803.920 | T16: =TEXT(O16,"TT.MM.JJ") -> 25.03.15 | U16: =TEXT(P16,"TT.MM.JJ") -> 08.04.15 | W16: =IF(A16="","",B16&CHAR(10)&F16&CHAR(10)&S16&" "&I16&CHAR(10)&T16&" - "&U16) -> A122024-03 Produkt16 9.803.920 ST 25.03.15 - 08.04.15
A17: Msch02 | B17: A122603-03 | F17: Produkt17 | H17: 3600000 | I17: ST | O17: 42102 | P17: 42107 | S17: =TEXT(H17,"#.###.###") -> 3.600.000 | T17: =TEXT(O17,"TT.MM.JJ") -> 08.04.15 | U17: =TEXT(P17,"TT.MM.JJ") -> 13.04.15 | W17: =IF(A17="","",B17&CHAR(10)&F17&CHAR(10)&S17&" "&I17&CHAR(10)&T17&" - "&U17) -> A122603-03 Produkt17 3.600.000 ST 08.04.15 - 13.04.15
A18: Msch02 | B18: A122883-03 | F18: Produkt18 | H18: 3000000 | I18: ST | O18: 42108 | P18: 42110 | S18: =TEXT(H18,"#.###.###") -> 3.000.000 | T18: =TEXT(O18,"TT.MM.JJ") -> 14.04.15 | U18: =TEXT(P18,"TT.MM.JJ") -> 16.04.15 | W18: =IF(A18="","",B18&CHAR(10)&F18&CHAR(10)&S18&" "&I18&CHAR(10)&T18&" - "&U18) -> A122883-03 Produkt18 3.000.000 ST 14.04.15 - 16.04.15
A19: Msch02 | B19: A123464-03 | F19: Produkt19 | H19: 3000000 | I19: ST | O19: 42111 | P19: 42115 | S19: =TEXT(H19,"#.###.###") -> 3.000.000 | T19: =TEXT(O19,"TT.MM.JJ") -> 17.04.15 | U19: =TEXT(P19,"TT.MM.JJ") -> 21.04.15 | W19: =IF(A19="","",B19&CHAR(10)&F19&CHAR(10)&S19&" "&I19&CHAR(10)&T19&" - "&U19) -> A123464-03 Produkt19 3.000.000 ST 17.04.15 - 21.04.15
A20: Msch02 | B20: A122028-03 | F20: Produkt20 | H20: 2000000 | I20: ST | O20: 42116 | P20: 42117 | S20: =TEXT(H20,"#.###.###") -> 2.000.000 | T20: =TEXT(O20,"TT.MM.JJ") -> 22.04.15 | U20: =TEXT(P20,"TT.MM.JJ") -> 23.04.15 | W20: =IF(A20="","",B20&CHAR(10)&F20&CHAR(10)&S20&" "&I20&CHAR(10)&T20&" - "&U20) -> A122028-03 Produkt20 2.000.000 ST 22.04.15 - 23.04.15
A21: Msch02 | B21: A122405-03 | F21: Produkt21 | H21: 6000000 | I21: ST | O21: 42117 | P21: 42124 | S21: =TEXT(H21,"#.###.###") -> 6.000.000 | T21: =TEXT(O21,"TT.MM.JJ") -> 23.04.15 | U21: =TEXT(P21,"TT.MM.JJ") -> 30.04.15 | W21: =IF(A21="","",B21&CHAR(10)&F21&CHAR(10)&S21&" "&I21&CHAR(10)&T21&" - "&U21) -> A122405-03 Produkt21 6.000.000 ST 23.04.15 - 30.04.15
A22: Msch02 | B22: A121858-03 | F22: Produkt22 | H22: 2000000 | I22: ST | O22: 42124 | P22: 42128 | S22: =TEXT(H22,"#.###.###") -> 2.000.000 | T22: =TEXT(O22,"TT.MM.JJ") -> 30.04.15 | U22: =TEXT(P22,"TT.MM.JJ") -> 04.05.15 | W22: =IF(A22="","",B22&CHAR(10)&F22&CHAR(10)&S22&" "&I22&CHAR(10)&T22&" - "&U22) -> A121858-03 Produkt22 2.000.000 ST 30.04.15 - 04.05.15
W23: =IF(A23="","",B23&CHAR(10)&F23&CHAR(10)&S23&" "&I23&CHAR(10)&T23&" - "&U23)
W24: =IF(A24="","",B24&CHAR(10)&F24&CHAR(10)&S24&" "&I24&CHAR(10)&T24&" - "&U24)
A25: Msch03 | B25: A000000-00 | F25: Produkt25 | H25: 1 | I25: ST | O25: 42055 | P25: 42057 | S25: =TEXT(H25,"#.###.###") -> 1 | T25: =TEXT(O25,"TT.MM.JJ") -> 20.02.15 | U25: =TEXT(P25,"TT.MM.JJ") -> 22.02.15 | W25: =IF(A25="","",B25&CHAR(10)&F25&CHAR(10)&S25&" "&I25&CHAR(10)&T25&" - "&U25) -> A000000-00 Produkt25 1 ST 20.02.15 - 22.02.15
A26: Msch03 | B26: A121880-03 | F26: Produkt26 | H26: 23465 | I26: ST | O26: 42082 | P26: 42083 | S26: =TEXT(H26,"#.###.###") -> 23.465 | T26: =TEXT(O26,"TT.MM.JJ") -> 19.03.15 | U26: =TEXT(P26,"TT.MM.JJ") -> 20.03.15 | W26: =IF(A26="","",B26&CHAR(10)&F26&CHAR(10)&S26&" "&I26&CHAR(10)&T26&" - "&U26) -> A121880-03 Produkt26 23.465 ST 19.03.15 - 20.03.15
A27: Msch03 | B27: A121536-05 | F27: Produkt27 | H27: 1201000 | I27: ST | O27: 42082 | P27: 42087 | S27: =TEXT(H27,"#.###.###") -> 1.201.000 | T27: =TEXT(O27,"TT.MM.JJ") -> 19.03.15 | U27: =TEXT(P27,"TT.MM.JJ") -> 24.03.15 | W27: =IF(A27="","",B27&CHAR(10)&F27&CHAR(10)&S27&" "&I27&CHAR(10)&T27&" - "&U27) -> A121536-05 Produkt27 1.201.000 ST 19.03.15 - 24.03.15
A28: Msch03 | B28: A121536-05 | F28: Produkt28 | H28: 799000 | I28: ST | O28: 42083 | P28: 42088 | S28: =TEXT(H28,"#.###.###") -> 799.000 | T28: =TEXT(O28,"TT.MM.JJ") -> 20.03.15 | U28: =TEXT(P28,"TT.MM.JJ") -> 25.03.15 | W28: =IF(A28="","",B28&CHAR(10)&F28&CHAR(10)&S28&" "&I28&CHAR(10)&T28&" - "&U28) -> A121536-05 Produkt28 799.000 ST 20.03.15 - 25.03.15
A29: Msch03 | B29: A121591-03 | F29: Produkt29 | H29: 450000 | I29: ST | O29: 42088 | P29: 42088 | S29: =TEXT(H29,"#.###.###") -> 450.000 | T29: =TEXT(O29,"TT.MM.JJ") -> 25.03.15 | U29: =TEXT(P29,"TT.MM.JJ") -> 25.03.15 | W29: =IF(A29="","",B29&CHAR(10)&F29&CHAR(10)&S29&" "&I29&CHAR(10)&T29&" - "&U29) -> A121591-03 Produkt29 450.000 ST 25.03.15 - 25.03.15
A30: Msch03 | B30: A122727-06 | F30: Produkt30 | H30: 480000 | I30: ST | O30: 42089 | P30: 42090 | S30: =TEXT(H30,"#.###.###") -> 480.000 | T30: =TEXT(O30,"TT.MM.JJ") -> 26.03.15 | U30: =TEXT(P30,"TT.MM.JJ") -> 27.03.15 | W30: =IF(A30="","",B30&CHAR(10)&F30&CHAR(10)&S30&" "&I30&CHAR(10)&T30&" - "&U30) -> A122727-06 Produkt30 480.000 ST 26.03.15 - 27.03.15
A31: Msch03 | B31: A122241-03 | F31: Produkt31 | H31: 4500000 | I31: ST | O31: 42093 | P31: 42104 | S31: =TEXT(H31,"#.###.###") -> 4.500.000 | T31: =TEXT(O31,"TT.MM.JJ") -> 30.03.15 | U31: =TEXT(P31,"TT.MM.JJ") -> 10.04.15 | W31: =IF(A31="","",B31&CHAR(10)&F31&CHAR(10)&S31&" "&I31&CHAR(10)&T31&" - "&U31) -> A122241-03 Produkt31 4.500.000 ST 30.03.15 - 10.04.15
A32: Msch03 | B32: A122491-04 | F32: Produkt32 | H32: 2880000 | I32: ST | O32: 42104 | P32: 42109 | S32: =TEXT(H32,"#.###.###") -> 2.880.000 | T32: =TEXT(O32,"TT.MM.JJ") -> 10.04.15 | U32: =TEXT(P32,"TT.MM.JJ") -> 15.04.15 | W32: =IF(A32="","",B32&CHAR(10)&F32&CHAR(10)&S32&" "&I32&CHAR(10)&T32&" - "&U32) -> A122491-04 Produkt32 2.880.000 ST 10.04.15 - 15.04.15
A33: Msch03 | B33: A122568-03 | F33: Produkt33 | H33: 2000000 | I33: ST | O33: 42109 | P33: 42114 | S33: =TEXT(H33,"#.###.###") -> 2.000.000 | T33: =TEXT(O33,"TT.MM.JJ") -> 15.04.15 | U33: =TEXT(P33,"TT.MM.JJ") -> 20.04.15 | W33: =IF(A33="","",B33&CHAR(10)&F33&CHAR(10)&S33&" "&I33&CHAR(10)&T33&" - "&U33) -> A122568-03 Produkt33 2.000.000 ST 15.04.15 - 20.04.15
A34: Msch03 | B34: A122912-03 | F34: Produkt34 | H34: 660000 | I34: ST | O34: 42114 | P34: 42115 | S34: =TEXT(H34,"#.###.###") -> 660.000 | T34: =TEXT(O34,"TT.MM.JJ") -> 20.04.15 | U34: =TEXT(P34,"TT.MM.JJ") -> 21.04.15 | W34: =IF(A34="","",B34&CHAR(10)&F34&CHAR(10)&S34&" "&I34&CHAR(10)&T34&" - "&U34) -> A122912-03 Produkt34 660.000 ST 20.04.15 - 21.04.15
W35: =IF(A35="","",B35&CHAR(10)&F35&CHAR(10)&S35&" "&I35&CHAR(10)&T35&" - "&U35)
W36: =IF(A36="","",B36&CHAR(10)&F36&CHAR(10)&S36&" "&I36&CHAR(10)&T36&" - "&U36)
A37: Msch04 | B37: A000000-00 | F37: Produkt37 | H37: 1 | I37: ST | O37: 42055 | P37: 42057 | S37: =TEXT(H37,"#.###.###") -> 1 | T37: =TEXT(O37,"TT.MM.JJ") -> 20.02.15 | U37: =TEXT(P37,"TT.MM.JJ") -> 22.02.15 | W37: =IF(A37="","",B37&CHAR(10)&F37&CHAR(10)&S37&" "&I37&CHAR(10)&T37&" - "&U37) -> A000000-00 Produkt37 1 ST 20.02.15 - 22.02.15
A38: Msch04 | B38: A121753-03 | F38: Produkt38 | H38: 18971 | I38: ST | O38: 42082 | P38: 42083 | S38: =TEXT(H38,"#.###.###") -> 18.971 | T38: =TEXT(O38,"TT.MM.JJ") -> 19.03.15 | U38: =TEXT(P38,"TT.MM.JJ") -> 20.03.15 | W38: =IF(A38="","",B38&CHAR(10)&F38&CHAR(10)&S38&" "&I38&CHAR(10)&T38&" - "&U38) -> A121753-03 Produkt38 18.971 ST 19.03.15 - 20.03.15
A39: Msch04 | B39: A122497-03 | F39: Produkt39 | H39: 787000 | I39: ST | O39: 42083 | P39: 42087 | S39: =TEXT(H39,"#.###.###") -> 787.000 | T39: =TEXT(O39,"TT.MM.JJ") -> 20.03.15 | U39: =TEXT(P39,"TT.MM.JJ") -> 24.03.15 | W39: =IF(A39="","",B39&CHAR(10)&F39&CHAR(10)&S39&" "&I39&CHAR(10)&T39&" - "&U39) -> A122497-03 Produkt39 787.000 ST 20.03.15 - 24.03.15
A40: Msch04 | B40: A122497-03 | F40: Produkt40 | H40: 523820 | I40: ST | O40: 42086 | P40: 42088 | S40: =TEXT(H40,"#.###.###") -> 523.820 | T40: =TEXT(O40,"TT.MM.JJ") -> 23.03.15 | U40: =TEXT(P40,"TT.MM.JJ") -> 25.03.15 | W40: =IF(A40="","",B40&CHAR(10)&F40&CHAR(10)&S40&" "&I40&CHAR(10)&T40&" - "&U40) -> A122497-03 Produkt40 523.820 ST 23.03.15 - 25.03.15
A41: Msch04 | B41: A122271-03 | F41: Produkt41 | H41: 2340000 | I41: ST | O41: 42087 | P41: 42090 | S41: =TEXT(H41,"#.###.###") -> 2.340.000 | T41: =TEXT(O41,"TT.MM.JJ") -> 24.03.15 | U41: =TEXT(P41,"TT.MM.JJ") -> 27.03.15 | W41: =IF(A41="","",B41&CHAR(10)&F41&CHAR(10)&S41&" "&I41&CHAR(10)&T41&" - "&U41) -> A122271-03 Produkt41 2.340.000 ST 24.03.15 - 27.03.15
A42: Msch04 | B42: A121948-03 | F42: Produkt42 | H42: 1560000 | I42: ST | O42: 42090 | P42: 42094 | S42: =TEXT(H42,"#.###.###") -> 1.560.000 | T42: =TEXT(O42,"TT.MM.JJ") -> 27.03.15 | U42: =TEXT(P42,"TT.MM.JJ") -> 31.03.15 | W42: =IF(A42="","",B42&CHAR(10)&F42&CHAR(10)&S42&" "&I42&CHAR(10)&T42&" - "&U42) -> A121948-03 Produkt42 1.560.000 ST 27.03.15 - 31.03.15
A43: Msch04 | B43: A122298-03 | F43: Produkt43 | H43: 1560000 | I43: ST | O43: 42095 | P43: 42101 | S43: =TEXT(H43,"#.###.###") -> 1.560.000 | T43: =TEXT(O43,"TT.MM.JJ") -> 01.04.15 | U43: =TEXT(P43,"TT.MM.JJ") -> 07.04.15 | W43: =IF(A43="","",B43&CHAR(10)&F43&CHAR(10)&S43&" "&I43&CHAR(10)&T43&" - "&U43) -> A122298-03 Produkt43 1.560.000 ST 01.04.15 - 07.04.15
A44: Msch04 | B44: A122493-03 | F44: Produkt44 | H44: 3380000 | I44: ST | O44: 42101 | P44: 42108 | S44: =TEXT(H44,"#.###.###") -> 3.380.000 | T44: =TEXT(O44,"TT.MM.JJ") -> 07.04.15 | U44: =TEXT(P44,"TT.MM.JJ") -> 14.04.15 | W44: =IF(A44="","",B44&CHAR(10)&F44&CHAR(10)&S44&" "&I44&CHAR(10)&T44&" - "&U44) -> A122493-03 Produkt44 3.380.000 ST 07.04.15 - 14.04.15
A45: Msch04 | B45: A122583-03 | F45: Produkt45 | H45: 4000000 | I45: ST | O45: 42108 | P45: 42110 | S45: =TEXT(H45,"#.###.###") -> 4.000.000 | T45: =TEXT(O45,"TT.MM.JJ") -> 14.04.15 | U45: =TEXT(P45,"TT.MM.JJ") -> 16.04.15 | W45: =IF(A45="","",B45&CHAR(10)&F45&CHAR(10)&S45&" "&I45&CHAR(10)&T45&" - "&U45) -> A122583-03 Produkt45 4.000.000 ST 14.04.15 - 16.04.15
A46: Msch04 | B46: A122572-03 | F46: Produkt46 | H46: 4000000 | I46: ST | O46: 42110 | P46: 42115 | S46: =TEXT(H46,"#.###.###") -> 4.000.000 | T46: =TEXT(O46,"TT.MM.JJ") -> 16.04.15 | U46: =TEXT(P46,"TT.MM.JJ") -> 21.04.15 | W46: =IF(A46="","",B46&CHAR(10)&F46&CHAR(10)&S46&" "&I46&CHAR(10)&T46&" - "&U46) -> A122572-03 Produkt46 4.000.000 ST 16.04.15 - 21.04.15
W47: =IF(A47="","",B47&CHAR(10)&F47&CHAR(10)&S47&" "&I47&CHAR(10)&T47&" - "&U47)
W48: =IF(A48="","",B48&CHAR(10)&F48&CHAR(10)&S48&" "&I48&CHAR(10)&T48&" - "&U48)
A49: Msch05 | B49: A000000-00 | F49: Produkt49 | H49: 1 | I49: ST | O49: 42055 | P49: 42057 | S49: =TEXT(H49,"#.###.###") -> 1 | T49: =TEXT(O49,"TT.MM.JJ") -> 20.02.15 | U49: =TEXT(P49,"TT.MM.JJ") -> 22.02.15 | W49: =IF(A49="","",B49&CHAR(10)&F49&CHAR(10)&S49&" "&I49&CHAR(10)&T49&" - "&U49) -> A000000-00 Produkt49 1 ST 20.02.15 - 22.02.15
A50: Msch05 | B50: A122414-03 | F50: Produkt50 | H50: 1219140 | I50: ST | O50: 42083 | P50: 42087 | S50: =TEXT(H50,"#.###.###") -> 1.219.140 | T50: =TEXT(O50,"TT.MM.JJ") -> 20.03.15 | U50: =TEXT(P50,"TT.MM.JJ") -> 24.03.15 | W50: =IF(A50="","",B50&CHAR(10)&F50&CHAR(10)&S50&" "&I50&CHAR(10)&T50&" - "&U50) -> A122414-03 Produkt50 1.219.140 ST 20.03.15 - 24.03.15
A51: Msch05 | B51: A121842-03 | F51: Produkt51 | H51: 2000000 | I51: ST | O51: 42086 | P51: 42087 | S51: =TEXT(H51,"#.###.###") -> 2.000.000 | T51: =TEXT(O51,"TT.MM.JJ") -> 23.03.15 | U51: =TEXT(P51,"TT.MM.JJ") -> 24.03.15 | W51: =IF(A51="","",B51&CHAR(10)&F51&CHAR(10)&S51&" "&I51&CHAR(10)&T51&" - "&U51) -> A121842-03 Produkt51 2.000.000 ST 23.03.15 - 24.03.15
A52: Msch05 | B52: A121583-03 | F52: Produkt52 | H52: 10500000 | I52: ST | O52: 42088 | P52: 42114 | S52: =TEXT(H52,"#.###.###") -> 10.500.000 | T52: =TEXT(O52,"TT.MM.JJ") -> 25.03.15 | U52: =TEXT(P52,"TT.MM.JJ") -> 20.04.15 | W52: =IF(A52="","",B52&CHAR(10)&F52&CHAR(10)&S52&" "&I52&CHAR(10)&T52&" - "&U52) -> A121583-03 Produkt52 10.500.000 ST 25.03.15 - 20.04.15
A53: Msch05 | B53: A122218-03 | F53: Produkt53 | H53: 5600000 | I53: ST | O53: 42114 | P53: 42118 | S53: =TEXT(H53,"#.###.###") -> 5.600.000 | T53: =TEXT(O53,"TT.MM.JJ") -> 20.04.15 | U53: =TEXT(P53,"TT.MM.JJ") -> 24.04.15 | W53: =IF(A53="","",B53&CHAR(10)&F53&CHAR(10)&S53&" "&I53&CHAR(10)&T53&" - "&U53) -> A122218-03 Produkt53 5.600.000 ST 20.04.15 - 24.04.15
A54: Msch05 | B54: A122612-03 | F54: Produkt54 | H54: 5600000 | I54: ST | O54: 42118 | P54: 42123 | S54: =TEXT(H54,"#.###.###") -> 5.600.000 | T54: =TEXT(O54,"TT.MM.JJ") -> 24.04.15 | U54: =TEXT(P54,"TT.MM.JJ") -> 29.04.15 | W54: =IF(A54="","",B54&CHAR(10)&F54&CHAR(10)&S54&" "&I54&CHAR(10)&T54&" - "&U54) -> A122612-03 Produkt54 5.600.000 ST 24.04.15 - 29.04.15
A55: Msch05 | B55: A119220-03 | F55: Produkt55 | H55: 2400000 | I55: ST | O55: 42124 | P55: 42128 | S55: =TEXT(H55,"#.###.###") -> 2.400.000 | T55: =TEXT(O55,"TT.MM.JJ") -> 30.04.15 | U55: =TEXT(P55,"TT.MM.JJ") -> 04.05.15 | W55: =IF(A55="","",B55&CHAR(10)&F55&CHAR(10)&S55&" "&I55&CHAR(10)&T55&" - "&U55) -> A119220-03 Produkt55 2.400.000 ST 30.04.15 - 04.05.15
A56: Msch05 | B56: A121271-05 | F56: Produkt56 | H56: 5400000 | I56: ST | O56: 42128 | P56: 42131 | S56: =TEXT(H56,"#.###.###") -> 5.400.000 | T56: =TEXT(O56,"TT.MM.JJ") -> 04.05.15 | U56: =TEXT(P56,"TT.MM.JJ") -> 07.05.15 | W56: =IF(A56="","",B56&CHAR(10)&F56&CHAR(10)&S56&" "&I56&CHAR(10)&T56&" - "&U56) -> A121271-05 Produkt56 5.400.000 ST 04.05.15 - 07.05.15
A57: Msch05 | B57: A122619-03 | F57: Produkt57 | H57: 2000000 | I57: ST | O57: 42131 | P57: 42135 | S57: =TEXT(H57,"#.###.###") -> 2.000.000 | T57: =TEXT(O57,"TT.MM.JJ") -> 07.05.15 | U57: =TEXT(P57,"TT.MM.JJ") -> 11.05.15 | W57: =IF(A57="","",B57&CHAR(10)&F57&CHAR(10)&S57&" "&I57&CHAR(10)&T57&" - "&U57) -> A122619-03 Produkt57 2.000.000 ST 07.05.15 - 11.05.15
A58: Msch05 | B58: A122706-03 | F58: Produkt58 | H58: 3500000 | I58: ST | O58: 42136 | P58: 42145 | S58: =TEXT(H58,"#.###.###") -> 3.500.000 | T58: =TEXT(O58,"TT.MM.JJ") -> 12.05.15 | U58: =TEXT(P58,"TT.MM.JJ") -> 21.05.15 | W58: =IF(A58="","",B58&CHAR(10)&F58&CHAR(10)&S58&" "&I58&CHAR(10)&T58&" - "&U58) -> A122706-03 Produkt58 3.500.000 ST 12.05.15 - 21.05.15
W59: =IF(A59="","",B59&CHAR(10)&F59&CHAR(10)&S59&" "&I59&CHAR(10)&T59&" - "&U59)
W60: =IF(A60="","",B60&CHAR(10)&F60&CHAR(10)&S60&" "&I60&CHAR(10)&T60&" - "&U60)
A61: Msch06 | B61: A000000-00 | F61: Produkt61 | H61: 1 | I61: ST | O61: 42055 | P61: 42057 | S61: =TEXT(H61,"#.###.###") -> 1 | T61: =TEXT(O61,"TT.MM.JJ") -> 20.02.15 | U61: =TEXT(P61,"TT.MM.JJ") -> 22.02.15 | W61: =IF(A61="","",B61&CHAR(10)&F61&CHAR(10)&S61&" "&I61&CHAR(10)&T61&" - "&U61) -> A000000-00 Produkt61 1 ST 20.02.15 - 22.02.15
A62: Msch06 | B62: A122861-03 | F62: Produkt62 | H62: 1520064 | I62: ST | O62: 42086 | P62: 42089 | S62: =TEXT(H62,"#.###.###") -> 1.520.064 | T62: =TEXT(O62,"TT.MM.JJ") -> 23.03.15 | U62: =TEXT(P62,"TT.MM.JJ") -> 26.03.15 | W62: =IF(A62="","",B62&CHAR(10)&F62&CHAR(10)&S62&" "&I62&CHAR(10)&T62&" - "&U62) -> A122861-03 Produkt62 1.520.064 ST 23.03.15 - 26.03.15
A63: Msch06 | B63: A122855-03 | F63: Produkt63 | H63: 6000000 | I63: ST | O63: 42088 | P63: 42094 | S63: =TEXT(H63,"#.###.###") -> 6.000.000 | T63: =TEXT(O63,"TT.MM.JJ") -> 25.03.15 | U63: =TEXT(P63,"TT.MM.JJ") -> 31.03.15 | W63: =IF(A63="","",B63&CHAR(10)&F63&CHAR(10)&S63&" "&I63&CHAR(10)&T63&" - "&U63) -> A122855-03 Produkt63 6.000.000 ST 25.03.15 - 31.03.15
A64: Msch06 | B64: A122575-04 | F64: Produkt64 | H64: 1800000 | I64: ST | O64: 42094 | P64: 42095 | S64: =TEXT(H64,"#.###.###") -> 1.800.000 | T64: =TEXT(O64,"TT.MM.JJ") -> 31.03.15 | U64: =TEXT(P64,"TT.MM.JJ") -> 01.04.15 | W64: =IF(A64="","",B64&CHAR(10)&F64&CHAR(10)&S64&" "&I64&CHAR(10)&T64&" - "&U64) -> A122575-04 Produkt64 1.800.000 ST 31.03.15 - 01.04.15
A65: Msch06 | B65: A122575-03 | F65: Produkt65 | H65: 9900000 | I65: ST | O65: 42095 | P65: 42104 | S65: =TEXT(H65,"#.###.###") -> 9.900.000 | T65: =TEXT(O65,"TT.MM.JJ") -> 01.04.15 | U65: =TEXT(P65,"TT.MM.JJ") -> 10.04.15 | W65: =IF(A65="","",B65&CHAR(10)&F65&CHAR(10)&S65&" "&I65&CHAR(10)&T65&" - "&U65) -> A122575-03 Produkt65 9.900.000 ST 01.04.15 - 10.04.15
A66: Msch06 | B66: A122436-03 | F66: Produkt66 | H66: 8100000 | I66: ST | O66: 42107 | P66: 42115 | S66: =TEXT(H66,"#.###.###") -> 8.100.000 | T66: =TEXT(O66,"TT.MM.JJ") -> 13.04.15 | U66: =TEXT(P66,"TT.MM.JJ") -> 21.04.15 | W66: =IF(A66="","",B66&CHAR(10)&F66&CHAR(10)&S66&" "&I66&CHAR(10)&T66&" - "&U66) -> A122436-03 Produkt66 8.100.000 ST 13.04.15 - 21.04.15
A67: Msch06 | B67: A118857-03 | F67: Produkt67 | H67: 1620000 | I67: ST | O67: 42115 | P67: 42116 | S67: =TEXT(H67,"#.###.###") -> 1.620.000 | T67: =TEXT(O67,"TT.MM.JJ") -> 21.04.15 | U67: =TEXT(P67,"TT.MM.JJ") -> 22.04.15 | W67: =IF(A67="","",B67&CHAR(10)&F67&CHAR(10)&S67&" "&I67&CHAR(10)&T67&" - "&U67) -> A118857-03 Produkt67 1.620.000 ST 21.04.15 - 22.04.15
A68: Msch06 | B68: A118856-03 | F68: Produkt68 | H68: 4050000 | I68: ST | O68: 42117 | P68: 42122 | S68: =TEXT(H68,"#.###.###") -> 4.050.000 | T68: =TEXT(O68,"TT.MM.JJ") -> 23.04.15 | U68: =TEXT(P68,"TT.MM.JJ") -> 28.04.15 | W68: =IF(A68="","",B68&CHAR(10)&F68&CHAR(10)&S68&" "&I68&CHAR(10)&T68&" - "&U68) -> A118856-03 Produkt68 4.050.000 ST 23.04.15 - 28.04.15
A69: Msch06 | B69: A117079-03 | F69: Produkt69 | H69: 1440000 | I69: ST | O69: 42122 | P69: 42123 | S69: =TEXT(H69,"#.###.###") -> 1.440.000 | T69: =TEXT(O69,"TT.MM.JJ") -> 28.04.15 | U69: =TEXT(P69,"TT.MM.JJ") -> 29.04.15 | W69: =IF(A69="","",B69&CHAR(10)&F69&CHAR(10)&S69&" "&I69&CHAR(10)&T69&" - "&U69) -> A117079-03 Produkt69 1.440.000 ST 28.04.15 - 29.04.15
A70: Msch06 | B70: A123238-03 | F70: Produkt70 | H70: 7200000 | I70: ST | O70: 42124 | P70: 42129 | S70: =TEXT(H70,"#.###.###") -> 7.200.000 | T70: =TEXT(O70,"TT.MM.JJ") -> 30.04.15 | U70: =TEXT(P70,"TT.MM.JJ") -> 05.05.15 | W70: =IF(A70="","",B70&CHAR(10)&F70&CHAR(10)&S70&" "&I70&CHAR(10)&T70&" - "&U70) -> A123238-03 Produkt70 7.200.000 ST 30.04.15 - 05.05.15
W71: =IF(A71="","",B71&CHAR(10)&F71&CHAR(10)&S71&" "&I71&CHAR(10)&T71&" - "&U71)
W72: =IF(A72="","",B72&CHAR(10)&F72&CHAR(10)&S72&" "&I72&CHAR(10)&T72&" - "&U72)
W73: =IF(A73="","",B73&CHAR(10)&F73&CHAR(10)&S73&" "&I73&CHAR(10)&T73&" - "&U73)
W74: =IF(A74="","",B74&CHAR(10)&F74&CHAR(10)&S74&" "&I74&CHAR(10)&T74&" - "&U74)
W75: =IF(A75="","",B75&CHAR(10)&F75&CHAR(10)&S75&" "&I75&CHAR(10)&T75&" - "&U75)
W76: =IF(A76="","",B76&CHAR(10)&F76&CHAR(10)&S76&" "&I76&CHAR(10)&T76&" - "&U76)
W77: =IF(A77="","",B77&CHAR(10)&F77&CHAR(10)&S77&" "&I77&CHAR(10)&T77&" - "&U77)
W78: =IF(A78="","",B78&CHAR(10)&F78&CHAR(10)&S78&" "&I78&CHAR(10)&T78&" - "&U78)
W79: =IF(A79="","",B79&CHAR(10)&F79&CHAR(10)&S79&" "&I79&CHAR(10)&T79&" - "&U79)
W80: =IF(A80="","",B80&CHAR(10)&F80&CHAR(10)&S80&" "&I80&CHAR(10)&T80&" - "&U80)
W81: =IF(A81="","",B81&CHAR(10)&F81&CHAR(10)&S81&" "&I81&CHAR(10)&T81&" - "&U81)
W82: =IF(A82="","",B82&CHAR(10)&F82&CHAR(10)&S82&" "&I82&CHAR(10)&T82&" - "&U82)
... W200: =IF(A200="","",B200&CHAR(10)&F200&CHAR(10)&S200&" "&I200&CHAR(10)&T200&" - "&U200)

Sheet Gruppe_Msch_gr
A1: Msch07 | B1: A000000-00 | F1: Produkt1 | H1: 1 | I1: ST | O1: 42055 | P1: 42057 | S1: =IF(A1="","",TEXT(H1,"#.###.###")) -> 1 | T1: =IF(A1="","",TEXT(O1,"TT.MM.JJ")) -> 20.02.15 | U1: =IF(A1="","",TEXT(P1,"TT.MM.JJ")) -> 22.02.15 | W1: =IF(A1="","",B1&CHAR(10)&F1&CHAR(10)&S1&" "&I1&CHAR(10)&T1&" - "&U1) -> A000000-00 Produkt1 1 ST 20.02.15 - 22.02.15
A2: Msch07 | B2: A121662-03 | F2: Produkt2 | H2: 2362873 | I2: ST | O2: 42081 | P2: 42088 | S2: =IF(A2="","",TEXT(H2,"#.###.###")) -> 2.362.873 | T2: =IF(A2="","",TEXT(O2,"TT.MM.JJ")) -> 18.03.15 | U2: =IF(A2="","",TEXT(P2,"TT.MM.JJ")) -> 25.03.15 | W2: =IF(A2="","",B2&CHAR(10)&F2&CHAR(10)&S2&" "&I2&CHAR(10)&T2&" - "&U2) -> A121662-03 Produkt2 2.362.873 ST 18.03.15 - 25.03.15
A3: Msch07 | B3: A121662-03 | F3: Produkt3 | H3: 1541000 | I3: ST | O3: 42082 | P3: 42082 | S3: =IF(A3="","",TEXT(H3,"#.###.###")) -> 1.541.000 | T3: =IF(A3="","",TEXT(O3,"TT.MM.JJ")) -> 19.03.15 | U3: =IF(A3="","",TEXT(P3,"TT.MM.JJ")) -> 19.03.15 | W3: =IF(A3="","",B3&CHAR(10)&F3&CHAR(10)&S3&" "&I3&CHAR(10)&T3&" - "&U3) -> A121662-03 Produkt3 1.541.000 ST 19.03.15 - 19.03.15
A4: Msch07 | B4: A121662-06 | F4: Produkt4 | H4: 23076000 | I4: ST | O4: 42082 | P4: 42088 | S4: =IF(A4="","",TEXT(H4,"#.###.###")) -> 23.076.000 | T4: =IF(A4="","",TEXT(O4,"TT.MM.JJ")) -> 19.03.15 | U4: =IF(A4="","",TEXT(P4,"TT.MM.JJ")) -> 25.03.15 | W4: =IF(A4="","",B4&CHAR(10)&F4&CHAR(10)&S4&" "&I4&CHAR(10)&T4&" - "&U4) -> A121662-06 Produkt4 23.076.000 ST 19.03.15 - 25.03.15
A5: Msch07 | B5: A121662-09 | F5: Produkt5 | H5: 23076000 | I5: ST | O5: 42088 | P5: 42094 | S5: =IF(A5="","",TEXT(H5,"#.###.###")) -> 23.076.000 | T5: =IF(A5="","",TEXT(O5,"TT.MM.JJ")) -> 25.03.15 | U5: =IF(A5="","",TEXT(P5,"TT.MM.JJ")) -> 31.03.15 | W5: =IF(A5="","",B5&CHAR(10)&F5&CHAR(10)&S5&" "&I5&CHAR(10)&T5&" - "&U5) -> A121662-09 Produkt5 23.076.000 ST 25.03.15 - 31.03.15
A6: Msch07 | B6: A121618-03 | F6: Produkt6 | H6: 6000000 | I6: ST | O6: 42101 | P6: 42102 | S6: =IF(A6="","",TEXT(H6,"#.###.###")) -> 6.000.000 | T6: =IF(A6="","",TEXT(O6,"TT.MM.JJ")) -> 07.04.15 | U6: =IF(A6="","",TEXT(P6,"TT.MM.JJ")) -> 08.04.15 | W6: =IF(A6="","",B6&CHAR(10)&F6&CHAR(10)&S6&" "&I6&CHAR(10)&T6&" - "&U6) -> A121618-03 Produkt6 6.000.000 ST 07.04.15 - 08.04.15
A7: Msch07 | B7: A122507-03 | F7: Produkt7 | H7: 8800000 | I7: ST | O7: 42103 | P7: 42109 | S7: =IF(A7="","",TEXT(H7,"#.###.###")) -> 8.800.000 | T7: =IF(A7="","",TEXT(O7,"TT.MM.JJ")) -> 09.04.15 | U7: =IF(A7="","",TEXT(P7,"TT.MM.JJ")) -> 15.04.15 | W7: =IF(A7="","",B7&CHAR(10)&F7&CHAR(10)&S7&" "&I7&CHAR(10)&T7&" - "&U7) -> A122507-03 Produkt7 8.800.000 ST 09.04.15 - 15.04.15
A8: Msch07 | B8: A121593-03 | F8: Produkt8 | H8: 14400000 | I8: ST | O8: 42110 | P8: 42115 | S8: =IF(A8="","",TEXT(H8,"#.###.###")) -> 14.400.000 | T8: =IF(A8="","",TEXT(O8,"TT.MM.JJ")) -> 16.04.15 | U8: =IF(A8="","",TEXT(P8,"TT.MM.JJ")) -> 21.04.15 | W8: =IF(A8="","",B8&CHAR(10)&F8&CHAR(10)&S8&" "&I8&CHAR(10)&T8&" - "&U8) -> A121593-03 Produkt8 14.400.000 ST 16.04.15 - 21.04.15
A9: Msch07 | B9: A122231-03 | F9: Produkt9 | H9: 30600000 | I9: ST | O9: 42115 | P9: 42128 | S9: =IF(A9="","",TEXT(H9,"#.###.###")) -> 30.600.000 | T9: =IF(A9="","",TEXT(O9,"TT.MM.JJ")) -> 21.04.15 | U9: =IF(A9="","",TEXT(P9,"TT.MM.JJ")) -> 04.05.15 | W9: =IF(A9="","",B9&CHAR(10)&F9&CHAR(10)&S9&" "&I9&CHAR(10)&T9&" - "&U9) -> A122231-03 Produkt9 30.600.000 ST 21.04.15 - 04.05.15
A10: Msch07 | B10: A122859-03 | F10: Produkt10 | H10: 9000000 | I10: ST | O10: 42129 | P10: 42131 | S10: =IF(A10="","",TEXT(H10,"#.###.###")) -> 9.000.000 | T10: =IF(A10="","",TEXT(O10,"TT.MM.JJ")) -> 05.05.15 | U10: =IF(A10="","",TEXT(P10,"TT.MM.JJ")) -> 07.05.15 | W10: =IF(A10="","",B10&CHAR(10)&F10&CHAR(10)&S10&" "&I10&CHAR(10)&T10&" - "&U10) -> A122859-03 Produkt10 9.000.000 ST 05.05.15 - 07.05.15
S11: =IF(A11="","",TEXT(H11,"#.###.###")) | T11: =IF(A11="","",TEXT(O11,"TT.MM.JJ")) | U11: =IF(A11="","",TEXT(P11,"TT.MM.JJ")) | W11: =IF(A11="","",B11&CHAR(10)&F11&CHAR(10)&S11&" "&I11&CHAR(10)&T11&" - "&U11)
S12: =IF(A12="","",TEXT(H12,"#.###.###")) | T12: =IF(A12="","",TEXT(O12,"TT.MM.JJ")) | U12: =IF(A12="","",TEXT(P12,"TT.MM.JJ")) | W12: =IF(A12="","",B12&CHAR(10)&F12&CHAR(10)&S12&" "&I12&CHAR(10)&T12&" - "&U12)
A13: Msch08 | B13: A000000-00 | F13: Produkt13 | H13: 1 | I13: ST | O13: 42055 | P13: 42057 | S13: =IF(A13="","",TEXT(H13,"#.###.###")) -> 1 | T13: =IF(A13="","",TEXT(O13,"TT.MM.JJ")) -> 20.02.15 | U13: =IF(A13="","",TEXT(P13,"TT.MM.JJ")) -> 22.02.15 | W13: =IF(A13="","",B13&CHAR(10)&F13&CHAR(10)&S13&" "&I13&CHAR(10)&T13&" - "&U13) -> A000000-00 Produkt13 1 ST 20.02.15 - 22.02.15
A14: Msch08 | B14: A121534-06 | F14: Produkt14 | H14: 19349056 | I14: ST | O14: 42075 | P14: 42082 | S14: =IF(A14="","",TEXT(H14,"#.###.###")) -> 19.349.056 | T14: =IF(A14="","",TEXT(O14,"TT.MM.JJ")) -> 12.03.15 | U14: =IF(A14="","",TEXT(P14,"TT.MM.JJ")) -> 19.03.15 | W14: =IF(A14="","",B14&CHAR(10)&F14&CHAR(10)&S14&" "&I14&CHAR(10)&T14&" - "&U14) -> A121534-06 Produkt14 19.349.056 ST 12.03.15 - 19.03.15
A15: Msch08 | B15: A121534-09 | F15: Produkt15 | H15: 36000000 | I15: ST | O15: 42086 | P15: 42089 | S15: =IF(A15="","",TEXT(H15,"#.###.###")) -> 36.000.000 | T15: =IF(A15="","",TEXT(O15,"TT.MM.JJ")) -> 23.03.15 | U15: =IF(A15="","",TEXT(P15,"TT.MM.JJ")) -> 26.03.15 | W15: =IF(A15="","",B15&CHAR(10)&F15&CHAR(10)&S15&" "&I15&CHAR(10)&T15&" - "&U15) -> A121534-09 Produkt15 36.000.000 ST 23.03.15 - 26.03.15
A16: Msch08 | B16: A122144-03 | F16: Produkt16 | H16: 10800000 | I16: ST | O16: 42089 | P16: 42095 | S16: =IF(A16="","",TEXT(H16,"#.###.###")) -> 10.800.000 | T16: =IF(A16="","",TEXT(O16,"TT.MM.JJ")) -> 26.03.15 | U16: =IF(A16="","",TEXT(P16,"TT.MM.JJ")) -> 01.04.15 | W16: =IF(A16="","",B16&CHAR(10)&F16&CHAR(10)&S16&" "&I16&CHAR(10)&T16&" - "&U16) -> A122144-03 Produkt16 10.800.000 ST 26.03.15 - 01.04.15
A17: Msch08 | B17: A122763-03 | F17: Produkt17 | H17: 10800000 | I17: ST | O17: 42095 | P17: 42104 | S17: =IF(A17="","",TEXT(H17,"#.###.###")) -> 10.800.000 | T17: =IF(A17="","",TEXT(O17,"TT.MM.JJ")) -> 01.04.15 | U17: =IF(A17="","",TEXT(P17,"TT.MM.JJ")) -> 10.04.15 | W17: =IF(A17="","",B17&CHAR(10)&F17&CHAR(10)&S17&" "&I17&CHAR(10)&T17&" - "&U17) -> A122763-03 Produkt17 10.800.000 ST 01.04.15 - 10.04.15
A18: Msch08 | B18: A123129-03 | F18: Produkt18 | H18: 8172000 | I18: ST | O18: 42107 | P18: 42108 | S18: =IF(A18="","",TEXT(H18,"#.###.###")) -> 8.172.000 | T18: =IF(A18="","",TEXT(O18,"TT.MM.JJ")) -> 13.04.15 | U18: =IF(A18="","",TEXT(P18,"TT.MM.JJ")) -> 14.04.15 | W18: =IF(A18="","",B18&CHAR(10)&F18&CHAR(10)&S18&" "&I18&CHAR(10)&T18&" - "&U18) -> A123129-03 Produkt18 8.172.000 ST 13.04.15 - 14.04.15
A19: Msch08 | B19: A121663-03 | F19: Produkt19 | H19: 23076000 | I19: ST | O19: 42109 | P19: 42115 | S19: =IF(A19="","",TEXT(H19,"#.###.###")) -> 23.076.000 | T19: =IF(A19="","",TEXT(O19,"TT.MM.JJ")) -> 15.04.15 | U19: =IF(A19="","",TEXT(P19,"TT.MM.JJ")) -> 21.04.15 | W19: =IF(A19="","",B19&CHAR(10)&F19&CHAR(10)&S19&" "&I19&CHAR(10)&T19&" - "&U19) -> A121663-03 Produkt19 23.076.000 ST 15.04.15 - 21.04.15
A20: Msch08 | B20: A121663-06 | F20: Produkt20 | H20: 23076000 | I20: ST | O20: 42115 | P20: 42118 | S20: =IF(A20="","",TEXT(H20,"#.###.###")) -> 23.076.000 | T20: =IF(A20="","",TEXT(O20,"TT.MM.JJ")) -> 21.04.15 | U20: =IF(A20="","",TEXT(P20,"TT.MM.JJ")) -> 24.04.15 | W20: =IF(A20="","",B20&CHAR(10)&F20&CHAR(10)&S20&" "&I20&CHAR(10)&T20&" - "&U20) -> A121663-06 Produkt20 23.076.000 ST 21.04.15 - 24.04.15
A21: Msch08 | B21: A121663-09 | F21: Produkt21 | H21: 23076000 | I21: ST | O21: 42118 | P21: 42124 | S21: =IF(A21="","",TEXT(H21,"#.###.###")) -> 23.076.000 | T21: =IF(A21="","",TEXT(O21,"TT.MM.JJ")) -> 24.04.15 | U21: =IF(A21="","",TEXT(P21,"TT.MM.JJ")) -> 30.04.15 | W21: =IF(A21="","",B21&CHAR(10)&F21&CHAR(10)&S21&" "&I21&CHAR(10)&T21&" - "&U21) -> A121663-09 Produkt21 23.076.000 ST 24.04.15 - 30.04.15
A22: Msch08 | B22: A119762-01 | F22: Produkt22 | H22: 1538400 | I22: ST | O22: 42124 | P22: 42124 | S22: =IF(A22="","",TEXT(H22,"#.###.###")) -> 1.538.400 | T22: =IF(A22="","",TEXT(O22,"TT.MM.JJ")) -> 30.04.15 | U22: =IF(A22="","",TEXT(P22,"TT.MM.JJ")) -> 30.04.15 | W22: =IF(A22="","",B22&CHAR(10)&F22&CHAR(10)&S22&" "&I22&CHAR(10)&T22&" - "&U22) -> A119762-01 Produkt22 1.538.400 ST 30.04.15 - 30.04.15
S23: =IF(A23="","",TEXT(H23,"#.###.###")) | T23: =IF(A23="","",TEXT(O23,"TT.MM.JJ")) | U23: =IF(A23="","",TEXT(P23,"TT.MM.JJ")) | W23: =IF(A23="","",B23&CHAR(10)&F23&CHAR(10)&S23&" "&I23&CHAR(10)&T23&" - "&U23)
S24: =IF(A24="","",TEXT(H24,"#.###.###")) | T24: =IF(A24="","",TEXT(O24,"TT.MM.JJ")) | U24: =IF(A24="","",TEXT(P24,"TT.MM.JJ")) | W24: =IF(A24="","",B24&CHAR(10)&F24&CHAR(10)&S24&" "&I24&CHAR(10)&T24&" - "&U24)
A25: Msch09 | B25: A000000-00 | F25: Produkt25 | H25: 1 | I25: ST | O25: 42055 | P25: 42057 | S25: =IF(A25="","",TEXT(H25,"#.###.###")) -> 1 | T25: =IF(A25="","",TEXT(O25,"TT.MM.JJ")) -> 20.02.15 | U25: =IF(A25="","",TEXT(P25,"TT.MM.JJ")) -> 22.02.15 | W25: =IF(A25="","",B25&CHAR(10)&F25&CHAR(10)&S25&" "&I25&CHAR(10)&T25&" - "&U25) -> A000000-00 Produkt25 1 ST 20.02.15 - 22.02.15
A26: Msch09 | B26: A121744-05 | F26: Produkt26 | H26: 1208723 | I26: ST | O26: 42082 | P26: 42087 | S26: =IF(A26="","",TEXT(H26,"#.###.###")) -> 1.208.723 | T26: =IF(A26="","",TEXT(O26,"TT.MM.JJ")) -> 19.03.15 | U26: =IF(A26="","",TEXT(P26,"TT.MM.JJ")) -> 24.03.15 | W26: =IF(A26="","",B26&CHAR(10)&F26&CHAR(10)&S26&" "&I26&CHAR(10)&T26&" - "&U26) -> A121744-05 Produkt26 1.208.723 ST 19.03.15 - 24.03.15
A27: Msch09 | B27: A121744-05 | F27: Produkt27 | H27: 14001000 | I27: ST | O27: 42082 | P27: 42094 | S27: =IF(A27="","",TEXT(H27,"#.###.###")) -> 14.001.000 | T27: =IF(A27="","",TEXT(O27,"TT.MM.JJ")) -> 19.03.15 | U27: =IF(A27="","",TEXT(P27,"TT.MM.JJ")) -> 31.03.15 | W27: =IF(A27="","",B27&CHAR(10)&F27&CHAR(10)&S27&" "&I27&CHAR(10)&T27&" - "&U27) -> A121744-05 Produkt27 14.001.000 ST 19.03.15 - 31.03.15
A28: Msch09 | B28: A123423-03 | F28: Produkt28 | H28: 20312500 | I28: ST | O28: 42096 | P28: 42107 | S28: =IF(A28="","",TEXT(H28,"#.###.###")) -> 20.312.500 | T28: =IF(A28="","",TEXT(O28,"TT.MM.JJ")) -> 02.04.15 | U28: =IF(A28="","",TEXT(P28,"TT.MM.JJ")) -> 13.04.15 | W28: =IF(A28="","",B28&CHAR(10)&F28&CHAR(10)&S28&" "&I28&CHAR(10)&T28&" - "&U28) -> A123423-03 Produkt28 20.312.500 ST 02.04.15 - 13.04.15
A29: Msch09 | B29: A122843-04 | F29: Produkt29 | H29: 3200000 | I29: ST | O29: 42107 | P29: 42109 | S29: =IF(A29="","",TEXT(H29,"#.###.###")) -> 3.200.000 | T29: =IF(A29="","",TEXT(O29,"TT.MM.JJ")) -> 13.04.15 | U29: =IF(A29="","",TEXT(P29,"TT.MM.JJ")) -> 15.04.15 | W29: =IF(A29="","",B29&CHAR(10)&F29&CHAR(10)&S29&" "&I29&CHAR(10)&T29&" - "&U29) -> A122843-04 Produkt29 3.200.000 ST 13.04.15 - 15.04.15
A30: Msch09 | B30: A123496-04 | F30: Produkt30 | H30: 3200000 | I30: ST | O30: 42109 | P30: 42110 | S30: =IF(A30="","",TEXT(H30,"#.###.###")) -> 3.200.000 | T30: =IF(A30="","",TEXT(O30,"TT.MM.JJ")) -> 15.04.15 | U30: =IF(A30="","",TEXT(P30,"TT.MM.JJ")) -> 16.04.15 | W30: =IF(A30="","",B30&CHAR(10)&F30&CHAR(10)&S30&" "&I30&CHAR(10)&T30&" - "&U30) -> A123496-04 Produkt30 3.200.000 ST 15.04.15 - 16.04.15
A31: Msch09 | B31: A121395-03 | F31: Produkt31 | H31: 2352940 | I31: ST | O31: 42110 | P31: 42114 | S31: =IF(A31="","",TEXT(H31,"#.###.###")) -> 2.352.940 | T31: =IF(A31="","",TEXT(O31,"TT.MM.JJ")) -> 16.04.15 | U31: =IF(A31="","",TEXT(P31,"TT.MM.JJ")) -> 20.04.15 | W31: =IF(A31="","",B31&CHAR(10)&F31&CHAR(10)&S31&" "&I31&CHAR(10)&T31&" - "&U31) -> A121395-03 Produkt31 2.352.940 ST 16.04.15 - 20.04.15
A32: Msch09 | B32: A120028-03 | F32: Produkt32 | H32: 5647056 | I32: ST | O32: 42114 | P32: 42116 | S32: =IF(A32="","",TEXT(H32,"#.###.###")) -> 5.647.056 | T32: =IF(A32="","",TEXT(O32,"TT.MM.JJ")) -> 20.04.15 | U32: =IF(A32="","",TEXT(P32,"TT.MM.JJ")) -> 22.04.15 | W32: =IF(A32="","",B32&CHAR(10)&F32&CHAR(10)&S32&" "&I32&CHAR(10)&T32&" - "&U32) -> A120028-03 Produkt32 5.647.056 ST 20.04.15 - 22.04.15
A33: Msch09 | B33: A122095-03 | F33: Produkt33 | H33: 941176 | I33: ST | O33: 42116 | P33: 42117 | S33: =IF(A33="","",TEXT(H33,"#.###.###")) -> 941.176 | T33: =IF(A33="","",TEXT(O33,"TT.MM.JJ")) -> 22.04.15 | U33: =IF(A33="","",TEXT(P33,"TT.MM.JJ")) -> 23.04.15 | W33: =IF(A33="","",B33&CHAR(10)&F33&CHAR(10)&S33&" "&I33&CHAR(10)&T33&" - "&U33) -> A122095-03 Produkt33 941.176 ST 22.04.15 - 23.04.15
A34: Msch09 | B34: A122261-04 | F34: Produkt34 | H34: 16000000 | I34: ST | O34: 42128 | P34: 42142 | S34: =IF(A34="","",TEXT(H34,"#.###.###")) -> 16.000.000 | T34: =IF(A34="","",TEXT(O34,"TT.MM.JJ")) -> 04.05.15 | U34: =IF(A34="","",TEXT(P34,"TT.MM.JJ")) -> 18.05.15 | W34: =IF(A34="","",B34&CHAR(10)&F34&CHAR(10)&S34&" "&I34&CHAR(10)&T34&" - "&U34) -> A122261-04 Produkt34 16.000.000 ST 04.05.15 - 18.05.15
S35: =IF(A35="","",TEXT(H35,"#.###.###")) | T35: =IF(A35="","",TEXT(O35,"TT.MM.JJ")) | U35: =IF(A35="","",TEXT(P35,"TT.MM.JJ")) | W35: =IF(A35="","",B35&CHAR(10)&F35&CHAR(10)&S35&" "&I35&CHAR(10)&T35&" - "&U35)
S36: =IF(A36="","",TEXT(H36,"#.###.###")) | T36: =IF(A36="","",TEXT(O36,"TT.MM.JJ")) | U36: =IF(A36="","",TEXT(P36,"TT.MM.JJ")) | W36: =IF(A36="","",B36&CHAR(10)&F36&CHAR(10)&S36&" "&I36&CHAR(10)&T36&" - "&U36)
A37: Msch10 | B37: A000000-00 | F37: Produkt37 | H37: 1 | I37: ST | O37: 42055 | P37: 42057 | S37: =IF(A37="","",TEXT(H37,"#.###.###")) -> 1 | T37: =IF(A37="","",TEXT(O37,"TT.MM.JJ")) -> 20.02.15 | U37: =IF(A37="","",TEXT(P37,"TT.MM.JJ")) -> 22.02.15 | W37: =IF(A37="","",B37&CHAR(10)&F37&CHAR(10)&S37&" "&I37&CHAR(10)&T37&" - "&U37) -> A000000-00 Produkt37 1 ST 20.02.15 - 22.02.15
A38: Msch10 | B38: A121978-03 | F38: Produkt38 | H38: 58851 | I38: ST | O38: 42082 | P38: 42082 | S38: =IF(A38="","",TEXT(H38,"#.###.###")) -> 58.851 | T38: =IF(A38="","",TEXT(O38,"TT.MM.JJ")) -> 19.03.15 | U38: =IF(A38="","",TEXT(P38,"TT.MM.JJ")) -> 19.03.15 | W38: =IF(A38="","",B38&CHAR(10)&F38&CHAR(10)&S38&" "&I38&CHAR(10)&T38&" - "&U38) -> A121978-03 Produkt38 58.851 ST 19.03.15 - 19.03.15
A39: Msch10 | B39: A122209-03 | F39: Produkt39 | H39: 67500000 | I39: ST | O39: 42082 | P39: 42090 | S39: =IF(A39="","",TEXT(H39,"#.###.###")) -> 67.500.000 | T39: =IF(A39="","",TEXT(O39,"TT.MM.JJ")) -> 19.03.15 | U39: =IF(A39="","",TEXT(P39,"TT.MM.JJ")) -> 27.03.15 | W39: =IF(A39="","",B39&CHAR(10)&F39&CHAR(10)&S39&" "&I39&CHAR(10)&T39&" - "&U39) -> A122209-03 Produkt39 67.500.000 ST 19.03.15 - 27.03.15
A40: Msch10 | B40: A123408-03 | F40: Produkt40 | H40: 12000000 | I40: ST | O40: 42090 | P40: 42096 | S40: =IF(A40="","",TEXT(H40,"#.###.###")) -> 12.000.000 | T40: =IF(A40="","",TEXT(O40,"TT.MM.JJ")) -> 27.03.15 | U40: =IF(A40="","",TEXT(P40,"TT.MM.JJ")) -> 02.04.15 | W40: =IF(A40="","",B40&CHAR(10)&F40&CHAR(10)&S40&" "&I40&CHAR(10)&T40&" - "&U40) -> A123408-03 Produkt40 12.000.000 ST 27.03.15 - 02.04.15
A41: Msch10 | B41: A121743-03 | F41: Produkt41 | H41: 9000000 | I41: ST | O41: 42096 | P41: 42101 | S41: =IF(A41="","",TEXT(H41,"#.###.###")) -> 9.000.000 | T41: =IF(A41="","",TEXT(O41,"TT.MM.JJ")) -> 02.04.15 | U41: =IF(A41="","",TEXT(P41,"TT.MM.JJ")) -> 07.04.15 | W41: =IF(A41="","",B41&CHAR(10)&F41&CHAR(10)&S41&" "&I41&CHAR(10)&T41&" - "&U41) -> A121743-03 Produkt41 9.000.000 ST 02.04.15 - 07.04.15
A42: Msch10 | B42: A122211-03 | F42: Produkt42 | H42: 67500000 | I42: ST | O42: 42101 | P42: 42111 | S42: =IF(A42="","",TEXT(H42,"#.###.###")) -> 67.500.000 | T42: =IF(A42="","",TEXT(O42,"TT.MM.JJ")) -> 07.04.15 | U42: =IF(A42="","",TEXT(P42,"TT.MM.JJ")) -> 17.04.15 | W42: =IF(A42="","",B42&CHAR(10)&F42&CHAR(10)&S42&" "&I42&CHAR(10)&T42&" - "&U42) -> A122211-03 Produkt42 67.500.000 ST 07.04.15 - 17.04.15
A43: Msch10 | B43: A122684-03 | F43: Produkt43 | H43: 10800000 | I43: ST | O43: 42111 | P43: 42116 | S43: =IF(A43="","",TEXT(H43,"#.###.###")) -> 10.800.000 | T43: =IF(A43="","",TEXT(O43,"TT.MM.JJ")) -> 17.04.15 | U43: =IF(A43="","",TEXT(P43,"TT.MM.JJ")) -> 22.04.15 | W43: =IF(A43="","",B43&CHAR(10)&F43&CHAR(10)&S43&" "&I43&CHAR(10)&T43&" - "&U43) -> A122684-03 Produkt43 10.800.000 ST 17.04.15 - 22.04.15
A44: Msch10 | B44: A122684-06 | F44: Produkt44 | H44: 10800000 | I44: ST | O44: 42116 | P44: 42122 | S44: =IF(A44="","",TEXT(H44,"#.###.###")) -> 10.800.000 | T44: =IF(A44="","",TEXT(O44,"TT.MM.JJ")) -> 22.04.15 | U44: =IF(A44="","",TEXT(P44,"TT.MM.JJ")) -> 28.04.15 | W44: =IF(A44="","",B44&CHAR(10)&F44&CHAR(10)&S44&" "&I44&CHAR(10)&T44&" - "&U44) -> A122684-06 Produkt44 10.800.000 ST 22.04.15 - 28.04.15
A45: Msch10 | B45: A122856-03 | F45: Produkt45 | H45: 31500000 | I45: ST | O45: 42150 | P45: 42156 | S45: =IF(A45="","",TEXT(H45,"#.###.###")) -> 31.500.000 | T45: =IF(A45="","",TEXT(O45,"TT.MM.JJ")) -> 26.05.15 | U45: =IF(A45="","",TEXT(P45,"TT.MM.JJ")) -> 01.06.15 | W45: =IF(A45="","",B45&CHAR(10)&F45&CHAR(10)&S45&" "&I45&CHAR(10)&T45&" - "&U45) -> A122856-03 Produkt45 31.500.000 ST 26.05.15 - 01.06.15
A46: Msch10 | B46: A122851-03 | F46: Produkt46 | H46: 67500000 | I46: ST | O46: 42157 | P46: 42170 | S46: =IF(A46="","",TEXT(H46,"#.###.###")) -> 67.500.000 | T46: =IF(A46="","",TEXT(O46,"TT.MM.JJ")) -> 02.06.15 | U46: =IF(A46="","",TEXT(P46,"TT.MM.JJ")) -> 15.06.15 | W46: =IF(A46="","",B46&CHAR(10)&F46&CHAR(10)&S46&" "&I46&CHAR(10)&T46&" - "&U46) -> A122851-03 Produkt46 67.500.000 ST 02.06.15 - 15.06.15
S47: =IF(A47="","",TEXT(H47,"#.###.###")) | T47: =IF(A47="","",TEXT(O47,"TT.MM.JJ")) | U47: =IF(A47="","",TEXT(P47,"TT.MM.JJ")) | W47: =IF(A47="","",B47&CHAR(10)&F47&CHAR(10)&S47&" "&I47&CHAR(10)&T47&" - "&U47)
S48: =IF(A48="","",TEXT(H48,"#.###.###")) | T48: =IF(A48="","",TEXT(O48,"TT.MM.JJ")) | U48: =IF(A48="","",TEXT(P48,"TT.MM.JJ")) | W48: =IF(A48="","",B48&CHAR(10)&F48&CHAR(10)&S48&" "&I48&CHAR(10)&T48&" - "&U48)
A49: Msch11 | B49: A000000-00 | F49: Produkt49 | H49: 1 | I49: ST | O49: 42055 | P49: 42057 | S49: =IF(A49="","",TEXT(H49,"#.###.###")) -> 1 | T49: =IF(A49="","",TEXT(O49,"TT.MM.JJ")) -> 20.02.15 | U49: =IF(A49="","",TEXT(P49,"TT.MM.JJ")) -> 22.02.15 | W49: =IF(A49="","",B49&CHAR(10)&F49&CHAR(10)&S49&" "&I49&CHAR(10)&T49&" - "&U49) -> A000000-00 Produkt49 1 ST 20.02.15 - 22.02.15
A50: Msch11 | B50: A122585-03 | F50: Produkt50 | H50: 2800000 | I50: ST | O50: 42081 | P50: 42082 | S50: =IF(A50="","",TEXT(H50,"#.###.###")) -> 2.800.000 | T50: =IF(A50="","",TEXT(O50,"TT.MM.JJ")) -> 18.03.15 | U50: =IF(A50="","",TEXT(P50,"TT.MM.JJ")) -> 19.03.15 | W50: =IF(A50="","",B50&CHAR(10)&F50&CHAR(10)&S50&" "&I50&CHAR(10)&T50&" - "&U50) -> A122585-03 Produkt50 2.800.000 ST 18.03.15 - 19.03.15
A51: Msch11 | B51: A122592-03 | F51: Produkt51 | H51: 16000000 | I51: ST | O51: 42082 | P51: 42090 | S51: =IF(A51="","",TEXT(H51,"#.###.###")) -> 16.000.000 | T51: =IF(A51="","",TEXT(O51,"TT.MM.JJ")) -> 19.03.15 | U51: =IF(A51="","",TEXT(P51,"TT.MM.JJ")) -> 27.03.15 | W51: =IF(A51="","",B51&CHAR(10)&F51&CHAR(10)&S51&" "&I51&CHAR(10)&T51&" - "&U51) -> A122592-03 Produkt51 16.000.000 ST 19.03.15 - 27.03.15
A52: Msch11 | B52: A122398-03 | F52: Produkt52 | H52: 21600000 | I52: ST | O52: 42093 | P52: 42102 | S52: =IF(A52="","",TEXT(H52,"#.###.###")) -> 21.600.000 | T52: =IF(A52="","",TEXT(O52,"TT.MM.JJ")) -> 30.03.15 | U52: =IF(A52="","",TEXT(P52,"TT.MM.JJ")) -> 08.04.15 | W52: =IF(A52="","",B52&CHAR(10)&F52&CHAR(10)&S52&" "&I52&CHAR(10)&T52&" - "&U52) -> A122398-03 Produkt52 21.600.000 ST 30.03.15 - 08.04.15
A53: Msch11 | B53: A122195-03 | F53: Produkt53 | H53: 28800000 | I53: ST | O53: 42103 | P53: 42121 | S53: =IF(A53="","",TEXT(H53,"#.###.###")) -> 28.800.000 | T53: =IF(A53="","",TEXT(O53,"TT.MM.JJ")) -> 09.04.15 | U53: =IF(A53="","",TEXT(P53,"TT.MM.JJ")) -> 27.04.15 | W53: =IF(A53="","",B53&CHAR(10)&F53&CHAR(10)&S53&" "&I53&CHAR(10)&T53&" - "&U53) -> A122195-03 Produkt53 28.800.000 ST 09.04.15 - 27.04.15
A54: Msch11 | B54: A122195-06 | F54: Produkt54 | H54: 2400000 | I54: ST | O54: 42121 | P54: 42122 | S54: =IF(A54="","",TEXT(H54,"#.###.###")) -> 2.400.000 | T54: =IF(A54="","",TEXT(O54,"TT.MM.JJ")) -> 27.04.15 | U54: =IF(A54="","",TEXT(P54,"TT.MM.JJ")) -> 28.04.15 | W54: =IF(A54="","",B54&CHAR(10)&F54&CHAR(10)&S54&" "&I54&CHAR(10)&T54&" - "&U54) -> A122195-06 Produkt54 2.400.000 ST 27.04.15 - 28.04.15
A55: Msch11 | B55: A122604-03 | F55: Produkt55 | H55: 11200000 | I55: ST | O55: 42123 | P55: 42129 | S55: =IF(A55="","",TEXT(H55,"#.###.###")) -> 11.200.000 | T55: =IF(A55="","",TEXT(O55,"TT.MM.JJ")) -> 29.04.15 | U55: =IF(A55="","",TEXT(P55,"TT.MM.JJ")) -> 05.05.15 | W55: =IF(A55="","",B55&CHAR(10)&F55&CHAR(10)&S55&" "&I55&CHAR(10)&T55&" - "&U55) -> A122604-03 Produkt55 11.200.000 ST 29.04.15 - 05.05.15
A56: Msch11 | B56: A123065-03 | F56: Produkt56 | H56: 11200000 | I56: ST | O56: 42129 | P56: 42132 | S56: =IF(A56="","",TEXT(H56,"#.###.###")) -> 11.200.000 | T56: =IF(A56="","",TEXT(O56,"TT.MM.JJ")) -> 05.05.15 | U56: =IF(A56="","",TEXT(P56,"TT.MM.JJ")) -> 08.05.15 | W56: =IF(A56="","",B56&CHAR(10)&F56&CHAR(10)&S56&" "&I56&CHAR(10)&T56&" - "&U56) -> A123065-03 Produkt56 11.200.000 ST 05.05.15 - 08.05.15
A57: Msch11 | B57: A123181-03 | F57: Produkt57 | H57: 6000000 | I57: ST | O57: 42135 | P57: 42136 | S57: =IF(A57="","",TEXT(H57,"#.###.###")) -> 6.000.000 | T57: =IF(A57="","",TEXT(O57,"TT.MM.JJ")) -> 11.05.15 | U57: =IF(A57="","",TEXT(P57,"TT.MM.JJ")) -> 12.05.15 | W57: =IF(A57="","",B57&CHAR(10)&F57&CHAR(10)&S57&" "&I57&CHAR(10)&T57&" - "&U57) -> A123181-03 Produkt57 6.000.000 ST 11.05.15 - 12.05.15
A58: Msch11 | B58: A122163-03 | F58: Produkt58 | H58: 6000000 | I58: ST | O58: 42137 | P58: 42142 | S58: =IF(A58="","",TEXT(H58,"#.###.###")) -> 6.000.000 | T58: =IF(A58="","",TEXT(O58,"TT.MM.JJ")) -> 13.05.15 | U58: =IF(A58="","",TEXT(P58,"TT.MM.JJ")) -> 18.05.15 | W58: =IF(A58="","",B58&CHAR(10)&F58&CHAR(10)&S58&" "&I58&CHAR(10)&T58&" - "&U58) -> A122163-03 Produkt58 6.000.000 ST 13.05.15 - 18.05.15
S59: =IF(A59="","",TEXT(H59,"#.###.###")) | T59: =IF(A59="","",TEXT(O59,"TT.MM.JJ")) | U59: =IF(A59="","",TEXT(P59,"TT.MM.JJ")) | W59: =IF(A59="","",B59&CHAR(10)&F59&CHAR(10)&S59&" "&I59&CHAR(10)&T59&" - "&U59)
S60: =IF(A60="","",TEXT(H60,"#.###.###")) | T60: =IF(A60="","",TEXT(O60,"TT.MM.JJ")) | U60: =IF(A60="","",TEXT(P60,"TT.MM.JJ")) | W60: =IF(A60="","",B60&CHAR(10)&F60&CHAR(10)&S60&" "&I60&CHAR(10)&T60&" - "&U60)
A61: Msch12 | B61: A000000-00 | F61: Produkt61 | H61: 1 | I61: ST | O61: 42055 | P61: 42057 | S61: =IF(A61="","",TEXT(H61,"#.###.###")) -> 1 | T61: =IF(A61="","",TEXT(O61,"TT.MM.JJ")) -> 20.02.15 | U61: =IF(A61="","",TEXT(P61,"TT.MM.JJ")) -> 22.02.15 | W61: =IF(A61="","",B61&CHAR(10)&F61&CHAR(10)&S61&" "&I61&CHAR(10)&T61&" - "&U61) -> A000000-00 Produkt61 1 ST 20.02.15 - 22.02.15
A62: Msch12 | B62: A121874-03 | F62: Produkt62 | H62: 1971000 | I62: ST | O62: 42081 | P62: 42086 | S62: =IF(A62="","",TEXT(H62,"#.###.###")) -> 1.971.000 | T62: =IF(A62="","",TEXT(O62,"TT.MM.JJ")) -> 18.03.15 | U62: =IF(A62="","",TEXT(P62,"TT.MM.JJ")) -> 23.03.15 | W62: =IF(A62="","",B62&CHAR(10)&F62&CHAR(10)&S62&" "&I62&CHAR(10)&T62&" - "&U62) -> A121874-03 Produkt62 1.971.000 ST 18.03.15 - 23.03.15
A63: Msch12 | B63: A121874-03 | F63: Produkt63 | H63: 5829000 | I63: ST | O63: 42081 | P63: 42087 | S63: =IF(A63="","",TEXT(H63,"#.###.###")) -> 5.829.000 | T63: =IF(A63="","",TEXT(O63,"TT.MM.JJ")) -> 18.03.15 | U63: =IF(A63="","",TEXT(P63,"TT.MM.JJ")) -> 24.03.15 | W63: =IF(A63="","",B63&CHAR(10)&F63&CHAR(10)&S63&" "&I63&CHAR(10)&T63&" - "&U63) -> A121874-03 Produkt63 5.829.000 ST 18.03.15 - 24.03.15
A64: Msch12 | B64: A122390-03 | F64: Produkt64 | H64: 4200000 | I64: ST | O64: 42087 | P64: 42088 | S64: =IF(A64="","",TEXT(H64,"#.###.###")) -> 4.200.000 | T64: =IF(A64="","",TEXT(O64,"TT.MM.JJ")) -> 24.03.15 | U64: =IF(A64="","",TEXT(P64,"TT.MM.JJ")) -> 25.03.15 | W64: =IF(A64="","",B64&CHAR(10)&F64&CHAR(10)&S64&" "&I64&CHAR(10)&T64&" - "&U64) -> A122390-03 Produkt64 4.200.000 ST 24.03.15 - 25.03.15
A65: Msch12 | B65: A120188-03 | F65: Produkt65 | H65: 8400000 | I65: ST | O65: 42088 | P65: 42093 | S65: =IF(A65="","",TEXT(H65,"#.###.###")) -> 8.400.000 | T65: =IF(A65="","",TEXT(O65,"TT.MM.JJ")) -> 25.03.15 | U65: =IF(A65="","",TEXT(P65,"TT.MM.JJ")) -> 30.03.15 | W65: =IF(A65="","",B65&CHAR(10)&F65&CHAR(10)&S65&" "&I65&CHAR(10)&T65&" - "&U65) -> A120188-03 Produkt65 8.400.000 ST 25.03.15 - 30.03.15
A66: Msch12 | B66: A122728-03 | F66: Produkt66 | H66: 8400000 | I66: ST | O66: 42093 | P66: 42101 | S66: =IF(A66="","",TEXT(H66,"#.###.###")) -> 8.400.000 | T66: =IF(A66="","",TEXT(O66,"TT.MM.JJ")) -> 30.03.15 | U66: =IF(A66="","",TEXT(P66,"TT.MM.JJ")) -> 07.04.15 | W66: =IF(A66="","",B66&CHAR(10)&F66&CHAR(10)&S66&" "&I66&CHAR(10)&T66&" - "&U66) -> A122728-03 Produkt66 8.400.000 ST 30.03.15 - 07.04.15
A67: Msch12 | B67: A122672-03 | F67: Produkt67 | H67: 8400000 | I67: ST | O67: 42102 | P67: 42107 | S67: =IF(A67="","",TEXT(H67,"#.###.###")) -> 8.400.000 | T67: =IF(A67="","",TEXT(O67,"TT.MM.JJ")) -> 08.04.15 | U67: =IF(A67="","",TEXT(P67,"TT.MM.JJ")) -> 13.04.15 | W67: =IF(A67="","",B67&CHAR(10)&F67&CHAR(10)&S67&" "&I67&CHAR(10)&T67&" - "&U67) -> A122672-03 Produkt67 8.400.000 ST 08.04.15 - 13.04.15
A68: Msch12 | B68: A122668-03 | F68: Produkt68 | H68: 14000000 | I68: ST | O68: 42107 | P68: 42111 | S68: =IF(A68="","",TEXT(H68,"#.###.###")) -> 14.000.000 | T68: =IF(A68="","",TEXT(O68,"TT.MM.JJ")) -> 13.04.15 | U68: =IF(A68="","",TEXT(P68,"TT.MM.JJ")) -> 17.04.15 | W68: =IF(A68="","",B68&CHAR(10)&F68&CHAR(10)&S68&" "&I68&CHAR(10)&T68&" - "&U68) -> A122668-03 Produkt68 14.000.000 ST 13.04.15 - 17.04.15
A69: Msch12 | B69: A121995-03 | F69: Produkt69 | H69: 30000000 | I69: ST | O69: 42114 | P69: 42122 | S69: =IF(A69="","",TEXT(H69,"#.###.###")) -> 30.000.000 | T69: =IF(A69="","",TEXT(O69,"TT.MM.JJ")) -> 20.04.15 | U69: =IF(A69="","",TEXT(P69,"TT.MM.JJ")) -> 28.04.15 | W69: =IF(A69="","",B69&CHAR(10)&F69&CHAR(10)&S69&" "&I69&CHAR(10)&T69&" - "&U69) -> A121995-03 Produkt69 30.000.000 ST 20.04.15 - 28.04.15
A70: Msch12 | B70: A122893-03 | F70: Produkt70 | H70: 8000000 | I70: ST | O70: 42123 | P70: 42124 | S70: =IF(A70="","",TEXT(H70,"#.###.###")) -> 8.000.000 | T70: =IF(A70="","",TEXT(O70,"TT.MM.JJ")) -> 29.04.15 | U70: =IF(A70="","",TEXT(P70,"TT.MM.JJ")) -> 30.04.15 | W70: =IF(A70="","",B70&CHAR(10)&F70&CHAR(10)&S70&" "&I70&CHAR(10)&T70&" - "&U70) -> A122893-03 Produkt70 8.000.000 ST 29.04.15 - 30.04.15
S71: =IF(A71="","",TEXT(H71,"#.###.###")) | T71: =IF(A71="","",TEXT(O71,"TT.MM.JJ")) | U71: =IF(A71="","",TEXT(P71,"TT.MM.JJ")) | W71: =IF(A71="","",B71&CHAR(10)&F71&CHAR(10)&S71&" "&I71&CHAR(10)&T71&" - "&U71)
S72: =IF(A72="","",TEXT(H72,"#.###.###")) | T72: =IF(A72="","",TEXT(O72,"TT.MM.JJ")) | U72: =IF(A72="","",TEXT(P72,"TT.MM.JJ")) | W72: =IF(A72="","",B72&CHAR(10)&F72&CHAR(10)&S72&" "&I72&CHAR(10)&T72&" - "&U72)
A73: Msch13 | B73: A000000-00 | F73: Produkt73 | H73: 1 | I73: ST | O73: 42055 | P73: 42057 | S73: =IF(A73="","",TEXT(H73,"#.###.###")) -> 1 | T73: =IF(A73="","",TEXT(O73,"TT.MM.JJ")) -> 20.02.15 | U73: =IF(A73="","",TEXT(P73,"TT.MM.JJ")) -> 22.02.15 | W73: =IF(A73="","",B73&CHAR(10)&F73&CHAR(10)&S73&" "&I73&CHAR(10)&T73&" - "&U73) -> A000000-00 Produkt73 1 ST 20.02.15 - 22.02.15
A74: Msch13 | B74: A122438-03 | F74: Produkt74 | H74: 3000000 | I74: ST | O74: 42082 | P74: 42082 | S74: =IF(A74="","",TEXT(H74,"#.###.###")) -> 3.000.000 | T74: =IF(A74="","",TEXT(O74,"TT.MM.JJ")) -> 19.03.15 | U74: =IF(A74="","",TEXT(P74,"TT.MM.JJ")) -> 19.03.15 | W74: =IF(A74="","",B74&CHAR(10)&F74&CHAR(10)&S74&" "&I74&CHAR(10)&T74&" - "&U74) -> A122438-03 Produkt74 3.000.000 ST 19.03.15 - 19.03.15
A75: Msch13 | B75: A123150-03 | F75: Produkt75 | H75: 16000000 | I75: ST | O75: 42086 | P75: 42088 | S75: =IF(A75="","",TEXT(H75,"#.###.###")) -> 16.000.000 | T75: =IF(A75="","",TEXT(O75,"TT.MM.JJ")) -> 23.03.15 | U75: =IF(A75="","",TEXT(P75,"TT.MM.JJ")) -> 25.03.15 | W75: =IF(A75="","",B75&CHAR(10)&F75&CHAR(10)&S75&" "&I75&CHAR(10)&T75&" - "&U75) -> A123150-03 Produkt75 16.000.000 ST 23.03.15 - 25.03.15
A76: Msch13 | B76: A123150-08 | F76: Produkt76 | H76: 12000000 | I76: ST | O76: 42088 | P76: 42093 | S76: =IF(A76="","",TEXT(H76,"#.###.###")) -> 12.000.000 | T76: =IF(A76="","",TEXT(O76,"TT.MM.JJ")) -> 25.03.15 | U76: =IF(A76="","",TEXT(P76,"TT.MM.JJ")) -> 30.03.15 | W76: =IF(A76="","",B76&CHAR(10)&F76&CHAR(10)&S76&" "&I76&CHAR(10)&T76&" - "&U76) -> A123150-08 Produkt76 12.000.000 ST 25.03.15 - 30.03.15
A77: Msch13 | B77: A121722-03 | F77: Produkt77 | H77: 8000000 | I77: ST | O77: 42093 | P77: 42096 | S77: =IF(A77="","",TEXT(H77,"#.###.###")) -> 8.000.000 | T77: =IF(A77="","",TEXT(O77,"TT.MM.JJ")) -> 30.03.15 | U77: =IF(A77="","",TEXT(P77,"TT.MM.JJ")) -> 02.04.15 | W77: =IF(A77="","",B77&CHAR(10)&F77&CHAR(10)&S77&" "&I77&CHAR(10)&T77&" - "&U77) -> A121722-03 Produkt77 8.000.000 ST 30.03.15 - 02.04.15
A78: Msch13 | B78: A122860-03 | F78: Produkt78 | H78: 10560000 | I78: ST | O78: 42096 | P78: 42104 | S78: =IF(A78="","",TEXT(H78,"#.###.###")) -> 10.560.000 | T78: =IF(A78="","",TEXT(O78,"TT.MM.JJ")) -> 02.04.15 | U78: =IF(A78="","",TEXT(P78,"TT.MM.JJ")) -> 10.04.15 | W78: =IF(A78="","",B78&CHAR(10)&F78&CHAR(10)&S78&" "&I78&CHAR(10)&T78&" - "&U78) -> A122860-03 Produkt78 10.560.000 ST 02.04.15 - 10.04.15
A79: Msch13 | B79: A122369-03 | F79: Produkt79 | H79: 20000000 | I79: ST | O79: 42107 | P79: 42114 | S79: =IF(A79="","",TEXT(H79,"#.###.###")) -> 20.000.000 | T79: =IF(A79="","",TEXT(O79,"TT.MM.JJ")) -> 13.04.15 | U79: =IF(A79="","",TEXT(P79,"TT.MM.JJ")) -> 20.04.15 | W79: =IF(A79="","",B79&CHAR(10)&F79&CHAR(10)&S79&" "&I79&CHAR(10)&T79&" - "&U79) -> A122369-03 Produkt79 20.000.000 ST 13.04.15 - 20.04.15
A80: Msch13 | B80: A122892-03 | F80: Produkt80 | H80: 20000000 | I80: ST | O80: 42114 | P80: 42118 | S80: =IF(A80="","",TEXT(H80,"#.###.###")) -> 20.000.000 | T80: =IF(A80="","",TEXT(O80,"TT.MM.JJ")) -> 20.04.15 | U80: =IF(A80="","",TEXT(P80,"TT.MM.JJ")) -> 24.04.15 | W80: =IF(A80="","",B80&CHAR(10)&F80&CHAR(10)&S80&" "&I80&CHAR(10)&T80&" - "&U80) -> A122892-03 Produkt80 20.000.000 ST 20.04.15 - 24.04.15
A81: Msch13 | B81: A123653-03 | F81: Produkt81 | H81: 3000000 | I81: ST | O81: 42121 | P81: 42122 | S81: =IF(A81="","",TEXT(H81,"#.###.###")) -> 3.000.000 | T81: =IF(A81="","",TEXT(O81,"TT.MM.JJ")) -> 27.04.15 | U81: =IF(A81="","",TEXT(P81,"TT.MM.JJ")) -> 28.04.15 | W81: =IF(A81="","",B81&CHAR(10)&F81&CHAR(10)&S81&" "&I81&CHAR(10)&T81&" - "&U81) -> A123653-03 Produkt81 3.000.000 ST 27.04.15 - 28.04.15
A82: Msch13 | B82: A122590-03 | F82: Produkt82 | H82: 9000000 | I82: ST | O82: 42122 | P82: 42128 | S82: =IF(A82="","",TEXT(H82,"#.###.###")) -> 9.000.000 | T82: =IF(A82="","",TEXT(O82,"TT.MM.JJ")) -> 28.04.15 | U82: =IF(A82="","",TEXT(P82,"TT.MM.JJ")) -> 04.05.15 | W82: =IF(A82="","",B82&CHAR(10)&F82&CHAR(10)&S82&" "&I82&CHAR(10)&T82&" - "&U82) -> A122590-03 Produkt82 9.000.000 ST 28.04.15 - 04.05.15
S83: =IF(A83="","",TEXT(H83,"#.###.###")) | T83: =IF(A83="","",TEXT(O83,"TT.MM.JJ")) | U83: =IF(A83="","",TEXT(P83,"TT.MM.JJ")) | W83: =IF(A83="","",B83&CHAR(10)&F83&CHAR(10)&S83&" "&I83&CHAR(10)&T83&" - "&U83)
S84: =IF(A84="","",TEXT(H84,"#.###.###")) | T84: =IF(A84="","",TEXT(O84,"TT.MM.JJ")) | U84: =IF(A84="","",TEXT(P84,"TT.MM.JJ")) | W84: =IF(A84="","",B84&CHAR(10)&F84&CHAR(10)&S84&" "&I84&CHAR(10)&T84&" - "&U84)
S85: =IF(A85="","",TEXT(H85,"#.###.###")) | T85: =IF(A85="","",TEXT(O85,"TT.MM.JJ")) | U85: =IF(A85="","",TEXT(P85,"TT.MM.JJ")) | W85: =IF(A85="","",B85&CHAR(10)&F85&CHAR(10)&S85&" "&I85&CHAR(10)&T85&" - "&U85)
S86: =IF(A86="","",TEXT(H86,"#.###.###")) | T86: =IF(A86="","",TEXT(O86,"TT.MM.JJ")) | U86: =IF(A86="","",TEXT(P86,"TT.MM.JJ")) | W86: =IF(A86="","",B86&CHAR(10)&F86&CHAR(10)&S86&" "&I86&CHAR(10)&T86&" - "&U86)
S87: =IF(A87="","",TEXT(H87,"#.###.###")) | T87: =IF(A87="","",TEXT(O87,"TT.MM.JJ")) | U87: =IF(A87="","",TEXT(P87,"TT.MM.JJ")) | W87: =IF(A87="","",B87&CHAR(10)&F87&CHAR(10)&S87&" "&I87&CHAR(10)&T87&" - "&U87)
S88: =IF(A88="","",TEXT(H88,"#.###.###")) | T88: =IF(A88="","",TEXT(O88,"TT.MM.JJ")) | U88: =IF(A88="","",TEXT(P88,"TT.MM.JJ")) | W88: =IF(A88="","",B88&CHAR(10)&F88&CHAR(10)&S88&" "&I88&CHAR(10)&T88&" - "&U88)
S89: =IF(A89="","",TEXT(H89,"#.###.###")) | T89: =IF(A89="","",TEXT(O89,"TT.MM.JJ")) | U89: =IF(A89="","",TEXT(P89,"TT.MM.JJ")) | W89: =IF(A89="","",B89&CHAR(10)&F89&CHAR(10)&S89&" "&I89&CHAR(10)&T89&" - "&U89)
S90: =IF(A90="","",TEXT(H90,"#.###.###")) | T90: =IF(A90="","",TEXT(O90,"TT.MM.JJ")) | U90: =IF(A90="","",TEXT(P90,"TT.MM.JJ")) | W90: =IF(A90="","",B90&CHAR(10)&F90&CHAR(10)&S90&" "&I90&CHAR(10)&T90&" - "&U90)
S91: =IF(A91="","",TEXT(H91,"#.###.###")) | T91: =IF(A91="","",TEXT(O91,"TT.MM.JJ")) | U91: =IF(A91="","",TEXT(P91,"TT.MM.JJ")) | W91: =IF(A91="","",B91&CHAR(10)&F91&CHAR(10)&S91&" "&I91&CHAR(10)&T91&" - "&U91)
S92: =IF(A92="","",TEXT(H92,"#.###.###")) | T92: =IF(A92="","",TEXT(O92,"TT.MM.JJ")) | U92: =IF(A92="","",TEXT(P92,"TT.MM.JJ")) | W92: =IF(A92="","",B92&CHAR(10)&F92&CHAR(10)&S92&" "&I92&CHAR(10)&T92&" - "&U92)
S93: =IF(A93="","",TEXT(H93,"#.###.###")) | T93: =IF(A93="","",TEXT(O93,"TT.MM.JJ")) | U93: =IF(A93="","",TEXT(P93,"TT.MM.JJ")) | W93: =IF(A93="","",B93&CHAR(10)&F93&CHAR(10)&S93&" "&I93&CHAR(10)&T93&" - "&U93)
S94: =IF(A94="","",TEXT(H94,"#.###.###")) | T94: =IF(A94="","",TEXT(O94,"TT.MM.JJ")) | U94: =IF(A94="","",TEXT(P94,"TT.MM.JJ")) | W94: =IF(A94="","",B94&CHAR(10)&F94&CHAR(10)&S94&" "&I94&CHAR(10)&T94&" - "&U94)
... S200: =IF(A200="","",TEXT(H200,"#.###.###")) | T200: =IF(A200="","",TEXT(O200,"TT.MM.JJ")) | U200: =IF(A200="","",TEXT(P200,"TT.MM.JJ")) | W200: =IF(A200="","",B200&CHAR(10)&F200&CHAR(10)&S200&" "&I200&CHAR(10)&T200&" - "&U200)
S201: =IF(A201="","",TEXT(H201,"#.###.###")) | T201: =IF(A201="","",TEXT(O201,"TT.MM.JJ")) | U201: =IF(A201="","",TEXT(P201,"TT.MM.JJ")) | W201: =IF(S201="","",B201&" "&F201&CHAR(10)&S201&" "&I201&CHAR(10)&T201&" - "&U201)
S202: =IF(A202="","",TEXT(H202,"#.###.###")) | T202: =IF(A202="","",TEXT(O202,"TT.MM.JJ")) | U202: =IF(A202="","",TEXT(P202,"TT.MM.JJ")) | W202: =IF(S202="","",B202&" "&F202&CHAR(10)&S202&" "&I202&CHAR(10)&T202&" - "&U202)
S203: =IF(A203="","",TEXT(H203,"#.###.###")) | T203: =IF(A203="","",TEXT(O203,"TT.MM.JJ")) | U203: =IF(A203="","",TEXT(P203,"TT.MM.JJ")) | W203: =IF(S203="","",B203&" "&F203&CHAR(10)&S203&" "&I203&CHAR(10)&T203&" - "&U203)
S204: =IF(A204="","",TEXT(H204,"#.###.###")) | T204: =IF(A204="","",TEXT(O204,"TT.MM.JJ")) | U204: =IF(A204="","",TEXT(P204,"TT.MM.JJ")) | W204: =IF(S204="","",B204&" "&F204&CHAR(10)&S204&" "&I204&CHAR(10)&T204&" - "&U204)
S205: =IF(A205="","",TEXT(H205,"#.###.###")) | T205: =IF(A205="","",TEXT(O205,"TT.MM.JJ")) | U205: =IF(A205="","",TEXT(P205,"TT.MM.JJ")) | W205: =IF(S205="","",B205&" "&F205&CHAR(10)&S205&" "&I205&CHAR(10)&T205&" - "&U205)
...

Sheet Gruppe_Msch_mtl
A1: Msch14 | B1: A000000-00 | F1: Produkt1 | H1: 1 | I1: ST | O1: 42055 | P1: 42057 | S1: =IF(A1="","",TEXT(H1,"#.###.###")) -> 1 | T1: =IF(A1="","",TEXT(O1,"TT.MM.JJ")) -> 20.02.15 | U1: =IF(A1="","",TEXT(P1,"TT.MM.JJ")) -> 22.02.15 | W1: =IF(A1="","",B1&CHAR(10)&F1&CHAR(10)&S1&" "&I1&CHAR(10)&T1&" - "&U1) -> A000000-00 Produkt1 1 ST 20.02.15 - 22.02.15
A2: Msch14 | B2: A121650-03 | F2: Produkt2 | H2: 9000000 | I2: ST | O2: 42083 | P2: 42089 | S2: =IF(A2="","",TEXT(H2,"#.###.###")) -> 9.000.000 | T2: =IF(A2="","",TEXT(O2,"TT.MM.JJ")) -> 20.03.15 | U2: =IF(A2="","",TEXT(P2,"TT.MM.JJ")) -> 26.03.15 | W2: =IF(A2="","",B2&CHAR(10)&F2&CHAR(10)&S2&" "&I2&CHAR(10)&T2&" - "&U2) -> A121650-03 Produkt2 9.000.000 ST 20.03.15 - 26.03.15
A3: Msch14 | B3: A120143-04 | F3: Produkt3 | H3: 5250000 | I3: ST | O3: 42089 | P3: 42095 | S3: =IF(A3="","",TEXT(H3,"#.###.###")) -> 5.250.000 | T3: =IF(A3="","",TEXT(O3,"TT.MM.JJ")) -> 26.03.15 | U3: =IF(A3="","",TEXT(P3,"TT.MM.JJ")) -> 01.04.15 | W3: =IF(A3="","",B3&CHAR(10)&F3&CHAR(10)&S3&" "&I3&CHAR(10)&T3&" - "&U3) -> A120143-04 Produkt3 5.250.000 ST 26.03.15 - 01.04.15
A4: Msch14 | B4: A122456-03 | F4: Produkt4 | H4: 2000000 | I4: ST | O4: 42095 | P4: 42096 | S4: =IF(A4="","",TEXT(H4,"#.###.###")) -> 2.000.000 | T4: =IF(A4="","",TEXT(O4,"TT.MM.JJ")) -> 01.04.15 | U4: =IF(A4="","",TEXT(P4,"TT.MM.JJ")) -> 02.04.15 | W4: =IF(A4="","",B4&CHAR(10)&F4&CHAR(10)&S4&" "&I4&CHAR(10)&T4&" - "&U4) -> A122456-03 Produkt4 2.000.000 ST 01.04.15 - 02.04.15
A5: Msch14 | B5: A122456-06 | F5: Produkt5 | H5: 2000000 | I5: ST | O5: 42096 | P5: 42102 | S5: =IF(A5="","",TEXT(H5,"#.###.###")) -> 2.000.000 | T5: =IF(A5="","",TEXT(O5,"TT.MM.JJ")) -> 02.04.15 | U5: =IF(A5="","",TEXT(P5,"TT.MM.JJ")) -> 08.04.15 | W5: =IF(A5="","",B5&CHAR(10)&F5&CHAR(10)&S5&" "&I5&CHAR(10)&T5&" - "&U5) -> A122456-06 Produkt5 2.000.000 ST 02.04.15 - 08.04.15
A6: Msch14 | B6: A122299-03 | F6: Produkt6 | H6: 3120000 | I6: ST | O6: 42102 | P6: 42104 | S6: =IF(A6="","",TEXT(H6,"#.###.###")) -> 3.120.000 | T6: =IF(A6="","",TEXT(O6,"TT.MM.JJ")) -> 08.04.15 | U6: =IF(A6="","",TEXT(P6,"TT.MM.JJ")) -> 10.04.15 | W6: =IF(A6="","",B6&CHAR(10)&F6&CHAR(10)&S6&" "&I6&CHAR(10)&T6&" - "&U6) -> A122299-03 Produkt6 3.120.000 ST 08.04.15 - 10.04.15
A7: Msch14 | B7: A122299-07 | F7: Produkt7 | H7: 2730000 | I7: ST | O7: 42104 | P7: 42108 | S7: =IF(A7="","",TEXT(H7,"#.###.###")) -> 2.730.000 | T7: =IF(A7="","",TEXT(O7,"TT.MM.JJ")) -> 10.04.15 | U7: =IF(A7="","",TEXT(P7,"TT.MM.JJ")) -> 14.04.15 | W7: =IF(A7="","",B7&CHAR(10)&F7&CHAR(10)&S7&" "&I7&CHAR(10)&T7&" - "&U7) -> A122299-07 Produkt7 2.730.000 ST 10.04.15 - 14.04.15
A8: Msch14 | B8: A122873-03 | F8: Produkt8 | H8: 4200000 | I8: ST | O8: 42108 | P8: 42114 | S8: =IF(A8="","",TEXT(H8,"#.###.###")) -> 4.200.000 | T8: =IF(A8="","",TEXT(O8,"TT.MM.JJ")) -> 14.04.15 | U8: =IF(A8="","",TEXT(P8,"TT.MM.JJ")) -> 20.04.15 | W8: =IF(A8="","",B8&CHAR(10)&F8&CHAR(10)&S8&" "&I8&CHAR(10)&T8&" - "&U8) -> A122873-03 Produkt8 4.200.000 ST 14.04.15 - 20.04.15
A9: Msch14 | B9: A122781-03 | F9: Produkt9 | H9: 3000000 | I9: ST | O9: 42115 | P9: 42116 | S9: =IF(A9="","",TEXT(H9,"#.###.###")) -> 3.000.000 | T9: =IF(A9="","",TEXT(O9,"TT.MM.JJ")) -> 21.04.15 | U9: =IF(A9="","",TEXT(P9,"TT.MM.JJ")) -> 22.04.15 | W9: =IF(A9="","",B9&CHAR(10)&F9&CHAR(10)&S9&" "&I9&CHAR(10)&T9&" - "&U9) -> A122781-03 Produkt9 3.000.000 ST 21.04.15 - 22.04.15
A10: Msch14 | B10: A122079-03 | F10: Produkt10 | H10: 7437500 | I10: ST | O10: 42117 | P10: 42124 | S10: =IF(A10="","",TEXT(H10,"#.###.###")) -> 7.437.500 | T10: =IF(A10="","",TEXT(O10,"TT.MM.JJ")) -> 23.04.15 | U10: =IF(A10="","",TEXT(P10,"TT.MM.JJ")) -> 30.04.15 | W10: =IF(A10="","",B10&CHAR(10)&F10&CHAR(10)&S10&" "&I10&CHAR(10)&T10&" - "&U10) -> A122079-03 Produkt10 7.437.500 ST 23.04.15 - 30.04.15
S11: =IF(A11="","",TEXT(H11,"#.###.###")) | T11: =IF(A11="","",TEXT(O11,"TT.MM.JJ")) | U11: =IF(A11="","",TEXT(P11,"TT.MM.JJ")) | W11: =IF(A11="","",B11&CHAR(10)&F11&CHAR(10)&S11&" "&I11&CHAR(10)&T11&" - "&U11)
S12: =IF(A12="","",TEXT(H12,"#.###.###")) | T12: =IF(A12="","",TEXT(O12,"TT.MM.JJ")) | U12: =IF(A12="","",TEXT(P12,"TT.MM.JJ")) | W12: =IF(A12="","",B12&CHAR(10)&F12&CHAR(10)&S12&" "&I12&CHAR(10)&T12&" - "&U12)
A13: Msch15 | B13: A000000-00 | F13: Produkt13 | H13: 1 | I13: ST | O13: 42055 | P13: 42057 | S13: =IF(A13="","",TEXT(H13,"#.###.###")) -> 1 | T13: =IF(A13="","",TEXT(O13,"TT.MM.JJ")) -> 20.02.15 | U13: =IF(A13="","",TEXT(P13,"TT.MM.JJ")) -> 22.02.15 | W13: =IF(A13="","",B13&CHAR(10)&F13&CHAR(10)&S13&" "&I13&CHAR(10)&T13&" - "&U13) -> A000000-00 Produkt13 1 ST 20.02.15 - 22.02.15
A14: Msch15 | B14: A122565-03 | F14: Produkt14 | H14: 27227 | I14: ST | O14: 42080 | P14: 42081 | S14: =IF(A14="","",TEXT(H14,"#.###.###")) -> 27.227 | T14: =IF(A14="","",TEXT(O14,"TT.MM.JJ")) -> 17.03.15 | U14: =IF(A14="","",TEXT(P14,"TT.MM.JJ")) -> 18.03.15 | W14: =IF(A14="","",B14&CHAR(10)&F14&CHAR(10)&S14&" "&I14&CHAR(10)&T14&" - "&U14) -> A122565-03 Produkt14 27.227 ST 17.03.15 - 18.03.15
A15: Msch15 | B15: A121306-03 | F15: Produkt15 | H15: 500000 | I15: ST | O15: 42082 | P15: 42083 | S15: =IF(A15="","",TEXT(H15,"#.###.###")) -> 500.000 | T15: =IF(A15="","",TEXT(O15,"TT.MM.JJ")) -> 19.03.15 | U15: =IF(A15="","",TEXT(P15,"TT.MM.JJ")) -> 20.03.15 | W15: =IF(A15="","",B15&CHAR(10)&F15&CHAR(10)&S15&" "&I15&CHAR(10)&T15&" - "&U15) -> A121306-03 Produkt15 500.000 ST 19.03.15 - 20.03.15
A16: Msch15 | B16: A121306-08 | F16: Produkt16 | H16: 1000000 | I16: ST | O16: 42083 | P16: 42087 | S16: =IF(A16="","",TEXT(H16,"#.###.###")) -> 1.000.000 | T16: =IF(A16="","",TEXT(O16,"TT.MM.JJ")) -> 20.03.15 | U16: =IF(A16="","",TEXT(P16,"TT.MM.JJ")) -> 24.03.15 | W16: =IF(A16="","",B16&CHAR(10)&F16&CHAR(10)&S16&" "&I16&CHAR(10)&T16&" - "&U16) -> A121306-08 Produkt16 1.000.000 ST 20.03.15 - 24.03.15
A17: Msch15 | B17: A122162-03 | F17: Produkt17 | H17: 2000000 | I17: ST | O17: 42087 | P17: 42095 | S17: =IF(A17="","",TEXT(H17,"#.###.###")) -> 2.000.000 | T17: =IF(A17="","",TEXT(O17,"TT.MM.JJ")) -> 24.03.15 | U17: =IF(A17="","",TEXT(P17,"TT.MM.JJ")) -> 01.04.15 | W17: =IF(A17="","",B17&CHAR(10)&F17&CHAR(10)&S17&" "&I17&CHAR(10)&T17&" - "&U17) -> A122162-03 Produkt17 2.000.000 ST 24.03.15 - 01.04.15
A18: Msch15 | B18: A121351-06 | F18: Produkt18 | H18: 4500000 | I18: ST | O18: 42096 | P18: 42109 | S18: =IF(A18="","",TEXT(H18,"#.###.###")) -> 4.500.000 | T18: =IF(A18="","",TEXT(O18,"TT.MM.JJ")) -> 02.04.15 | U18: =IF(A18="","",TEXT(P18,"TT.MM.JJ")) -> 15.04.15 | W18: =IF(A18="","",B18&CHAR(10)&F18&CHAR(10)&S18&" "&I18&CHAR(10)&T18&" - "&U18) -> A121351-06 Produkt18 4.500.000 ST 02.04.15 - 15.04.15
A19: Msch15 | B19: A121654-03 | F19: Produkt19 | H19: 4615386 | I19: ST | O19: 42109 | P19: 42122 | S19: =IF(A19="","",TEXT(H19,"#.###.###")) -> 4.615.386 | T19: =IF(A19="","",TEXT(O19,"TT.MM.JJ")) -> 15.04.15 | U19: =IF(A19="","",TEXT(P19,"TT.MM.JJ")) -> 28.04.15 | W19: =IF(A19="","",B19&CHAR(10)&F19&CHAR(10)&S19&" "&I19&CHAR(10)&T19&" - "&U19) -> A121654-03 Produkt19 4.615.386 ST 15.04.15 - 28.04.15
A20: Msch15 | B20: A121353-03 | F20: Produkt20 | H20: 6000000 | I20: ST | O20: 42122 | P20: 42137 | S20: =IF(A20="","",TEXT(H20,"#.###.###")) -> 6.000.000 | T20: =IF(A20="","",TEXT(O20,"TT.MM.JJ")) -> 28.04.15 | U20: =IF(A20="","",TEXT(P20,"TT.MM.JJ")) -> 13.05.15 | W20: =IF(A20="","",B20&CHAR(10)&F20&CHAR(10)&S20&" "&I20&CHAR(10)&T20&" - "&U20) -> A121353-03 Produkt20 6.000.000 ST 28.04.15 - 13.05.15
A21: Msch15 | B21: A123031-03 | F21: Produkt21 | H21: 2070000 | I21: ST | O21: 42137 | P21: 42144 | S21: =IF(A21="","",TEXT(H21,"#.###.###")) -> 2.070.000 | T21: =IF(A21="","",TEXT(O21,"TT.MM.JJ")) -> 13.05.15 | U21: =IF(A21="","",TEXT(P21,"TT.MM.JJ")) -> 20.05.15 | W21: =IF(A21="","",B21&CHAR(10)&F21&CHAR(10)&S21&" "&I21&CHAR(10)&T21&" - "&U21) -> A123031-03 Produkt21 2.070.000 ST 13.05.15 - 20.05.15
A22: Msch15 | B22: A123401-03 | F22: Produkt22 | H22: 2307693 | I22: ST | O22: 42163 | P22: 42167 | S22: =IF(A22="","",TEXT(H22,"#.###.###")) -> 2.307.693 | T22: =IF(A22="","",TEXT(O22,"TT.MM.JJ")) -> 08.06.15 | U22: =IF(A22="","",TEXT(P22,"TT.MM.JJ")) -> 12.06.15 | W22: =IF(A22="","",B22&CHAR(10)&F22&CHAR(10)&S22&" "&I22&CHAR(10)&T22&" - "&U22) -> A123401-03 Produkt22 2.307.693 ST 08.06.15 - 12.06.15
S23: =IF(A23="","",TEXT(H23,"#.###.###")) | T23: =IF(A23="","",TEXT(O23,"TT.MM.JJ")) | U23: =IF(A23="","",TEXT(P23,"TT.MM.JJ")) | W23: =IF(A23="","",B23&CHAR(10)&F23&CHAR(10)&S23&" "&I23&CHAR(10)&T23&" - "&U23)
S24: =IF(A24="","",TEXT(H24,"#.###.###")) | T24: =IF(A24="","",TEXT(O24,"TT.MM.JJ")) | U24: =IF(A24="","",TEXT(P24,"TT.MM.JJ")) | W24: =IF(A24="","",B24&CHAR(10)&F24&CHAR(10)&S24&" "&I24&CHAR(10)&T24&" - "&U24)
A25: Msch16 | B25: A000000-00 | F25: Produkt25 | H25: 1 | I25: ST | O25: 42055 | P25: 42057 | S25: =IF(A25="","",TEXT(H25,"#.###.###")) -> 1 | T25: =IF(A25="","",TEXT(O25,"TT.MM.JJ")) -> 20.02.15 | U25: =IF(A25="","",TEXT(P25,"TT.MM.JJ")) -> 22.02.15 | W25: =IF(A25="","",B25&CHAR(10)&F25&CHAR(10)&S25&" "&I25&CHAR(10)&T25&" - "&U25) -> A000000-00 Produkt25 1 ST 20.02.15 - 22.02.15
A26: Msch16 | B26: A122476-03 | F26: Produkt26 | H26: 438294 | I26: ST | O26: 42082 | P26: 42082 | S26: =IF(A26="","",TEXT(H26,"#.###.###")) -> 438.294 | T26: =IF(A26="","",TEXT(O26,"TT.MM.JJ")) -> 19.03.15 | U26: =IF(A26="","",TEXT(P26,"TT.MM.JJ")) -> 19.03.15 | W26: =IF(A26="","",B26&CHAR(10)&F26&CHAR(10)&S26&" "&I26&CHAR(10)&T26&" - "&U26) -> A122476-03 Produkt26 438.294 ST 19.03.15 - 19.03.15
A27: Msch16 | B27: A122030-03 | F27: Produkt27 | H27: 4800000 | I27: ST | O27: 42087 | P27: 42101 | S27: =IF(A27="","",TEXT(H27,"#.###.###")) -> 4.800.000 | T27: =IF(A27="","",TEXT(O27,"TT.MM.JJ")) -> 24.03.15 | U27: =IF(A27="","",TEXT(P27,"TT.MM.JJ")) -> 07.04.15 | W27: =IF(A27="","",B27&CHAR(10)&F27&CHAR(10)&S27&" "&I27&CHAR(10)&T27&" - "&U27) -> A122030-03 Produkt27 4.800.000 ST 24.03.15 - 07.04.15
A28: Msch16 | B28: A122574-03 | F28: Produkt28 | H28: 800000 | I28: ST | O28: 42101 | P28: 42102 | S28: =IF(A28="","",TEXT(H28,"#.###.###")) -> 800.000 | T28: =IF(A28="","",TEXT(O28,"TT.MM.JJ")) -> 07.04.15 | U28: =IF(A28="","",TEXT(P28,"TT.MM.JJ")) -> 08.04.15 | W28: =IF(A28="","",B28&CHAR(10)&F28&CHAR(10)&S28&" "&I28&CHAR(10)&T28&" - "&U28) -> A122574-03 Produkt28 800.000 ST 07.04.15 - 08.04.15
A29: Msch16 | B29: A122574-09 | F29: Produkt29 | H29: 2000000 | I29: ST | O29: 42102 | P29: 42108 | S29: =IF(A29="","",TEXT(H29,"#.###.###")) -> 2.000.000 | T29: =IF(A29="","",TEXT(O29,"TT.MM.JJ")) -> 08.04.15 | U29: =IF(A29="","",TEXT(P29,"TT.MM.JJ")) -> 14.04.15 | W29: =IF(A29="","",B29&CHAR(10)&F29&CHAR(10)&S29&" "&I29&CHAR(10)&T29&" - "&U29) -> A122574-09 Produkt29 2.000.000 ST 08.04.15 - 14.04.15
A30: Msch16 | B30: A122359-04 | F30: Produkt30 | H30: 2700000 | I30: ST | O30: 42109 | P30: 42115 | S30: =IF(A30="","",TEXT(H30,"#.###.###")) -> 2.700.000 | T30: =IF(A30="","",TEXT(O30,"TT.MM.JJ")) -> 15.04.15 | U30: =IF(A30="","",TEXT(P30,"TT.MM.JJ")) -> 21.04.15 | W30: =IF(A30="","",B30&CHAR(10)&F30&CHAR(10)&S30&" "&I30&CHAR(10)&T30&" - "&U30) -> A122359-04 Produkt30 2.700.000 ST 15.04.15 - 21.04.15
A31: Msch16 | B31: A122905-03 | F31: Produkt31 | H31: 850000 | I31: ST | O31: 42115 | P31: 42117 | S31: =IF(A31="","",TEXT(H31,"#.###.###")) -> 850.000 | T31: =IF(A31="","",TEXT(O31,"TT.MM.JJ")) -> 21.04.15 | U31: =IF(A31="","",TEXT(P31,"TT.MM.JJ")) -> 23.04.15 | W31: =IF(A31="","",B31&CHAR(10)&F31&CHAR(10)&S31&" "&I31&CHAR(10)&T31&" - "&U31) -> A122905-03 Produkt31 850.000 ST 21.04.15 - 23.04.15
S32: =IF(A32="","",TEXT(H32,"#.###.###")) | T32: =IF(A32="","",TEXT(O32,"TT.MM.JJ")) | U32: =IF(A32="","",TEXT(P32,"TT.MM.JJ")) | W32: =IF(A32="","",B32&CHAR(10)&F32&CHAR(10)&S32&" "&I32&CHAR(10)&T32&" - "&U32)
S33: =IF(A33="","",TEXT(H33,"#.###.###")) | T33: =IF(A33="","",TEXT(O33,"TT.MM.JJ")) | U33: =IF(A33="","",TEXT(P33,"TT.MM.JJ")) | W33: =IF(A33="","",B33&CHAR(10)&F33&CHAR(10)&S33&" "&I33&CHAR(10)&T33&" - "&U33)
S34: =IF(A34="","",TEXT(H34,"#.###.###")) | T34: =IF(A34="","",TEXT(O34,"TT.MM.JJ")) | U34: =IF(A34="","",TEXT(P34,"TT.MM.JJ")) | W34: =IF(A34="","",B34&CHAR(10)&F34&CHAR(10)&S34&" "&I34&CHAR(10)&T34&" - "&U34)
S35: =IF(A35="","",TEXT(H35,"#.###.###")) | T35: =IF(A35="","",TEXT(O35,"TT.MM.JJ")) | U35: =IF(A35="","",TEXT(P35,"TT.MM.JJ")) | W35: =IF(A35="","",B35&CHAR(10)&F35&CHAR(10)&S35&" "&I35&CHAR(10)&T35&" - "&U35)
S36: =IF(A36="","",TEXT(H36,"#.###.###")) | T36: =IF(A36="","",TEXT(O36,"TT.MM.JJ")) | U36: =IF(A36="","",TEXT(P36,"TT.MM.JJ")) | W36: =IF(A36="","",B36&CHAR(10)&F36&CHAR(10)&S36&" "&I36&CHAR(10)&T36&" - "&U36)
A37: Msch17 | B37: A000000-00 | F37: Produkt37 | H37: 1 | I37: ST | O37: 42055 | P37: 42057 | S37: =IF(A37="","",TEXT(H37,"#.###.###")) -> 1 | T37: =IF(A37="","",TEXT(O37,"TT.MM.JJ")) -> 20.02.15 | U37: =IF(A37="","",TEXT(P37,"TT.MM.JJ")) -> 22.02.15 | W37: =IF(A37="","",B37&CHAR(10)&F37&CHAR(10)&S37&" "&I37&CHAR(10)&T37&" - "&U37) -> A000000-00 Produkt37 1 ST 20.02.15 - 22.02.15
A38: Msch17 | B38: A123109-04 | F38: Produkt38 | H38: 2012383 | I38: ST | O38: 42082 | P38: 42086 | S38: =IF(A38="","",TEXT(H38,"#.###.###")) -> 2.012.383 | T38: =IF(A38="","",TEXT(O38,"TT.MM.JJ")) -> 19.03.15 | U38: =IF(A38="","",TEXT(P38,"TT.MM.JJ")) -> 23.03.15 | W38: =IF(A38="","",B38&CHAR(10)&F38&CHAR(10)&S38&" "&I38&CHAR(10)&T38&" - "&U38) -> A123109-04 Produkt38 2.012.383 ST 19.03.15 - 23.03.15
A39: Msch17 | B39: A122906-04 | F39: Produkt39 | H39: 3168000 | I39: ST | O39: 42087 | P39: 42089 | S39: =IF(A39="","",TEXT(H39,"#.###.###")) -> 3.168.000 | T39: =IF(A39="","",TEXT(O39,"TT.MM.JJ")) -> 24.03.15 | U39: =IF(A39="","",TEXT(P39,"TT.MM.JJ")) -> 26.03.15 | W39: =IF(A39="","",B39&CHAR(10)&F39&CHAR(10)&S39&" "&I39&CHAR(10)&T39&" - "&U39) -> A122906-04 Produkt39 3.168.000 ST 24.03.15 - 26.03.15
A40: Msch17 | B40: A122858-03 | F40: Produkt40 | H40: 1575000 | I40: ST | O40: 42090 | P40: 42093 | S40: =IF(A40="","",TEXT(H40,"#.###.###")) -> 1.575.000 | T40: =IF(A40="","",TEXT(O40,"TT.MM.JJ")) -> 27.03.15 | U40: =IF(A40="","",TEXT(P40,"TT.MM.JJ")) -> 30.03.15 | W40: =IF(A40="","",B40&CHAR(10)&F40&CHAR(10)&S40&" "&I40&CHAR(10)&T40&" - "&U40) -> A122858-03 Produkt40 1.575.000 ST 27.03.15 - 30.03.15
A41: Msch17 | B41: A123662-04 | F41: Produkt41 | H41: 800000 | I41: ST | O41: 42094 | P41: 42094 | S41: =IF(A41="","",TEXT(H41,"#.###.###")) -> 800.000 | T41: =IF(A41="","",TEXT(O41,"TT.MM.JJ")) -> 31.03.15 | U41: =IF(A41="","",TEXT(P41,"TT.MM.JJ")) -> 31.03.15 | W41: =IF(A41="","",B41&CHAR(10)&F41&CHAR(10)&S41&" "&I41&CHAR(10)&T41&" - "&U41) -> A123662-04 Produkt41 800.000 ST 31.03.15 - 31.03.15
A42: Msch17 | B42: A122239-04 | F42: Produkt42 | H42: 11200000 | I42: ST | O42: 42094 | P42: 42102 | S42: =IF(A42="","",TEXT(H42,"#.###.###")) -> 11.200.000 | T42: =IF(A42="","",TEXT(O42,"TT.MM.JJ")) -> 31.03.15 | U42: =IF(A42="","",TEXT(P42,"TT.MM.JJ")) -> 08.04.15 | W42: =IF(A42="","",B42&CHAR(10)&F42&CHAR(10)&S42&" "&I42&CHAR(10)&T42&" - "&U42) -> A122239-04 Produkt42 11.200.000 ST 31.03.15 - 08.04.15
A43: Msch17 | B43: A122111-03 | F43: Produkt43 | H43: 7200000 | I43: ST | O43: 42102 | P43: 42108 | S43: =IF(A43="","",TEXT(H43,"#.###.###")) -> 7.200.000 | T43: =IF(A43="","",TEXT(O43,"TT.MM.JJ")) -> 08.04.15 | U43: =IF(A43="","",TEXT(P43,"TT.MM.JJ")) -> 14.04.15 | W43: =IF(A43="","",B43&CHAR(10)&F43&CHAR(10)&S43&" "&I43&CHAR(10)&T43&" - "&U43) -> A122111-03 Produkt43 7.200.000 ST 08.04.15 - 14.04.15
A44: Msch17 | B44: A122300-03 | F44: Produkt44 | H44: 7000000 | I44: ST | O44: 42109 | P44: 42111 | S44: =IF(A44="","",TEXT(H44,"#.###.###")) -> 7.000.000 | T44: =IF(A44="","",TEXT(O44,"TT.MM.JJ")) -> 15.04.15 | U44: =IF(A44="","",TEXT(P44,"TT.MM.JJ")) -> 17.04.15 | W44: =IF(A44="","",B44&CHAR(10)&F44&CHAR(10)&S44&" "&I44&CHAR(10)&T44&" - "&U44) -> A122300-03 Produkt44 7.000.000 ST 15.04.15 - 17.04.15
A45: Msch17 | B45: A122152-03 | F45: Produkt45 | H45: 9000000 | I45: ST | O45: 42114 | P45: 42122 | S45: =IF(A45="","",TEXT(H45,"#.###.###")) -> 9.000.000 | T45: =IF(A45="","",TEXT(O45,"TT.MM.JJ")) -> 20.04.15 | U45: =IF(A45="","",TEXT(P45,"TT.MM.JJ")) -> 28.04.15 | W45: =IF(A45="","",B45&CHAR(10)&F45&CHAR(10)&S45&" "&I45&CHAR(10)&T45&" - "&U45) -> A122152-03 Produkt45 9.000.000 ST 20.04.15 - 28.04.15
A46: Msch17 | B46: A123508-04 | F46: Produkt46 | H46: 4000000 | I46: ST | O46: 42122 | P46: 42124 | S46: =IF(A46="","",TEXT(H46,"#.###.###")) -> 4.000.000 | T46: =IF(A46="","",TEXT(O46,"TT.MM.JJ")) -> 28.04.15 | U46: =IF(A46="","",TEXT(P46,"TT.MM.JJ")) -> 30.04.15 | W46: =IF(A46="","",B46&CHAR(10)&F46&CHAR(10)&S46&" "&I46&CHAR(10)&T46&" - "&U46) -> A123508-04 Produkt46 4.000.000 ST 28.04.15 - 30.04.15
S47: =IF(A47="","",TEXT(H47,"#.###.###")) | T47: =IF(A47="","",TEXT(O47,"TT.MM.JJ")) | U47: =IF(A47="","",TEXT(P47,"TT.MM.JJ")) | W47: =IF(A47="","",B47&CHAR(10)&F47&CHAR(10)&S47&" "&I47&CHAR(10)&T47&" - "&U47)
S48: =IF(A48="","",TEXT(H48,"#.###.###")) | T48: =IF(A48="","",TEXT(O48,"TT.MM.JJ")) | U48: =IF(A48="","",TEXT(P48,"TT.MM.JJ")) | W48: =IF(A48="","",B48&CHAR(10)&F48&CHAR(10)&S48&" "&I48&CHAR(10)&T48&" - "&U48)
S49: =IF(A49="","",TEXT(H49,"#.###.###")) | T49: =IF(A49="","",TEXT(O49,"TT.MM.JJ")) | U49: =IF(A49="","",TEXT(P49,"TT.MM.JJ")) | W49: =IF(A49="","",B49&CHAR(10)&F49&CHAR(10)&S49&" "&I49&CHAR(10)&T49&" - "&U49)
S50: =IF(A50="","",TEXT(H50,"#.###.###")) | T50: =IF(A50="","",TEXT(O50,"TT.MM.JJ")) | U50: =IF(A50="","",TEXT(P50,"TT.MM.JJ")) | W50: =IF(A50="","",B50&CHAR(10)&F50&CHAR(10)&S50&" "&I50&CHAR(10)&T50&" - "&U50)
S51: =IF(A51="","",TEXT(H51,"#.###.###")) | T51: =IF(A51="","",TEXT(O51,"TT.MM.JJ")) | U51: =IF(A51="","",TEXT(P51,"TT.MM.JJ")) | W51: =IF(A51="","",B51&CHAR(10)&F51&CHAR(10)&S51&" "&I51&CHAR(10)&T51&" - "&U51)
S52: =IF(A52="","",TEXT(H52,"#.###.###")) | T52: =IF(A52="","",TEXT(O52,"TT.MM.JJ")) | U52: =IF(A52="","",TEXT(P52,"TT.MM.JJ")) | W52: =IF(A52="","",B52&CHAR(10)&F52&CHAR(10)&S52&" "&I52&CHAR(10)&T52&" - "&U52)
S53: =IF(A53="","",TEXT(H53,"#.###.###")) | T53: =IF(A53="","",TEXT(O53,"TT.MM.JJ")) | U53: =IF(A53="","",TEXT(P53,"TT.MM.JJ")) | W53: =IF(A53="","",B53&CHAR(10)&F53&CHAR(10)&S53&" "&I53&CHAR(10)&T53&" - "&U53)
S54: =IF(A54="","",TEXT(H54,"#.###.###")) | T54: =IF(A54="","",TEXT(O54,"TT.MM.JJ")) | U54: =IF(A54="","",TEXT(P54,"TT.MM.JJ")) | W54: =IF(A54="","",B54&CHAR(10)&F54&CHAR(10)&S54&" "&I54&CHAR(10)&T54&" - "&U54)
S55: =IF(A55="","",TEXT(H55,"#.###.###")) | T55: =IF(A55="","",TEXT(O55,"TT.MM.JJ")) | U55: =IF(A55="","",TEXT(P55,"TT.MM.JJ")) | W55: =IF(A55="","",B55&CHAR(10)&F55&CHAR(10)&S55&" "&I55&CHAR(10)&T55&" - "&U55)
S56: =IF(A56="","",TEXT(H56,"#.###.###")) | T56: =IF(A56="","",TEXT(O56,"TT.MM.JJ")) | U56: =IF(A56="","",TEXT(P56,"TT.MM.JJ")) | W56: =IF(A56="","",B56&CHAR(10)&F56&CHAR(10)&S56&" "&I56&CHAR(10)&T56&" - "&U56)
S57: =IF(A57="","",TEXT(H57,"#.###.###")) | T57: =IF(A57="","",TEXT(O57,"TT.MM.JJ")) | U57: =IF(A57="","",TEXT(P57,"TT.MM.JJ")) | W57: =IF(A57="","",B57&CHAR(10)&F57&CHAR(10)&S57&" "&I57&CHAR(10)&T57&" - "&U57)
S58: =IF(A58="","",TEXT(H58,"#.###.###")) | T58: =IF(A58="","",TEXT(O58,"TT.MM.JJ")) | U58: =IF(A58="","",TEXT(P58,"TT.MM.JJ")) | W58: =IF(A58="","",B58&CHAR(10)&F58&CHAR(10)&S58&" "&I58&CHAR(10)&T58&" - "&U58)
... S200: =IF(A200="","",TEXT(H200,"#.###.###")) | T200: =IF(A200="","",TEXT(O200,"TT.MM.JJ")) | U200: =IF(A200="","",TEXT(P200,"TT.MM.JJ")) | W200: =IF(A200="","",B200&CHAR(10)&F200&CHAR(10)&S200&" "&I200&CHAR(10)&T200&" - "&U200)
S201: =IF(A201="","",TEXT(H201,"#.###.###")) | T201: =IF(A201="","",TEXT(O201,"TT.MM.JJ")) | U201: =IF(A201="","",TEXT(P201,"TT.MM.JJ")) | W201: =IF(S201="","",B201&" "&F201&CHAR(10)&S201&" "&I201&CHAR(10)&T201&" - "&U201)
S202: =IF(A202="","",TEXT(H202,"#.###.###")) | T202: =IF(A202="","",TEXT(O202,"TT.MM.JJ")) | U202: =IF(A202="","",TEXT(P202,"TT.MM.JJ")) | W202: =IF(S202="","",B202&" "&F202&CHAR(10)&S202&" "&I202&CHAR(10)&T202&" - "&U202)
S203: =IF(A203="","",TEXT(H203,"#.###.###")) | T203: =IF(A203="","",TEXT(O203,"TT.MM.JJ")) | U203: =IF(A203="","",TEXT(P203,"TT.MM.JJ")) | W203: =IF(S203="","",B203&" "&F203&CHAR(10)&S203&" "&I203&CHAR(10)&T203&" - "&U203)
S204: =IF(A204="","",TEXT(H204,"#.###.###")) | T204: =IF(A204="","",TEXT(O204,"TT.MM.JJ")) | U204: =IF(A204="","",TEXT(P204,"TT.MM.JJ")) | W204: =IF(S204="","",B204&" "&F204&CHAR(10)&S204&" "&I204&CHAR(10)&T204&" - "&U204)
S205: =IF(A205="","",TEXT(H205,"#.###.###")) | T205: =IF(A205="","",TEXT(O205,"TT.MM.JJ")) | U205: =IF(A205="","",TEXT(P205,"TT.MM.JJ")) | W205: =IF(S205="","",B205&" "&F205&CHAR(10)&S205&" "&I205&CHAR(10)&T205&" - "&U205)
S206: =IF(A206="","",TEXT(H206,"#.###.###")) | T206: =IF(A206="","",TEXT(O206,"TT.MM.JJ")) | U206: =IF(A206="","",TEXT(P206,"TT.MM.JJ")) | W206: =IF(S206="","",B206&" "&F206&CHAR(10)&S206&" "&I206&CHAR(10)&T206&" - "&U206)
S207: =IF(A207="","",TEXT(H207,"#.###.###")) | T207: =IF(A207="","",TEXT(O207,"TT.MM.JJ")) | U207: =IF(A207="","",TEXT(P207,"TT.MM.JJ")) | W207: =IF(S207="","",B207&" "&F207&CHAR(10)&S207&" "&I207&CHAR(10)&T207&" - "&U207)
S208: =IF(A208="","",TEXT(H208,"#.###.###")) | T208: =IF(A208="","",TEXT(O208,"TT.MM.JJ")) | U208: =IF(A208="","",TEXT(P208,"TT.MM.JJ")) | W208: =IF(S208="","",B208&" "&F208&CHAR(10)&S208&" "&I208&CHAR(10)&T208&" - "&U208)
S209: =IF(A209="","",TEXT(H209,"#.###.###")) | T209: =IF(A209="","",TEXT(O209,"TT.MM.JJ")) | U209: =IF(A209="","",TEXT(P209,"TT.MM.JJ")) | W209: =IF(S209="","",B209&" "&F209&CHAR(10)&S209&" "&I209&CHAR(10)&T209&" - "&U209)
S210: =IF(A210="","",TEXT(H210,"#.###.###")) | T210: =IF(A210="","",TEXT(O210,"TT.MM.JJ")) | U210: =IF(A210="","",TEXT(P210,"TT.MM.JJ")) | W210: =IF(S210="","",B210&" "&F210&CHAR(10)&S210&" "&I210&CHAR(10)&T210&" - "&U210)
S211: =IF(A211="","",TEXT(H211,"#.###.###")) | T211: =IF(A211="","",TEXT(O211,"TT.MM.JJ")) | U211: =IF(A211="","",TEXT(P211,"TT.MM.JJ")) | W211: =IF(S211="","",B211&" "&F211&CHAR(10)&S211&" "&I211&CHAR(10)&T211&" - "&U211)
S212: =IF(A212="","",TEXT(H212,"#.###.###")) | T212: =IF(A212="","",TEXT(O212,"TT.MM.JJ")) | U212: =IF(A212="","",TEXT(P212,"TT.MM.JJ")) | W212: =IF(S212="","",B212&" "&F212&CHAR(10)&S212&" "&I212&CHAR(10)&T212&" - "&U212)
... S227: =IF(A227="","",TEXT(H227,"#.###.###")) | T227: =IF(A227="","",TEXT(O227,"TT.MM.JJ")) | U227: =IF(A227="","",TEXT(P227,"TT.MM.JJ")) | W227: =IF(S227="","",B227&" "&F227&CHAR(10)&S227&" "&I227&CHAR(10)&T227&" - "&U227)

Sheet Gruppe_Msch_Sond
A1: Msch20 | B1: A000000-00 | F1: Produkt1 | H1: 1 | I1: ST | O1: 42055 | P1: 42057 | S1: =IF(A1="","",TEXT(H1,"#.###.###")) -> 1 | T1: =IF(A1="","",TEXT(O1,"TT.MM.JJ")) -> 20.02.15 | U1: =IF(A1="","",TEXT(P1,"TT.MM.JJ")) -> 22.02.15 | W1: =IF(A1="","",B1&CHAR(10)&F1&CHAR(10)&S1&" "&I1&CHAR(10)&T1&" - "&U1) -> A000000-00 Produkt1 1 ST 20.02.15 - 22.02.15
A2: Msch20 | B2: A121857-04 | F2: Produkt2 | H2: 12400 | I2: ST | O2: 42086 | P2: 42087 | S2: =IF(A2="","",TEXT(H2,"#.###.###")) -> 12.400 | T2: =IF(A2="","",TEXT(O2,"TT.MM.JJ")) -> 23.03.15 | U2: =IF(A2="","",TEXT(P2,"TT.MM.JJ")) -> 24.03.15 | W2: =IF(A2="","",B2&CHAR(10)&F2&CHAR(10)&S2&" "&I2&CHAR(10)&T2&" - "&U2) -> A121857-04 Produkt2 12.400 ST 23.03.15 - 24.03.15
A3: Msch20 | B3: A121857-05 | F3: Produkt3 | H3: 66000 | I3: ST | O3: 42086 | P3: 42088 | S3: =IF(A3="","",TEXT(H3,"#.###.###")) -> 66.000 | T3: =IF(A3="","",TEXT(O3,"TT.MM.JJ")) -> 23.03.15 | U3: =IF(A3="","",TEXT(P3,"TT.MM.JJ")) -> 25.03.15 | W3: =IF(A3="","",B3&CHAR(10)&F3&CHAR(10)&S3&" "&I3&CHAR(10)&T3&" - "&U3) -> A121857-05 Produkt3 66.000 ST 23.03.15 - 25.03.15
A4: Msch20 | B4: A122546-05 | F4: Produkt4 | H4: 8000 | I4: ST | O4: 42088 | P4: 42088 | S4: =IF(A4="","",TEXT(H4,"#.###.###")) -> 8.000 | T4: =IF(A4="","",TEXT(O4,"TT.MM.JJ")) -> 25.03.15 | U4: =IF(A4="","",TEXT(P4,"TT.MM.JJ")) -> 25.03.15 | W4: =IF(A4="","",B4&CHAR(10)&F4&CHAR(10)&S4&" "&I4&CHAR(10)&T4&" - "&U4) -> A122546-05 Produkt4 8.000 ST 25.03.15 - 25.03.15
A5: Msch20 | B5: A122546-04 | F5: Produkt5 | H5: 29000 | I5: ST | O5: 42088 | P5: 42090 | S5: =IF(A5="","",TEXT(H5,"#.###.###")) -> 29.000 | T5: =IF(A5="","",TEXT(O5,"TT.MM.JJ")) -> 25.03.15 | U5: =IF(A5="","",TEXT(P5,"TT.MM.JJ")) -> 27.03.15 | W5: =IF(A5="","",B5&CHAR(10)&F5&CHAR(10)&S5&" "&I5&CHAR(10)&T5&" - "&U5) -> A122546-04 Produkt5 29.000 ST 25.03.15 - 27.03.15
A6: Msch20 | B6: A121921-04 | F6: Produkt6 | H6: 121000 | I6: ST | O6: 42101 | P6: 42108 | S6: =IF(A6="","",TEXT(H6,"#.###.###")) -> 121.000 | T6: =IF(A6="","",TEXT(O6,"TT.MM.JJ")) -> 07.04.15 | U6: =IF(A6="","",TEXT(P6,"TT.MM.JJ")) -> 14.04.15 | W6: =IF(A6="","",B6&CHAR(10)&F6&CHAR(10)&S6&" "&I6&CHAR(10)&T6&" - "&U6) -> A121921-04 Produkt6 121.000 ST 07.04.15 - 14.04.15
A7: Msch20 | B7: A122522-05 | F7: Produkt7 | H7: 88000 | I7: ST | O7: 42108 | P7: 42111 | S7: =IF(A7="","",TEXT(H7,"#.###.###")) -> 88.000 | T7: =IF(A7="","",TEXT(O7,"TT.MM.JJ")) -> 14.04.15 | U7: =IF(A7="","",TEXT(P7,"TT.MM.JJ")) -> 17.04.15 | W7: =IF(A7="","",B7&CHAR(10)&F7&CHAR(10)&S7&" "&I7&CHAR(10)&T7&" - "&U7) -> A122522-05 Produkt7 88.000 ST 14.04.15 - 17.04.15
A8: Msch20 | B8: A122522-04 | F8: Produkt8 | H8: 110000 | I8: ST | O8: 42111 | P8: 42122 | S8: =IF(A8="","",TEXT(H8,"#.###.###")) -> 110.000 | T8: =IF(A8="","",TEXT(O8,"TT.MM.JJ")) -> 17.04.15 | U8: =IF(A8="","",TEXT(P8,"TT.MM.JJ")) -> 28.04.15 | W8: =IF(A8="","",B8&CHAR(10)&F8&CHAR(10)&S8&" "&I8&CHAR(10)&T8&" - "&U8) -> A122522-04 Produkt8 110.000 ST 17.04.15 - 28.04.15
A9: Msch20 | B9: A122778-05 | F9: Produkt9 | H9: 40800 | I9: ST | O9: 42121 | P9: 42123 | S9: =IF(A9="","",TEXT(H9,"#.###.###")) -> 40.800 | T9: =IF(A9="","",TEXT(O9,"TT.MM.JJ")) -> 27.04.15 | U9: =IF(A9="","",TEXT(P9,"TT.MM.JJ")) -> 29.04.15 | W9: =IF(A9="","",B9&CHAR(10)&F9&CHAR(10)&S9&" "&I9&CHAR(10)&T9&" - "&U9) -> A122778-05 Produkt9 40.800 ST 27.04.15 - 29.04.15
A10: Msch20 | B10: A122522-06 | F10: Produkt10 | H10: 21999 | I10: ST | O10: 42122 | P10: 42124 | S10: =IF(A10="","",TEXT(H10,"#.###.###")) -> 21.999 | T10: =IF(A10="","",TEXT(O10,"TT.MM.JJ")) -> 28.04.15 | U10: =IF(A10="","",TEXT(P10,"TT.MM.JJ")) -> 30.04.15 | W10: =IF(A10="","",B10&CHAR(10)&F10&CHAR(10)&S10&" "&I10&CHAR(10)&T10&" - "&U10) -> A122522-06 Produkt10 21.999 ST 28.04.15 - 30.04.15
S11: =IF(A11="","",TEXT(H11,"#.###.###")) | T11: =IF(A11="","",TEXT(O11,"TT.MM.JJ")) | U11: =IF(A11="","",TEXT(P11,"TT.MM.JJ")) | W11: =IF(A11="","",B11&CHAR(10)&F11&CHAR(10)&S11&" "&I11&CHAR(10)&T11&" - "&U11)
S12: =IF(A12="","",TEXT(H12,"#.###.###")) | T12: =IF(A12="","",TEXT(O12,"TT.MM.JJ")) | U12: =IF(A12="","",TEXT(P12,"TT.MM.JJ")) | W12: =IF(A12="","",B12&CHAR(10)&F12&CHAR(10)&S12&" "&I12&CHAR(10)&T12&" - "&U12)
A13: Msch21 | B13: A000000-00 | F13: Produkt13 | H13: 1 | I13: ST | O13: 42055 | P13: 42057 | S13: =IF(A13="","",TEXT(H13,"#.###.###")) -> 1 | T13: =IF(A13="","",TEXT(O13,"TT.MM.JJ")) -> 20.02.15 | U13: =IF(A13="","",TEXT(P13,"TT.MM.JJ")) -> 22.02.15 | W13: =IF(A13="","",B13&CHAR(10)&F13&CHAR(10)&S13&" "&I13&CHAR(10)&T13&" - "&U13) -> A000000-00 Produkt13 1 ST 20.02.15 - 22.02.15
A14: Msch21 | B14: A123135-04 | F14: Produkt14 | H14: 1500 | I14: ST | O14: 42093 | P14: 42093 | S14: =IF(A14="","",TEXT(H14,"#.###.###")) -> 1.500 | T14: =IF(A14="","",TEXT(O14,"TT.MM.JJ")) -> 30.03.15 | U14: =IF(A14="","",TEXT(P14,"TT.MM.JJ")) -> 30.03.15 | W14: =IF(A14="","",B14&CHAR(10)&F14&CHAR(10)&S14&" "&I14&CHAR(10)&T14&" - "&U14) -> A123135-04 Produkt14 1.500 ST 30.03.15 - 30.03.15
A15: Msch21 | B15: A123135-05 | F15: Produkt15 | H15: 4500 | I15: ST | O15: 42093 | P15: 42093 | S15: =IF(A15="","",TEXT(H15,"#.###.###")) -> 4.500 | T15: =IF(A15="","",TEXT(O15,"TT.MM.JJ")) -> 30.03.15 | U15: =IF(A15="","",TEXT(P15,"TT.MM.JJ")) -> 30.03.15 | W15: =IF(A15="","",B15&CHAR(10)&F15&CHAR(10)&S15&" "&I15&CHAR(10)&T15&" - "&U15) -> A123135-05 Produkt15 4.500 ST 30.03.15 - 30.03.15
A16: Msch21 | B16: A122282-06 | F16: Produkt16 | H16: 25300 | I16: ST | O16: 42093 | P16: 42095 | S16: =IF(A16="","",TEXT(H16,"#.###.###")) -> 25.300 | T16: =IF(A16="","",TEXT(O16,"TT.MM.JJ")) -> 30.03.15 | U16: =IF(A16="","",TEXT(P16,"TT.MM.JJ")) -> 01.04.15 | W16: =IF(A16="","",B16&CHAR(10)&F16&CHAR(10)&S16&" "&I16&CHAR(10)&T16&" - "&U16) -> A122282-06 Produkt16 25.300 ST 30.03.15 - 01.04.15
A17: Msch21 | B17: A122551-06 | F17: Produkt17 | H17: 12650 | I17: ST | O17: 42095 | P17: 42096 | S17: =IF(A17="","",TEXT(H17,"#.###.###")) -> 12.650 | T17: =IF(A17="","",TEXT(O17,"TT.MM.JJ")) -> 01.04.15 | U17: =IF(A17="","",TEXT(P17,"TT.MM.JJ")) -> 02.04.15 | W17: =IF(A17="","",B17&CHAR(10)&F17&CHAR(10)&S17&" "&I17&CHAR(10)&T17&" - "&U17) -> A122551-06 Produkt17 12.650 ST 01.04.15 - 02.04.15
A18: Msch21 | B18: A122968-05 | F18: Produkt18 | H18: 75900 | I18: ST | O18: 42096 | P18: 42104 | S18: =IF(A18="","",TEXT(H18,"#.###.###")) -> 75.900 | T18: =IF(A18="","",TEXT(O18,"TT.MM.JJ")) -> 02.04.15 | U18: =IF(A18="","",TEXT(P18,"TT.MM.JJ")) -> 10.04.15 | W18: =IF(A18="","",B18&CHAR(10)&F18&CHAR(10)&S18&" "&I18&CHAR(10)&T18&" - "&U18) -> A122968-05 Produkt18 75.900 ST 02.04.15 - 10.04.15
A19: Msch21 | B19: A123138-05 | F19: Produkt19 | H19: 10000 | I19: ST | O19: 42104 | P19: 42107 | S19: =IF(A19="","",TEXT(H19,"#.###.###")) -> 10.000 | T19: =IF(A19="","",TEXT(O19,"TT.MM.JJ")) -> 10.04.15 | U19: =IF(A19="","",TEXT(P19,"TT.MM.JJ")) -> 13.04.15 | W19: =IF(A19="","",B19&CHAR(10)&F19&CHAR(10)&S19&" "&I19&CHAR(10)&T19&" - "&U19) -> A123138-05 Produkt19 10.000 ST 10.04.15 - 13.04.15
A20: Msch21 | B20: A123138-06 | F20: Produkt20 | H20: 4000 | I20: ST | O20: 42107 | P20: 42107 | S20: =IF(A20="","",TEXT(H20,"#.###.###")) -> 4.000 | T20: =IF(A20="","",TEXT(O20,"TT.MM.JJ")) -> 13.04.15 | U20: =IF(A20="","",TEXT(P20,"TT.MM.JJ")) -> 13.04.15 | W20: =IF(A20="","",B20&CHAR(10)&F20&CHAR(10)&S20&" "&I20&CHAR(10)&T20&" - "&U20) -> A123138-06 Produkt20 4.000 ST 13.04.15 - 13.04.15
A21: Msch21 | B21: A123138-04 | F21: Produkt21 | H21: 23500 | I21: ST | O21: 42107 | P21: 42110 | S21: =IF(A21="","",TEXT(H21,"#.###.###")) -> 23.500 | T21: =IF(A21="","",TEXT(O21,"TT.MM.JJ")) -> 13.04.15 | U21: =IF(A21="","",TEXT(P21,"TT.MM.JJ")) -> 16.04.15 | W21: =IF(A21="","",B21&CHAR(10)&F21&CHAR(10)&S21&" "&I21&CHAR(10)&T21&" - "&U21) -> A123138-04 Produkt21 23.500 ST 13.04.15 - 16.04.15
A22: Msch21 | B22: A123138-08 | F22: Produkt22 | H22: 18750 | I22: ST | O22: 42110 | P22: 42111 | S22: =IF(A22="","",TEXT(H22,"#.###.###")) -> 18.750 | T22: =IF(A22="","",TEXT(O22,"TT.MM.JJ")) -> 16.04.15 | U22: =IF(A22="","",TEXT(P22,"TT.MM.JJ")) -> 17.04.15 | W22: =IF(A22="","",B22&CHAR(10)&F22&CHAR(10)&S22&" "&I22&CHAR(10)&T22&" - "&U22) -> A123138-08 Produkt22 18.750 ST 16.04.15 - 17.04.15
S23: =IF(A23="","",TEXT(H23,"#.###.###")) | T23: =IF(A23="","",TEXT(O23,"TT.MM.JJ")) | U23: =IF(A23="","",TEXT(P23,"TT.MM.JJ")) | W23: =IF(A23="","",B23&CHAR(10)&F23&CHAR(10)&S23&" "&I23&CHAR(10)&T23&" - "&U23)
S24: =IF(A24="","",TEXT(H24,"#.###.###")) | T24: =IF(A24="","",TEXT(O24,"TT.MM.JJ")) | U24: =IF(A24="","",TEXT(P24,"TT.MM.JJ")) | W24: =IF(A24="","",B24&CHAR(10)&F24&CHAR(10)&S24&" "&I24&CHAR(10)&T24&" - "&U24)
S25: =IF(A25="","",TEXT(H25,"#.###.###")) | T25: =IF(A25="","",TEXT(O25,"TT.MM.JJ")) | U25: =IF(A25="","",TEXT(P25,"TT.MM.JJ")) | W25: =IF(A25="","",B25&CHAR(10)&F25&CHAR(10)&S25&" "&I25&CHAR(10)&T25&" - "&U25)
S26: =IF(A26="","",TEXT(H26,"#.###.###")) | T26: =IF(A26="","",TEXT(O26,"TT.MM.JJ")) | U26: =IF(A26="","",TEXT(P26,"TT.MM.JJ")) | W26: =IF(A26="","",B26&CHAR(10)&F26&CHAR(10)&S26&" "&I26&CHAR(10)&T26&" - "&U26)
S27: =IF(A27="","",TEXT(H27,"#.###.###")) | T27: =IF(A27="","",TEXT(O27,"TT.MM.JJ")) | U27: =IF(A27="","",TEXT(P27,"TT.MM.JJ")) | W27: =IF(A27="","",B27&CHAR(10)&F27&CHAR(10)&S27&" "&I27&CHAR(10)&T27&" - "&U27)
S28: =IF(A28="","",TEXT(H28,"#.###.###")) | T28: =IF(A28="","",TEXT(O28,"TT.MM.JJ")) | U28: =IF(A28="","",TEXT(P28,"TT.MM.JJ")) | W28: =IF(A28="","",B28&CHAR(10)&F28&CHAR(10)&S28&" "&I28&CHAR(10)&T28&" - "&U28)
S29: =IF(A29="","",TEXT(H29,"#.###.###")) | T29: =IF(A29="","",TEXT(O29,"TT.MM.JJ")) | U29: =IF(A29="","",TEXT(P29,"TT.MM.JJ")) | W29: =IF(A29="","",B29&CHAR(10)&F29&CHAR(10)&S29&" "&I29&CHAR(10)&T29&" - "&U29)
S30: =IF(A30="","",TEXT(H30,"#.###.###")) | T30: =IF(A30="","",TEXT(O30,"TT.MM.JJ")) | U30: =IF(A30="","",TEXT(P30,"TT.MM.JJ")) | W30: =IF(A30="","",B30&CHAR(10)&F30&CHAR(10)&S30&" "&I30&CHAR(10)&T30&" - "&U30)
S31: =IF(A31="","",TEXT(H31,"#.###.###")) | T31: =IF(A31="","",TEXT(O31,"TT.MM.JJ")) | U31: =IF(A31="","",TEXT(P31,"TT.MM.JJ")) | W31: =IF(A31="","",B31&CHAR(10)&F31&CHAR(10)&S31&" "&I31&CHAR(10)&T31&" - "&U31)
S32: =IF(A32="","",TEXT(H32,"#.###.###")) | T32: =IF(A32="","",TEXT(O32,"TT.MM.JJ")) | U32: =IF(A32="","",TEXT(P32,"TT.MM.JJ")) | W32: =IF(A32="","",B32&CHAR(10)&F32&CHAR(10)&S32&" "&I32&CHAR(10)&T32&" - "&U32)
S33: =IF(A33="","",TEXT(H33,"#.###.###")) | T33: =IF(A33="","",TEXT(O33,"TT.MM.JJ")) | U33: =IF(A33="","",TEXT(P33,"TT.MM.JJ")) | W33: =IF(A33="","",B33&CHAR(10)&F33&CHAR(10)&S33&" "&I33&CHAR(10)&T33&" - "&U33)
S34: =IF(A34="","",TEXT(H34,"#.###.###")) | T34: =IF(A34="","",TEXT(O34,"TT.MM.JJ")) | U34: =IF(A34="","",TEXT(P34,"TT.MM.JJ")) | W34: =IF(A34="","",B34&CHAR(10)&F34&CHAR(10)&S34&" "&I34&CHAR(10)&T34&" - "&U34)
... S200: =IF(A200="","",TEXT(H200,"#.###.###")) | T200: =IF(A200="","",TEXT(O200,"TT.MM.JJ")) | U200: =IF(A200="","",TEXT(P200,"TT.MM.JJ")) | W200: =IF(A200="","",B200&CHAR(10)&F200&CHAR(10)&S200&" "&I200&CHAR(10)&T200&" - "&U200)

Sheet Gruppe_Folge
A1: Folge01 | B1: A000000-00 | F1: Produkt1 | H1: 1 | I1: ST | O1: 42055 | P1: 42057 | S1: =IF(A1="","",TEXT(H1,"#.###.###")) -> 1 | T1: =IF(A1="","",TEXT(O1,"TT.MM.JJ")) -> 20.02.15 | U1: =IF(A1="","",TEXT(P1,"TT.MM.JJ")) -> 22.02.15 | W1: =IF(A1="","",B1&CHAR(10)&F1&CHAR(10)&S1&" "&I1&CHAR(10)&T1&" - "&U1) -> A000000-00 Produkt1 1 ST 20.02.15 - 22.02.15
A2: Folge01 | B2: A122505-03 | F2: Produkt2 | H2: 5823312 | I2: ST | O2: 42075 | P2: 42107 | S2: =IF(A2="","",TEXT(H2,"#.###.###")) -> 5.823.312 | T2: =IF(A2="","",TEXT(O2,"TT.MM.JJ")) -> 12.03.15 | U2: =IF(A2="","",TEXT(P2,"TT.MM.JJ")) -> 13.04.15 | W2: =IF(A2="","",B2&CHAR(10)&F2&CHAR(10)&S2&" "&I2&CHAR(10)&T2&" - "&U2) -> A122505-03 Produkt2 5.823.312 ST 12.03.15 - 13.04.15
A3: Folge01 | B3: A122505-03 | F3: Produkt3 | H3: 1170000 | I3: ST | O3: 42087 | P3: 42094 | S3: =IF(A3="","",TEXT(H3,"#.###.###")) -> 1.170.000 | T3: =IF(A3="","",TEXT(O3,"TT.MM.JJ")) -> 24.03.15 | U3: =IF(A3="","",TEXT(P3,"TT.MM.JJ")) -> 31.03.15 | W3: =IF(A3="","",B3&CHAR(10)&F3&CHAR(10)&S3&" "&I3&CHAR(10)&T3&" - "&U3) -> A122505-03 Produkt3 1.170.000 ST 24.03.15 - 31.03.15
A4: Folge01 | B4: A121909-03 | F4: Produkt4 | H4: 5999994 | I4: ST | O4: 42108 | P4: 42118 | S4: =IF(A4="","",TEXT(H4,"#.###.###")) -> 5.999.994 | T4: =IF(A4="","",TEXT(O4,"TT.MM.JJ")) -> 14.04.15 | U4: =IF(A4="","",TEXT(P4,"TT.MM.JJ")) -> 24.04.15 | W4: =IF(A4="","",B4&CHAR(10)&F4&CHAR(10)&S4&" "&I4&CHAR(10)&T4&" - "&U4) -> A121909-03 Produkt4 5.999.994 ST 14.04.15 - 24.04.15
