Workbook

Sheet Startseite

Sheet Bereitstellung
A1: Vor22 | B1: A121534-07 | F1: Produkt 26 | H1: 4680 | I1: KG | O1: 42072 | P1: 42072 | S1: =IF(A1="","",TEXT(H1,"#.###.###")) -> 4.680 | T1: =IF(A1="","",TEXT(O1,"TT.MM.JJ")) -> 09.03.15 | U1: =IF(A1="","",TEXT(P1,"TT.MM.JJ")) -> 09.03.15 | W1: =IF(A1="","",A1&" "&B1&CHAR(10)&F1&CHAR(10)&S1&" "&I1&CHAR(10)&T1&" - "&U1) -> Vor22 A121534-07 Produkt 26 4.680 KG 09.03.15 - 09.03.15
A2: Vor22 | B2: A121662-04 | F2: Produkt 27 | H2: 13000 | I2: KG | O2: 42075 | P2: 42079 | S2: =IF(A2="","",TEXT(H2,"#.###.###")) -> 13.000 | T2: =IF(A2="","",TEXT(O2,"TT.MM.JJ")) -> 12.03.15 | U2: =IF(A2="","",TEXT(P2,"TT.MM.JJ")) -> 16.03.15 | W2: =IF(A2="","",A2&" "&B2&CHAR(10)&F2&CHAR(10)&S2&" "&I2&CHAR(10)&T2&" - "&U2) -> Vor22 A121662-04 Produkt 27 13.000 KG 12.03.15 - 16.03.15
A3: Vor23 | B3: A121744-02 | F3: Produkt 38 | H3: 7611.75 | I3: KG | O3: 42075 | P3: 42083 | S3: =IF(A3="","",TEXT(H3,"#.###.###")) -> 7.612 | T3: =IF(A3="","",TEXT(O3,"TT.MM.JJ")) -> 12.03.15 | U3: =IF(A3="","",TEXT(P3,"TT.MM.JJ")) -> 20.03.15 | W3: =IF(A3="","",A3&" "&B3&CHAR(10)&F3&CHAR(10)&S3&" "&I3&CHAR(10)&T3&" - "&U3) -> Vor23 A121744-02 Produkt 38 7.612 KG 12.03.15 - 20.03.15
A4: Vor14 | B4: A121554-01 | F4: Produkt 50 | H4: 716 | I4: KG | O4: 42075 | P4: 42080 | S4: =IF(A4="","",TEXT(H4,"#.###.###")) -> 716 | T4: =IF(A4="","",TEXT(O4,"TT.MM.JJ")) -> 12.03.15 | U4: =IF(A4="","",TEXT(P4,"TT.MM.JJ")) -> 17.03.15 | W4: =IF(A4="","",A4&" "&B4&CHAR(10)&F4&CHAR(10)&S4&" "&I4&CHAR(10)&T4&" - "&U4) -> Vor14 A121554-01 Produkt 50 716 KG 12.03.15 - 17.03.15
A5: Vor21 | B5: A122505-01 | F5: Produkt 14 | H5: 2327.5 | I5: KG | O5: 42076 | P5: 42082 | S5: =IF(A5="","",TEXT(H5,"#.###.###")) -> 2.328 | T5: =IF(A5="","",TEXT(O5,"TT.MM.JJ")) -> 13.03.15 | U5: =IF(A5="","",TEXT(P5,"TT.MM.JJ")) -> 19.03.15 | W5: =IF(A5="","",A5&" "&B5&CHAR(10)&F5&CHAR(10)&S5&" "&I5&CHAR(10)&T5&" - "&U5) -> Vor21 A122505-01 Produkt 14 2.328 KG 13.03.15 - 19.03.15
A6: Vor21 | B6: A122174-01 | F6: Produkt 15 | H6: 1862 | I6: KG | O6: 42080 | P6: 42083 | S6: =IF(A6="","",TEXT(H6,"#.###.###")) -> 1.862 | T6: =IF(A6="","",TEXT(O6,"TT.MM.JJ")) -> 17.03.15 | U6: =IF(A6="","",TEXT(P6,"TT.MM.JJ")) -> 20.03.15 | W6: =IF(A6="","",A6&" "&B6&CHAR(10)&F6&CHAR(10)&S6&" "&I6&CHAR(10)&T6&" - "&U6) -> Vor21 A122174-01 Produkt 15 1.862 KG 17.03.15 - 20.03.15
A7: Vor22 | B7: A121662-07 | F7: Produkt 28 | H7: 15000 | I7: KG | O7: 42080 | P7: 42082 | S7: =IF(A7="","",TEXT(H7,"#.###.###")) -> 15.000 | T7: =IF(A7="","",TEXT(O7,"TT.MM.JJ")) -> 17.03.15 | U7: =IF(A7="","",TEXT(P7,"TT.MM.JJ")) -> 19.03.15 | W7: =IF(A7="","",A7&" "&B7&CHAR(10)&F7&CHAR(10)&S7&" "&I7&CHAR(10)&T7&" - "&U7) -> Vor22 A121662-07 Produkt 28 15.000 KG 17.03.15 - 19.03.15
A8: Vor27 | B8: A122592-01 | F8: Produkt 86 | H8: 1811.7 | I8: KG | O8: 42080 | P8: 42082 | S8: =IF(A8="","",TEXT(H8,"#.###.###")) -> 1.812 | T8: =IF(A8="","",TEXT(O8,"TT.MM.JJ")) -> 17.03.15 | U8: =IF(A8="","",TEXT(P8,"TT.MM.JJ")) -> 19.03.15 | W8: =IF(A8="","",A8&" "&B8&CHAR(10)&F8&CHAR(10)&S8&" "&I8&CHAR(10)&T8&" - "&U8) -> Vor27 A122592-01 Produkt 86 1.812 KG 17.03.15 - 19.03.15
A9: Vor21 | B9: A122179-01 | F9: Produkt 16 | H9: 931 | I9: KG | O9: 42081 | P9: 42082 | S9: =IF(A9="","",TEXT(H9,"#.###.###")) -> 931 | T9: =IF(A9="","",TEXT(O9,"TT.MM.JJ")) -> 18.03.15 | U9: =IF(A9="","",TEXT(P9,"TT.MM.JJ")) -> 19.03.15 | W9: =IF(A9="","",A9&" "&B9&CHAR(10)&F9&CHAR(10)&S9&" "&I9&CHAR(10)&T9&" - "&U9) -> Vor21 A122179-01 Produkt 16 931 KG 18.03.15 - 19.03.15
A10: Vor01 | B10: A121857-01 | F10: Produkt 2 | H10: 599.2 | I10: KG | O10: 42081 | P10: 42082 | S10: =IF(A10="","",TEXT(H10,"#.###.###")) -> 599 | T10: =IF(A10="","",TEXT(O10,"TT.MM.JJ")) -> 18.03.15 | U10: =IF(A10="","",TEXT(P10,"TT.MM.JJ")) -> 19.03.15 | W10: =IF(A10="","",A10&" "&B10&CHAR(10)&F10&CHAR(10)&S10&" "&I10&CHAR(10)&T10&" - "&U10) -> Vor01 A121857-01 Produkt 2 599 KG 18.03.15 - 19.03.15
A11: Vor24 | B11: A123150-01 | F11: Produkt 50 | H11: 684 | I11: KG | O11: 42081 | P11: 42082 | S11: =IF(A11="","",TEXT(H11,"#.###.###")) -> 684 | T11: =IF(A11="","",TEXT(O11,"TT.MM.JJ")) -> 18.03.15 | U11: =IF(A11="","",TEXT(P11,"TT.MM.JJ")) -> 19.03.15 | W11: =IF(A11="","",A11&" "&B11&CHAR(10)&F11&CHAR(10)&S11&" "&I11&CHAR(10)&T11&" - "&U11) -> Vor24 A123150-01 Produkt 50 684 KG 18.03.15 - 19.03.15
A12: Vor24 | B12: A123150-06 | F12: Produkt 51 | H12: 1368 | I12: KG | O12: 42081 | P12: 42082 | S12: =IF(A12="","",TEXT(H12,"#.###.###")) -> 1.368 | T12: =IF(A12="","",TEXT(O12,"TT.MM.JJ")) -> 18.03.15 | U12: =IF(A12="","",TEXT(P12,"TT.MM.JJ")) -> 19.03.15 | W12: =IF(A12="","",A12&" "&B12&CHAR(10)&F12&CHAR(10)&S12&" "&I12&CHAR(10)&T12&" - "&U12) -> Vor24 A123150-06 Produkt 51 1.368 KG 18.03.15 - 19.03.15
... A163: Vor15 | B163: A122287-01 | F163: Produkt 70 | H163: 544.908 | I163: KG | O163: 42163 | P163: 42164 | S163: =IF(A163="","",TEXT(H163,"#.###.###")) -> 545 | T163: =IF(A163="","",TEXT(O163,"TT.MM.JJ")) -> 08.06.15 | U163: =IF(A163="","",TEXT(P163,"TT.MM.JJ")) -> 09.06.15 | W163: =IF(A163="","",A163&" "&B163&CHAR(10)&F163&CHAR(10)&S163&" "&I163&CHAR(10)&T163&" - "&U163) -> Vor15 A122287-01 Produkt 70 545 KG 08.06.15 - 09.06.15
S164: =IF(A164="","",TEXT(H164,"#.###.###")) | T164: =IF(A164="","",TEXT(O164,"TT.MM.JJ")) | U164: =IF(A164="","",TEXT(P164,"TT.MM.JJ")) | W164: =IF(A164="","",A164&" "&B164&CHAR(10)&F164&CHAR(10)&S164&" "&I164&CHAR(10)&T164&" - "&U164)
S165: =IF(A165="","",TEXT(H165,"#.###.###")) | T165: =IF(A165="","",TEXT(O165,"TT.MM.JJ")) | U165: =IF(A165="","",TEXT(P165,"TT.MM.JJ")) | W165: =IF(A165="","",A165&" "&B165&CHAR(10)&F165&CHAR(10)&S165&" "&I165&CHAR(10)&T165&" - "&U165)
S166: =IF(A166="","",TEXT(H166,"#.###.###")) | T166: =IF(A166="","",TEXT(O166,"TT.MM.JJ")) | U166: =IF(A166="","",TEXT(P166,"TT.MM.JJ")) | W166: =IF(A166="","",A166&" "&B166&CHAR(10)&F166&CHAR(10)&S166&" "&I166&CHAR(10)&T166&" - "&U166)
S167: =IF(A167="","",TEXT(H167,"#.###.###")) | T167: =IF(A167="","",TEXT(O167,"TT.MM.JJ")) | U167: =IF(A167="","",TEXT(P167,"TT.MM.JJ")) | W167: =IF(A167="","",A167&" "&B167&CHAR(10)&F167&CHAR(10)&S167&" "&I167&CHAR(10)&T167&" - "&U167)
S168: =IF(A168="","",TEXT(H168,"#.###.###")) | T168: =IF(A168="","",TEXT(O168,"TT.MM.JJ")) | U168: =IF(A168="","",TEXT(P168,"TT.MM.JJ")) | W168: =IF(A168="","",A168&" "&B168&CHAR(10)&F168&CHAR(10)&S168&" "&I168&CHAR(10)&T168&" - "&U168)
S169: =IF(A169="","",TEXT(H169,"#.###.###")) | T169: =IF(A169="","",TEXT(O169,"TT.MM.JJ")) | U169: =IF(A169="","",TEXT(P169,"TT.MM.JJ")) | W169: =IF(A169="","",A169&" "&B169&CHAR(10)&F169&CHAR(10)&S169&" "&I169&CHAR(10)&T169&" - "&U169)
S170: =IF(A170="","",TEXT(H170,"#.###.###")) | T170: =IF(A170="","",TEXT(O170,"TT.MM.JJ")) | U170: =IF(A170="","",TEXT(P170,"TT.MM.JJ")) | W170: =IF(A170="","",A170&" "&B170&CHAR(10)&F170&CHAR(10)&S170&" "&I170&CHAR(10)&T170&" - "&U170)
S171: =IF(A171="","",TEXT(H171,"#.###.###")) | T171: =IF(A171="","",TEXT(O171,"TT.MM.JJ")) | U171: =IF(A171="","",TEXT(P171,"TT.MM.JJ")) | W171: =IF(A171="","",A171&" "&B171&CHAR(10)&F171&CHAR(10)&S171&" "&I171&CHAR(10)&T171&" - "&U171)
S172: =IF(A172="","",TEXT(H172,"#.###.###")) | T172: =IF(A172="","",TEXT(O172,"TT.MM.JJ")) | U172: =IF(A172="","",TEXT(P172,"TT.MM.JJ")) | W172: =IF(A172="","",A172&" "&B172&CHAR(10)&F172&CHAR(10)&S172&" "&I172&CHAR(10)&T172&" - "&U172)
S173: =IF(A173="","",TEXT(H173,"#.###.###")) | T173: =IF(A173="","",TEXT(O173,"TT.MM.JJ")) | U173: =IF(A173="","",TEXT(P173,"TT.MM.JJ")) | W173: =IF(A173="","",A173&" "&B173&CHAR(10)&F173&CHAR(10)&S173&" "&I173&CHAR(10)&T173&" - "&U173)
S174: =IF(A174="","",TEXT(H174,"#.###.###")) | T174: =IF(A174="","",TEXT(O174,"TT.MM.JJ")) | U174: =IF(A174="","",TEXT(P174,"TT.MM.JJ")) | W174: =IF(A174="","",A174&" "&B174&CHAR(10)&F174&CHAR(10)&S174&" "&I174&CHAR(10)&T174&" - "&U174)
S175: =IF(A175="","",TEXT(H175,"#.###.###")) | T175: =IF(A175="","",TEXT(O175,"TT.MM.JJ")) | U175: =IF(A175="","",TEXT(P175,"TT.MM.JJ")) | W175: =IF(A175="","",A175&" "&B175&CHAR(10)&F175&CHAR(10)&S175&" "&I175&CHAR(10)&T175&" - "&U175)
S176: =IF(A176="","",TEXT(H176,"#.###.###")) | T176: =IF(A176="","",TEXT(O176,"TT.MM.JJ")) | U176: =IF(A176="","",TEXT(P176,"TT.MM.JJ")) | W176: =IF(A176="","",A176&" "&B176&CHAR(10)&F176&CHAR(10)&S176&" "&I176&CHAR(10)&T176&" - "&U176)
S177: =IF(A177="","",TEXT(H177,"#.###.###")) | T177: =IF(A177="","",TEXT(O177,"TT.MM.JJ")) | U177: =IF(A177="","",TEXT(P177,"TT.MM.JJ")) | W177: 8
S178: =IF(A178="","",TEXT(H178,"#.###.###")) | T178: =IF(A178="","",TEXT(O178,"TT.MM.JJ")) | U178: =IF(A178="","",TEXT(P178,"TT.MM.JJ")) | W178: =IF(A178="","",A178&" "&B178&CHAR(10)&F178&CHAR(10)&S178&" "&I178&CHAR(10)&T178&" - "&U178)
S179: =IF(A179="","",TEXT(H179,"#.###.###")) | T179: =IF(A179="","",TEXT(O179,"TT.MM.JJ")) | U179: =IF(A179="","",TEXT(P179,"TT.MM.JJ")) | W179: =IF(A179="","",A179&" "&B179&CHAR(10)&F179&CHAR(10)&S179&" "&I179&CHAR(10)&T179&" - "&U179)
S180: =IF(A180="","",TEXT(H180,"#.###.###")) | T180: =IF(A180="","",TEXT(O180,"TT.MM.JJ")) | U180: =IF(A180="","",TEXT(P180,"TT.MM.JJ")) | W180: =IF(A180="","",A180&" "&B180&CHAR(10)&F180&CHAR(10)&S180&" "&I180&CHAR(10)&T180&" - "&U180)
S181: =IF(A181="","",TEXT(H181,"#.###.###")) | T181: =IF(A181="","",TEXT(O181,"TT.MM.JJ")) | U181: =IF(A181="","",TEXT(P181,"TT.MM.JJ")) | W181: =IF(A181="","",A181&" "&B181&CHAR(10)&F181&CHAR(10)&S181&" "&I181&CHAR(10)&T181&" - "&U181)
S182: =IF(A182="","",TEXT(H182,"#.###.###")) | T182: =IF(A182="","",TEXT(O182,"TT.MM.JJ")) | U182: =IF(A182="","",TEXT(P182,"TT.MM.JJ")) | W182: =IF(A182="","",A182&" "&B182&CHAR(10)&F182&CHAR(10)&S182&" "&I182&CHAR(10)&T182&" - "&U182)
S183: =IF(A183="","",TEXT(H183,"#.###.###")) | T183: =IF(A183="","",TEXT(O183,"TT.MM.JJ")) | U183: =IF(A183="","",TEXT(P183,"TT.MM.JJ")) | W183: =IF(A183="","",A183&" "&B183&CHAR(10)&F183&CHAR(10)&S183&" "&I183&CHAR(10)&T183&" - "&U183)
S184: =IF(A184="","",TEXT(H184,"#.###.###")) | T184: =IF(A184="","",TEXT(O184,"TT.MM.JJ")) | U184: =IF(A184="","",TEXT(P184,"TT.MM.JJ")) | W184: =IF(A184="","",A184&" "&B184&CHAR(10)&F184&CHAR(10)&S184&" "&I184&CHAR(10)&T184&" - "&U184)
S185: =IF(A185="","",TEXT(H185,"#.###.###")) | T185: =IF(A185="","",TEXT(O185,"TT.MM.JJ")) | U185: =IF(A185="","",TEXT(P185,"TT.MM.JJ")) | W185: =IF(A185="","",A185&" "&B185&CHAR(10)&F185&CHAR(10)&S185&" "&I185&CHAR(10)&T185&" - "&U185)
S186: =IF(A186="","",TEXT(H186,"#.###.###")) | T186: =IF(A186="","",TEXT(O186,"TT.MM.JJ")) | U186: =IF(A186="","",TEXT(P186,"TT.MM.JJ")) | W186: =IF(A186="","",A186&" "&B186&CHAR(10)&F186&CHAR(10)&S186&" "&I186&CHAR(10)&T186&" - "&U186)
S187: =IF(A187="","",TEXT(H187,"#.###.###")) | T187: =IF(A187="","",TEXT(O187,"TT.MM.JJ")) | U187: =IF(A187="","",TEXT(P187,"TT.MM.JJ")) | W187: =IF(A187="","",A187&" "&B187&CHAR(10)&F187&CHAR(10)&S187&" "&I187&CHAR(10)&T187&" - "&U187)
S188: =IF(A188="","",TEXT(H188,"#.###.###")) | T188: =IF(A188="","",TEXT(O188,"TT.MM.JJ")) | U188: =IF(A188="","",TEXT(P188,"TT.MM.JJ")) | W188: =IF(A188="","",A188&" "&B188&CHAR(10)&F188&CHAR(10)&S188&" "&I188&CHAR(10)&T188&" - "&U188)
S189: =IF(A189="","",TEXT(H189,"#.###.###")) | T189: =IF(A189="","",TEXT(O189,"TT.MM.JJ")) | U189: =IF(A189="","",TEXT(P189,"TT.MM.JJ")) | W189: =IF(A189="","",A189&" "&B189&CHAR(10)&F189&CHAR(10)&S189&" "&I189&CHAR(10)&T189&" - "&U189)
... S200: =IF(A200="","",TEXT(H200,"#.###.###")) | T200: =IF(A200="","",TEXT(O200,"TT.MM.JJ")) | U200: =IF(A200="","",TEXT(P200,"TT.MM.JJ")) | W200: =IF(A200="","",A200&" "&B200&CHAR(10)&F200&CHAR(10)&S200&" "&I200&CHAR(10)&T200&" - "&U200)

Sheet Gruppe_Vor_01
A1: Vor01 | B1: A000000-00 | F1: Produkt 1 | H1: 1 | I1: KG | O1: 42055 | P1: 42057 | S1: =IF(A1="","",TEXT(H1,"#.###.###")) -> 1 | T1: =IF(A1="","",TEXT(O1,"TT.MM.JJ")) -> 20.02.15 | U1: =IF(A1="","",TEXT(P1,"TT.MM.JJ")) -> 22.02.15 | W1: =IF(A1="","",B1&CHAR(10)&F1&CHAR(10)&S1&" "&I1&CHAR(10)&T1&" - "&U1) -> A000000-00 Produkt 1 1 KG 20.02.15 - 22.02.15
A2: Vor01 | B2: A121857-01 | F2: Produkt 2 | H2: 599.2 | I2: KG | O2: 42081 | P2: 42082 | S2: =IF(A2="","",TEXT(H2,"#.###.###")) -> 599 | T2: =IF(A2="","",TEXT(O2,"TT.MM.JJ")) -> 18.03.15 | U2: =IF(A2="","",TEXT(P2,"TT.MM.JJ")) -> 19.03.15 | W2: =IF(A2="","",B2&CHAR(10)&F2&CHAR(10)&S2&" "&I2&CHAR(10)&T2&" - "&U2) -> A121857-01 Produkt 2 599 KG 18.03.15 - 19.03.15
A3: Vor01 | B3: A122546-01 | F3: Produkt 3 | H3: 1861.2 | I3: KG | O3: 42086 | P3: 42087 | S3: =IF(A3="","",TEXT(H3,"#.###.###")) -> 1.861 | T3: =IF(A3="","",TEXT(O3,"TT.MM.JJ")) -> 23.03.15 | U3: =IF(A3="","",TEXT(P3,"TT.MM.JJ")) -> 24.03.15 | W3: =IF(A3="","",B3&CHAR(10)&F3&CHAR(10)&S3&" "&I3&CHAR(10)&T3&" - "&U3) -> A122546-01 Produkt 3 1.861 KG 23.03.15 - 24.03.15
A4: Vor01 | B4: A122575-01 | F4: Produkt 4 | H4: 2138.4 | I4: KG | O4: 42087 | P4: 42094 | S4: =IF(A4="","",TEXT(H4,"#.###.###")) -> 2.138 | T4: =IF(A4="","",TEXT(O4,"TT.MM.JJ")) -> 24.03.15 | U4: =IF(A4="","",TEXT(P4,"TT.MM.JJ")) -> 31.03.15 | W4: =IF(A4="","",B4&CHAR(10)&F4&CHAR(10)&S4&" "&I4&CHAR(10)&T4&" - "&U4) -> A122575-01 Produkt 4 2.138 KG 24.03.15 - 31.03.15
A5: Vor01 | B5: A121921-01 | F5: Produkt 5 | H5: 6340.4 | I5: KG | O5: 42094 | P5: 42101 | S5: =IF(A5="","",TEXT(H5,"#.###.###")) -> 6.340 | T5: =IF(A5="","",TEXT(O5,"TT.MM.JJ")) -> 31.03.15 | U5: =IF(A5="","",TEXT(P5,"TT.MM.JJ")) -> 07.04.15 | W5: =IF(A5="","",B5&CHAR(10)&F5&CHAR(10)&S5&" "&I5&CHAR(10)&T5&" - "&U5) -> A121921-01 Produkt 5 6.340 KG 31.03.15 - 07.04.15
A6: Vor01 | B6: A122218-01 | F6: Produkt 6 | H6: 1441.44 | I6: KG | O6: 42110 | P6: 42115 | S6: =IF(A6="","",TEXT(H6,"#.###.###")) -> 1.441 | T6: =IF(A6="","",TEXT(O6,"TT.MM.JJ")) -> 16.04.15 | U6: =IF(A6="","",TEXT(P6,"TT.MM.JJ")) -> 21.04.15 | W6: =IF(A6="","",B6&CHAR(10)&F6&CHAR(10)&S6&" "&I6&CHAR(10)&T6&" - "&U6) -> A122218-01 Produkt 6 1.441 KG 16.04.15 - 21.04.15
A7: Vor01 | B7: A122612-01 | F7: Produkt 7 | H7: 1441.44 | I7: KG | O7: 42115 | P7: 42117 | S7: =IF(A7="","",TEXT(H7,"#.###.###")) -> 1.441 | T7: =IF(A7="","",TEXT(O7,"TT.MM.JJ")) -> 21.04.15 | U7: =IF(A7="","",TEXT(P7,"TT.MM.JJ")) -> 23.04.15 | W7: =IF(A7="","",B7&CHAR(10)&F7&CHAR(10)&S7&" "&I7&CHAR(10)&T7&" - "&U7) -> A122612-01 Produkt 7 1.441 KG 21.04.15 - 23.04.15
A8: Vor01 | B8: A122604-01 | F8: Produkt 8 | H8: 1441.44 | I8: KG | O8: 42117 | P8: 42122 | S8: =IF(A8="","",TEXT(H8,"#.###.###")) -> 1.441 | T8: =IF(A8="","",TEXT(O8,"TT.MM.JJ")) -> 23.04.15 | U8: =IF(A8="","",TEXT(P8,"TT.MM.JJ")) -> 28.04.15 | W8: =IF(A8="","",B8&CHAR(10)&F8&CHAR(10)&S8&" "&I8&CHAR(10)&T8&" - "&U8) -> A122604-01 Produkt 8 1.441 KG 23.04.15 - 28.04.15
A9: Vor01 | B9: A123065-01 | F9: Produkt 9 | H9: 1441.44 | I9: KG | O9: 42122 | P9: 42124 | S9: =IF(A9="","",TEXT(H9,"#.###.###")) -> 1.441 | T9: =IF(A9="","",TEXT(O9,"TT.MM.JJ")) -> 28.04.15 | U9: =IF(A9="","",TEXT(P9,"TT.MM.JJ")) -> 30.04.15 | W9: =IF(A9="","",B9&CHAR(10)&F9&CHAR(10)&S9&" "&I9&CHAR(10)&T9&" - "&U9) -> A123065-01 Produkt 9 1.441 KG 28.04.15 - 30.04.15
A10: Vor01 | B10: A123076-01 | F10: Produkt 10 | H10: 1441.44 | I10: KG | O10: 42142 | P10: 42150 | S10: =IF(A10="","",TEXT(H10,"#.###.###")) -> 1.441 | T10: =IF(A10="","",TEXT(O10,"TT.MM.JJ")) -> 18.05.15 | U10: =IF(A10="","",TEXT(P10,"TT.MM.JJ")) -> 26.05.15 | W10: =IF(A10="","",B10&CHAR(10)&F10&CHAR(10)&S10&" "&I10&CHAR(10)&T10&" - "&U10) -> A123076-01 Produkt 10 1.441 KG 18.05.15 - 26.05.15
S11: =IF(A11="","",TEXT(H11,"#.###.###")) | T11: =IF(A11="","",TEXT(O11,"TT.MM.JJ")) | U11: =IF(A11="","",TEXT(P11,"TT.MM.JJ")) | W11: =IF(A11="","",B11&CHAR(10)&F11&CHAR(10)&S11&" "&I11&CHAR(10)&T11&" - "&U11)
S12: =IF(A12="","",TEXT(H12,"#.###.###")) | T12: =IF(A12="","",TEXT(O12,"TT.MM.JJ")) | U12: =IF(A12="","",TEXT(P12,"TT.MM.JJ")) | W12: =IF(A12="","",B12&CHAR(10)&F12&CHAR(10)&S12&" "&I12&CHAR(10)&T12&" - "&U12)
A13: Vor02 | B13: A000000-00 | F13: Produkt 13 | H13: 1 | I13: KG | O13: 42055 | P13: 42057 | S13: =IF(A13="","",TEXT(H13,"#.###.###")) -> 1 | T13: =IF(A13="","",TEXT(O13,"TT.MM.JJ")) -> 20.02.15 | U13: =IF(A13="","",TEXT(P13,"TT.MM.JJ")) -> 22.02.15 | W13: =IF(A13="","",B13&CHAR(10)&F13&CHAR(10)&S13&" "&I13&CHAR(10)&T13&" - "&U13) -> A000000-00 Produkt 13 1 KG 20.02.15 - 22.02.15
A14: Vor02 | B14: A123135-01 | F14: Produkt 14 | H14: 600 | I14: KG | O14: 42088 | P14: 42088 | S14: =IF(A14="","",TEXT(H14,"#.###.###")) -> 600 | T14: =IF(A14="","",TEXT(O14,"TT.MM.JJ")) -> 25.03.15 | U14: =IF(A14="","",TEXT(P14,"TT.MM.JJ")) -> 25.03.15 | W14: =IF(A14="","",B14&CHAR(10)&F14&CHAR(10)&S14&" "&I14&CHAR(10)&T14&" - "&U14) -> A123135-01 Produkt 14 600 KG 25.03.15 - 25.03.15
A15: Vor02 | B15: A122282-02 | F15: Produkt 15 | H15: 456.54 | I15: KG | O15: 42093 | P15: 42093 | S15: =IF(A15="","",TEXT(H15,"#.###.###")) -> 457 | T15: =IF(A15="","",TEXT(O15,"TT.MM.JJ")) -> 30.03.15 | U15: =IF(A15="","",TEXT(P15,"TT.MM.JJ")) -> 30.03.15 | W15: =IF(A15="","",B15&CHAR(10)&F15&CHAR(10)&S15&" "&I15&CHAR(10)&T15&" - "&U15) -> A122282-02 Produkt 15 457 KG 30.03.15 - 30.03.15
A16: Vor02 | B16: A122282-03 | F16: Produkt 16 | H16: 948.38 | I16: KG | O16: 42093 | P16: 42094 | S16: =IF(A16="","",TEXT(H16,"#.###.###")) -> 948 | T16: =IF(A16="","",TEXT(O16,"TT.MM.JJ")) -> 30.03.15 | U16: =IF(A16="","",TEXT(P16,"TT.MM.JJ")) -> 31.03.15 | W16: =IF(A16="","",B16&CHAR(10)&F16&CHAR(10)&S16&" "&I16&CHAR(10)&T16&" - "&U16) -> A122282-03 Produkt 16 948 KG 30.03.15 - 31.03.15
A17: Vor02 | B17: A122551-02 | F17: Produkt 17 | H17: 228.27 | I17: KG | O17: 42094 | P17: 42094 | S17: =IF(A17="","",TEXT(H17,"#.###.###")) -> 228 | T17: =IF(A17="","",TEXT(O17,"TT.MM.JJ")) -> 31.03.15 | U17: =IF(A17="","",TEXT(P17,"TT.MM.JJ")) -> 31.03.15 | W17: =IF(A17="","",B17&CHAR(10)&F17&CHAR(10)&S17&" "&I17&CHAR(10)&T17&" - "&U17) -> A122551-02 Produkt 17 228 KG 31.03.15 - 31.03.15
A18: Vor02 | B18: A122551-03 | F18: Produkt 18 | H18: 474.19 | I18: KG | O18: 42094 | P18: 42094 | S18: =IF(A18="","",TEXT(H18,"#.###.###")) -> 474 | T18: =IF(A18="","",TEXT(O18,"TT.MM.JJ")) -> 31.03.15 | U18: =IF(A18="","",TEXT(P18,"TT.MM.JJ")) -> 31.03.15 | W18: =IF(A18="","",B18&CHAR(10)&F18&CHAR(10)&S18&" "&I18&CHAR(10)&T18&" - "&U18) -> A122551-03 Produkt 18 474 KG 31.03.15 - 31.03.15
A19: Vor02 | B19: A122968-02 | F19: Produkt 19 | H19: 1896.76 | I19: KG | O19: 42094 | P19: 42095 | S19: =IF(A19="","",TEXT(H19,"#.###.###")) -> 1.897 | T19: =IF(A19="","",TEXT(O19,"TT.MM.JJ")) -> 31.03.15 | U19: =IF(A19="","",TEXT(P19,"TT.MM.JJ")) -> 01.04.15 | W19: =IF(A19="","",B19&CHAR(10)&F19&CHAR(10)&S19&" "&I19&CHAR(10)&T19&" - "&U19) -> A122968-02 Produkt 19 1.897 KG 31.03.15 - 01.04.15
A20: Vor02 | B20: A122968-01 | F20: Produkt 20 | H20: 913.08 | I20: KG | O20: 42095 | P20: 42096 | S20: =IF(A20="","",TEXT(H20,"#.###.###")) -> 913 | T20: =IF(A20="","",TEXT(O20,"TT.MM.JJ")) -> 01.04.15 | U20: =IF(A20="","",TEXT(P20,"TT.MM.JJ")) -> 02.04.15 | W20: =IF(A20="","",B20&CHAR(10)&F20&CHAR(10)&S20&" "&I20&CHAR(10)&T20&" - "&U20) -> A122968-01 Produkt 20 913 KG 01.04.15 - 02.04.15
A21: Vor02 | B21: A123138-01 | F21: Produkt 21 | H21: 1800 | I21: KG | O21: 42101 | P21: 42101 | S21: =IF(A21="","",TEXT(H21,"#.###.###")) -> 1.800 | T21: =IF(A21="","",TEXT(O21,"TT.MM.JJ")) -> 07.04.15 | U21: =IF(A21="","",TEXT(P21,"TT.MM.JJ")) -> 07.04.15 | W21: =IF(A21="","",B21&CHAR(10)&F21&CHAR(10)&S21&" "&I21&CHAR(10)&T21&" - "&U21) -> A123138-01 Produkt 21 1.800 KG 07.04.15 - 07.04.15
A22: Vor02 | B22: A122684-01 | F22: Produkt 22 | H22: 2138.4 | I22: KG | O22: 42101 | P22: 42107 | S22: =IF(A22="","",TEXT(H22,"#.###.###")) -> 2.138 | T22: =IF(A22="","",TEXT(O22,"TT.MM.JJ")) -> 07.04.15 | U22: =IF(A22="","",TEXT(P22,"TT.MM.JJ")) -> 13.04.15 | W22: =IF(A22="","",B22&CHAR(10)&F22&CHAR(10)&S22&" "&I22&CHAR(10)&T22&" - "&U22) -> A122684-01 Produkt 22 2.138 KG 07.04.15 - 13.04.15
S23: =IF(A23="","",TEXT(H23,"#.###.###")) | T23: =IF(A23="","",TEXT(O23,"TT.MM.JJ")) | U23: =IF(A23="","",TEXT(P23,"TT.MM.JJ")) | W23: =IF(A23="","",B23&CHAR(10)&F23&CHAR(10)&S23&" "&I23&CHAR(10)&T23&" - "&U23)
S24: =IF(A24="","",TEXT(H24,"#.###.###")) | T24: =IF(A24="","",TEXT(O24,"TT.MM.JJ")) | U24: =IF(A24="","",TEXT(P24,"TT.MM.JJ")) | W24: =IF(A24="","",B24&CHAR(10)&F24&CHAR(10)&S24&" "&I24&CHAR(10)&T24&" - "&U24)
A25: Vor03 | B25: A000000-00 | F25: Produkt 25 | H25: 1 | I25: KG | O25: 42055 | P25: 42057 | S25: =IF(A25="","",TEXT(H25,"#.###.###")) -> 1 | T25: =IF(A25="","",TEXT(O25,"TT.MM.JJ")) -> 20.02.15 | U25: =IF(A25="","",TEXT(P25,"TT.MM.JJ")) -> 22.02.15 | W25: =IF(A25="","",B25&CHAR(10)&F25&CHAR(10)&S25&" "&I25&CHAR(10)&T25&" - "&U25) -> A000000-00 Produkt 25 1 KG 20.02.15 - 22.02.15
A26: Vor03 | B26: A121744-03 | F26: Produkt 26 | H26: 7002.81 | I26: KG | O26: 42082 | P26: 42095 | S26: =IF(A26="","",TEXT(H26,"#.###.###")) -> 7.003 | T26: =IF(A26="","",TEXT(O26,"TT.MM.JJ")) -> 19.03.15 | U26: =IF(A26="","",TEXT(P26,"TT.MM.JJ")) -> 01.04.15 | W26: =IF(A26="","",B26&CHAR(10)&F26&CHAR(10)&S26&" "&I26&CHAR(10)&T26&" - "&U26) -> A121744-03 Produkt 26 7.003 KG 19.03.15 - 01.04.15
A27: Vor03 | B27: A123662-02 | F27: Produkt 27 | H27: 79.2 | I27: KG | O27: 42090 | P27: 42090 | S27: =IF(A27="","",TEXT(H27,"#.###.###")) -> 79 | T27: =IF(A27="","",TEXT(O27,"TT.MM.JJ")) -> 27.03.15 | U27: =IF(A27="","",TEXT(P27,"TT.MM.JJ")) -> 27.03.15 | W27: =IF(A27="","",B27&CHAR(10)&F27&CHAR(10)&S27&" "&I27&CHAR(10)&T27&" - "&U27) -> A123662-02 Produkt 27 79 KG 27.03.15 - 27.03.15
A28: Vor03 | B28: A122239-02 | F28: Produkt 28 | H28: 3326.4 | I28: KG | O28: 42093 | P28: 42095 | S28: =IF(A28="","",TEXT(H28,"#.###.###")) -> 3.326 | T28: =IF(A28="","",TEXT(O28,"TT.MM.JJ")) -> 30.03.15 | U28: =IF(A28="","",TEXT(P28,"TT.MM.JJ")) -> 01.04.15 | W28: =IF(A28="","",B28&CHAR(10)&F28&CHAR(10)&S28&" "&I28&CHAR(10)&T28&" - "&U28) -> A122239-02 Produkt 28 3.326 KG 30.03.15 - 01.04.15
A29: Vor03 | B29: A123246-03 | F29: Produkt 29 | H29: 304.47 | I29: KG | O29: 42107 | P29: 42107 | S29: =IF(A29="","",TEXT(H29,"#.###.###")) -> 304 | T29: =IF(A29="","",TEXT(O29,"TT.MM.JJ")) -> 13.04.15 | U29: =IF(A29="","",TEXT(P29,"TT.MM.JJ")) -> 13.04.15 | W29: =IF(A29="","",B29&CHAR(10)&F29&CHAR(10)&S29&" "&I29&CHAR(10)&T29&" - "&U29) -> A123246-03 Produkt 29 304 KG 13.04.15 - 13.04.15
A30: Vor03 | B30: A122981-02 | F30: Produkt 30 | H30: 1468.8 | I30: KG | O30: 42108 | P30: 42108 | S30: =IF(A30="","",TEXT(H30,"#.###.###")) -> 1.469 | T30: =IF(A30="","",TEXT(O30,"TT.MM.JJ")) -> 14.04.15 | U30: =IF(A30="","",TEXT(P30,"TT.MM.JJ")) -> 14.04.15 | W30: =IF(A30="","",B30&CHAR(10)&F30&CHAR(10)&S30&" "&I30&CHAR(10)&T30&" - "&U30) -> A122981-02 Produkt 30 1.469 KG 14.04.15 - 14.04.15
A31: Vor03 | B31: A122261-02 | F31: Produkt 31 | H31: 12178.8 | I31: KG | O31: 42114 | P31: 42137 | S31: =IF(A31="","",TEXT(H31,"#.###.###")) -> 12.179 | T31: =IF(A31="","",TEXT(O31,"TT.MM.JJ")) -> 20.04.15 | U31: =IF(A31="","",TEXT(P31,"TT.MM.JJ")) -> 13.05.15 | W31: =IF(A31="","",B31&CHAR(10)&F31&CHAR(10)&S31&" "&I31&CHAR(10)&T31&" - "&U31) -> A122261-02 Produkt 31 12.179 KG 20.04.15 - 13.05.15
A32: Vor03 | B32: A115438-02 | F32: Produkt 32 | H32: 465.5 | I32: KG | O32: 42142 | P32: 42142 | S32: =IF(A32="","",TEXT(H32,"#.###.###")) -> 466 | T32: =IF(A32="","",TEXT(O32,"TT.MM.JJ")) -> 18.05.15 | U32: =IF(A32="","",TEXT(P32,"TT.MM.JJ")) -> 18.05.15 | W32: =IF(A32="","",B32&CHAR(10)&F32&CHAR(10)&S32&" "&I32&CHAR(10)&T32&" - "&U32) -> A115438-02 Produkt 32 466 KG 18.05.15 - 18.05.15
A33: Vor03 | B33: A123359-08 | F33: Produkt 33 | H33: 476 | I33: KG | O33: 42143 | P33: 42143 | S33: =IF(A33="","",TEXT(H33,"#.###.###")) -> 476 | T33: =IF(A33="","",TEXT(O33,"TT.MM.JJ")) -> 19.05.15 | U33: =IF(A33="","",TEXT(P33,"TT.MM.JJ")) -> 19.05.15 | W33: =IF(A33="","",B33&CHAR(10)&F33&CHAR(10)&S33&" "&I33&CHAR(10)&T33&" - "&U33) -> A123359-08 Produkt 33 476 KG 19.05.15 - 19.05.15
A34: Vor03 | B34: A123359-02 | F34: Produkt 34 | H34: 952 | I34: KG | O34: 42144 | P34: 42144 | S34: =IF(A34="","",TEXT(H34,"#.###.###")) -> 952 | T34: =IF(A34="","",TEXT(O34,"TT.MM.JJ")) -> 20.05.15 | U34: =IF(A34="","",TEXT(P34,"TT.MM.JJ")) -> 20.05.15 | W34: =IF(A34="","",B34&CHAR(10)&F34&CHAR(10)&S34&" "&I34&CHAR(10)&T34&" - "&U34) -> A123359-02 Produkt 34 952 KG 20.05.15 - 20.05.15
S35: =IF(A35="","",TEXT(H35,"#.###.###")) | T35: =IF(A35="","",TEXT(O35,"TT.MM.JJ")) | U35: =IF(A35="","",TEXT(P35,"TT.MM.JJ")) | W35: =IF(A35="","",B35&CHAR(10)&F35&CHAR(10)&S35&" "&I35&CHAR(10)&T35&" - "&U35)
S36: =IF(A36="","",TEXT(H36,"#.###.###")) | T36: =IF(A36="","",TEXT(O36,"TT.MM.JJ")) | U36: =IF(A36="","",TEXT(P36,"TT.MM.JJ")) | W36: =IF(A36="","",B36&CHAR(10)&F36&CHAR(10)&S36&" "&I36&CHAR(10)&T36&" - "&U36)
A37: Vor04 | B37: A000000-00 | F37: Produkt 37 | H37: 1 | I37: KG | O37: 42055 | P37: 42057 | S37: =IF(A37="","",TEXT(H37,"#.###.###")) -> 1 | T37: =IF(A37="","",TEXT(O37,"TT.MM.JJ")) -> 20.02.15 | U37: =IF(A37="","",TEXT(P37,"TT.MM.JJ")) -> 22.02.15 | W37: =IF(A37="","",B37&CHAR(10)&F37&CHAR(10)&S37&" "&I37&CHAR(10)&T37&" - "&U37) -> A000000-00 Produkt 37 1 KG 20.02.15 - 22.02.15
A38: Vor04 | B38: A120143-02 | F38: Produkt 38 | H38: 465.5 | I38: KG | O38: 42086 | P38: 42087 | S38: =IF(A38="","",TEXT(H38,"#.###.###")) -> 466 | T38: =IF(A38="","",TEXT(O38,"TT.MM.JJ")) -> 23.03.15 | U38: =IF(A38="","",TEXT(P38,"TT.MM.JJ")) -> 24.03.15 | W38: =IF(A38="","",B38&CHAR(10)&F38&CHAR(10)&S38&" "&I38&CHAR(10)&T38&" - "&U38) -> A120143-02 Produkt 38 466 KG 23.03.15 - 24.03.15
A39: Vor04 | B39: A122727-03 | F39: Produkt 39 | H39: 501.6 | I39: KG | O39: 42086 | P39: 42088 | S39: =IF(A39="","",TEXT(H39,"#.###.###")) -> 502 | T39: =IF(A39="","",TEXT(O39,"TT.MM.JJ")) -> 23.03.15 | U39: =IF(A39="","",TEXT(P39,"TT.MM.JJ")) -> 25.03.15 | W39: =IF(A39="","",B39&CHAR(10)&F39&CHAR(10)&S39&" "&I39&CHAR(10)&T39&" - "&U39) -> A122727-03 Produkt 39 502 KG 23.03.15 - 25.03.15
A40: Vor04 | B40: A120903-02 | F40: Produkt 40 | H40: 16667.75 | I40: KG | O40: 42121 | P40: 42132 | S40: =IF(A40="","",TEXT(H40,"#.###.###")) -> 16.668 | T40: =IF(A40="","",TEXT(O40,"TT.MM.JJ")) -> 27.04.15 | U40: =IF(A40="","",TEXT(P40,"TT.MM.JJ")) -> 08.05.15 | W40: =IF(A40="","",B40&CHAR(10)&F40&CHAR(10)&S40&" "&I40&CHAR(10)&T40&" - "&U40) -> A120903-02 Produkt 40 16.668 KG 27.04.15 - 08.05.15
...

Sheet Gruppe_Vor_02
A1: Vor10 | B1: A000000-00 | F1: Produkt 1 | H1: 1 | I1: KG | O1: 42055 | P1: 42057 | S1: =IF(A1="","",TEXT(H1,"#.###.###")) -> 1 | T1: =IF(A1="","",TEXT(O1,"TT.MM.JJ")) -> 20.02.15 | U1: =IF(A1="","",TEXT(P1,"TT.MM.JJ")) -> 22.02.15 | W1: =IF(A1="","",B1&CHAR(10)&F1&CHAR(10)&S1&" "&I1&CHAR(10)&T1&" - "&U1) -> A000000-00 Produkt 1 1 KG 20.02.15 - 22.02.15
A2: Vor10 | B2: A121601-01 | F2: Produkt 2 | H2: 600.025 | I2: KG | O2: 42128 | P2: 42131 | S2: =IF(A2="","",TEXT(H2,"#.###.###")) -> 600 | T2: =IF(A2="","",TEXT(O2,"TT.MM.JJ")) -> 04.05.15 | U2: =IF(A2="","",TEXT(P2,"TT.MM.JJ")) -> 07.05.15 | W2: =IF(A2="","",B2&CHAR(10)&F2&CHAR(10)&S2&" "&I2&CHAR(10)&T2&" - "&U2) -> A121601-01 Produkt 2 600 KG 04.05.15 - 07.05.15
A3: Vor10 | B3: A121601-02 | F3: Produkt 3 | H3: 600.025 | I3: KG | O3: 42131 | P3: 42135 | S3: =IF(A3="","",TEXT(H3,"#.###.###")) -> 600 | T3: =IF(A3="","",TEXT(O3,"TT.MM.JJ")) -> 07.05.15 | U3: =IF(A3="","",TEXT(P3,"TT.MM.JJ")) -> 11.05.15 | W3: =IF(A3="","",B3&CHAR(10)&F3&CHAR(10)&S3&" "&I3&CHAR(10)&T3&" - "&U3) -> A121601-02 Produkt 3 600 KG 07.05.15 - 11.05.15
A4: Vor10 | B4: A121601-03 | F4: Produkt 4 | H4: 600.025 | I4: KG | O4: 42135 | P4: 42137 | S4: =IF(A4="","",TEXT(H4,"#.###.###")) -> 600 | T4: =IF(A4="","",TEXT(O4,"TT.MM.JJ")) -> 11.05.15 | U4: =IF(A4="","",TEXT(P4,"TT.MM.JJ")) -> 13.05.15 | W4: =IF(A4="","",B4&CHAR(10)&F4&CHAR(10)&S4&" "&I4&CHAR(10)&T4&" - "&U4) -> A121601-03 Produkt 4 600 KG 11.05.15 - 13.05.15
A5: Vor10 | B5: A121601-04 | F5: Produkt 5 | H5: 600.025 | I5: KG | O5: 42137 | P5: 42380 | S5: =IF(A5="","",TEXT(H5,"#.###.###")) -> 600 | T5: =IF(A5="","",TEXT(O5,"TT.MM.JJ")) -> 13.05.15 | U5: =IF(A5="","",TEXT(P5,"TT.MM.JJ")) -> 11.01.16 | W5: =IF(A5="","",B5&CHAR(10)&F5&CHAR(10)&S5&" "&I5&CHAR(10)&T5&" - "&U5) -> A121601-04 Produkt 5 600 KG 13.05.15 - 11.01.16
S6: =IF(A6="","",TEXT(H6,"#.###.###")) | T6: =IF(A6="","",TEXT(O6,"TT.MM.JJ")) | U6: =IF(A6="","",TEXT(P6,"TT.MM.JJ")) | W6: =IF(A6="","",B6&CHAR(10)&F6&CHAR(10)&S6&" "&I6&CHAR(10)&T6&" - "&U6)
S7: =IF(A7="","",TEXT(H7,"#.###.###")) | T7: =IF(A7="","",TEXT(O7,"TT.MM.JJ")) | U7: =IF(A7="","",TEXT(P7,"TT.MM.JJ")) | W7: =IF(A7="","",B7&CHAR(10)&F7&CHAR(10)&S7&" "&I7&CHAR(10)&T7&" - "&U7)
S8: =IF(A8="","",TEXT(H8,"#.###.###")) | T8: =IF(A8="","",TEXT(O8,"TT.MM.JJ")) | U8: =IF(A8="","",TEXT(P8,"TT.MM.JJ")) | W8: =IF(A8="","",B8&CHAR(10)&F8&CHAR(10)&S8&" "&I8&CHAR(10)&T8&" - "&U8)
S9: =IF(A9="","",TEXT(H9,"#.###.###")) | T9: =IF(A9="","",TEXT(O9,"TT.MM.JJ")) | U9: =IF(A9="","",TEXT(P9,"TT.MM.JJ")) | W9: =IF(A9="","",B9&CHAR(10)&F9&CHAR(10)&S9&" "&I9&CHAR(10)&T9&" - "&U9)
S10: =IF(A10="","",TEXT(H10,"#.###.###")) | T10: =IF(A10="","",TEXT(O10,"TT.MM.JJ")) | U10: =IF(A10="","",TEXT(P10,"TT.MM.JJ")) | W10: =IF(A10="","",B10&CHAR(10)&F10&CHAR(10)&S10&" "&I10&CHAR(10)&T10&" - "&U10)
S11: =IF(A11="","",TEXT(H11,"#.###.###")) | T11: =IF(A11="","",TEXT(O11,"TT.MM.JJ")) | U11: =IF(A11="","",TEXT(P11,"TT.MM.JJ")) | W11: =IF(A11="","",B11&CHAR(10)&F11&CHAR(10)&S11&" "&I11&CHAR(10)&T11&" - "&U11)
S12: =IF(A12="","",TEXT(H12,"#.###.###")) | T12: =IF(A12="","",TEXT(O12,"TT.MM.JJ")) | U12: =IF(A12="","",TEXT(P12,"TT.MM.JJ")) | W12: =IF(A12="","",B12&CHAR(10)&F12&CHAR(10)&S12&" "&I12&CHAR(10)&T12&" - "&U12)
A13: Vor11 | B13: A000000-00 | F13: Produkt 13 | H13: 1 | I13: KG | O13: 42055 | P13: 42057 | S13: =IF(A13="","",TEXT(H13,"#.###.###")) -> 1 | T13: =IF(A13="","",TEXT(O13,"TT.MM.JJ")) -> 20.02.15 | U13: =IF(A13="","",TEXT(P13,"TT.MM.JJ")) -> 22.02.15 | W13: =IF(A13="","",B13&CHAR(10)&F13&CHAR(10)&S13&" "&I13&CHAR(10)&T13&" - "&U13) -> A000000-00 Produkt 13 1 KG 20.02.15 - 22.02.15
A14: Vor11 | B14: A121948-01 | F14: Produkt 14 | H14: 462.15 | I14: KG | O14: 42083 | P14: 42086 | S14: =IF(A14="","",TEXT(H14,"#.###.###")) -> 462 | T14: =IF(A14="","",TEXT(O14,"TT.MM.JJ")) -> 20.03.15 | U14: =IF(A14="","",TEXT(P14,"TT.MM.JJ")) -> 23.03.15 | W14: =IF(A14="","",B14&CHAR(10)&F14&CHAR(10)&S14&" "&I14&CHAR(10)&T14&" - "&U14) -> A121948-01 Produkt 14 462 KG 20.03.15 - 23.03.15
A15: Vor11 | B15: A122456-01 | F15: Produkt 15 | H15: 218.46 | I15: KG | O15: 42087 | P15: 42087 | S15: =IF(A15="","",TEXT(H15,"#.###.###")) -> 218 | T15: =IF(A15="","",TEXT(O15,"TT.MM.JJ")) -> 24.03.15 | U15: =IF(A15="","",TEXT(P15,"TT.MM.JJ")) -> 24.03.15 | W15: =IF(A15="","",B15&CHAR(10)&F15&CHAR(10)&S15&" "&I15&CHAR(10)&T15&" - "&U15) -> A122456-01 Produkt 15 218 KG 24.03.15 - 24.03.15
A16: Vor11 | B16: A122456-04 | F16: Produkt 16 | H16: 218.46 | I16: KG | O16: 42087 | P16: 42087 | S16: =IF(A16="","",TEXT(H16,"#.###.###")) -> 218 | T16: =IF(A16="","",TEXT(O16,"TT.MM.JJ")) -> 24.03.15 | U16: =IF(A16="","",TEXT(P16,"TT.MM.JJ")) -> 24.03.15 | W16: =IF(A16="","",B16&CHAR(10)&F16&CHAR(10)&S16&" "&I16&CHAR(10)&T16&" - "&U16) -> A122456-04 Produkt 16 218 KG 24.03.15 - 24.03.15
A17: Vor11 | B17: A122858-01 | F17: Produkt 17 | H17: 759.938 | I17: KG | O17: 42088 | P17: 42089 | S17: =IF(A17="","",TEXT(H17,"#.###.###")) -> 760 | T17: =IF(A17="","",TEXT(O17,"TT.MM.JJ")) -> 25.03.15 | U17: =IF(A17="","",TEXT(P17,"TT.MM.JJ")) -> 26.03.15 | W17: =IF(A17="","",B17&CHAR(10)&F17&CHAR(10)&S17&" "&I17&CHAR(10)&T17&" - "&U17) -> A122858-01 Produkt 17 760 KG 25.03.15 - 26.03.15
A18: Vor11 | B18: A122298-01 | F18: Produkt 18 | H18: 369.72 | I18: KG | O18: 42089 | P18: 42090 | S18: =IF(A18="","",TEXT(H18,"#.###.###")) -> 370 | T18: =IF(A18="","",TEXT(O18,"TT.MM.JJ")) -> 26.03.15 | U18: =IF(A18="","",TEXT(P18,"TT.MM.JJ")) -> 27.03.15 | W18: =IF(A18="","",B18&CHAR(10)&F18&CHAR(10)&S18&" "&I18&CHAR(10)&T18&" - "&U18) -> A122298-01 Produkt 18 370 KG 26.03.15 - 27.03.15
A19: Vor11 | B19: A122493-01 | F19: Produkt 19 | H19: 1201.59 | I19: KG | O19: 42090 | P19: 42095 | S19: =IF(A19="","",TEXT(H19,"#.###.###")) -> 1.202 | T19: =IF(A19="","",TEXT(O19,"TT.MM.JJ")) -> 27.03.15 | U19: =IF(A19="","",TEXT(P19,"TT.MM.JJ")) -> 01.04.15 | W19: =IF(A19="","",B19&CHAR(10)&F19&CHAR(10)&S19&" "&I19&CHAR(10)&T19&" - "&U19) -> A122493-01 Produkt 19 1.202 KG 27.03.15 - 01.04.15
A20: Vor11 | B20: A122491-02 | F20: Produkt 20 | H20: 586.944 | I20: KG | O20: 42095 | P20: 42096 | S20: =IF(A20="","",TEXT(H20,"#.###.###")) -> 587 | T20: =IF(A20="","",TEXT(O20,"TT.MM.JJ")) -> 01.04.15 | U20: =IF(A20="","",TEXT(P20,"TT.MM.JJ")) -> 02.04.15 | W20: =IF(A20="","",B20&CHAR(10)&F20&CHAR(10)&S20&" "&I20&CHAR(10)&T20&" - "&U20) -> A122491-02 Produkt 20 587 KG 01.04.15 - 02.04.15
A21: Vor11 | B21: A122299-01 | F21: Produkt 21 | H21: 184.88 | I21: KG | O21: 42101 | P21: 42101 | S21: =IF(A21="","",TEXT(H21,"#.###.###")) -> 185 | T21: =IF(A21="","",TEXT(O21,"TT.MM.JJ")) -> 07.04.15 | U21: =IF(A21="","",TEXT(P21,"TT.MM.JJ")) -> 07.04.15 | W21: =IF(A21="","",B21&CHAR(10)&F21&CHAR(10)&S21&" "&I21&CHAR(10)&T21&" - "&U21) -> A122299-01 Produkt 21 185 KG 07.04.15 - 07.04.15
A22: Vor11 | B22: A122583-01 | F22: Produkt 22 | H22: 386.8 | I22: KG | O22: 42102 | P22: 42102 | S22: =IF(A22="","",TEXT(H22,"#.###.###")) -> 387 | T22: =IF(A22="","",TEXT(O22,"TT.MM.JJ")) -> 08.04.15 | U22: =IF(A22="","",TEXT(P22,"TT.MM.JJ")) -> 08.04.15 | W22: =IF(A22="","",B22&CHAR(10)&F22&CHAR(10)&S22&" "&I22&CHAR(10)&T22&" - "&U22) -> A122583-01 Produkt 22 387 KG 08.04.15 - 08.04.15
S23: =IF(A23="","",TEXT(H23,"#.###.###")) | T23: =IF(A23="","",TEXT(O23,"TT.MM.JJ")) | U23: =IF(A23="","",TEXT(P23,"TT.MM.JJ")) | W23: =IF(A23="","",B23&CHAR(10)&F23&CHAR(10)&S23&" "&I23&CHAR(10)&T23&" - "&U23)
S24: =IF(A24="","",TEXT(H24,"#.###.###")) | T24: =IF(A24="","",TEXT(O24,"TT.MM.JJ")) | U24: =IF(A24="","",TEXT(P24,"TT.MM.JJ")) | W24: =IF(A24="","",B24&CHAR(10)&F24&CHAR(10)&S24&" "&I24&CHAR(10)&T24&" - "&U24)
A25: Vor12 | B25: A000000-00 | F25: Produkt 25 | H25: 1 | I25: KG | O25: 42055 | P25: 42057 | S25: =IF(A25="","",TEXT(H25,"#.###.###")) -> 1 | T25: =IF(A25="","",TEXT(O25,"TT.MM.JJ")) -> 20.02.15 | U25: =IF(A25="","",TEXT(P25,"TT.MM.JJ")) -> 22.02.15 | W25: =IF(A25="","",B25&CHAR(10)&F25&CHAR(10)&S25&" "&I25&CHAR(10)&T25&" - "&U25) -> A000000-00 Produkt 25 1 KG 20.02.15 - 22.02.15
A26: Vor12 | B26: A121618-01 | F26: Produkt 26 | H26: 612 | I26: KG | O26: 42093 | P26: 42094 | S26: =IF(A26="","",TEXT(H26,"#.###.###")) -> 612 | T26: =IF(A26="","",TEXT(O26,"TT.MM.JJ")) -> 30.03.15 | U26: =IF(A26="","",TEXT(P26,"TT.MM.JJ")) -> 31.03.15 | W26: =IF(A26="","",B26&CHAR(10)&F26&CHAR(10)&S26&" "&I26&CHAR(10)&T26&" - "&U26) -> A121618-01 Produkt 26 612 KG 30.03.15 - 31.03.15
A27: Vor12 | B27: A122359-02 | F27: Produkt 27 | H27: 810 | I27: KG | O27: 42095 | P27: 42101 | S27: =IF(A27="","",TEXT(H27,"#.###.###")) -> 810 | T27: =IF(A27="","",TEXT(O27,"TT.MM.JJ")) -> 01.04.15 | U27: =IF(A27="","",TEXT(P27,"TT.MM.JJ")) -> 07.04.15 | W27: =IF(A27="","",B27&CHAR(10)&F27&CHAR(10)&S27&" "&I27&CHAR(10)&T27&" - "&U27) -> A122359-02 Produkt 27 810 KG 01.04.15 - 07.04.15
A28: Vor12 | B28: A121593-01 | F28: Produkt 28 | H28: 3456 | I28: KG | O28: 42102 | P28: 42104 | S28: =IF(A28="","",TEXT(H28,"#.###.###")) -> 3.456 | T28: =IF(A28="","",TEXT(O28,"TT.MM.JJ")) -> 08.04.15 | U28: =IF(A28="","",TEXT(P28,"TT.MM.JJ")) -> 10.04.15 | W28: =IF(A28="","",B28&CHAR(10)&F28&CHAR(10)&S28&" "&I28&CHAR(10)&T28&" - "&U28) -> A121593-01 Produkt 28 3.456 KG 08.04.15 - 10.04.15
A29: Vor12 | B29: A122231-01 | F29: Produkt 29 | H29: 7344 | I29: KG | O29: 42104 | P29: 42115 | S29: =IF(A29="","",TEXT(H29,"#.###.###")) -> 7.344 | T29: =IF(A29="","",TEXT(O29,"TT.MM.JJ")) -> 10.04.15 | U29: =IF(A29="","",TEXT(P29,"TT.MM.JJ")) -> 21.04.15 | W29: =IF(A29="","",B29&CHAR(10)&F29&CHAR(10)&S29&" "&I29&CHAR(10)&T29&" - "&U29) -> A122231-01 Produkt 29 7.344 KG 10.04.15 - 21.04.15
A30: Vor12 | B30: A123653-01 | F30: Produkt 30 | H30: 328.5 | I30: KG | O30: 42116 | P30: 42116 | S30: =IF(A30="","",TEXT(H30,"#.###.###")) -> 329 | T30: =IF(A30="","",TEXT(O30,"TT.MM.JJ")) -> 22.04.15 | U30: =IF(A30="","",TEXT(P30,"TT.MM.JJ")) -> 22.04.15 | W30: =IF(A30="","",B30&CHAR(10)&F30&CHAR(10)&S30&" "&I30&CHAR(10)&T30&" - "&U30) -> A123653-01 Produkt 30 329 KG 22.04.15 - 22.04.15
A31: Vor12 | B31: A122590-01 | F31: Produkt 31 | H31: 985.5 | I31: KG | O31: 42116 | P31: 42118 | S31: =IF(A31="","",TEXT(H31,"#.###.###")) -> 986 | T31: =IF(A31="","",TEXT(O31,"TT.MM.JJ")) -> 22.04.15 | U31: =IF(A31="","",TEXT(P31,"TT.MM.JJ")) -> 24.04.15 | W31: =IF(A31="","",B31&CHAR(10)&F31&CHAR(10)&S31&" "&I31&CHAR(10)&T31&" - "&U31) -> A122590-01 Produkt 31 986 KG 22.04.15 - 24.04.15
A32: Vor12 | B32: A121732-01 | F32: Produkt 32 | H32: 714 | I32: KG | O32: 42128 | P32: 42129 | S32: =IF(A32="","",TEXT(H32,"#.###.###")) -> 714 | T32: =IF(A32="","",TEXT(O32,"TT.MM.JJ")) -> 04.05.15 | U32: =IF(A32="","",TEXT(P32,"TT.MM.JJ")) -> 05.05.15 | W32: =IF(A32="","",B32&CHAR(10)&F32&CHAR(10)&S32&" "&I32&CHAR(10)&T32&" - "&U32) -> A121732-01 Produkt 32 714 KG 04.05.15 - 05.05.15
A33: Vor12 | B33: A123397-01 | F33: Produkt 33 | H33: 1080 | I33: KG | O33: 42130 | P33: 42132 | S33: =IF(A33="","",TEXT(H33,"#.###.###")) -> 1.080 | T33: =IF(A33="","",TEXT(O33,"TT.MM.JJ")) -> 06.05.15 | U33: =IF(A33="","",TEXT(P33,"TT.MM.JJ")) -> 08.05.15 | W33: =IF(A33="","",B33&CHAR(10)&F33&CHAR(10)&S33&" "&I33&CHAR(10)&T33&" - "&U33) -> A123397-01 Produkt 33 1.080 KG 06.05.15 - 08.05.15
A34: Vor12 | B34: A123151-01 | F34: Produkt 34 | H34: 657 | I34: KG | O34: 42135 | P34: 42136 | S34: =IF(A34="","",TEXT(H34,"#.###.###")) -> 657 | T34: =IF(A34="","",TEXT(O34,"TT.MM.JJ")) -> 11.05.15 | U34: =IF(A34="","",TEXT(P34,"TT.MM.JJ")) -> 12.05.15 | W34: =IF(A34="","",B34&CHAR(10)&F34&CHAR(10)&S34&" "&I34&CHAR(10)&T34&" - "&U34) -> A123151-01 Produkt 34 657 KG 11.05.15 - 12.05.15
S35: =IF(A35="","",TEXT(H35,"#.###.###")) | T35: =IF(A35="","",TEXT(O35,"TT.MM.JJ")) | U35: =IF(A35="","",TEXT(P35,"TT.MM.JJ")) | W35: =IF(A35="","",B35&CHAR(10)&F35&CHAR(10)&S35&" "&I35&CHAR(10)&T35&" - "&U35)
S36: =IF(A36="","",TEXT(H36,"#.###.###")) | T36: =IF(A36="","",TEXT(O36,"TT.MM.JJ")) | U36: =IF(A36="","",TEXT(P36,"TT.MM.JJ")) | W36: =IF(A36="","",B36&CHAR(10)&F36&CHAR(10)&S36&" "&I36&CHAR(10)&T36&" - "&U36)
A37: Vor13 | B37: A000000-00 | F37: Produkt 37 | H37: 1 | I37: KG | O37: 42055 | P37: 42057 | S37: =IF(A37="","",TEXT(H37,"#.###.###")) -> 1 | T37: =IF(A37="","",TEXT(O37,"TT.MM.JJ")) -> 20.02.15 | U37: =IF(A37="","",TEXT(P37,"TT.MM.JJ")) -> 22.02.15 | W37: =IF(A37="","",B37&CHAR(10)&F37&CHAR(10)&S37&" "&I37&CHAR(10)&T37&" - "&U37) -> A000000-00 Produkt 37 1 KG 20.02.15 - 22.02.15
A38: Vor13 | B38: A121591-01 | F38: Produkt 38 | H38: 301.5 | I38: KG | O38: 42086 | P38: 42086 | S38: =IF(A38="","",TEXT(H38,"#.###.###")) -> 302 | T38: =IF(A38="","",TEXT(O38,"TT.MM.JJ")) -> 23.03.15 | U38: =IF(A38="","",TEXT(P38,"TT.MM.JJ")) -> 23.03.15 | W38: =IF(A38="","",B38&CHAR(10)&F38&CHAR(10)&S38&" "&I38&CHAR(10)&T38&" - "&U38) -> A121591-01 Produkt 38 302 KG 23.03.15 - 23.03.15
A39: Vor13 | B39: A122247-01 | F39: Produkt 39 | H39: 340.5 | I39: KG | O39: 42086 | P39: 42087 | S39: =IF(A39="","",TEXT(H39,"#.###.###")) -> 341 | T39: =IF(A39="","",TEXT(O39,"TT.MM.JJ")) -> 23.03.15 | U39: =IF(A39="","",TEXT(P39,"TT.MM.JJ")) -> 24.03.15 | W39: =IF(A39="","",B39&CHAR(10)&F39&CHAR(10)&S39&" "&I39&CHAR(10)&T39&" - "&U39) -> A122247-01 Produkt 39 341 KG 23.03.15 - 24.03.15
A40: Vor13 | B40: A122727-04 | F40: Produkt 40 | H40: 511.2 | I40: KG | O40: 42088 | P40: 42089 | S40: =IF(A40="","",TEXT(H40,"#.###.###")) -> 511 | T40: =IF(A40="","",TEXT(O40,"TT.MM.JJ")) -> 25.03.15 | U40: =IF(A40="","",TEXT(P40,"TT.MM.JJ")) -> 26.03.15 | W40: =IF(A40="","",B40&CHAR(10)&F40&CHAR(10)&S40&" "&I40&CHAR(10)&T40&" - "&U40) -> A122727-04 Produkt 40 511 KG 25.03.15 - 26.03.15
...

Sheet Gruppe_Vor_03
A1: Vor20 | B1: A000000-00 | F1: Produkt 1 | H1: 1 | I1: KG | O1: 42055 | P1: 42057 | S1: =IF(A1="","",TEXT(H1,"#.###.###")) -> 1 | T1: =IF(A1="","",TEXT(O1,"TT.MM.JJ")) -> 20.02.15 | U1: =IF(A1="","",TEXT(P1,"TT.MM.JJ")) -> 22.02.15 | W1: =IF(A1="","",B1&CHAR(10)&F1&CHAR(10)&S1&" "&I1&CHAR(10)&T1&" - "&U1) -> A000000-00 Produkt 1 1 KG 20.02.15 - 22.02.15
A2: Vor20 | B2: A122568-01 | F2: Produkt 2 | H2: 723 | I2: KG | O2: 42102 | P2: 42102 | S2: =IF(A2="","",TEXT(H2,"#.###.###")) -> 723 | T2: =IF(A2="","",TEXT(O2,"TT.MM.JJ")) -> 08.04.15 | U2: =IF(A2="","",TEXT(P2,"TT.MM.JJ")) -> 08.04.15 | W2: =IF(A2="","",B2&CHAR(10)&F2&CHAR(10)&S2&" "&I2&CHAR(10)&T2&" - "&U2) -> A122568-01 Produkt 2 723 KG 08.04.15 - 08.04.15
A3: Vor20 | B3: A122912-01 | F3: Produkt 3 | H3: 357.885 | I3: KG | O3: 42103 | P3: 42103 | S3: =IF(A3="","",TEXT(H3,"#.###.###")) -> 358 | T3: =IF(A3="","",TEXT(O3,"TT.MM.JJ")) -> 09.04.15 | U3: =IF(A3="","",TEXT(P3,"TT.MM.JJ")) -> 09.04.15 | W3: =IF(A3="","",B3&CHAR(10)&F3&CHAR(10)&S3&" "&I3&CHAR(10)&T3&" - "&U3) -> A122912-01 Produkt 3 358 KG 09.04.15 - 09.04.15
A4: Vor20 | B4: A123387-01 | F4: Produkt 4 | H4: 642.6 | I4: KG | O4: 42122 | P4: 42124 | S4: =IF(A4="","",TEXT(H4,"#.###.###")) -> 643 | T4: =IF(A4="","",TEXT(O4,"TT.MM.JJ")) -> 28.04.15 | U4: =IF(A4="","",TEXT(P4,"TT.MM.JJ")) -> 30.04.15 | W4: =IF(A4="","",B4&CHAR(10)&F4&CHAR(10)&S4&" "&I4&CHAR(10)&T4&" - "&U4) -> A123387-01 Produkt 4 643 KG 28.04.15 - 30.04.15
A5: Vor20 | B5: A123115-01 | F5: Produkt 5 | H5: 3200 | I5: KG | O5: 42150 | P5: 42151 | S5: =IF(A5="","",TEXT(H5,"#.###.###")) -> 3.200 | T5: =IF(A5="","",TEXT(O5,"TT.MM.JJ")) -> 26.05.15 | U5: =IF(A5="","",TEXT(P5,"TT.MM.JJ")) -> 27.05.15 | W5: =IF(A5="","",B5&CHAR(10)&F5&CHAR(10)&S5&" "&I5&CHAR(10)&T5&" - "&U5) -> A123115-01 Produkt 5 3.200 KG 26.05.15 - 27.05.15
S6: =IF(A6="","",TEXT(H6,"#.###.###")) | T6: =IF(A6="","",TEXT(O6,"TT.MM.JJ")) | U6: =IF(A6="","",TEXT(P6,"TT.MM.JJ")) | W6: =IF(A6="","",B6&CHAR(10)&F6&CHAR(10)&S6&" "&I6&CHAR(10)&T6&" - "&U6)
S7: =IF(A7="","",TEXT(H7,"#.###.###")) | T7: =IF(A7="","",TEXT(O7,"TT.MM.JJ")) | U7: =IF(A7="","",TEXT(P7,"TT.MM.JJ")) | W7: =IF(A7="","",B7&CHAR(10)&F7&CHAR(10)&S7&" "&I7&CHAR(10)&T7&" - "&U7)
S8: =IF(A8="","",TEXT(H8,"#.###.###")) | T8: =IF(A8="","",TEXT(O8,"TT.MM.JJ")) | U8: =IF(A8="","",TEXT(P8,"TT.MM.JJ")) | W8: =IF(A8="","",B8&CHAR(10)&F8&CHAR(10)&S8&" "&I8&CHAR(10)&T8&" - "&U8)
S9: =IF(A9="","",TEXT(H9,"#.###.###")) | T9: =IF(A9="","",TEXT(O9,"TT.MM.JJ")) | U9: =IF(A9="","",TEXT(P9,"TT.MM.JJ")) | W9: =IF(A9="","",B9&CHAR(10)&F9&CHAR(10)&S9&" "&I9&CHAR(10)&T9&" - "&U9)
S10: =IF(A10="","",TEXT(H10,"#.###.###")) | T10: =IF(A10="","",TEXT(O10,"TT.MM.JJ")) | U10: =IF(A10="","",TEXT(P10,"TT.MM.JJ")) | W10: =IF(A10="","",B10&CHAR(10)&F10&CHAR(10)&S10&" "&I10&CHAR(10)&T10&" - "&U10)
S11: =IF(A11="","",TEXT(H11,"#.###.###")) | T11: =IF(A11="","",TEXT(O11,"TT.MM.JJ")) | U11: =IF(A11="","",TEXT(P11,"TT.MM.JJ")) | W11: =IF(A11="","",B11&CHAR(10)&F11&CHAR(10)&S11&" "&I11&CHAR(10)&T11&" - "&U11)
S12: =IF(A12="","",TEXT(H12,"#.###.###")) | T12: =IF(A12="","",TEXT(O12,"TT.MM.JJ")) | U12: =IF(A12="","",TEXT(P12,"TT.MM.JJ")) | W12: =IF(A12="","",B12&CHAR(10)&F12&CHAR(10)&S12&" "&I12&CHAR(10)&T12&" - "&U12)
A13: Vor21 | B13: A000000-00 | F13: Produkt 13 | H13: 1 | I13: KG | O13: 42055 | P13: 42057 | S13: =IF(A13="","",TEXT(H13,"#.###.###")) -> 1 | T13: =IF(A13="","",TEXT(O13,"TT.MM.JJ")) -> 20.02.15 | U13: =IF(A13="","",TEXT(P13,"TT.MM.JJ")) -> 22.02.15 | W13: =IF(A13="","",B13&CHAR(10)&F13&CHAR(10)&S13&" "&I13&CHAR(10)&T13&" - "&U13) -> A000000-00 Produkt 13 1 KG 20.02.15 - 22.02.15
A14: Vor21 | B14: A122505-01 | F14: Produkt 14 | H14: 2327.5 | I14: KG | O14: 42076 | P14: 42082 | S14: =IF(A14="","",TEXT(H14,"#.###.###")) -> 2.328 | T14: =IF(A14="","",TEXT(O14,"TT.MM.JJ")) -> 13.03.15 | U14: =IF(A14="","",TEXT(P14,"TT.MM.JJ")) -> 19.03.15 | W14: =IF(A14="","",B14&CHAR(10)&F14&CHAR(10)&S14&" "&I14&CHAR(10)&T14&" - "&U14) -> A122505-01 Produkt 14 2.328 KG 13.03.15 - 19.03.15
A15: Vor21 | B15: A122174-01 | F15: Produkt 15 | H15: 1862 | I15: KG | O15: 42080 | P15: 42083 | S15: =IF(A15="","",TEXT(H15,"#.###.###")) -> 1.862 | T15: =IF(A15="","",TEXT(O15,"TT.MM.JJ")) -> 17.03.15 | U15: =IF(A15="","",TEXT(P15,"TT.MM.JJ")) -> 20.03.15 | W15: =IF(A15="","",B15&CHAR(10)&F15&CHAR(10)&S15&" "&I15&CHAR(10)&T15&" - "&U15) -> A122174-01 Produkt 15 1.862 KG 17.03.15 - 20.03.15
A16: Vor21 | B16: A122179-01 | F16: Produkt 16 | H16: 931 | I16: KG | O16: 42081 | P16: 42082 | S16: =IF(A16="","",TEXT(H16,"#.###.###")) -> 931 | T16: =IF(A16="","",TEXT(O16,"TT.MM.JJ")) -> 18.03.15 | U16: =IF(A16="","",TEXT(P16,"TT.MM.JJ")) -> 19.03.15 | W16: =IF(A16="","",B16&CHAR(10)&F16&CHAR(10)&S16&" "&I16&CHAR(10)&T16&" - "&U16) -> A122179-01 Produkt 16 931 KG 18.03.15 - 19.03.15
A17: Vor21 | B17: A122586-01 | F17: Produkt 17 | H17: 465.5 | I17: KG | O17: 42102 | P17: 42104 | S17: =IF(A17="","",TEXT(H17,"#.###.###")) -> 466 | T17: =IF(A17="","",TEXT(O17,"TT.MM.JJ")) -> 08.04.15 | U17: =IF(A17="","",TEXT(P17,"TT.MM.JJ")) -> 10.04.15 | W17: =IF(A17="","",B17&CHAR(10)&F17&CHAR(10)&S17&" "&I17&CHAR(10)&T17&" - "&U17) -> A122586-01 Produkt 17 466 KG 08.04.15 - 10.04.15
A18: Vor21 | B18: A122504-01 | F18: Produkt 18 | H18: 1862 | I18: KG | O18: 42108 | P18: 42111 | S18: =IF(A18="","",TEXT(H18,"#.###.###")) -> 1.862 | T18: =IF(A18="","",TEXT(O18,"TT.MM.JJ")) -> 14.04.15 | U18: =IF(A18="","",TEXT(P18,"TT.MM.JJ")) -> 17.04.15 | W18: =IF(A18="","",B18&CHAR(10)&F18&CHAR(10)&S18&" "&I18&CHAR(10)&T18&" - "&U18) -> A122504-01 Produkt 18 1.862 KG 14.04.15 - 17.04.15
A19: Vor21 | B19: A122615-01 | F19: Produkt 19 | H19: 931 | I19: KG | O19: 42121 | P19: 42122 | S19: =IF(A19="","",TEXT(H19,"#.###.###")) -> 931 | T19: =IF(A19="","",TEXT(O19,"TT.MM.JJ")) -> 27.04.15 | U19: =IF(A19="","",TEXT(P19,"TT.MM.JJ")) -> 28.04.15 | W19: =IF(A19="","",B19&CHAR(10)&F19&CHAR(10)&S19&" "&I19&CHAR(10)&T19&" - "&U19) -> A122615-01 Produkt 19 931 KG 27.04.15 - 28.04.15
A20: Vor21 | B20: A122588-01 | F20: Produkt 20 | H20: 4177.555 | I20: KG | O20: 42128 | P20: 42130 | S20: =IF(A20="","",TEXT(H20,"#.###.###")) -> 4.178 | T20: =IF(A20="","",TEXT(O20,"TT.MM.JJ")) -> 04.05.15 | U20: =IF(A20="","",TEXT(P20,"TT.MM.JJ")) -> 06.05.15 | W20: =IF(A20="","",B20&CHAR(10)&F20&CHAR(10)&S20&" "&I20&CHAR(10)&T20&" - "&U20) -> A122588-01 Produkt 20 4.178 KG 04.05.15 - 06.05.15
S21: =IF(A21="","",TEXT(H21,"#.###.###")) | T21: =IF(A21="","",TEXT(O21,"TT.MM.JJ")) | U21: =IF(A21="","",TEXT(P21,"TT.MM.JJ")) | W21: =IF(A21="","",B21&CHAR(10)&F21&CHAR(10)&S21&" "&I21&CHAR(10)&T21&" - "&U21)
S22: =IF(A22="","",TEXT(H22,"#.###.###")) | T22: =IF(A22="","",TEXT(O22,"TT.MM.JJ")) | U22: =IF(A22="","",TEXT(P22,"TT.MM.JJ")) | W22: =IF(A22="","",B22&CHAR(10)&F22&CHAR(10)&S22&" "&I22&CHAR(10)&T22&" - "&U22)
S23: =IF(A23="","",TEXT(H23,"#.###.###")) | T23: =IF(A23="","",TEXT(O23,"TT.MM.JJ")) | U23: =IF(A23="","",TEXT(P23,"TT.MM.JJ")) | W23: =IF(A23="","",B23&CHAR(10)&F23&CHAR(10)&S23&" "&I23&CHAR(10)&T23&" - "&U23)
S24: =IF(A24="","",TEXT(H24,"#.###.###")) | T24: =IF(A24="","",TEXT(O24,"TT.MM.JJ")) | U24: =IF(A24="","",TEXT(P24,"TT.MM.JJ")) | W24: =IF(A24="","",B24&CHAR(10)&F24&CHAR(10)&S24&" "&I24&CHAR(10)&T24&" - "&U24)
A25: Vor22 | B25: A000000-00 | F25: Produkt 25 | H25: 1 | I25: KG | O25: 42055 | P25: 42057 | S25: =IF(A25="","",TEXT(H25,"#.###.###")) -> 1 | T25: =IF(A25="","",TEXT(O25,"TT.MM.JJ")) -> 20.02.15 | U25: =IF(A25="","",TEXT(P25,"TT.MM.JJ")) -> 22.02.15 | W25: =IF(A25="","",B25&CHAR(10)&F25&CHAR(10)&S25&" "&I25&CHAR(10)&T25&" - "&U25) -> A000000-00 Produkt 25 1 KG 20.02.15 - 22.02.15
A26: Vor22 | B26: A121534-07 | F26: Produkt 26 | H26: 4680 | I26: KG | O26: 42072 | P26: 42072 | S26: =IF(A26="","",TEXT(H26,"#.###.###")) -> 4.680 | T26: =IF(A26="","",TEXT(O26,"TT.MM.JJ")) -> 09.03.15 | U26: =IF(A26="","",TEXT(P26,"TT.MM.JJ")) -> 09.03.15 | W26: =IF(A26="","",B26&CHAR(10)&F26&CHAR(10)&S26&" "&I26&CHAR(10)&T26&" - "&U26) -> A121534-07 Produkt 26 4.680 KG 09.03.15 - 09.03.15
A27: Vor22 | B27: A121662-04 | F27: Produkt 27 | H27: 13000 | I27: KG | O27: 42075 | P27: 42079 | S27: =IF(A27="","",TEXT(H27,"#.###.###")) -> 13.000 | T27: =IF(A27="","",TEXT(O27,"TT.MM.JJ")) -> 12.03.15 | U27: =IF(A27="","",TEXT(P27,"TT.MM.JJ")) -> 16.03.15 | W27: =IF(A27="","",B27&CHAR(10)&F27&CHAR(10)&S27&" "&I27&CHAR(10)&T27&" - "&U27) -> A121662-04 Produkt 27 13.000 KG 12.03.15 - 16.03.15
A28: Vor22 | B28: A121662-07 | F28: Produkt 28 | H28: 15000 | I28: KG | O28: 42080 | P28: 42082 | S28: =IF(A28="","",TEXT(H28,"#.###.###")) -> 15.000 | T28: =IF(A28="","",TEXT(O28,"TT.MM.JJ")) -> 17.03.15 | U28: =IF(A28="","",TEXT(P28,"TT.MM.JJ")) -> 19.03.15 | W28: =IF(A28="","",B28&CHAR(10)&F28&CHAR(10)&S28&" "&I28&CHAR(10)&T28&" - "&U28) -> A121662-07 Produkt 28 15.000 KG 17.03.15 - 19.03.15
A29: Vor22 | B29: A122144-01 | F29: Produkt 29 | H29: 6696 | I29: KG | O29: 42086 | P29: 42086 | S29: =IF(A29="","",TEXT(H29,"#.###.###")) -> 6.696 | T29: =IF(A29="","",TEXT(O29,"TT.MM.JJ")) -> 23.03.15 | U29: =IF(A29="","",TEXT(P29,"TT.MM.JJ")) -> 23.03.15 | W29: =IF(A29="","",B29&CHAR(10)&F29&CHAR(10)&S29&" "&I29&CHAR(10)&T29&" - "&U29) -> A122144-01 Produkt 29 6.696 KG 23.03.15 - 23.03.15
A30: Vor22 | B30: A122763-01 | F30: Produkt 30 | H30: 6696 | I30: KG | O30: 42089 | P30: 42089 | S30: =IF(A30="","",TEXT(H30,"#.###.###")) -> 6.696 | T30: =IF(A30="","",TEXT(O30,"TT.MM.JJ")) -> 26.03.15 | U30: =IF(A30="","",TEXT(P30,"TT.MM.JJ")) -> 26.03.15 | W30: =IF(A30="","",B30&CHAR(10)&F30&CHAR(10)&S30&" "&I30&CHAR(10)&T30&" - "&U30) -> A122763-01 Produkt 30 6.696 KG 26.03.15 - 26.03.15
A31: Vor22 | B31: A121663-01 | F31: Produkt 31 | H31: 15000 | I31: KG | O31: 42107 | P31: 42108 | S31: =IF(A31="","",TEXT(H31,"#.###.###")) -> 15.000 | T31: =IF(A31="","",TEXT(O31,"TT.MM.JJ")) -> 13.04.15 | U31: =IF(A31="","",TEXT(P31,"TT.MM.JJ")) -> 14.04.15 | W31: =IF(A31="","",B31&CHAR(10)&F31&CHAR(10)&S31&" "&I31&CHAR(10)&T31&" - "&U31) -> A121663-01 Produkt 31 15.000 KG 13.04.15 - 14.04.15
A32: Vor22 | B32: A121654-01 | F32: Produkt 32 | H32: 6000 | I32: KG | O32: 42108 | P32: 42108 | S32: =IF(A32="","",TEXT(H32,"#.###.###")) -> 6.000 | T32: =IF(A32="","",TEXT(O32,"TT.MM.JJ")) -> 14.04.15 | U32: =IF(A32="","",TEXT(P32,"TT.MM.JJ")) -> 14.04.15 | W32: =IF(A32="","",B32&CHAR(10)&F32&CHAR(10)&S32&" "&I32&CHAR(10)&T32&" - "&U32) -> A121654-01 Produkt 32 6.000 KG 14.04.15 - 14.04.15
A33: Vor22 | B33: A121663-04 | F33: Produkt 33 | H33: 15000 | I33: KG | O33: 42109 | P33: 42110 | S33: =IF(A33="","",TEXT(H33,"#.###.###")) -> 15.000 | T33: =IF(A33="","",TEXT(O33,"TT.MM.JJ")) -> 15.04.15 | U33: =IF(A33="","",TEXT(P33,"TT.MM.JJ")) -> 16.04.15 | W33: =IF(A33="","",B33&CHAR(10)&F33&CHAR(10)&S33&" "&I33&CHAR(10)&T33&" - "&U33) -> A121663-04 Produkt 33 15.000 KG 15.04.15 - 16.04.15
A34: Vor22 | B34: A121663-07 | F34: Produkt 34 | H34: 15000 | I34: KG | O34: 42115 | P34: 42117 | S34: =IF(A34="","",TEXT(H34,"#.###.###")) -> 15.000 | T34: =IF(A34="","",TEXT(O34,"TT.MM.JJ")) -> 21.04.15 | U34: =IF(A34="","",TEXT(P34,"TT.MM.JJ")) -> 23.04.15 | W34: =IF(A34="","",B34&CHAR(10)&F34&CHAR(10)&S34&" "&I34&CHAR(10)&T34&" - "&U34) -> A121663-07 Produkt 34 15.000 KG 21.04.15 - 23.04.15
S35: =IF(A35="","",TEXT(H35,"#.###.###")) | T35: =IF(A35="","",TEXT(O35,"TT.MM.JJ")) | U35: =IF(A35="","",TEXT(P35,"TT.MM.JJ")) | W35: =IF(A35="","",B35&CHAR(10)&F35&CHAR(10)&S35&" "&I35&CHAR(10)&T35&" - "&U35)
S36: =IF(A36="","",TEXT(H36,"#.###.###")) | T36: =IF(A36="","",TEXT(O36,"TT.MM.JJ")) | U36: =IF(A36="","",TEXT(P36,"TT.MM.JJ")) | W36: =IF(A36="","",B36&CHAR(10)&F36&CHAR(10)&S36&" "&I36&CHAR(10)&T36&" - "&U36)
A37: Vor23 | B37: A000000-00 | F37: Produkt 37 | H37: 1 | I37: KG | O37: 42055 | P37: 42057 | S37: =IF(A37="","",TEXT(H37,"#.###.###")) -> 1 | T37: =IF(A37="","",TEXT(O37,"TT.MM.JJ")) -> 20.02.15 | U37: =IF(A37="","",TEXT(P37,"TT.MM.JJ")) -> 22.02.15 | W37: =IF(A37="","",B37&CHAR(10)&F37&CHAR(10)&S37&" "&I37&CHAR(10)&T37&" - "&U37) -> A000000-00 Produkt 37 1 KG 20.02.15 - 22.02.15
A38: Vor23 | B38: A121744-02 | F38: Produkt 38 | H38: 7611.75 | I38: KG | O38: 42075 | P38: 42083 | S38: =IF(A38="","",TEXT(H38,"#.###.###")) -> 7.612 | T38: =IF(A38="","",TEXT(O38,"TT.MM.JJ")) -> 12.03.15 | U38: =IF(A38="","",TEXT(P38,"TT.MM.JJ")) -> 20.03.15 | W38: =IF(A38="","",B38&CHAR(10)&F38&CHAR(10)&S38&" "&I38&CHAR(10)&T38&" - "&U38) -> A121744-02 Produkt 38 7.612 KG 12.03.15 - 20.03.15
A39: Vor23 | B39: A122727-02 | F39: Produkt 39 | H39: 501.6 | I39: KG | O39: 42086 | P39: 42086 | S39: =IF(A39="","",TEXT(H39,"#.###.###")) -> 502 | T39: =IF(A39="","",TEXT(O39,"TT.MM.JJ")) -> 23.03.15 | U39: =IF(A39="","",TEXT(P39,"TT.MM.JJ")) -> 23.03.15 | W39: =IF(A39="","",B39&CHAR(10)&F39&CHAR(10)&S39&" "&I39&CHAR(10)&T39&" - "&U39) -> A122727-02 Produkt 39 502 KG 23.03.15 - 23.03.15
A40: Vor23 | B40: A123246-02 | F40: Produkt 40 | H40: 304.47 | I40: KG | O40: 42107 | P40: 42107 | S40: =IF(A40="","",TEXT(H40,"#.###.###")) -> 304 | T40: =IF(A40="","",TEXT(O40,"TT.MM.JJ")) -> 13.04.15 | U40: =IF(A40="","",TEXT(P40,"TT.MM.JJ")) -> 13.04.15 | W40: =IF(A40="","",B40&CHAR(10)&F40&CHAR(10)&S40&" "&I40&CHAR(10)&T40&" - "&U40) -> A123246-02 Produkt 40 304 KG 13.04.15 - 13.04.15
...

Sheet Gruppe_Msch_kl
A1: Msch01 | B1: A000000-00 | F1: Produkt1 | H1: 1 | I1: ST | O1: 42055 | P1: 42057 | S1: =TEXT(H1,"#.###.###") -> 1 | T1: =TEXT(O1,"TT.MM.JJ") -> 20.02.15 | U1: =TEXT(P1,"TT.MM.JJ") -> 22.02.15 | W1: =IF(A1="","",B1&CHAR(10)&F1&CHAR(10)&S1&" "&I1&CHAR(10)&T1&" - "&U1) -> A000000-00 Produkt1 1 ST 20.02.15 - 22.02.15
A2: Msch01 | B2: A121540-03 | F2: Produkt2 | H2: 16898 | I2: ST | O2: 42082 | P2: 42086 | S2: =TEXT(H2,"#.###.###") -> 16.898 | T2: =TEXT(O2,"TT.MM.JJ") -> 19.03.15 | U2: =TEXT(P2,"TT.MM.JJ") -> 23.03.15 | W2: =IF(A2="","",B2&CHAR(10)&F2&CHAR(10)&S2&" "&I2&CHAR(10)&T2&" - "&U2) -> A121540-03 Produkt2 16.898 ST 19.03.15 - 23.03.15
A3: Msch01 | B3: A121997-03 | F3: Produkt3 | H3: 2500000 | I3: ST | O3: 42086 | P3: 42088 | S3: =TEXT(H3,"#.###.###") -> 2.500.000 | T3: =TEXT(O3,"TT.MM.JJ") -> 23.03.15 | U3: =TEXT(P3,"TT.MM.JJ") -> 25.03.15 | W3: =IF(A3="","",B3&CHAR(10)&F3&CHAR(10)&S3&" "&I3&CHAR(10)&T3&" - "&U3) -> A121997-03 Produkt3 2.500.000 ST 23.03.15 - 25.03.15
A4: Msch01 | B4: A122172-03 | F4: Produkt4 | H4: 1050000 | I4: ST | O4: 42086 | P4: 42088 | S4: =TEXT(H4,"#.###.###") -> 1.050.000 | T4: =TEXT(O4,"TT.MM.JJ") -> 23.03.15 | U4: =TEXT(P4,"TT.MM.JJ") -> 25.03.15 | W4: =IF(A4="","",B4&CHAR(10)&F4&CHAR(10)&S4&" "&I4&CHAR(10)&T4&" - "&U4) -> A122172-03 Produkt4 1.050.000 ST 23.03.15 - 25.03.15
A5: Msch01 | B5: A122247-03 | F5: Produkt5 | H5: 1000000 | I5: ST | O5: 42089 | P5: 42090 | S5: =TEXT(H5,"#.###.###") -> 1.000.000 | T5: =TEXT(O5,"TT.MM.JJ") -> 26.03.15 | U5: =TEXT(P5,"TT.MM.JJ") -> 27.03.15 | W5: =IF(A5="","",B5&CHAR(10)&F5&CHAR(10)&S5&" "&I5&CHAR(10)&T5&" - "&U5) -> A122247-03 Produkt5 1.000.000 ST 26.03.15 - 27.03.15
A6: Msch01 | B6: A122018-03 | F6: Produkt6 | H6: 1000000 | I6: ST | O6: 42090 | P6: 42093 | S6: =TEXT(H6,"#.###.###") -> 1.000.000 | T6: =TEXT(O6,"TT.MM.JJ") -> 27.03.15 | U6: =TEXT(P6,"TT.MM.JJ") -> 30.03.15 | W6: =IF(A6="","",B6&CHAR(10)&F6&CHAR(10)&S6&" "&I6&CHAR(10)&T6&" - "&U6) -> A122018-03 Produkt6 1.000.000 ST 27.03.15 - 30.03.15
A7: Msch01 | B7: A122484-03 | F7: Produkt7 | H7: 700000 | I7: ST | O7: 42094 | P7: 42095 | S7: =TEXT(H7,"#.###.###") -> 700.000 | T7: =TEXT(O7,"TT.MM.JJ") -> 31.03.15 | U7: =TEXT(P7,"TT.MM.JJ") -> 01.04.15 | W7: =IF(A7="","",B7&CHAR(10)&F7&CHAR(10)&S7&" "&I7&CHAR(10)&T7&" - "&U7) -> A122484-03 Produkt7 700.000 ST 31.03.15 - 01.04.15
A8: Msch01 | B8: A122485-04 | F8: Produkt8 | H8: 1500000 | I8: ST | O8: 42095 | P8: 42096 | S8: =TEXT(H8,"#.###.###") -> 1.500.000 | T8: =TEXT(O8,"TT.MM.JJ") -> 01.04.15 | U8: =TEXT(P8,"TT.MM.JJ") -> 02.04.15 | W8: =IF(A8="","",B8&CHAR(10)&F8&CHAR(10)&S8&" "&I8&CHAR(10)&T8&" - "&U8) -> A122485-04 Produkt8 1.500.000 ST 01.04.15 - 02.04.15
A9: Msch01 | B9: A122900-03 | F9: Produkt9 | H9: 3000000 | I9: ST | O9: 42101 | P9: 42103 | S9: =TEXT(H9,"#.###.###") -> 3.000.000 | T9: =TEXT(O9,"TT.MM.JJ") -> 07.04.15 | U9: =TEXT(P9,"TT.MM.JJ") -> 09.04.15 | W9: =IF(A9="","",B9&CHAR(10)&F9&CHAR(10)&S9&" "&I9&CHAR(10)&T9&" - "&U9) -> A122900-03 Produkt9 3.000.000 ST 07.04.15 - 09.04.15
A10: Msch01 | B10: A122385-03 | F10: Produkt10 | H10: 6000000 | I10: ST | O10: 42107 | P10: 42110 | S10: =TEXT(H10,"#.###.###") -> 6.000.000 | T10: =TEXT(O10,"TT.MM.JJ") -> 13.04.15 | U10: =TEXT(P10,"TT.MM.JJ") -> 16.04.15 | W10: =IF(A10="","",B10&CHAR(10)&F10&CHAR(10)&S10&" "&I10&CHAR(10)&T10&" - "&U10) -> A122385-03 Produkt10 6.000.000 ST 13.04.15 - 16.04.15
W11: =IF(A11="","",B11&CHAR(10)&F11&CHAR(10)&S11&" "&I11&CHAR(10)&T11&" - "&U11)
W12: =IF(A12="","",B12&CHAR(10)&F12&CHAR(10)&S12&" "&I12&CHAR(10)&T12&" - "&U12)
A13: Msch02 | B13: A000000-00 | F13: Produkt13 | H13: 1 | I13: ST | O13: 42055 | P13: 42057 | S13: =TEXT(H13,"#.###.###") -> 1 | T13: =TEXT(O13,"TT.MM.JJ") -> 20.02.15 | U13: =TEXT(P13,"TT.MM.JJ") -> 22.02.15 | W13: =IF(A13="","",B13&CHAR(10)&F13&CHAR(10)&S13&" "&I13&CHAR(10)&T13&" - "&U13) -> A000000-00 Produkt13 1 ST 20.02.15 - 22.02.15
A14: Msch02 | B14: A122477-03 | F14: Produkt14 | H14: 75176 | I14: ST | O14: 42082 | P14: 42088 | S14: =TEXT(H14,"#.###.###") -> 75.176 | T14: =TEXT(O14,"TT.MM.JJ") -> 19.03.15 | U14: =TEXT(P14,"TT.MM.JJ") -> 25.03.15 | W14: =IF(A14="","",B14&CHAR(10)&F14&CHAR(10)&S14&" "&I14&CHAR(10)&T14&" - "&U14) -> A122477-03 Produkt14 75.176 ST 19.03.15 - 25.03.15
A15: Msch02 | B15: A122477-03 | F15: Produkt15 | H15: 58397 | I15: ST | O15: 42087 | P15: 42088 | S15: =TEXT(H15,"#.###.###") -> 58.397 | T15: =TEXT(O15,"TT.MM.JJ") -> 24.03.15 | U15: =TEXT(P15,"TT.MM.JJ") -> 25.03.15 | W15: =IF(A15="","",B15&CHAR(10)&F15&CHAR(10)&S15&" "&I15&CHAR(10)&T15&" - "&U15) -> A122477-03 Produkt15 58.397 ST 24.03.15 - 25.03.15
A16: Msch02 | B16: A122024-03 | F16: Produkt16 | H16: 9803920 | I16: ST | O16: 42088 | P16: 42102 | S16: =TEXT(H16,"#.###.###") -> 9.803.920 | T16: =TEXT(O16,"TT.MM.JJ") -> 25.03.15 | U16: =TEXT(P16,"TT.MM.JJ") -> 08.04.15 | W16: =IF(A16="","",B16&CHAR(10)&F16&CHAR(10)&S16&" "&I16&CHAR(10)&T16&" - "&U16) -> A122024-03 Produkt16 9.803.920 ST 25.03.15 - 08.04.15
A17: Msch02 | B17: A122603-03 | F17: Produkt17 | H17: 3600000 | I17: ST | O17: 42102 | P17: 42107 | S17: =TEXT(H17,"#.###.###") -> 3.600.000 | T17: =TEXT(O17,"TT.MM.JJ") -> 08.04.15 | U17: =TEXT(P17,"TT.MM.JJ") -> 13.04.15 | W17: =IF(A17="","",B17&CHAR(10)&F17&CHAR(10)&S17&" "&I17&CHAR(10)&T17&" - "&U17) -> A122603-03 Produkt17 3.600.000 ST 08.04.15 - 13.04.15
A18: Msch02 | B18: A122883-03 | F18: Produkt18 | H18: 3000000 | I18: ST | O18: 42108 | P18: 42110 | S18: =TEXT(H18,"#.###.###") -> 3.000.000 | T18: =TEXT(O18,"TT.MM.JJ") -> 14.04.15 | U18: =TEXT(P18,"TT.MM.JJ") -> 16.04.15 | W18: =IF(A18="","",B18&CHAR(10)&F18&CHAR(10)&S18&" "&I18&CHAR(10)&T18&" - "&U18) -> A122883-03 Produkt18 3.000.000 ST 14.04.15 - 16.04.15
A19: Msch02 | B19: A123464-03 | F19: Produkt19 | H19: 3000000 | I19: ST | O19: 42111 | P19: 42115 | S19: =TEXT(H19,"#.###.###") -> 3.000.000 | T19: =TEXT(O19,"TT.MM.JJ") -> 17.04.15 | U19: =TEXT(P19,"TT.MM.JJ") -> 21.04.15 | W19: =IF(A19="","",B19&CHAR(10)&F19&CHAR(10)&S19&" "&I19&CHAR(10)&T19&" - "&U19) -> A123464-03 Produkt19 3.000.000 ST 17.04.15 - 21.04.15
A20: Msch02 | B20: A122028-03 | F20: Produkt20 | H20: 2000000 | I20: ST | O20: 42116 | P20: 42117 | S20: =TEXT(H20,"#.###.###") -> 2.000.000 | T20: =TEXT(O20,"TT.MM.JJ") -> 22.04.15 | U20: =TEXT(P20,"TT.MM.JJ") -> 23.04.15 | W20: =IF(A20="","",B20&CHAR(10)&F20&CHAR(10)&S20&" "&I20&CHAR(10)&T20&" - "&U20) -> A122028-03 Produkt20 2.000.000 ST 22.04.15 - 23.04.15
A21: Msch02 | B21: A122405-03 | F21: Produkt21 | H21: 6000000 | I21: ST | O21: 42117 | P21: 42124 | S21: =TEXT(H21,"#.###.###") -> 6.000.000 | T21: =TEXT(O21,"TT.MM.JJ") -> 23.04.15 | U21: =TEXT(P21,"TT.MM.JJ") -> 30.04.15 | W21: =IF(A21="","",B21&CHAR(10)&F21&CHAR(10)&S21&" "&I21&CHAR(10)&T21&" - "&U21) -> A122405-03 Produkt21 6.000.000 ST 23.04.15 - 30.04.15
A22: Msch02 | B22: A121858-03 | F22: Produkt22 | H22: 2000000 | I22: ST | O22: 42124 | P22: 42128 | S22: =TEXT(H22,"#.###.###") -> 2.000.000 | T22: =TEXT(O22,"TT.MM.JJ") -> 30.04.15 | U22: =TEXT(P22,"TT.MM.JJ") -> 04.05.15 | W22: =IF(A22="","",B22&CHAR(10)&F22&CHAR(10)&S22&" "&I22&CHAR(10)&T22&" - "&U22) -> A121858-03 Produkt22 2.000.000 ST 30.04.15 - 04.05.15
W23: =IF(A23="","",B23&CHAR(10)&F23&CHAR(10)&S23&" "&I23&CHAR(10)&T23&" - "&U23)
W24: =IF(A24="","",B24&CHAR(10)&F24&CHAR(10)&S24&" "&I24&CHAR(10)&T24&" - "&U24)
