Workbook

Sheet Tabelle1
A1: - | B1: - | C1: - | D1: - | E1: =IF(COUNTIF(Tabelle2!A1:K1,Tabelle1!L1),"1","-") -> 1 | F1: - | G1: - | H1: - | I1: - | J1: - | K1: - | L1: 1 | M1: =IFERROR(ADDRESS(ROW(),MATCH(L1,A1:K1,0),4),"-") -> - | N1: =ADDRESS(ROW(L1),,4) -> #VALUE! | O1: =ADDRESS(MATCH(L1,A1:K1,0),4) -> #N/A | P1: =ADDRESS(ROW(),L1,4) -> A1 | R1: Meine Erwartung | S1: E1
A2: - | B2: - | C2: - | D2: - | E2: - | F2: - | G2: =IF(COUNTIF(Tabelle2!A2:K2,Tabelle1!L2),"2","-") -> - | H2: - | I2: - | J2: - | K2: - | L2: 2 | M2: =IFERROR(ADDRESS(ROW(),MATCH(L2,A2:K2,0),4),"-") -> - | O2: =ADDRESS(MATCH(L2,A2:K2,0),4) -> #N/A | P2: =ADDRESS(ROW(),L2,4) -> B2 | S2: -
A3: - | B3: - | C3: - | D3: - | E3: =IF(COUNTIF(Tabelle2!A3:K3,Tabelle1!L3),"3","-") -> 3 | F3: - | G3: - | H3: - | I3: - | J3: - | K3: - | L3: 3 | M3: =IFERROR(ADDRESS(ROW(),MATCH(L3,A3:K3,0),4),"-") -> - | O3: =ADDRESS(MATCH(L3,A3:K3,0),4) -> #N/A | P3: =ADDRESS(ROW(),L3,4) -> C3 | S3: F3
A4: - | B4: =IF(COUNTIF(Tabelle2!A4:K4,Tabelle1!L4),"4","-") -> 4 | C4: - | D4: - | E4: - | F4: - | G4: - | H4: - | I4: - | J4: - | K4: - | L4: 4 | M4: =IFERROR(ADDRESS(ROW(),MATCH(L4,A4:K4,0),4),"-") -> - | O4: =ADDRESS(MATCH(L4,A4:K4,0),4) -> #N/A | P4: =ADDRESS(ROW(),L4,4) -> D4 | S4: C4
A5: - | B5: - | C5: - | D5: - | E5: - | F5: - | G5: - | H5: - | I5: =IF(COUNTIF(Tabelle2!A5:K5,Tabelle1!L5),"5","-") -> 5 | J5: - | K5: - | L5: 5 | M5: =IFERROR(ADDRESS(ROW(),MATCH(L5,A5:K5,0),4),"-") -> - | O5: =ADDRESS(MATCH(L5,A5:K5,0),4) -> #N/A | P5: =ADDRESS(ROW(),L5,4) -> E5 | S5: B5

Sheet Tabelle2
A1: 1
B3: 3
B4: 4
D5: 5
