Workbook

Sheet Partner-Einzelübersicht
A1: Name, Vorname | B1: SBKZ | C1: Kateg. PD/FD | D1: PersNr. | E1: Bezugsart | F1: Gültig. | G1: Monate | H1: 2015 | K1: Quart. | L1: 2016 | O1: Quart. | P1: 2017 | S1: Quart.
H2: km | I2: 0.35 | J2: 0.05 | L2: km | M2: 0.35 | N2: 0.05 | P2: km | Q2: 0.35 | R2: 0.05
A3: Mustermann, Max | C3: PD | D3: 12345 | F3: 2 | G3: 1 | H3: =I3/$I$2 -> 0 | I3: =$I$2*J3/$J$2 -> 0 | J3: 0 | M3: =L3*$M$2 -> 0 | N3: =L3*$N$2 -> 0 | O3: 1 | Q3: =P3*$Q$2 -> 0 | R3: =P3*$R$2 -> 0
G4: 33 | H4: =I4/$I$2 -> 0 | I4: =$I$2*J4/$J$2 -> 0 | J4: 0 | M4: =L4*$M$2 -> 0 | N4: =L4*$N$2 -> 0 | O4: 1 | Q4: =P4*$Q$2 -> 0 | R4: =P4*$R$2 -> 0
G5: 65 | H5: =I5/$I$2 -> 0 | I5: =$I$2*J5/$J$2 -> 0 | J5: 0 | M5: =L5*$M$2 -> 0 | N5: =L5*$N$2 -> 0 | O5: 1 | Q5: =P5*$Q$2 -> 0 | R5: =P5*$R$2 -> 0
G6: 97 | H6: =I6/$I$2 -> 0 | I6: =$I$2*J6/$J$2 -> 0 | J6: 0 | M6: =L6*$M$2 -> 0 | N6: =L6*$N$2 -> 0 | O6: 1 | Q6: =P6*$Q$2 -> 0 | R6: =P6*$R$2 -> 0
G7: 129 | H7: =I7/$I$2 -> 0 | I7: =$I$2*J7/$J$2 -> 0 | J7: 0 | M7: =L7*$M$2 -> 0 | N7: =L7*$N$2 -> 0 | O7: 1 | Q7: =P7*$Q$2 -> 0 | R7: =P7*$R$2 -> 0
G8: 161 | H8: =I8/$I$2 -> 0 | I8: =$I$2*J8/$J$2 -> 0 | J8: 0 | M8: =L8*$M$2 -> 0 | N8: =L8*$N$2 -> 0 | O8: 2 | Q8: =P8*$Q$2 -> 0 | R8: =P8*$R$2 -> 0
G9: 193 | H9: =I9/$I$2 -> 0 | I9: =$I$2*J9/$J$2 -> 0 | J9: 0 | M9: =L9*$M$2 -> 0 | N9: =L9*$N$2 -> 0 | O9: 2 | Q9: =P9*$Q$2 -> 0 | R9: =P9*$R$2 -> 0
G10: 225 | H10: =I10/$I$2 -> 1869 | I10: =$I$2*J10/$J$2 -> 654.15 | J10: 93.45 | M10: =L10*$M$2 -> 0 | N10: =L10*$N$2 -> 0 | O10: 3 | Q10: =P10*$Q$2 -> 0 | R10: =P10*$R$2 -> 0
G11: 257 | H11: =I11/$I$2 -> 0 | I11: =$I$2*J11/$J$2 -> 0 | J11: 0 | M11: =L11*$M$2 -> 0 | N11: =L11*$N$2 -> 0 | O11: 2 | Q11: =P11*$Q$2 -> 0 | R11: =P11*$R$2 -> 0
G12: 289 | I12: =H12*$I$2 -> 0 | J12: =H12*$J$2 -> 0 | M12: =L12*$M$2 -> 0 | N12: =L12*$N$2 -> 0 | O12: 4 | Q12: =P12*$Q$2 -> 0 | R12: =P12*$R$2 -> 0
G13: 321 | I13: =H13*$I$2 -> 0 | J13: =H13*$J$2 -> 0 | M13: =L13*$M$2 -> 0 | N13: =L13*$N$2 -> 0 | O13: 4 | Q13: =P13*$Q$2 -> 0 | R13: =P13*$R$2 -> 0
G14: 353 | I14: =H14*$I$2 -> 0 | J14: =H14*$J$2 -> 0 | M14: =L14*$M$2 -> 0 | N14: =L14*$N$2 -> 0 | O14: 4 | Q14: =P14*$Q$2 -> 0 | R14: =P14*$R$2 -> 0
G15: Gesamt | H15: =SUM(H3:H14) -> 1869 | I15: =SUM(I3:I14) -> 654.15 | J15: =SUM(J3:J14) -> 93.45 | L15: =SUM(L3:L14) -> 0 | M15: =SUM(M3:M14) -> 0 | N15: =SUM(N3:N14) -> 0 | P15: =SUM(P3:P14) -> 0 | Q15: =SUM(Q3:Q14) -> 0 | R15: =SUM(R3:R14) -> 0

Sheet Summenübersicht
A1: Name, Vorname | B1: SBKZ | C1: Kateg. PD/FD | D1: PersNr. | E1: Bezugsart | F1: Gültig. | G1: 2015 gesamt | H1: 2015 Saldo) (Nachmeldung) | I1: 2016 | J1: 2017
A2: ='Partner-Einzelübersicht'!A3 -> Mustermann, Max | B2: ='Partner-Einzelübersicht'!B3 -> 0 | C2: ='Partner-Einzelübersicht'!C3 -> PD | D2: ='Partner-Einzelübersicht'!D3 -> 12345 | E2: ='Partner-Einzelübersicht'!E3 -> 0 | F2: ='Partner-Einzelübersicht'!F3 -> 2 | G2: ='Partner-Einzelübersicht'!J15 -> 93.45 | I2: ='Partner-Einzelübersicht'!N15 -> 0 | J2: ='Partner-Einzelübersicht'!R15 -> 0

Sheet Meldung
A1: Name, Vorname | B1: Quartal 1 | C1: Quartal 2 | D1: Quartal 3 | E1: Quartal 4
A3: ='Partner-Einzelübersicht'!A3 -> Mustermann, Max
