Workbook
Name Einheit: Börse!#REF!
Name mitoderohnedividende: Börse!#REF!

Sheet Börse2
A1: ISIN | B1: Name | C1: Vorgangsnummer | D1: Vorgang | E1: Datum | F1: Änderung | G1: Rest
A2: DE000A1ML7J1 | B2: =IF($A2="","",IFERROR(VLOOKUP($A2,Querverweise!$A:$B,2,FALSE),"UNBEKANNTE ISIN")) -> Vonovia | C2: =IF($A2="","",_xlfn.MAXIFS($C:$C,$B:$B,$B2)+1) -> 5 | D2: =IF($A2="","",IF($F2<0,"Verkauf",IF($F2>0,"Einkauf","nix"))) -> Einkauf | E2: 45296 | F2: 5 | G2: =IF($A2="","",SUMIFS($F$2:$F$18,$A$2:$A$18,$A2,$E$2:$E$18,"<="&$E2)) -> 5
A3: DE000A1ML7J1 | B3: =IF($A3="","",IFERROR(VLOOKUP($A3,Querverweise!$A:$B,2,FALSE),"UNBEKANNTE ISIN")) -> Vonovia | C3: =IF($A3="","",_xlfn.MAXIFS($C:$C,$B:$B,$B3)+1) -> 4 | D3: =IF($A3="","",IF($F3<0,"Verkauf",IF($F3>0,"Einkauf","nix"))) -> Verkauf | E3: 45295 | F3: -13 | G3: =IF($A3="","",SUMIFS($F$2:$F$18,$A$2:$A$18,$A3,$E$2:$E$18,"<="&$E3)) -> 0
A4: DE000A1ML7J1 | B4: =IF($A4="","",IFERROR(VLOOKUP($A4,Querverweise!$A:$B,2,FALSE),"UNBEKANNTE ISIN")) -> Vonovia | C4: =IF($A4="","",_xlfn.MAXIFS($C:$C,$B:$B,$B4)+1) -> 3 | D4: =IF($A4="","",IF($F4<0,"Verkauf",IF($F4>0,"Einkauf","nix"))) -> Einkauf | E4: 45294 | F4: 5 | G4: =IF($A4="","",SUMIFS($F$2:$F$18,$A$2:$A$18,$A4,$E$2:$E$18,"<="&$E4)) -> 13
A5: DE000A1ML7J1 | B5: =IF($A5="","",IFERROR(VLOOKUP($A5,Querverweise!$A:$B,2,FALSE),"UNBEKANNTE ISIN")) -> Vonovia | C5: =IF($A5="","",_xlfn.MAXIFS($C:$C,$B:$B,$B5)+1) -> 2 | D5: =IF($A5="","",IF($F5<0,"Verkauf",IF($F5>0,"Einkauf","nix"))) -> Verkauf | E5: 45293 | F5: -2 | G5: =IF($A5="","",SUMIFS($F$2:$F$18,$A$2:$A$18,$A5,$E$2:$E$18,"<="&$E5)) -> 8
A6: DE000A1ML7J1 | B6: =IF($A6="","",IFERROR(VLOOKUP($A6,Querverweise!$A:$B,2,FALSE),"UNBEKANNTE ISIN")) -> Vonovia | C6: =IF($A6="","",_xlfn.MAXIFS($C:$C,$B:$B,$B6)+1) -> 1 | D6: =IF($A6="","",IF($F6<0,"Verkauf",IF($F6>0,"Einkauf","nix"))) -> Einkauf | E6: 45292 | F6: 10 | G6: =IF($A6="","",SUMIFS($F$2:$F$18,$A$2:$A$18,$A6,$E$2:$E$18,"<="&$E6)) -> 10
A7: DE0008490962 | B7: =IF($A7="","",IFERROR(VLOOKUP($A7,Querverweise!$A:$B,2,FALSE),"UNBEKANNTE ISIN")) -> DWS Fond | C7: =IF($A7="","",_xlfn.MAXIFS($C:$C,$B:$B,$B7)+1) -> 7 | D7: =IF($A7="","",IF($F7<0,"Verkauf",IF($F7>0,"Einkauf","nix"))) -> Verkauf | E7: 45413 | F7: -10 | G7: =IF($A7="","",SUMIFS($F$2:$F$18,$A$2:$A$18,$A7,$E$2:$E$18,"<="&$E7)) -> 17
A8: DE0008490962 | B8: =IF($A8="","",IFERROR(VLOOKUP($A8,Querverweise!$A:$B,2,FALSE),"UNBEKANNTE ISIN")) -> DWS Fond | C8: =IF($A8="","",_xlfn.MAXIFS($C:$C,$B:$B,$B8)+1) -> 6 | D8: =IF($A8="","",IF($F8<0,"Verkauf",IF($F8>0,"Einkauf","nix"))) -> Einkauf | E8: 45407 | F8: 20 | G8: =IF($A8="","",SUMIFS($F$2:$F$18,$A$2:$A$18,$A8,$E$2:$E$18,"<="&$E8)) -> 27
A9: DE0008490962 | B9: =IF($A9="","",IFERROR(VLOOKUP($A9,Querverweise!$A:$B,2,FALSE),"UNBEKANNTE ISIN")) -> DWS Fond | C9: =IF($A9="","",_xlfn.MAXIFS($C:$C,$B:$B,$B9)+1) -> 5 | D9: =IF($A9="","",IF($F9<0,"Verkauf",IF($F9>0,"Einkauf","nix"))) -> nix | E9: 45402 | F9: 0 | G9: =IF($A9="","",SUMIFS($F$2:$F$18,$A$2:$A$18,$A9,$E$2:$E$18,"<="&$E9)) -> 7
A10: DE0008490962 | B10: =IF($A10="","",IFERROR(VLOOKUP($A10,Querverweise!$A:$B,2,FALSE),"UNBEKANNTE ISIN")) -> DWS Fond | C10: =IF($A10="","",_xlfn.MAXIFS($C:$C,$B:$B,$B10)+1) -> 4 | D10: =IF($A10="","",IF($F10<0,"Verkauf",IF($F10>0,"Einkauf","nix"))) -> Verkauf | E10: 45397 | F10: -3 | G10: =IF($A10="","",SUMIFS($F$2:$F$18,$A$2:$A$18,$A10,$E$2:$E$18,"<="&$E10)) -> 7
A11: DE0008490962 | B11: =IF($A11="","",IFERROR(VLOOKUP($A11,Querverweise!$A:$B,2,FALSE),"UNBEKANNTE ISIN")) -> DWS Fond | C11: =IF($A11="","",_xlfn.MAXIFS($C:$C,$B:$B,$B11)+1) -> 3 | D11: =IF($A11="","",IF($F11<0,"Verkauf",IF($F11>0,"Einkauf","nix"))) -> nix | E11: 45352 | F11: 0 | G11: =IF($A11="","",SUMIFS($F$2:$F$18,$A$2:$A$18,$A11,$E$2:$E$18,"<="&$E11)) -> 10
A12: DE0008490962 | B12: =IF($A12="","",IFERROR(VLOOKUP($A12,Querverweise!$A:$B,2,FALSE),"UNBEKANNTE ISIN")) -> DWS Fond | C12: =IF($A12="","",_xlfn.MAXIFS($C:$C,$B:$B,$B12)+1) -> 2 | D12: =IF($A12="","",IF($F12<0,"Verkauf",IF($F12>0,"Einkauf","nix"))) -> Einkauf | E12: 45323 | F12: 5 | G12: =IF($A12="","",SUMIFS($F$2:$F$18,$A$2:$A$18,$A12,$E$2:$E$18,"<="&$E12)) -> 10
A13: DE0008490962 | B13: =IF($A13="","",IFERROR(VLOOKUP($A13,Querverweise!$A:$B,2,FALSE),"UNBEKANNTE ISIN")) -> DWS Fond | C13: =IF($A13="","",_xlfn.MAXIFS($C:$C,$B:$B,$B13)+1) -> 1 | D13: =IF($A13="","",IF($F13<0,"Verkauf",IF($F13>0,"Einkauf","nix"))) -> Einkauf | E13: 45292 | F13: 5 | G13: =IF($A13="","",SUMIFS($F$2:$F$18,$A$2:$A$18,$A13,$E$2:$E$18,"<="&$E13)) -> 5
... A17: DE1234567890 | B17: =IF($A17="","",IFERROR(VLOOKUP($A17,Querverweise!$A:$B,2,FALSE),"UNBEKANNTE ISIN")) -> UNBEKANNTE ISIN | C17: =IF($A17="","",_xlfn.MAXIFS($C:$C,$B:$B,$B17)+1) -> 1 | D17: =IF($A17="","",IF($F17<0,"Verkauf",IF($F17>0,"Einkauf","nix"))) -> Einkauf | E17: 45292 | F17: 10 | G17: =IF($A17="","",SUMIFS($F$2:$F$18,$A$2:$A$18,$A17,$E$2:$E$18,"<="&$E17)) -> 10
B18: =IF($A18="","",IFERROR(VLOOKUP($A18,Querverweise!$A:$B,2,FALSE),"UNBEKANNTE ISIN")) | C18: =IF($A18="","",_xlfn.MAXIFS($C:$C,$B:$B,$B18)+1) | D18: =IF($A18="","",IF($F18<0,"Verkauf",IF($F18>0,"Einkauf","nix"))) | G18: =IF($A18="","",SUMIFS($F$2:$F$18,$A$2:$A$18,$A18,$E$2:$E$18,"<="&$E18))

Sheet Börse
B3: Broker
B5: ISIN | C5: Name | D5: Datum | E5: Im Depot seit | F5: Anzahl | G5: Noch vorhanden ST | H5: Noch vorhanden Test 5 | I5: Noch vorhanden Test 4 | J5: Noch vorhanden Test 3 | K5: Noch vorhanden Test 2 | L5: Gekauft vor Kauf | M5: Gekauft nach Kauf | N5: Gekauft vor im Depot | O5: Gekauft nach Kauf und vor im Depot | P5: Gekauft vor Kauf und im Depot seit | Q5: Vorhanden bis im Depot seit | R5: Verkäufe vor Kauf und vor im Depot | S5: Verkäufe nach Kauf und vor im Depot | T5: Verkauft vor im Depot | U5: Verkauft nach im Depot | V5: Umsätze
A6: Aus | B6: DE000A1ML7J1 | C6: Vonovia | D6: 44160 | F6: =IF(ScalableCapital[Umsätze]="","",SUMIFS(ScalableCapital[Anzahl],ScalableCapital[Name],">=0",ScalableCapital[ISIN],ScalableCapital[[#This Row],[ISIN]])) -> 9 | G6: =IF(ScalableCapital[[#This Row],[Umsätze]]="",IF(ScalableCapital[[#This Row],[Anzahl]]<0,"",IF(IF(ScalableCapital[[#This Row],[Name]]>0,IF(ScalableCapital[Anzahl]<0,0,SUM(SUMIFS(ScalableCapital[Anzahl],ScalableCapital[Name],">0",ScalableCapital[Name],"<="&ScalableCapital[[#This Row],[Name]],ScalableCapital[Anzahl],">=0",ScalableCapital[ISIN],ScalableCapital[[#This Row],[ISIN]]),SUMIFS(ScalableCapital[Anzahl],ScalableCapital[Name],">0",ScalableCapital[Anzahl],"<0",ScalableCapital[ISIN],ScalableCapital[[#This Row],[ISIN]]))),ScalableCapital[[#This Row],[Anzahl]])<0,0,IF(ScalableCapital[[#This Row],[Name]]>0,IF(ScalableCapital[Anzahl]<0,0,SUM(SUMIFS(ScalableCapital[Anzahl],ScalableCapital[Name],">0",ScalableCapital[Name],"<="&ScalableCapital[[#This Row],[Name]],ScalableCapital[Anzahl],">=0",ScalableCapital[ISIN],ScalableCapital[[#This Row],[ISIN]]),SUMIFS(ScalableCapital[Anzahl],ScalableCapital[Name],">0",ScalableCapital[Anzahl],"<0",ScalableCapital[ISIN],ScalableCapital[[#This Row],[ISIN]]))),#REF!)-SUMIFS(ScalableCapital[Noch vorhanden ST],ScalableCapital[Name],">0",ScalableCapital[Name],"<"&ScalableCapital[[#This Row],[Name]],ScalableCapital[ISIN],ScalableCapital[[#This Row],[ISIN]]))),ScalableCapital[[#This Row],[Anzahl]]) -> 9 | H6: =IF((ScalableCapital[[#This Row],[Vorhanden bis im Depot seit]]-ScalableCapital[[#This Row],[Gekauft nach Kauf und vor im Depot]])<0,ScalableCapital[[#This Row],[Anzahl]]-ScalableCapital[[#This Row],[Verkauft nach im Depot]],(ScalableCapital[[#This Row],[Vorhanden bis im Depot seit]]-ScalableCapital[[#This Row],[Gekauft nach Kauf und vor im Depot]])+ScalableCapital[[#This Row],[Anzahl]]-ScalableCapital[[#This Row],[Verkauft nach im Depot]]+SUMIFS(ScalableCapital[Anzahl],ScalableCapital[ISIN],ScalableCapital[[#This Row],[ISIN]],ScalableCapital[Name],"<" &ScalableCapital[[#This Row],[Name]],ScalableCapital[Im Depot seit],">" &ScalableCapital[[#This Row],[Im Depot seit]],ScalableCapital[Anzahl],">0",ScalableCapital[Umsätze],"")-SUMIFS(ScalableCapital[Noch vorhanden Test 5],ScalableCapital[ISIN],ScalableCapital[[#This Row],[ISIN]],ScalableCapital[Name],"<" &ScalableCapital[[#This Row],[Name]],ScalableCapital[Im Depot seit],">" &ScalableCapital[[#This Row],[Im Depot seit]],ScalableCapital[Anzahl],">0",ScalableCapital[Umsätze],"")) -> 9 | I6: =IF(((ScalableCapital[[#This Row],[Gekauft vor im Depot]]-ScalableCapital[[#This Row],[Verkauft vor im Depot]])-ScalableCapital[[#This Row],[Gekauft nach Kauf und vor im Depot]])<0,ScalableCapital[[#This Row],[Anzahl]]-ScalableCapital[[#This Row],[Verkauft nach im Depot]],) -> 0 | J6: =IF(IF(((ScalableCapital[[#This Row],[Gekauft vor im Depot]]-ScalableCapital[[#This Row],[Verkauft vor im Depot]])-ScalableCapital[[#This Row],[Gekauft nach Kauf]])<0,ScalableCapital[[#This Row],[Anzahl]]-ScalableCapital[[#This Row],[Verkauft nach im Depot]],((ScalableCapital[[#This Row],[Gekauft vor im Depot]]-ScalableCapital[[#This Row],[Verkauft vor im Depot]])-ScalableCapital[[#This Row],[Gekauft nach Kauf]])+ScalableCapital[[#This Row],[Anzahl]]-ScalableCapital[[#This Row],[Verkauft nach im Depot]])<0,0,IF(IF(((ScalableCapital[[#This Row],[Gekauft vor im Depot]]-ScalableCapital[[#This Row],[Verkauft vor im Depot]])-ScalableCapital[[#This Row],[Gekauft nach Kauf]])<0,ScalableCapital[[#This Row],[Anzahl]]-ScalableCapital[[#This Row],[Verkauft nach im Depot]],((ScalableCapital[[#This Row],[Gekauft vor im Depot]]-ScalableCapital[[#This Row],[Verkauft vor im Depot]])-ScalableCapital[[#This Row],[Gekauft nach Kauf]])+ScalableCapital[[#This Row],[Anzahl]]-ScalableCapital[[#This Row],[Verkauft nach im Depot]])>ScalableCapital[[#This Row],[Anzahl]],ScalableCapital[[#This Row],[Anzahl]],IF(((ScalableCapital[[#This Row],[Gekauft vor im Depot]]-ScalableCapital[[#This Row],[Verkauft vor im Depot]])-ScalableCapital[[#This Row],[Gekauft nach Kauf]])<0,ScalableCapital[[#This Row],[Anzahl]]-ScalableCapital[[#This Row],[Verkauft nach im Depot]],((ScalableCapital[[#This Row],[Gekauft vor im Depot]]-ScalableCapital[[#This Row],[Verkauft vor im Depot]])-ScalableCapital[[#This Row],[Gekauft nach Kauf]])+ScalableCapital[[#This Row],[Anzahl]]-ScalableCapital[[#This Row],[Verkauft nach im Depot]]))) -> 9 | K6: =IF((ScalableCapital[[#This Row],[Gekauft vor Kauf und im Depot seit]]+ScalableCapital[[#This Row],[Anzahl]]-ScalableCapital[[#This Row],[Verkäufe vor Kauf und vor im Depot]]-ScalableCapital[[#This Row],[Verkauft nach im Depot]])<0,0,IF(ScalableCapital[[#This Row],[Gekauft vor Kauf und im Depot seit]]+ScalableCapital[[#This Row],[Anzahl]]-ScalableCapital[[#This Row],[Verkäufe vor Kauf und vor im Depot]]-ScalableCapital[[#This Row],[Verkauft nach im Depot]]>ScalableCapital[[#This Row],[Anzahl]],ScalableCapital[[#This Row],[Anzahl]],ScalableCapital[[#This Row],[Gekauft vor Kauf und im Depot seit]]+ScalableCapital[[#This Row],[Anzahl]]-ScalableCapital[[#This Row],[Verkäufe vor Kauf und vor im Depot]]-ScalableCapital[[#This Row],[Verkauft nach im Depot]])) -> 9 | L6: =SUMIFS(ScalableCapital[Anzahl],ScalableCapital[ISIN],ScalableCapital[[#This Row],[ISIN]],ScalableCapital[Name],"<" & ScalableCapital[[#This Row],[Name]],ScalableCapital[Anzahl], ">0",ScalableCapital[Umsätze],"") -> 9 | M6: =SUMIFS(ScalableCapital[Anzahl],ScalableCapital[ISIN],ScalableCapital[[#This Row],[ISIN]],ScalableCapital[Name],">" & ScalableCapital[[#This Row],[Name]],ScalableCapital[Anzahl], ">0",ScalableCapital[Umsätze],"") -> 0 | N6: =SUMIFS(ScalableCapital[Anzahl],ScalableCapital[ISIN],ScalableCapital[[#This Row],[ISIN]],ScalableCapital[Datum],"<" & ScalableCapital[[#This Row],[Im Depot seit]],ScalableCapital[Im Depot seit],"<" & ScalableCapital[[#This Row],[Im Depot seit]],ScalableCapital[Anzahl], ">0",ScalableCapital[Umsätze],"") -> 0 | O6: =SUMIFS(ScalableCapital[Anzahl],ScalableCapital[ISIN],ScalableCapital[[#This Row],[ISIN]],ScalableCapital[Name],">" & ScalableCapital[[#This Row],[Name]],ScalableCapital[Datum],"<" &ScalableCapital[Im Depot seit],ScalableCapital[Anzahl], ">0",ScalableCapital[Umsätze],"") -> 0 | P6: 7 | Q6: =SUMIFS(ScalableCapital[Anzahl],ScalableCapital[ISIN],ScalableCapital[[#This Row],[ISIN]],ScalableCapital[Im Depot seit],"<" & ScalableCapital[[#This Row],[Im Depot seit]],ScalableCapital[Umsätze],"") -> 0 | R6: =SUMIFS(ScalableCapital[Anzahl],ScalableCapital[ISIN],ScalableCapital[[#This Row],[ISIN]],ScalableCapital[Name],"<" & ScalableCapital[[#This Row],[Name]],ScalableCapital[Im Depot seit],"<" & ScalableCapital[[#This Row],[Im Depot seit]],ScalableCapital[Anzahl], "<0",ScalableCapital[Umsätze],"")*-1 -> 0 | S6: =IF(ScalableCapital[Anzahl]>0,SUMIFS(ScalableCapital[Anzahl],ScalableCapital[ISIN],ScalableCapital[[#This Row],[ISIN]],ScalableCapital[Name],">" &ScalableCapital[[#This Row],[Name]],ScalableCapital[Datum],"<" &ScalableCapital[[#This Row],[Im Depot seit]],ScalableCapital[Anzahl],"<0",ScalableCapital[Umsätze],""),"")*-1 -> 0 | T6: =SUMIFS(ScalableCapital[Anzahl],ScalableCapital[ISIN],ScalableCapital[[#This Row],[ISIN]],ScalableCapital[Datum],"<" &ScalableCapital[[#This Row],[Im Depot seit]],ScalableCapital[Anzahl],"<0",ScalableCapital[Umsätze],"")*-1 -> 0 | U6: =SUMIFS(ScalableCapital[Anzahl],ScalableCapital[ISIN],ScalableCapital[[#This Row],[ISIN]],ScalableCapital[Datum],">=" &ScalableCapital[[#This Row],[Im Depot seit]],ScalableCapital[Anzahl],"<0",ScalableCapital[Umsätze],"")*-1 -> 0 | V6: Einblenden | AA6: Ausblenden
B7: DE000A1ML7J1 | C7: 1 | D7: 44160 | F7: 9 | G7: =IF(ScalableCapital[[#This Row],[Umsätze]]="",IF(ScalableCapital[[#This Row],[Anzahl]]<0,"",IF(IF(ScalableCapital[[#This Row],[Name]]>0,IF(ScalableCapital[Anzahl]<0,0,SUM(SUMIFS(ScalableCapital[Anzahl],ScalableCapital[Name],">0",ScalableCapital[Name],"<="&ScalableCapital[[#This Row],[Name]],ScalableCapital[Anzahl],">=0",ScalableCapital[ISIN],ScalableCapital[[#This Row],[ISIN]]),SUMIFS(ScalableCapital[Anzahl],ScalableCapital[Name],">0",ScalableCapital[Anzahl],"<0",ScalableCapital[ISIN],ScalableCapital[[#This Row],[ISIN]]))),ScalableCapital[[#This Row],[Anzahl]])<0,0,IF(ScalableCapital[[#This Row],[Name]]>0,IF(ScalableCapital[Anzahl]<0,0,SUM(SUMIFS(ScalableCapital[Anzahl],ScalableCapital[Name],">0",ScalableCapital[Name],"<="&ScalableCapital[[#This Row],[Name]],ScalableCapital[Anzahl],">=0",ScalableCapital[ISIN],ScalableCapital[[#This Row],[ISIN]]),SUMIFS(ScalableCapital[Anzahl],ScalableCapital[Name],">0",ScalableCapital[Anzahl],"<0",ScalableCapital[ISIN],ScalableCapital[[#This Row],[ISIN]]))),#REF!)-SUMIFS(ScalableCapital[Noch vorhanden ST],ScalableCapital[Name],">0",ScalableCapital[Name],"<"&ScalableCapital[[#This Row],[Name]],ScalableCapital[ISIN],ScalableCapital[[#This Row],[ISIN]]))),ScalableCapital[[#This Row],[Anzahl]]) -> 9 | H7: =IF((ScalableCapital[[#This Row],[Vorhanden bis im Depot seit]]-ScalableCapital[[#This Row],[Gekauft nach Kauf und vor im Depot]])<0,ScalableCapital[[#This Row],[Anzahl]]-ScalableCapital[[#This Row],[Verkauft nach im Depot]],(ScalableCapital[[#This Row],[Vorhanden bis im Depot seit]]-ScalableCapital[[#This Row],[Gekauft nach Kauf und vor im Depot]])+ScalableCapital[[#This Row],[Anzahl]]-ScalableCapital[[#This Row],[Verkauft nach im Depot]]+SUMIFS(ScalableCapital[Anzahl],ScalableCapital[ISIN],ScalableCapital[[#This Row],[ISIN]],ScalableCapital[Name],"<"&ScalableCapital[[#This Row],[Name]],ScalableCapital[Im Depot seit],">"&ScalableCapital[[#This Row],[Im Depot seit]],ScalableCapital[Anzahl],">0",ScalableCapital[Umsätze],"")-SUMIFS(ScalableCapital[Noch vorhanden Test 5],ScalableCapital[ISIN],ScalableCapital[[#This Row],[ISIN]],ScalableCapital[Name],"<"&ScalableCapital[[#This Row],[Name]],ScalableCapital[Im Depot seit],">"&ScalableCapital[[#This Row],[Im Depot seit]],ScalableCapital[Anzahl],">0",ScalableCapital[Umsätze],"")) -> 9 | I7: =IF(((ScalableCapital[[#This Row],[Gekauft vor im Depot]]-ScalableCapital[[#This Row],[Verkauft vor im Depot]])-ScalableCapital[[#This Row],[Gekauft nach Kauf und vor im Depot]])<0,ScalableCapital[[#This Row],[Anzahl]]-ScalableCapital[[#This Row],[Verkauft nach im Depot]],) -> 0 | J7: =IF(IF(((ScalableCapital[[#This Row],[Gekauft vor im Depot]]-ScalableCapital[[#This Row],[Verkauft vor im Depot]])-ScalableCapital[[#This Row],[Gekauft nach Kauf]])<0,ScalableCapital[[#This Row],[Anzahl]]-ScalableCapital[[#This Row],[Verkauft nach im Depot]],((ScalableCapital[[#This Row],[Gekauft vor im Depot]]-ScalableCapital[[#This Row],[Verkauft vor im Depot]])-ScalableCapital[[#This Row],[Gekauft nach Kauf]])+ScalableCapital[[#This Row],[Anzahl]]-ScalableCapital[[#This Row],[Verkauft nach im Depot]])<0,0,IF(IF(((ScalableCapital[[#This Row],[Gekauft vor im Depot]]-ScalableCapital[[#This Row],[Verkauft vor im Depot]])-ScalableCapital[[#This Row],[Gekauft nach Kauf]])<0,ScalableCapital[[#This Row],[Anzahl]]-ScalableCapital[[#This Row],[Verkauft nach im Depot]],((ScalableCapital[[#This Row],[Gekauft vor im Depot]]-ScalableCapital[[#This Row],[Verkauft vor im Depot]])-ScalableCapital[[#This Row],[Gekauft nach Kauf]])+ScalableCapital[[#This Row],[Anzahl]]-ScalableCapital[[#This Row],[Verkauft nach im Depot]])>ScalableCapital[[#This Row],[Anzahl]],ScalableCapital[[#This Row],[Anzahl]],IF(((ScalableCapital[[#This Row],[Gekauft vor im Depot]]-ScalableCapital[[#This Row],[Verkauft vor im Depot]])-ScalableCapital[[#This Row],[Gekauft nach Kauf]])<0,ScalableCapital[[#This Row],[Anzahl]]-ScalableCapital[[#This Row],[Verkauft nach im Depot]],((ScalableCapital[[#This Row],[Gekauft vor im Depot]]-ScalableCapital[[#This Row],[Verkauft vor im Depot]])-ScalableCapital[[#This Row],[Gekauft nach Kauf]])+ScalableCapital[[#This Row],[Anzahl]]-ScalableCapital[[#This Row],[Verkauft nach im Depot]]))) -> 9 | K7: =IF((ScalableCapital[[#This Row],[Gekauft vor Kauf und im Depot seit]]+ScalableCapital[[#This Row],[Anzahl]]-ScalableCapital[[#This Row],[Verkäufe vor Kauf und vor im Depot]]-ScalableCapital[[#This Row],[Verkauft nach im Depot]])<0,0,IF(ScalableCapital[[#This Row],[Gekauft vor Kauf und im Depot seit]]+ScalableCapital[[#This Row],[Anzahl]]-ScalableCapital[[#This Row],[Verkäufe vor Kauf und vor im Depot]]-ScalableCapital[[#This Row],[Verkauft nach im Depot]]>ScalableCapital[[#This Row],[Anzahl]],ScalableCapital[[#This Row],[Anzahl]],ScalableCapital[[#This Row],[Gekauft vor Kauf und im Depot seit]]+ScalableCapital[[#This Row],[Anzahl]]-ScalableCapital[[#This Row],[Verkäufe vor Kauf und vor im Depot]]-ScalableCapital[[#This Row],[Verkauft nach im Depot]])) -> 9 | L7: =SUMIFS(ScalableCapital[Anzahl],ScalableCapital[ISIN],ScalableCapital[[#This Row],[ISIN]],ScalableCapital[Name],"<"&ScalableCapital[[#This Row],[Name]],ScalableCapital[Anzahl],">0",ScalableCapital[Umsätze],"") -> 0 | M7: =SUMIFS(ScalableCapital[Anzahl],ScalableCapital[ISIN],ScalableCapital[[#This Row],[ISIN]],ScalableCapital[Name],">"&ScalableCapital[[#This Row],[Name]],ScalableCapital[Anzahl],">0",ScalableCapital[Umsätze],"") -> 0 | N7: =SUMIFS(ScalableCapital[Anzahl],ScalableCapital[ISIN],ScalableCapital[[#This Row],[ISIN]],ScalableCapital[Datum],"<"&ScalableCapital[[#This Row],[Im Depot seit]],ScalableCapital[Im Depot seit],"<"&ScalableCapital[[#This Row],[Im Depot seit]],ScalableCapital[Anzahl],">0",ScalableCapital[Umsätze],"") -> 0 | O7: =SUMIFS(ScalableCapital[Anzahl],ScalableCapital[ISIN],ScalableCapital[[#This Row],[ISIN]],ScalableCapital[Name],">"&ScalableCapital[[#This Row],[Name]],ScalableCapital[Datum],"<"&ScalableCapital[Im Depot seit],ScalableCapital[Anzahl],">0",ScalableCapital[Umsätze],"") -> 0 | P7: =SUMIFS(ScalableCapital[Anzahl],ScalableCapital[ISIN],ScalableCapital[[#This Row],[ISIN]],ScalableCapital[Name],"<" & ScalableCapital[[#This Row],[Name]],ScalableCapital[Im Depot seit],"<" & ScalableCapital[[#This Row],[Im Depot seit]],ScalableCapital[Anzahl], ">0",ScalableCapital[Umsätze],"") -> 0 | Q7: =SUMIFS(ScalableCapital[Anzahl],ScalableCapital[ISIN],ScalableCapital[[#This Row],[ISIN]],ScalableCapital[Im Depot seit],"<"&ScalableCapital[[#This Row],[Im Depot seit]],ScalableCapital[Umsätze],"") -> 0 | R7: =SUMIFS(ScalableCapital[Anzahl],ScalableCapital[ISIN],ScalableCapital[[#This Row],[ISIN]],ScalableCapital[Name],"<"&ScalableCapital[[#This Row],[Name]],ScalableCapital[Im Depot seit],"<"&ScalableCapital[[#This Row],[Im Depot seit]],ScalableCapital[Anzahl],"<0",ScalableCapital[Umsätze],"")*-1 -> 0 | S7: =IF(ScalableCapital[Anzahl]>0,SUMIFS(ScalableCapital[Anzahl],ScalableCapital[ISIN],ScalableCapital[[#This Row],[ISIN]],ScalableCapital[Name],">"&ScalableCapital[[#This Row],[Name]],ScalableCapital[Datum],"<"&ScalableCapital[[#This Row],[Im Depot seit]],ScalableCapital[Anzahl],"<0",ScalableCapital[Umsätze],""),"")*-1 -> 0 | T7: =SUMIFS(ScalableCapital[Anzahl],ScalableCapital[ISIN],ScalableCapital[[#This Row],[ISIN]],ScalableCapital[Datum],"<"&ScalableCapital[[#This Row],[Im Depot seit]],ScalableCapital[Anzahl],"<0",ScalableCapital[Umsätze],"")*-1 -> 0 | U7: =SUMIFS(ScalableCapital[Anzahl],ScalableCapital[ISIN],ScalableCapital[[#This Row],[ISIN]],ScalableCapital[Datum],">="&ScalableCapital[[#This Row],[Im Depot seit]],ScalableCapital[Anzahl],"<0",ScalableCapital[Umsätze],"")*-1 -> 0
A8: Aus | B8: DE0008490962 | C8: DWS Fond | D8: 43971 | F8: =IF(ScalableCapital[Umsätze]="","",SUMIFS(ScalableCapital[Anzahl],ScalableCapital[Name],">=0",ScalableCapital[ISIN],ScalableCapital[[#This Row],[ISIN]])) -> 20 | G8: =IF(ScalableCapital[[#This Row],[Umsätze]]="",IF(ScalableCapital[[#This Row],[Anzahl]]<0,"",IF(IF(ScalableCapital[[#This Row],[Name]]>0,IF(ScalableCapital[Anzahl]<0,0,SUM(SUMIFS(ScalableCapital[Anzahl],ScalableCapital[Name],">0",ScalableCapital[Name],"<="&ScalableCapital[[#This Row],[Name]],ScalableCapital[Anzahl],">=0",ScalableCapital[ISIN],ScalableCapital[[#This Row],[ISIN]]),SUMIFS(ScalableCapital[Anzahl],ScalableCapital[Name],">0",ScalableCapital[Anzahl],"<0",ScalableCapital[ISIN],ScalableCapital[[#This Row],[ISIN]]))),ScalableCapital[[#This Row],[Anzahl]])<0,0,IF(ScalableCapital[[#This Row],[Name]]>0,IF(ScalableCapital[Anzahl]<0,0,SUM(SUMIFS(ScalableCapital[Anzahl],ScalableCapital[Name],">0",ScalableCapital[Name],"<="&ScalableCapital[[#This Row],[Name]],ScalableCapital[Anzahl],">=0",ScalableCapital[ISIN],ScalableCapital[[#This Row],[ISIN]]),SUMIFS(ScalableCapital[Anzahl],ScalableCapital[Name],">0",ScalableCapital[Anzahl],"<0",ScalableCapital[ISIN],ScalableCapital[[#This Row],[ISIN]]))),#REF!)-SUMIFS(ScalableCapital[Noch vorhanden ST],ScalableCapital[Name],">0",ScalableCapital[Name],"<"&ScalableCapital[[#This Row],[Name]],ScalableCapital[ISIN],ScalableCapital[[#This Row],[ISIN]]))),ScalableCapital[[#This Row],[Anzahl]]) -> 20 | H8: =IF((ScalableCapital[[#This Row],[Vorhanden bis im Depot seit]]-ScalableCapital[[#This Row],[Gekauft nach Kauf und vor im Depot]])<0,ScalableCapital[[#This Row],[Anzahl]]-ScalableCapital[[#This Row],[Verkauft nach im Depot]],(ScalableCapital[[#This Row],[Vorhanden bis im Depot seit]]-ScalableCapital[[#This Row],[Gekauft nach Kauf und vor im Depot]])+ScalableCapital[[#This Row],[Anzahl]]-ScalableCapital[[#This Row],[Verkauft nach im Depot]]+SUMIFS(ScalableCapital[Anzahl],ScalableCapital[ISIN],ScalableCapital[[#This Row],[ISIN]],ScalableCapital[Name],"<"&ScalableCapital[[#This Row],[Name]],ScalableCapital[Im Depot seit],">"&ScalableCapital[[#This Row],[Im Depot seit]],ScalableCapital[Anzahl],">0",ScalableCapital[Umsätze],"")-SUMIFS(ScalableCapital[Noch vorhanden Test 5],ScalableCapital[ISIN],ScalableCapital[[#This Row],[ISIN]],ScalableCapital[Name],"<"&ScalableCapital[[#This Row],[Name]],ScalableCapital[Im Depot seit],">"&ScalableCapital[[#This Row],[Im Depot seit]],ScalableCapital[Anzahl],">0",ScalableCapital[Umsätze],"")) -> 65 | I8: =IF(((ScalableCapital[[#This Row],[Gekauft vor im Depot]]-ScalableCapital[[#This Row],[Verkauft vor im Depot]])-ScalableCapital[[#This Row],[Gekauft nach Kauf und vor im Depot]])<0,ScalableCapital[[#This Row],[Anzahl]]-ScalableCapital[[#This Row],[Verkauft nach im Depot]],) -> 0 | J8: =IF(IF(((ScalableCapital[[#This Row],[Gekauft vor im Depot]]-ScalableCapital[[#This Row],[Verkauft vor im Depot]])-ScalableCapital[[#This Row],[Gekauft nach Kauf]])<0,ScalableCapital[[#This Row],[Anzahl]]-ScalableCapital[[#This Row],[Verkauft nach im Depot]],((ScalableCapital[[#This Row],[Gekauft vor im Depot]]-ScalableCapital[[#This Row],[Verkauft vor im Depot]])-ScalableCapital[[#This Row],[Gekauft nach Kauf]])+ScalableCapital[[#This Row],[Anzahl]]-ScalableCapital[[#This Row],[Verkauft nach im Depot]])<0,0,IF(IF(((ScalableCapital[[#This Row],[Gekauft vor im Depot]]-ScalableCapital[[#This Row],[Verkauft vor im Depot]])-ScalableCapital[[#This Row],[Gekauft nach Kauf]])<0,ScalableCapital[[#This Row],[Anzahl]]-ScalableCapital[[#This Row],[Verkauft nach im Depot]],((ScalableCapital[[#This Row],[Gekauft vor im Depot]]-ScalableCapital[[#This Row],[Verkauft vor im Depot]])-ScalableCapital[[#This Row],[Gekauft nach Kauf]])+ScalableCapital[[#This Row],[Anzahl]]-ScalableCapital[[#This Row],[Verkauft nach im Depot]])>ScalableCapital[[#This Row],[Anzahl]],ScalableCapital[[#This Row],[Anzahl]],IF(((ScalableCapital[[#This Row],[Gekauft vor im Depot]]-ScalableCapital[[#This Row],[Verkauft vor im Depot]])-ScalableCapital[[#This Row],[Gekauft nach Kauf]])<0,ScalableCapital[[#This Row],[Anzahl]]-ScalableCapital[[#This Row],[Verkauft nach im Depot]],((ScalableCapital[[#This Row],[Gekauft vor im Depot]]-ScalableCapital[[#This Row],[Verkauft vor im Depot]])-ScalableCapital[[#This Row],[Gekauft nach Kauf]])+ScalableCapital[[#This Row],[Anzahl]]-ScalableCapital[[#This Row],[Verkauft nach im Depot]]))) -> 20 | K8: =IF((ScalableCapital[[#This Row],[Gekauft vor Kauf und im Depot seit]]+ScalableCapital[[#This Row],[Anzahl]]-ScalableCapital[[#This Row],[Verkäufe vor Kauf und vor im Depot]]-ScalableCapital[[#This Row],[Verkauft nach im Depot]])<0,0,IF(ScalableCapital[[#This Row],[Gekauft vor Kauf und im Depot seit]]+ScalableCapital[[#This Row],[Anzahl]]-ScalableCapital[[#This Row],[Verkäufe vor Kauf und vor im Depot]]-ScalableCapital[[#This Row],[Verkauft nach im Depot]]>ScalableCapital[[#This Row],[Anzahl]],ScalableCapital[[#This Row],[Anzahl]],ScalableCapital[[#This Row],[Gekauft vor Kauf und im Depot seit]]+ScalableCapital[[#This Row],[Anzahl]]-ScalableCapital[[#This Row],[Verkäufe vor Kauf und vor im Depot]]-ScalableCapital[[#This Row],[Verkauft nach im Depot]])) -> 20 | L8: =SUMIFS(ScalableCapital[Anzahl],ScalableCapital[ISIN],ScalableCapital[[#This Row],[ISIN]],ScalableCapital[Name],"<"&ScalableCapital[[#This Row],[Name]],ScalableCapital[Anzahl],">0",ScalableCapital[Umsätze],"") -> 55 | M8: =SUMIFS(ScalableCapital[Anzahl],ScalableCapital[ISIN],ScalableCapital[[#This Row],[ISIN]],ScalableCapital[Name],">"&ScalableCapital[[#This Row],[Name]],ScalableCapital[Anzahl],">0",ScalableCapital[Umsätze],"") -> 0 | N8: =SUMIFS(ScalableCapital[Anzahl],ScalableCapital[ISIN],ScalableCapital[[#This Row],[ISIN]],ScalableCapital[Datum],"<"&ScalableCapital[[#This Row],[Im Depot seit]],ScalableCapital[Im Depot seit],"<"&ScalableCapital[[#This Row],[Im Depot seit]],ScalableCapital[Anzahl],">0",ScalableCapital[Umsätze],"") -> 55 | O8: =SUMIFS(ScalableCapital[Anzahl],ScalableCapital[ISIN],ScalableCapital[[#This Row],[ISIN]],ScalableCapital[Name],">"&ScalableCapital[[#This Row],[Name]],ScalableCapital[Datum],"<"&ScalableCapital[Im Depot seit],ScalableCapital[Anzahl],">0",ScalableCapital[Umsätze],"") -> 0 | P8: =SUMIFS(ScalableCapital[Anzahl],ScalableCapital[ISIN],ScalableCapital[[#This Row],[ISIN]],ScalableCapital[Name],"<"&ScalableCapital[[#This Row],[Name]],ScalableCapital[Im Depot seit],"<"&ScalableCapital[[#This Row],[Im Depot seit]],ScalableCapital[Anzahl],">0",ScalableCapital[Umsätze],"") -> 55 | Q8: =SUMIFS(ScalableCapital[Anzahl],ScalableCapital[ISIN],ScalableCapital[[#This Row],[ISIN]],ScalableCapital[Im Depot seit],"<"&ScalableCapital[[#This Row],[Im Depot seit]],ScalableCapital[Umsätze],"") -> 45 | R8: =SUMIFS(ScalableCapital[Anzahl],ScalableCapital[ISIN],ScalableCapital[[#This Row],[ISIN]],ScalableCapital[Name],"<"&ScalableCapital[[#This Row],[Name]],ScalableCapital[Im Depot seit],"<"&ScalableCapital[[#This Row],[Im Depot seit]],ScalableCapital[Anzahl],"<0",ScalableCapital[Umsätze],"")*-1 -> 10 | S8: =IF(ScalableCapital[Anzahl]>0,SUMIFS(ScalableCapital[Anzahl],ScalableCapital[ISIN],ScalableCapital[[#This Row],[ISIN]],ScalableCapital[Name],">"&ScalableCapital[[#This Row],[Name]],ScalableCapital[Datum],"<"&ScalableCapital[[#This Row],[Im Depot seit]],ScalableCapital[Anzahl],"<0",ScalableCapital[Umsätze],""),"")*-1 -> 0 | T8: =SUMIFS(ScalableCapital[Anzahl],ScalableCapital[ISIN],ScalableCapital[[#This Row],[ISIN]],ScalableCapital[Datum],"<"&ScalableCapital[[#This Row],[Im Depot seit]],ScalableCapital[Anzahl],"<0",ScalableCapital[Umsätze],"")*-1 -> 35 | U8: =SUMIFS(ScalableCapital[Anzahl],ScalableCapital[ISIN],ScalableCapital[[#This Row],[ISIN]],ScalableCapital[Datum],">="&ScalableCapital[[#This Row],[Im Depot seit]],ScalableCapital[Anzahl],"<0",ScalableCapital[Umsätze],"")*-1 -> 0 | V8: Ausblenden | AA8: Ausblenden
B9: DE0008490962 | C9: 7 | D9: 45463 | F9: -20 | G9: =IF(ScalableCapital[[#This Row],[Umsätze]]="",IF(ScalableCapital[[#This Row],[Anzahl]]<0,"",IF(IF(ScalableCapital[[#This Row],[Name]]>0,IF(ScalableCapital[Anzahl]<0,0,SUM(SUMIFS(ScalableCapital[Anzahl],ScalableCapital[Name],">0",ScalableCapital[Name],"<="&ScalableCapital[[#This Row],[Name]],ScalableCapital[Anzahl],">=0",ScalableCapital[ISIN],ScalableCapital[[#This Row],[ISIN]]),SUMIFS(ScalableCapital[Anzahl],ScalableCapital[Name],">0",ScalableCapital[Anzahl],"<0",ScalableCapital[ISIN],ScalableCapital[[#This Row],[ISIN]]))),ScalableCapital[[#This Row],[Anzahl]])<0,0,IF(ScalableCapital[[#This Row],[Name]]>0,IF(ScalableCapital[Anzahl]<0,0,SUM(SUMIFS(ScalableCapital[Anzahl],ScalableCapital[Name],">0",ScalableCapital[Name],"<="&ScalableCapital[[#This Row],[Name]],ScalableCapital[Anzahl],">=0",ScalableCapital[ISIN],ScalableCapital[[#This Row],[ISIN]]),SUMIFS(ScalableCapital[Anzahl],ScalableCapital[Name],">0",ScalableCapital[Anzahl],"<0",ScalableCapital[ISIN],ScalableCapital[[#This Row],[ISIN]]))),#REF!)-SUMIFS(ScalableCapital[Noch vorhanden ST],ScalableCapital[Name],">0",ScalableCapital[Name],"<"&ScalableCapital[[#This Row],[Name]],ScalableCapital[ISIN],ScalableCapital[[#This Row],[ISIN]]))),ScalableCapital[[#This Row],[Anzahl]]) | H9: =IF((ScalableCapital[[#This Row],[Vorhanden bis im Depot seit]]-ScalableCapital[[#This Row],[Gekauft nach Kauf und vor im Depot]])<0,ScalableCapital[[#This Row],[Anzahl]]-ScalableCapital[[#This Row],[Verkauft nach im Depot]],(ScalableCapital[[#This Row],[Vorhanden bis im Depot seit]]-ScalableCapital[[#This Row],[Gekauft nach Kauf und vor im Depot]])+ScalableCapital[[#This Row],[Anzahl]]-ScalableCapital[[#This Row],[Verkauft nach im Depot]]+SUMIFS(ScalableCapital[Anzahl],ScalableCapital[ISIN],ScalableCapital[[#This Row],[ISIN]],ScalableCapital[Name],"<"&ScalableCapital[[#This Row],[Name]],ScalableCapital[Im Depot seit],">"&ScalableCapital[[#This Row],[Im Depot seit]],ScalableCapital[Anzahl],">0",ScalableCapital[Umsätze],"")-SUMIFS(ScalableCapital[Noch vorhanden Test 5],ScalableCapital[ISIN],ScalableCapital[[#This Row],[ISIN]],ScalableCapital[Name],"<"&ScalableCapital[[#This Row],[Name]],ScalableCapital[Im Depot seit],">"&ScalableCapital[[#This Row],[Im Depot seit]],ScalableCapital[Anzahl],">0",ScalableCapital[Umsätze],"")) -> 25 | I9: =IF(((ScalableCapital[[#This Row],[Gekauft vor im Depot]]-ScalableCapital[[#This Row],[Verkauft vor im Depot]])-ScalableCapital[[#This Row],[Gekauft nach Kauf und vor im Depot]])<0,ScalableCapital[[#This Row],[Anzahl]]-ScalableCapital[[#This Row],[Verkauft nach im Depot]],) -> 0 | J9: =IF(IF(((ScalableCapital[[#This Row],[Gekauft vor im Depot]]-ScalableCapital[[#This Row],[Verkauft vor im Depot]])-ScalableCapital[[#This Row],[Gekauft nach Kauf]])<0,ScalableCapital[[#This Row],[Anzahl]]-ScalableCapital[[#This Row],[Verkauft nach im Depot]],((ScalableCapital[[#This Row],[Gekauft vor im Depot]]-ScalableCapital[[#This Row],[Verkauft vor im Depot]])-ScalableCapital[[#This Row],[Gekauft nach Kauf]])+ScalableCapital[[#This Row],[Anzahl]]-ScalableCapital[[#This Row],[Verkauft nach im Depot]])<0,0,IF(IF(((ScalableCapital[[#This Row],[Gekauft vor im Depot]]-ScalableCapital[[#This Row],[Verkauft vor im Depot]])-ScalableCapital[[#This Row],[Gekauft nach Kauf]])<0,ScalableCapital[[#This Row],[Anzahl]]-ScalableCapital[[#This Row],[Verkauft nach im Depot]],((ScalableCapital[[#This Row],[Gekauft vor im Depot]]-ScalableCapital[[#This Row],[Verkauft vor im Depot]])-ScalableCapital[[#This Row],[Gekauft nach Kauf]])+ScalableCapital[[#This Row],[Anzahl]]-ScalableCapital[[#This Row],[Verkauft nach im Depot]])>ScalableCapital[[#This Row],[Anzahl]],ScalableCapital[[#This Row],[Anzahl]],IF(((ScalableCapital[[#This Row],[Gekauft vor im Depot]]-ScalableCapital[[#This Row],[Verkauft vor im Depot]])-ScalableCapital[[#This Row],[Gekauft nach Kauf]])<0,ScalableCapital[[#This Row],[Anzahl]]-ScalableCapital[[#This Row],[Verkauft nach im Depot]],((ScalableCapital[[#This Row],[Gekauft vor im Depot]]-ScalableCapital[[#This Row],[Verkauft vor im Depot]])-ScalableCapital[[#This Row],[Gekauft nach Kauf]])+ScalableCapital[[#This Row],[Anzahl]]-ScalableCapital[[#This Row],[Verkauft nach im Depot]]))) -> -20 | K9: =IF((ScalableCapital[[#This Row],[Gekauft vor Kauf und im Depot seit]]+ScalableCapital[[#This Row],[Anzahl]]-ScalableCapital[[#This Row],[Verkäufe vor Kauf und vor im Depot]]-ScalableCapital[[#This Row],[Verkauft nach im Depot]])<0,0,IF(ScalableCapital[[#This Row],[Gekauft vor Kauf und im Depot seit]]+ScalableCapital[[#This Row],[Anzahl]]-ScalableCapital[[#This Row],[Verkäufe vor Kauf und vor im Depot]]-ScalableCapital[[#This Row],[Verkauft nach im Depot]]>ScalableCapital[[#This Row],[Anzahl]],ScalableCapital[[#This Row],[Anzahl]],ScalableCapital[[#This Row],[Gekauft vor Kauf und im Depot seit]]+ScalableCapital[[#This Row],[Anzahl]]-ScalableCapital[[#This Row],[Verkäufe vor Kauf und vor im Depot]]-ScalableCapital[[#This Row],[Verkauft nach im Depot]])) -> -20 | L9: =SUMIFS(ScalableCapital[Anzahl],ScalableCapital[ISIN],ScalableCapital[[#This Row],[ISIN]],ScalableCapital[Name],"<"&ScalableCapital[[#This Row],[Name]],ScalableCapital[Anzahl],">0",ScalableCapital[Umsätze],"") -> 55 | M9: =SUMIFS(ScalableCapital[Anzahl],ScalableCapital[ISIN],ScalableCapital[[#This Row],[ISIN]],ScalableCapital[Name],">"&ScalableCapital[[#This Row],[Name]],ScalableCapital[Anzahl],">0",ScalableCapital[Umsätze],"") -> 0 | N9: =SUMIFS(ScalableCapital[Anzahl],ScalableCapital[ISIN],ScalableCapital[[#This Row],[ISIN]],ScalableCapital[Datum],"<"&ScalableCapital[[#This Row],[Im Depot seit]],ScalableCapital[Im Depot seit],"<"&ScalableCapital[[#This Row],[Im Depot seit]],ScalableCapital[Anzahl],">0",ScalableCapital[Umsätze],"") -> 55 | O9: =SUMIFS(ScalableCapital[Anzahl],ScalableCapital[ISIN],ScalableCapital[[#This Row],[ISIN]],ScalableCapital[Name],">"&ScalableCapital[[#This Row],[Name]],ScalableCapital[Datum],"<"&ScalableCapital[Im Depot seit],ScalableCapital[Anzahl],">0",ScalableCapital[Umsätze],"") -> 0 | P9: =SUMIFS(ScalableCapital[Anzahl],ScalableCapital[ISIN],ScalableCapital[[#This Row],[ISIN]],ScalableCapital[Name],"<"&ScalableCapital[[#This Row],[Name]],ScalableCapital[Im Depot seit],"<"&ScalableCapital[[#This Row],[Im Depot seit]],ScalableCapital[Anzahl],">0",ScalableCapital[Umsätze],"") -> 55 | Q9: =SUMIFS(ScalableCapital[Anzahl],ScalableCapital[ISIN],ScalableCapital[[#This Row],[ISIN]],ScalableCapital[Im Depot seit],"<"&ScalableCapital[[#This Row],[Im Depot seit]],ScalableCapital[Umsätze],"") -> 45 | R9: =SUMIFS(ScalableCapital[Anzahl],ScalableCapital[ISIN],ScalableCapital[[#This Row],[ISIN]],ScalableCapital[Name],"<"&ScalableCapital[[#This Row],[Name]],ScalableCapital[Im Depot seit],"<"&ScalableCapital[[#This Row],[Im Depot seit]],ScalableCapital[Anzahl],"<0",ScalableCapital[Umsätze],"")*-1 -> 10 | S9: =IF(ScalableCapital[Anzahl]>0,SUMIFS(ScalableCapital[Anzahl],ScalableCapital[ISIN],ScalableCapital[[#This Row],[ISIN]],ScalableCapital[Name],">"&ScalableCapital[[#This Row],[Name]],ScalableCapital[Datum],"<"&ScalableCapital[[#This Row],[Im Depot seit]],ScalableCapital[Anzahl],"<0",ScalableCapital[Umsätze],""),"")*-1 -> #VALUE! | T9: =SUMIFS(ScalableCapital[Anzahl],ScalableCapital[ISIN],ScalableCapital[[#This Row],[ISIN]],ScalableCapital[Datum],"<"&ScalableCapital[[#This Row],[Im Depot seit]],ScalableCapital[Anzahl],"<0",ScalableCapital[Umsätze],"")*-1 -> 35 | U9: =SUMIFS(ScalableCapital[Anzahl],ScalableCapital[ISIN],ScalableCapital[[#This Row],[ISIN]],ScalableCapital[Datum],">="&ScalableCapital[[#This Row],[Im Depot seit]],ScalableCapital[Anzahl],"<0",ScalableCapital[Umsätze],"")*-1 -> 0
B10: DE0008490962 | C10: 6 | D10: 44032 | F10: -5 | G10: =IF(ScalableCapital[[#This Row],[Umsätze]]="",IF(ScalableCapital[[#This Row],[Anzahl]]<0,"",IF(IF(ScalableCapital[[#This Row],[Name]]>0,IF(ScalableCapital[Anzahl]<0,0,SUM(SUMIFS(ScalableCapital[Anzahl],ScalableCapital[Name],">0",ScalableCapital[Name],"<="&ScalableCapital[[#This Row],[Name]],ScalableCapital[Anzahl],">=0",ScalableCapital[ISIN],ScalableCapital[[#This Row],[ISIN]]),SUMIFS(ScalableCapital[Anzahl],ScalableCapital[Name],">0",ScalableCapital[Anzahl],"<0",ScalableCapital[ISIN],ScalableCapital[[#This Row],[ISIN]]))),ScalableCapital[[#This Row],[Anzahl]])<0,0,IF(ScalableCapital[[#This Row],[Name]]>0,IF(ScalableCapital[Anzahl]<0,0,SUM(SUMIFS(ScalableCapital[Anzahl],ScalableCapital[Name],">0",ScalableCapital[Name],"<="&ScalableCapital[[#This Row],[Name]],ScalableCapital[Anzahl],">=0",ScalableCapital[ISIN],ScalableCapital[[#This Row],[ISIN]]),SUMIFS(ScalableCapital[Anzahl],ScalableCapital[Name],">0",ScalableCapital[Anzahl],"<0",ScalableCapital[ISIN],ScalableCapital[[#This Row],[ISIN]]))),#REF!)-SUMIFS(ScalableCapital[Noch vorhanden ST],ScalableCapital[Name],">0",ScalableCapital[Name],"<"&ScalableCapital[[#This Row],[Name]],ScalableCapital[ISIN],ScalableCapital[[#This Row],[ISIN]]))),ScalableCapital[[#This Row],[Anzahl]]) | H10: =IF((ScalableCapital[[#This Row],[Vorhanden bis im Depot seit]]-ScalableCapital[[#This Row],[Gekauft nach Kauf und vor im Depot]])<0,ScalableCapital[[#This Row],[Anzahl]]-ScalableCapital[[#This Row],[Verkauft nach im Depot]],(ScalableCapital[[#This Row],[Vorhanden bis im Depot seit]]-ScalableCapital[[#This Row],[Gekauft nach Kauf und vor im Depot]])+ScalableCapital[[#This Row],[Anzahl]]-ScalableCapital[[#This Row],[Verkauft nach im Depot]]+SUMIFS(ScalableCapital[Anzahl],ScalableCapital[ISIN],ScalableCapital[[#This Row],[ISIN]],ScalableCapital[Name],"<"&ScalableCapital[[#This Row],[Name]],ScalableCapital[Im Depot seit],">"&ScalableCapital[[#This Row],[Im Depot seit]],ScalableCapital[Anzahl],">0",ScalableCapital[Umsätze],"")-SUMIFS(ScalableCapital[Noch vorhanden Test 5],ScalableCapital[ISIN],ScalableCapital[[#This Row],[ISIN]],ScalableCapital[Name],"<"&ScalableCapital[[#This Row],[Name]],ScalableCapital[Im Depot seit],">"&ScalableCapital[[#This Row],[Im Depot seit]],ScalableCapital[Anzahl],">0",ScalableCapital[Umsätze],"")) -> 40 | I10: =IF(((ScalableCapital[[#This Row],[Gekauft vor im Depot]]-ScalableCapital[[#This Row],[Verkauft vor im Depot]])-ScalableCapital[[#This Row],[Gekauft nach Kauf und vor im Depot]])<0,ScalableCapital[[#This Row],[Anzahl]]-ScalableCapital[[#This Row],[Verkauft nach im Depot]],) -> 0 | J10: =IF(IF(((ScalableCapital[[#This Row],[Gekauft vor im Depot]]-ScalableCapital[[#This Row],[Verkauft vor im Depot]])-ScalableCapital[[#This Row],[Gekauft nach Kauf]])<0,ScalableCapital[[#This Row],[Anzahl]]-ScalableCapital[[#This Row],[Verkauft nach im Depot]],((ScalableCapital[[#This Row],[Gekauft vor im Depot]]-ScalableCapital[[#This Row],[Verkauft vor im Depot]])-ScalableCapital[[#This Row],[Gekauft nach Kauf]])+ScalableCapital[[#This Row],[Anzahl]]-ScalableCapital[[#This Row],[Verkauft nach im Depot]])<0,0,IF(IF(((ScalableCapital[[#This Row],[Gekauft vor im Depot]]-ScalableCapital[[#This Row],[Verkauft vor im Depot]])-ScalableCapital[[#This Row],[Gekauft nach Kauf]])<0,ScalableCapital[[#This Row],[Anzahl]]-ScalableCapital[[#This Row],[Verkauft nach im Depot]],((ScalableCapital[[#This Row],[Gekauft vor im Depot]]-ScalableCapital[[#This Row],[Verkauft vor im Depot]])-ScalableCapital[[#This Row],[Gekauft nach Kauf]])+ScalableCapital[[#This Row],[Anzahl]]-ScalableCapital[[#This Row],[Verkauft nach im Depot]])>ScalableCapital[[#This Row],[Anzahl]],ScalableCapital[[#This Row],[Anzahl]],IF(((ScalableCapital[[#This Row],[Gekauft vor im Depot]]-ScalableCapital[[#This Row],[Verkauft vor im Depot]])-ScalableCapital[[#This Row],[Gekauft nach Kauf]])<0,ScalableCapital[[#This Row],[Anzahl]]-ScalableCapital[[#This Row],[Verkauft nach im Depot]],((ScalableCapital[[#This Row],[Gekauft vor im Depot]]-ScalableCapital[[#This Row],[Verkauft vor im Depot]])-ScalableCapital[[#This Row],[Gekauft nach Kauf]])+ScalableCapital[[#This Row],[Anzahl]]-ScalableCapital[[#This Row],[Verkauft nach im Depot]]))) -> -5 | K10: =IF((ScalableCapital[[#This Row],[Gekauft vor Kauf und im Depot seit]]+ScalableCapital[[#This Row],[Anzahl]]-ScalableCapital[[#This Row],[Verkäufe vor Kauf und vor im Depot]]-ScalableCapital[[#This Row],[Verkauft nach im Depot]])<0,0,IF(ScalableCapital[[#This Row],[Gekauft vor Kauf und im Depot seit]]+ScalableCapital[[#This Row],[Anzahl]]-ScalableCapital[[#This Row],[Verkäufe vor Kauf und vor im Depot]]-ScalableCapital[[#This Row],[Verkauft nach im Depot]]>ScalableCapital[[#This Row],[Anzahl]],ScalableCapital[[#This Row],[Anzahl]],ScalableCapital[[#This Row],[Gekauft vor Kauf und im Depot seit]]+ScalableCapital[[#This Row],[Anzahl]]-ScalableCapital[[#This Row],[Verkäufe vor Kauf und vor im Depot]]-ScalableCapital[[#This Row],[Verkauft nach im Depot]])) -> -5 | L10: =SUMIFS(ScalableCapital[Anzahl],ScalableCapital[ISIN],ScalableCapital[[#This Row],[ISIN]],ScalableCapital[Name],"<"&ScalableCapital[[#This Row],[Name]],ScalableCapital[Anzahl],">0",ScalableCapital[Umsätze],"") -> 55 | M10: =SUMIFS(ScalableCapital[Anzahl],ScalableCapital[ISIN],ScalableCapital[[#This Row],[ISIN]],ScalableCapital[Name],">"&ScalableCapital[[#This Row],[Name]],ScalableCapital[Anzahl],">0",ScalableCapital[Umsätze],"") -> 0 | N10: =SUMIFS(ScalableCapital[Anzahl],ScalableCapital[ISIN],ScalableCapital[[#This Row],[ISIN]],ScalableCapital[Datum],"<"&ScalableCapital[[#This Row],[Im Depot seit]],ScalableCapital[Im Depot seit],"<"&ScalableCapital[[#This Row],[Im Depot seit]],ScalableCapital[Anzahl],">0",ScalableCapital[Umsätze],"") -> 55 | O10: =SUMIFS(ScalableCapital[Anzahl],ScalableCapital[ISIN],ScalableCapital[[#This Row],[ISIN]],ScalableCapital[Name],">"&ScalableCapital[[#This Row],[Name]],ScalableCapital[Datum],"<"&ScalableCapital[Im Depot seit],ScalableCapital[Anzahl],">0",ScalableCapital[Umsätze],"") -> 0 | P10: =SUMIFS(ScalableCapital[Anzahl],ScalableCapital[ISIN],ScalableCapital[[#This Row],[ISIN]],ScalableCapital[Name],"<"&ScalableCapital[[#This Row],[Name]],ScalableCapital[Im Depot seit],"<"&ScalableCapital[[#This Row],[Im Depot seit]],ScalableCapital[Anzahl],">0",ScalableCapital[Umsätze],"") -> 55 | Q10: =SUMIFS(ScalableCapital[Anzahl],ScalableCapital[ISIN],ScalableCapital[[#This Row],[ISIN]],ScalableCapital[Im Depot seit],"<"&ScalableCapital[[#This Row],[Im Depot seit]],ScalableCapital[Umsätze],"") -> 45 | R10: =SUMIFS(ScalableCapital[Anzahl],ScalableCapital[ISIN],ScalableCapital[[#This Row],[ISIN]],ScalableCapital[Name],"<"&ScalableCapital[[#This Row],[Name]],ScalableCapital[Im Depot seit],"<"&ScalableCapital[[#This Row],[Im Depot seit]],ScalableCapital[Anzahl],"<0",ScalableCapital[Umsätze],"")*-1 -> 10 | S10: =IF(ScalableCapital[Anzahl]>0,SUMIFS(ScalableCapital[Anzahl],ScalableCapital[ISIN],ScalableCapital[[#This Row],[ISIN]],ScalableCapital[Name],">"&ScalableCapital[[#This Row],[Name]],ScalableCapital[Datum],"<"&ScalableCapital[[#This Row],[Im Depot seit]],ScalableCapital[Anzahl],"<0",ScalableCapital[Umsätze],""),"")*-1 -> #VALUE! | T10: =SUMIFS(ScalableCapital[Anzahl],ScalableCapital[ISIN],ScalableCapital[[#This Row],[ISIN]],ScalableCapital[Datum],"<"&ScalableCapital[[#This Row],[Im Depot seit]],ScalableCapital[Anzahl],"<0",ScalableCapital[Umsätze],"")*-1 -> 35 | U10: =SUMIFS(ScalableCapital[Anzahl],ScalableCapital[ISIN],ScalableCapital[[#This Row],[ISIN]],ScalableCapital[Datum],">="&ScalableCapital[[#This Row],[Im Depot seit]],ScalableCapital[Anzahl],"<0",ScalableCapital[Umsätze],"")*-1 -> 0
B11: DE0008490962 | C11: 5 | D11: 44002 | E11: 44002 | F11: -10 | G11: =IF(ScalableCapital[[#This Row],[Umsätze]]="",IF(ScalableCapital[[#This Row],[Anzahl]]<0,"",IF(IF(ScalableCapital[[#This Row],[Name]]>0,IF(ScalableCapital[Anzahl]<0,0,SUM(SUMIFS(ScalableCapital[Anzahl],ScalableCapital[Name],">0",ScalableCapital[Name],"<="&ScalableCapital[[#This Row],[Name]],ScalableCapital[Anzahl],">=0",ScalableCapital[ISIN],ScalableCapital[[#This Row],[ISIN]]),SUMIFS(ScalableCapital[Anzahl],ScalableCapital[Name],">0",ScalableCapital[Anzahl],"<0",ScalableCapital[ISIN],ScalableCapital[[#This Row],[ISIN]]))),ScalableCapital[[#This Row],[Anzahl]])<0,0,IF(ScalableCapital[[#This Row],[Name]]>0,IF(ScalableCapital[Anzahl]<0,0,SUM(SUMIFS(ScalableCapital[Anzahl],ScalableCapital[Name],">0",ScalableCapital[Name],"<="&ScalableCapital[[#This Row],[Name]],ScalableCapital[Anzahl],">=0",ScalableCapital[ISIN],ScalableCapital[[#This Row],[ISIN]]),SUMIFS(ScalableCapital[Anzahl],ScalableCapital[Name],">0",ScalableCapital[Anzahl],"<0",ScalableCapital[ISIN],ScalableCapital[[#This Row],[ISIN]]))),#REF!)-SUMIFS(ScalableCapital[Noch vorhanden ST],ScalableCapital[Name],">0",ScalableCapital[Name],"<"&ScalableCapital[[#This Row],[Name]],ScalableCapital[ISIN],ScalableCapital[[#This Row],[ISIN]]))),ScalableCapital[[#This Row],[Anzahl]]) | H11: =IF((ScalableCapital[[#This Row],[Vorhanden bis im Depot seit]]-ScalableCapital[[#This Row],[Gekauft nach Kauf und vor im Depot]])<0,ScalableCapital[[#This Row],[Anzahl]]-ScalableCapital[[#This Row],[Verkauft nach im Depot]],(ScalableCapital[[#This Row],[Vorhanden bis im Depot seit]]-ScalableCapital[[#This Row],[Gekauft nach Kauf und vor im Depot]])+ScalableCapital[[#This Row],[Anzahl]]-ScalableCapital[[#This Row],[Verkauft nach im Depot]]+SUMIFS(ScalableCapital[Anzahl],ScalableCapital[ISIN],ScalableCapital[[#This Row],[ISIN]],ScalableCapital[Name],"<"&ScalableCapital[[#This Row],[Name]],ScalableCapital[Im Depot seit],">"&ScalableCapital[[#This Row],[Im Depot seit]],ScalableCapital[Anzahl],">0",ScalableCapital[Umsätze],"")-SUMIFS(ScalableCapital[Noch vorhanden Test 5],ScalableCapital[ISIN],ScalableCapital[[#This Row],[ISIN]],ScalableCapital[Name],"<"&ScalableCapital[[#This Row],[Name]],ScalableCapital[Im Depot seit],">"&ScalableCapital[[#This Row],[Im Depot seit]],ScalableCapital[Anzahl],">0",ScalableCapital[Umsätze],"")) -> 20 | I11: =IF(((ScalableCapital[[#This Row],[Gekauft vor im Depot]]-ScalableCapital[[#This Row],[Verkauft vor im Depot]])-ScalableCapital[[#This Row],[Gekauft nach Kauf und vor im Depot]])<0,ScalableCapital[[#This Row],[Anzahl]]-ScalableCapital[[#This Row],[Verkauft nach im Depot]],) -> 0 | J11: =IF(IF(((ScalableCapital[[#This Row],[Gekauft vor im Depot]]-ScalableCapital[[#This Row],[Verkauft vor im Depot]])-ScalableCapital[[#This Row],[Gekauft nach Kauf]])<0,ScalableCapital[[#This Row],[Anzahl]]-ScalableCapital[[#This Row],[Verkauft nach im Depot]],((ScalableCapital[[#This Row],[Gekauft vor im Depot]]-ScalableCapital[[#This Row],[Verkauft vor im Depot]])-ScalableCapital[[#This Row],[Gekauft nach Kauf]])+ScalableCapital[[#This Row],[Anzahl]]-ScalableCapital[[#This Row],[Verkauft nach im Depot]])<0,0,IF(IF(((ScalableCapital[[#This Row],[Gekauft vor im Depot]]-ScalableCapital[[#This Row],[Verkauft vor im Depot]])-ScalableCapital[[#This Row],[Gekauft nach Kauf]])<0,ScalableCapital[[#This Row],[Anzahl]]-ScalableCapital[[#This Row],[Verkauft nach im Depot]],((ScalableCapital[[#This Row],[Gekauft vor im Depot]]-ScalableCapital[[#This Row],[Verkauft vor im Depot]])-ScalableCapital[[#This Row],[Gekauft nach Kauf]])+ScalableCapital[[#This Row],[Anzahl]]-ScalableCapital[[#This Row],[Verkauft nach im Depot]])>ScalableCapital[[#This Row],[Anzahl]],ScalableCapital[[#This Row],[Anzahl]],IF(((ScalableCapital[[#This Row],[Gekauft vor im Depot]]-ScalableCapital[[#This Row],[Verkauft vor im Depot]])-ScalableCapital[[#This Row],[Gekauft nach Kauf]])<0,ScalableCapital[[#This Row],[Anzahl]]-ScalableCapital[[#This Row],[Verkauft nach im Depot]],((ScalableCapital[[#This Row],[Gekauft vor im Depot]]-ScalableCapital[[#This Row],[Verkauft vor im Depot]])-ScalableCapital[[#This Row],[Gekauft nach Kauf]])+ScalableCapital[[#This Row],[Anzahl]]-ScalableCapital[[#This Row],[Verkauft nach im Depot]]))) -> -10 | K11: =IF((ScalableCapital[[#This Row],[Gekauft vor Kauf und im Depot seit]]+ScalableCapital[[#This Row],[Anzahl]]-ScalableCapital[[#This Row],[Verkäufe vor Kauf und vor im Depot]]-ScalableCapital[[#This Row],[Verkauft nach im Depot]])<0,0,IF(ScalableCapital[[#This Row],[Gekauft vor Kauf und im Depot seit]]+ScalableCapital[[#This Row],[Anzahl]]-ScalableCapital[[#This Row],[Verkäufe vor Kauf und vor im Depot]]-ScalableCapital[[#This Row],[Verkauft nach im Depot]]>ScalableCapital[[#This Row],[Anzahl]],ScalableCapital[[#This Row],[Anzahl]],ScalableCapital[[#This Row],[Gekauft vor Kauf und im Depot seit]]+ScalableCapital[[#This Row],[Anzahl]]-ScalableCapital[[#This Row],[Verkäufe vor Kauf und vor im Depot]]-ScalableCapital[[#This Row],[Verkauft nach im Depot]])) -> -10 | L11: =SUMIFS(ScalableCapital[Anzahl],ScalableCapital[ISIN],ScalableCapital[[#This Row],[ISIN]],ScalableCapital[Name],"<"&ScalableCapital[[#This Row],[Name]],ScalableCapital[Anzahl],">0",ScalableCapital[Umsätze],"") -> 55 | M11: =SUMIFS(ScalableCapital[Anzahl],ScalableCapital[ISIN],ScalableCapital[[#This Row],[ISIN]],ScalableCapital[Name],">"&ScalableCapital[[#This Row],[Name]],ScalableCapital[Anzahl],">0",ScalableCapital[Umsätze],"") -> 0 | N11: =SUMIFS(ScalableCapital[Anzahl],ScalableCapital[ISIN],ScalableCapital[[#This Row],[ISIN]],ScalableCapital[Datum],"<"&ScalableCapital[[#This Row],[Im Depot seit]],ScalableCapital[Im Depot seit],"<"&ScalableCapital[[#This Row],[Im Depot seit]],ScalableCapital[Anzahl],">0",ScalableCapital[Umsätze],"") -> 45 | O11: =SUMIFS(ScalableCapital[Anzahl],ScalableCapital[ISIN],ScalableCapital[[#This Row],[ISIN]],ScalableCapital[Name],">"&ScalableCapital[[#This Row],[Name]],ScalableCapital[Datum],"<"&ScalableCapital[Im Depot seit],ScalableCapital[Anzahl],">0",ScalableCapital[Umsätze],"") -> 0 | P11: =SUMIFS(ScalableCapital[Anzahl],ScalableCapital[ISIN],ScalableCapital[[#This Row],[ISIN]],ScalableCapital[Name],"<"&ScalableCapital[[#This Row],[Name]],ScalableCapital[Im Depot seit],"<"&ScalableCapital[[#This Row],[Im Depot seit]],ScalableCapital[Anzahl],">0",ScalableCapital[Umsätze],"") -> 45 | Q11: =SUMIFS(ScalableCapital[Anzahl],ScalableCapital[ISIN],ScalableCapital[[#This Row],[ISIN]],ScalableCapital[Im Depot seit],"<"&ScalableCapital[[#This Row],[Im Depot seit]],ScalableCapital[Umsätze],"") -> 45 | R11: =SUMIFS(ScalableCapital[Anzahl],ScalableCapital[ISIN],ScalableCapital[[#This Row],[ISIN]],ScalableCapital[Name],"<"&ScalableCapital[[#This Row],[Name]],ScalableCapital[Im Depot seit],"<"&ScalableCapital[[#This Row],[Im Depot seit]],ScalableCapital[Anzahl],"<0",ScalableCapital[Umsätze],"")*-1 -> 0 | S11: =IF(ScalableCapital[Anzahl]>0,SUMIFS(ScalableCapital[Anzahl],ScalableCapital[ISIN],ScalableCapital[[#This Row],[ISIN]],ScalableCapital[Name],">"&ScalableCapital[[#This Row],[Name]],ScalableCapital[Datum],"<"&ScalableCapital[[#This Row],[Im Depot seit]],ScalableCapital[Anzahl],"<0",ScalableCapital[Umsätze],""),"")*-1 -> #VALUE! | T11: =SUMIFS(ScalableCapital[Anzahl],ScalableCapital[ISIN],ScalableCapital[[#This Row],[ISIN]],ScalableCapital[Datum],"<"&ScalableCapital[[#This Row],[Im Depot seit]],ScalableCapital[Anzahl],"<0",ScalableCapital[Umsätze],"")*-1 -> 0 | U11: =SUMIFS(ScalableCapital[Anzahl],ScalableCapital[ISIN],ScalableCapital[[#This Row],[ISIN]],ScalableCapital[Datum],">="&ScalableCapital[[#This Row],[Im Depot seit]],ScalableCapital[Anzahl],"<0",ScalableCapital[Umsätze],"")*-1 -> 35
B12: DE0008490962 | C12: 4 | D12: 43971 | E12: 43971 | F12: 10 | G12: =IF(ScalableCapital[[#This Row],[Umsätze]]="",IF(ScalableCapital[[#This Row],[Anzahl]]<0,"",IF(IF(ScalableCapital[[#This Row],[Name]]>0,IF(ScalableCapital[Anzahl]<0,0,SUM(SUMIFS(ScalableCapital[Anzahl],ScalableCapital[Name],">0",ScalableCapital[Name],"<="&ScalableCapital[[#This Row],[Name]],ScalableCapital[Anzahl],">=0",ScalableCapital[ISIN],ScalableCapital[[#This Row],[ISIN]]),SUMIFS(ScalableCapital[Anzahl],ScalableCapital[Name],">0",ScalableCapital[Anzahl],"<0",ScalableCapital[ISIN],ScalableCapital[[#This Row],[ISIN]]))),ScalableCapital[[#This Row],[Anzahl]])<0,0,IF(ScalableCapital[[#This Row],[Name]]>0,IF(ScalableCapital[Anzahl]<0,0,SUM(SUMIFS(ScalableCapital[Anzahl],ScalableCapital[Name],">0",ScalableCapital[Name],"<="&ScalableCapital[[#This Row],[Name]],ScalableCapital[Anzahl],">=0",ScalableCapital[ISIN],ScalableCapital[[#This Row],[ISIN]]),SUMIFS(ScalableCapital[Anzahl],ScalableCapital[Name],">0",ScalableCapital[Anzahl],"<0",ScalableCapital[ISIN],ScalableCapital[[#This Row],[ISIN]]))),#REF!)-SUMIFS(ScalableCapital[Noch vorhanden ST],ScalableCapital[Name],">0",ScalableCapital[Name],"<"&ScalableCapital[[#This Row],[Name]],ScalableCapital[ISIN],ScalableCapital[[#This Row],[ISIN]]))),ScalableCapital[[#This Row],[Anzahl]]) -> 10 | H12: =IF((ScalableCapital[[#This Row],[Vorhanden bis im Depot seit]]-ScalableCapital[[#This Row],[Gekauft nach Kauf und vor im Depot]])<0,ScalableCapital[[#This Row],[Anzahl]]-ScalableCapital[[#This Row],[Verkauft nach im Depot]],(ScalableCapital[[#This Row],[Vorhanden bis im Depot seit]]-ScalableCapital[[#This Row],[Gekauft nach Kauf und vor im Depot]])+ScalableCapital[[#This Row],[Anzahl]]-ScalableCapital[[#This Row],[Verkauft nach im Depot]]+SUMIFS(ScalableCapital[Anzahl],ScalableCapital[ISIN],ScalableCapital[[#This Row],[ISIN]],ScalableCapital[Name],"<"&ScalableCapital[[#This Row],[Name]],ScalableCapital[Im Depot seit],">"&ScalableCapital[[#This Row],[Im Depot seit]],ScalableCapital[Anzahl],">0",ScalableCapital[Umsätze],"")-SUMIFS(ScalableCapital[Noch vorhanden Test 5],ScalableCapital[ISIN],ScalableCapital[[#This Row],[ISIN]],ScalableCapital[Name],"<"&ScalableCapital[[#This Row],[Name]],ScalableCapital[Im Depot seit],">"&ScalableCapital[[#This Row],[Im Depot seit]],ScalableCapital[Anzahl],">0",ScalableCapital[Umsätze],"")) -> 30 | I12: =IF(((ScalableCapital[[#This Row],[Gekauft vor im Depot]]-ScalableCapital[[#This Row],[Verkauft vor im Depot]])-ScalableCapital[[#This Row],[Gekauft nach Kauf und vor im Depot]])<0,ScalableCapital[[#This Row],[Anzahl]]-ScalableCapital[[#This Row],[Verkauft nach im Depot]],) -> 0 | J12: =IF(IF(((ScalableCapital[[#This Row],[Gekauft vor im Depot]]-ScalableCapital[[#This Row],[Verkauft vor im Depot]])-ScalableCapital[[#This Row],[Gekauft nach Kauf]])<0,ScalableCapital[[#This Row],[Anzahl]]-ScalableCapital[[#This Row],[Verkauft nach im Depot]],((ScalableCapital[[#This Row],[Gekauft vor im Depot]]-ScalableCapital[[#This Row],[Verkauft vor im Depot]])-ScalableCapital[[#This Row],[Gekauft nach Kauf]])+ScalableCapital[[#This Row],[Anzahl]]-ScalableCapital[[#This Row],[Verkauft nach im Depot]])<0,0,IF(IF(((ScalableCapital[[#This Row],[Gekauft vor im Depot]]-ScalableCapital[[#This Row],[Verkauft vor im Depot]])-ScalableCapital[[#This Row],[Gekauft nach Kauf]])<0,ScalableCapital[[#This Row],[Anzahl]]-ScalableCapital[[#This Row],[Verkauft nach im Depot]],((ScalableCapital[[#This Row],[Gekauft vor im Depot]]-ScalableCapital[[#This Row],[Verkauft vor im Depot]])-ScalableCapital[[#This Row],[Gekauft nach Kauf]])+ScalableCapital[[#This Row],[Anzahl]]-ScalableCapital[[#This Row],[Verkauft nach im Depot]])>ScalableCapital[[#This Row],[Anzahl]],ScalableCapital[[#This Row],[Anzahl]],IF(((ScalableCapital[[#This Row],[Gekauft vor im Depot]]-ScalableCapital[[#This Row],[Verkauft vor im Depot]])-ScalableCapital[[#This Row],[Gekauft nach Kauf]])<0,ScalableCapital[[#This Row],[Anzahl]]-ScalableCapital[[#This Row],[Verkauft nach im Depot]],((ScalableCapital[[#This Row],[Gekauft vor im Depot]]-ScalableCapital[[#This Row],[Verkauft vor im Depot]])-ScalableCapital[[#This Row],[Gekauft nach Kauf]])+ScalableCapital[[#This Row],[Anzahl]]-ScalableCapital[[#This Row],[Verkauft nach im Depot]]))) -> 10 | K12: =IF((ScalableCapital[[#This Row],[Gekauft vor Kauf und im Depot seit]]+ScalableCapital[[#This Row],[Anzahl]]-ScalableCapital[[#This Row],[Verkäufe vor Kauf und vor im Depot]]-ScalableCapital[[#This Row],[Verkauft nach im Depot]])<0,0,IF(ScalableCapital[[#This Row],[Gekauft vor Kauf und im Depot seit]]+ScalableCapital[[#This Row],[Anzahl]]-ScalableCapital[[#This Row],[Verkäufe vor Kauf und vor im Depot]]-ScalableCapital[[#This Row],[Verkauft nach im Depot]]>ScalableCapital[[#This Row],[Anzahl]],ScalableCapital[[#This Row],[Anzahl]],ScalableCapital[[#This Row],[Gekauft vor Kauf und im Depot seit]]+ScalableCapital[[#This Row],[Anzahl]]-ScalableCapital[[#This Row],[Verkäufe vor Kauf und vor im Depot]]-ScalableCapital[[#This Row],[Verkauft nach im Depot]])) -> 10 | L12: =SUMIFS(ScalableCapital[Anzahl],ScalableCapital[ISIN],ScalableCapital[[#This Row],[ISIN]],ScalableCapital[Name],"<"&ScalableCapital[[#This Row],[Name]],ScalableCapital[Anzahl],">0",ScalableCapital[Umsätze],"") -> 45 | M12: =SUMIFS(ScalableCapital[Anzahl],ScalableCapital[ISIN],ScalableCapital[[#This Row],[ISIN]],ScalableCapital[Name],">"&ScalableCapital[[#This Row],[Name]],ScalableCapital[Anzahl],">0",ScalableCapital[Umsätze],"") -> 0 | N12: =SUMIFS(ScalableCapital[Anzahl],ScalableCapital[ISIN],ScalableCapital[[#This Row],[ISIN]],ScalableCapital[Datum],"<"&ScalableCapital[[#This Row],[Im Depot seit]],ScalableCapital[Im Depot seit],"<"&ScalableCapital[[#This Row],[Im Depot seit]],ScalableCapital[Anzahl],">0",ScalableCapital[Umsätze],"") -> 35 | O12: =SUMIFS(ScalableCapital[Anzahl],ScalableCapital[ISIN],ScalableCapital[[#This Row],[ISIN]],ScalableCapital[Name],">"&ScalableCapital[[#This Row],[Name]],ScalableCapital[Datum],"<"&ScalableCapital[Im Depot seit],ScalableCapital[Anzahl],">0",ScalableCapital[Umsätze],"") -> 0 | P12: =SUMIFS(ScalableCapital[Anzahl],ScalableCapital[ISIN],ScalableCapital[[#This Row],[ISIN]],ScalableCapital[Name],"<"&ScalableCapital[[#This Row],[Name]],ScalableCapital[Im Depot seit],"<"&ScalableCapital[[#This Row],[Im Depot seit]],ScalableCapital[Anzahl],">0",ScalableCapital[Umsätze],"") -> 35 | Q12: =SUMIFS(ScalableCapital[Anzahl],ScalableCapital[ISIN],ScalableCapital[[#This Row],[ISIN]],ScalableCapital[Im Depot seit],"<"&ScalableCapital[[#This Row],[Im Depot seit]],ScalableCapital[Umsätze],"") -> 35 | R12: =SUMIFS(ScalableCapital[Anzahl],ScalableCapital[ISIN],ScalableCapital[[#This Row],[ISIN]],ScalableCapital[Name],"<"&ScalableCapital[[#This Row],[Name]],ScalableCapital[Im Depot seit],"<"&ScalableCapital[[#This Row],[Im Depot seit]],ScalableCapital[Anzahl],"<0",ScalableCapital[Umsätze],"")*-1 -> 0 | S12: =IF(ScalableCapital[Anzahl]>0,SUMIFS(ScalableCapital[Anzahl],ScalableCapital[ISIN],ScalableCapital[[#This Row],[ISIN]],ScalableCapital[Name],">"&ScalableCapital[[#This Row],[Name]],ScalableCapital[Datum],"<"&ScalableCapital[[#This Row],[Im Depot seit]],ScalableCapital[Anzahl],"<0",ScalableCapital[Umsätze],""),"")*-1 -> 0 | T12: =SUMIFS(ScalableCapital[Anzahl],ScalableCapital[ISIN],ScalableCapital[[#This Row],[ISIN]],ScalableCapital[Datum],"<"&ScalableCapital[[#This Row],[Im Depot seit]],ScalableCapital[Anzahl],"<0",ScalableCapital[Umsätze],"")*-1 -> 0 | U12: =SUMIFS(ScalableCapital[Anzahl],ScalableCapital[ISIN],ScalableCapital[[#This Row],[ISIN]],ScalableCapital[Datum],">="&ScalableCapital[[#This Row],[Im Depot seit]],ScalableCapital[Anzahl],"<0",ScalableCapital[Umsätze],"")*-1 -> 35
