Workbook

Sheet Trainingsdaten
C2: Trainingsbereiche
A4: SVERWEIS | B4: Typ | C4: Intensität | D4: HF/Watt | E4: ?
A5: =CONCATENATE(B5,C5) -> LaufenRecom | B5: Laufen | C5: Recom | D5: < 125 | E5: < 125
A6: =CONCATENATE(B6,C6) -> LaufenGA1a | B6: Laufen | C6: GA1a | D6: 125 - 135 | E6: 125 - 135
A7: =CONCATENATE(B7,C7) -> LaufenGA1b | B7: Laufen | C7: GA1b | D7: 136 - 160 | E7: 136 - 160
A8: =CONCATENATE(B8,C8) -> LaufenGA1c | B8: Laufen | C8: GA1c | D8: 161 - 175 | E8: 161 - 175
A9: =CONCATENATE(B9,C9) -> LaufenGA2 | B9: Laufen | C9: GA2 | D9: 176 - 182 | E9: 176 - 182
A10: =CONCATENATE(B10,C10) -> LaufenEB | B10: Laufen | C10: EB | D10: > 182 | E10: > 182
A11: =CONCATENATE(B11,C11) -> LaufenSB | B11: Laufen | C11: SB | D11: > 184 | E11: > 184
A12: =CONCATENATE(B12,C12) -> RadRecom | B12: Rad | C12: Recom | D12: < 156 | E12: < 156
A13: =CONCATENATE(B13,C13) -> RadGA1a | B13: Rad | C13: GA1a | D13: 157 - 212 | E13: 157 - 212
A14: =CONCATENATE(B14,C14) -> RadGA1b | B14: Rad | C14: GA1b | D14: 213 - 255 | E14: 213 - 255
A15: =CONCATENATE(B15,C15) -> RadGA1c | B15: Rad | C15: GA1c | D15: 256 - 297 | E15: 256 - 297
A16: =CONCATENATE(B16,C16) -> RadGA2 | B16: Rad | C16: GA2 | D16: 298 - 340 | E16: 298 - 340
... A18: =CONCATENATE(B18,C18) -> RadSB | B18: Rad | C18: SB | D18: > 567 | E18: > 567

Sheet KW 12
A1: Tag | B1: Datum | C1: Trainingstyp | D1: Dauer | E1: HF/Watt | F1: Intens | G1: Inhalt
A2: =IF(ISBLANK(Tabelle1[[#This Row],[Datum]]),"",) -> 0 | B2: 44277 | C2: Rad | D2: 0.0625 | E2: =VLOOKUP(CONCATENATE(C2,F2),Trainingsdaten!$A$4:$E$18,4,0) -> 157 - 212 | F2: GA1a
A3: =IF(ISBLANK(Tabelle1[[#This Row],[Datum]]),"",) -> 0 | B3: 44278 | C3: Laufen | D3: 0.0625 | E3: =VLOOKUP(CONCATENATE(C3,F3),Trainingsdaten!$A$4:$E$18,4,0) -> 125 - 135 | F3: GA1a | G3: Laufband ca. 15km
A4: =IF(ISBLANK(Tabelle1[[#This Row],[Datum]]),"",) -> 0 | B4: 44278 | C4: Rad | D4: 0.083333333 | E4: =VLOOKUP(CONCATENATE(C4,F4),Trainingsdaten!$A$4:$E$18,4,0) -> 157 - 212 | F4: GA1a | G4: Equipe Training oder Solo
A5: =IF(ISBLANK(Tabelle1[[#This Row],[Datum]]),"",) -> 0 | B5: 44279 | C5: Rad | D5: 0.083333333 | E5: =VLOOKUP(CONCATENATE(C5,F5),Trainingsdaten!$A$4:$E$18,4,0) -> 298 - 340 | F5: GA2 | G5: 10Min Aufwärmen, 2x10Min. 20/40sek (380/150) dazwischen 10Min. 160Watt, 15min 260Watt, 15min. 170Watt. 1x10 Min 30/30sek. (330/170) 5min. 170Watt. 5x1min. 280Watt dazwischen 2min. 160Watt. 10Min Cooldown
A6: =IF(ISBLANK(Tabelle1[[#This Row],[Datum]]),"",) -> 0 | B6: 44279 | C6: Laufen | D6: 0.041666667 | E6: =VLOOKUP(CONCATENATE(C6,F6),Trainingsdaten!$A$4:$E$18,4,0) -> 161 - 175 | F6: GA1C | G6: Koppellauf 10-12KM
A7: =IF(ISBLANK(Tabelle1[[#This Row],[Datum]]),"",) -> 0 | B7: 44280 | C7: Laufen | D7: 0.0625 | E7: =VLOOKUP(CONCATENATE(C7,F7),Trainingsdaten!$A$4:$E$18,4,0) -> 136 - 160 | F7: GA1b | G7: Ca. 17-20km GA1
A8: =IF(ISBLANK(Tabelle1[[#This Row],[Datum]]),"",) -> 0 | B8: 44280 | C8: Rad | D8: 0.083333333 | E8: =VLOOKUP(CONCATENATE(C8,F8),Trainingsdaten!$A$4:$E$18,4,0) -> 157 - 212 | F8: GA1a | G8: 190-200 Watt GA1
A9: =IF(ISBLANK(Tabelle1[[#This Row],[Datum]]),"",) -> 0 | B9: 44281 | C9: Laufen | D9: 0.0625 | E9: =VLOOKUP(CONCATENATE(C9,F9),Trainingsdaten!$A$4:$E$18,4,0) -> 136 - 160 | F9: GA1b | G9: 10Min einlaufen, 2x 5km @4:20km/min, dazw. 2km @5:00km/min, 10Min auslaufen
A10: =IF(ISBLANK(Tabelle1[[#This Row],[Datum]]),"",) -> 0 | B10: 44281 | C10: Rad | D10: 0.083333333 | E10: =VLOOKUP(CONCATENATE(C10,F10),Trainingsdaten!$A$4:$E$18,4,0) -> #N/A | F10: GA1 | G10: GA1 | I10: auf Datenqualität achten
A11: =IF(ISBLANK(Tabelle1[[#This Row],[Datum]]),"",) -> 0 | B11: 44282 | C11: Laufen | D11: 0.083333333 | E11: =VLOOKUP(CONCATENATE(C11,F11),Trainingsdaten!$A$4:$E$18,4,0) -> #N/A | F11: GA1 | G11: Lockerer Dauerlauf, 21-24km.
A12: =IF(ISBLANK(Tabelle1[[#This Row],[Datum]]),"",) -> 0 | B12: 44282 | C12: Rad | D12: 0.0625 | E12: =VLOOKUP(CONCATENATE(C12,F12),Trainingsdaten!$A$4:$E$18,4,0) -> 256 - 297 | F12: GA1c | G12: 10 Min aufwärmen, 2x 10min @260w, dazwischen 15min. @180w. 15min. Cooldown
A13: =IF(ISBLANK(Tabelle1[[#This Row],[Datum]]),"",) -> 0 | B13: 44283 | C13: Laufen | D13: 0.10416667 | E13: =VLOOKUP(CONCATENATE(C13,F13),Trainingsdaten!$A$4:$E$18,4,0) -> #N/A | F13: Beliebig | G13: 25-30km Longrun
A14: =IF(ISBLANK(Tabelle1[[#This Row],[Datum]]),"",) -> 0 | B14: 44283 | C14: Rad | D14: 0.041666667 | E14: =VLOOKUP(CONCATENATE(C14,F14),Trainingsdaten!$A$4:$E$18,4,0) -> #N/A | F14: REKOM | G14: MTB Runde - locker
A15: =IF(ISBLANK(Tabelle1[[#This Row],[Datum]]),"",) | E15: =VLOOKUP(CONCATENATE(C15,F15),Trainingsdaten!$A$4:$E$18,4,0) -> #N/A | I15: Info: Bereich A1 bis G15 = Tabelle. Neue Einträge kann man einfach per Tabulator eintragen. Dadurch erweitert sich die Tabelle und die Formeln für SVERWEIS etc. werden automatisch gefüllt
