Workbook

Sheet Die Size
A2: 6850K | D2: 6900K | G2: 2990wx | J2: 7980XE | M2: 2700X | P2: 6700k | S2: 8700K | V2: 9900K | Y2: 9900K
V3: z370 | Y3: z390
A5: 140 | B5: TDP | D5: 140 | E5: TDP | G5: 250 | H5: TDP | J5: 165 | K5: TDP | M5: 105 | N5: TDP | P5: 91 | Q5: TDP | S5: 95 | T5: TDP | V5: 95 | W5: TDP
A6: 4400 | B6: Mhz | D6: 4000 | E6: Mhz | G6: 3575 | H6: Mhz | J6: 3600 | K6: Mhz | M6: 3700 | N6: Mhz | P6: 4000 | Q6: Mhz | S6: 4300 | T6: Mhz | V6: 4500 | W6: Mhz | Y6: 4500 | Z6: Mhz
A7: 1.3 | B7: V | D7: 1.2 | E7: V | G7: 1.1 | H7: V | J7: 1.05 | K7: V | M7: 1.25 | N7: V | P7: 1.2 | Q7: V | S7: 1.24 | T7: V | V7: 1.02 | W7: V | Y7: 1.02 | Z7: V
A8: 160 | B8: W | D8: 161 | E8: W | G8: 252 | H8: W | J8: 212 | K8: W | M8: 106 | N8: W | P8: 92 | Q8: W | S8: 118 | T8: W | V8: 108 | W8: W | Y8: =V8*1.28 -> 138.24 | Z8: W
A9: =A8/B40 -> 0.63492063 | B9: W/mm² | D9: =D8/B40 -> 0.63888889 | E9: W/mm² | G9: =G8/B45/4 -> 0.30288462 | H9: W/mm² | J9: =J8/B47 -> 0.43801653 | K9: W/mm² | M9: =M8/B46 -> 0.50961538 | N9: W/mm² | P9: =P8/B41 -> 0.75409836 | Q9: W/mm² | S9: =S8/B43 -> 0.78145695 | T9: W/mm² | V9: =V8/B44 -> 0.62068966 | W9: W/mm² | Y9: =Y8/B44 -> 0.79448276 | Z9: W/mm²
A12: 4000 | B12: Mhz | D12: 3700 | E12: Mhz | G12: 3750 | H12: Mhz | J12: 4000 | K12: Mhz | M12: 4200 | N12: Mhz | P12: 4500 | Q12: Mhz | S12: 4700 | T12: Mhz | V12: 4700 | W12: Mhz | Y12: 4700 | Z12: Mhz
A13: 1.2 | B13: V | D13: 1.15 | E13: V | G13: 1.23 | H13: V | J13: 1.15 | K13: V | M13: 1.4 | N13: V | P13: 1.28 | Q13: V | S13: 1.27 | T13: V | V13: 1.08 | W13: V | Y13: 1.08 | Z13: V
A14: 145 | B14: W | D14: 138 | E14: W | G14: 361 | H14: W | J14: 282 | K14: W | M14: 151 | N14: W | P14: 118 | Q14: W | S14: 135 | T14: W | V14: 127 | W14: W | Y14: =V14*1.28 -> 162.56 | Z14: W
A15: =A14/B40 -> 0.57539683 | B15: W/mm² | D15: =D14/B40 -> 0.54761905 | E15: W/mm² | G15: =G14/B45/4 -> 0.43389423 | H15: W/mm² | J15: =J14/B47 -> 0.58264463 | K15: W/mm² | M15: =M14/B46 -> 0.72596154 | N15: W/mm² | P15: =P14/B41 -> 0.96721311 | Q15: W/mm² | S15: =S14/B43 -> 0.89403974 | T15: W/mm² | V15: =V14/B44 -> 0.72988506 | W15: W/mm² | Y15: =Y14/B44 -> 0.93425287 | Z15: W/mm²
A18: 3800 | B18: Mhz | G18: 4000 | H18: Mhz | J18: 4500 | K18: Mhz | P18: 4700 | Q18: Mhz | S18: 5000 | T18: Mhz | V18: 5000 | W18: Mhz | Y18: 5000 | Z18: Mhz
A19: 1.15 | B19: V | G19: 1.375 | H19: V | J19: 1.22 | K19: V | P19: 1.39 | Q19: V | S19: 1.36 | T19: V | V19: 1.26 | W19: V | Y19: 1.26 | Z19: V
A20: 138 | B20: W | G20: 481 | H20: W | J20: 387 | K20: W | P20: 145 | Q20: W | S20: 165 | T20: W | V20: 183 | W20: W | Y20: =V20*1.28 -> 234.24 | Z20: W
A21: =A20/B40 -> 0.54761905 | B21: W/mm² | G21: =G20/B45/4 -> 0.578125 | H21: W/mm² | J21: =J20/B47 -> 0.79958678 | K21: W/mm² | P21: =P20/B41 -> 1.1885246 | Q21: W/mm² | S21: =S20/B43 -> 1.0927152 | T21: W/mm² | V21: =V20/B44 -> 1.0517241 | W21: W/mm² | Y21: =Y20/B44 -> 1.3462069 | Z21: W/mm²
J24: 4700 | K24: Mhz
J25: 1.32 | K25: V
J26: 493 | K26: W
J27: =J26/B47 -> 1.018595 | K27: W/mm²
A31: 980 TI | D31: 1080 | G31: 1080 TI | J31: 2080 TI
A33: 250 | B33: TDP | D33: 180 | E33: TDP | G33: 250 | H33: TDP | J33: 250 | K33: TDP
A34: 1316 | B34: Mhz | D34: 2100 | E34: Mhz | G34: 2038 | H34: Mhz | J34: 1950 | K34: Mhz
A35: 1.2 | B35: V | D35: 1.08 | E35: V | G35: 1.025 | H35: V | J35: 1.062 | K35: V
A36: =253*0.75 -> 189.75 | B36: W | D36: =178*0.75 -> 133.5 | E36: W | G36: =251*0.75 -> 188.25 | H36: W | J36: =276*0.75 -> 207 | K36: W
A37: =A36/B49 -> 0.31572379 | B37: W/mm² | D37: =D36/B50 -> 0.42515924 | E37: W/mm² | G37: =G36/B51 -> 0.39968153 | H37: W/mm² | J37: =J36/B52 -> 0.27453581 | K37: W/mm²
A40: 6900K | B40: 252 | C40: mm² | D40: 15,1x16,7x0,46 | E40: 41x37x2,2 | F40: 9.2 | G40: mm²
A41: 6700K | B41: 122 | C41: mm² | D41: 9,1x13,4x0,46 | E41: 30x30x2,74
A42: 7700K | B42: 122 | C42: mm² | D42: 9,1x13,4x0,46 | E42: 30x30x2,74
A43: 8700K | B43: 151 | C43: mm² | D43: 9,1x16,6x0,46 | E43: 30x30x2,74 | F43: 8.07 | G43: mm²
A44: 9900K | B44: 174 | C44: mm² | D44: 9x19,3x0,84 | E44: 30x30x2,3 | F44: 8.07 | G44: mm²
A45: 2990WX | B45: 208 | C45: mm² | D45: 9,6x21,7x0,8 | E45: 67,5x55x2,3 | F45: 6.83 | G45: mm²
A46: 2700X | B46: 208 | C46: mm² | D46: 9,6x21,7x0,8 | E46: 37,2x37,2x2,3 | F46: 6.83 | G46: mm²
A47: 7980XE | B47: 484 | C47: mm² | D47: 21,6x22,4x0,78 | E47: 41x37x2,2
A48: 7900X | B48: 322 | C48: mm² | D48: 14,3x22,4x0,78 | E48: 41x37x2,2
A49: 980 TI | B49: 601 | C49: mm²
A50: 1080 | B50: 314 | C50: mm²
A51: 1080 TI | B51: 471 | C51: mm²
A52: 2080 TI | B52: 754 | C52: mm²
A60: Gleichung
A62: P = Power
...

Sheet dT @ Wärmestromdichte
A3: 2080 TI | E3: 1080 TI | I3: 9900 K | K3: LQM/WLP | M3: 2700X | O3: LQM/WLP | Q3: 7980XE | S3: LQM/WLP
A5: W | B5: W/mm² | C5: dT | E5: W | F5: W/mm² | G5: dT | I5: W | J5: W/mm² | K5: dT | M5: W | N5: W/mm² | O5: dT | Q5: W | R5: W/mm² | S5: dT
A6: 180 | B6: =A6/'Die Size'!B$52 -> 0.23872679 | C6: 6.4288376 | E6: 180 | F6: =E6/'Die Size'!$B$51 -> 0.38216561 | G6: 9.528 | I6: 60 | J6: =I6/'Die Size'!$B$44 -> 0.34482759 | K6: 10.315611 | M6: 60 | N6: =M6/'Die Size'!$B$46 -> 0.28846154 | O6: 9.4685814 | Q6: 150 | R6: =Q6/'Die Size'!$B$47 -> 0.30991736 | S6: 12.869206
A7: 200 | B7: =A7/'Die Size'!B$52 -> 0.26525199 | C7: 7.143718 | E7: 200 | F7: =E7/'Die Size'!$B$51 -> 0.42462845 | G7: 10.584 | I7: 70 | J7: =I7/'Die Size'!$B$44 -> 0.40229885 | K7: 11.97043 | M7: 80 | N7: =M7/'Die Size'!$B$46 -> 0.38461538 | O7: 12.836392 | Q7: 175 | R7: =Q7/'Die Size'!$B$47 -> 0.36157025 | S7: 14.876801
A8: 220 | B8: =A8/'Die Size'!B$52 -> 0.29177719 | C8: 7.8587171 | E8: 240 | F8: =E8/'Die Size'!$B$51 -> 0.50955414 | G8: 12.708 | I8: 80 | J8: =I8/'Die Size'!$B$44 -> 0.45977011 | K8: 13.625248 | M8: 100 | N8: =M8/'Die Size'!$B$46 -> 0.48076923 | O8: 16.228257 | Q8: 200 | R8: =Q8/'Die Size'!$B$47 -> 0.41322314 | S8: 16.867319
A9: 240 | B9: =A9/'Die Size'!B$52 -> 0.31830239 | C9: 8.5738243 | E9: 250 | F9: =E9/'Die Size'!$B$51 -> 0.53078556 | G9: 13.242 | I9: 90 | J9: =I9/'Die Size'!$B$44 -> 0.51724138 | K9: 15.280067 | M9: 120 | N9: =M9/'Die Size'!$B$46 -> 0.57692308 | O9: 19.629851 | Q9: 250 | R9: =Q9/'Die Size'!$B$47 -> 0.51652893 | S9: 20.805671
A10: 300 | B10: =A10/'Die Size'!B$52 -> 0.39787798 | C10: 10.71971 | E10: 300 | F10: =E10/'Die Size'!$B$51 -> 0.63694268 | G10: 15.894 | I10: 100 | J10: =I10/'Die Size'!$B$44 -> 0.57471264 | K10: 16.934885 | M10: 140 | N10: =M10/'Die Size'!$B$46 -> 0.67307692 | O10: 23.03157 | Q10: 300 | R10: =Q10/'Die Size'!$B$47 -> 0.61983471 | S10: 24.697044
A11: 400 | B11: =A11/'Die Size'!B$52 -> 0.53050398 | C11: 14.29772 | E11: 350 | F11: =E11/'Die Size'!$B$51 -> 0.74309979 | G11: 18.546 | I11: 110 | J11: =I11/'Die Size'!$B$44 -> 0.63218391 | K11: 18.589704 | M11: 160 | N11: =M11/'Die Size'!$B$46 -> 0.76923077 | O11: 26.42654 | Q11: 350 | R11: =Q11/'Die Size'!$B$47 -> 0.7231405 | S11: 28.54978
A12: 500 | B12: =A12/'Die Size'!B$52 -> 0.66312997 | C12: 17.87723 | E12: 400 | F12: =E12/'Die Size'!$B$51 -> 0.8492569 | G12: 21.198 | I12: 120 | J12: =I12/'Die Size'!$B$44 -> 0.68965517 | K12: 20.244522 | M12: 180 | N12: =M12/'Die Size'!$B$46 -> 0.86538462 | O12: 29.809611 | Q12: 400 | R12: =Q12/'Die Size'!$B$47 -> 0.82644628 | S12: 32.369746
A13: 600 | B13: =A13/'Die Size'!B$52 -> 0.79575597 | C13: 21.457937 | E13: 450 | F13: =E13/'Die Size'!$B$51 -> 0.95541401 | G13: 23.844 | I13: 140 | J13: =I13/'Die Size'!$B$44 -> 0.8045977 | K13: 23.554159 | M13: 200 | N13: =M13/'Die Size'!$B$46 -> 0.96153846 | O13: 33.176799 | Q13: 450 | R13: =Q13/'Die Size'!$B$47 -> 0.92975207 | S13: 36.161289
A14: 700 | B14: =A14/'Die Size'!B$52 -> 0.92838196 | C14: 25.039639 | E14: 500 | F14: =E14/'Die Size'!$B$51 -> 1.0615711 | G14: 26.508 | I14: 160 | J14: =I14/'Die Size'!$B$44 -> 0.91954023 | K14: 26.863796 | M14: 220 | N14: =M14/'Die Size'!$B$46 -> 1.0576923 | O14: 36.524951 | Q14: 500 | R14: =Q14/'Die Size'!$B$47 -> 1.0330579 | S14: 39.92776
A15: 800 | B15: =A15/'Die Size'!B$52 -> 1.061008 | C15: 28.622194 | E15: 550 | F15: =E15/'Die Size'!$B$51 -> 1.1677282 | G15: 29.166 | I15: 180 | J15: =I15/'Die Size'!$B$44 -> 1.0344828 | K15: 30.173433 | M15: 240 | N15: =M15/'Die Size'!$B$46 -> 1.1538462 | O15: 39.851517 | Q15: 550 | R15: =Q15/'Die Size'!$B$47 -> 1.1363636 | S15: 43.671817
A16: 900 | B16: =A16/'Die Size'!B$52 -> 1.193634 | C16: 32.205494 | E16: 560 | F16: =E16/'Die Size'!$B$51 -> 1.1889597 | G16: 29.694 | I16: 200 | J16: =I16/'Die Size'!$B$44 -> 1.1494253 | K16: 33.483071 | M16: 260 | N16: =M16/'Die Size'!$B$46 -> 1.25 | O16: 43.154416 | Q16: 600 | R16: =Q16/'Die Size'!$B$47 -> 1.2396694 | S16: 47.39562
A17: 1020 | B17: =A17/'Die Size'!B$52 -> 1.3527851 | C17: 36.506323 | E17: 635 | F17: =E17/'Die Size'!$B$51 -> 1.3481953 | G17: 33.678 | I17: 235 | J17: =I17/'Die Size'!$B$44 -> 1.3505747 | K17: 39.274935 | M17: 280 | N17: =M17/'Die Size'!$B$46 -> 1.3461538 | O17: 46.431922 | Q17: 655 | R17: =Q17/'Die Size'!$B$47 -> 1.3533058 | S17: 51.470534
