Workbook

Sheet Inhalt
A2: Tipps
A4: Die jeweilige Leistung mit dem thermalen Widerstand multipliziert ergibt als Ergebnis die Temperaturdifferenz von Lufteinlass zu Wassereinlass
A6: Die Leistung verhält sich bei erzwungener Konvektion (Lüfter) linear zur Temperaturdifferenz, siehe Grafik, somit können beliebige Leistungswerte multipliziert mit der jeweiligen Temperaturdifferenz extrapoliert werden: dT 10 K zu 20 K = 0,5 * 300 W = 150 W
A9: Inhalt
A11: Abmessungen
A12: Datensatz Lamellenabstand 1 mm FAN Noctua F12
A13: Datensatz Lamellenabstand 1 mm FAN Noctua S12
A14: Datensatz Lamellenabstand 1 mm FAN Noctua F12 in push/pull
A15: Datensatz Lamellenabstand 1,5 mm FAN Noctua F12
A16: Datensatz Lamellenabstand 1,5 mm FAN Noctua S12
A17: Datensatz Lamellenabstand 1,5 mm FAN Noctua F12 in push/pull
A18: Datensatz Lamellenabstand 2 mm FAN Noctua F12
... A53: Thermaler Widerstand, Lamellenabstand 2,5 mm, FAN F12;S12

Sheet Abmessung
A1: Dimension | B1: 240x30 | C1: mm
A2: Nettotiefe | B2: 17.5 | C2: mm
A3: Lamellen typ | B3: 1
A4: Lamellenabstand | B4: 1 | C4: mm | D4: 1.5 | E4: mm | F4: 2 | G4: mm | H4: 2.5 | I4: mm
A5: Periodenanzahl | B5: 210 | D5: 140 | F5: 105 | H5: 84
A6: Lamellenanzahl | B6: 13
A7: Rohranzahl | B7: 12
A8: Rohrabstand | B8: 7.4 | C8: mm
A11: Lamellenoberfläche pro Periode | B11: =95.46*2+41.1+17.4*2 -> 266.82 | C11: mm² | D11: =B11 -> 266.82 | E11: mm² | F11: =B11 -> 266.82 | G11: mm² | H11: =D11 -> 266.82 | I11: mm²
A12: Lamellenoberfläche | B12: =B11*B5 -> 56032.2 | C12: mm² | D12: =D11*D5 -> 37354.8 | E12: mm² | F12: =F11*F5 -> 28016.1 | G12: mm² | H12: =H11*H5 -> 22412.88 | I12: mm²
A13: Rohroberfläche | B13: =(2600*2+369*4)-(211*14) -> 3722 | C13: mm² | D13: =(2600*2+369*4)-(141*14) -> 4702 | E13: mm² | F13: =(2600*2+369*4)-(105*14) -> 5206 | G13: mm² | H13: =(2600*2+369*4)-(84*14) -> 5500 | I13: mm²
A14: Gesamt Lamellenoberfläche | B14: =B12*B6 -> 728418.6 | C14: mm² | D14: =D12*B6 -> 485612.4 | E14: mm² | F14: =F12*B6 -> 364209.3 | G14: mm² | H14: =H12*B6 -> 291367.44 | I14: mm²
A15: Gesamt Rohroberfläche | B15: =B7*B13 -> 44664 | C15: mm² | D15: =B7*D13 -> 56424 | E15: mm² | F15: =B7*F13 -> 62472 | G15: mm² | H15: =B7*H13 -> 66000 | I15: mm²
A17: Gesamt Oberfläche | B17: =(B14+B15)/1000^2 -> 0.7730826 | C17: m² | D17: =(D14+D15)/1000^2 -> 0.5420364 | E17: m² | F17: =(F14+F15)/1000^2 -> 0.4266813 | G17: m² | H17: =(H14+H15)/1000^2 -> 0.35736744 | I17: m²
A18: Rohrinhalt | B18: 0.11 | C18: dm³

Sheet Strömungswiderstand
Q2: DDC-1T+ | S2: D5 | U2: 240x30
O3: L/h | P3: kg/s | Q3: m | R3: Pa | S3: m | T3: Pa | U3: Pa
O4: 0 | P4: =O4/3600000*998.2 -> 0 | Q4: 4.7 | R4: =Q4*998.2*9.807 -> 46009.933 | S4: 3.7 | T4: =S4*998.2*9.807 -> 36220.585 | U4: =5.25097010895138E-13 + 14548.2653846153*P4 + 624282.692307692*P4^2 -> 5.2509701e-13
O5: 1 | P5: =O5/3600000*998.2 -> 0.00027727778 | Q5: 4.6999942 | R5: =Q5*998.2*9.807 -> 46009.876 | S5: 3.6995628 | T5: =S5*998.2*9.807 -> 36216.306 | U5: =5.25097010895138E-13 + 14548.2653846153*P5 + 624282.692307692*P5^2 -> 4.0819074
O6: 2 | P6: =O6/3600000*998.2 -> 0.00055455556 | Q6: 4.6999737 | R6: =Q6*998.2*9.807 -> 46009.675 | S6: 3.6989235 | T6: =S6*998.2*9.807 -> 36210.048 | U6: =5.25097010895138E-13 + 14548.2653846153*P6 + 624282.692307692*P6^2 -> 8.2598082
O7: 3 | P7: =O7/3600000*998.2 -> 0.00083183333 | Q7: 4.699936 | R7: =Q7*998.2*9.807 -> 46009.306 | S7: 3.6981765 | T7: =S7*998.2*9.807 -> 36202.734 | U7: =5.25097010895138E-13 + 14548.2653846153*P7 + 624282.692307692*P7^2 -> 12.533702
O8: 4 | P8: =O8/3600000*998.2 -> 0.0011091111 | Q8: 4.6998798 | R8: =Q8*998.2*9.807 -> 46008.756 | S8: 3.6973495 | T8: =S8*998.2*9.807 -> 36194.638 | U8: =5.25097010895138E-13 + 14548.2653846153*P8 + 624282.692307692*P8^2 -> 16.90359
O9: 5 | P9: =O9/3600000*998.2 -> 0.0013863889 | Q9: 4.6998041 | R9: =Q9*998.2*9.807 -> 46008.015 | S9: 3.6964574 | T9: =S9*998.2*9.807 -> 36185.906 | U9: =5.25097010895138E-13 + 14548.2653846153*P9 + 624282.692307692*P9^2 -> 21.369471
O10: 6 | P10: =O10/3600000*998.2 -> 0.0016636667 | Q10: 4.6997079 | R10: =Q10*998.2*9.807 -> 46007.074 | S10: 3.6955099 | T10: =S10*998.2*9.807 -> 36176.631 | U10: =5.25097010895138E-13 + 14548.2653846153*P10 + 624282.692307692*P10^2 -> 25.931346
O11: 7 | P11: =O11/3600000*998.2 -> 0.0019409444 | Q11: 4.6995906 | R11: =Q11*998.2*9.807 -> 46005.925 | S11: 3.6945137 | T11: =S11*998.2*9.807 -> 36166.878 | U11: =5.25097010895138E-13 + 14548.2653846153*P11 + 624282.692307692*P11^2 -> 30.589213
O12: 8 | P12: =O12/3600000*998.2 -> 0.0022182222 | Q12: 4.6994516 | R12: =Q12*998.2*9.807 -> 46004.564 | S12: 3.6934736 | T12: =S12*998.2*9.807 -> 36156.696 | U12: =5.25097010895138E-13 + 14548.2653846153*P12 + 624282.692307692*P12^2 -> 35.343075
O13: 9 | P13: =O13/3600000*998.2 -> 0.0024955 | Q13: 4.6992902 | R13: =Q13*998.2*9.807 -> 46002.984 | S13: 3.6923938 | T13: =S13*998.2*9.807 -> 36146.125 | U13: =5.25097010895138E-13 + 14548.2653846153*P13 + 624282.692307692*P13^2 -> 40.192929
O14: 10 | P14: =O14/3600000*998.2 -> 0.0027727778 | Q14: 4.699106 | R14: =Q14*998.2*9.807 -> 46001.181 | S14: 3.6912772 | T14: =S14*998.2*9.807 -> 36135.195 | U14: =5.25097010895138E-13 + 14548.2653846153*P14 + 624282.692307692*P14^2 -> 45.138777
O15: 11 | P15: =O15/3600000*998.2 -> 0.0030500556 | Q15: 4.6988985 | R15: =Q15*998.2*9.807 -> 45999.15 | S15: 3.6901266 | T15: =S15*998.2*9.807 -> 36123.931 | U15: =5.25097010895138E-13 + 14548.2653846153*P15 + 624282.692307692*P15^2 -> 50.180619
... O504: 500 | P504: =O504/3600000*998.2 -> 0.13863889 | Q504: 9.9220873e-05 | R504: =Q504*998.2*9.807 -> 0.9713076 | S504: 2.2896844 | T504: =S504*998.2*9.807 -> 22414.516 | U504: =5.25097010895138E-13 + 14548.2653846153*P504 + 624282.692307692*P504^2 -> 14016.132

Sheet Passiv
A3: 94.4 | B3: L/h | G3: V' | H3: 94.4 | I3: L/h
G4: dT | H4: 20 | I4: K
A6: dt [K] | B6: P [W] | G6: vertikal | H6: 36 | I6: W
A7: 0 | B7: =D7*A7/(E7+A7) -> 0 | D7: 323.02572 | E7: 83.779495 | G7: horizontal | H7: 62 | I7: W
A8: 5 | B8: =D8*A8/(E8+A8) -> 18.192586 | D8: 323.02572 | E8: 83.779495
A9: 7.5 | B9: =D9*A9/(E9+A9) -> 26.54148 | D9: 323.02572 | E9: 83.779495
A10: 10 | B10: =D10*A10/(E10+A10) -> 34.44524 | D10: 323.02572 | E10: 83.779495
A11: 12.5 | B11: =D11*A11/(E11+A11) -> 41.938541 | D11: 323.02572 | E11: 83.779495
A12: 15 | B12: =D12*A12/(E12+A12) -> 49.052547 | D12: 323.02572 | E12: 83.779495
A13: 17.5 | B13: =D13*A13/(E13+A13) -> 55.815347 | D13: 323.02572 | E13: 83.779495
A14: 20 | B14: =D14*A14/(E14+A14) -> 62.252321 | D14: 323.02572 | E14: 83.779495
A15: 22.5 | B15: =D15*A15/(E15+A15) -> 68.386463 | D15: 323.02572 | E15: 83.779495
A16: 25 | B16: =D16*A16/(E16+A16) -> 74.238651 | D16: 323.02572 | E16: 83.779495
A17: 27.5 | B17: =D17*A17/(E17+A17) -> 79.82789 | D17: 323.02572 | E17: 83.779495
A18: 30 | B18: =D18*A18/(E18+A18) -> 85.171512 | D18: 323.02572 | E18: 83.779495
A19: 32.5 | B19: =D19*A19/(E19+A19) -> 90.285359 | D19: 323.02572 | E19: 83.779495
... A36: 75 | B36: =D36*A36/(E36+A36) -> 152.58223 | D36: 323.02572 | E36: 83.779495

Sheet Typ1 1 mm Noctua F12
A1: kg/s | B1: L/h | C1: min^-1 | D1: m/s | E1: Gesamt m³/h | F1: dp [Pa] | G1: dp Fluid [Pa] | H1: Tin [K] | I1: TAmbient [K] | J1: dTAmbient | K1: TAmbient2 | L1: TAmbient2 | M1: Tout_avg | N1: Tout_avg | O1: dTFluid [K] | P1: P [W] | Q1: k [W/m²*K] | R1: dTlog | S1: cp [J/kg * K] | T1: ρ [kg/m³] | U1: cp [J/kg * K] | V1: ρ [kg/m³]
A2: 0 | B2: =A2/T2*3600*1000 -> 0 | C2: 0 | D2: 0 | F2: 0 | G2: 0 | H2: 315 | I2: 295 | S2: 4180 | T2: 991.5 | Z2: -144.24373 | AA2: 10.5287 | AB2: -0.031256926 | AC2: 2.9456116e-05 | AD2: 17554.454 | AE2: -125.69235 | AF2: 0.39362054 | AG2: -0.00041079636 | AH2: 2.306401 | AI2: -0.0037612753 | AJ2: 995.1762 | AK2: 0.039735 | AM2: -0.0073107128 | AN2: 2.552808 | AO2: 1.5829103
A3: 0.008 | B3: =A3/T3*3600*1000 -> 29.042372 | C3: 0 | D3: 0 | F3: 0 | G3: 156.34022 | H3: 315 | I3: 295 | K3: 297.20729 | M3: 314.23737 | N3: =H3-P3/(S3*A3) -> 314.23737 | O3: =H3-M3 -> 0.76262638 | P3: ='Typ1 1,5 mm Noctua F12'!Q3*0.693 -> 25.493462 | Q3: =P3/(Abmessung!B$17*R3) -> 1.7819632 | R3: =((H3-K3)-(M3-I3))/LN((H3-K3)/(M3-I3)) -> 18.505644 | S3: =((AD3 + AE3*H3 +AF3*H3^2 + AG3*H3^3)+(AD3 + AE3*M3 + AF3*M3^2 + AG3*M3^3))/2 -> 4178.5635 | T3: =((Z3 + AA3*H3 + AB3*H3^2 + AC3*H3^3)+(Z3 + AA3*M3 + AB3*M3^2 + AC3*M3^3))/2 -> 991.65453 | U3: =((AJ3 + AK3*I3)+(AJ3 + AK3*K3))/2 -> 1006.9419 | V3: =((AH3 + AI3*I3)+(AH3 + AI3*K3))/2 -> 1.1926737 | Z3: -144.24373 | AA3: 10.5287 | AB3: -0.031256926 | AC3: 2.9456116e-05 | AD3: 17554.454 | AE3: -125.69235 | AF3: 0.39362054 | AG3: -0.00041079636 | AH3: 2.306401 | AI3: -0.0037612753 | AJ3: 995.1762 | AK3: 0.039735 | AM3: -0.0073107128 | AN3: 2.552808 | AO3: 1.5829103
A4: 0.014 | B4: =A4/T4*3600*1000 -> 50.826023 | C4: 0 | D4: 0 | F4: 0 | G4: 326.03512 | H4: 315 | I4: 295 | K4: 297.94433 | M4: 314.42457 | N4: =H4-P4/(S4*A4) -> 314.42457 | O4: =H4-M4 -> 0.5754307 | P4: ='Typ1 1,5 mm Noctua F12'!Q4*0.693 -> 33.66263 | Q4: =P4/(Abmessung!B$17*R4) -> 2.3905954 | R4: =((H4-K4)-(M4-I4))/LN((H4-K4)/(M4-I4)) -> 18.21445 | S4: =((AD4 + AE4*H4 +AF4*H4^2 + AG4*H4^3)+(AD4 + AE4*M4 + AF4*M4^2 + AG4*M4^3))/2 -> 4178.5632 | T4: =((Z4 + AA4*H4 + AB4*H4^2 + AC4*H4^3)+(Z4 + AA4*M4 + AB4*M4^2 + AC4*M4^3))/2 -> 991.61801 | U4: =((AJ4 + AK4*I4)+(AJ4 + AK4*K4))/2 -> 1006.9565 | V4: =((AH4 + AI4*I4)+(AH4 + AI4*K4))/2 -> 1.1912876 | Z4: -144.24373 | AA4: 10.5287 | AB4: -0.031256926 | AC4: 2.9456116e-05 | AD4: 17554.454 | AE4: -125.69235 | AF4: 0.39362054 | AG4: -0.00041079636 | AH4: 2.306401 | AI4: -0.0037612753 | AJ4: 995.1762 | AK4: 0.039735 | AM4: -0.0073107128 | AN4: 2.552808 | AO4: 1.5829103
A5: 0.02 | B5: =A5/T5*3600*1000 -> 72.610232 | C5: 0 | D5: 0 | F5: 0 | G5: 540.67838 | H5: 315 | I5: 295 | K5: 298.35294 | M5: 314.53817 | N5: =H5-P5/(S5*A5) -> 314.53817 | O5: =H5-M5 -> 0.46182526 | P5: ='Typ1 1,5 mm Noctua F12'!Q5*0.693 -> 38.59532 | Q5: =P5/(Abmessung!B$17*R5) -> 2.7652476 | R5: =((H5-K5)-(M5-I5))/LN((H5-K5)/(M5-I5)) -> 18.054053 | S5: =((AD5 + AE5*H5 +AF5*H5^2 + AG5*H5^3)+(AD5 + AE5*M5 + AF5*M5^2 + AG5*M5^3))/2 -> 4178.5632 | T5: =((Z5 + AA5*H5 + AB5*H5^2 + AC5*H5^3)+(Z5 + AA5*M5 + AB5*M5^2 + AC5*M5^3))/2 -> 991.59578 | U5: =((AJ5 + AK5*I5)+(AJ5 + AK5*K5))/2 -> 1006.9646 | V5: =((AH5 + AI5*I5)+(AH5 + AI5*K5))/2 -> 1.1905191 | Z5: -144.24373 | AA5: 10.5287 | AB5: -0.031256926 | AC5: 2.9456116e-05 | AD5: 17554.454 | AE5: -125.69235 | AF5: 0.39362054 | AG5: -0.00041079636 | AH5: 2.306401 | AI5: -0.0037612753 | AJ5: 995.1762 | AK5: 0.039735 | AM5: -0.0073107128 | AN5: 2.552808 | AO5: 1.5829103
A6: 0.026 | B6: =A6/T6*3600*1000 -> 94.394719 | C6: 0 | D6: 0 | F6: 0 | G6: 800.27 | H6: 315 | I6: 295 | K6: 298.63722 | M6: 314.61414 | N6: =H6-P6/(S6*A6) -> 314.61414 | O6: =H6-M6 -> 0.38585604 | P6: ='Typ1 1,5 mm Noctua F12'!Q6*0.693 -> 41.92042 | Q6: =P6/(Abmessung!B$17*R6) -> 3.0226805 | R6: =((H6-K6)-(M6-I6))/LN((H6-K6)/(M6-I6)) -> 17.939382 | S6: =((AD6 + AE6*H6 +AF6*H6^2 + AG6*H6^3)+(AD6 + AE6*M6 + AF6*M6^2 + AG6*M6^3))/2 -> 4178.5632 | T6: =((Z6 + AA6*H6 + AB6*H6^2 + AC6*H6^3)+(Z6 + AA6*M6 + AB6*M6^2 + AC6*M6^3))/2 -> 991.5809 | U6: =((AJ6 + AK6*I6)+(AJ6 + AK6*K6))/2 -> 1006.9703 | V6: =((AH6 + AI6*I6)+(AH6 + AI6*K6))/2 -> 1.1899845 | Z6: -144.24373 | AA6: 10.5287 | AB6: -0.031256926 | AC6: 2.9456116e-05 | AD6: 17554.454 | AE6: -125.69235 | AF6: 0.39362054 | AG6: -0.00041079636 | AH6: 2.306401 | AI6: -0.0037612753 | AJ6: 995.1762 | AK6: 0.039735 | AM6: -0.0073107128 | AN6: 2.552808 | AO6: 1.5829103
A7: 0.032 | B7: =A7/T7*3600*1000 -> 116.17937 | C7: 0 | D7: 0 | F7: 0 | G7: 1104.81 | H7: 315 | I7: 295 | K7: 298.85549 | M7: 314.66867 | N7: =H7-P7/(S7*A7) -> 314.66867 | O7: =H7-M7 -> 0.33133293 | P7: ='Typ1 1,5 mm Noctua F12'!Q7*0.693 -> 44.303859 | Q7: =P7/(Abmessung!B$17*R7) -> 3.2107798 | R7: =((H7-K7)-(M7-I7))/LN((H7-K7)/(M7-I7)) -> 17.84864 | S7: =((AD7 + AE7*H7 +AF7*H7^2 + AG7*H7^3)+(AD7 + AE7*M7 + AF7*M7^2 + AG7*M7^3))/2 -> 4178.5632 | T7: =((Z7 + AA7*H7 + AB7*H7^2 + AC7*H7^3)+(Z7 + AA7*M7 + AB7*M7^2 + AC7*M7^3))/2 -> 991.5702 | U7: =((AJ7 + AK7*I7)+(AJ7 + AK7*K7))/2 -> 1006.9746 | V7: =((AH7 + AI7*I7)+(AH7 + AI7*K7))/2 -> 1.189574 | Z7: -144.24373 | AA7: 10.5287 | AB7: -0.031256926 | AC7: 2.9456116e-05 | AD7: 17554.454 | AE7: -125.69235 | AF7: 0.39362054 | AG7: -0.00041079636 | AH7: 2.306401 | AI7: -0.0037612753 | AJ7: 995.1762 | AK7: 0.039735 | AM7: -0.0073107128 | AN7: 2.552808 | AO7: 1.5829103
A8: 0.038 | B8: =A8/T8*3600*1000 -> 137.96412 | C8: 0 | D8: 0 | F8: 0 | G8: 1454.2983 | H8: 315 | I8: 295 | K8: 299.03273 | M8: 314.70978 | N8: =H8-P8/(S8*A8) -> 314.70978 | O8: =H8-M8 -> 0.29021863 | P8: ='Typ1 1,5 mm Noctua F12'!Q8*0.693 -> 46.082482 | Q8: =P8/(Abmessung!B$17*R8) -> 3.3539113 | R8: =((H8-K8)-(M8-I8))/LN((H8-K8)/(M8-I8)) -> 17.772904 | S8: =((AD8 + AE8*H8 +AF8*H8^2 + AG8*H8^3)+(AD8 + AE8*M8 + AF8*M8^2 + AG8*M8^3))/2 -> 4178.5632 | T8: =((Z8 + AA8*H8 + AB8*H8^2 + AC8*H8^3)+(Z8 + AA8*M8 + AB8*M8^2 + AC8*M8^3))/2 -> 991.56213 | U8: =((AJ8 + AK8*I8)+(AJ8 + AK8*K8))/2 -> 1006.9781 | V8: =((AH8 + AI8*I8)+(AH8 + AI8*K8))/2 -> 1.1892407 | Z8: -144.24373 | AA8: 10.5287 | AB8: -0.031256926 | AC8: 2.9456116e-05 | AD8: 17554.454 | AE8: -125.69235 | AF8: 0.39362054 | AG8: -0.00041079636 | AH8: 2.306401 | AI8: -0.0037612753 | AJ8: 995.1762 | AK8: 0.039735 | AM8: -0.0073107128 | AN8: 2.552808 | AO8: 1.5829103
A9: 0.044 | B9: =A9/T9*3600*1000 -> 159.74895 | C9: 0 | D9: 0 | F9: 0 | G9: 1848.735 | H9: 315 | I9: 295 | K9: 299.18196 | M9: 314.74193 | N9: =H9-P9/(S9*A9) -> 314.74193 | O9: =H9-M9 -> 0.25807378 | P9: ='Typ1 1,5 mm Noctua F12'!Q9*0.693 -> 47.448616 | Q9: =P9/(Abmessung!B$17*R9) -> 3.4660777 | R9: =((H9-K9)-(M9-I9))/LN((H9-K9)/(M9-I9)) -> 17.707586 | S9: =((AD9 + AE9*H9 +AF9*H9^2 + AG9*H9^3)+(AD9 + AE9*M9 + AF9*M9^2 + AG9*M9^3))/2 -> 4178.5632 | T9: =((Z9 + AA9*H9 + AB9*H9^2 + AC9*H9^3)+(Z9 + AA9*M9 + AB9*M9^2 + AC9*M9^3))/2 -> 991.55581 | U9: =((AJ9 + AK9*I9)+(AJ9 + AK9*K9))/2 -> 1006.9811 | V9: =((AH9 + AI9*I9)+(AH9 + AI9*K9))/2 -> 1.18896 | Z9: -144.24373 | AA9: 10.5287 | AB9: -0.031256926 | AC9: 2.9456116e-05 | AD9: 17554.454 | AE9: -125.69235 | AF9: 0.39362054 | AG9: -0.00041079636 | AH9: 2.306401 | AI9: -0.0037612753 | AJ9: 995.1762 | AK9: 0.039735 | AM9: -0.0073107128 | AN9: 2.552808 | AO9: 1.5829103
A10: 0.05 | B10: =A10/T10*3600*1000 -> 181.53383 | C10: 0 | D10: 0 | F10: 0 | G10: 2288.12 | H10: 315 | I10: 295 | K10: 299.31084 | M10: 314.76776 | N10: =H10-P10/(S10*A10) -> 314.76776 | O10: =H10-M10 -> 0.23223854 | P10: ='Typ1 1,5 mm Noctua F12'!Q10*0.693 -> 48.521172 | Q10: =P10/(Abmessung!B$17*R10) -> 3.5559937 | R10: =((H10-K10)-(M10-I10))/LN((H10-K10)/(M10-I10)) -> 17.649988 | S10: =((AD10 + AE10*H10 +AF10*H10^2 + AG10*H10^3)+(AD10 + AE10*M10 + AF10*M10^2 + AG10*M10^3))/2 -> 4178.5633 | T10: =((Z10 + AA10*H10 + AB10*H10^2 + AC10*H10^3)+(Z10 + AA10*M10 + AB10*M10^2 + AC10*M10^3))/2 -> 991.55073 | U10: =((AJ10 + AK10*I10)+(AJ10 + AK10*K10))/2 -> 1006.9837 | V10: =((AH10 + AI10*I10)+(AH10 + AI10*K10))/2 -> 1.1887177 | Z10: -144.24373 | AA10: 10.5287 | AB10: -0.031256926 | AC10: 2.9456116e-05 | AD10: 17554.454 | AE10: -125.69235 | AF10: 0.39362054 | AG10: -0.00041079636 | AH10: 2.306401 | AI10: -0.0037612753 | AJ10: 995.1762 | AK10: 0.039735 | AM10: -0.0073107128 | AN10: 2.552808 | AO10: 1.5829103
A11: 0.056 | B11: =A11/T11*3600*1000 -> 203.31874 | C11: 0 | D11: 0 | F11: 0 | G11: 2772.4534 | H11: 315 | I11: 295 | K11: 299.42428 | M11: 314.78898 | N11: =H11-P11/(S11*A11) -> 314.78898 | O11: =H11-M11 -> 0.21101737 | P11: ='Typ1 1,5 mm Noctua F12'!Q11*0.693 -> 49.377969 | Q11: =P11/(Abmessung!B$17*R11) -> 3.6294 | R11: =((H11-K11)-(M11-I11))/LN((H11-K11)/(M11-I11)) -> 17.598372 | S11: =((AD11 + AE11*H11 +AF11*H11^2 + AG11*H11^3)+(AD11 + AE11*M11 + AF11*M11^2 + AG11*M11^3))/2 -> 4178.5633 | T11: =((Z11 + AA11*H11 + AB11*H11^2 + AC11*H11^3)+(Z11 + AA11*M11 + AB11*M11^2 + AC11*M11^3))/2 -> 991.54656 | U11: =((AJ11 + AK11*I11)+(AJ11 + AK11*K11))/2 -> 1006.9859 | V11: =((AH11 + AI11*I11)+(AH11 + AI11*K11))/2 -> 1.1885043 | Z11: -144.24373 | AA11: 10.5287 | AB11: -0.031256926 | AC11: 2.9456116e-05 | AD11: 17554.454 | AE11: -125.69235 | AF11: 0.39362054 | AG11: -0.00041079636 | AH11: 2.306401 | AI11: -0.0037612753 | AJ11: 995.1762 | AK11: 0.039735 | AM11: -0.0073107128 | AN11: 2.552808 | AO11: 1.5829103
A12: 0.062 | B12: =A12/T12*3600*1000 -> 225.10369 | C12: 0 | D12: 0 | F12: 0 | G12: 3301.7351 | H12: 315 | I12: 295 | K12: 299.52558 | M12: 314.80672 | N12: =H12-P12/(S12*A12) -> 314.80672 | O12: =H12-M12 -> 0.19327586 | P12: ='Typ1 1,5 mm Noctua F12'!Q12*0.693 -> 50.072157 | Q12: =P12/(Abmessung!B$17*R12) -> 3.6902432 | R12: =((H12-K12)-(M12-I12))/LN((H12-K12)/(M12-I12)) -> 17.551547 | S12: =((AD12 + AE12*H12 +AF12*H12^2 + AG12*H12^3)+(AD12 + AE12*M12 + AF12*M12^2 + AG12*M12^3))/2 -> 4178.5633 | T12: =((Z12 + AA12*H12 + AB12*H12^2 + AC12*H12^3)+(Z12 + AA12*M12 + AB12*M12^2 + AC12*M12^3))/2 -> 991.54307 | U12: =((AJ12 + AK12*I12)+(AJ12 + AK12*K12))/2 -> 1006.9879 | V12: =((AH12 + AI12*I12)+(AH12 + AI12*K12))/2 -> 1.1883138 | Z12: -144.24373 | AA12: 10.5287 | AB12: -0.031256926 | AC12: 2.9456116e-05 | AD12: 17554.454 | AE12: -125.69235 | AF12: 0.39362054 | AG12: -0.00041079636 | AH12: 2.306401 | AI12: -0.0037612753 | AJ12: 995.1762 | AK12: 0.039735 | AM12: -0.0073107128 | AN12: 2.552808 | AO12: 1.5829103
A13: 0.068 | B13: =A13/T13*3600*1000 -> 246.88865 | C13: 0 | D13: 0 | F13: 0 | G13: 3875.9652 | H13: 315 | I13: 295 | K13: 299.6171 | M13: 314.82177 | N13: =H13-P13/(S13*A13) -> 314.82177 | O13: =H13-M13 -> 0.17822504 | P13: ='Typ1 1,5 mm Noctua F12'!Q13*0.693 -> 50.641275 | Q13: =P13/(Abmessung!B$17*R13) -> 3.7413291 | R13: =((H13-K13)-(M13-I13))/LN((H13-K13)/(M13-I13)) -> 17.508656 | S13: =((AD13 + AE13*H13 +AF13*H13^2 + AG13*H13^3)+(AD13 + AE13*M13 + AF13*M13^2 + AG13*M13^3))/2 -> 4178.5633 | T13: =((Z13 + AA13*H13 + AB13*H13^2 + AC13*H13^3)+(Z13 + AA13*M13 + AB13*M13^2 + AC13*M13^3))/2 -> 991.54011 | U13: =((AJ13 + AK13*I13)+(AJ13 + AK13*K13))/2 -> 1006.9898 | V13: =((AH13 + AI13*I13)+(AH13 + AI13*K13))/2 -> 1.1881417 | Z13: -144.24373 | AA13: 10.5287 | AB13: -0.031256926 | AC13: 2.9456116e-05 | AD13: 17554.454 | AE13: -125.69235 | AF13: 0.39362054 | AG13: -0.00041079636 | AH13: 2.306401 | AI13: -0.0037612753 | AJ13: 995.1762 | AK13: 0.039735 | AM13: -0.0073107128 | AN13: 2.552808 | AO13: 1.5829103
A14: 0.074 | B14: =A14/T14*3600*1000 -> 268.67363 | C14: 0 | D14: 0 | F14: 0 | G14: 4495.1437 | H14: 315 | I14: 295 | K14: 299.70056 | M14: 314.8347 | N14: =H14-P14/(S14*A14) -> 314.8347 | O14: =H14-M14 -> 0.16529852 | P14: ='Typ1 1,5 mm Noctua F12'!Q14*0.693 -> 51.112566 | Q14: =P14/(Abmessung!B$17*R14) -> 3.7847068 | R14: =((H14-K14)-(M14-I14))/LN((H14-K14)/(M14-I14)) -> 17.46906 | S14: =((AD14 + AE14*H14 +AF14*H14^2 + AG14*H14^3)+(AD14 + AE14*M14 + AF14*M14^2 + AG14*M14^3))/2 -> 4178.5634 | T14: =((Z14 + AA14*H14 + AB14*H14^2 + AC14*H14^3)+(Z14 + AA14*M14 + AB14*M14^2 + AC14*M14^3))/2 -> 991.53757 | U14: =((AJ14 + AK14*I14)+(AJ14 + AK14*K14))/2 -> 1006.9914 | V14: =((AH14 + AI14*I14)+(AH14 + AI14*K14))/2 -> 1.1879847 | Z14: -144.24373 | AA14: 10.5287 | AB14: -0.031256926 | AC14: 2.9456116e-05 | AD14: 17554.454 | AE14: -125.69235 | AF14: 0.39362054 | AG14: -0.00041079636 | AH14: 2.306401 | AI14: -0.0037612753 | AJ14: 995.1762 | AK14: 0.039735 | AM14: -0.0073107128 | AN14: 2.552808 | AO14: 1.5829103
A15: 0.008 | B15: =A15/T15*3600*1000 -> 29.020884 | C15: 600 | D15: =E15/(0.02809*3600) -> 0.36588743 | E15: 37 | F15: 1.87 | G15: =G3 -> 156.34022 | H15: 315 | I15: 295 | J15: =P15*3600/(U15*V15*E15) -> 12.872272 | K15: 307.87177 | L15: =I15+J15 -> 307.87227 | M15: 310.32607 | N15: =H15-P15/(S15*A15) -> 310.32607 | O15: =H15-M15 -> 4.6739326 | P15: 156.24518 | Q15: =P15/(Abmessung!B$17*R15) -> 18.872188 | R15: =((H15-K15)-(M15-I15))/LN((H15-K15)/(M15-I15)) -> 10.709236 | S15: =((AD15 + AE15*H15 +AF15*H15^2 + AG15*H15^3)+(AD15 + AE15*M15 + AF15*M15^2 + AG15*M15^3))/2 -> 4178.6326 | T15: =((Z15 + AA15*H15 + AB15*H15^2 + AC15*H15^3)+(Z15 + AA15*M15 + AB15*M15^2 + AC15*M15^3))/2 -> 992.38878 | U15: =((AJ15 + AK15*I15)+(AJ15 + AK15*K15))/2 -> 1007.1538 | V15: =((AH15 + AI15*I15)+(AH15 + AI15*K15))/2 -> 1.1726177 | Z15: -144.24373 | AA15: 10.5287 | AB15: -0.031256926 | AC15: 2.9456116e-05 | AD15: 17554.454 | AE15: -125.69235 | AF15: 0.39362054 | AG15: -0.00041079636 | AH15: 2.306401 | AI15: -0.0037612753 | AJ15: 995.1762 | AK15: 0.039735 | AM15: -0.0073107128 | AN15: 2.552808 | AO15: 1.5829103
A16: 0.014 | B16: =A16/T16*3600*1000 -> 50.804571 | C16: 600 | D16: =E16/(0.02809*3600) -> 0.36588743 | E16: 37 | F16: 1.87 | G16: =G4 -> 326.03512 | H16: 315 | I16: 295 | J16: =P16*3600/(U16*V16*E16) -> 13.317411 | K16: 308.31722 | L16: =I16+J16 -> 308.31741 | M16: 312.23874 | N16: =H16-P16/(S16*A16) -> 312.23874 | O16: =H16-M16 -> 2.7612626 | P16: 161.53427 | Q16: =P16/(Abmessung!B$17*R16) -> 18.757622 | R16: =((H16-K16)-(M16-I16))/LN((H16-K16)/(M16-I16)) -> 11.13938 | S16: =((AD16 + AE16*H16 +AF16*H16^2 + AG16*H16^3)+(AD16 + AE16*M16 + AF16*M16^2 + AG16*M16^3))/2 -> 4178.582 | T16: =((Z16 + AA16*H16 + AB16*H16^2 + AC16*H16^3)+(Z16 + AA16*M16 + AB16*M16^2 + AC16*M16^3))/2 -> 992.03672 | U16: =((AJ16 + AK16*I16)+(AJ16 + AK16*K16))/2 -> 1007.1626 | V16: =((AH16 + AI16*I16)+(AH16 + AI16*K16))/2 -> 1.1717799 | Z16: -144.24373 | AA16: 10.5287 | AB16: -0.031256926 | AC16: 2.9456116e-05 | AD16: 17554.454 | AE16: -125.69235 | AF16: 0.39362054 | AG16: -0.00041079636 | AH16: 2.306401 | AI16: -0.0037612753 | AJ16: 995.1762 | AK16: 0.039735 | AM16: -0.0073107128 | AN16: 2.552808 | AO16: 1.5829103
A17: 0.02 | B17: =A17/T17*3600*1000 -> 72.588921 | C17: 600 | D17: =E17/(0.02809*3600) -> 0.36588743 | E17: 37 | F17: 1.87 | G17: =G5 -> 540.67838 | H17: 315 | I17: 295 | J17: =P17*3600/(U17*V17*E17) -> 13.570325 | K17: 308.57028 | L17: =I17+J17 -> 308.57033 | M17: 313.03119 | N17: =H17-P17/(S17*A17) -> 313.03119 | O17: =H17-M17 -> 1.9688068 | P17: 164.53598 | Q17: =P17/(Abmessung!B$17*R17) -> 18.917031 | R17: =((H17-K17)-(M17-I17))/LN((H17-K17)/(M17-I17)) -> 11.250764 | S17: =((AD17 + AE17*H17 +AF17*H17^2 + AG17*H17^3)+(AD17 + AE17*M17 + AF17*M17^2 + AG17*M17^3))/2 -> 4178.571 | T17: =((Z17 + AA17*H17 + AB17*H17^2 + AC17*H17^3)+(Z17 + AA17*M17 + AB17*M17^2 + AC17*M17^3))/2 -> 991.8869 | U17: =((AJ17 + AK17*I17)+(AJ17 + AK17*K17))/2 -> 1007.1676 | V17: =((AH17 + AI17*I17)+(AH17 + AI17*K17))/2 -> 1.171304 | Z17: -144.24373 | AA17: 10.5287 | AB17: -0.031256926 | AC17: 2.9456116e-05 | AD17: 17554.454 | AE17: -125.69235 | AF17: 0.39362054 | AG17: -0.00041079636 | AH17: 2.306401 | AI17: -0.0037612753 | AJ17: 995.1762 | AK17: 0.039735 | AM17: -0.0073107128 | AN17: 2.552808 | AO17: 1.5829103
A18: 0.026 | B18: =A18/T18*3600*1000 -> 94.373504 | C18: 600 | D18: =E18/(0.02809*3600) -> 0.36588743 | E18: 37 | F18: 1.87 | G18: =G6 -> 800.27 | H18: 315 | I18: 295 | J18: =P18*3600/(U18*V18*E18) -> 13.75282 | K18: 308.75284 | L18: =I18+J18 -> 308.75282 | M18: 313.46561 | N18: =H18-P18/(S18*A18) -> 313.46561 | O18: =H18-M18 -> 1.5343904 | P18: 166.70039 | Q18: =P18/(Abmessung!B$17*R18) -> 19.126565 | R18: =((H18-K18)-(M18-I18))/LN((H18-K18)/(M18-I18)) -> 11.273888 | S18: =((AD18 + AE18*H18 +AF18*H18^2 + AG18*H18^3)+(AD18 + AE18*M18 + AF18*M18^2 + AG18*M18^3))/2 -> 4178.5671 | T18: =((Z18 + AA18*H18 + AB18*H18^2 + AC18*H18^3)+(Z18 + AA18*M18 + AB18*M18^2 + AC18*M18^3))/2 -> 991.8038 | U18: =((AJ18 + AK18*I18)+(AJ18 + AK18*K18))/2 -> 1007.1713 | V18: =((AH18 + AI18*I18)+(AH18 + AI18*K18))/2 -> 1.1709607 | Z18: -144.24373 | AA18: 10.5287 | AB18: -0.031256926 | AC18: 2.9456116e-05 | AD18: 17554.454 | AE18: -125.69235 | AF18: 0.39362054 | AG18: -0.00041079636 | AH18: 2.306401 | AI18: -0.0037612753 | AJ18: 995.1762 | AK18: 0.039735 | AM18: -0.0073107128 | AN18: 2.552808 | AO18: 1.5829103
A19: 0.032 | B19: =A19/T19*3600*1000 -> 116.1582 | C19: 600 | D19: =E19/(0.02809*3600) -> 0.36588743 | E19: 37 | F19: 1.87 | G19: =G7 -> 1104.81 | H19: 315 | I19: 295 | J19: =P19*3600/(U19*V19*E19) -> 13.898825 | K19: 308.89888 | L19: =I19+J19 -> 308.89883 | M19: 313.74036 | N19: =H19-P19/(S19*A19) -> 313.74036 | O19: =H19-M19 -> 1.2596362 | P19: 168.43112 | Q19: =P19/(Abmessung!B$17*R19) -> 19.344095 | R19: =((H19-K19)-(M19-I19))/LN((H19-K19)/(M19-I19)) -> 11.262842 | S19: =((AD19 + AE19*H19 +AF19*H19^2 + AG19*H19^3)+(AD19 + AE19*M19 + AF19*M19^2 + AG19*M19^3))/2 -> 4178.5654 | T19: =((Z19 + AA19*H19 + AB19*H19^2 + AC19*H19^3)+(Z19 + AA19*M19 + AB19*M19^2 + AC19*M19^3))/2 -> 991.7509 | U19: =((AJ19 + AK19*I19)+(AJ19 + AK19*K19))/2 -> 1007.1742 | V19: =((AH19 + AI19*I19)+(AH19 + AI19*K19))/2 -> 1.170686 | Z19: -144.24373 | AA19: 10.5287 | AB19: -0.031256926 | AC19: 2.9456116e-05 | AD19: 17554.454 | AE19: -125.69235 | AF19: 0.39362054 | AG19: -0.00041079636 | AH19: 2.306401 | AI19: -0.0037612753 | AJ19: 995.1762 | AK19: 0.039735 | AM19: -0.0073107128 | AN19: 2.552808 | AO19: 1.5829103
A20: 0.038 | B20: =A20/T20*3600*1000 -> 137.94296 | C20: 600 | D20: =E20/(0.02809*3600) -> 0.36588743 | E20: 37 | F20: 1.87 | G20: =G8 -> 1454.2983 | H20: 315 | I20: 295 | J20: =P20*3600/(U20*V20*E20) -> 14.02237 | K20: 309.02244 | L20: =I20+J20 -> 309.02237 | M20: 313.93003 | N20: =H20-P20/(S20*A20) -> 313.93003 | O20: =H20-M20 -> 1.0699656 | P20: 169.89497 | Q20: =P20/(Abmessung!B$17*R20) -> 19.558349 | R20: =((H20-K20)-(M20-I20))/LN((H20-K20)/(M20-I20)) -> 11.236276 | S20: =((AD20 + AE20*H20 +AF20*H20^2 + AG20*H20^3)+(AD20 + AE20*M20 + AF20*M20^2 + AG20*M20^3))/2 -> 4178.5645 | T20: =((Z20 + AA20*H20 + AB20*H20^2 + AC20*H20^3)+(Z20 + AA20*M20 + AB20*M20^2 + AC20*M20^3))/2 -> 991.71422 | U20: =((AJ20 + AK20*I20)+(AJ20 + AK20*K20))/2 -> 1007.1766 | V20: =((AH20 + AI20*I20)+(AH20 + AI20*K20))/2 -> 1.1704537 | Z20: -144.24373 | AA20: 10.5287 | AB20: -0.031256926 | AC20: 2.9456116e-05 | AD20: 17554.454 | AE20: -125.69235 | AF20: 0.39362054 | AG20: -0.00041079636 | AH20: 2.306401 | AI20: -0.0037612753 | AJ20: 995.1762 | AK20: 0.039735 | AM20: -0.0073107128 | AN20: 2.552808 | AO20: 1.5829103
A21: 0.044 | B21: =A21/T21*3600*1000 -> 159.72777 | C21: 600 | D21: =E21/(0.02809*3600) -> 0.36588743 | E21: 37 | F21: 1.87 | G21: =G9 -> 1848.735 | H21: 315 | I21: 295 | J21: =P21*3600/(U21*V21*E21) -> 14.130878 | K21: 309.13095 | L21: =I21+J21 -> 309.13088 | M21: 314.06895 | N21: =H21-P21/(S21*A21) -> 314.06895 | O21: =H21-M21 -> 0.93105152 | P21: 171.18017 | Q21: =P21/(Abmessung!B$17*R21) -> 19.766878 | R21: =((H21-K21)-(M21-I21))/LN((H21-K21)/(M21-I21)) -> 11.201843 | S21: =((AD21 + AE21*H21 +AF21*H21^2 + AG21*H21^3)+(AD21 + AE21*M21 + AF21*M21^2 + AG21*M21^3))/2 -> 4178.564 | T21: =((Z21 + AA21*H21 + AB21*H21^2 + AC21*H21^3)+(Z21 + AA21*M21 + AB21*M21^2 + AC21*M21^3))/2 -> 991.68728 | U21: =((AJ21 + AK21*I21)+(AJ21 + AK21*K21))/2 -> 1007.1788 | V21: =((AH21 + AI21*I21)+(AH21 + AI21*K21))/2 -> 1.1702496 | Z21: -144.24373 | AA21: 10.5287 | AB21: -0.031256926 | AC21: 2.9456116e-05 | AD21: 17554.454 | AE21: -125.69235 | AF21: 0.39362054 | AG21: -0.00041079636 | AH21: 2.306401 | AI21: -0.0037612753 | AJ21: 995.1762 | AK21: 0.039735 | AM21: -0.0073107128 | AN21: 2.552808 | AO21: 1.5829103
A22: 0.05 | B22: =A22/T22*3600*1000 -> 181.51261 | C22: 600 | D22: =E22/(0.02809*3600) -> 0.36588743 | E22: 37 | F22: 1.87 | G22: =G10 -> 2288.12 | H22: 315 | I22: 295 | J22: =P22*3600/(U22*V22*E22) -> 14.228688 | K22: 309.22875 | L22: =I22+J22 -> 309.22869 | M22: 314.17513 | N22: =H22-P22/(S22*A22) -> 314.17513 | O22: =H22-M22 -> 0.82486842 | P22: 172.33826 | Q22: =P22/(Abmessung!B$17*R22) -> 19.969588 | R22: =((H22-K22)-(M22-I22))/LN((H22-K22)/(M22-I22)) -> 11.163148 | S22: =((AD22 + AE22*H22 +AF22*H22^2 + AG22*H22^3)+(AD22 + AE22*M22 + AF22*M22^2 + AG22*M22^3))/2 -> 4178.5637 | T22: =((Z22 + AA22*H22 + AB22*H22^2 + AC22*H22^3)+(Z22 + AA22*M22 + AB22*M22^2 + AC22*M22^3))/2 -> 991.66664 | U22: =((AJ22 + AK22*I22)+(AJ22 + AK22*K22))/2 -> 1007.1807 | V22: =((AH22 + AI22*I22)+(AH22 + AI22*K22))/2 -> 1.1700657 | Z22: -144.24373 | AA22: 10.5287 | AB22: -0.031256926 | AC22: 2.9456116e-05 | AD22: 17554.454 | AE22: -125.69235 | AF22: 0.39362054 | AG22: -0.00041079636 | AH22: 2.306401 | AI22: -0.0037612753 | AJ22: 995.1762 | AK22: 0.039735 | AM22: -0.0073107128 | AN22: 2.552808 | AO22: 1.5829103
A23: 0.056 | B23: =A23/T23*3600*1000 -> 203.29747 | C23: 600 | D23: =E23/(0.02809*3600) -> 0.36588743 | E23: 37 | F23: 1.87 | G23: =G11 -> 2772.4534 | H23: 315 | I23: 295 | J23: =P23*3600/(U23*V23*E23) -> 14.318558 | K23: 309.31862 | L23: =I23+J23 -> 309.31856 | M23: 314.25896 | N23: =H23-P23/(S23*A23) -> 314.25896 | O23: =H23-M23 -> 0.74103571 | P23: 173.40203 | Q23: =P23/(Abmessung!B$17*R23) -> 20.167121 | R23: =((H23-K23)-(M23-I23))/LN((H23-K23)/(M23-I23)) -> 11.122038 | S23: =((AD23 + AE23*H23 +AF23*H23^2 + AG23*H23^3)+(AD23 + AE23*M23 + AF23*M23^2 + AG23*M23^3))/2 -> 4178.5635 | T23: =((Z23 + AA23*H23 + AB23*H23^2 + AC23*H23^3)+(Z23 + AA23*M23 + AB23*M23^2 + AC23*M23^3))/2 -> 991.65032 | U23: =((AJ23 + AK23*I23)+(AJ23 + AK23*K23))/2 -> 1007.1825 | V23: =((AH23 + AI23*I23)+(AH23 + AI23*K23))/2 -> 1.1698967 | Z23: -144.24373 | AA23: 10.5287 | AB23: -0.031256926 | AC23: 2.9456116e-05 | AD23: 17554.454 | AE23: -125.69235 | AF23: 0.39362054 | AG23: -0.00041079636 | AH23: 2.306401 | AI23: -0.0037612753 | AJ23: 995.1762 | AK23: 0.039735 | AM23: -0.0073107128 | AN23: 2.552808 | AO23: 1.5829103
A24: 0.062 | B24: =A24/T24*3600*1000 -> 225.08234 | C24: 600 | D24: =E24/(0.02809*3600) -> 0.36588743 | E24: 37 | F24: 1.87 | G24: =G12 -> 3301.7351 | H24: 315 | I24: 295 | J24: =P24*3600/(U24*V24*E24) -> 14.402496 | K24: 309.40254 | L24: =I24+J24 -> 309.4025 | M24: 314.32684 | N24: =H24-P24/(S24*A24) -> 314.32684 | O24: =H24-M24 -> 0.67315659 | P24: 174.3953 | Q24: =P24/(Abmessung!B$17*R24) -> 20.360712 | R24: =((H24-K24)-(M24-I24))/LN((H24-K24)/(M24-I24)) -> 11.079392 | S24: =((AD24 + AE24*H24 +AF24*H24^2 + AG24*H24^3)+(AD24 + AE24*M24 + AF24*M24^2 + AG24*M24^3))/2 -> 4178.5634 | T24: =((Z24 + AA24*H24 + AB24*H24^2 + AC24*H24^3)+(Z24 + AA24*M24 + AB24*M24^2 + AC24*M24^3))/2 -> 991.63709 | U24: =((AJ24 + AK24*I24)+(AJ24 + AK24*K24))/2 -> 1007.1842 | V24: =((AH24 + AI24*I24)+(AH24 + AI24*K24))/2 -> 1.1697388 | Z24: -144.24373 | AA24: 10.5287 | AB24: -0.031256926 | AC24: 2.9456116e-05 | AD24: 17554.454 | AE24: -125.69235 | AF24: 0.39362054 | AG24: -0.00041079636 | AH24: 2.306401 | AI24: -0.0037612753 | AJ24: 995.1762 | AK24: 0.039735 | AM24: -0.0073107128 | AN24: 2.552808 | AO24: 1.5829103
A25: 0.068 | B25: =A25/T25*3600*1000 -> 246.86723 | C25: 600 | D25: =E25/(0.02809*3600) -> 0.36588743 | E25: 37 | F25: 1.87 | G25: =G13 -> 3875.9652 | H25: 315 | I25: 295 | J25: =P25*3600/(U25*V25*E25) -> 14.481393 | K25: 309.48142 | L25: =I25+J25 -> 309.48139 | M25: 314.38295 | N25: =H25-P25/(S25*A25) -> 314.38295 | O25: =H25-M25 -> 0.61704531 | P25: 175.32868 | Q25: =P25/(Abmessung!B$17*R25) -> 20.549959 | R25: =((H25-K25)-(M25-I25))/LN((H25-K25)/(M25-I25)) -> 11.036112 | S25: =((AD25 + AE25*H25 +AF25*H25^2 + AG25*H25^3)+(AD25 + AE25*M25 + AF25*M25^2 + AG25*M25^3))/2 -> 4178.5633 | T25: =((Z25 + AA25*H25 + AB25*H25^2 + AC25*H25^3)+(Z25 + AA25*M25 + AB25*M25^2 + AC25*M25^3))/2 -> 991.62614 | U25: =((AJ25 + AK25*I25)+(AJ25 + AK25*K25))/2 -> 1007.1857 | V25: =((AH25 + AI25*I25)+(AH25 + AI25*K25))/2 -> 1.1695905 | Z25: -144.24373 | AA25: 10.5287 | AB25: -0.031256926 | AC25: 2.9456116e-05 | AD25: 17554.454 | AE25: -125.69235 | AF25: 0.39362054 | AG25: -0.00041079636 | AH25: 2.306401 | AI25: -0.0037612753 | AJ25: 995.1762 | AK25: 0.039735 | AM25: -0.0073107128 | AN25: 2.552808 | AO25: 1.5829103
A26: 0.074 | B26: =A26/T26*3600*1000 -> 268.65213 | C26: 600 | D26: =E26/(0.02809*3600) -> 0.36588743 | E26: 37 | F26: 1.87 | G26: =G14 -> 4495.1437 | H26: 315 | I26: 295 | J26: =P26*3600/(U26*V26*E26) -> 14.556487 | K26: 309.5565 | L26: =I26+J26 -> 309.55649 | M26: 314.43011 | N26: =H26-P26/(S26*A26) -> 314.43011 | O26: =H26-M26 -> 0.56988694 | P26: 176.21684 | Q26: =P26/(Abmessung!B$17*R26) -> 20.736388 | R26: =((H26-K26)-(M26-I26))/LN((H26-K26)/(M26-I26)) -> 10.992296 | S26: =((AD26 + AE26*H26 +AF26*H26^2 + AG26*H26^3)+(AD26 + AE26*M26 + AF26*M26^2 + AG26*M26^3))/2 -> 4178.5632 | T26: =((Z26 + AA26*H26 + AB26*H26^2 + AC26*H26^3)+(Z26 + AA26*M26 + AB26*M26^2 + AC26*M26^3))/2 -> 991.61692 | U26: =((AJ26 + AK26*I26)+(AJ26 + AK26*K26))/2 -> 1007.1872 | V26: =((AH26 + AI26*I26)+(AH26 + AI26*K26))/2 -> 1.1694493 | Z26: -144.24373 | AA26: 10.5287 | AB26: -0.031256926 | AC26: 2.9456116e-05 | AD26: 17554.454 | AE26: -125.69235 | AF26: 0.39362054 | AG26: -0.00041079636 | AH26: 2.306401 | AI26: -0.0037612753 | AJ26: 995.1762 | AK26: 0.039735 | AM26: -0.0073107128 | AN26: 2.552808 | AO26: 1.5829103
... A110: 0.074 | B110: =A110/T110*3600*1000 -> 268.45167 | C110: 3000 | D110: =E110/(0.02809*3600) -> 2.9795103 | E110: 301.3 | F110: 27.26 | G110: =G98 -> 4495.1437 | H110: 315 | I110: 295 | J110: =P110*3600/(U110*V110*E110) -> 14.106013 | K110: 309.10547 | L110: =I110+J110 -> 309.10601 | M110: 310.49973 | N110: =H110-P110/(S110*A110) -> 310.49973 | O110: =H110-M110 -> 4.5002669 | P110: 1391.5651 | Q110: =P110/(Abmessung!B$17*R110) -> 181.17855 | R110: =((H110-K110)-(M110-I110))/LN((H110-K110)/(M110-I110)) -> 9.9350687 | S110: =((AD110 + AE110*H110 +AF110*H110^2 + AG110*H110^3)+(AD110 + AE110*M110 + AF110*M110^2 + AG110*M110^3))/2 -> 4178.6265 | T110: =((Z110 + AA110*H110 + AB110*H110^2 + AC110*H110^3)+(Z110 + AA110*M110 + AB110*M110^2 + AC110*M110^3))/2 -> 992.35738 | U110: =((AJ110 + AK110*I110)+(AJ110 + AK110*K110))/2 -> 1007.1783 | V110: =((AH110 + AI110*I110)+(AH110 + AI110*K110))/2 -> 1.1702975 | Z110: -144.24373 | AA110: 10.5287 | AB110: -0.031256926 | AC110: 2.9456116e-05 | AD110: 17554.454 | AE110: -125.69235 | AF110: 0.39362054 | AG110: -0.00041079636 | AH110: 2.306401 | AI110: -0.0037612753 | AJ110: 995.1762 | AK110: 0.039735 | AM110: -0.0073107128 | AN110: 2.552808 | AO110: 1.5829103
A114: 29 | D114: 50.8 | G114: 72.5 | J114: 94.4 | M114: 116.1 | O114: 137.9 | Q114: 159.7 | S114: 181.4
A115: 0.008 | D115: 0.014 | G115: 0.02 | J115: 0.026 | M115: 0.032 | O115: 0.038 | Q115: 0.044 | S115: 0.05
A118: rpm | B118: W | C118: K/W | D118: rpm | E118: W | F118: K/W | G118: rpm | H118: W | I118: K/W | J118: rpm | K118: W | L118: K/W | M118: W | N118: K/W | O118: W | P118: K/W | Q118: W | R118: K/W | S118: W | T118: K/W
A121: 0 | B121: =($Y$195 - $Z$195*EXP(-$AA$195*A121^$AB$195))*1.015 -> 24.456972 | C121: =20/B121 -> 0.81776273
A122: 5 | B122: =($Y$195 - $Z$195*EXP(-$AA$195*A122^$AB$195))*1.015 -> 24.467827 | C122: =20/B122 -> 0.81739992
A123: 10 | B123: =($Y$195 - $Z$195*EXP(-$AA$195*A123^$AB$195))*1.015 -> 24.500731 | C123: =20/B123 -> 0.81630218
A124: 15 | B124: =($Y$195 - $Z$195*EXP(-$AA$195*A124^$AB$195))*1.015 -> 24.555872 | C124: =20/B124 -> 0.81446913
A125: 20 | B125: =($Y$195 - $Z$195*EXP(-$AA$195*A125^$AB$195))*1.015 -> 24.633348 | C125: =20/B125 -> 0.81190749
A126: 25 | B126: =($Y$195 - $Z$195*EXP(-$AA$195*A126^$AB$195))*1.015 -> 24.733221 | C126: =20/B126 -> 0.808629 | D126: 0 | E126: =34.4325235474139+ 0.0156774056387895*D126 + 0.000384613025793122*D126^2 -> 34.432524 | F126: =20/E126 -> 0.58084619
A127: 30 | B127: =($Y$195 - $Z$195*EXP(-$AA$195*A127^$AB$195))*1.015 -> 24.855533 | C127: =20/B127 -> 0.80464982 | D127: 5 | E127: =34.4325235474139+ 0.0156774056387895*D127 + 0.000384613025793122*D127^2 -> 34.520526 | F127: =20/E127 -> 0.57936545
A128: 35 | B128: =($Y$195 - $Z$195*EXP(-$AA$195*A128^$AB$195))*1.015 -> 25.000312 | C128: =20/B128 -> 0.79999001 | D128: 10 | E128: =34.4325235474139+ 0.0156774056387895*D128 + 0.000384613025793122*D128^2 -> 34.627759 | F128: =20/E128 -> 0.57757131 | G128: 0 | H128: =38.5782033850377+ 0.00563581618096245*G128 + 0.000396047832506772*G128^2 -> 38.578203 | I128: =20/H128 -> 0.51842746
A129: 40 | B129: =($Y$195 - $Z$195*EXP(-$AA$195*A129^$AB$195))*1.015 -> 25.167577 | C129: =20/B129 -> 0.79467324 | D129: 15 | E129: =34.4325235474139+ 0.0156774056387895*D129 + 0.000384613025793122*D129^2 -> 34.754223 | F129: =20/E129 -> 0.57546964 | G129: 5 | H129: =38.5782033850377+ 0.00563581618096245*G129 + 0.000396047832506772*G129^2 -> 38.616284 | I129: =20/H129 -> 0.51791623
A130: 45 | B130: =($Y$195 - $Z$195*EXP(-$AA$195*A130^$AB$195))*1.015 -> 25.357338 | C130: =20/B130 -> 0.78872633 | D130: 20 | E130: =34.4325235474139+ 0.0156774056387895*D130 + 0.000384613025793122*D130^2 -> 34.899917 | F130: =20/E130 -> 0.57306727 | G130: 10 | H130: =38.5782033850377+ 0.00563581618096245*G130 + 0.000396047832506772*G130^2 -> 38.674166 | I130: =20/H130 -> 0.51714108
...

Sheet Typ1 1 mm Noctua S12
A1: kg/s | B1: L/h | C1: min^-1 | D1: m/s | E1: Gesamt m³/h | F1: dp [Pa] | G1: Tin [K] | H1: TAmbient [K] | I1: dTAmbient | J1: TAmbient2 | K1: TAmbient2 | L1: Tout_avg | M1: Tout_avg | N1: dTFluid [K] | O1: P [W] | P1: k [W/m²*K] | Q1: dTlog | R1: cp [J/kg * K] | S1: ρ [kg/m³] | T1: cp [J/kg * K] | U1: ρ [kg/m³]
A2: 0 | B2: =A2/S2*3600*1000 -> 0 | C2: 0 | D2: 0 | F2: 0 | G2: 315 | H2: 295 | R2: 4180 | S2: 991.5 | Y2: -144.24373 | Z2: 10.5287 | AA2: -0.031256926 | AB2: 2.9456116e-05 | AC2: 17554.454 | AD2: -125.69235 | AE2: 0.39362054 | AF2: -0.00041079636 | AG2: 2.306401 | AH2: -0.0037612753 | AI2: 995.1762 | AJ2: 0.039735 | AL2: -0.0073107128 | AM2: 2.552808 | AN2: 1.5829103
A3: 0.008 | B3: =A3/S3*3600*1000 -> 29.042372 | C3: 0 | D3: 0 | F3: 0 | G3: 315 | H3: 295 | J3: 297.20729 | L3: 314.23737 | M3: =G3-O3/(R3*A3) -> 314.23737 | N3: =G3-L3 -> 0.76262638 | O3: ='Typ1 1,5 mm Noctua F12'!Q3*0.693 -> 25.493462 | P3: =O3/(Abmessung!B$17*Q3) -> 1.7819632 | Q3: =((G3-J3)-(L3-H3))/LN((G3-J3)/(L3-H3)) -> 18.505644 | R3: =((AC3 + AD3*G3 +AE3*G3^2 + AF3*G3^3)+(AC3 + AD3*L3 + AE3*L3^2 + AF3*L3^3))/2 -> 4178.5635 | S3: =((Y3 + Z3*G3 + AA3*G3^2 + AB3*G3^3)+(Y3 + Z3*L3 + AA3*L3^2 + AB3*L3^3))/2 -> 991.65453 | T3: =((AI3 + AJ3*H3)+(AI3 + AJ3*J3))/2 -> 1006.9419 | U3: =((AG3 + AH3*H3)+(AG3 + AH3*J3))/2 -> 1.1926737 | Y3: -144.24373 | Z3: 10.5287 | AA3: -0.031256926 | AB3: 2.9456116e-05 | AC3: 17554.454 | AD3: -125.69235 | AE3: 0.39362054 | AF3: -0.00041079636 | AG3: 2.306401 | AH3: -0.0037612753 | AI3: 995.1762 | AJ3: 0.039735 | AL3: -0.0073107128 | AM3: 2.552808 | AN3: 1.5829103
A4: 0.014 | B4: =A4/S4*3600*1000 -> 50.826023 | C4: 0 | D4: 0 | F4: 0 | G4: 315 | H4: 295 | J4: 297.94433 | L4: 314.42457 | M4: =G4-O4/(R4*A4) -> 314.42457 | N4: =G4-L4 -> 0.5754307 | O4: ='Typ1 1,5 mm Noctua F12'!Q4*0.693 -> 33.66263 | P4: =O4/(Abmessung!B$17*Q4) -> 2.3905954 | Q4: =((G4-J4)-(L4-H4))/LN((G4-J4)/(L4-H4)) -> 18.21445 | R4: =((AC4 + AD4*G4 +AE4*G4^2 + AF4*G4^3)+(AC4 + AD4*L4 + AE4*L4^2 + AF4*L4^3))/2 -> 4178.5632 | S4: =((Y4 + Z4*G4 + AA4*G4^2 + AB4*G4^3)+(Y4 + Z4*L4 + AA4*L4^2 + AB4*L4^3))/2 -> 991.61801 | T4: =((AI4 + AJ4*H4)+(AI4 + AJ4*J4))/2 -> 1006.9565 | U4: =((AG4 + AH4*H4)+(AG4 + AH4*J4))/2 -> 1.1912876 | Y4: -144.24373 | Z4: 10.5287 | AA4: -0.031256926 | AB4: 2.9456116e-05 | AC4: 17554.454 | AD4: -125.69235 | AE4: 0.39362054 | AF4: -0.00041079636 | AG4: 2.306401 | AH4: -0.0037612753 | AI4: 995.1762 | AJ4: 0.039735 | AL4: -0.0073107128 | AM4: 2.552808 | AN4: 1.5829103
A5: 0.02 | B5: =A5/S5*3600*1000 -> 72.610232 | C5: 0 | D5: 0 | F5: 0 | G5: 315 | H5: 295 | J5: 298.35294 | L5: 314.53817 | M5: =G5-O5/(R5*A5) -> 314.53817 | N5: =G5-L5 -> 0.46182526 | O5: ='Typ1 1,5 mm Noctua F12'!Q5*0.693 -> 38.59532 | P5: =O5/(Abmessung!B$17*Q5) -> 2.7652476 | Q5: =((G5-J5)-(L5-H5))/LN((G5-J5)/(L5-H5)) -> 18.054053 | R5: =((AC5 + AD5*G5 +AE5*G5^2 + AF5*G5^3)+(AC5 + AD5*L5 + AE5*L5^2 + AF5*L5^3))/2 -> 4178.5632 | S5: =((Y5 + Z5*G5 + AA5*G5^2 + AB5*G5^3)+(Y5 + Z5*L5 + AA5*L5^2 + AB5*L5^3))/2 -> 991.59578 | T5: =((AI5 + AJ5*H5)+(AI5 + AJ5*J5))/2 -> 1006.9646 | U5: =((AG5 + AH5*H5)+(AG5 + AH5*J5))/2 -> 1.1905191 | Y5: -144.24373 | Z5: 10.5287 | AA5: -0.031256926 | AB5: 2.9456116e-05 | AC5: 17554.454 | AD5: -125.69235 | AE5: 0.39362054 | AF5: -0.00041079636 | AG5: 2.306401 | AH5: -0.0037612753 | AI5: 995.1762 | AJ5: 0.039735 | AL5: -0.0073107128 | AM5: 2.552808 | AN5: 1.5829103
A6: 0.026 | B6: =A6/S6*3600*1000 -> 94.394719 | C6: 0 | D6: 0 | F6: 0 | G6: 315 | H6: 295 | J6: 298.63722 | L6: 314.61414 | M6: =G6-O6/(R6*A6) -> 314.61414 | N6: =G6-L6 -> 0.38585604 | O6: ='Typ1 1,5 mm Noctua F12'!Q6*0.693 -> 41.92042 | P6: =O6/(Abmessung!B$17*Q6) -> 3.0226805 | Q6: =((G6-J6)-(L6-H6))/LN((G6-J6)/(L6-H6)) -> 17.939382 | R6: =((AC6 + AD6*G6 +AE6*G6^2 + AF6*G6^3)+(AC6 + AD6*L6 + AE6*L6^2 + AF6*L6^3))/2 -> 4178.5632 | S6: =((Y6 + Z6*G6 + AA6*G6^2 + AB6*G6^3)+(Y6 + Z6*L6 + AA6*L6^2 + AB6*L6^3))/2 -> 991.5809 | T6: =((AI6 + AJ6*H6)+(AI6 + AJ6*J6))/2 -> 1006.9703 | U6: =((AG6 + AH6*H6)+(AG6 + AH6*J6))/2 -> 1.1899845 | Y6: -144.24373 | Z6: 10.5287 | AA6: -0.031256926 | AB6: 2.9456116e-05 | AC6: 17554.454 | AD6: -125.69235 | AE6: 0.39362054 | AF6: -0.00041079636 | AG6: 2.306401 | AH6: -0.0037612753 | AI6: 995.1762 | AJ6: 0.039735 | AL6: -0.0073107128 | AM6: 2.552808 | AN6: 1.5829103
A7: 0.032 | B7: =A7/S7*3600*1000 -> 116.17937 | C7: 0 | D7: 0 | F7: 0 | G7: 315 | H7: 295 | J7: 298.85549 | L7: 314.66867 | M7: =G7-O7/(R7*A7) -> 314.66867 | N7: =G7-L7 -> 0.33133293 | O7: ='Typ1 1,5 mm Noctua F12'!Q7*0.693 -> 44.303859 | P7: =O7/(Abmessung!B$17*Q7) -> 3.2107798 | Q7: =((G7-J7)-(L7-H7))/LN((G7-J7)/(L7-H7)) -> 17.84864 | R7: =((AC7 + AD7*G7 +AE7*G7^2 + AF7*G7^3)+(AC7 + AD7*L7 + AE7*L7^2 + AF7*L7^3))/2 -> 4178.5632 | S7: =((Y7 + Z7*G7 + AA7*G7^2 + AB7*G7^3)+(Y7 + Z7*L7 + AA7*L7^2 + AB7*L7^3))/2 -> 991.5702 | T7: =((AI7 + AJ7*H7)+(AI7 + AJ7*J7))/2 -> 1006.9746 | U7: =((AG7 + AH7*H7)+(AG7 + AH7*J7))/2 -> 1.189574 | Y7: -144.24373 | Z7: 10.5287 | AA7: -0.031256926 | AB7: 2.9456116e-05 | AC7: 17554.454 | AD7: -125.69235 | AE7: 0.39362054 | AF7: -0.00041079636 | AG7: 2.306401 | AH7: -0.0037612753 | AI7: 995.1762 | AJ7: 0.039735 | AL7: -0.0073107128 | AM7: 2.552808 | AN7: 1.5829103
A8: 0.038 | B8: =A8/S8*3600*1000 -> 137.96412 | C8: 0 | D8: 0 | F8: 0 | G8: 315 | H8: 295 | J8: 299.03273 | L8: 314.70978 | M8: =G8-O8/(R8*A8) -> 314.70978 | N8: =G8-L8 -> 0.29021863 | O8: ='Typ1 1,5 mm Noctua F12'!Q8*0.693 -> 46.082482 | P8: =O8/(Abmessung!B$17*Q8) -> 3.3539113 | Q8: =((G8-J8)-(L8-H8))/LN((G8-J8)/(L8-H8)) -> 17.772904 | R8: =((AC8 + AD8*G8 +AE8*G8^2 + AF8*G8^3)+(AC8 + AD8*L8 + AE8*L8^2 + AF8*L8^3))/2 -> 4178.5632 | S8: =((Y8 + Z8*G8 + AA8*G8^2 + AB8*G8^3)+(Y8 + Z8*L8 + AA8*L8^2 + AB8*L8^3))/2 -> 991.56213 | T8: =((AI8 + AJ8*H8)+(AI8 + AJ8*J8))/2 -> 1006.9781 | U8: =((AG8 + AH8*H8)+(AG8 + AH8*J8))/2 -> 1.1892407 | Y8: -144.24373 | Z8: 10.5287 | AA8: -0.031256926 | AB8: 2.9456116e-05 | AC8: 17554.454 | AD8: -125.69235 | AE8: 0.39362054 | AF8: -0.00041079636 | AG8: 2.306401 | AH8: -0.0037612753 | AI8: 995.1762 | AJ8: 0.039735 | AL8: -0.0073107128 | AM8: 2.552808 | AN8: 1.5829103
A9: 0.044 | B9: =A9/S9*3600*1000 -> 159.74895 | C9: 0 | D9: 0 | F9: 0 | G9: 315 | H9: 295 | J9: 299.18196 | L9: 314.74193 | M9: =G9-O9/(R9*A9) -> 314.74193 | N9: =G9-L9 -> 0.25807378 | O9: ='Typ1 1,5 mm Noctua F12'!Q9*0.693 -> 47.448616 | P9: =O9/(Abmessung!B$17*Q9) -> 3.4660777 | Q9: =((G9-J9)-(L9-H9))/LN((G9-J9)/(L9-H9)) -> 17.707586 | R9: =((AC9 + AD9*G9 +AE9*G9^2 + AF9*G9^3)+(AC9 + AD9*L9 + AE9*L9^2 + AF9*L9^3))/2 -> 4178.5632 | S9: =((Y9 + Z9*G9 + AA9*G9^2 + AB9*G9^3)+(Y9 + Z9*L9 + AA9*L9^2 + AB9*L9^3))/2 -> 991.55581 | T9: =((AI9 + AJ9*H9)+(AI9 + AJ9*J9))/2 -> 1006.9811 | U9: =((AG9 + AH9*H9)+(AG9 + AH9*J9))/2 -> 1.18896 | Y9: -144.24373 | Z9: 10.5287 | AA9: -0.031256926 | AB9: 2.9456116e-05 | AC9: 17554.454 | AD9: -125.69235 | AE9: 0.39362054 | AF9: -0.00041079636 | AG9: 2.306401 | AH9: -0.0037612753 | AI9: 995.1762 | AJ9: 0.039735 | AL9: -0.0073107128 | AM9: 2.552808 | AN9: 1.5829103
A10: 0.05 | B10: =A10/S10*3600*1000 -> 181.53383 | C10: 0 | D10: 0 | F10: 0 | G10: 315 | H10: 295 | J10: 299.31084 | L10: 314.76776 | M10: =G10-O10/(R10*A10) -> 314.76776 | N10: =G10-L10 -> 0.23223854 | O10: ='Typ1 1,5 mm Noctua F12'!Q10*0.693 -> 48.521172 | P10: =O10/(Abmessung!B$17*Q10) -> 3.5559937 | Q10: =((G10-J10)-(L10-H10))/LN((G10-J10)/(L10-H10)) -> 17.649988 | R10: =((AC10 + AD10*G10 +AE10*G10^2 + AF10*G10^3)+(AC10 + AD10*L10 + AE10*L10^2 + AF10*L10^3))/2 -> 4178.5633 | S10: =((Y10 + Z10*G10 + AA10*G10^2 + AB10*G10^3)+(Y10 + Z10*L10 + AA10*L10^2 + AB10*L10^3))/2 -> 991.55073 | T10: =((AI10 + AJ10*H10)+(AI10 + AJ10*J10))/2 -> 1006.9837 | U10: =((AG10 + AH10*H10)+(AG10 + AH10*J10))/2 -> 1.1887177 | Y10: -144.24373 | Z10: 10.5287 | AA10: -0.031256926 | AB10: 2.9456116e-05 | AC10: 17554.454 | AD10: -125.69235 | AE10: 0.39362054 | AF10: -0.00041079636 | AG10: 2.306401 | AH10: -0.0037612753 | AI10: 995.1762 | AJ10: 0.039735 | AL10: -0.0073107128 | AM10: 2.552808 | AN10: 1.5829103
A11: 0.056 | B11: =A11/S11*3600*1000 -> 203.31874 | C11: 0 | D11: 0 | F11: 0 | G11: 315 | H11: 295 | J11: 299.42428 | L11: 314.78898 | M11: =G11-O11/(R11*A11) -> 314.78898 | N11: =G11-L11 -> 0.21101737 | O11: ='Typ1 1,5 mm Noctua F12'!Q11*0.693 -> 49.377969 | P11: =O11/(Abmessung!B$17*Q11) -> 3.6294 | Q11: =((G11-J11)-(L11-H11))/LN((G11-J11)/(L11-H11)) -> 17.598372 | R11: =((AC11 + AD11*G11 +AE11*G11^2 + AF11*G11^3)+(AC11 + AD11*L11 + AE11*L11^2 + AF11*L11^3))/2 -> 4178.5633 | S11: =((Y11 + Z11*G11 + AA11*G11^2 + AB11*G11^3)+(Y11 + Z11*L11 + AA11*L11^2 + AB11*L11^3))/2 -> 991.54656 | T11: =((AI11 + AJ11*H11)+(AI11 + AJ11*J11))/2 -> 1006.9859 | U11: =((AG11 + AH11*H11)+(AG11 + AH11*J11))/2 -> 1.1885043 | Y11: -144.24373 | Z11: 10.5287 | AA11: -0.031256926 | AB11: 2.9456116e-05 | AC11: 17554.454 | AD11: -125.69235 | AE11: 0.39362054 | AF11: -0.00041079636 | AG11: 2.306401 | AH11: -0.0037612753 | AI11: 995.1762 | AJ11: 0.039735 | AL11: -0.0073107128 | AM11: 2.552808 | AN11: 1.5829103
A12: 0.062 | B12: =A12/S12*3600*1000 -> 225.10369 | C12: 0 | D12: 0 | F12: 0 | G12: 315 | H12: 295 | J12: 299.52558 | L12: 314.80672 | M12: =G12-O12/(R12*A12) -> 314.80672 | N12: =G12-L12 -> 0.19327586 | O12: ='Typ1 1,5 mm Noctua F12'!Q12*0.693 -> 50.072157 | P12: =O12/(Abmessung!B$17*Q12) -> 3.6902432 | Q12: =((G12-J12)-(L12-H12))/LN((G12-J12)/(L12-H12)) -> 17.551547 | R12: =((AC12 + AD12*G12 +AE12*G12^2 + AF12*G12^3)+(AC12 + AD12*L12 + AE12*L12^2 + AF12*L12^3))/2 -> 4178.5633 | S12: =((Y12 + Z12*G12 + AA12*G12^2 + AB12*G12^3)+(Y12 + Z12*L12 + AA12*L12^2 + AB12*L12^3))/2 -> 991.54307 | T12: =((AI12 + AJ12*H12)+(AI12 + AJ12*J12))/2 -> 1006.9879 | U12: =((AG12 + AH12*H12)+(AG12 + AH12*J12))/2 -> 1.1883138 | Y12: -144.24373 | Z12: 10.5287 | AA12: -0.031256926 | AB12: 2.9456116e-05 | AC12: 17554.454 | AD12: -125.69235 | AE12: 0.39362054 | AF12: -0.00041079636 | AG12: 2.306401 | AH12: -0.0037612753 | AI12: 995.1762 | AJ12: 0.039735 | AL12: -0.0073107128 | AM12: 2.552808 | AN12: 1.5829103
A13: 0.068 | B13: =A13/S13*3600*1000 -> 246.88865 | C13: 0 | D13: 0 | F13: 0 | G13: 315 | H13: 295 | J13: 299.6171 | L13: 314.82177 | M13: =G13-O13/(R13*A13) -> 314.82177 | N13: =G13-L13 -> 0.17822504 | O13: ='Typ1 1,5 mm Noctua F12'!Q13*0.693 -> 50.641275 | P13: =O13/(Abmessung!B$17*Q13) -> 3.7413291 | Q13: =((G13-J13)-(L13-H13))/LN((G13-J13)/(L13-H13)) -> 17.508656 | R13: =((AC13 + AD13*G13 +AE13*G13^2 + AF13*G13^3)+(AC13 + AD13*L13 + AE13*L13^2 + AF13*L13^3))/2 -> 4178.5633 | S13: =((Y13 + Z13*G13 + AA13*G13^2 + AB13*G13^3)+(Y13 + Z13*L13 + AA13*L13^2 + AB13*L13^3))/2 -> 991.54011 | T13: =((AI13 + AJ13*H13)+(AI13 + AJ13*J13))/2 -> 1006.9898 | U13: =((AG13 + AH13*H13)+(AG13 + AH13*J13))/2 -> 1.1881417 | Y13: -144.24373 | Z13: 10.5287 | AA13: -0.031256926 | AB13: 2.9456116e-05 | AC13: 17554.454 | AD13: -125.69235 | AE13: 0.39362054 | AF13: -0.00041079636 | AG13: 2.306401 | AH13: -0.0037612753 | AI13: 995.1762 | AJ13: 0.039735 | AL13: -0.0073107128 | AM13: 2.552808 | AN13: 1.5829103
A14: 0.074 | B14: =A14/S14*3600*1000 -> 268.67363 | C14: 0 | D14: 0 | F14: 0 | G14: 315 | H14: 295 | J14: 299.70056 | L14: 314.8347 | M14: =G14-O14/(R14*A14) -> 314.8347 | N14: =G14-L14 -> 0.16529852 | O14: ='Typ1 1,5 mm Noctua F12'!Q14*0.693 -> 51.112566 | P14: =O14/(Abmessung!B$17*Q14) -> 3.7847068 | Q14: =((G14-J14)-(L14-H14))/LN((G14-J14)/(L14-H14)) -> 17.46906 | R14: =((AC14 + AD14*G14 +AE14*G14^2 + AF14*G14^3)+(AC14 + AD14*L14 + AE14*L14^2 + AF14*L14^3))/2 -> 4178.5634 | S14: =((Y14 + Z14*G14 + AA14*G14^2 + AB14*G14^3)+(Y14 + Z14*L14 + AA14*L14^2 + AB14*L14^3))/2 -> 991.53757 | T14: =((AI14 + AJ14*H14)+(AI14 + AJ14*J14))/2 -> 1006.9914 | U14: =((AG14 + AH14*H14)+(AG14 + AH14*J14))/2 -> 1.1879847 | Y14: -144.24373 | Z14: 10.5287 | AA14: -0.031256926 | AB14: 2.9456116e-05 | AC14: 17554.454 | AD14: -125.69235 | AE14: 0.39362054 | AF14: -0.00041079636 | AG14: 2.306401 | AH14: -0.0037612753 | AI14: 995.1762 | AJ14: 0.039735 | AL14: -0.0073107128 | AM14: 2.552808 | AN14: 1.5829103
A15: 0.008 | B15: =A15/S15*3600*1000 -> 29.028454 | C15: 600 | D15: =E15/(0.02809*3600) -> 0.25671453 | E15: 25.96 | F15: 1.29 | G15: 315 | H15: 295 | I15: =O15*3600/(T15*U15*E15) -> 12.798189 | J15: 307.79758 | K15: =H15+I15 -> 307.79819 | L15: 311.73913 | M15: =G15-O15/(R15*A15) -> 311.73913 | N15: =G15-L15 -> 3.260874 | O15: 109.00689 | P15: =O15/(Abmessung!B$17*Q15) -> 12.468901 | Q15: =((G15-J15)-(L15-H15))/LN((G15-J15)/(L15-H15)) -> 11.308366 | R15: =((AC15 + AD15*G15 +AE15*G15^2 + AF15*G15^3)+(AC15 + AD15*L15 + AE15*L15^2 + AF15*L15^3))/2 -> 4178.5918 | S15: =((Y15 + Z15*G15 + AA15*G15^2 + AB15*G15^3)+(Y15 + Z15*L15 + AA15*L15^2 + AB15*L15^3))/2 -> 992.13 | T15: =((AI15 + AJ15*H15)+(AI15 + AJ15*J15))/2 -> 1007.1523 | U15: =((AG15 + AH15*H15)+(AG15 + AH15*J15))/2 -> 1.1727572 | Y15: -144.24373 | Z15: 10.5287 | AA15: -0.031256926 | AB15: 2.9456116e-05 | AC15: 17554.454 | AD15: -125.69235 | AE15: 0.39362054 | AF15: -0.00041079636 | AG15: 2.306401 | AH15: -0.0037612753 | AI15: 995.1762 | AJ15: 0.039735 | AL15: -0.0073107128 | AM15: 2.552808 | AN15: 1.5829103
A16: 0.014 | B16: =A16/S16*3600*1000 -> 50.814276 | C16: 600 | D16: =E16/(0.02809*3600) -> 0.25671453 | E16: 25.96 | F16: 1.29 | G16: 315 | H16: 295 | I16: =O16*3600/(T16*U16*E16) -> 12.081847 | J16: 307.082 | K16: =H16+I16 -> 307.08185 | L16: 313.23894 | M16: =G16-O16/(R16*A16) -> 313.23894 | N16: =G16-L16 -> 1.7610639 | O16: 103.02218 | P16: =O16/(Abmessung!B$17*Q16) -> 10.773835 | Q16: =((G16-J16)-(L16-H16))/LN((G16-J16)/(L16-H16)) -> 12.368997 | R16: =((AC16 + AD16*G16 +AE16*G16^2 + AF16*G16^3)+(AC16 + AD16*L16 + AE16*L16^2 + AF16*L16^3))/2 -> 4178.569 | S16: =((Y16 + Z16*G16 + AA16*G16^2 + AB16*G16^3)+(Y16 + Z16*L16 + AA16*L16^2 + AB16*L16^3))/2 -> 991.84724 | T16: =((AI16 + AJ16*H16)+(AI16 + AJ16*J16))/2 -> 1007.1381 | U16: =((AG16 + AH16*H16)+(AG16 + AH16*J16))/2 -> 1.1741029 | Y16: -144.24373 | Z16: 10.5287 | AA16: -0.031256926 | AB16: 2.9456116e-05 | AC16: 17554.454 | AD16: -125.69235 | AE16: 0.39362054 | AF16: -0.00041079636 | AG16: 2.306401 | AH16: -0.0037612753 | AI16: 995.1762 | AJ16: 0.039735 | AL16: -0.0073107128 | AM16: 2.552808 | AN16: 1.5829103
A17: 0.02 | B17: =A17/S17*3600*1000 -> 72.599575 | C17: 600 | D17: =E17/(0.02809*3600) -> 0.25671453 | E17: 25.96 | F17: 1.29 | G17: 315 | H17: 295 | I17: =O17*3600/(T17*U17*E17) -> 11.856033 | J17: 306.85645 | K17: =H17+I17 -> 306.85603 | L17: 313.78986 | M17: =G17-O17/(R17*A17) -> 313.78986 | N17: =G17-L17 -> 1.210137 | O17: 101.13272 | P17: =O17/(Abmessung!B$17*Q17) -> 10.273542 | Q17: =((G17-J17)-(L17-H17))/LN((G17-J17)/(L17-H17)) -> 12.733436 | R17: =((AC17 + AD17*G17 +AE17*G17^2 + AF17*G17^3)+(AC17 + AD17*L17 + AE17*L17^2 + AF17*L17^3))/2 -> 4178.5651 | S17: =((Y17 + Z17*G17 + AA17*G17^2 + AB17*G17^3)+(Y17 + Z17*L17 + AA17*L17^2 + AB17*L17^3))/2 -> 991.74134 | T17: =((AI17 + AJ17*H17)+(AI17 + AJ17*J17))/2 -> 1007.1336 | U17: =((AG17 + AH17*H17)+(AG17 + AH17*J17))/2 -> 1.1745271 | Y17: -144.24373 | Z17: 10.5287 | AA17: -0.031256926 | AB17: 2.9456116e-05 | AC17: 17554.454 | AD17: -125.69235 | AE17: 0.39362054 | AF17: -0.00041079636 | AG17: 2.306401 | AH17: -0.0037612753 | AI17: 995.1762 | AJ17: 0.039735 | AL17: -0.0073107128 | AM17: 2.552808 | AN17: 1.5829103
A18: 0.026 | B18: =A18/S18*3600*1000 -> 94.384656 | C18: 600 | D18: =E18/(0.02809*3600) -> 0.25671453 | E18: 25.96 | F18: 1.29 | G18: 315 | H18: 295 | I18: =O18*3600/(T18*U18*E18) -> 11.81377 | J18: 306.81431 | K18: =H18+I18 -> 306.81377 | L18: 314.07238 | M18: =G18-O18/(R18*A18) -> 314.07238 | N18: =G18-L18 -> 0.92761839 | O18: 100.77893 | P18: =O18/(Abmessung!B$17*Q18) -> 10.128453 | Q18: =((G18-J18)-(L18-H18))/LN((G18-J18)/(L18-H18)) -> 12.870658 | R18: =((AC18 + AD18*G18 +AE18*G18^2 + AF18*G18^3)+(AC18 + AD18*L18 + AE18*L18^2 + AF18*L18^3))/2 -> 4178.564 | S18: =((Y18 + Z18*G18 + AA18*G18^2 + AB18*G18^3)+(Y18 + Z18*L18 + AA18*L18^2 + AB18*L18^3))/2 -> 991.68662 | T18: =((AI18 + AJ18*H18)+(AI18 + AJ18*J18))/2 -> 1007.1327 | U18: =((AG18 + AH18*H18)+(AG18 + AH18*J18))/2 -> 1.1746064 | Y18: -144.24373 | Z18: 10.5287 | AA18: -0.031256926 | AB18: 2.9456116e-05 | AC18: 17554.454 | AD18: -125.69235 | AE18: 0.39362054 | AF18: -0.00041079636 | AG18: 2.306401 | AH18: -0.0037612753 | AI18: 995.1762 | AJ18: 0.039735 | AL18: -0.0073107128 | AM18: 2.552808 | AN18: 1.5829103
A19: 0.032 | B19: =A19/S19*3600*1000 -> 116.16964 | C19: 600 | D19: =E19/(0.02809*3600) -> 0.25671453 | E19: 25.96 | F19: 1.29 | G19: 315 | H19: 295 | I19: =O19*3600/(T19*U19*E19) -> 11.85405 | J19: 306.85465 | K19: =H19+I19 -> 306.85405 | L19: 314.24379 | M19: =G19-O19/(R19*A19) -> 314.24379 | N19: =G19-L19 -> 0.75621159 | O19: 101.1161 | P19: =O19/(Abmessung!B$17*Q19) -> 10.132117 | Q19: =((G19-J19)-(L19-H19))/LN((G19-J19)/(L19-H19)) -> 12.909048 | R19: =((AC19 + AD19*G19 +AE19*G19^2 + AF19*G19^3)+(AC19 + AD19*L19 + AE19*L19^2 + AF19*L19^3))/2 -> 4178.5635 | S19: =((Y19 + Z19*G19 + AA19*G19^2 + AB19*G19^3)+(Y19 + Z19*L19 + AA19*L19^2 + AB19*L19^3))/2 -> 991.65328 | T19: =((AI19 + AJ19*H19)+(AI19 + AJ19*J19))/2 -> 1007.1335 | U19: =((AG19 + AH19*H19)+(AG19 + AH19*J19))/2 -> 1.1745305 | Y19: -144.24373 | Z19: 10.5287 | AA19: -0.031256926 | AB19: 2.9456116e-05 | AC19: 17554.454 | AD19: -125.69235 | AE19: 0.39362054 | AF19: -0.00041079636 | AG19: 2.306401 | AH19: -0.0037612753 | AI19: 995.1762 | AJ19: 0.039735 | AL19: -0.0073107128 | AM19: 2.552808 | AN19: 1.5829103
A20: 0.038 | B20: =A20/S20*3600*1000 -> 137.95456 | C20: 600 | D20: =E20/(0.02809*3600) -> 0.25671453 | E20: 25.96 | F20: 1.29 | G20: 315 | H20: 295 | I20: =O20*3600/(T20*U20*E20) -> 11.935838 | J20: 306.93647 | K20: =H20+I20 -> 306.93584 | L20: 314.35888 | M20: =G20-O20/(R20*A20) -> 314.35888 | N20: =G20-L20 -> 0.64112054 | O20: 101.80059 | P20: =O20/(Abmessung!B$17*Q20) -> 10.210088 | Q20: =((G20-J20)-(L20-H20))/LN((G20-J20)/(L20-H20)) -> 12.897184 | R20: =((AC20 + AD20*G20 +AE20*G20^2 + AF20*G20^3)+(AC20 + AD20*L20 + AE20*L20^2 + AF20*L20^3))/2 -> 4178.5633 | S20: =((Y20 + Z20*G20 + AA20*G20^2 + AB20*G20^3)+(Y20 + Z20*L20 + AA20*L20^2 + AB20*L20^3))/2 -> 991.63084 | T20: =((AI20 + AJ20*H20)+(AI20 + AJ20*J20))/2 -> 1007.1352 | U20: =((AG20 + AH20*H20)+(AG20 + AH20*J20))/2 -> 1.1743766 | Y20: -144.24373 | Z20: 10.5287 | AA20: -0.031256926 | AB20: 2.9456116e-05 | AC20: 17554.454 | AD20: -125.69235 | AE20: 0.39362054 | AF20: -0.00041079636 | AG20: 2.306401 | AH20: -0.0037612753 | AI20: 995.1762 | AJ20: 0.039735 | AL20: -0.0073107128 | AM20: 2.552808 | AN20: 1.5829103
A21: 0.044 | B21: =A21/S21*3600*1000 -> 159.73946 | C21: 600 | D21: =E21/(0.02809*3600) -> 0.25671453 | E21: 25.96 | F21: 1.29 | G21: 315 | H21: 295 | I21: =O21*3600/(T21*U21*E21) -> 12.040543 | J21: 307.04118 | K21: =H21+I21 -> 307.04054 | L21: 314.44154 | M21: =G21-O21/(R21*A21) -> 314.44154 | N21: =G21-L21 -> 0.55845968 | O21: 102.6766 | P21: =O21/(Abmessung!B$17*Q21) -> 10.330377 | Q21: =((G21-J21)-(L21-H21))/LN((G21-J21)/(L21-H21)) -> 12.856696 | R21: =((AC21 + AD21*G21 +AE21*G21^2 + AF21*G21^3)+(AC21 + AD21*L21 + AE21*L21^2 + AF21*L21^3))/2 -> 4178.5632 | S21: =((Y21 + Z21*G21 + AA21*G21^2 + AB21*G21^3)+(Y21 + Z21*L21 + AA21*L21^2 + AB21*L21^3))/2 -> 991.61469 | T21: =((AI21 + AJ21*H21)+(AI21 + AJ21*J21))/2 -> 1007.1373 | U21: =((AG21 + AH21*H21)+(AG21 + AH21*J21))/2 -> 1.1741797 | Y21: -144.24373 | Z21: 10.5287 | AA21: -0.031256926 | AB21: 2.9456116e-05 | AC21: 17554.454 | AD21: -125.69235 | AE21: 0.39362054 | AF21: -0.00041079636 | AG21: 2.306401 | AH21: -0.0037612753 | AI21: 995.1762 | AJ21: 0.039735 | AL21: -0.0073107128 | AM21: 2.552808 | AN21: 1.5829103
A22: 0.05 | B22: =A22/S22*3600*1000 -> 181.52435 | C22: 600 | D22: =E22/(0.02809*3600) -> 0.25671453 | E22: 25.96 | F22: 1.29 | G22: 315 | H22: 295 | I22: =O22*3600/(T22*U22*E22) -> 12.158569 | J22: 307.15921 | K22: =H22+I22 -> 307.15857 | L22: 314.50383 | M22: =G22-O22/(R22*A22) -> 314.50383 | N22: =G22-L22 -> 0.49616918 | O22: 103.66371 | P22: =O22/(Abmessung!B$17*Q22) -> 10.476996 | Q22: =((G22-J22)-(L22-H22))/LN((G22-J22)/(L22-H22)) -> 12.798648 | R22: =((AC22 + AD22*G22 +AE22*G22^2 + AF22*G22^3)+(AC22 + AD22*L22 + AE22*L22^2 + AF22*L22^3))/2 -> 4178.5632 | S22: =((Y22 + Z22*G22 + AA22*G22^2 + AB22*G22^3)+(Y22 + Z22*L22 + AA22*L22^2 + AB22*L22^3))/2 -> 991.60251 | T22: =((AI22 + AJ22*H22)+(AI22 + AJ22*J22))/2 -> 1007.1396 | U22: =((AG22 + AH22*H22)+(AG22 + AH22*J22))/2 -> 1.1739577 | Y22: -144.24373 | Z22: 10.5287 | AA22: -0.031256926 | AB22: 2.9456116e-05 | AC22: 17554.454 | AD22: -125.69235 | AE22: 0.39362054 | AF22: -0.00041079636 | AG22: 2.306401 | AH22: -0.0037612753 | AI22: 995.1762 | AJ22: 0.039735 | AL22: -0.0073107128 | AM22: 2.552808 | AN22: 1.5829103
A23: 0.056 | B23: =A23/S23*3600*1000 -> 203.30922 | C23: 600 | D23: =E23/(0.02809*3600) -> 0.25671453 | E23: 25.96 | F23: 1.29 | G23: 315 | H23: 295 | I23: =O23*3600/(T23*U23*E23) -> 12.284717 | J23: 307.28535 | K23: =H23+I23 -> 307.28472 | L23: 314.55248 | M23: =G23-O23/(R23*A23) -> 314.55248 | N23: =G23-L23 -> 0.4475152 | O23: 104.71835 | P23: =O23/(Abmessung!B$17*Q23) -> 10.641401 | Q23: =((G23-J23)-(L23-H23))/LN((G23-J23)/(L23-H23)) -> 12.729111 | R23: =((AC23 + AD23*G23 +AE23*G23^2 + AF23*G23^3)+(AC23 + AD23*L23 + AE23*L23^2 + AF23*L23^3))/2 -> 4178.5632 | S23: =((Y23 + Z23*G23 + AA23*G23^2 + AB23*G23^3)+(Y23 + Z23*L23 + AA23*L23^2 + AB23*L23^3))/2 -> 991.59298 | T23: =((AI23 + AJ23*H23)+(AI23 + AJ23*J23))/2 -> 1007.1421 | U23: =((AG23 + AH23*H23)+(AG23 + AH23*J23))/2 -> 1.1737205 | Y23: -144.24373 | Z23: 10.5287 | AA23: -0.031256926 | AB23: 2.9456116e-05 | AC23: 17554.454 | AD23: -125.69235 | AE23: 0.39362054 | AF23: -0.00041079636 | AG23: 2.306401 | AH23: -0.0037612753 | AI23: 995.1762 | AJ23: 0.039735 | AL23: -0.0073107128 | AM23: 2.552808 | AN23: 1.5829103
A24: 0.062 | B24: =A24/S24*3600*1000 -> 225.09409 | C24: 600 | D24: =E24/(0.02809*3600) -> 0.25671453 | E24: 25.96 | F24: 1.29 | G24: 315 | H24: 295 | I24: =O24*3600/(T24*U24*E24) -> 12.416388 | J24: 307.41701 | K24: =H24+I24 -> 307.41639 | L24: 314.59155 | M24: =G24-O24/(R24*A24) -> 314.59155 | N24: =G24-L24 -> 0.40845456 | O24: 105.8187 | P24: =O24/(Abmessung!B$17*Q24) -> 10.819297 | Q24: =((G24-J24)-(L24-H24))/LN((G24-J24)/(L24-H24)) -> 12.651368 | R24: =((AC24 + AD24*G24 +AE24*G24^2 + AF24*G24^3)+(AC24 + AD24*L24 + AE24*L24^2 + AF24*L24^3))/2 -> 4178.5632 | S24: =((Y24 + Z24*G24 + AA24*G24^2 + AB24*G24^3)+(Y24 + Z24*L24 + AA24*L24^2 + AB24*L24^3))/2 -> 991.58533 | T24: =((AI24 + AJ24*H24)+(AI24 + AJ24*J24))/2 -> 1007.1447 | U24: =((AG24 + AH24*H24)+(AG24 + AH24*J24))/2 -> 1.1734729 | Y24: -144.24373 | Z24: 10.5287 | AA24: -0.031256926 | AB24: 2.9456116e-05 | AC24: 17554.454 | AD24: -125.69235 | AE24: 0.39362054 | AF24: -0.00041079636 | AG24: 2.306401 | AH24: -0.0037612753 | AI24: 995.1762 | AJ24: 0.039735 | AL24: -0.0073107128 | AM24: 2.552808 | AN24: 1.5829103
