Workbook

Sheet Inhalt
A2: Tipps
A4: Die jeweilige Leistung mit dem thermalen Widerstand multipliziert ergibt als Ergebnis die Temperaturdifferenz von Lufteinlass zu Wassereinlass
A6: Die Leistung verhält sich bei erzwungener Konvektion (Lüfter) linear zur Temperaturdifferenz, siehe Grafik, somit können beliebige Leistungswerte multipliziert mit der jeweiligen Temperaturdifferenz extrapoliert werden: dT 10 K zu 20 K = 0,5 * 300 W = 150 W
A9: Inhalt
A11: Abmessungen
A12: Datensatz Lamellenabstand 1 mm FAN Noctua F12
A13: Datensatz Lamellenabstand 1 mm FAN Noctua S12
A14: Datensatz Lamellenabstand 1 mm FAN Noctua F12 in push/pull
A15: Datensatz Lamellenabstand 1,5 mm FAN Noctua F12
A16: Datensatz Lamellenabstand 1,5 mm FAN Noctua S12
A17: Datensatz Lamellenabstand 1,5 mm FAN Noctua F12 in push/pull
A18: Datensatz Lamellenabstand 2 mm FAN Noctua F12
... A53: Thermaler Widerstand, Lamellenabstand 2,5 mm, FAN F12;S12

Sheet Abmessung
A1: Dimension | B1: 240x30 | C1: mm
A2: Nettotiefe | B2: 17.5 | C2: mm
A3: Lamellen typ | B3: 1
A4: Lamellenabstand | B4: 1 | C4: mm | D4: 1.5 | E4: mm | F4: 2 | G4: mm | H4: 2.5 | I4: mm
A5: Periodenanzahl | B5: 210 | D5: 140 | F5: 105 | H5: 84
A6: Lamellenanzahl | B6: 13
A7: Rohranzahl | B7: 12
A8: Rohrabstand | B8: 7.4 | C8: mm
A11: Lamellenoberfläche pro Periode | B11: =95.46*2+41.1+17.4*2 -> 266.82 | C11: mm² | D11: =B11 -> 266.82 | E11: mm² | F11: =B11 -> 266.82 | G11: mm² | H11: =D11 -> 266.82 | I11: mm²
A12: Lamellenoberfläche | B12: =B11*B5 -> 56032.2 | C12: mm² | D12: =D11*D5 -> 37354.8 | E12: mm² | F12: =F11*F5 -> 28016.1 | G12: mm² | H12: =H11*H5 -> 22412.88 | I12: mm²
A13: Rohroberfläche | B13: =(2600*2+369*4)-(211*14) -> 3722 | C13: mm² | D13: =(2600*2+369*4)-(141*14) -> 4702 | E13: mm² | F13: =(2600*2+369*4)-(105*14) -> 5206 | G13: mm² | H13: =(2600*2+369*4)-(84*14) -> 5500 | I13: mm²
A14: Gesamt Lamellenoberfläche | B14: =B12*B6 -> 728418.6 | C14: mm² | D14: =D12*B6 -> 485612.4 | E14: mm² | F14: =F12*B6 -> 364209.3 | G14: mm² | H14: =H12*B6 -> 291367.44 | I14: mm²
A15: Gesamt Rohroberfläche | B15: =B7*B13 -> 44664 | C15: mm² | D15: =B7*D13 -> 56424 | E15: mm² | F15: =B7*F13 -> 62472 | G15: mm² | H15: =B7*H13 -> 66000 | I15: mm²
A17: Gesamt Oberfläche | B17: =(B14+B15)/1000^2 -> 0.7730826 | C17: m² | D17: =(D14+D15)/1000^2 -> 0.5420364 | E17: m² | F17: =(F14+F15)/1000^2 -> 0.4266813 | G17: m² | H17: =(H14+H15)/1000^2 -> 0.35736744 | I17: m²
A18: Rohrinhalt | B18: 0.11 | C18: dm³

Sheet Strömungswiderstand
Q2: DDC-1T+ | S2: D5 | U2: 240x30
O3: L/h | P3: kg/s | Q3: m | R3: Pa | S3: m | T3: Pa | U3: Pa
O4: 0 | P4: =O4/3600000*998.2 -> 0 | Q4: 4.7 | R4: =Q4*998.2*9.807 -> 46009.933 | S4: 3.7 | T4: =S4*998.2*9.807 -> 36220.585 | U4: =5.25097010895138E-13 + 14548.2653846153*P4 + 624282.692307692*P4^2 -> 5.2509701e-13
O5: 1 | P5: =O5/3600000*998.2 -> 0.00027727778 | Q5: 4.6999942 | R5: =Q5*998.2*9.807 -> 46009.876 | S5: 3.6995628 | T5: =S5*998.2*9.807 -> 36216.306 | U5: =5.25097010895138E-13 + 14548.2653846153*P5 + 624282.692307692*P5^2 -> 4.0819074
O6: 2 | P6: =O6/3600000*998.2 -> 0.00055455556 | Q6: 4.6999737 | R6: =Q6*998.2*9.807 -> 46009.675 | S6: 3.6989235 | T6: =S6*998.2*9.807 -> 36210.048 | U6: =5.25097010895138E-13 + 14548.2653846153*P6 + 624282.692307692*P6^2 -> 8.2598082
O7: 3 | P7: =O7/3600000*998.2 -> 0.00083183333 | Q7: 4.699936 | R7: =Q7*998.2*9.807 -> 46009.306 | S7: 3.6981765 | T7: =S7*998.2*9.807 -> 36202.734 | U7: =5.25097010895138E-13 + 14548.2653846153*P7 + 624282.692307692*P7^2 -> 12.533702
O8: 4 | P8: =O8/3600000*998.2 -> 0.0011091111 | Q8: 4.6998798 | R8: =Q8*998.2*9.807 -> 46008.756 | S8: 3.6973495 | T8: =S8*998.2*9.807 -> 36194.638 | U8: =5.25097010895138E-13 + 14548.2653846153*P8 + 624282.692307692*P8^2 -> 16.90359
O9: 5 | P9: =O9/3600000*998.2 -> 0.0013863889 | Q9: 4.6998041 | R9: =Q9*998.2*9.807 -> 46008.015 | S9: 3.6964574 | T9: =S9*998.2*9.807 -> 36185.906 | U9: =5.25097010895138E-13 + 14548.2653846153*P9 + 624282.692307692*P9^2 -> 21.369471
O10: 6 | P10: =O10/3600000*998.2 -> 0.0016636667 | Q10: 4.6997079 | R10: =Q10*998.2*9.807 -> 46007.074 | S10: 3.6955099 | T10: =S10*998.2*9.807 -> 36176.631 | U10: =5.25097010895138E-13 + 14548.2653846153*P10 + 624282.692307692*P10^2 -> 25.931346
O11: 7 | P11: =O11/3600000*998.2 -> 0.0019409444 | Q11: 4.6995906 | R11: =Q11*998.2*9.807 -> 46005.925 | S11: 3.6945137 | T11: =S11*998.2*9.807 -> 36166.878 | U11: =5.25097010895138E-13 + 14548.2653846153*P11 + 624282.692307692*P11^2 -> 30.589213
O12: 8 | P12: =O12/3600000*998.2 -> 0.0022182222 | Q12: 4.6994516 | R12: =Q12*998.2*9.807 -> 46004.564 | S12: 3.6934736 | T12: =S12*998.2*9.807 -> 36156.696 | U12: =5.25097010895138E-13 + 14548.2653846153*P12 + 624282.692307692*P12^2 -> 35.343075
O13: 9 | P13: =O13/3600000*998.2 -> 0.0024955 | Q13: 4.6992902 | R13: =Q13*998.2*9.807 -> 46002.984 | S13: 3.6923938 | T13: =S13*998.2*9.807 -> 36146.125 | U13: =5.25097010895138E-13 + 14548.2653846153*P13 + 624282.692307692*P13^2 -> 40.192929
O14: 10 | P14: =O14/3600000*998.2 -> 0.0027727778 | Q14: 4.699106 | R14: =Q14*998.2*9.807 -> 46001.181 | S14: 3.6912772 | T14: =S14*998.2*9.807 -> 36135.195 | U14: =5.25097010895138E-13 + 14548.2653846153*P14 + 624282.692307692*P14^2 -> 45.138777
O15: 11 | P15: =O15/3600000*998.2 -> 0.0030500556 | Q15: 4.6988985 | R15: =Q15*998.2*9.807 -> 45999.15 | S15: 3.6901266 | T15: =S15*998.2*9.807 -> 36123.931 | U15: =5.25097010895138E-13 + 14548.2653846153*P15 + 624282.692307692*P15^2 -> 50.180619
... O504: 500 | P504: =O504/3600000*998.2 -> 0.13863889 | Q504: 9.9220873e-05 | R504: =Q504*998.2*9.807 -> 0.9713076 | S504: 2.2896844 | T504: =S504*998.2*9.807 -> 22414.516 | U504: =5.25097010895138E-13 + 14548.2653846153*P504 + 624282.692307692*P504^2 -> 14016.132

Sheet Passiv
A3: 94.4 | B3: L/h | G3: V' | H3: 94.4 | I3: L/h
G4: dT | H4: 20 | I4: K
A6: dt [K] | B6: P [W] | G6: vertikal | H6: 36 | I6: W
A7: 0 | B7: =D7*A7/(E7+A7) -> 0 | D7: 323.02572 | E7: 83.779495 | G7: horizontal | H7: 62 | I7: W
A8: 5 | B8: =D8*A8/(E8+A8) -> 18.192586 | D8: 323.02572 | E8: 83.779495
A9: 7.5 | B9: =D9*A9/(E9+A9) -> 26.54148 | D9: 323.02572 | E9: 83.779495
A10: 10 | B10: =D10*A10/(E10+A10) -> 34.44524 | D10: 323.02572 | E10: 83.779495
A11: 12.5 | B11: =D11*A11/(E11+A11) -> 41.938541 | D11: 323.02572 | E11: 83.779495
A12: 15 | B12: =D12*A12/(E12+A12) -> 49.052547 | D12: 323.02572 | E12: 83.779495
A13: 17.5 | B13: =D13*A13/(E13+A13) -> 55.815347 | D13: 323.02572 | E13: 83.779495
A14: 20 | B14: =D14*A14/(E14+A14) -> 62.252321 | D14: 323.02572 | E14: 83.779495
A15: 22.5 | B15: =D15*A15/(E15+A15) -> 68.386463 | D15: 323.02572 | E15: 83.779495
A16: 25 | B16: =D16*A16/(E16+A16) -> 74.238651 | D16: 323.02572 | E16: 83.779495
A17: 27.5 | B17: =D17*A17/(E17+A17) -> 79.82789 | D17: 323.02572 | E17: 83.779495
A18: 30 | B18: =D18*A18/(E18+A18) -> 85.171512 | D18: 323.02572 | E18: 83.779495
A19: 32.5 | B19: =D19*A19/(E19+A19) -> 90.285359 | D19: 323.02572 | E19: 83.779495
... A36: 75 | B36: =D36*A36/(E36+A36) -> 152.58223 | D36: 323.02572 | E36: 83.779495

Sheet Typ1 1 mm Noctua F12
A1: kg/s | B1: L/h | C1: min^-1 | D1: m/s | E1: Gesamt m³/h | F1: dp [Pa] | G1: dp Fluid [Pa] | H1: Tin [K] | I1: TAmbient [K] | J1: dTAmbient | K1: TAmbient2 | L1: TAmbient2 | M1: Tout_avg | N1: Tout_avg | O1: dTFluid [K] | P1: P [W] | Q1: k [W/m²*K] | R1: dTlog | S1: cp [J/kg * K] | T1: ρ [kg/m³] | U1: cp [J/kg * K] | V1: ρ [kg/m³]
A2: 0 | B2: =A2/T2*3600*1000 -> 0 | C2: 0 | D2: 0 | F2: 0 | G2: 0 | H2: 315 | I2: 295 | S2: 4180 | T2: 991.5 | Z2: -144.24373 | AA2: 10.5287 | AB2: -0.031256926 | AC2: 2.9456116e-05 | AD2: 17554.454 | AE2: -125.69235 | AF2: 0.39362054 | AG2: -0.00041079636 | AH2: 2.306401 | AI2: -0.0037612753 | AJ2: 995.1762 | AK2: 0.039735 | AM2: -0.0073107128 | AN2: 2.552808 | AO2: 1.5829103
A3: 0.008 | B3: =A3/T3*3600*1000 -> 29.042372 | C3: 0 | D3: 0 | F3: 0 | G3: 156.34022 | H3: 315 | I3: 295 | K3: 297.20729 | M3: 314.23737 | N3: =H3-P3/(S3*A3) -> 314.23737 | O3: =H3-M3 -> 0.76262638 | P3: ='Typ1 1,5 mm Noctua F12'!Q3*0.693 -> 25.493462 | Q3: =P3/(Abmessung!B$17*R3) -> 1.7819632 | R3: =((H3-K3)-(M3-I3))/LN((H3-K3)/(M3-I3)) -> 18.505644 | S3: =((AD3 + AE3*H3 +AF3*H3^2 + AG3*H3^3)+(AD3 + AE3*M3 + AF3*M3^2 + AG3*M3^3))/2 -> 4178.5635 | T3: =((Z3 + AA3*H3 + AB3*H3^2 + AC3*H3^3)+(Z3 + AA3*M3 + AB3*M3^2 + AC3*M3^3))/2 -> 991.65453 | U3: =((AJ3 + AK3*I3)+(AJ3 + AK3*K3))/2 -> 1006.9419 | V3: =((AH3 + AI3*I3)+(AH3 + AI3*K3))/2 -> 1.1926737 | Z3: -144.24373 | AA3: 10.5287 | AB3: -0.031256926 | AC3: 2.9456116e-05 | AD3: 17554.454 | AE3: -125.69235 | AF3: 0.39362054 | AG3: -0.00041079636 | AH3: 2.306401 | AI3: -0.0037612753 | AJ3: 995.1762 | AK3: 0.039735 | AM3: -0.0073107128 | AN3: 2.552808 | AO3: 1.5829103
A4: 0.014 | B4: =A4/T4*3600*1000 -> 50.826023 | C4: 0 | D4: 0 | F4: 0 | G4: 326.03512 | H4: 315 | I4: 295 | K4: 297.94433 | M4: 314.42457 | N4: =H4-P4/(S4*A4) -> 314.42457 | O4: =H4-M4 -> 0.5754307 | P4: ='Typ1 1,5 mm Noctua F12'!Q4*0.693 -> 33.66263 | Q4: =P4/(Abmessung!B$17*R4) -> 2.3905954 | R4: =((H4-K4)-(M4-I4))/LN((H4-K4)/(M4-I4)) -> 18.21445 | S4: =((AD4 + AE4*H4 +AF4*H4^2 + AG4*H4^3)+(AD4 + AE4*M4 + AF4*M4^2 + AG4*M4^3))/2 -> 4178.5632 | T4: =((Z4 + AA4*H4 + AB4*H4^2 + AC4*H4^3)+(Z4 + AA4*M4 + AB4*M4^2 + AC4*M4^3))/2 -> 991.61801 | U4: =((AJ4 + AK4*I4)+(AJ4 + AK4*K4))/2 -> 1006.9565 | V4: =((AH4 + AI4*I4)+(AH4 + AI4*K4))/2 -> 1.1912876 | Z4: -144.24373 | AA4: 10.5287 | AB4: -0.031256926 | AC4: 2.9456116e-05 | AD4: 17554.454 | AE4: -125.69235 | AF4: 0.39362054 | AG4: -0.00041079636 | AH4: 2.306401 | AI4: -0.0037612753 | AJ4: 995.1762 | AK4: 0.039735 | AM4: -0.0073107128 | AN4: 2.552808 | AO4: 1.5829103
A5: 0.02 | B5: =A5/T5*3600*1000 -> 72.610232 | C5: 0 | D5: 0 | F5: 0 | G5: 540.67838 | H5: 315 | I5: 295 | K5: 298.35294 | M5: 314.53817 | N5: =H5-P5/(S5*A5) -> 314.53817 | O5: =H5-M5 -> 0.46182526 | P5: ='Typ1 1,5 mm Noctua F12'!Q5*0.693 -> 38.59532 | Q5: =P5/(Abmessung!B$17*R5) -> 2.7652476 | R5: =((H5-K5)-(M5-I5))/LN((H5-K5)/(M5-I5)) -> 18.054053 | S5: =((AD5 + AE5*H5 +AF5*H5^2 + AG5*H5^3)+(AD5 + AE5*M5 + AF5*M5^2 + AG5*M5^3))/2 -> 4178.5632 | T5: =((Z5 + AA5*H5 + AB5*H5^2 + AC5*H5^3)+(Z5 + AA5*M5 + AB5*M5^2 + AC5*M5^3))/2 -> 991.59578 | U5: =((AJ5 + AK5*I5)+(AJ5 + AK5*K5))/2 -> 1006.9646 | V5: =((AH5 + AI5*I5)+(AH5 + AI5*K5))/2 -> 1.1905191 | Z5: -144.24373 | AA5: 10.5287 | AB5: -0.031256926 | AC5: 2.9456116e-05 | AD5: 17554.454 | AE5: -125.69235 | AF5: 0.39362054 | AG5: -0.00041079636 | AH5: 2.306401 | AI5: -0.0037612753 | AJ5: 995.1762 | AK5: 0.039735 | AM5: -0.0073107128 | AN5: 2.552808 | AO5: 1.5829103
A6: 0.026 | B6: =A6/T6*3600*1000 -> 94.394719 | C6: 0 | D6: 0 | F6: 0 | G6: 800.27 | H6: 315 | I6: 295 | K6: 298.63722 | M6: 314.61414 | N6: =H6-P6/(S6*A6) -> 314.61414 | O6: =H6-M6 -> 0.38585604 | P6: ='Typ1 1,5 mm Noctua F12'!Q6*0.693 -> 41.92042 | Q6: =P6/(Abmessung!B$17*R6) -> 3.0226805 | R6: =((H6-K6)-(M6-I6))/LN((H6-K6)/(M6-I6)) -> 17.939382 | S6: =((AD6 + AE6*H6 +AF6*H6^2 + AG6*H6^3)+(AD6 + AE6*M6 + AF6*M6^2 + AG6*M6^3))/2 -> 4178.5632 | T6: =((Z6 + AA6*H6 + AB6*H6^2 + AC6*H6^3)+(Z6 + AA6*M6 + AB6*M6^2 + AC6*M6^3))/2 -> 991.5809 | U6: =((AJ6 + AK6*I6)+(AJ6 + AK6*K6))/2 -> 1006.9703 | V6: =((AH6 + AI6*I6)+(AH6 + AI6*K6))/2 -> 1.1899845 | Z6: -144.24373 | AA6: 10.5287 | AB6: -0.031256926 | AC6: 2.9456116e-05 | AD6: 17554.454 | AE6: -125.69235 | AF6: 0.39362054 | AG6: -0.00041079636 | AH6: 2.306401 | AI6: -0.0037612753 | AJ6: 995.1762 | AK6: 0.039735 | AM6: -0.0073107128 | AN6: 2.552808 | AO6: 1.5829103
A7: 0.032 | B7: =A7/T7*3600*1000 -> 116.17937 | C7: 0 | D7: 0 | F7: 0 | G7: 1104.81 | H7: 315 | I7: 295 | K7: 298.85549 | M7: 314.66867 | N7: =H7-P7/(S7*A7) -> 314.66867 | O7: =H7-M7 -> 0.33133293 | P7: ='Typ1 1,5 mm Noctua F12'!Q7*0.693 -> 44.303859 | Q7: =P7/(Abmessung!B$17*R7) -> 3.2107798 | R7: =((H7-K7)-(M7-I7))/LN((H7-K7)/(M7-I7)) -> 17.84864 | S7: =((AD7 + AE7*H7 +AF7*H7^2 + AG7*H7^3)+(AD7 + AE7*M7 + AF7*M7^2 + AG7*M7^3))/2 -> 4178.5632 | T7: =((Z7 + AA7*H7 + AB7*H7^2 + AC7*H7^3)+(Z7 + AA7*M7 + AB7*M7^2 + AC7*M7^3))/2 -> 991.5702 | U7: =((AJ7 + AK7*I7)+(AJ7 + AK7*K7))/2 -> 1006.9746 | V7: =((AH7 + AI7*I7)+(AH7 + AI7*K7))/2 -> 1.189574 | Z7: -144.24373 | AA7: 10.5287 | AB7: -0.031256926 | AC7: 2.9456116e-05 | AD7: 17554.454 | AE7: -125.69235 | AF7: 0.39362054 | AG7: -0.00041079636 | AH7: 2.306401 | AI7: -0.0037612753 | AJ7: 995.1762 | AK7: 0.039735 | AM7: -0.0073107128 | AN7: 2.552808 | AO7: 1.5829103
A8: 0.038 | B8: =A8/T8*3600*1000 -> 137.96412 | C8: 0 | D8: 0 | F8: 0 | G8: 1454.2983 | H8: 315 | I8: 295 | K8: 299.03273 | M8: 314.70978 | N8: =H8-P8/(S8*A8) -> 314.70978 | O8: =H8-M8 -> 0.29021863 | P8: ='Typ1 1,5 mm Noctua F12'!Q8*0.693 -> 46.082482 | Q8: =P8/(Abmessung!B$17*R8) -> 3.3539113 | R8: =((H8-K8)-(M8-I8))/LN((H8-K8)/(M8-I8)) -> 17.772904 | S8: =((AD8 + AE8*H8 +AF8*H8^2 + AG8*H8^3)+(AD8 + AE8*M8 + AF8*M8^2 + AG8*M8^3))/2 -> 4178.5632 | T8: =((Z8 + AA8*H8 + AB8*H8^2 + AC8*H8^3)+(Z8 + AA8*M8 + AB8*M8^2 + AC8*M8^3))/2 -> 991.56213 | U8: =((AJ8 + AK8*I8)+(AJ8 + AK8*K8))/2 -> 1006.9781 | V8: =((AH8 + AI8*I8)+(AH8 + AI8*K8))/2 -> 1.1892407 | Z8: -144.24373 | AA8: 10.5287 | AB8: -0.031256926 | AC8: 2.9456116e-05 | AD8: 17554.454 | AE8: -125.69235 | AF8: 0.39362054 | AG8: -0.00041079636 | AH8: 2.306401 | AI8: -0.0037612753 | AJ8: 995.1762 | AK8: 0.039735 | AM8: -0.0073107128 | AN8: 2.552808 | AO8: 1.5829103
A9: 0.044 | B9: =A9/T9*3600*1000 -> 159.74895 | C9: 0 | D9: 0 | F9: 0 | G9: 1848.735 | H9: 315 | I9: 295 | K9: 299.18196 | M9: 314.74193 | N9: =H9-P9/(S9*A9) -> 314.74193 | O9: =H9-M9 -> 0.25807378 | P9: ='Typ1 1,5 mm Noctua F12'!Q9*0.693 -> 47.448616 | Q9: =P9/(Abmessung!B$17*R9) -> 3.4660777 | R9: =((H9-K9)-(M9-I9))/LN((H9-K9)/(M9-I9)) -> 17.707586 | S9: =((AD9 + AE9*H9 +AF9*H9^2 + AG9*H9^3)+(AD9 + AE9*M9 + AF9*M9^2 + AG9*M9^3))/2 -> 4178.5632 | T9: =((Z9 + AA9*H9 + AB9*H9^2 + AC9*H9^3)+(Z9 + AA9*M9 + AB9*M9^2 + AC9*M9^3))/2 -> 991.55581 | U9: =((AJ9 + AK9*I9)+(AJ9 + AK9*K9))/2 -> 1006.9811 | V9: =((AH9 + AI9*I9)+(AH9 + AI9*K9))/2 -> 1.18896 | Z9: -144.24373 | AA9: 10.5287 | AB9: -0.031256926 | AC9: 2.9456116e-05 | AD9: 17554.454 | AE9: -125.69235 | AF9: 0.39362054 | AG9: -0.00041079636 | AH9: 2.306401 | AI9: -0.0037612753 | AJ9: 995.1762 | AK9: 0.039735 | AM9: -0.0073107128 | AN9: 2.552808 | AO9: 1.5829103
A10: 0.05 | B10: =A10/T10*3600*1000 -> 181.53383 | C10: 0 | D10: 0 | F10: 0 | G10: 2288.12 | H10: 315 | I10: 295 | K10: 299.31084 | M10: 314.76776 | N10: =H10-P10/(S10*A10) -> 314.76776 | O10: =H10-M10 -> 0.23223854 | P10: ='Typ1 1,5 mm Noctua F12'!Q10*0.693 -> 48.521172 | Q10: =P10/(Abmessung!B$17*R10) -> 3.5559937 | R10: =((H10-K10)-(M10-I10))/LN((H10-K10)/(M10-I10)) -> 17.649988 | S10: =((AD10 + AE10*H10 +AF10*H10^2 + AG10*H10^3)+(AD10 + AE10*M10 + AF10*M10^2 + AG10*M10^3))/2 -> 4178.5633 | T10: =((Z10 + AA10*H10 + AB10*H10^2 + AC10*H10^3)+(Z10 + AA10*M10 + AB10*M10^2 + AC10*M10^3))/2 -> 991.55073 | U10: =((AJ10 + AK10*I10)+(AJ10 + AK10*K10))/2 -> 1006.9837 | V10: =((AH10 + AI10*I10)+(AH10 + AI10*K10))/2 -> 1.1887177 | Z10: -144.24373 | AA10: 10.5287 | AB10: -0.031256926 | AC10: 2.9456116e-05 | AD10: 17554.454 | AE10: -125.69235 | AF10: 0.39362054 | AG10: -0.00041079636 | AH10: 2.306401 | AI10: -0.0037612753 | AJ10: 995.1762 | AK10: 0.039735 | AM10: -0.0073107128 | AN10: 2.552808 | AO10: 1.5829103
A11: 0.056 | B11: =A11/T11*3600*1000 -> 203.31874 | C11: 0 | D11: 0 | F11: 0 | G11: 2772.4534 | H11: 315 | I11: 295 | K11: 299.42428 | M11: 314.78898 | N11: =H11-P11/(S11*A11) -> 314.78898 | O11: =H11-M11 -> 0.21101737 | P11: ='Typ1 1,5 mm Noctua F12'!Q11*0.693 -> 49.377969 | Q11: =P11/(Abmessung!B$17*R11) -> 3.6294 | R11: =((H11-K11)-(M11-I11))/LN((H11-K11)/(M11-I11)) -> 17.598372 | S11: =((AD11 + AE11*H11 +AF11*H11^2 + AG11*H11^3)+(AD11 + AE11*M11 + AF11*M11^2 + AG11*M11^3))/2 -> 4178.5633 | T11: =((Z11 + AA11*H11 + AB11*H11^2 + AC11*H11^3)+(Z11 + AA11*M11 + AB11*M11^2 + AC11*M11^3))/2 -> 991.54656 | U11: =((AJ11 + AK11*I11)+(AJ11 + AK11*K11))/2 -> 1006.9859 | V11: =((AH11 + AI11*I11)+(AH11 + AI11*K11))/2 -> 1.1885043 | Z11: -144.24373 | AA11: 10.5287 | AB11: -0.031256926 | AC11: 2.9456116e-05 | AD11: 17554.454 | AE11: -125.69235 | AF11: 0.39362054 | AG11: -0.00041079636 | AH11: 2.306401 | AI11: -0.0037612753 | AJ11: 995.1762 | AK11: 0.039735 | AM11: -0.0073107128 | AN11: 2.552808 | AO11: 1.5829103
A12: 0.062 | B12: =A12/T12*3600*1000 -> 225.10369 | C12: 0 | D12: 0 | F12: 0 | G12: 3301.7351 | H12: 315 | I12: 295 | K12: 299.52558 | M12: 314.80672 | N12: =H12-P12/(S12*A12) -> 314.80672 | O12: =H12-M12 -> 0.19327586 | P12: ='Typ1 1,5 mm Noctua F12'!Q12*0.693 -> 50.072157 | Q12: =P12/(Abmessung!B$17*R12) -> 3.6902432 | R12: =((H12-K12)-(M12-I12))/LN((H12-K12)/(M12-I12)) -> 17.551547 | S12: =((AD12 + AE12*H12 +AF12*H12^2 + AG12*H12^3)+(AD12 + AE12*M12 + AF12*M12^2 + AG12*M12^3))/2 -> 4178.5633 | T12: =((Z12 + AA12*H12 + AB12*H12^2 + AC12*H12^3)+(Z12 + AA12*M12 + AB12*M12^2 + AC12*M12^3))/2 -> 991.54307 | U12: =((AJ12 + AK12*I12)+(AJ12 + AK12*K12))/2 -> 1006.9879 | V12: =((AH12 + AI12*I12)+(AH12 + AI12*K12))/2 -> 1.1883138 | Z12: -144.24373 | AA12: 10.5287 | AB12: -0.031256926 | AC12: 2.9456116e-05 | AD12: 17554.454 | AE12: -125.69235 | AF12: 0.39362054 | AG12: -0.00041079636 | AH12: 2.306401 | AI12: -0.0037612753 | AJ12: 995.1762 | AK12: 0.039735 | AM12: -0.0073107128 | AN12: 2.552808 | AO12: 1.5829103
A13: 0.068 | B13: =A13/T13*3600*1000 -> 246.88865 | C13: 0 | D13: 0 | F13: 0 | G13: 3875.9652 | H13: 315 | I13: 295 | K13: 299.6171 | M13: 314.82177 | N13: =H13-P13/(S13*A13) -> 314.82177 | O13: =H13-M13 -> 0.17822504 | P13: ='Typ1 1,5 mm Noctua F12'!Q13*0.693 -> 50.641275 | Q13: =P13/(Abmessung!B$17*R13) -> 3.7413291 | R13: =((H13-K13)-(M13-I13))/LN((H13-K13)/(M13-I13)) -> 17.508656 | S13: =((AD13 + AE13*H13 +AF13*H13^2 + AG13*H13^3)+(AD13 + AE13*M13 + AF13*M13^2 + AG13*M13^3))/2 -> 4178.5633 | T13: =((Z13 + AA13*H13 + AB13*H13^2 + AC13*H13^3)+(Z13 + AA13*M13 + AB13*M13^2 + AC13*M13^3))/2 -> 991.54011 | U13: =((AJ13 + AK13*I13)+(AJ13 + AK13*K13))/2 -> 1006.9898 | V13: =((AH13 + AI13*I13)+(AH13 + AI13*K13))/2 -> 1.1881417 | Z13: -144.24373 | AA13: 10.5287 | AB13: -0.031256926 | AC13: 2.9456116e-05 | AD13: 17554.454 | AE13: -125.69235 | AF13: 0.39362054 | AG13: -0.00041079636 | AH13: 2.306401 | AI13: -0.0037612753 | AJ13: 995.1762 | AK13: 0.039735 | AM13: -0.0073107128 | AN13: 2.552808 | AO13: 1.5829103
A14: 0.074 | B14: =A14/T14*3600*1000 -> 268.67363 | C14: 0 | D14: 0 | F14: 0 | G14: 4495.1437 | H14: 315 | I14: 295 | K14: 299.70056 | M14: 314.8347 | N14: =H14-P14/(S14*A14) -> 314.8347 | O14: =H14-M14 -> 0.16529852 | P14: ='Typ1 1,5 mm Noctua F12'!Q14*0.693 -> 51.112566 | Q14: =P14/(Abmessung!B$17*R14) -> 3.7847068 | R14: =((H14-K14)-(M14-I14))/LN((H14-K14)/(M14-I14)) -> 17.46906 | S14: =((AD14 + AE14*H14 +AF14*H14^2 + AG14*H14^3)+(AD14 + AE14*M14 + AF14*M14^2 + AG14*M14^3))/2 -> 4178.5634 | T14: =((Z14 + AA14*H14 + AB14*H14^2 + AC14*H14^3)+(Z14 + AA14*M14 + AB14*M14^2 + AC14*M14^3))/2 -> 991.53757 | U14: =((AJ14 + AK14*I14)+(AJ14 + AK14*K14))/2 -> 1006.9914 | V14: =((AH14 + AI14*I14)+(AH14 + AI14*K14))/2 -> 1.1879847 | Z14: -144.24373 | AA14: 10.5287 | AB14: -0.031256926 | AC14: 2.9456116e-05 | AD14: 17554.454 | AE14: -125.69235 | AF14: 0.39362054 | AG14: -0.00041079636 | AH14: 2.306401 | AI14: -0.0037612753 | AJ14: 995.1762 | AK14: 0.039735 | AM14: -0.0073107128 | AN14: 2.552808 | AO14: 1.5829103
A15: 0.008 | B15: =A15/T15*3600*1000 -> 29.020884 | C15: 600 | D15: =E15/(0.02809*3600) -> 0.36588743 | E15: 37 | F15: 1.87 | G15: =G3 -> 156.34022 | H15: 315 | I15: 295 | J15: =P15*3600/(U15*V15*E15) -> 12.872272 | K15: 307.87177 | L15: =I15+J15 -> 307.87227 | M15: 310.32607 | N15: =H15-P15/(S15*A15) -> 310.32607 | O15: =H15-M15 -> 4.6739326 | P15: 156.24518 | Q15: =P15/(Abmessung!B$17*R15) -> 18.872188 | R15: =((H15-K15)-(M15-I15))/LN((H15-K15)/(M15-I15)) -> 10.709236 | S15: =((AD15 + AE15*H15 +AF15*H15^2 + AG15*H15^3)+(AD15 + AE15*M15 + AF15*M15^2 + AG15*M15^3))/2 -> 4178.6326 | T15: =((Z15 + AA15*H15 + AB15*H15^2 + AC15*H15^3)+(Z15 + AA15*M15 + AB15*M15^2 + AC15*M15^3))/2 -> 992.38878 | U15: =((AJ15 + AK15*I15)+(AJ15 + AK15*K15))/2 -> 1007.1538 | V15: =((AH15 + AI15*I15)+(AH15 + AI15*K15))/2 -> 1.1726177 | Z15: -144.24373 | AA15: 10.5287 | AB15: -0.031256926 | AC15: 2.9456116e-05 | AD15: 17554.454 | AE15: -125.69235 | AF15: 0.39362054 | AG15: -0.00041079636 | AH15: 2.306401 | AI15: -0.0037612753 | AJ15: 995.1762 | AK15: 0.039735 | AM15: -0.0073107128 | AN15: 2.552808 | AO15: 1.5829103
A16: 0.014 | B16: =A16/T16*3600*1000 -> 50.804571 | C16: 600 | D16: =E16/(0.02809*3600) -> 0.36588743 | E16: 37 | F16: 1.87 | G16: =G4 -> 326.03512 | H16: 315 | I16: 295 | J16: =P16*3600/(U16*V16*E16) -> 13.317411 | K16: 308.31722 | L16: =I16+J16 -> 308.31741 | M16: 312.23874 | N16: =H16-P16/(S16*A16) -> 312.23874 | O16: =H16-M16 -> 2.7612626 | P16: 161.53427 | Q16: =P16/(Abmessung!B$17*R16) -> 18.757622 | R16: =((H16-K16)-(M16-I16))/LN((H16-K16)/(M16-I16)) -> 11.13938 | S16: =((AD16 + AE16*H16 +AF16*H16^2 + AG16*H16^3)+(AD16 + AE16*M16 + AF16*M16^2 + AG16*M16^3))/2 -> 4178.582 | T16: =((Z16 + AA16*H16 + AB16*H16^2 + AC16*H16^3)+(Z16 + AA16*M16 + AB16*M16^2 + AC16*M16^3))/2 -> 992.03672 | U16: =((AJ16 + AK16*I16)+(AJ16 + AK16*K16))/2 -> 1007.1626 | V16: =((AH16 + AI16*I16)+(AH16 + AI16*K16))/2 -> 1.1717799 | Z16: -144.24373 | AA16: 10.5287 | AB16: -0.031256926 | AC16: 2.9456116e-05 | AD16: 17554.454 | AE16: -125.69235 | AF16: 0.39362054 | AG16: -0.00041079636 | AH16: 2.306401 | AI16: -0.0037612753 | AJ16: 995.1762 | AK16: 0.039735 | AM16: -0.0073107128 | AN16: 2.552808 | AO16: 1.5829103
A17: 0.02 | B17: =A17/T17*3600*1000 -> 72.588921 | C17: 600 | D17: =E17/(0.02809*3600) -> 0.36588743 | E17: 37 | F17: 1.87 | G17: =G5 -> 540.67838 | H17: 315 | I17: 295 | J17: =P17*3600/(U17*V17*E17) -> 13.570325 | K17: 308.57028 | L17: =I17+J17 -> 308.57033 | M17: 313.03119 | N17: =H17-P17/(S17*A17) -> 313.03119 | O17: =H17-M17 -> 1.9688068 | P17: 164.53598 | Q17: =P17/(Abmessung!B$17*R17) -> 18.917031 | R17: =((H17-K17)-(M17-I17))/LN((H17-K17)/(M17-I17)) -> 11.250764 | S17: =((AD17 + AE17*H17 +AF17*H17^2 + AG17*H17^3)+(AD17 + AE17*M17 + AF17*M17^2 + AG17*M17^3))/2 -> 4178.571 | T17: =((Z17 + AA17*H17 + AB17*H17^2 + AC17*H17^3)+(Z17 + AA17*M17 + AB17*M17^2 + AC17*M17^3))/2 -> 991.8869 | U17: =((AJ17 + AK17*I17)+(AJ17 + AK17*K17))/2 -> 1007.1676 | V17: =((AH17 + AI17*I17)+(AH17 + AI17*K17))/2 -> 1.171304 | Z17: -144.24373 | AA17: 10.5287 | AB17: -0.031256926 | AC17: 2.9456116e-05 | AD17: 17554.454 | AE17: -125.69235 | AF17: 0.39362054 | AG17: -0.00041079636 | AH17: 2.306401 | AI17: -0.0037612753 | AJ17: 995.1762 | AK17: 0.039735 | AM17: -0.0073107128 | AN17: 2.552808 | AO17: 1.5829103
A18: 0.026 | B18: =A18/T18*3600*1000 -> 94.373504 | C18: 600 | D18: =E18/(0.02809*3600) -> 0.36588743 | E18: 37 | F18: 1.87 | G18: =G6 -> 800.27 | H18: 315 | I18: 295 | J18: =P18*3600/(U18*V18*E18) -> 13.75282 | K18: 308.75284 | L18: =I18+J18 -> 308.75282 | M18: 313.46561 | N18: =H18-P18/(S18*A18) -> 313.46561 | O18: =H18-M18 -> 1.5343904 | P18: 166.70039 | Q18: =P18/(Abmessung!B$17*R18) -> 19.126565 | R18: =((H18-K18)-(M18-I18))/LN((H18-K18)/(M18-I18)) -> 11.273888 | S18: =((AD18 + AE18*H18 +AF18*H18^2 + AG18*H18^3)+(AD18 + AE18*M18 + AF18*M18^2 + AG18*M18^3))/2 -> 4178.5671 | T18: =((Z18 + AA18*H18 + AB18*H18^2 + AC18*H18^3)+(Z18 + AA18*M18 + AB18*M18^2 + AC18*M18^3))/2 -> 991.8038 | U18: =((AJ18 + AK18*I18)+(AJ18 + AK18*K18))/2 -> 1007.1713 | V18: =((AH18 + AI18*I18)+(AH18 + AI18*K18))/2 -> 1.1709607 | Z18: -144.24373 | AA18: 10.5287 | AB18: -0.031256926 | AC18: 2.9456116e-05 | AD18: 17554.454 | AE18: -125.69235 | AF18: 0.39362054 | AG18: -0.00041079636 | AH18: 2.306401 | AI18: -0.0037612753 | AJ18: 995.1762 | AK18: 0.039735 | AM18: -0.0073107128 | AN18: 2.552808 | AO18: 1.5829103
A19: 0.032 | B19: =A19/T19*3600*1000 -> 116.1582 | C19: 600 | D19: =E19/(0.02809*3600) -> 0.36588743 | E19: 37 | F19: 1.87 | G19: =G7 -> 1104.81 | H19: 315 | I19: 295 | J19: =P19*3600/(U19*V19*E19) -> 13.898825 | K19: 308.89888 | L19: =I19+J19 -> 308.89883 | M19: 313.74036 | N19: =H19-P19/(S19*A19) -> 313.74036 | O19: =H19-M19 -> 1.2596362 | P19: 168.43112 | Q19: =P19/(Abmessung!B$17*R19) -> 19.344095 | R19: =((H19-K19)-(M19-I19))/LN((H19-K19)/(M19-I19)) -> 11.262842 | S19: =((AD19 + AE19*H19 +AF19*H19^2 + AG19*H19^3)+(AD19 + AE19*M19 + AF19*M19^2 + AG19*M19^3))/2 -> 4178.5654 | T19: =((Z19 + AA19*H19 + AB19*H19^2 + AC19*H19^3)+(Z19 + AA19*M19 + AB19*M19^2 + AC19*M19^3))/2 -> 991.7509 | U19: =((AJ19 + AK19*I19)+(AJ19 + AK19*K19))/2 -> 1007.1742 | V19: =((AH19 + AI19*I19)+(AH19 + AI19*K19))/2 -> 1.170686 | Z19: -144.24373 | AA19: 10.5287 | AB19: -0.031256926 | AC19: 2.9456116e-05 | AD19: 17554.454 | AE19: -125.69235 | AF19: 0.39362054 | AG19: -0.00041079636 | AH19: 2.306401 | AI19: -0.0037612753 | AJ19: 995.1762 | AK19: 0.039735 | AM19: -0.0073107128 | AN19: 2.552808 | AO19: 1.5829103
A20: 0.038 | B20: =A20/T20*3600*1000 -> 137.94296 | C20: 600 | D20: =E20/(0.02809*3600) -> 0.36588743 | E20: 37 | F20: 1.87 | G20: =G8 -> 1454.2983 | H20: 315 | I20: 295 | J20: =P20*3600/(U20*V20*E20) -> 14.02237 | K20: 309.02244 | L20: =I20+J20 -> 309.02237 | M20: 313.93003 | N20: =H20-P20/(S20*A20) -> 313.93003 | O20: =H20-M20 -> 1.0699656 | P20: 169.89497 | Q20: =P20/(Abmessung!B$17*R20) -> 19.558349 | R20: =((H20-K20)-(M20-I20))/LN((H20-K20)/(M20-I20)) -> 11.236276 | S20: =((AD20 + AE20*H20 +AF20*H20^2 + AG20*H20^3)+(AD20 + AE20*M20 + AF20*M20^2 + AG20*M20^3))/2 -> 4178.5645 | T20: =((Z20 + AA20*H20 + AB20*H20^2 + AC20*H20^3)+(Z20 + AA20*M20 + AB20*M20^2 + AC20*M20^3))/2 -> 991.71422 | U20: =((AJ20 + AK20*I20)+(AJ20 + AK20*K20))/2 -> 1007.1766 | V20: =((AH20 + AI20*I20)+(AH20 + AI20*K20))/2 -> 1.1704537 | Z20: -144.24373 | AA20: 10.5287 | AB20: -0.031256926 | AC20: 2.9456116e-05 | AD20: 17554.454 | AE20: -125.69235 | AF20: 0.39362054 | AG20: -0.00041079636 | AH20: 2.306401 | AI20: -0.0037612753 | AJ20: 995.1762 | AK20: 0.039735 | AM20: -0.0073107128 | AN20: 2.552808 | AO20: 1.5829103
A21: 0.044 | B21: =A21/T21*3600*1000 -> 159.72777 | C21: 600 | D21: =E21/(0.02809*3600) -> 0.36588743 | E21: 37 | F21: 1.87 | G21: =G9 -> 1848.735 | H21: 315 | I21: 295 | J21: =P21*3600/(U21*V21*E21) -> 14.130878 | K21: 309.13095 | L21: =I21+J21 -> 309.13088 | M21: 314.06895 | N21: =H21-P21/(S21*A21) -> 314.06895 | O21: =H21-M21 -> 0.93105152 | P21: 171.18017 | Q21: =P21/(Abmessung!B$17*R21) -> 19.766878 | R21: =((H21-K21)-(M21-I21))/LN((H21-K21)/(M21-I21)) -> 11.201843 | S21: =((AD21 + AE21*H21 +AF21*H21^2 + AG21*H21^3)+(AD21 + AE21*M21 + AF21*M21^2 + AG21*M21^3))/2 -> 4178.564 | T21: =((Z21 + AA21*H21 + AB21*H21^2 + AC21*H21^3)+(Z21 + AA21*M21 + AB21*M21^2 + AC21*M21^3))/2 -> 991.68728 | U21: =((AJ21 + AK21*I21)+(AJ21 + AK21*K21))/2 -> 1007.1788 | V21: =((AH21 + AI21*I21)+(AH21 + AI21*K21))/2 -> 1.1702496 | Z21: -144.24373 | AA21: 10.5287 | AB21: -0.031256926 | AC21: 2.9456116e-05 | AD21: 17554.454 | AE21: -125.69235 | AF21: 0.39362054 | AG21: -0.00041079636 | AH21: 2.306401 | AI21: -0.0037612753 | AJ21: 995.1762 | AK21: 0.039735 | AM21: -0.0073107128 | AN21: 2.552808 | AO21: 1.5829103
A22: 0.05 | B22: =A22/T22*3600*1000 -> 181.51261 | C22: 600 | D22: =E22/(0.02809*3600) -> 0.36588743 | E22: 37 | F22: 1.87 | G22: =G10 -> 2288.12 | H22: 315 | I22: 295 | J22: =P22*3600/(U22*V22*E22) -> 14.228688 | K22: 309.22875 | L22: =I22+J22 -> 309.22869 | M22: 314.17513 | N22: =H22-P22/(S22*A22) -> 314.17513 | O22: =H22-M22 -> 0.82486842 | P22: 172.33826 | Q22: =P22/(Abmessung!B$17*R22) -> 19.969588 | R22: =((H22-K22)-(M22-I22))/LN((H22-K22)/(M22-I22)) -> 11.163148 | S22: =((AD22 + AE22*H22 +AF22*H22^2 + AG22*H22^3)+(AD22 + AE22*M22 + AF22*M22^2 + AG22*M22^3))/2 -> 4178.5637 | T22: =((Z22 + AA22*H22 + AB22*H22^2 + AC22*H22^3)+(Z22 + AA22*M22 + AB22*M22^2 + AC22*M22^3))/2 -> 991.66664 | U22: =((AJ22 + AK22*I22)+(AJ22 + AK22*K22))/2 -> 1007.1807 | V22: =((AH22 + AI22*I22)+(AH22 + AI22*K22))/2 -> 1.1700657 | Z22: -144.24373 | AA22: 10.5287 | AB22: -0.031256926 | AC22: 2.9456116e-05 | AD22: 17554.454 | AE22: -125.69235 | AF22: 0.39362054 | AG22: -0.00041079636 | AH22: 2.306401 | AI22: -0.0037612753 | AJ22: 995.1762 | AK22: 0.039735 | AM22: -0.0073107128 | AN22: 2.552808 | AO22: 1.5829103
A23: 0.056 | B23: =A23/T23*3600*1000 -> 203.29747 | C23: 600 | D23: =E23/(0.02809*3600) -> 0.36588743 | E23: 37 | F23: 1.87 | G23: =G11 -> 2772.4534 | H23: 315 | I23: 295 | J23: =P23*3600/(U23*V23*E23) -> 14.318558 | K23: 309.31862 | L23: =I23+J23 -> 309.31856 | M23: 314.25896 | N23: =H23-P23/(S23*A23) -> 314.25896 | O23: =H23-M23 -> 0.74103571 | P23: 173.40203 | Q23: =P23/(Abmessung!B$17*R23) -> 20.167121 | R23: =((H23-K23)-(M23-I23))/LN((H23-K23)/(M23-I23)) -> 11.122038 | S23: =((AD23 + AE23*H23 +AF23*H23^2 + AG23*H23^3)+(AD23 + AE23*M23 + AF23*M23^2 + AG23*M23^3))/2 -> 4178.5635 | T23: =((Z23 + AA23*H23 + AB23*H23^2 + AC23*H23^3)+(Z23 + AA23*M23 + AB23*M23^2 + AC23*M23^3))/2 -> 991.65032 | U23: =((AJ23 + AK23*I23)+(AJ23 + AK23*K23))/2 -> 1007.1825 | V23: =((AH23 + AI23*I23)+(AH23 + AI23*K23))/2 -> 1.1698967 | Z23: -144.24373 | AA23: 10.5287 | AB23: -0.031256926 | AC23: 2.9456116e-05 | AD23: 17554.454 | AE23: -125.69235 | AF23: 0.39362054 | AG23: -0.00041079636 | AH23: 2.306401 | AI23: -0.0037612753 | AJ23: 995.1762 | AK23: 0.039735 | AM23: -0.0073107128 | AN23: 2.552808 | AO23: 1.5829103
A24: 0.062 | B24: =A24/T24*3600*1000 -> 225.08234 | C24: 600 | D24: =E24/(0.02809*3600) -> 0.36588743 | E24: 37 | F24: 1.87 | G24: =G12 -> 3301.7351 | H24: 315 | I24: 295 | J24: =P24*3600/(U24*V24*E24) -> 14.402496 | K24: 309.40254 | L24: =I24+J24 -> 309.4025 | M24: 314.32684 | N24: =H24-P24/(S24*A24) -> 314.32684 | O24: =H24-M24 -> 0.67315659 | P24: 174.3953 | Q24: =P24/(Abmessung!B$17*R24) -> 20.360712 | R24: =((H24-K24)-(M24-I24))/LN((H24-K24)/(M24-I24)) -> 11.079392 | S24: =((AD24 + AE24*H24 +AF24*H24^2 + AG24*H24^3)+(AD24 + AE24*M24 + AF24*M24^2 + AG24*M24^3))/2 -> 4178.5634 | T24: =((Z24 + AA24*H24 + AB24*H24^2 + AC24*H24^3)+(Z24 + AA24*M24 + AB24*M24^2 + AC24*M24^3))/2 -> 991.63709 | U24: =((AJ24 + AK24*I24)+(AJ24 + AK24*K24))/2 -> 1007.1842 | V24: =((AH24 + AI24*I24)+(AH24 + AI24*K24))/2 -> 1.1697388 | Z24: -144.24373 | AA24: 10.5287 | AB24: -0.031256926 | AC24: 2.9456116e-05 | AD24: 17554.454 | AE24: -125.69235 | AF24: 0.39362054 | AG24: -0.00041079636 | AH24: 2.306401 | AI24: -0.0037612753 | AJ24: 995.1762 | AK24: 0.039735 | AM24: -0.0073107128 | AN24: 2.552808 | AO24: 1.5829103
A25: 0.068 | B25: =A25/T25*3600*1000 -> 246.86723 | C25: 600 | D25: =E25/(0.02809*3600) -> 0.36588743 | E25: 37 | F25: 1.87 | G25: =G13 -> 3875.9652 | H25: 315 | I25: 295 | J25: =P25*3600/(U25*V25*E25) -> 14.481393 | K25: 309.48142 | L25: =I25+J25 -> 309.48139 | M25: 314.38295 | N25: =H25-P25/(S25*A25) -> 314.38295 | O25: =H25-M25 -> 0.61704531 | P25: 175.32868 | Q25: =P25/(Abmessung!B$17*R25) -> 20.549959 | R25: =((H25-K25)-(M25-I25))/LN((H25-K25)/(M25-I25)) -> 11.036112 | S25: =((AD25 + AE25*H25 +AF25*H25^2 + AG25*H25^3)+(AD25 + AE25*M25 + AF25*M25^2 + AG25*M25^3))/2 -> 4178.5633 | T25: =((Z25 + AA25*H25 + AB25*H25^2 + AC25*H25^3)+(Z25 + AA25*M25 + AB25*M25^2 + AC25*M25^3))/2 -> 991.62614 | U25: =((AJ25 + AK25*I25)+(AJ25 + AK25*K25))/2 -> 1007.1857 | V25: =((AH25 + AI25*I25)+(AH25 + AI25*K25))/2 -> 1.1695905 | Z25: -144.24373 | AA25: 10.5287 | AB25: -0.031256926 | AC25: 2.9456116e-05 | AD25: 17554.454 | AE25: -125.69235 | AF25: 0.39362054 | AG25: -0.00041079636 | AH25: 2.306401 | AI25: -0.0037612753 | AJ25: 995.1762 | AK25: 0.039735 | AM25: -0.0073107128 | AN25: 2.552808 | AO25: 1.5829103
A26: 0.074 | B26: =A26/T26*3600*1000 -> 268.65213 | C26: 600 | D26: =E26/(0.02809*3600) -> 0.36588743 | E26: 37 | F26: 1.87 | G26: =G14 -> 4495.1437 | H26: 315 | I26: 295 | J26: =P26*3600/(U26*V26*E26) -> 14.556487 | K26: 309.5565 | L26: =I26+J26 -> 309.55649 | M26: 314.43011 | N26: =H26-P26/(S26*A26) -> 314.43011 | O26: =H26-M26 -> 0.56988694 | P26: 176.21684 | Q26: =P26/(Abmessung!B$17*R26) -> 20.736388 | R26: =((H26-K26)-(M26-I26))/LN((H26-K26)/(M26-I26)) -> 10.992296 | S26: =((AD26 + AE26*H26 +AF26*H26^2 + AG26*H26^3)+(AD26 + AE26*M26 + AF26*M26^2 + AG26*M26^3))/2 -> 4178.5632 | T26: =((Z26 + AA26*H26 + AB26*H26^2 + AC26*H26^3)+(Z26 + AA26*M26 + AB26*M26^2 + AC26*M26^3))/2 -> 991.61692 | U26: =((AJ26 + AK26*I26)+(AJ26 + AK26*K26))/2 -> 1007.1872 | V26: =((AH26 + AI26*I26)+(AH26 + AI26*K26))/2 -> 1.1694493 | Z26: -144.24373 | AA26: 10.5287 | AB26: -0.031256926 | AC26: 2.9456116e-05 | AD26: 17554.454 | AE26: -125.69235 | AF26: 0.39362054 | AG26: -0.00041079636 | AH26: 2.306401 | AI26: -0.0037612753 | AJ26: 995.1762 | AK26: 0.039735 | AM26: -0.0073107128 | AN26: 2.552808 | AO26: 1.5829103
... A110: 0.074 | B110: =A110/T110*3600*1000 -> 268.45167 | C110: 3000 | D110: =E110/(0.02809*3600) -> 2.9795103 | E110: 301.3 | F110: 27.26 | G110: =G98 -> 4495.1437 | H110: 315 | I110: 295 | J110: =P110*3600/(U110*V110*E110) -> 14.106013 | K110: 309.10547 | L110: =I110+J110 -> 309.10601 | M110: 310.49973 | N110: =H110-P110/(S110*A110) -> 310.49973 | O110: =H110-M110 -> 4.5002669 | P110: 1391.5651 | Q110: =P110/(Abmessung!B$17*R110) -> 181.17855 | R110: =((H110-K110)-(M110-I110))/LN((H110-K110)/(M110-I110)) -> 9.9350687 | S110: =((AD110 + AE110*H110 +AF110*H110^2 + AG110*H110^3)+(AD110 + AE110*M110 + AF110*M110^2 + AG110*M110^3))/2 -> 4178.6265 | T110: =((Z110 + AA110*H110 + AB110*H110^2 + AC110*H110^3)+(Z110 + AA110*M110 + AB110*M110^2 + AC110*M110^3))/2 -> 992.35738 | U110: =((AJ110 + AK110*I110)+(AJ110 + AK110*K110))/2 -> 1007.1783 | V110: =((AH110 + AI110*I110)+(AH110 + AI110*K110))/2 -> 1.1702975 | Z110: -144.24373 | AA110: 10.5287 | AB110: -0.031256926 | AC110: 2.9456116e-05 | AD110: 17554.454 | AE110: -125.69235 | AF110: 0.39362054 | AG110: -0.00041079636 | AH110: 2.306401 | AI110: -0.0037612753 | AJ110: 995.1762 | AK110: 0.039735 | AM110: -0.0073107128 | AN110: 2.552808 | AO110: 1.5829103
A114: 29 | D114: 50.8 | G114: 72.5 | J114: 94.4 | M114: 116.1 | O114: 137.9 | Q114: 159.7 | S114: 181.4
A115: 0.008 | D115: 0.014 | G115: 0.02 | J115: 0.026 | M115: 0.032 | O115: 0.038 | Q115: 0.044 | S115: 0.05
A118: rpm | B118: W | C118: K/W | D118: rpm | E118: W | F118: K/W | G118: rpm | H118: W | I118: K/W | J118: rpm | K118: W | L118: K/W | M118: W | N118: K/W | O118: W | P118: K/W | Q118: W | R118: K/W | S118: W | T118: K/W
A121: 0 | B121: =($Y$195 - $Z$195*EXP(-$AA$195*A121^$AB$195))*1.015 -> 24.456972 | C121: =20/B121 -> 0.81776273
A122: 5 | B122: =($Y$195 - $Z$195*EXP(-$AA$195*A122^$AB$195))*1.015 -> 24.467827 | C122: =20/B122 -> 0.81739992
A123: 10 | B123: =($Y$195 - $Z$195*EXP(-$AA$195*A123^$AB$195))*1.015 -> 24.500731 | C123: =20/B123 -> 0.81630218
A124: 15 | B124: =($Y$195 - $Z$195*EXP(-$AA$195*A124^$AB$195))*1.015 -> 24.555872 | C124: =20/B124 -> 0.81446913
A125: 20 | B125: =($Y$195 - $Z$195*EXP(-$AA$195*A125^$AB$195))*1.015 -> 24.633348 | C125: =20/B125 -> 0.81190749
A126: 25 | B126: =($Y$195 - $Z$195*EXP(-$AA$195*A126^$AB$195))*1.015 -> 24.733221 | C126: =20/B126 -> 0.808629 | D126: 0 | E126: =34.4325235474139+ 0.0156774056387895*D126 + 0.000384613025793122*D126^2 -> 34.432524 | F126: =20/E126 -> 0.58084619
A127: 30 | B127: =($Y$195 - $Z$195*EXP(-$AA$195*A127^$AB$195))*1.015 -> 24.855533 | C127: =20/B127 -> 0.80464982 | D127: 5 | E127: =34.4325235474139+ 0.0156774056387895*D127 + 0.000384613025793122*D127^2 -> 34.520526 | F127: =20/E127 -> 0.57936545
A128: 35 | B128: =($Y$195 - $Z$195*EXP(-$AA$195*A128^$AB$195))*1.015 -> 25.000312 | C128: =20/B128 -> 0.79999001 | D128: 10 | E128: =34.4325235474139+ 0.0156774056387895*D128 + 0.000384613025793122*D128^2 -> 34.627759 | F128: =20/E128 -> 0.57757131 | G128: 0 | H128: =38.5782033850377+ 0.00563581618096245*G128 + 0.000396047832506772*G128^2 -> 38.578203 | I128: =20/H128 -> 0.51842746
A129: 40 | B129: =($Y$195 - $Z$195*EXP(-$AA$195*A129^$AB$195))*1.015 -> 25.167577 | C129: =20/B129 -> 0.79467324 | D129: 15 | E129: =34.4325235474139+ 0.0156774056387895*D129 + 0.000384613025793122*D129^2 -> 34.754223 | F129: =20/E129 -> 0.57546964 | G129: 5 | H129: =38.5782033850377+ 0.00563581618096245*G129 + 0.000396047832506772*G129^2 -> 38.616284 | I129: =20/H129 -> 0.51791623
A130: 45 | B130: =($Y$195 - $Z$195*EXP(-$AA$195*A130^$AB$195))*1.015 -> 25.357338 | C130: =20/B130 -> 0.78872633 | D130: 20 | E130: =34.4325235474139+ 0.0156774056387895*D130 + 0.000384613025793122*D130^2 -> 34.899917 | F130: =20/E130 -> 0.57306727 | G130: 10 | H130: =38.5782033850377+ 0.00563581618096245*G130 + 0.000396047832506772*G130^2 -> 38.674166 | I130: =20/H130 -> 0.51714108
A131: 50 | B131: =($Y$195 - $Z$195*EXP(-$AA$195*A131^$AB$195))*1.015 -> 25.569596 | C131: =20/B131 -> 0.78217895 | D131: 25 | E131: =34.4325235474139+ 0.0156774056387895*D131 + 0.000384613025793122*D131^2 -> 35.064842 | F131: =20/E131 -> 0.57037189 | G131: 15 | H131: =38.5782033850377+ 0.00563581618096245*G131 + 0.000396047832506772*G131^2 -> 38.751851 | I131: =20/H131 -> 0.51610437 | J131: 0 | K131: 43.131207 | L131: =20/K131 -> 0.46370137 | M131: 44 | N131: =20/M131 -> 0.45454545 | O131: 44.861416 | P131: =20/O131 -> 0.4458174 | Q131: 47.77184 | R131: =20/Q131 -> 0.41865668 | S131: 49.728424 | T131: =20/S131 -> 0.40218447
A132: 100 | B132: =($Y$195 - $Z$195*EXP(-$AA$195*A132^$AB$195))*1.015 -> 28.926105 | C132: =20/B132 -> 0.69141698 | D132: 75 | E132: =34.4325235474139+ 0.0156774056387895*D132 + 0.000384613025793122*D132^2 -> 37.771777 | F132: =20/E132 -> 0.52949587 | G132: 65 | H132: =38.5782033850377+ 0.00563581618096245*G132 + 0.000396047832506772*G132^2 -> 40.617834 | I132: =20/H132 -> 0.49239455 | J132: 50 | K132: 43.908685 | L132: =20/K132 -> 0.45549075 | M132: 46 | N132: =20/M132 -> 0.43478261 | O132: 46.77436 | P132: =20/O132 -> 0.42758469 | Q132: 49.938418 | R132: =20/Q132 -> 0.40049326 | S132: 51.691175 | T132: =20/S132 -> 0.38691324
A133: 150 | B133: =($Y$195 - $Z$195*EXP(-$AA$195*A133^$AB$195))*1.015 -> 34.497794 | C133: =20/B133 -> 0.57974722 | D133: 125 | E133: =34.4325235474139+ 0.0156774056387895*D133 + 0.000384613025793122*D133^2 -> 42.401778 | F133: =20/E133 -> 0.47167834 | G133: 115 | H133: =38.5782033850377+ 0.00563581618096245*G133 + 0.000396047832506772*G133^2 -> 44.464055 | I133: =20/H133 -> 0.44980153 | J133: 100 | K133: 46.500828 | L133: =20/K133 -> 0.43009987 | M133: 50.021119 | N133: =20/M133 -> 0.39983112 | O133: 50.579577 | P133: =20/O133 -> 0.39541652 | Q133: 53.95311 | R133: =20/Q133 -> 0.37069226 | S133: 55.521312 | T133: =20/S133 -> 0.36022204
A134: 200 | B134: =($Y$195 - $Z$195*EXP(-$AA$195*A134^$AB$195))*1.015 -> 42.214713 | C134: =20/B134 -> 0.47376847 | D134: 175 | E134: =34.4325235474139+ 0.0156774056387895*D134 + 0.000384613025793122*D134^2 -> 48.954843 | F134: =20/E134 -> 0.40853976 | G134: 165 | H134: =38.5782033850377+ 0.00563581618096245*G134 + 0.000396047832506772*G134^2 -> 50.290515 | I134: =20/H134 -> 0.3976893 | J134: 150 | K134: 51.072948 | L134: =20/K134 -> 0.39159674 | M134: 55.406546 | N134: =20/M134 -> 0.36096818 | O134: 56.277066 | P134: =20/O134 -> 0.35538455 | Q134: 59.815915 | R134: =20/Q134 -> 0.33435917 | S134: 61.218834 | T134: =20/S134 -> 0.32669685
A135: 250 | B135: =($Y$195 - $Z$195*EXP(-$AA$195*A135^$AB$195))*1.015 -> 51.973335 | C135: =20/B135 -> 0.38481271 | D135: 225 | E135: =34.4325235474139+ 0.0156774056387895*D135 + 0.000384613025793122*D135^2 -> 57.430974 | F135: =20/E135 -> 0.34824414 | G135: 215 | H135: =38.5782033850377+ 0.00563581618096245*G135 + 0.000396047832506772*G135^2 -> 58.097215 | I135: =20/H135 -> 0.34425058 | J135: 200 | K135: 57.714048 | L135: =20/K135 -> 0.34653608 | M135: 62.802879 | N135: =20/M135 -> 0.31845674 | O135: 63.866828 | P135: =20/O135 -> 0.31315161 | Q135: 67.526834 | R135: =20/Q135 -> 0.29617855 | S135: 68.783741 | T135: =20/S135 -> 0.29076639
A136: 300 | B136: =($Y$195 - $Z$195*EXP(-$AA$195*A136^$AB$195))*1.015 -> 63.640498 | C136: =20/B136 -> 0.3142653 | D136: 275 | E136: =34.4325235474139+ 0.0156774056387895*D136 + 0.000384613025793122*D136^2 -> 67.83017 | F136: =20/E136 -> 0.29485404 | G136: 265 | H136: =38.5782033850377+ 0.00563581618096245*G136 + 0.000396047832506772*G136^2 -> 67.884154 | I136: =20/H136 -> 0.29461957 | J136: 250 | K136: 66.481537 | L136: =20/K136 -> 0.3008354 | M136: 72.170982 | N136: =20/M136 -> 0.27711969 | O136: 73.348862 | P136: =20/O136 -> 0.27266953 | Q136: 77.085866 | R136: =20/Q136 -> 0.25945093 | S136: 78.216034 | T136: =20/S136 -> 0.25570205
A137: 350 | B137: =($Y$195 - $Z$195*EXP(-$AA$195*A137^$AB$195))*1.015 -> 77.057187 | C137: =20/B137 -> 0.2595475 | D137: 325 | E137: =34.4325235474139+ 0.0156774056387895*D137 + 0.000384613025793122*D137^2 -> 80.152431 | F137: =20/E137 -> 0.24952456 | G137: 315 | H137: =38.5782033850377+ 0.00563581618096245*G137 + 0.000396047832506772*G137^2 -> 79.651332 | I137: =20/H137 -> 0.25109436 | J137: 300 | K137: 77.412934 | L137: =20/K137 -> 0.25835476 | M137: 83.477546 | N137: =20/M137 -> 0.23958539 | O137: 84.723169 | P137: =20/O137 -> 0.23606293 | Q137: 88.493012 | R137: =20/Q137 -> 0.22600655 | S137: 89.515712 | T137: =20/S137 -> 0.22342446
A138: 400 | B138: =($Y$195 - $Z$195*EXP(-$AA$195*A138^$AB$195))*1.015 -> 92.042564 | C138: =20/B138 -> 0.21729077 | D138: 375 | E138: =34.4325235474139+ 0.0156774056387895*D138 + 0.000384613025793122*D138^2 -> 94.397757 | F138: =20/E138 -> 0.21186944 | G138: 365 | H138: =38.5782033850377+ 0.00563581618096245*G138 + 0.000396047832506772*G138^2 -> 93.398749 | I138: =20/H138 -> 0.21413563 | J138: 350 | K138: 90.530927 | L138: =20/K138 -> 0.22091898 | M138: 96.692211 | N138: =20/M138 -> 0.20684189 | O138: 97.989749 | P138: =20/O138 -> 0.20410298 | Q138: 101.74827 | R138: =20/Q138 -> 0.19656354 | S138: 102.68278 | T138: =20/S138 -> 0.19477463
A139: 450 | B139: =($Y$195 - $Z$195*EXP(-$AA$195*A139^$AB$195))*1.015 -> 108.39831 | C139: =20/B139 -> 0.18450472 | D139: 425 | E139: =($AC$195 - $AD$195*EXP(-$AE$195*D139^$AF$195))*1.022 -> 110.34973 | F139: =20/E139 -> 0.18124195 | G139: 415 | H139: =38.5782033850377+ 0.00563581618096245*G139 + 0.000396047832506772*G139^2 -> 109.12641 | I139: =20/H139 -> 0.1832737 | J139: 400 | K139: =($AK$195 - $AL$195*EXP(-$AM$195*J139^$AN$195))*1.02 -> 105.90639 | L139: =20/K139 -> 0.18884601 | M139: 111.78611 | N139: =20/M139 -> 0.17891311 | O139: 113.1486 | P139: =20/O139 -> 0.1767587 | Q139: 116.85164 | R139: =20/Q139 -> 0.1711572 | S139: 117.71722 | T139: =20/S139 -> 0.16989867
A140: 500 | B140: =($Y$195 - $Z$195*EXP(-$AA$195*A140^$AB$195))*1.015 -> 125.91318 | C140: =20/B140 -> 0.15883961 | D140: 475 | E140: =($AC$195 - $AD$195*EXP(-$AE$195*D140^$AF$195))*1.022 -> 128.58534 | F140: =20/E140 -> 0.15553873 | G140: 465 | H140: =($AG$195 - $AH$195*EXP(-$AI$195*G140^$AJ$195))*1.02 -> 127.19544 | I140: =20/H140 -> 0.15723835 | J140: 450 | K140: =($AK$195 - $AL$195*EXP(-$AM$195*J140^$AN$195))*1.02 -> 124.09908 | L140: =20/K140 -> 0.16116155 | M140: 128.73102 | N140: =20/M140 -> 0.1553627 | O140: 130.19973 | P140: =20/O140 -> 0.15361015 | Q140: 133.80313 | R140: =20/Q140 -> 0.14947333 | S140: 134.61906 | T140: =20/S140 -> 0.14856737
A141: 550 | B141: =($Y$195 - $Z$195*EXP(-$AA$195*A141^$AB$195))*1.015 -> 144.36767 | C141: =20/B141 -> 0.13853517 | D141: 525 | E141: =($AC$195 - $AD$195*EXP(-$AE$195*D141^$AF$195))*1.022 -> 148.11156 | F141: =20/E141 -> 0.13503335 | G141: 515 | H141: =($AG$195 - $AH$195*EXP(-$AI$195*G141^$AJ$195))*1.02 -> 147.18679 | I141: =20/H141 -> 0.13588176 | J141: 500 | K141: =($AK$195 - $AL$195*EXP(-$AM$195*J141^$AN$195))*1.02 -> 144.00531 | L141: =20/K141 -> 0.13888376 | M141: =($AO$195 - $AP$195*EXP(-$AQ$195*J141^$AR$195))*1.02 -> 146.7663 | N141: =20/M141 -> 0.13627107 | O141: 149.20302 | P141: =20/O141 -> 0.13404554 | Q141: 152.60273 | R141: =20/Q141 -> 0.13105925 | S141: 153.38828 | T141: =20/S141 -> 0.13038806
A142: 600 | B142: =($Y$195 - $Z$195*EXP(-$AA$195*A142^$AB$195))*1.015 -> 163.53869 | C142: =20/B142 -> 0.12229522 | D142: 575 | E142: =($AC$195 - $AD$195*EXP(-$AE$195*D142^$AF$195))*1.022 -> 168.74933 | F142: =20/E142 -> 0.11851899 | G142: 565 | H142: =($AG$195 - $AH$195*EXP(-$AI$195*G142^$AJ$195))*1.02 -> 168.58777 | I142: =20/H142 -> 0.11863257 | J142: 550 | K142: =($AK$195 - $AL$195*EXP(-$AM$195*J142^$AN$195))*1.02 -> 165.47869 | L142: =20/K142 -> 0.12086148 | M142: =($AO$195 - $AP$195*EXP(-$AQ$195*J142^$AR$195))*1.02 -> 168.52155 | N142: =20/M142 -> 0.11867919 | O142: 171.13627 | P142: =20/O142 -> 0.11686593 | Q142: 173.34526 | R142: =20/Q142 -> 0.11537668 | S142: 174.34104 | T142: =20/S142 -> 0.11471768
A143: 650 | B143: =($Y$195 - $Z$195*EXP(-$AA$195*A143^$AB$195))*1.015 -> 183.20407 | C143: =20/B143 -> 0.10916788 | D143: 625 | E143: =($AC$195 - $AD$195*EXP(-$AE$195*D143^$AF$195))*1.022 -> 190.31643 | F143: =20/E143 -> 0.10508814 | G143: 615 | H143: =($AG$195 - $AH$195*EXP(-$AI$195*G143^$AJ$195))*1.02 -> 191.22764 | I143: =20/H143 -> 0.10458739 | J143: 600 | K143: =($AK$195 - $AL$195*EXP(-$AM$195*J143^$AN$195))*1.02 -> 188.36278 | L143: =20/K143 -> 0.10617809 | M143: =($AO$195 - $AP$195*EXP(-$AQ$195*J143^$AR$195))*1.02 -> 191.73373 | N143: =20/M143 -> 0.10431133 | O143: 194.53936 | P143: =20/O143 -> 0.10280696 | Q143: 196.86019 | R143: =20/Q143 -> 0.10159494 | S143: 197.80238 | T143: =20/S143 -> 0.10111102
A144: 700 | B144: =($Y$195 - $Z$195*EXP(-$AA$195*A144^$AB$195))*1.015 -> 203.14682 | C144: =20/B144 -> 0.098450965 | D144: 675 | E144: =($AC$195 - $AD$195*EXP(-$AE$195*D144^$AF$195))*1.022 -> 212.62983 | F144: =20/E144 -> 0.094060178 | G144: 665 | H144: =($AG$195 - $AH$195*EXP(-$AI$195*G144^$AJ$195))*1.02 -> 214.92946 | I144: =20/H144 -> 0.093053787 | J144: 650 | K144: =($AK$195 - $AL$195*EXP(-$AM$195*J144^$AN$195))*1.02 -> 212.4932 | L144: =20/K144 -> 0.09412066 | M144: =($AO$195 - $AP$195*EXP(-$AQ$195*J144^$AR$195))*1.02 -> 216.24896 | N144: =20/M144 -> 0.092485994 | O144: 219.26774 | P144: =20/O144 -> 0.091212689 | Q144: 221.707 | R144: =20/Q144 -> 0.090209148 | S144: 222.58882 | T144: =20/S144 -> 0.089851772
A145: 750 | B145: =($Y$195 - $Z$195*EXP(-$AA$195*A145^$AB$195))*1.015 -> 223.159 | C145: =20/B145 -> 0.089622197 | D145: 725 | E145: =($AC$195 - $AD$195*EXP(-$AE$195*D145^$AF$195))*1.022 -> 235.50803 | F145: =20/E145 -> 0.084922796 | G145: 715 | H145: =($AG$195 - $AH$195*EXP(-$AI$195*G145^$AJ$195))*1.02 -> 239.51251 | I145: =20/H145 -> 0.083502944 | J145: 700 | K145: =($AK$195 - $AL$195*EXP(-$AM$195*J145^$AN$195))*1.02 -> 237.69975 | L145: =20/K145 -> 0.084139761 | M145: =($AO$195 - $AP$195*EXP(-$AQ$195*J145^$AR$195))*1.02 -> 241.90784 | N145: =20/M145 -> 0.082676112 | O145: 245.17214 | P145: =20/O145 -> 0.081575337 | Q145: 247.7456 | R145: =20/Q145 -> 0.080727974 | S145: 248.56909 | T145: =20/S145 -> 0.080460527
A146: 800 | B146: =($Y$195 - $Z$195*EXP(-$AA$195*A146^$AB$195))*1.015 -> 243.04521 | C146: =20/B146 -> 0.082289219 | D146: 775 | E146: =($AC$195 - $AD$195*EXP(-$AE$195*D146^$AF$195))*1.022 -> 258.77319 | F146: =20/E146 -> 0.07728776 | G146: 765 | H146: =($AG$195 - $AH$195*EXP(-$AI$195*G146^$AJ$195))*1.02 -> 264.79469 | I146: =20/H146 -> 0.075530216 | J146: 750 | K146: =($AK$195 - $AL$195*EXP(-$AM$195*J146^$AN$195))*1.02 -> 263.80853 | L146: =20/K146 -> 0.07581256 | M146: =($AO$195 - $AP$195*EXP(-$AQ$195*J146^$AR$195))*1.02 -> 268.54721 | N146: =20/M146 -> 0.0744748 | O146: 272.10008 | P146: =20/O146 -> 0.073502368 | Q146: 274.83328 | R146: =20/Q146 -> 0.07277139 | S146: 275.60998 | T146: =20/S146 -> 0.072566312
A147: 850 | B147: =($Y$195 - $Z$195*EXP(-$AA$195*A147^$AB$195))*1.015 -> 262.62542 | C147: =20/B147 -> 0.07615409 | D147: 825 | E147: =($AC$195 - $AD$195*EXP(-$AE$195*D147^$AF$195))*1.022 -> 282.25322 | F147: =20/E147 -> 0.070858358 | G147: 815 | H147: =($AG$195 - $AH$195*EXP(-$AI$195*G147^$AJ$195))*1.02 -> 290.59475 | I147: =20/H147 -> 0.068824367 | J147: 800 | K147: =($AK$195 - $AL$195*EXP(-$AM$195*J147^$AN$195))*1.02 -> 290.64404 | L147: =20/K147 -> 0.068812697 | M147: =($AO$195 - $AP$195*EXP(-$AQ$195*J147^$AR$195))*1.02 -> 296.00191 | N147: =20/M147 -> 0.067567131 | O147: 299.89724 | P147: =20/O147 -> 0.06668951 | Q147: 302.82594 | R147: =20/Q147 -> 0.06604454 | S147: 303.57725 | T147: =20/S147 -> 0.065881089
A148: 900 | B148: =($Y$195 - $Z$195*EXP(-$AA$195*A148^$AB$195))*1.015 -> 281.73739 | C148: =20/B148 -> 0.070988093 | D148: 875 | E148: =($AC$195 - $AD$195*EXP(-$AE$195*D148^$AF$195))*1.022 -> 305.78362 | F148: =20/E148 -> 0.065405727 | G148: 865 | H148: =($AG$195 - $AH$195*EXP(-$AI$195*G148^$AJ$195))*1.02 -> 316.73455 | I148: =20/H148 -> 0.063144359 | J148: 850 | K148: =($AK$195 - $AL$195*EXP(-$AM$195*J148^$AN$195))*1.02 -> 318.0312 | L148: =20/K148 -> 0.062886911 | M148: =($AO$195 - $AP$195*EXP(-$AQ$195*J148^$AR$195))*1.02 -> 324.10651 | N148: =20/M148 -> 0.061708109 | O148: =($AS$195 - $AT$195*EXP(-$AU$195*J148^$AV$195))*1.02 -> 328.40893 | P148: =20/O148 -> 0.060899683 | Q148: =($AW$195 - $AX$195*EXP(-$AY$195*J148^$AZ$195))*1.02 -> 331.57915 | R148: =20/Q148 -> 0.060317423 | S148: =($BA$195 - $BB$195*EXP(-$BC$195*J148^$BD$195))*1.015 -> 332.33654 | T148: =20/S148 -> 0.060179961
A149: 950 | B149: =($Y$195 - $Z$195*EXP(-$AA$195*A149^$AB$195))*1.015 -> 300.23834 | C149: =20/B149 -> 0.066613744 | D149: 925 | E149: =($AC$195 - $AD$195*EXP(-$AE$195*D149^$AF$195))*1.022 -> 329.20908 | F149: =20/E149 -> 0.060751667 | G149: 915 | H149: =($AG$195 - $AH$195*EXP(-$AI$195*G149^$AJ$195))*1.02 -> 343.04102 | I149: =20/H149 -> 0.058302065 | J149: 900 | K149: =($AK$195 - $AL$195*EXP(-$AM$195*J149^$AN$195))*1.02 -> 345.79734 | L149: =20/K149 -> 0.057837345 | M149: =($AO$195 - $AP$195*EXP(-$AQ$195*J149^$AR$195))*1.02 -> 352.69698 | N149: =20/M149 -> 0.0567059 | O149: =($AS$195 - $AT$195*EXP(-$AU$195*J149^$AV$195))*1.02 -> 357.48144 | P149: =20/O149 -> 0.055946961 | Q149: =($AW$195 - $AX$195*EXP(-$AY$195*J149^$AZ$195))*1.02 -> 360.94932 | R149: =20/Q149 -> 0.055409441 | S149: =($BA$195 - $BB$195*EXP(-$BC$195*J149^$BD$195))*1.015 -> 361.75425 | T149: =20/S149 -> 0.05528615
A150: 1000 | B150: =($Y$195 - $Z$195*EXP(-$AA$195*A150^$AB$195))*1.015 -> 318.00612 | C150: =20/B150 -> 0.062891871 | D150: 975 | E150: =($AC$195 - $AD$195*EXP(-$AE$195*D150^$AF$195))*1.022 -> 352.38488 | F150: =20/E150 -> 0.056756125 | G150: 965 | H150: =($AG$195 - $AH$195*EXP(-$AI$195*G150^$AJ$195))*1.02 -> 369.34811 | I150: =20/H150 -> 0.054149458 | J150: 950 | K150: =($AK$195 - $AL$195*EXP(-$AM$195*J150^$AN$195))*1.02 -> 373.77399 | L150: =20/K150 -> 0.053508272 | M150: =($AO$195 - $AP$195*EXP(-$AQ$195*J150^$AR$195))*1.02 -> 381.61228 | N150: =20/M150 -> 0.052409216 | O150: =($AS$195 - $AT$195*EXP(-$AU$195*J150^$AV$195))*1.02 -> 386.96332 | P150: =20/O150 -> 0.051684485 | Q150: =($AW$195 - $AX$195*EXP(-$AY$195*J150^$AZ$195))*1.02 -> 390.79475 | R150: =20/Q150 -> 0.051177761 | S150: =($BA$195 - $BB$195*EXP(-$BC$195*J150^$BD$195))*1.015 -> 391.69846 | T150: =20/S150 -> 0.051059685
A151: 1050 | B151: =($Y$195 - $Z$195*EXP(-$AA$195*A151^$AB$195))*1.015 -> 334.93976 | C151: =20/B151 -> 0.059712229 | D151: 1025 | E151: =($AC$195 - $AD$195*EXP(-$AE$195*D151^$AF$195))*1.022 -> 375.17806 | F151: =20/E151 -> 0.053308021 | G151: 1015 | H151: =($AG$195 - $AH$195*EXP(-$AI$195*G151^$AJ$195))*1.02 -> 395.49838 | I151: =20/H151 -> 0.050569107 | J151: 1000 | K151: =($AK$195 - $AL$195*EXP(-$AM$195*J151^$AN$195))*1.02 -> 401.7986 | L151: =20/K151 -> 0.049776182 | M151: =($AO$195 - $AP$195*EXP(-$AQ$195*J151^$AR$195))*1.02 -> 410.69579 | N151: =20/M151 -> 0.048697845 | O151: =($AS$195 - $AT$195*EXP(-$AU$195*J151^$AV$195))*1.02 -> 416.70669 | P151: =20/O151 -> 0.04799539 | Q151: =($AW$195 - $AX$195*EXP(-$AY$195*J151^$AZ$195))*1.02 -> 420.97665 | R151: =20/Q151 -> 0.047508573 | S151: =($BA$195 - $BB$195*EXP(-$BC$195*J151^$BD$195))*1.015 -> 422.03969 | T151: =20/S151 -> 0.047388908
A152: 1100 | B152: =($Y$195 - $Z$195*EXP(-$AA$195*A152^$AB$195))*1.015 -> 350.95946 | C152: =20/B152 -> 0.056986638 | D152: 1075 | E152: =($AC$195 - $AD$195*EXP(-$AE$195*D152^$AF$195))*1.022 -> 397.4683 | F152: =20/E152 -> 0.050318479 | G152: 1065 | H152: =($AG$195 - $AH$195*EXP(-$AI$195*G152^$AJ$195))*1.02 -> 421.34451 | I152: =20/H152 -> 0.047467095 | J152: 1050 | K152: =($AK$195 - $AL$195*EXP(-$AM$195*J152^$AN$195))*1.02 -> 429.71607 | L152: =20/K152 -> 0.04654236 | M152: =($AO$195 - $AP$195*EXP(-$AQ$195*J152^$AR$195))*1.02 -> 439.79676 | N152: =20/M152 -> 0.045475551 | O152: =($AS$195 - $AT$195*EXP(-$AU$195*J152^$AV$195))*1.02 -> 446.56832 | P152: =20/O152 -> 0.04478598 | Q152: =($AW$195 - $AX$195*EXP(-$AY$195*J152^$AZ$195))*1.02 -> 451.36011 | R152: =20/Q152 -> 0.044310517 | S152: =($BA$195 - $BB$195*EXP(-$BC$195*J152^$BD$195))*1.015 -> 452.65174 | T152: =20/S152 -> 0.044184079
A153: 1150 | B153: =($Y$195 - $Z$195*EXP(-$AA$195*A153^$AB$195))*1.015 -> 366.00609 | C153: =20/B153 -> 0.054643899 | D153: 1125 | E153: =($AC$195 - $AD$195*EXP(-$AE$195*D153^$AF$195))*1.022 -> 419.14853 | F153: =20/E153 -> 0.047715782 | G153: 1115 | H153: =($AG$195 - $AH$195*EXP(-$AI$195*G153^$AJ$195))*1.02 -> 446.75046 | I153: =20/H153 -> 0.044767721 | J153: 1100 | K153: =($AK$195 - $AL$195*EXP(-$AM$195*J153^$AN$195))*1.02 -> 457.38009 | L153: =20/K153 -> 0.043727307 | M153: =($AO$195 - $AP$195*EXP(-$AQ$195*J153^$AR$195))*1.02 -> 468.77146 | N153: =20/M153 -> 0.042664714 | O153: =($AS$195 - $AT$195*EXP(-$AU$195*J153^$AV$195))*1.02 -> 476.41073 | P153: =20/O153 -> 0.041980583 | Q153: =($AW$195 - $AX$195*EXP(-$AY$195*J153^$AZ$195))*1.02 -> 481.81496 | R153: =20/Q153 -> 0.041509711 | S153: =($BA$195 - $BB$195*EXP(-$BC$195*J153^$BD$195))*1.015 -> 483.41236 | T153: =20/S153 -> 0.041372546
A154: 1200 | B154: =($Y$195 - $Z$195*EXP(-$AA$195*A154^$AB$195))*1.015 -> 380.04026 | C154: =20/B154 -> 0.052626003 | D154: 1175 | E154: =($AC$195 - $AD$195*EXP(-$AE$195*D154^$AF$195))*1.022 -> 440.12533 | F154: =20/E154 -> 0.045441601 | G154: 1165 | H154: =($AG$195 - $AH$195*EXP(-$AI$195*G154^$AJ$195))*1.02 -> 471.59247 | I154: =20/H154 -> 0.042409498 | J154: 1150 | K154: =($AK$195 - $AL$195*EXP(-$AM$195*J154^$AN$195))*1.02 -> 484.65434 | L154: =20/K154 -> 0.041266524 | M154: =($AO$195 - $AP$195*EXP(-$AQ$195*J154^$AR$195))*1.02 -> 497.48426 | N154: =20/M154 -> 0.040202277 | O154: =($AS$195 - $AT$195*EXP(-$AU$195*J154^$AV$195))*1.02 -> 506.10309 | P154: =20/O154 -> 0.039517641 | Q154: =($AW$195 - $AX$195*EXP(-$AY$195*J154^$AZ$195))*1.02 -> 512.21657 | R154: =20/Q154 -> 0.039045984 | S154: =($BA$195 - $BB$195*EXP(-$BC$195*J154^$BD$195))*1.015 -> 514.20398 | T154: =20/S154 -> 0.03889507
A155: 1250 | B155: =($Y$195 - $Z$195*EXP(-$AA$195*A155^$AB$195))*1.015 -> 393.041 | C155: =20/B155 -> 0.050885277 | D155: 1225 | E155: =($AC$195 - $AD$195*EXP(-$AE$195*D155^$AF$195))*1.022 -> 460.31909 | F155: =20/E155 -> 0.043448122 | G155: 1215 | H155: =($AG$195 - $AH$195*EXP(-$AI$195*G155^$AJ$195))*1.02 -> 495.75979 | I155: =20/H155 -> 0.040342118 | J155: 1200 | K155: =($AK$195 - $AL$195*EXP(-$AM$195*J155^$AN$195))*1.02 -> 511.41338 | L155: =20/K155 -> 0.039107307 | M155: =($AO$195 - $AP$195*EXP(-$AQ$195*J155^$AR$195))*1.02 -> 525.80863 | N155: =20/M155 -> 0.038036652 | O155: =($AS$195 - $AT$195*EXP(-$AU$195*J155^$AV$195))*1.02 -> 535.52206 | P155: =20/O155 -> 0.037346734 | Q155: =($AW$195 - $AX$195*EXP(-$AY$195*J155^$AZ$195))*1.02 -> 542.44656 | R155: =20/Q155 -> 0.036869991 | S155: =($BA$195 - $BB$195*EXP(-$BC$195*J155^$BD$195))*1.015 -> 544.91425 | T155: =20/S155 -> 0.036703022
A156: 1300 | B156: =($Y$195 - $Z$195*EXP(-$AA$195*A156^$AB$195))*1.015 -> 405.00415 | C156: =20/B156 -> 0.049382209 | D156: 1275 | E156: =($AC$195 - $AD$195*EXP(-$AE$195*D156^$AF$195))*1.022 -> 479.66388 | F156: =20/E156 -> 0.041695864 | G156: 1265 | H156: =($AG$195 - $AH$195*EXP(-$AI$195*G156^$AJ$195))*1.02 -> 519.15514 | I156: =20/H156 -> 0.03852413 | J156: 1250 | K156: =($AK$195 - $AL$195*EXP(-$AM$195*J156^$AN$195))*1.02 -> 537.54348 | L156: =20/K156 -> 0.037206293 | M156: =($AO$195 - $AP$195*EXP(-$AQ$195*J156^$AR$195))*1.02 -> 553.62781 | N156: =20/M156 -> 0.036125353 | O156: =($AS$195 - $AT$195*EXP(-$AU$195*J156^$AV$195))*1.02 -> 564.55249 | P156: =20/O156 -> 0.03542629 | Q156: =($AW$195 - $AX$195*EXP(-$AY$195*J156^$AZ$195))*1.02 -> 572.3934 | R156: =20/Q156 -> 0.034941004 | S156: =($BA$195 - $BB$195*EXP(-$BC$195*J156^$BD$195))*1.015 -> 575.43659 | T156: =20/S156 -> 0.034756219
A157: 1350 | B157: =($Y$195 - $Z$195*EXP(-$AA$195*A157^$AB$195))*1.015 -> 415.94059 | C157: =20/B157 -> 0.04808379 | D157: 1325 | E157: =($AC$195 - $AD$195*EXP(-$AE$195*D157^$AF$195))*1.022 -> 498.1072 | F157: =20/E157 -> 0.040152 | G157: 1315 | H157: =($AG$195 - $AH$195*EXP(-$AI$195*G157^$AJ$195))*1.02 -> 541.69498 | I157: =20/H157 -> 0.036921147 | J157: 1300 | K157: =($AK$195 - $AL$195*EXP(-$AM$195*J157^$AN$195))*1.02 -> 562.94311 | L157: =20/K157 -> 0.035527569 | M157: =($AO$195 - $AP$195*EXP(-$AQ$195*J157^$AR$195))*1.02 -> 580.83548 | N157: =20/M157 -> 0.034433158 | O157: =($AS$195 - $AT$195*EXP(-$AU$195*J157^$AV$195))*1.02 -> 593.088 | P157: =20/O157 -> 0.033721809 | Q157: =($AW$195 - $AX$195*EXP(-$AY$195*J157^$AZ$195))*1.02 -> 601.95296 | R157: =20/Q157 -> 0.033225188 | S157: =($BA$195 - $BB$195*EXP(-$BC$195*J157^$BD$195))*1.015 -> 605.67064 | T157: =20/S157 -> 0.033021247
A158: 1400 | B158: =($Y$195 - $Z$195*EXP(-$AA$195*A158^$AB$195))*1.015 -> 425.87418 | C158: =20/B158 -> 0.046962227 | D158: 1375 | E158: =($AC$195 - $AD$195*EXP(-$AE$195*D158^$AF$195))*1.022 -> 515.60949 | F158: =20/E158 -> 0.038789045 | G158: 1365 | H158: =($AG$195 - $AH$195*EXP(-$AI$195*G158^$AJ$195))*1.02 -> 563.30952 | I158: =20/H158 -> 0.035504459 | J158: 1350 | K158: =($AK$195 - $AL$195*EXP(-$AM$195*J158^$AN$195))*1.02 -> 587.52331 | L158: =20/K158 -> 0.034041203 | M158: =($AO$195 - $AP$195*EXP(-$AQ$195*J158^$AR$195))*1.02 -> 607.33616 | N158: =20/M158 -> 0.032930692 | O158: =($AS$195 - $AT$195*EXP(-$AU$195*J158^$AV$195))*1.02 -> 621.03141 | P158: =20/O158 -> 0.03220449 | Q158: =($AW$195 - $AX$195*EXP(-$AY$195*J158^$AZ$195))*1.02 -> 631.02888 | R158: =20/Q158 -> 0.031694271 | S158: =($BA$195 - $BB$195*EXP(-$BC$195*J158^$BD$195))*1.015 -> 635.52264 | T158: =20/S158 -> 0.031470162
A159: 1450 | B159: =($Y$195 - $Z$195*EXP(-$AA$195*A159^$AB$195))*1.015 -> 434.83984 | C159: =20/B159 -> 0.045993945 | D159: 1425 | E159: =($AC$195 - $AD$195*EXP(-$AE$195*D159^$AF$195))*1.022 -> 532.14353 | F159: =20/E159 -> 0.037583845 | G159: 1415 | H159: =($AG$195 - $AH$195*EXP(-$AI$195*G159^$AJ$195))*1.02 -> 583.94256 | I159: =20/H159 -> 0.034249944 | J159: 1400 | K159: =($AK$195 - $AL$195*EXP(-$AM$195*J159^$AN$195))*1.02 -> 611.20785 | L159: =20/K159 -> 0.032722093 | M159: =($AO$195 - $AP$195*EXP(-$AQ$195*J159^$AR$195))*1.02 -> 633.0455 | N159: =20/M159 -> 0.031593306 | O159: =($AS$195 - $AT$195*EXP(-$AU$195*J159^$AV$195))*1.02 -> 648.29507 | P159: =20/O159 -> 0.03085015 | Q159: =($AW$195 - $AX$195*EXP(-$AY$195*J159^$AZ$195))*1.02 -> 659.53294 | R159: =20/Q159 -> 0.03032449 | S159: =($BA$195 - $BB$195*EXP(-$BC$195*J159^$BD$195))*1.015 -> 664.90573 | T159: =20/S159 -> 0.030079452
... A194: 3200 | B194: =($Y$195 - $Z$195*EXP(-$AA$195*A194^$AB$195))*1.015 -> 493.94014 | C194: =20/B194 -> 0.040490736 | D194: 3175 | E194: =($AC$195 - $AD$195*EXP(-$AE$195*D194^$AF$195))*1.022 -> 699.87968 | F194: =20/E194 -> 0.02857634 | G194: 3165 | H194: =($AG$195 - $AH$195*EXP(-$AI$195*G194^$AJ$195))*1.02 -> 813.65568 | I194: =20/H194 -> 0.024580422 | J194: 3150 | K194: =($AK$195 - $AL$195*EXP(-$AM$195*J194^$AN$195))*1.02 -> 905.25569 | L194: =20/K194 -> 0.022093205 | M194: =($AO$195 - $AP$195*EXP(-$AQ$195*J194^$AR$195))*1.02 -> 985.9029 | N194: =20/M194 -> 0.020285973 | O194: =($AS$195 - $AT$195*EXP(-$AU$195*J194^$AV$195))*1.02 -> 1059.8864 | P194: =20/O194 -> 0.018869946 | Q194: =($AW$195 - $AX$195*EXP(-$AY$195*J194^$AZ$195))*1.02 -> 1129.1719 | R194: =20/Q194 -> 0.017712095 | S194: =($BA$195 - $BB$195*EXP(-$BC$195*J194^$BD$195))*1.015 -> 1188.9573 | T194: =20/S194 -> 0.016821462
A195: 3250 | B195: =($Y$195 - $Z$195*EXP(-$AA$195*A195^$AB$195))*1.015 -> 493.94504 | C195: =20/B195 -> 0.040490335 | D195: 3225 | E195: =($AC$195 - $AD$195*EXP(-$AE$195*D195^$AF$195))*1.022 -> 700.04116 | F195: =20/E195 -> 0.028569749 | G195: 3215 | H195: =($AG$195 - $AH$195*EXP(-$AI$195*G195^$AJ$195))*1.02 -> 813.94314 | I195: =20/H195 -> 0.024571741 | J195: 3200 | K195: =($AK$195 - $AL$195*EXP(-$AM$195*J195^$AN$195))*1.02 -> 905.80068 | L195: =20/K195 -> 0.022079913 | M195: =($AO$195 - $AP$195*EXP(-$AQ$195*J195^$AR$195))*1.02 -> 986.85422 | N195: =20/M195 -> 0.020266418 | O195: =($AS$195 - $AT$195*EXP(-$AU$195*J195^$AV$195))*1.02 -> 1061.4324 | P195: =20/O195 -> 0.018842463 | Q195: =($AW$195 - $AX$195*EXP(-$AY$195*J195^$AZ$195))*1.02 -> 1131.5023 | R195: =20/Q195 -> 0.017675616 | S195: =($BA$195 - $BB$195*EXP(-$BC$195*J195^$BD$195))*1.015 -> 1192.2333 | T195: =20/S195 -> 0.01677524 | Y195: 486.65804 | Z195: 462.5625 | AA195: 9.0832372e-07 | AB195: 2.0112107 | AC195: 685.6576 | AD195: 656.96931 | AE195: 8.9301355e-07 | AF195: 1.9625793 | AG195: 799.26014 | AH195: 767.17396 | AI195: 5.2469356e-07 | AJ195: 2.0204744 | AK195: 890.73028 | AL195: 856.69618 | AM195: 4.4944035e-07 | AN195: 2.0278751 | AO195: 972.83137 | AP195: 937.67884 | AQ195: 4.5514784e-07 | AR195: 2.0128629 | AS195: 1050.482 | AT195: 1014.6521 | AU195: 4.9054773e-07 | AV195: 1.9899972 | AW195: 1126.1779 | AX195: 1089.8934 | AY195: 5.3727906e-07 | AZ195: 1.9656246 | BA195: 1201.4446 | BB195: 1164.8121 | BC195: 5.8677028e-07 | BD195: 1.9422743
A196: 3300 | B196: =($Y$195 - $Z$195*EXP(-$AA$195*A196^$AB$195))*1.015 -> 493.94863 | C196: =20/B196 -> 0.04049004 | D196: 3275 | E196: =($AC$195 - $AD$195*EXP(-$AE$195*D196^$AF$195))*1.022 -> 700.17417 | F196: =20/E196 -> 0.028564321 | G196: 3265 | H196: =($AG$195 - $AH$195*EXP(-$AI$195*G196^$AJ$195))*1.02 -> 814.18201 | I196: =20/H196 -> 0.024564532 | J196: 3250 | K196: =($AK$195 - $AL$195*EXP(-$AM$195*J196^$AN$195))*1.02 -> 906.26207 | L196: =20/K196 -> 0.022068672 | M196: =($AO$195 - $AP$195*EXP(-$AQ$195*J196^$AR$195))*1.02 -> 987.67569 | N196: =20/M196 -> 0.020249562 | O196: =($AS$195 - $AT$195*EXP(-$AU$195*J196^$AV$195))*1.02 -> 1062.7918 | P196: =20/O196 -> 0.018818361 | Q196: =($AW$195 - $AX$195*EXP(-$AY$195*J196^$AZ$195))*1.02 -> 1133.5839 | R196: =20/Q196 -> 0.017643159 | S196: =($BA$195 - $BB$195*EXP(-$BC$195*J196^$BD$195))*1.015 -> 1195.1985 | T196: =20/S196 -> 0.016733622
A197: 3350 | B197: =($Y$195 - $Z$195*EXP(-$AA$195*A197^$AB$195))*1.015 -> 493.95126 | C197: =20/B197 -> 0.040489825 | D197: 3325 | E197: =($AC$195 - $AD$195*EXP(-$AE$195*D197^$AF$195))*1.022 -> 700.28337 | F197: =20/E197 -> 0.028559867 | G197: 3315 | H197: =($AG$195 - $AH$195*EXP(-$AI$195*G197^$AJ$195))*1.02 -> 814.37983 | I197: =20/H197 -> 0.024558565 | J197: 3300 | K197: =($AK$195 - $AL$195*EXP(-$AM$195*J197^$AN$195))*1.02 -> 906.65145 | L197: =20/K197 -> 0.022059194 | M197: =($AO$195 - $AP$195*EXP(-$AQ$195*J197^$AR$195))*1.02 -> 988.38304 | N197: =20/M197 -> 0.02023507 | O197: =($AS$195 - $AT$195*EXP(-$AU$195*J197^$AV$195))*1.02 -> 1063.9843 | P197: =20/O197 -> 0.01879727 | Q197: =($AW$195 - $AX$195*EXP(-$AY$195*J197^$AZ$195))*1.02 -> 1135.4391 | R197: =20/Q197 -> 0.017614331 | S197: =($BA$195 - $BB$195*EXP(-$BC$195*J197^$BD$195))*1.015 -> 1197.8772 | T197: =20/S197 -> 0.016696202
A198: 3400 | B198: =($Y$195 - $Z$195*EXP(-$AA$195*A198^$AB$195))*1.015 -> 493.95316 | C198: =20/B198 -> 0.040489669 | D198: 3375 | E198: =($AC$195 - $AD$195*EXP(-$AE$195*D198^$AF$195))*1.022 -> 700.37273 | F198: =20/E198 -> 0.028556223 | G198: 3365 | H198: =($AG$195 - $AH$195*EXP(-$AI$195*G198^$AJ$195))*1.02 -> 814.5431 | I198: =20/H198 -> 0.024553642 | J198: 3350 | K198: =($AK$195 - $AL$195*EXP(-$AM$195*J198^$AN$195))*1.02 -> 906.97902 | L198: =20/K198 -> 0.022051227 | M198: =($AO$195 - $AP$195*EXP(-$AQ$195*J198^$AR$195))*1.02 -> 988.99041 | N198: =20/M198 -> 0.020222643 | O198: =($AS$195 - $AT$195*EXP(-$AU$195*J198^$AV$195))*1.02 -> 1065.0277 | P198: =20/O198 -> 0.018778854 | Q198: =($AW$195 - $AX$195*EXP(-$AY$195*J198^$AZ$195))*1.02 -> 1137.0891 | R198: =20/Q198 -> 0.017588771 | S198: =($BA$195 - $BB$195*EXP(-$BC$195*J198^$BD$195))*1.015 -> 1200.2925 | T198: =20/S198 -> 0.016662606
A199: 3450 | B199: =($Y$195 - $Z$195*EXP(-$AA$195*A199^$AB$195))*1.015 -> 493.95454 | C199: =20/B199 -> 0.040489556 | D199: 3425 | E199: =($AC$195 - $AD$195*EXP(-$AE$195*D199^$AF$195))*1.022 -> 700.4456 | F199: =20/E199 -> 0.028553252 | G199: 3415 | H199: =($AG$195 - $AH$195*EXP(-$AI$195*G199^$AJ$195))*1.02 -> 814.67738 | I199: =20/H199 -> 0.024549595 | J199: 3400 | K199: =($AK$195 - $AL$195*EXP(-$AM$195*J199^$AN$195))*1.02 -> 907.25371 | L199: =20/K199 -> 0.02204455 | M199: =($AO$195 - $AP$195*EXP(-$AQ$195*J199^$AR$195))*1.02 -> 989.51047 | N199: =20/M199 -> 0.020212015 | O199: =($AS$195 - $AT$195*EXP(-$AU$195*J199^$AV$195))*1.02 -> 1065.9385 | P199: =20/O199 -> 0.018762809 | Q199: =($AW$195 - $AX$195*EXP(-$AY$195*J199^$AZ$195))*1.02 -> 1138.5534 | R199: =20/Q199 -> 0.017566149 | S199: =($BA$195 - $BB$195*EXP(-$BC$195*J199^$BD$195))*1.015 -> 1202.4661 | T199: =20/S199 -> 0.016632485
A200: 3500 | B200: =($Y$195 - $Z$195*EXP(-$AA$195*A200^$AB$195))*1.015 -> 493.95553 | C200: =20/B200 -> 0.040489475 | D200: 3475 | E200: =($AC$195 - $AD$195*EXP(-$AE$195*D200^$AF$195))*1.022 -> 700.50483 | F200: =20/E200 -> 0.028550838 | G200: 3465 | H200: =($AG$195 - $AH$195*EXP(-$AI$195*G200^$AJ$195))*1.02 -> 814.78746 | I200: =20/H200 -> 0.024546279 | J200: 3450 | K200: =($AK$195 - $AL$195*EXP(-$AM$195*J200^$AN$195))*1.02 -> 907.48334 | L200: =20/K200 -> 0.022038972 | M200: =($AO$195 - $AP$195*EXP(-$AQ$195*J200^$AR$195))*1.02 -> 989.95453 | N200: =20/M200 -> 0.020202948 | O200: =($AS$195 - $AT$195*EXP(-$AU$195*J200^$AV$195))*1.02 -> 1066.7316 | P200: =20/O200 -> 0.01874886 | Q200: =($AW$195 - $AX$195*EXP(-$AY$195*J200^$AZ$195))*1.02 -> 1139.8502 | R200: =20/Q200 -> 0.017546165 | S200: =($BA$195 - $BB$195*EXP(-$BC$195*J200^$BD$195))*1.015 -> 1204.4187 | T200: =20/S200 -> 0.016605522
A201: 3550 | B201: =($Y$195 - $Z$195*EXP(-$AA$195*A201^$AB$195))*1.015 -> 493.95624 | C201: =20/B201 -> 0.040489417 | D201: 3525 | E201: =($AC$195 - $AD$195*EXP(-$AE$195*D201^$AF$195))*1.022 -> 700.55282 | F201: =20/E201 -> 0.028548882 | G201: 3515 | H201: =($AG$195 - $AH$195*EXP(-$AI$195*G201^$AJ$195))*1.02 -> 814.87737 | I201: =20/H201 -> 0.02454357 | J201: 3500 | K201: =($AK$195 - $AL$195*EXP(-$AM$195*J201^$AN$195))*1.02 -> 907.67469 | L201: =20/K201 -> 0.022034326 | M201: =($AO$195 - $AP$195*EXP(-$AQ$195*J201^$AR$195))*1.02 -> 990.33264 | N201: =20/M201 -> 0.020195235 | O201: =($AS$195 - $AT$195*EXP(-$AU$195*J201^$AV$195))*1.02 -> 1067.4204 | P201: =20/O201 -> 0.01873676 | Q201: =($AW$195 - $AX$195*EXP(-$AY$195*J201^$AZ$195))*1.02 -> 1140.9961 | R201: =20/Q201 -> 0.017528544 | S201: =($BA$195 - $BB$195*EXP(-$BC$195*J201^$BD$195))*1.015 -> 1206.1693 | T201: =20/S201 -> 0.016581421
A202: 3600 | B202: =($Y$195 - $Z$195*EXP(-$AA$195*A202^$AB$195))*1.015 -> 493.95674 | C202: =20/B202 -> 0.040489376 | D202: 3575 | E202: =($AC$195 - $AD$195*EXP(-$AE$195*D202^$AF$195))*1.022 -> 700.59157 | F202: =20/E202 -> 0.028547303 | G202: 3565 | H202: =($AG$195 - $AH$195*EXP(-$AI$195*G202^$AJ$195))*1.02 -> 814.95058 | I202: =20/H202 -> 0.024541366 | J202: 3550 | K202: =($AK$195 - $AL$195*EXP(-$AM$195*J202^$AN$195))*1.02 -> 907.83365 | L202: =20/K202 -> 0.022030468 | M202: =($AO$195 - $AP$195*EXP(-$AQ$195*J202^$AR$195))*1.02 -> 990.6537 | N202: =20/M202 -> 0.02018869 | O202: =($AS$195 - $AT$195*EXP(-$AU$195*J202^$AV$195))*1.02 -> 1068.0174 | P202: =20/O202 -> 0.018726287 | Q202: =($AW$195 - $AX$195*EXP(-$AY$195*J202^$AZ$195))*1.02 -> 1142.0066 | R202: =20/Q202 -> 0.017513034 | S202: =($BA$195 - $BB$195*EXP(-$BC$195*J202^$BD$195))*1.015 -> 1207.7359 | T202: =20/S202 -> 0.016559912
A203: 3650 | B203: =($Y$195 - $Z$195*EXP(-$AA$195*A203^$AB$195))*1.015 -> 493.95709 | C203: =20/B203 -> 0.040489347 | D203: 3625 | E203: =($AC$195 - $AD$195*EXP(-$AE$195*D203^$AF$195))*1.022 -> 700.62276 | F203: =20/E203 -> 0.028546033 | G203: 3615 | H203: =($AG$195 - $AH$195*EXP(-$AI$195*G203^$AJ$195))*1.02 -> 815.00997 | I203: =20/H203 -> 0.024539577 | J203: 3600 | K203: =($AK$195 - $AL$195*EXP(-$AM$195*J203^$AN$195))*1.02 -> 907.96527 | L203: =20/K203 -> 0.022027274 | M203: =($AO$195 - $AP$195*EXP(-$AQ$195*J203^$AR$195))*1.02 -> 990.92556 | N203: =20/M203 -> 0.020183151 | O203: =($AS$195 - $AT$195*EXP(-$AU$195*J203^$AV$195))*1.02 -> 1068.5334 | P203: =20/O203 -> 0.018717244 | Q203: =($AW$195 - $AX$195*EXP(-$AY$195*J203^$AZ$195))*1.02 -> 1142.8957 | R203: =20/Q203 -> 0.01749941 | S203: =($BA$195 - $BB$195*EXP(-$BC$195*J203^$BD$195))*1.015 -> 1209.1352 | T203: =20/S203 -> 0.016540747
A204: 3700 | B204: =($Y$195 - $Z$195*EXP(-$AA$195*A204^$AB$195))*1.015 -> 493.95734 | C204: =20/B204 -> 0.040489326 | D204: 3675 | E204: =($AC$195 - $AD$195*EXP(-$AE$195*D204^$AF$195))*1.022 -> 700.64777 | F204: =20/E204 -> 0.028545013 | G204: 3665 | H204: =($AG$195 - $AH$195*EXP(-$AI$195*G204^$AJ$195))*1.02 -> 815.058 | I204: =20/H204 -> 0.024538131 | J204: 3650 | K204: =($AK$195 - $AL$195*EXP(-$AM$195*J204^$AN$195))*1.02 -> 908.07393 | L204: =20/K204 -> 0.022024639 | M204: =($AO$195 - $AP$195*EXP(-$AQ$195*J204^$AR$195))*1.02 -> 991.15512 | N204: =20/M204 -> 0.020178476 | O204: =($AS$195 - $AT$195*EXP(-$AU$195*J204^$AV$195))*1.02 -> 1068.9783 | P204: =20/O204 -> 0.018709453 | Q204: =($AW$195 - $AX$195*EXP(-$AY$195*J204^$AZ$195))*1.02 -> 1143.6764 | R204: =20/Q204 -> 0.017487464 | S204: =($BA$195 - $BB$195*EXP(-$BC$195*J204^$BD$195))*1.015 -> 1210.3829 | T204: =20/S204 -> 0.016523697
A205: 3750 | B205: =($Y$195 - $Z$195*EXP(-$AA$195*A205^$AB$195))*1.015 -> 493.95752 | C205: =20/B205 -> 0.040489312 | D205: 3725 | E205: =($AC$195 - $AD$195*EXP(-$AE$195*D205^$AF$195))*1.022 -> 700.66778 | F205: =20/E205 -> 0.028544198 | G205: 3715 | H205: =($AG$195 - $AH$195*EXP(-$AI$195*G205^$AJ$195))*1.02 -> 815.0967 | I205: =20/H205 -> 0.024536966 | J205: 3700 | K205: =($AK$195 - $AL$195*EXP(-$AM$195*J205^$AN$195))*1.02 -> 908.16334 | L205: =20/K205 -> 0.02202247 | M205: =($AO$195 - $AP$195*EXP(-$AQ$195*J205^$AR$195))*1.02 -> 991.34842 | N205: =20/M205 -> 0.020174542 | O205: =($AS$195 - $AT$195*EXP(-$AU$195*J205^$AV$195))*1.02 -> 1069.3611 | P205: =20/O205 -> 0.018702756 | Q205: =($AW$195 - $AX$195*EXP(-$AY$195*J205^$AZ$195))*1.02 -> 1144.3605 | R205: =20/Q205 -> 0.01747701 | S205: =($BA$195 - $BB$195*EXP(-$BC$195*J205^$BD$195))*1.015 -> 1211.4932 | T205: =20/S205 -> 0.016508554
A206: 3800 | B206: =($Y$195 - $Z$195*EXP(-$AA$195*A206^$AB$195))*1.015 -> 493.95764 | C206: =20/B206 -> 0.040489302 | D206: 3775 | E206: =($AC$195 - $AD$195*EXP(-$AE$195*D206^$AF$195))*1.022 -> 700.68372 | F206: =20/E206 -> 0.028543549 | G206: 3765 | H206: =($AG$195 - $AH$195*EXP(-$AI$195*G206^$AJ$195))*1.02 -> 815.12779 | I206: =20/H206 -> 0.02453603 | J206: 3750 | K206: =($AK$195 - $AL$195*EXP(-$AM$195*J206^$AN$195))*1.02 -> 908.23668 | L206: =20/K206 -> 0.022020692 | M206: =($AO$195 - $AP$195*EXP(-$AQ$195*J206^$AR$195))*1.02 -> 991.51075 | N206: =20/M206 -> 0.020171239 | O206: =($AS$195 - $AT$195*EXP(-$AU$195*J206^$AV$195))*1.02 -> 1069.6896 | P206: =20/O206 -> 0.018697012 | Q206: =($AW$195 - $AX$195*EXP(-$AY$195*J206^$AZ$195))*1.02 -> 1144.9587 | R206: =20/Q206 -> 0.017467879 | S206: =($BA$195 - $BB$195*EXP(-$BC$195*J206^$BD$195))*1.015 -> 1212.4795 | T206: =20/S206 -> 0.016495125
A207: 3850 | B207: =($Y$195 - $Z$195*EXP(-$AA$195*A207^$AB$195))*1.015 -> 493.95773 | C207: =20/B207 -> 0.040489295 | D207: 3825 | E207: =($AC$195 - $AD$195*EXP(-$AE$195*D207^$AF$195))*1.022 -> 700.69638 | F207: =20/E207 -> 0.028543033 | G207: 3815 | H207: =($AG$195 - $AH$195*EXP(-$AI$195*G207^$AJ$195))*1.02 -> 815.15267 | I207: =20/H207 -> 0.024535281 | J207: 3800 | K207: =($AK$195 - $AL$195*EXP(-$AM$195*J207^$AN$195))*1.02 -> 908.29666 | L207: =20/K207 -> 0.022019238 | M207: =($AO$195 - $AP$195*EXP(-$AQ$195*J207^$AR$195))*1.02 -> 991.64669 | N207: =20/M207 -> 0.020168474 | O207: =($AS$195 - $AT$195*EXP(-$AU$195*J207^$AV$195))*1.02 -> 1069.9708 | P207: =20/O207 -> 0.018692098 | Q207: =($AW$195 - $AX$195*EXP(-$AY$195*J207^$AZ$195))*1.02 -> 1145.4806 | R207: =20/Q207 -> 0.01745992 | S207: =($BA$195 - $BB$195*EXP(-$BC$195*J207^$BD$195))*1.015 -> 1213.3539 | T207: =20/S207 -> 0.016483237
... A251: 6050 | B251: =($Y$195 - $Z$195*EXP(-$AA$195*A251^$AB$195))*1.015 -> 493.95791 | C251: =20/B251 -> 0.04048928 | D251: 6025 | E251: =($AC$195 - $AD$195*EXP(-$AE$195*D251^$AF$195))*1.022 -> 700.74207 | F251: =20/E251 -> 0.028541172 | G251: 6015 | H251: =($AG$195 - $AH$195*EXP(-$AI$195*G251^$AJ$195))*1.02 -> 815.24535 | I251: =20/H251 -> 0.024532492 | J251: 6000 | K251: =($AK$195 - $AL$195*EXP(-$AM$195*J251^$AN$195))*1.02 -> 908.54488 | L251: =20/K251 -> 0.022013222 | M251: =($AO$195 - $AP$195*EXP(-$AQ$195*J251^$AR$195))*1.02 -> 992.28799 | N251: =20/M251 -> 0.020155439 | O251: =($AS$195 - $AT$195*EXP(-$AU$195*J251^$AV$195))*1.02 -> 1071.4915 | P251: =20/O251 -> 0.01866557 | Q251: =($AW$195 - $AX$195*EXP(-$AY$195*J251^$AZ$195))*1.02 -> 1148.7008 | R251: =20/Q251 -> 0.017410975 | S251: =($BA$195 - $BB$195*EXP(-$BC$195*J251^$BD$195))*1.015 -> 1219.4629 | T251: =20/S251 -> 0.016400662

Sheet Typ1 1 mm Noctua S12
A1: kg/s | B1: L/h | C1: min^-1 | D1: m/s | E1: Gesamt m³/h | F1: dp [Pa] | G1: Tin [K] | H1: TAmbient [K] | I1: dTAmbient | J1: TAmbient2 | K1: TAmbient2 | L1: Tout_avg | M1: Tout_avg | N1: dTFluid [K] | O1: P [W] | P1: k [W/m²*K] | Q1: dTlog | R1: cp [J/kg * K] | S1: ρ [kg/m³] | T1: cp [J/kg * K] | U1: ρ [kg/m³]
A2: 0 | B2: =A2/S2*3600*1000 -> 0 | C2: 0 | D2: 0 | F2: 0 | G2: 315 | H2: 295 | R2: 4180 | S2: 991.5 | Y2: -144.24373 | Z2: 10.5287 | AA2: -0.031256926 | AB2: 2.9456116e-05 | AC2: 17554.454 | AD2: -125.69235 | AE2: 0.39362054 | AF2: -0.00041079636 | AG2: 2.306401 | AH2: -0.0037612753 | AI2: 995.1762 | AJ2: 0.039735 | AL2: -0.0073107128 | AM2: 2.552808 | AN2: 1.5829103
A3: 0.008 | B3: =A3/S3*3600*1000 -> 29.042372 | C3: 0 | D3: 0 | F3: 0 | G3: 315 | H3: 295 | J3: 297.20729 | L3: 314.23737 | M3: =G3-O3/(R3*A3) -> 314.23737 | N3: =G3-L3 -> 0.76262638 | O3: ='Typ1 1,5 mm Noctua F12'!Q3*0.693 -> 25.493462 | P3: =O3/(Abmessung!B$17*Q3) -> 1.7819632 | Q3: =((G3-J3)-(L3-H3))/LN((G3-J3)/(L3-H3)) -> 18.505644 | R3: =((AC3 + AD3*G3 +AE3*G3^2 + AF3*G3^3)+(AC3 + AD3*L3 + AE3*L3^2 + AF3*L3^3))/2 -> 4178.5635 | S3: =((Y3 + Z3*G3 + AA3*G3^2 + AB3*G3^3)+(Y3 + Z3*L3 + AA3*L3^2 + AB3*L3^3))/2 -> 991.65453 | T3: =((AI3 + AJ3*H3)+(AI3 + AJ3*J3))/2 -> 1006.9419 | U3: =((AG3 + AH3*H3)+(AG3 + AH3*J3))/2 -> 1.1926737 | Y3: -144.24373 | Z3: 10.5287 | AA3: -0.031256926 | AB3: 2.9456116e-05 | AC3: 17554.454 | AD3: -125.69235 | AE3: 0.39362054 | AF3: -0.00041079636 | AG3: 2.306401 | AH3: -0.0037612753 | AI3: 995.1762 | AJ3: 0.039735 | AL3: -0.0073107128 | AM3: 2.552808 | AN3: 1.5829103
A4: 0.014 | B4: =A4/S4*3600*1000 -> 50.826023 | C4: 0 | D4: 0 | F4: 0 | G4: 315 | H4: 295 | J4: 297.94433 | L4: 314.42457 | M4: =G4-O4/(R4*A4) -> 314.42457 | N4: =G4-L4 -> 0.5754307 | O4: ='Typ1 1,5 mm Noctua F12'!Q4*0.693 -> 33.66263 | P4: =O4/(Abmessung!B$17*Q4) -> 2.3905954 | Q4: =((G4-J4)-(L4-H4))/LN((G4-J4)/(L4-H4)) -> 18.21445 | R4: =((AC4 + AD4*G4 +AE4*G4^2 + AF4*G4^3)+(AC4 + AD4*L4 + AE4*L4^2 + AF4*L4^3))/2 -> 4178.5632 | S4: =((Y4 + Z4*G4 + AA4*G4^2 + AB4*G4^3)+(Y4 + Z4*L4 + AA4*L4^2 + AB4*L4^3))/2 -> 991.61801 | T4: =((AI4 + AJ4*H4)+(AI4 + AJ4*J4))/2 -> 1006.9565 | U4: =((AG4 + AH4*H4)+(AG4 + AH4*J4))/2 -> 1.1912876 | Y4: -144.24373 | Z4: 10.5287 | AA4: -0.031256926 | AB4: 2.9456116e-05 | AC4: 17554.454 | AD4: -125.69235 | AE4: 0.39362054 | AF4: -0.00041079636 | AG4: 2.306401 | AH4: -0.0037612753 | AI4: 995.1762 | AJ4: 0.039735 | AL4: -0.0073107128 | AM4: 2.552808 | AN4: 1.5829103
A5: 0.02 | B5: =A5/S5*3600*1000 -> 72.610232 | C5: 0 | D5: 0 | F5: 0 | G5: 315 | H5: 295 | J5: 298.35294 | L5: 314.53817 | M5: =G5-O5/(R5*A5) -> 314.53817 | N5: =G5-L5 -> 0.46182526 | O5: ='Typ1 1,5 mm Noctua F12'!Q5*0.693 -> 38.59532 | P5: =O5/(Abmessung!B$17*Q5) -> 2.7652476 | Q5: =((G5-J5)-(L5-H5))/LN((G5-J5)/(L5-H5)) -> 18.054053 | R5: =((AC5 + AD5*G5 +AE5*G5^2 + AF5*G5^3)+(AC5 + AD5*L5 + AE5*L5^2 + AF5*L5^3))/2 -> 4178.5632 | S5: =((Y5 + Z5*G5 + AA5*G5^2 + AB5*G5^3)+(Y5 + Z5*L5 + AA5*L5^2 + AB5*L5^3))/2 -> 991.59578 | T5: =((AI5 + AJ5*H5)+(AI5 + AJ5*J5))/2 -> 1006.9646 | U5: =((AG5 + AH5*H5)+(AG5 + AH5*J5))/2 -> 1.1905191 | Y5: -144.24373 | Z5: 10.5287 | AA5: -0.031256926 | AB5: 2.9456116e-05 | AC5: 17554.454 | AD5: -125.69235 | AE5: 0.39362054 | AF5: -0.00041079636 | AG5: 2.306401 | AH5: -0.0037612753 | AI5: 995.1762 | AJ5: 0.039735 | AL5: -0.0073107128 | AM5: 2.552808 | AN5: 1.5829103
A6: 0.026 | B6: =A6/S6*3600*1000 -> 94.394719 | C6: 0 | D6: 0 | F6: 0 | G6: 315 | H6: 295 | J6: 298.63722 | L6: 314.61414 | M6: =G6-O6/(R6*A6) -> 314.61414 | N6: =G6-L6 -> 0.38585604 | O6: ='Typ1 1,5 mm Noctua F12'!Q6*0.693 -> 41.92042 | P6: =O6/(Abmessung!B$17*Q6) -> 3.0226805 | Q6: =((G6-J6)-(L6-H6))/LN((G6-J6)/(L6-H6)) -> 17.939382 | R6: =((AC6 + AD6*G6 +AE6*G6^2 + AF6*G6^3)+(AC6 + AD6*L6 + AE6*L6^2 + AF6*L6^3))/2 -> 4178.5632 | S6: =((Y6 + Z6*G6 + AA6*G6^2 + AB6*G6^3)+(Y6 + Z6*L6 + AA6*L6^2 + AB6*L6^3))/2 -> 991.5809 | T6: =((AI6 + AJ6*H6)+(AI6 + AJ6*J6))/2 -> 1006.9703 | U6: =((AG6 + AH6*H6)+(AG6 + AH6*J6))/2 -> 1.1899845 | Y6: -144.24373 | Z6: 10.5287 | AA6: -0.031256926 | AB6: 2.9456116e-05 | AC6: 17554.454 | AD6: -125.69235 | AE6: 0.39362054 | AF6: -0.00041079636 | AG6: 2.306401 | AH6: -0.0037612753 | AI6: 995.1762 | AJ6: 0.039735 | AL6: -0.0073107128 | AM6: 2.552808 | AN6: 1.5829103
A7: 0.032 | B7: =A7/S7*3600*1000 -> 116.17937 | C7: 0 | D7: 0 | F7: 0 | G7: 315 | H7: 295 | J7: 298.85549 | L7: 314.66867 | M7: =G7-O7/(R7*A7) -> 314.66867 | N7: =G7-L7 -> 0.33133293 | O7: ='Typ1 1,5 mm Noctua F12'!Q7*0.693 -> 44.303859 | P7: =O7/(Abmessung!B$17*Q7) -> 3.2107798 | Q7: =((G7-J7)-(L7-H7))/LN((G7-J7)/(L7-H7)) -> 17.84864 | R7: =((AC7 + AD7*G7 +AE7*G7^2 + AF7*G7^3)+(AC7 + AD7*L7 + AE7*L7^2 + AF7*L7^3))/2 -> 4178.5632 | S7: =((Y7 + Z7*G7 + AA7*G7^2 + AB7*G7^3)+(Y7 + Z7*L7 + AA7*L7^2 + AB7*L7^3))/2 -> 991.5702 | T7: =((AI7 + AJ7*H7)+(AI7 + AJ7*J7))/2 -> 1006.9746 | U7: =((AG7 + AH7*H7)+(AG7 + AH7*J7))/2 -> 1.189574 | Y7: -144.24373 | Z7: 10.5287 | AA7: -0.031256926 | AB7: 2.9456116e-05 | AC7: 17554.454 | AD7: -125.69235 | AE7: 0.39362054 | AF7: -0.00041079636 | AG7: 2.306401 | AH7: -0.0037612753 | AI7: 995.1762 | AJ7: 0.039735 | AL7: -0.0073107128 | AM7: 2.552808 | AN7: 1.5829103
A8: 0.038 | B8: =A8/S8*3600*1000 -> 137.96412 | C8: 0 | D8: 0 | F8: 0 | G8: 315 | H8: 295 | J8: 299.03273 | L8: 314.70978 | M8: =G8-O8/(R8*A8) -> 314.70978 | N8: =G8-L8 -> 0.29021863 | O8: ='Typ1 1,5 mm Noctua F12'!Q8*0.693 -> 46.082482 | P8: =O8/(Abmessung!B$17*Q8) -> 3.3539113 | Q8: =((G8-J8)-(L8-H8))/LN((G8-J8)/(L8-H8)) -> 17.772904 | R8: =((AC8 + AD8*G8 +AE8*G8^2 + AF8*G8^3)+(AC8 + AD8*L8 + AE8*L8^2 + AF8*L8^3))/2 -> 4178.5632 | S8: =((Y8 + Z8*G8 + AA8*G8^2 + AB8*G8^3)+(Y8 + Z8*L8 + AA8*L8^2 + AB8*L8^3))/2 -> 991.56213 | T8: =((AI8 + AJ8*H8)+(AI8 + AJ8*J8))/2 -> 1006.9781 | U8: =((AG8 + AH8*H8)+(AG8 + AH8*J8))/2 -> 1.1892407 | Y8: -144.24373 | Z8: 10.5287 | AA8: -0.031256926 | AB8: 2.9456116e-05 | AC8: 17554.454 | AD8: -125.69235 | AE8: 0.39362054 | AF8: -0.00041079636 | AG8: 2.306401 | AH8: -0.0037612753 | AI8: 995.1762 | AJ8: 0.039735 | AL8: -0.0073107128 | AM8: 2.552808 | AN8: 1.5829103
A9: 0.044 | B9: =A9/S9*3600*1000 -> 159.74895 | C9: 0 | D9: 0 | F9: 0 | G9: 315 | H9: 295 | J9: 299.18196 | L9: 314.74193 | M9: =G9-O9/(R9*A9) -> 314.74193 | N9: =G9-L9 -> 0.25807378 | O9: ='Typ1 1,5 mm Noctua F12'!Q9*0.693 -> 47.448616 | P9: =O9/(Abmessung!B$17*Q9) -> 3.4660777 | Q9: =((G9-J9)-(L9-H9))/LN((G9-J9)/(L9-H9)) -> 17.707586 | R9: =((AC9 + AD9*G9 +AE9*G9^2 + AF9*G9^3)+(AC9 + AD9*L9 + AE9*L9^2 + AF9*L9^3))/2 -> 4178.5632 | S9: =((Y9 + Z9*G9 + AA9*G9^2 + AB9*G9^3)+(Y9 + Z9*L9 + AA9*L9^2 + AB9*L9^3))/2 -> 991.55581 | T9: =((AI9 + AJ9*H9)+(AI9 + AJ9*J9))/2 -> 1006.9811 | U9: =((AG9 + AH9*H9)+(AG9 + AH9*J9))/2 -> 1.18896 | Y9: -144.24373 | Z9: 10.5287 | AA9: -0.031256926 | AB9: 2.9456116e-05 | AC9: 17554.454 | AD9: -125.69235 | AE9: 0.39362054 | AF9: -0.00041079636 | AG9: 2.306401 | AH9: -0.0037612753 | AI9: 995.1762 | AJ9: 0.039735 | AL9: -0.0073107128 | AM9: 2.552808 | AN9: 1.5829103
A10: 0.05 | B10: =A10/S10*3600*1000 -> 181.53383 | C10: 0 | D10: 0 | F10: 0 | G10: 315 | H10: 295 | J10: 299.31084 | L10: 314.76776 | M10: =G10-O10/(R10*A10) -> 314.76776 | N10: =G10-L10 -> 0.23223854 | O10: ='Typ1 1,5 mm Noctua F12'!Q10*0.693 -> 48.521172 | P10: =O10/(Abmessung!B$17*Q10) -> 3.5559937 | Q10: =((G10-J10)-(L10-H10))/LN((G10-J10)/(L10-H10)) -> 17.649988 | R10: =((AC10 + AD10*G10 +AE10*G10^2 + AF10*G10^3)+(AC10 + AD10*L10 + AE10*L10^2 + AF10*L10^3))/2 -> 4178.5633 | S10: =((Y10 + Z10*G10 + AA10*G10^2 + AB10*G10^3)+(Y10 + Z10*L10 + AA10*L10^2 + AB10*L10^3))/2 -> 991.55073 | T10: =((AI10 + AJ10*H10)+(AI10 + AJ10*J10))/2 -> 1006.9837 | U10: =((AG10 + AH10*H10)+(AG10 + AH10*J10))/2 -> 1.1887177 | Y10: -144.24373 | Z10: 10.5287 | AA10: -0.031256926 | AB10: 2.9456116e-05 | AC10: 17554.454 | AD10: -125.69235 | AE10: 0.39362054 | AF10: -0.00041079636 | AG10: 2.306401 | AH10: -0.0037612753 | AI10: 995.1762 | AJ10: 0.039735 | AL10: -0.0073107128 | AM10: 2.552808 | AN10: 1.5829103
A11: 0.056 | B11: =A11/S11*3600*1000 -> 203.31874 | C11: 0 | D11: 0 | F11: 0 | G11: 315 | H11: 295 | J11: 299.42428 | L11: 314.78898 | M11: =G11-O11/(R11*A11) -> 314.78898 | N11: =G11-L11 -> 0.21101737 | O11: ='Typ1 1,5 mm Noctua F12'!Q11*0.693 -> 49.377969 | P11: =O11/(Abmessung!B$17*Q11) -> 3.6294 | Q11: =((G11-J11)-(L11-H11))/LN((G11-J11)/(L11-H11)) -> 17.598372 | R11: =((AC11 + AD11*G11 +AE11*G11^2 + AF11*G11^3)+(AC11 + AD11*L11 + AE11*L11^2 + AF11*L11^3))/2 -> 4178.5633 | S11: =((Y11 + Z11*G11 + AA11*G11^2 + AB11*G11^3)+(Y11 + Z11*L11 + AA11*L11^2 + AB11*L11^3))/2 -> 991.54656 | T11: =((AI11 + AJ11*H11)+(AI11 + AJ11*J11))/2 -> 1006.9859 | U11: =((AG11 + AH11*H11)+(AG11 + AH11*J11))/2 -> 1.1885043 | Y11: -144.24373 | Z11: 10.5287 | AA11: -0.031256926 | AB11: 2.9456116e-05 | AC11: 17554.454 | AD11: -125.69235 | AE11: 0.39362054 | AF11: -0.00041079636 | AG11: 2.306401 | AH11: -0.0037612753 | AI11: 995.1762 | AJ11: 0.039735 | AL11: -0.0073107128 | AM11: 2.552808 | AN11: 1.5829103
A12: 0.062 | B12: =A12/S12*3600*1000 -> 225.10369 | C12: 0 | D12: 0 | F12: 0 | G12: 315 | H12: 295 | J12: 299.52558 | L12: 314.80672 | M12: =G12-O12/(R12*A12) -> 314.80672 | N12: =G12-L12 -> 0.19327586 | O12: ='Typ1 1,5 mm Noctua F12'!Q12*0.693 -> 50.072157 | P12: =O12/(Abmessung!B$17*Q12) -> 3.6902432 | Q12: =((G12-J12)-(L12-H12))/LN((G12-J12)/(L12-H12)) -> 17.551547 | R12: =((AC12 + AD12*G12 +AE12*G12^2 + AF12*G12^3)+(AC12 + AD12*L12 + AE12*L12^2 + AF12*L12^3))/2 -> 4178.5633 | S12: =((Y12 + Z12*G12 + AA12*G12^2 + AB12*G12^3)+(Y12 + Z12*L12 + AA12*L12^2 + AB12*L12^3))/2 -> 991.54307 | T12: =((AI12 + AJ12*H12)+(AI12 + AJ12*J12))/2 -> 1006.9879 | U12: =((AG12 + AH12*H12)+(AG12 + AH12*J12))/2 -> 1.1883138 | Y12: -144.24373 | Z12: 10.5287 | AA12: -0.031256926 | AB12: 2.9456116e-05 | AC12: 17554.454 | AD12: -125.69235 | AE12: 0.39362054 | AF12: -0.00041079636 | AG12: 2.306401 | AH12: -0.0037612753 | AI12: 995.1762 | AJ12: 0.039735 | AL12: -0.0073107128 | AM12: 2.552808 | AN12: 1.5829103
A13: 0.068 | B13: =A13/S13*3600*1000 -> 246.88865 | C13: 0 | D13: 0 | F13: 0 | G13: 315 | H13: 295 | J13: 299.6171 | L13: 314.82177 | M13: =G13-O13/(R13*A13) -> 314.82177 | N13: =G13-L13 -> 0.17822504 | O13: ='Typ1 1,5 mm Noctua F12'!Q13*0.693 -> 50.641275 | P13: =O13/(Abmessung!B$17*Q13) -> 3.7413291 | Q13: =((G13-J13)-(L13-H13))/LN((G13-J13)/(L13-H13)) -> 17.508656 | R13: =((AC13 + AD13*G13 +AE13*G13^2 + AF13*G13^3)+(AC13 + AD13*L13 + AE13*L13^2 + AF13*L13^3))/2 -> 4178.5633 | S13: =((Y13 + Z13*G13 + AA13*G13^2 + AB13*G13^3)+(Y13 + Z13*L13 + AA13*L13^2 + AB13*L13^3))/2 -> 991.54011 | T13: =((AI13 + AJ13*H13)+(AI13 + AJ13*J13))/2 -> 1006.9898 | U13: =((AG13 + AH13*H13)+(AG13 + AH13*J13))/2 -> 1.1881417 | Y13: -144.24373 | Z13: 10.5287 | AA13: -0.031256926 | AB13: 2.9456116e-05 | AC13: 17554.454 | AD13: -125.69235 | AE13: 0.39362054 | AF13: -0.00041079636 | AG13: 2.306401 | AH13: -0.0037612753 | AI13: 995.1762 | AJ13: 0.039735 | AL13: -0.0073107128 | AM13: 2.552808 | AN13: 1.5829103
A14: 0.074 | B14: =A14/S14*3600*1000 -> 268.67363 | C14: 0 | D14: 0 | F14: 0 | G14: 315 | H14: 295 | J14: 299.70056 | L14: 314.8347 | M14: =G14-O14/(R14*A14) -> 314.8347 | N14: =G14-L14 -> 0.16529852 | O14: ='Typ1 1,5 mm Noctua F12'!Q14*0.693 -> 51.112566 | P14: =O14/(Abmessung!B$17*Q14) -> 3.7847068 | Q14: =((G14-J14)-(L14-H14))/LN((G14-J14)/(L14-H14)) -> 17.46906 | R14: =((AC14 + AD14*G14 +AE14*G14^2 + AF14*G14^3)+(AC14 + AD14*L14 + AE14*L14^2 + AF14*L14^3))/2 -> 4178.5634 | S14: =((Y14 + Z14*G14 + AA14*G14^2 + AB14*G14^3)+(Y14 + Z14*L14 + AA14*L14^2 + AB14*L14^3))/2 -> 991.53757 | T14: =((AI14 + AJ14*H14)+(AI14 + AJ14*J14))/2 -> 1006.9914 | U14: =((AG14 + AH14*H14)+(AG14 + AH14*J14))/2 -> 1.1879847 | Y14: -144.24373 | Z14: 10.5287 | AA14: -0.031256926 | AB14: 2.9456116e-05 | AC14: 17554.454 | AD14: -125.69235 | AE14: 0.39362054 | AF14: -0.00041079636 | AG14: 2.306401 | AH14: -0.0037612753 | AI14: 995.1762 | AJ14: 0.039735 | AL14: -0.0073107128 | AM14: 2.552808 | AN14: 1.5829103
A15: 0.008 | B15: =A15/S15*3600*1000 -> 29.028454 | C15: 600 | D15: =E15/(0.02809*3600) -> 0.25671453 | E15: 25.96 | F15: 1.29 | G15: 315 | H15: 295 | I15: =O15*3600/(T15*U15*E15) -> 12.798189 | J15: 307.79758 | K15: =H15+I15 -> 307.79819 | L15: 311.73913 | M15: =G15-O15/(R15*A15) -> 311.73913 | N15: =G15-L15 -> 3.260874 | O15: 109.00689 | P15: =O15/(Abmessung!B$17*Q15) -> 12.468901 | Q15: =((G15-J15)-(L15-H15))/LN((G15-J15)/(L15-H15)) -> 11.308366 | R15: =((AC15 + AD15*G15 +AE15*G15^2 + AF15*G15^3)+(AC15 + AD15*L15 + AE15*L15^2 + AF15*L15^3))/2 -> 4178.5918 | S15: =((Y15 + Z15*G15 + AA15*G15^2 + AB15*G15^3)+(Y15 + Z15*L15 + AA15*L15^2 + AB15*L15^3))/2 -> 992.13 | T15: =((AI15 + AJ15*H15)+(AI15 + AJ15*J15))/2 -> 1007.1523 | U15: =((AG15 + AH15*H15)+(AG15 + AH15*J15))/2 -> 1.1727572 | Y15: -144.24373 | Z15: 10.5287 | AA15: -0.031256926 | AB15: 2.9456116e-05 | AC15: 17554.454 | AD15: -125.69235 | AE15: 0.39362054 | AF15: -0.00041079636 | AG15: 2.306401 | AH15: -0.0037612753 | AI15: 995.1762 | AJ15: 0.039735 | AL15: -0.0073107128 | AM15: 2.552808 | AN15: 1.5829103
A16: 0.014 | B16: =A16/S16*3600*1000 -> 50.814276 | C16: 600 | D16: =E16/(0.02809*3600) -> 0.25671453 | E16: 25.96 | F16: 1.29 | G16: 315 | H16: 295 | I16: =O16*3600/(T16*U16*E16) -> 12.081847 | J16: 307.082 | K16: =H16+I16 -> 307.08185 | L16: 313.23894 | M16: =G16-O16/(R16*A16) -> 313.23894 | N16: =G16-L16 -> 1.7610639 | O16: 103.02218 | P16: =O16/(Abmessung!B$17*Q16) -> 10.773835 | Q16: =((G16-J16)-(L16-H16))/LN((G16-J16)/(L16-H16)) -> 12.368997 | R16: =((AC16 + AD16*G16 +AE16*G16^2 + AF16*G16^3)+(AC16 + AD16*L16 + AE16*L16^2 + AF16*L16^3))/2 -> 4178.569 | S16: =((Y16 + Z16*G16 + AA16*G16^2 + AB16*G16^3)+(Y16 + Z16*L16 + AA16*L16^2 + AB16*L16^3))/2 -> 991.84724 | T16: =((AI16 + AJ16*H16)+(AI16 + AJ16*J16))/2 -> 1007.1381 | U16: =((AG16 + AH16*H16)+(AG16 + AH16*J16))/2 -> 1.1741029 | Y16: -144.24373 | Z16: 10.5287 | AA16: -0.031256926 | AB16: 2.9456116e-05 | AC16: 17554.454 | AD16: -125.69235 | AE16: 0.39362054 | AF16: -0.00041079636 | AG16: 2.306401 | AH16: -0.0037612753 | AI16: 995.1762 | AJ16: 0.039735 | AL16: -0.0073107128 | AM16: 2.552808 | AN16: 1.5829103
A17: 0.02 | B17: =A17/S17*3600*1000 -> 72.599575 | C17: 600 | D17: =E17/(0.02809*3600) -> 0.25671453 | E17: 25.96 | F17: 1.29 | G17: 315 | H17: 295 | I17: =O17*3600/(T17*U17*E17) -> 11.856033 | J17: 306.85645 | K17: =H17+I17 -> 306.85603 | L17: 313.78986 | M17: =G17-O17/(R17*A17) -> 313.78986 | N17: =G17-L17 -> 1.210137 | O17: 101.13272 | P17: =O17/(Abmessung!B$17*Q17) -> 10.273542 | Q17: =((G17-J17)-(L17-H17))/LN((G17-J17)/(L17-H17)) -> 12.733436 | R17: =((AC17 + AD17*G17 +AE17*G17^2 + AF17*G17^3)+(AC17 + AD17*L17 + AE17*L17^2 + AF17*L17^3))/2 -> 4178.5651 | S17: =((Y17 + Z17*G17 + AA17*G17^2 + AB17*G17^3)+(Y17 + Z17*L17 + AA17*L17^2 + AB17*L17^3))/2 -> 991.74134 | T17: =((AI17 + AJ17*H17)+(AI17 + AJ17*J17))/2 -> 1007.1336 | U17: =((AG17 + AH17*H17)+(AG17 + AH17*J17))/2 -> 1.1745271 | Y17: -144.24373 | Z17: 10.5287 | AA17: -0.031256926 | AB17: 2.9456116e-05 | AC17: 17554.454 | AD17: -125.69235 | AE17: 0.39362054 | AF17: -0.00041079636 | AG17: 2.306401 | AH17: -0.0037612753 | AI17: 995.1762 | AJ17: 0.039735 | AL17: -0.0073107128 | AM17: 2.552808 | AN17: 1.5829103
A18: 0.026 | B18: =A18/S18*3600*1000 -> 94.384656 | C18: 600 | D18: =E18/(0.02809*3600) -> 0.25671453 | E18: 25.96 | F18: 1.29 | G18: 315 | H18: 295 | I18: =O18*3600/(T18*U18*E18) -> 11.81377 | J18: 306.81431 | K18: =H18+I18 -> 306.81377 | L18: 314.07238 | M18: =G18-O18/(R18*A18) -> 314.07238 | N18: =G18-L18 -> 0.92761839 | O18: 100.77893 | P18: =O18/(Abmessung!B$17*Q18) -> 10.128453 | Q18: =((G18-J18)-(L18-H18))/LN((G18-J18)/(L18-H18)) -> 12.870658 | R18: =((AC18 + AD18*G18 +AE18*G18^2 + AF18*G18^3)+(AC18 + AD18*L18 + AE18*L18^2 + AF18*L18^3))/2 -> 4178.564 | S18: =((Y18 + Z18*G18 + AA18*G18^2 + AB18*G18^3)+(Y18 + Z18*L18 + AA18*L18^2 + AB18*L18^3))/2 -> 991.68662 | T18: =((AI18 + AJ18*H18)+(AI18 + AJ18*J18))/2 -> 1007.1327 | U18: =((AG18 + AH18*H18)+(AG18 + AH18*J18))/2 -> 1.1746064 | Y18: -144.24373 | Z18: 10.5287 | AA18: -0.031256926 | AB18: 2.9456116e-05 | AC18: 17554.454 | AD18: -125.69235 | AE18: 0.39362054 | AF18: -0.00041079636 | AG18: 2.306401 | AH18: -0.0037612753 | AI18: 995.1762 | AJ18: 0.039735 | AL18: -0.0073107128 | AM18: 2.552808 | AN18: 1.5829103
A19: 0.032 | B19: =A19/S19*3600*1000 -> 116.16964 | C19: 600 | D19: =E19/(0.02809*3600) -> 0.25671453 | E19: 25.96 | F19: 1.29 | G19: 315 | H19: 295 | I19: =O19*3600/(T19*U19*E19) -> 11.85405 | J19: 306.85465 | K19: =H19+I19 -> 306.85405 | L19: 314.24379 | M19: =G19-O19/(R19*A19) -> 314.24379 | N19: =G19-L19 -> 0.75621159 | O19: 101.1161 | P19: =O19/(Abmessung!B$17*Q19) -> 10.132117 | Q19: =((G19-J19)-(L19-H19))/LN((G19-J19)/(L19-H19)) -> 12.909048 | R19: =((AC19 + AD19*G19 +AE19*G19^2 + AF19*G19^3)+(AC19 + AD19*L19 + AE19*L19^2 + AF19*L19^3))/2 -> 4178.5635 | S19: =((Y19 + Z19*G19 + AA19*G19^2 + AB19*G19^3)+(Y19 + Z19*L19 + AA19*L19^2 + AB19*L19^3))/2 -> 991.65328 | T19: =((AI19 + AJ19*H19)+(AI19 + AJ19*J19))/2 -> 1007.1335 | U19: =((AG19 + AH19*H19)+(AG19 + AH19*J19))/2 -> 1.1745305 | Y19: -144.24373 | Z19: 10.5287 | AA19: -0.031256926 | AB19: 2.9456116e-05 | AC19: 17554.454 | AD19: -125.69235 | AE19: 0.39362054 | AF19: -0.00041079636 | AG19: 2.306401 | AH19: -0.0037612753 | AI19: 995.1762 | AJ19: 0.039735 | AL19: -0.0073107128 | AM19: 2.552808 | AN19: 1.5829103
A20: 0.038 | B20: =A20/S20*3600*1000 -> 137.95456 | C20: 600 | D20: =E20/(0.02809*3600) -> 0.25671453 | E20: 25.96 | F20: 1.29 | G20: 315 | H20: 295 | I20: =O20*3600/(T20*U20*E20) -> 11.935838 | J20: 306.93647 | K20: =H20+I20 -> 306.93584 | L20: 314.35888 | M20: =G20-O20/(R20*A20) -> 314.35888 | N20: =G20-L20 -> 0.64112054 | O20: 101.80059 | P20: =O20/(Abmessung!B$17*Q20) -> 10.210088 | Q20: =((G20-J20)-(L20-H20))/LN((G20-J20)/(L20-H20)) -> 12.897184 | R20: =((AC20 + AD20*G20 +AE20*G20^2 + AF20*G20^3)+(AC20 + AD20*L20 + AE20*L20^2 + AF20*L20^3))/2 -> 4178.5633 | S20: =((Y20 + Z20*G20 + AA20*G20^2 + AB20*G20^3)+(Y20 + Z20*L20 + AA20*L20^2 + AB20*L20^3))/2 -> 991.63084 | T20: =((AI20 + AJ20*H20)+(AI20 + AJ20*J20))/2 -> 1007.1352 | U20: =((AG20 + AH20*H20)+(AG20 + AH20*J20))/2 -> 1.1743766 | Y20: -144.24373 | Z20: 10.5287 | AA20: -0.031256926 | AB20: 2.9456116e-05 | AC20: 17554.454 | AD20: -125.69235 | AE20: 0.39362054 | AF20: -0.00041079636 | AG20: 2.306401 | AH20: -0.0037612753 | AI20: 995.1762 | AJ20: 0.039735 | AL20: -0.0073107128 | AM20: 2.552808 | AN20: 1.5829103
A21: 0.044 | B21: =A21/S21*3600*1000 -> 159.73946 | C21: 600 | D21: =E21/(0.02809*3600) -> 0.25671453 | E21: 25.96 | F21: 1.29 | G21: 315 | H21: 295 | I21: =O21*3600/(T21*U21*E21) -> 12.040543 | J21: 307.04118 | K21: =H21+I21 -> 307.04054 | L21: 314.44154 | M21: =G21-O21/(R21*A21) -> 314.44154 | N21: =G21-L21 -> 0.55845968 | O21: 102.6766 | P21: =O21/(Abmessung!B$17*Q21) -> 10.330377 | Q21: =((G21-J21)-(L21-H21))/LN((G21-J21)/(L21-H21)) -> 12.856696 | R21: =((AC21 + AD21*G21 +AE21*G21^2 + AF21*G21^3)+(AC21 + AD21*L21 + AE21*L21^2 + AF21*L21^3))/2 -> 4178.5632 | S21: =((Y21 + Z21*G21 + AA21*G21^2 + AB21*G21^3)+(Y21 + Z21*L21 + AA21*L21^2 + AB21*L21^3))/2 -> 991.61469 | T21: =((AI21 + AJ21*H21)+(AI21 + AJ21*J21))/2 -> 1007.1373 | U21: =((AG21 + AH21*H21)+(AG21 + AH21*J21))/2 -> 1.1741797 | Y21: -144.24373 | Z21: 10.5287 | AA21: -0.031256926 | AB21: 2.9456116e-05 | AC21: 17554.454 | AD21: -125.69235 | AE21: 0.39362054 | AF21: -0.00041079636 | AG21: 2.306401 | AH21: -0.0037612753 | AI21: 995.1762 | AJ21: 0.039735 | AL21: -0.0073107128 | AM21: 2.552808 | AN21: 1.5829103
A22: 0.05 | B22: =A22/S22*3600*1000 -> 181.52435 | C22: 600 | D22: =E22/(0.02809*3600) -> 0.25671453 | E22: 25.96 | F22: 1.29 | G22: 315 | H22: 295 | I22: =O22*3600/(T22*U22*E22) -> 12.158569 | J22: 307.15921 | K22: =H22+I22 -> 307.15857 | L22: 314.50383 | M22: =G22-O22/(R22*A22) -> 314.50383 | N22: =G22-L22 -> 0.49616918 | O22: 103.66371 | P22: =O22/(Abmessung!B$17*Q22) -> 10.476996 | Q22: =((G22-J22)-(L22-H22))/LN((G22-J22)/(L22-H22)) -> 12.798648 | R22: =((AC22 + AD22*G22 +AE22*G22^2 + AF22*G22^3)+(AC22 + AD22*L22 + AE22*L22^2 + AF22*L22^3))/2 -> 4178.5632 | S22: =((Y22 + Z22*G22 + AA22*G22^2 + AB22*G22^3)+(Y22 + Z22*L22 + AA22*L22^2 + AB22*L22^3))/2 -> 991.60251 | T22: =((AI22 + AJ22*H22)+(AI22 + AJ22*J22))/2 -> 1007.1396 | U22: =((AG22 + AH22*H22)+(AG22 + AH22*J22))/2 -> 1.1739577 | Y22: -144.24373 | Z22: 10.5287 | AA22: -0.031256926 | AB22: 2.9456116e-05 | AC22: 17554.454 | AD22: -125.69235 | AE22: 0.39362054 | AF22: -0.00041079636 | AG22: 2.306401 | AH22: -0.0037612753 | AI22: 995.1762 | AJ22: 0.039735 | AL22: -0.0073107128 | AM22: 2.552808 | AN22: 1.5829103
A23: 0.056 | B23: =A23/S23*3600*1000 -> 203.30922 | C23: 600 | D23: =E23/(0.02809*3600) -> 0.25671453 | E23: 25.96 | F23: 1.29 | G23: 315 | H23: 295 | I23: =O23*3600/(T23*U23*E23) -> 12.284717 | J23: 307.28535 | K23: =H23+I23 -> 307.28472 | L23: 314.55248 | M23: =G23-O23/(R23*A23) -> 314.55248 | N23: =G23-L23 -> 0.4475152 | O23: 104.71835 | P23: =O23/(Abmessung!B$17*Q23) -> 10.641401 | Q23: =((G23-J23)-(L23-H23))/LN((G23-J23)/(L23-H23)) -> 12.729111 | R23: =((AC23 + AD23*G23 +AE23*G23^2 + AF23*G23^3)+(AC23 + AD23*L23 + AE23*L23^2 + AF23*L23^3))/2 -> 4178.5632 | S23: =((Y23 + Z23*G23 + AA23*G23^2 + AB23*G23^3)+(Y23 + Z23*L23 + AA23*L23^2 + AB23*L23^3))/2 -> 991.59298 | T23: =((AI23 + AJ23*H23)+(AI23 + AJ23*J23))/2 -> 1007.1421 | U23: =((AG23 + AH23*H23)+(AG23 + AH23*J23))/2 -> 1.1737205 | Y23: -144.24373 | Z23: 10.5287 | AA23: -0.031256926 | AB23: 2.9456116e-05 | AC23: 17554.454 | AD23: -125.69235 | AE23: 0.39362054 | AF23: -0.00041079636 | AG23: 2.306401 | AH23: -0.0037612753 | AI23: 995.1762 | AJ23: 0.039735 | AL23: -0.0073107128 | AM23: 2.552808 | AN23: 1.5829103
A24: 0.062 | B24: =A24/S24*3600*1000 -> 225.09409 | C24: 600 | D24: =E24/(0.02809*3600) -> 0.25671453 | E24: 25.96 | F24: 1.29 | G24: 315 | H24: 295 | I24: =O24*3600/(T24*U24*E24) -> 12.416388 | J24: 307.41701 | K24: =H24+I24 -> 307.41639 | L24: 314.59155 | M24: =G24-O24/(R24*A24) -> 314.59155 | N24: =G24-L24 -> 0.40845456 | O24: 105.8187 | P24: =O24/(Abmessung!B$17*Q24) -> 10.819297 | Q24: =((G24-J24)-(L24-H24))/LN((G24-J24)/(L24-H24)) -> 12.651368 | R24: =((AC24 + AD24*G24 +AE24*G24^2 + AF24*G24^3)+(AC24 + AD24*L24 + AE24*L24^2 + AF24*L24^3))/2 -> 4178.5632 | S24: =((Y24 + Z24*G24 + AA24*G24^2 + AB24*G24^3)+(Y24 + Z24*L24 + AA24*L24^2 + AB24*L24^3))/2 -> 991.58533 | T24: =((AI24 + AJ24*H24)+(AI24 + AJ24*J24))/2 -> 1007.1447 | U24: =((AG24 + AH24*H24)+(AG24 + AH24*J24))/2 -> 1.1734729 | Y24: -144.24373 | Z24: 10.5287 | AA24: -0.031256926 | AB24: 2.9456116e-05 | AC24: 17554.454 | AD24: -125.69235 | AE24: 0.39362054 | AF24: -0.00041079636 | AG24: 2.306401 | AH24: -0.0037612753 | AI24: 995.1762 | AJ24: 0.039735 | AL24: -0.0073107128 | AM24: 2.552808 | AN24: 1.5829103
A25: 0.068 | B25: =A25/S25*3600*1000 -> 246.87896 | C25: 600 | D25: =E25/(0.02809*3600) -> 0.25671453 | E25: 25.96 | F25: 1.29 | G25: 315 | H25: 295 | I25: =O25*3600/(T25*U25*E25) -> 12.550781 | J25: 307.55138 | K25: =H25+I25 -> 307.55078 | L25: 314.62363 | M25: =G25-O25/(R25*A25) -> 314.62363 | N25: =G25-L25 -> 0.37636532 | O25: 106.94131 | P25: =O25/(Abmessung!B$17*Q25) -> 11.006316 | Q25: =((G25-J25)-(L25-H25))/LN((G25-J25)/(L25-H25)) -> 12.568331 | R25: =((AC25 + AD25*G25 +AE25*G25^2 + AF25*G25^3)+(AC25 + AD25*L25 + AE25*L25^2 + AF25*L25^3))/2 -> 4178.5632 | S25: =((Y25 + Z25*G25 + AA25*G25^2 + AB25*G25^3)+(Y25 + Z25*L25 + AA25*L25^2 + AB25*L25^3))/2 -> 991.57904 | T25: =((AI25 + AJ25*H25)+(AI25 + AJ25*J25))/2 -> 1007.1474 | U25: =((AG25 + AH25*H25)+(AG25 + AH25*J25))/2 -> 1.1732202 | Y25: -144.24373 | Z25: 10.5287 | AA25: -0.031256926 | AB25: 2.9456116e-05 | AC25: 17554.454 | AD25: -125.69235 | AE25: 0.39362054 | AF25: -0.00041079636 | AG25: 2.306401 | AH25: -0.0037612753 | AI25: 995.1762 | AJ25: 0.039735 | AL25: -0.0073107128 | AM25: 2.552808 | AN25: 1.5829103
A26: 0.074 | B26: =A26/S26*3600*1000 -> 268.66382 | C26: 600 | D26: =E26/(0.02809*3600) -> 0.25671453 | E26: 25.96 | F26: 1.29 | G26: 315 | H26: 295 | I26: =O26*3600/(T26*U26*E26) -> 12.687372 | J26: 307.68794 | K26: =H26+I26 -> 307.68737 | L26: 314.65046 | M26: =G26-O26/(R26*A26) -> 314.65046 | N26: =G26-L26 -> 0.34953754 | O26: 108.08179 | P26: =O26/(Abmessung!B$17*Q26) -> 11.20154 | Q26: =((G26-J26)-(L26-H26))/LN((G26-J26)/(L26-H26)) -> 12.480986 | R26: =((AC26 + AD26*G26 +AE26*G26^2 + AF26*G26^3)+(AC26 + AD26*L26 + AE26*L26^2 + AF26*L26^3))/2 -> 4178.5632 | S26: =((Y26 + Z26*G26 + AA26*G26^2 + AB26*G26^3)+(Y26 + Z26*L26 + AA26*L26^2 + AB26*L26^3))/2 -> 991.57377 | T26: =((AI26 + AJ26*H26)+(AI26 + AJ26*J26))/2 -> 1007.1501 | U26: =((AG26 + AH26*H26)+(AG26 + AH26*J26))/2 -> 1.1729634 | Y26: -144.24373 | Z26: 10.5287 | AA26: -0.031256926 | AB26: 2.9456116e-05 | AC26: 17554.454 | AD26: -125.69235 | AE26: 0.39362054 | AF26: -0.00041079636 | AG26: 2.306401 | AH26: -0.0037612753 | AI26: 995.1762 | AJ26: 0.039735 | AL26: -0.0073107128 | AM26: 2.552808 | AN26: 1.5829103
... A110: 0.074 | B110: =A110/S110*3600*1000 -> 268.47055 | C110: 3000 | D110: =E110/(0.02809*3600) -> 2.6502116 | E110: 268 | F110: 22.74 | G110: 315 | H110: 295 | I110: =O110*3600/(T110*U110*E110) -> 14.515822 | J110: 309.51494 | K110: =H110+I110 -> 309.51582 | L110: 310.88348 | M110: =G110-O110/(R110*A110) -> 310.88348 | N110: =G110-L110 -> 4.11652 | O110: 1272.8998 | P110: =O110/(Abmessung!B$17*Q110) -> 168.35925 | Q110: =((G110-J110)-(L110-H110))/LN((G110-J110)/(L110-H110)) -> 9.7798306 | R110: =((AC110 + AD110*G110 +AE110*G110^2 + AF110*G110^3)+(AC110 + AD110*L110 + AE110*L110^2 + AF110*L110^3))/2 -> 4178.6141 | S110: =((Y110 + Z110*G110 + AA110*G110^2 + AB110*G110^3)+(Y110 + Z110*L110 + AA110*L110^2 + AB110*L110^3))/2 -> 992.2876 | T110: =((AI110 + AJ110*H110)+(AI110 + AJ110*J110))/2 -> 1007.1864 | U110: =((AG110 + AH110*H110)+(AG110 + AH110*J110))/2 -> 1.1695274 | Y110: -144.24373 | Z110: 10.5287 | AA110: -0.031256926 | AB110: 2.9456116e-05 | AC110: 17554.454 | AD110: -125.69235 | AE110: 0.39362054 | AF110: -0.00041079636 | AG110: 2.306401 | AH110: -0.0037612753 | AI110: 995.1762 | AJ110: 0.039735 | AL110: -0.0073107128 | AM110: 2.552808 | AN110: 1.5829103
A114: 29 | D114: 50.8 | G114: 72.5 | J114: 94.4 | M114: 116.1 | O114: 137.9 | Q114: 159.7 | S114: 181.4
A115: 0.008 | D115: 0.014 | G115: 0.02 | J115: 0.026 | M115: 0.032 | O115: 0.038 | Q115: 0.044 | S115: 0.05
A118: rpm | B118: W | C118: K/W | D118: rpm | E118: W | F118: K/W | G118: rpm | H118: W | I118: K/W | J118: rpm | K118: W | L118: K/W | M118: W | N118: K/W | O118: W | P118: K/W | Q118: W | R118: K/W | S118: W | T118: K/W
A121: 0 | B121: =($Y$195 - $Z$195*EXP(-$AA$195*A121^$AB$195))*1.015 -> 24.443861 | C121: =20/B121 -> 0.81820136
A122: 5 | B122: =($Y$195 - $Z$195*EXP(-$AA$195*A122^$AB$195))*1.015 -> 24.445829 | C122: =20/B122 -> 0.81813547
A123: 10 | B123: =($Y$195 - $Z$195*EXP(-$AA$195*A123^$AB$195))*1.015 -> 24.453297 | C123: =20/B123 -> 0.81788563
A124: 15 | B124: =($Y$195 - $Z$195*EXP(-$AA$195*A124^$AB$195))*1.015 -> 24.467462 | C124: =20/B124 -> 0.81741212
A125: 20 | B125: =($Y$195 - $Z$195*EXP(-$AA$195*A125^$AB$195))*1.015 -> 24.48909 | C125: =20/B125 -> 0.81669021
A126: 25 | B126: =($Y$195 - $Z$195*EXP(-$AA$195*A126^$AB$195))*1.015 -> 24.518768 | C126: =20/B126 -> 0.81570166 | D126: 0 | E126: =33.6285863912247+ (-0.0201357947266413)*D126 + 0.000259780422198538*D126^2 -> 33.628586 | F126: =20/E126 -> 0.59473211
A127: 30 | B127: =($Y$195 - $Z$195*EXP(-$AA$195*A127^$AB$195))*1.015 -> 24.556981 | C127: =20/B127 -> 0.81443235 | D127: 5 | E127: =33.6285863912247+ (-0.0201357947266413)*D127 + 0.000259780422198538*D127^2 -> 33.534402 | F127: =20/E127 -> 0.59640247
A128: 35 | B128: =($Y$195 - $Z$195*EXP(-$AA$195*A128^$AB$195))*1.015 -> 24.604145 | C128: =20/B128 -> 0.81287117 | D128: 10 | E128: =33.6285863912247+ (-0.0201357947266413)*D128 + 0.000259780422198538*D128^2 -> 33.453206 | F128: =20/E128 -> 0.59785002 | G128: 0 | H128: =39.4467430290329+ (-0.0257035847842559)*G128 + 0.00025743306559712*G128^2 -> 39.446743 | I128: =20/H128 -> 0.50701271
A129: 40 | B129: =($Y$195 - $Z$195*EXP(-$AA$195*A129^$AB$195))*1.015 -> 24.660625 | C129: =20/B129 -> 0.81100945 | D129: 15 | E129: =33.6285863912247+ (-0.0201357947266413)*D129 + 0.000259780422198538*D129^2 -> 33.385 | F129: =20/E129 -> 0.59907144 | G129: 5 | H129: =39.4467430290329+ (-0.0257035847842559)*G129 + 0.00025743306559712*G129^2 -> 39.324661 | I129: =20/H129 -> 0.50858671
A130: 45 | B130: =($Y$195 - $Z$195*EXP(-$AA$195*A130^$AB$195))*1.015 -> 24.72675 | C130: =20/B130 -> 0.80884063 | D130: 20 | E130: =33.6285863912247+ (-0.0201357947266413)*D130 + 0.000259780422198538*D130^2 -> 33.329783 | F130: =20/E130 -> 0.60006392 | G130: 10 | H130: =39.4467430290329+ (-0.0257035847842559)*G130 + 0.00025743306559712*G130^2 -> 39.21545 | I130: =20/H130 -> 0.51000307
A131: 50 | B131: =($Y$195 - $Z$195*EXP(-$AA$195*A131^$AB$195))*1.015 -> 24.802817 | C131: =20/B131 -> 0.80636002 | D131: 25 | E131: =33.6285863912247+ (-0.0201357947266413)*D131 + 0.000259780422198538*D131^2 -> 33.287554 | F131: =20/E131 -> 0.60082516 | G131: 15 | H131: =39.4467430290329+ (-0.0257035847842559)*G131 + 0.00025743306559712*G131^2 -> 39.119112 | I131: =20/H131 -> 0.51125905 | J131: 0 | K131: 42.274463 | L131: =20/K131 -> 0.47309886 | M131: 43.677794 | N131: =20/M131 -> 0.45789858 | O131: =($AS$195 - $AT$195*EXP(-$AU$195*J131^$AV$195))*1.43 -> 45.87097 | P131: =20/O131 -> 0.43600561 | Q131: =($AW$195 - $AX$195*EXP(-$AY$195*J131^$AZ$195))*1.45 -> 47.252542 | R131: =20/Q131 -> 0.42325765 | S131: =($BA$195 - $BB$195*EXP(-$BC$195*J131^$BD$195))*1.47 -> 48.574785 | T131: =20/S131 -> 0.41173625
A132: 100 | B132: =($Y$195 - $Z$195*EXP(-$AA$195*A132^$AB$195))*1.015 -> 26.161983 | C132: =20/B132 -> 0.76446805 | D132: 75 | E132: =33.6285863912247+ (-0.0201357947266413)*D132 + 0.000259780422198538*D132^2 -> 33.579667 | F132: =20/E132 -> 0.59559853 | G132: 65 | H132: =39.4467430290329+ (-0.0257035847842559)*G132 + 0.00025743306559712*G132^2 -> 38.863665 | I132: =20/H132 -> 0.51461951 | J132: 50 | K132: 43.467172 | L132: =20/K132 -> 0.46011735 | M132: 45.292084 | N132: =20/M132 -> 0.44157827 | O132: =($AS$195 - $AT$195*EXP(-$AU$195*J132^$AV$195))*1.43 -> 46.297979 | P132: =20/O132 -> 0.4319843 | Q132: =($AW$195 - $AX$195*EXP(-$AY$195*J132^$AZ$195))*1.45 -> 47.717166 | R132: =20/Q132 -> 0.41913638 | S132: =($BA$195 - $BB$195*EXP(-$BC$195*J132^$BD$195))*1.47 -> 49.079284 | T132: =20/S132 -> 0.40750391
A133: 150 | B133: =($Y$195 - $Z$195*EXP(-$AA$195*A133^$AB$195))*1.015 -> 28.729375 | C133: =20/B133 -> 0.69615159 | D133: 125 | E133: =33.6285863912247+ (-0.0201357947266413)*D133 + 0.000259780422198538*D133^2 -> 35.170681 | F133: =20/E133 -> 0.56865546 | G133: 115 | H133: =39.4467430290329+ (-0.0257035847842559)*G133 + 0.00025743306559712*G133^2 -> 39.895383 | I133: =20/H133 -> 0.50131114 | J133: 100 | K133: 45.061992 | L133: =20/K133 -> 0.44383302 | M133: 47.167485 | N133: =20/M133 -> 0.42402091 | O133: =($AS$195 - $AT$195*EXP(-$AU$195*J133^$AV$195))*1.43 -> 48.008403 | P133: =20/O133 -> 0.41659373 | Q133: =($AW$195 - $AX$195*EXP(-$AY$195*J133^$AZ$195))*1.45 -> 49.539562 | R133: =20/Q133 -> 0.40371774 | S133: =($BA$195 - $BB$195*EXP(-$BC$195*J133^$BD$195))*1.47 -> 51.017327 | T133: =20/S133 -> 0.39202367
A134: 200 | B134: =($Y$195 - $Z$195*EXP(-$AA$195*A134^$AB$195))*1.015 -> 32.622106 | C134: =20/B134 -> 0.61308121 | D134: 175 | E134: =33.6285863912247+ (-0.0201357947266413)*D134 + 0.000259780422198538*D134^2 -> 38.060598 | F134: =20/E134 -> 0.52547782 | G134: 165 | H134: =39.4467430290329+ (-0.0257035847842559)*G134 + 0.00025743306559712*G134^2 -> 42.214267 | I134: =20/H134 -> 0.47377348 | J134: 150 | K134: 47.226123 | L134: =20/K134 -> 0.42349443 | M134: 49.492554 | N134: =20/M134 -> 0.40410119 | O134: =($AS$195 - $AT$195*EXP(-$AU$195*J134^$AV$195))*1.43 -> 51.349682 | P134: =20/O134 -> 0.38948635 | Q134: =($AW$195 - $AX$195*EXP(-$AY$195*J134^$AZ$195))*1.45 -> 53.057569 | R134: =20/Q134 -> 0.37694904 | S134: =($BA$195 - $BB$195*EXP(-$BC$195*J134^$BD$195))*1.47 -> 54.714974 | T134: =20/S134 -> 0.36553065
A135: 250 | B135: =($Y$195 - $Z$195*EXP(-$AA$195*A135^$AB$195))*1.015 -> 37.910612 | C135: =20/B135 -> 0.52755677 | D135: 225 | E135: =33.6285863912247+ (-0.0201357947266413)*D135 + 0.000259780422198538*D135^2 -> 42.249416 | F135: =20/E135 -> 0.47337932 | G135: 215 | H135: =39.4467430290329+ (-0.0257035847842559)*G135 + 0.00025743306559712*G135^2 -> 45.820316 | I135: =20/H135 -> 0.43648761 | J135: 200 | K135: 50.126769 | L135: =20/K135 -> 0.39898841 | M135: 52.455849 | N135: =20/M135 -> 0.38127302 | O135: =($AS$195 - $AT$195*EXP(-$AU$195*J135^$AV$195))*1.43 -> 56.543557 | P135: =20/O135 -> 0.35370962 | Q135: =($AW$195 - $AX$195*EXP(-$AY$195*J135^$AZ$195))*1.45 -> 58.482972 | R135: =20/Q135 -> 0.34197988 | S135: =($BA$195 - $BB$195*EXP(-$BC$195*J135^$BD$195))*1.47 -> 60.372899 | T135: =20/S135 -> 0.33127447
A136: 300 | B136: =($Y$195 - $Z$195*EXP(-$AA$195*A136^$AB$195))*1.015 -> 44.630446 | C136: =20/B136 -> 0.44812459 | D136: 275 | E136: =33.6285863912247+ (-0.0201357947266413)*D136 + 0.000259780422198538*D136^2 -> 47.737137 | F136: =20/E136 -> 0.41896103 | G136: 265 | H136: =39.4467430290329+ (-0.0257035847842559)*G136 + 0.00025743306559712*G136^2 -> 50.71353 | I136: =20/H136 -> 0.39437207 | J136: 250 | K136: 53.931132 | L136: =20/K136 -> 0.37084332 | M136: 56.245925 | N136: =20/M136 -> 0.35558131 | O136: =($AS$195 - $AT$195*EXP(-$AU$195*J136^$AV$195))*1.43 -> 63.751794 | P136: =20/O136 -> 0.31371666 | Q136: =($AW$195 - $AX$195*EXP(-$AY$195*J136^$AZ$195))*1.45 -> 65.968451 | R136: =20/Q136 -> 0.30317522 | S136: =($BA$195 - $BB$195*EXP(-$BC$195*J136^$BD$195))*1.47 -> 68.133945 | T136: =20/S136 -> 0.29353944
A137: 350 | B137: =($Y$195 - $Z$195*EXP(-$AA$195*A137^$AB$195))*1.015 -> 52.787353 | C137: =20/B137 -> 0.37887863 | D137: 325 | E137: =33.6285863912247+ (-0.0201357947266413)*D137 + 0.000259780422198538*D137^2 -> 54.52376 | F137: =20/E137 -> 0.36681256 | G137: 315 | H137: =39.4467430290329+ (-0.0257035847842559)*G137 + 0.00025743306559712*G137^2 -> 56.89391 | I137: =20/H137 -> 0.35153147 | J137: 300 | K137: 58.806415 | L137: =20/K137 -> 0.34009895 | M137: 61.05134 | N137: =20/M137 -> 0.32759314 | O137: =($AS$195 - $AT$195*EXP(-$AU$195*J137^$AV$195))*1.35 -> 69.005625 | P137: =20/O137 -> 0.28983145 | Q137: =($AW$195 - $AX$195*EXP(-$AY$195*J137^$AZ$195))*1.35 -> 70.410852 | R137: =20/Q137 -> 0.28404712 | S137: =($BA$195 - $BB$195*EXP(-$BC$195*J137^$BD$195))*1.33 -> 70.663733 | T137: =20/S137 -> 0.28303062
A138: 400 | B138: =($Y$195 - $Z$195*EXP(-$AA$195*A138^$AB$195))*1.015 -> 62.360155 | C138: =20/B138 -> 0.32071761 | D138: 375 | E138: =33.6285863912247+ (-0.0201357947266413)*D138 + 0.000259780422198538*D138^2 -> 62.609285 | F138: =20/E138 -> 0.31944144 | G138: 365 | H138: =39.4467430290329+ (-0.0257035847842559)*G138 + 0.00025743306559712*G138^2 -> 64.361455 | I138: =20/H138 -> 0.310745 | J138: 350 | K138: 64.919819 | L138: =20/K138 -> 0.30807233 | M138: 67.060651 | N138: =20/M138 -> 0.29823749 | O138: =($AS$195 - $AT$195*EXP(-$AU$195*J138^$AV$195))*1.2 -> 71.043304 | P138: =20/O138 -> 0.28151844 | Q138: =($AW$195 - $AX$195*EXP(-$AY$195*J138^$AZ$195))*1.2 -> 72.444817 | R138: =20/Q138 -> 0.2760722 | S138: =($BA$195 - $BB$195*EXP(-$BC$195*J138^$BD$195))*1.19 -> 73.140751 | T138: =20/S138 -> 0.27344538
A139: 450 | B139: =($Y$195 - $Z$195*EXP(-$AA$195*A139^$AB$195))*1.015 -> 73.302861 | C139: =20/B139 -> 0.27284065 | D139: 425 | E139: =33.6285863912247+ (-0.0201357947266413)*D139 + 0.000259780422198538*D139^2 -> 71.993712 | F139: =20/E139 -> 0.27780204 | G139: 415 | H139: =39.4467430290329+ (-0.0257035847842559)*G139 + 0.00025743306559712*G139^2 -> 73.116165 | I139: =20/H139 -> 0.27353732 | J139: 400 | K139: 72.438549 | L139: =20/K139 -> 0.27609609 | M139: 74.462413 | N139: =20/M139 -> 0.26859189 | O139: =($AS$195 - $AT$195*EXP(-$AU$195*J139^$AV$195))*1.1 -> 75.773225 | P139: =20/O139 -> 0.26394548 | Q139: =($AW$195 - $AX$195*EXP(-$AY$195*J139^$AZ$195))*1.1 -> 77.192841 | R139: =20/Q139 -> 0.25909138 | S139: =($BA$195 - $BB$195*EXP(-$BC$195*J139^$BD$195))*1.1 -> 78.515843 | T139: =20/S139 -> 0.25472566
A140: 500 | B140: =($Y$195 - $Z$195*EXP(-$AA$195*A140^$AB$195))*1.015 -> 85.546625 | C140: =20/B140 -> 0.23379064 | D140: 475 | E140: 83.708881 | F140: =20/E140 -> 0.23892327 | G140: 465 | H140: =39.4467430290329+ (-0.0257035847842559)*G140 + 0.00025743306559712*G140^2 -> 83.158041 | I140: =20/H140 -> 0.24050591 | J140: 450 | K140: 81.529806 | L140: =20/K140 -> 0.24530906 | M140: 83.445185 | N140: =20/M140 -> 0.2396783 | O140: =($AS$195 - $AT$195*EXP(-$AU$195*J140^$AV$195))*1.02 -> 81.786905 | P140: =20/O140 -> 0.24453792 | Q140: =($AW$195 - $AX$195*EXP(-$AY$195*J140^$AZ$195))*1.02 -> 83.220771 | R140: =20/Q140 -> 0.24032462 | S140: =($BA$195 - $BB$195*EXP(-$BC$195*J140^$BD$195))*1.015 -> 84.135294 | T140: =20/S140 -> 0.23771237
A141: 550 | B141: =($Y$195 - $Z$195*EXP(-$AA$195*A141^$AB$195))*1.015 -> 99.001777 | C141: =20/B141 -> 0.20201658 | D141: 525 | E141: 96.58912 | F141: =20/E141 -> 0.20706266 | G141: 515 | H141: 96.092428 | I141: =20/H141 -> 0.20813295 | J141: 500 | K141: 92.360792 | L141: =20/K141 -> 0.2165421 | M141: 94.197522 | N141: =20/M141 -> 0.21231981 | O141: =($AS$195 - $AT$195*EXP(-$AU$195*J141^$AV$195))*1.02 -> 94.96466 | P141: =20/O141 -> 0.21060466 | Q141: =($AW$195 - $AX$195*EXP(-$AY$195*J141^$AZ$195))*1.02 -> 96.506628 | R141: =20/Q141 -> 0.20723965 | S141: =($BA$195 - $BB$195*EXP(-$BC$195*J141^$BD$195))*1.015 -> 97.445056 | T141: =20/S141 -> 0.20524387
A142: 600 | B142: =($Y$195 - $Z$195*EXP(-$AA$195*A142^$AB$195))*1.015 -> 113.56008 | C142: =20/B142 -> 0.17611823 | D142: 575 | E142: =($AC$195 - $AD$195*EXP(-$AE$195*D142^$AF$195))*1.022 -> 110.54084 | F142: =20/E142 -> 0.1809286 | G142: 565 | H142: 110.08242 | I142: =20/H142 -> 0.18168205 | J142: 550 | K142: =($AK$195 - $AL$195*EXP(-$AM$195*J142^$AN$195))*1.02 -> 106.11152 | L142: =20/K142 -> 0.18848095 | M142: =($AO$195 - $AP$195*EXP(-$AQ$195*J142^$AR$195))*1.02 -> 107.99885 | N142: =20/M142 -> 0.18518715 | O142: =($AS$195 - $AT$195*EXP(-$AU$195*J142^$AV$195))*1.02 -> 109.78307 | P142: =20/O142 -> 0.18217745 | Q142: =($AW$195 - $AX$195*EXP(-$AY$195*J142^$AZ$195))*1.02 -> 111.42328 | R142: =20/Q142 -> 0.1794957 | S142: =($BA$195 - $BB$195*EXP(-$BC$195*J142^$BD$195))*1.015 -> 112.36409 | T142: =20/S142 -> 0.17799281
A143: 650 | B143: =($Y$195 - $Z$195*EXP(-$AA$195*A143^$AB$195))*1.015 -> 129.09722 | C143: =20/B143 -> 0.154922 | D143: 625 | E143: =($AC$195 - $AD$195*EXP(-$AE$195*D143^$AF$195))*1.022 -> 126.7238 | F143: =20/E143 -> 0.15782355 | G143: 615 | H143: 125.67418 | I143: =20/H143 -> 0.15914168 | J143: 600 | K143: =($AK$195 - $AL$195*EXP(-$AM$195*J143^$AN$195))*1.02 -> 122.2511 | L143: =20/K143 -> 0.16359771 | M143: =($AO$195 - $AP$195*EXP(-$AQ$195*J143^$AR$195))*1.02 -> 124.30593 | N143: =20/M143 -> 0.16089337 | O143: =($AS$195 - $AT$195*EXP(-$AU$195*J143^$AV$195))*1.02 -> 126.21313 | P143: =20/O143 -> 0.15846212 | Q143: =($AW$195 - $AX$195*EXP(-$AY$195*J143^$AZ$195))*1.02 -> 127.94261 | R143: =20/Q143 -> 0.15632009 | S143: =($BA$195 - $BB$195*EXP(-$BC$195*J143^$BD$195))*1.015 -> 128.86478 | T143: =20/S143 -> 0.15520144
A144: 700 | B144: =($Y$195 - $Z$195*EXP(-$AA$195*A144^$AB$195))*1.015 -> 145.47557 | C144: =20/B144 -> 0.13748013 | D144: 675 | E144: =($AC$195 - $AD$195*EXP(-$AE$195*D144^$AF$195))*1.022 -> 144.14642 | F144: =20/E144 -> 0.13874781 | G144: 665 | H144: =($AG$195 - $AH$195*EXP(-$AI$195*G144^$AJ$195))*1.02 -> 143.00896 | I144: =20/H144 -> 0.13985137 | J144: 650 | K144: =($AK$195 - $AL$195*EXP(-$AM$195*J144^$AN$195))*1.02 -> 139.92831 | L144: =20/K144 -> 0.14293033 | M144: =($AO$195 - $AP$195*EXP(-$AQ$195*J144^$AR$195))*1.02 -> 142.17634 | N144: =20/M144 -> 0.14067038 | O144: =($AS$195 - $AT$195*EXP(-$AU$195*J144^$AV$195))*1.02 -> 144.21015 | P144: =20/O144 -> 0.13868649 | Q144: =($AW$195 - $AX$195*EXP(-$AY$195*J144^$AZ$195))*1.02 -> 146.02213 | R144: =20/Q144 -> 0.13696554 | S144: =($BA$195 - $BB$195*EXP(-$BC$195*J144^$BD$195))*1.015 -> 146.90648 | T144: =20/S144 -> 0.13614104
A145: 750 | B145: =($Y$195 - $Z$195*EXP(-$AA$195*A145^$AB$195))*1.015 -> 162.54711 | C145: =20/B145 -> 0.12304125 | D145: 725 | E145: =($AC$195 - $AD$195*EXP(-$AE$195*D145^$AF$195))*1.022 -> 162.70001 | F145: =20/E145 -> 0.12292562 | G145: 715 | H145: =($AG$195 - $AH$195*EXP(-$AI$195*G145^$AJ$195))*1.02 -> 162.15216 | I145: =20/H145 -> 0.12334094 | J145: 700 | K145: =($AK$195 - $AL$195*EXP(-$AM$195*J145^$AN$195))*1.02 -> 159.07179 | L145: =20/K145 -> 0.1257294 | M145: =($AO$195 - $AP$195*EXP(-$AQ$195*J145^$AR$195))*1.02 -> 161.54581 | N145: =20/M145 -> 0.1238039 | O145: =($AS$195 - $AT$195*EXP(-$AU$195*J145^$AV$195))*1.02 -> 163.7146 | P145: =20/O145 -> 0.12216382 | Q145: =($AW$195 - $AX$195*EXP(-$AY$195*J145^$AZ$195))*1.02 -> 165.60582 | R145: =20/Q145 -> 0.1207687 | S145: =($BA$195 - $BB$195*EXP(-$BC$195*J145^$BD$195))*1.015 -> 166.43619 | T145: =20/S145 -> 0.12016617
A146: 800 | B146: =($Y$195 - $Z$195*EXP(-$AA$195*A146^$AB$195))*1.015 -> 180.15653 | C146: =20/B146 -> 0.11101457 | D146: 775 | E146: =($AC$195 - $AD$195*EXP(-$AE$195*D146^$AF$195))*1.022 -> 182.26291 | F146: =20/E146 -> 0.1097316 | G146: 765 | H146: =($AG$195 - $AH$195*EXP(-$AI$195*G146^$AJ$195))*1.02 -> 182.54521 | I146: =20/H146 -> 0.1095619 | J146: 750 | K146: =($AK$195 - $AL$195*EXP(-$AM$195*J146^$AN$195))*1.02 -> 179.59399 | L146: =20/K146 -> 0.1113623 | M146: =($AO$195 - $AP$195*EXP(-$AQ$195*J146^$AR$195))*1.02 -> 182.33482 | N146: =20/M146 -> 0.10968832 | O146: =($AS$195 - $AT$195*EXP(-$AU$195*J146^$AV$195))*1.02 -> 184.65293 | P146: =20/O146 -> 0.10831131 | Q146: =($AW$195 - $AX$195*EXP(-$AY$195*J146^$AZ$195))*1.02 -> 186.62483 | R146: =20/Q146 -> 0.10716688 | S146: =($BA$195 - $BB$195*EXP(-$BC$195*J146^$BD$195))*1.015 -> 187.38933 | T146: =20/S146 -> 0.10672966
A147: 850 | B147: =($Y$195 - $Z$195*EXP(-$AA$195*A147^$AB$195))*1.015 -> 198.14443 | C147: =20/B147 -> 0.10093647 | D147: 825 | E147: =($AC$195 - $AD$195*EXP(-$AE$195*D147^$AF$195))*1.022 -> 202.70251 | F147: =20/E147 -> 0.09866676 | G147: 815 | H147: =($AG$195 - $AH$195*EXP(-$AI$195*G147^$AJ$195))*1.02 -> 204.07037 | I147: =20/H147 -> 0.098005407 | J147: 800 | K147: =($AK$195 - $AL$195*EXP(-$AM$195*J147^$AN$195))*1.02 -> 201.39251 | L147: =20/K147 -> 0.099308559 | M147: =($AO$195 - $AP$195*EXP(-$AQ$195*J147^$AR$195))*1.02 -> 204.4498 | N147: =20/M147 -> 0.097823526 | O147: =($AS$195 - $AT$195*EXP(-$AU$195*J147^$AV$195))*1.02 -> 206.93858 | P147: =20/O147 -> 0.096647033 | Q147: =($AW$195 - $AX$195*EXP(-$AY$195*J147^$AZ$195))*1.02 -> 208.99841 | R147: =20/Q147 -> 0.095694507 | S147: =($BA$195 - $BB$195*EXP(-$BC$195*J147^$BD$195))*1.015 -> 209.69051 | T147: =20/S147 -> 0.095378661
A148: 900 | B148: =($Y$195 - $Z$195*EXP(-$AA$195*A148^$AB$195))*1.015 -> 216.35046 | C148: =20/B148 -> 0.092442604 | D148: 875 | E148: =($AC$195 - $AD$195*EXP(-$AE$195*D148^$AF$195))*1.022 -> 223.87746 | F148: =20/E148 -> 0.089334586 | G148: 865 | H148: =($AG$195 - $AH$195*EXP(-$AI$195*G148^$AJ$195))*1.02 -> 226.59755 | I148: =20/H148 -> 0.088262206 | J148: 850 | K148: =($AK$195 - $AL$195*EXP(-$AM$195*J148^$AN$195))*1.02 -> 224.35151 | L148: =20/K148 -> 0.089145821 | M148: =($AO$195 - $AP$195*EXP(-$AQ$195*J148^$AR$195))*1.02 -> 227.7843 | N148: =20/M148 -> 0.087802366 | O148: =($AS$195 - $AT$195*EXP(-$AU$195*J148^$AV$195))*1.02 -> 230.47308 | P148: =20/O148 -> 0.086778031 | Q148: =($AW$195 - $AX$195*EXP(-$AY$195*J148^$AZ$195))*1.02 -> 232.63491 | R148: =20/Q148 -> 0.085971621 | S148: =($BA$195 - $BB$195*EXP(-$BC$195*J148^$BD$195))*1.015 -> 233.25439 | T148: =20/S148 -> 0.085743297
A149: 950 | B149: =($Y$195 - $Z$195*EXP(-$AA$195*A149^$AB$195))*1.015 -> 234.61644 | C149: =20/B149 -> 0.085245519 | D149: 925 | E149: =($AC$195 - $AD$195*EXP(-$AE$195*D149^$AF$195))*1.022 -> 245.63995 | F149: =20/E149 -> 0.081419981 | G149: 915 | H149: =($AG$195 - $AH$195*EXP(-$AI$195*G149^$AJ$195))*1.02 -> 249.98628 | I149: =20/H149 -> 0.080004389 | J149: 900 | K149: =($AK$195 - $AL$195*EXP(-$AM$195*J149^$AN$195))*1.02 -> 248.34342 | L149: =20/K149 -> 0.080533641 | M149: =($AO$195 - $AP$195*EXP(-$AQ$195*J149^$AR$195))*1.02 -> 252.22045 | N149: =20/M149 -> 0.079295711 | O149: =($AS$195 - $AT$195*EXP(-$AU$195*J149^$AV$195))*1.02 -> 255.14724 | P149: =20/O149 -> 0.07838611 | Q149: =($AW$195 - $AX$195*EXP(-$AY$195*J149^$AZ$195))*1.02 -> 257.43277 | R149: =20/Q149 -> 0.077690187 | S149: =($BA$195 - $BB$195*EXP(-$BC$195*J149^$BD$195))*1.015 -> 257.98662 | T149: =20/S149 -> 0.077523401
A150: 1000 | B150: =($Y$195 - $Z$195*EXP(-$AA$195*A150^$AB$195))*1.015 -> 252.78926 | C150: =20/B150 -> 0.079117285 | D150: 975 | E150: =($AC$195 - $AD$195*EXP(-$AE$195*D150^$AF$195))*1.022 -> 267.83811 | F150: =20/E150 -> 0.074671973 | G150: 965 | H150: =($AG$195 - $AH$195*EXP(-$AI$195*G150^$AJ$195))*1.02 -> 274.08789 | I150: =20/H150 -> 0.072969296 | J150: 950 | K150: =($AK$195 - $AL$195*EXP(-$AM$195*J150^$AN$195))*1.02 -> 273.23069 | L150: =20/K150 -> 0.073198218 | M150: =($AO$195 - $AP$195*EXP(-$AQ$195*J150^$AR$195))*1.02 -> 277.63051 | N150: =20/M150 -> 0.072038192 | O150: =($AS$195 - $AT$195*EXP(-$AU$195*J150^$AV$195))*1.02 -> 280.84253 | P150: =20/O150 -> 0.071214285 | Q150: =($AW$195 - $AX$195*EXP(-$AY$195*J150^$AZ$195))*1.02 -> 283.28175 | R150: =20/Q150 -> 0.070601088 | S150: =($BA$195 - $BB$195*EXP(-$BC$195*J150^$BD$195))*1.015 -> 283.78485 | T150: =20/S150 -> 0.070475925
A151: 1050 | B151: =($Y$195 - $Z$195*EXP(-$AA$195*A151^$AB$195))*1.015 -> 270.72361 | C151: =20/B151 -> 0.073876082 | D151: 1025 | E151: =($AC$195 - $AD$195*EXP(-$AE$195*D151^$AF$195))*1.022 -> 290.31838 | F151: =20/E151 -> 0.068889886 | G151: 1015 | H151: =($AG$195 - $AH$195*EXP(-$AI$195*G151^$AJ$195))*1.02 -> 298.7477 | I151: =20/H151 -> 0.066946122 | J151: 1000 | K151: =($AK$195 - $AL$195*EXP(-$AM$195*J151^$AN$195))*1.02 -> 298.86776 | L151: =20/K151 -> 0.066919229 | M151: =($AO$195 - $AP$195*EXP(-$AQ$195*J151^$AR$195))*1.02 -> 303.87849 | N151: =20/M151 -> 0.06581578 | O151: =($AS$195 - $AT$195*EXP(-$AU$195*J151^$AV$195))*1.02 -> 307.43244 | P151: =20/O151 -> 0.065054943 | Q151: =($AW$195 - $AX$195*EXP(-$AY$195*J151^$AZ$195))*1.02 -> 310.06411 | R151: =20/Q151 -> 0.064502789 | S151: =($BA$195 - $BB$195*EXP(-$BC$195*J151^$BD$195))*1.015 -> 310.53981 | T151: =20/S151 -> 0.064403982
A152: 1100 | B152: =($Y$195 - $Z$195*EXP(-$AA$195*A152^$AB$195))*1.015 -> 288.28437 | C152: =20/B152 -> 0.069375943 | D152: 1075 | E152: =($AC$195 - $AD$195*EXP(-$AE$195*D152^$AF$195))*1.022 -> 312.92788 | F152: =20/E152 -> 0.063912491 | G152: 1065 | H152: =($AG$195 - $AH$195*EXP(-$AI$195*G152^$AJ$195))*1.02 -> 323.80742 | I152: =20/H152 -> 0.061765107 | J152: 1050 | K152: =($AK$195 - $AL$195*EXP(-$AM$195*J152^$AN$195))*1.02 -> 325.10306 | L152: =20/K152 -> 0.061518953 | M152: =($AO$195 - $AP$195*EXP(-$AQ$195*J152^$AR$195))*1.02 -> 330.82193 | N152: =20/M152 -> 0.060455485 | O152: =($AS$195 - $AT$195*EXP(-$AU$195*J152^$AV$195))*1.02 -> 334.78405 | P152: =20/O152 -> 0.059740003 | Q152: =($AW$195 - $AX$195*EXP(-$AY$195*J152^$AZ$195))*1.02 -> 337.65594 | R152: =20/Q152 -> 0.059231891 | S152: =($BA$195 - $BB$195*EXP(-$BC$195*J152^$BD$195))*1.015 -> 338.13637 | T152: =20/S152 -> 0.059147734
A153: 1150 | B153: =($Y$195 - $Z$195*EXP(-$AA$195*A153^$AB$195))*1.015 -> 305.34861 | C153: =20/B153 -> 0.065498907 | D153: 1125 | E153: =($AC$195 - $AD$195*EXP(-$AE$195*D153^$AF$195))*1.022 -> 335.51669 | F153: =20/E153 -> 0.059609553 | G153: 1115 | H153: =($AG$195 - $AH$195*EXP(-$AI$195*G153^$AJ$195))*1.02 -> 349.10742 | I153: =20/H153 -> 0.057288957 | J153: 1100 | K153: =($AK$195 - $AL$195*EXP(-$AM$195*J153^$AN$195))*1.02 -> 351.78116 | L153: =20/K153 -> 0.056853528 | M153: =($AO$195 - $AP$195*EXP(-$AQ$195*J153^$AR$195))*1.02 -> 358.31371 | N153: =20/M153 -> 0.055817011 | O153: =($AS$195 - $AT$195*EXP(-$AU$195*J153^$AV$195))*1.02 -> 362.75954 | P153: =20/O153 -> 0.05513294 | Q153: =($AW$195 - $AX$195*EXP(-$AY$195*J153^$AZ$195))*1.02 -> 365.92848 | R153: =20/Q153 -> 0.054655489 | S153: =($BA$195 - $BB$195*EXP(-$BC$195*J153^$BD$195))*1.015 -> 366.45478 | T153: =20/S153 -> 0.054576992
A154: 1200 | B154: =($Y$195 - $Z$195*EXP(-$AA$195*A154^$AB$195))*1.015 -> 321.80728 | C154: =20/B154 -> 0.062148999 | D154: 1175 | E154: =($AC$195 - $AD$195*EXP(-$AE$195*D154^$AF$195))*1.022 -> 357.94005 | F154: =20/E154 -> 0.055875279 | G154: 1165 | H154: =($AG$195 - $AH$195*EXP(-$AI$195*G154^$AJ$195))*1.02 -> 374.48908 | I154: =20/H154 -> 0.053406097 | J154: 1150 | K154: =($AK$195 - $AL$195*EXP(-$AM$195*J154^$AN$195))*1.02 -> 378.74486 | L154: =20/K154 -> 0.052805998 | M154: =($AO$195 - $AP$195*EXP(-$AQ$195*J154^$AR$195))*1.02 -> 386.20393 | N154: =20/M154 -> 0.051786112 | O154: =($AS$195 - $AT$195*EXP(-$AU$195*J154^$AV$195))*1.02 -> 391.21785 | P154: =20/O154 -> 0.051122411 | Q154: =($AW$195 - $AX$195*EXP(-$AY$195*J154^$AZ$195))*1.02 -> 394.74953 | R154: =20/Q154 -> 0.050665038 | S154: =($BA$195 - $BB$195*EXP(-$BC$195*J154^$BD$195))*1.015 -> 395.37183 | T154: =20/S154 -> 0.050585294
A155: 1250 | B155: =($Y$195 - $Z$195*EXP(-$AA$195*A155^$AB$195))*1.015 -> 337.56641 | C155: =20/B155 -> 0.059247601 | D155: 1225 | E155: =($AC$195 - $AD$195*EXP(-$AE$195*D155^$AF$195))*1.022 -> 380.06028 | F155: =20/E155 -> 0.052623231 | G155: 1215 | H155: =($AG$195 - $AH$195*EXP(-$AI$195*G155^$AJ$195))*1.02 -> 399.79703 | I155: =20/H155 -> 0.050025385 | J155: 1200 | K155: =($AK$195 - $AL$195*EXP(-$AM$195*J155^$AN$195))*1.02 -> 405.83732 | L155: =20/K155 -> 0.049280831 | M155: =($AO$195 - $AP$195*EXP(-$AQ$195*J155^$AR$195))*1.02 -> 414.34177 | N155: =20/M155 -> 0.04826933 | O155: =($AS$195 - $AT$195*EXP(-$AU$195*J155^$AV$195))*1.02 -> 420.01628 | P155: =20/O155 -> 0.047617202 | Q155: =($AW$195 - $AX$195*EXP(-$AY$195*J155^$AZ$195))*1.02 -> 423.98485 | R155: =20/Q155 -> 0.047171496 | S155: =($BA$195 - $BB$195*EXP(-$BC$195*J155^$BD$195))*1.015 -> 424.76203 | T155: =20/S155 -> 0.047085188
... A194: 3200 | B194: =($Y$195 - $Z$195*EXP(-$AA$195*A194^$AB$195))*1.015 -> 489.69445 | C194: =20/B194 -> 0.040841794 | D194: 3175 | E194: =($AC$195 - $AD$195*EXP(-$AE$195*D194^$AF$195))*1.022 -> 680.3432 | F194: =20/E194 -> 0.029396928 | G194: 3165 | H194: =($AG$195 - $AH$195*EXP(-$AI$195*G194^$AJ$195))*1.02 -> 788.58646 | I194: =20/H194 -> 0.025361835 | J194: 3150 | K194: =($AK$195 - $AL$195*EXP(-$AM$195*J194^$AN$195))*1.02 -> 873.09182 | L194: =20/K194 -> 0.022907098 | M194: =($AO$195 - $AP$195*EXP(-$AQ$195*J194^$AR$195))*1.02 -> 945.01386 | N194: =20/M194 -> 0.021163711 | O194: =($AS$195 - $AT$195*EXP(-$AU$195*J194^$AV$195))*1.02 -> 1009.0863 | P194: =20/O194 -> 0.01981991 | Q194: =($AW$195 - $AX$195*EXP(-$AY$195*J194^$AZ$195))*1.02 -> 1067.6756 | R194: =20/Q194 -> 0.018732282 | S194: =($BA$195 - $BB$195*EXP(-$BC$195*J194^$BD$195))*1.015 -> 1116.6279 | T194: =20/S194 -> 0.01791107
A195: 3250 | B195: =($Y$195 - $Z$195*EXP(-$AA$195*A195^$AB$195))*1.015 -> 489.7058 | C195: =20/B195 -> 0.040840847 | D195: 3225 | E195: =($AC$195 - $AD$195*EXP(-$AE$195*D195^$AF$195))*1.022 -> 680.48477 | F195: =20/E195 -> 0.029390812 | G195: 3215 | H195: =($AG$195 - $AH$195*EXP(-$AI$195*G195^$AJ$195))*1.02 -> 788.86641 | I195: =20/H195 -> 0.025352835 | J195: 3200 | K195: =($AK$195 - $AL$195*EXP(-$AM$195*J195^$AN$195))*1.02 -> 873.63018 | L195: =20/K195 -> 0.022892982 | M195: =($AO$195 - $AP$195*EXP(-$AQ$195*J195^$AR$195))*1.02 -> 945.92588 | N195: =20/M195 -> 0.021143306 | O195: =($AS$195 - $AT$195*EXP(-$AU$195*J195^$AV$195))*1.02 -> 1010.5197 | P195: =20/O195 -> 0.019791796 | Q195: =($AW$195 - $AX$195*EXP(-$AY$195*J195^$AZ$195))*1.02 -> 1069.7773 | R195: =20/Q195 -> 0.01869548 | S195: =($BA$195 - $BB$195*EXP(-$BC$195*J195^$BD$195))*1.015 -> 1119.5211 | T195: =20/S195 -> 0.017864782 | Y195: 482.49697 | Z195: 458.41435 | AA195: 1.1117459e-07 | AB195: 2.2610637 | AC195: 666.31488 | AD195: 639.4908 | AE195: 6.0557724e-08 | AF195: 2.3015418 | AG195: 774.41463 | AH195: 745.26904 | AI195: 3.6342753e-08 | AJ195: 2.3548753 | AK195: 858.68033 | AL195: 828.1294 | AM195: 3.1480185e-08 | AN195: 2.361021 | AO195: 931.52691 | AP195: 900.08277 | AQ195: 3.2033633e-08 | AR195: 2.3465909 | AS195: 998.03277 | AT195: 965.95517 | AU195: 3.4759219e-08 | AV195: 2.3244329 | AW195: 1060.8148 | AX195: 1028.2269 | AY195: 3.852245e-08 | AZ195: 2.3002161 | BA195: 1121.4419 | BB195: 1088.3978 | BC195: 4.2795634e-08 | BD195: 2.2763347
A196: 3300 | B196: =($Y$195 - $Z$195*EXP(-$AA$195*A196^$AB$195))*1.015 -> 489.71407 | C196: =20/B196 -> 0.040840158 | D196: 3275 | E196: =($AC$195 - $AD$195*EXP(-$AE$195*D196^$AF$195))*1.022 -> 680.59652 | F196: =20/E196 -> 0.029385986 | G196: 3265 | H196: =($AG$195 - $AH$195*EXP(-$AI$195*G196^$AJ$195))*1.02 -> 789.09098 | I196: =20/H196 -> 0.02534562 | J196: 3250 | K196: =($AK$195 - $AL$195*EXP(-$AM$195*J196^$AN$195))*1.02 -> 874.07193 | L196: =20/K196 -> 0.022881412 | M196: =($AO$195 - $AP$195*EXP(-$AQ$195*J196^$AR$195))*1.02 -> 946.69061 | N196: =20/M196 -> 0.021126226 | O196: =($AS$195 - $AT$195*EXP(-$AU$195*J196^$AV$195))*1.02 -> 1011.7454 | P196: =20/O196 -> 0.019767818 | Q196: =($AW$195 - $AX$195*EXP(-$AY$195*J196^$AZ$195))*1.02 -> 1071.6052 | R196: =20/Q196 -> 0.018663589 | S196: =($BA$195 - $BB$195*EXP(-$BC$195*J196^$BD$195))*1.015 -> 1122.0742 | T196: =20/S196 -> 0.017824133
A197: 3350 | B197: =($Y$195 - $Z$195*EXP(-$AA$195*A197^$AB$195))*1.015 -> 489.72004 | C197: =20/B197 -> 0.04083966 | D197: 3325 | E197: =($AC$195 - $AD$195*EXP(-$AE$195*D197^$AF$195))*1.022 -> 680.68425 | F197: =20/E197 -> 0.029382199 | G197: 3315 | H197: =($AG$195 - $AH$195*EXP(-$AI$195*G197^$AJ$195))*1.02 -> 789.27013 | I197: =20/H197 -> 0.025339867 | J197: 3300 | K197: =($AK$195 - $AL$195*EXP(-$AM$195*J197^$AN$195))*1.02 -> 874.4326 | L197: =20/K197 -> 0.022871974 | M197: =($AO$195 - $AP$195*EXP(-$AQ$195*J197^$AR$195))*1.02 -> 947.32896 | N197: =20/M197 -> 0.02111199 | O197: =($AS$195 - $AT$195*EXP(-$AU$195*J197^$AV$195))*1.02 -> 1012.7894 | P197: =20/O197 -> 0.019747443 | Q197: =($AW$195 - $AX$195*EXP(-$AY$195*J197^$AZ$195))*1.02 -> 1073.1894 | R197: =20/Q197 -> 0.018636039 | S197: =($BA$195 - $BB$195*EXP(-$BC$195*J197^$BD$195))*1.015 -> 1124.3202 | T197: =20/S197 -> 0.017788528
A198: 3400 | B198: =($Y$195 - $Z$195*EXP(-$AA$195*A198^$AB$195))*1.015 -> 489.72433 | C198: =20/B198 -> 0.040839303 | D198: 3375 | E198: =($AC$195 - $AD$195*EXP(-$AE$195*D198^$AF$195))*1.022 -> 680.75273 | F198: =20/E198 -> 0.029379243 | G198: 3365 | H198: =($AG$195 - $AH$195*EXP(-$AI$195*G198^$AJ$195))*1.02 -> 789.41229 | I198: =20/H198 -> 0.025335303 | J198: 3350 | K198: =($AK$195 - $AL$195*EXP(-$AM$195*J198^$AN$195))*1.02 -> 874.72561 | L198: =20/K198 -> 0.022864313 | M198: =($AO$195 - $AP$195*EXP(-$AQ$195*J198^$AR$195))*1.02 -> 947.85943 | N198: =20/M198 -> 0.021100175 | O198: =($AS$195 - $AT$195*EXP(-$AU$195*J198^$AV$195))*1.02 -> 1013.6749 | P198: =20/O198 -> 0.019730192 | Q198: =($AW$195 - $AX$195*EXP(-$AY$195*J198^$AZ$195))*1.02 -> 1074.5574 | R198: =20/Q198 -> 0.018612314 | S198: =($BA$195 - $BB$195*EXP(-$BC$195*J198^$BD$195))*1.015 -> 1126.2895 | T198: =20/S198 -> 0.017757424
A199: 3450 | B199: =($Y$195 - $Z$195*EXP(-$AA$195*A199^$AB$195))*1.015 -> 489.72738 | C199: =20/B199 -> 0.040839048 | D199: 3425 | E199: =($AC$195 - $AD$195*EXP(-$AE$195*D199^$AF$195))*1.022 -> 680.80591 | F199: =20/E199 -> 0.029376948 | G199: 3415 | H199: =($AG$195 - $AH$195*EXP(-$AI$195*G199^$AJ$195))*1.02 -> 789.52448 | I199: =20/H199 -> 0.025331704 | J199: 3400 | K199: =($AK$195 - $AL$195*EXP(-$AM$195*J199^$AN$195))*1.02 -> 874.96244 | L199: =20/K199 -> 0.022858124 | M199: =($AO$195 - $AP$195*EXP(-$AQ$195*J199^$AR$195))*1.02 -> 948.29827 | N199: =20/M199 -> 0.021090411 | O199: =($AS$195 - $AT$195*EXP(-$AU$195*J199^$AV$195))*1.02 -> 1014.4231 | P199: =20/O199 -> 0.01971564 | Q199: =($AW$195 - $AX$195*EXP(-$AY$195*J199^$AZ$195))*1.02 -> 1075.7346 | R199: =20/Q199 -> 0.018591947 | S199: =($BA$195 - $BB$195*EXP(-$BC$195*J199^$BD$195))*1.015 -> 1128.0107 | T199: =20/S199 -> 0.017730328
A200: 3500 | B200: =($Y$195 - $Z$195*EXP(-$AA$195*A200^$AB$195))*1.015 -> 489.72955 | C200: =20/B200 -> 0.040838867 | D200: 3475 | E200: =($AC$195 - $AD$195*EXP(-$AE$195*D200^$AF$195))*1.022 -> 680.84696 | F200: =20/E200 -> 0.029375177 | G200: 3465 | H200: =($AG$195 - $AH$195*EXP(-$AI$195*G200^$AJ$195))*1.02 -> 789.61253 | I200: =20/H200 -> 0.025328879 | J200: 3450 | K200: =($AK$195 - $AL$195*EXP(-$AM$195*J200^$AN$195))*1.02 -> 875.15291 | L200: =20/K200 -> 0.022853149 | M200: =($AO$195 - $AP$195*EXP(-$AQ$195*J200^$AR$195))*1.02 -> 948.65967 | N200: =20/M200 -> 0.021082376 | O200: =($AS$195 - $AT$195*EXP(-$AU$195*J200^$AV$195))*1.02 -> 1015.0526 | P200: =20/O200 -> 0.019703412 | Q200: =($AW$195 - $AX$195*EXP(-$AY$195*J200^$AZ$195))*1.02 -> 1076.7438 | R200: =20/Q200 -> 0.01857452 | S200: =($BA$195 - $BB$195*EXP(-$BC$195*J200^$BD$195))*1.015 -> 1129.5103 | T200: =20/S200 -> 0.017706788
A201: 3550 | B201: =($Y$195 - $Z$195*EXP(-$AA$195*A201^$AB$195))*1.015 -> 489.73107 | C201: =20/B201 -> 0.04083874 | D201: 3525 | E201: =($AC$195 - $AD$195*EXP(-$AE$195*D201^$AF$195))*1.022 -> 680.87848 | F201: =20/E201 -> 0.029373817 | G201: 3515 | H201: =($AG$195 - $AH$195*EXP(-$AI$195*G201^$AJ$195))*1.02 -> 789.68125 | I201: =20/H201 -> 0.025326674 | J201: 3500 | K201: =($AK$195 - $AL$195*EXP(-$AM$195*J201^$AN$195))*1.02 -> 875.30532 | L201: =20/K201 -> 0.02284917 | M201: =($AO$195 - $AP$195*EXP(-$AQ$195*J201^$AR$195))*1.02 -> 948.95595 | N201: =20/M201 -> 0.021075794 | O201: =($AS$195 - $AT$195*EXP(-$AU$195*J201^$AV$195))*1.02 -> 1015.5803 | P201: =20/O201 -> 0.019693175 | Q201: =($AW$195 - $AX$195*EXP(-$AY$195*J201^$AZ$195))*1.02 -> 1077.606 | R201: =20/Q201 -> 0.018559659 | S201: =($BA$195 - $BB$195*EXP(-$BC$195*J201^$BD$195))*1.015 -> 1130.8126 | T201: =20/S201 -> 0.017686397
A202: 3600 | B202: =($Y$195 - $Z$195*EXP(-$AA$195*A202^$AB$195))*1.015 -> 489.73213 | C202: =20/B202 -> 0.040838652 | D202: 3575 | E202: =($AC$195 - $AD$195*EXP(-$AE$195*D202^$AF$195))*1.022 -> 680.90255 | F202: =20/E202 -> 0.029372779 | G202: 3565 | H202: =($AG$195 - $AH$195*EXP(-$AI$195*G202^$AJ$195))*1.02 -> 789.7346 | I202: =20/H202 -> 0.025324964 | J202: 3550 | K202: =($AK$195 - $AL$195*EXP(-$AM$195*J202^$AN$195))*1.02 -> 875.42666 | L202: =20/K202 -> 0.022846003 | M202: =($AO$195 - $AP$195*EXP(-$AQ$195*J202^$AR$195))*1.02 -> 949.19774 | N202: =20/M202 -> 0.021070425 | O202: =($AS$195 - $AT$195*EXP(-$AU$195*J202^$AV$195))*1.02 -> 1016.0207 | P202: =20/O202 -> 0.019684638 | Q202: =($AW$195 - $AX$195*EXP(-$AY$195*J202^$AZ$195))*1.02 -> 1078.34 | R202: =20/Q202 -> 0.018547026 | S202: =($BA$195 - $BB$195*EXP(-$BC$195*J202^$BD$195))*1.015 -> 1131.9399 | T202: =20/S202 -> 0.017668783
A203: 3650 | B203: =($Y$195 - $Z$195*EXP(-$AA$195*A203^$AB$195))*1.015 -> 489.73287 | C203: =20/B203 -> 0.04083859 | D203: 3625 | E203: =($AC$195 - $AD$195*EXP(-$AE$195*D203^$AF$195))*1.022 -> 680.92083 | F203: =20/E203 -> 0.02937199 | G203: 3615 | H203: =($AG$195 - $AH$195*EXP(-$AI$195*G203^$AJ$195))*1.02 -> 789.77578 | I203: =20/H203 -> 0.025323643 | J203: 3600 | K203: =($AK$195 - $AL$195*EXP(-$AM$195*J203^$AN$195))*1.02 -> 875.52276 | L203: =20/K203 -> 0.022843495 | M203: =($AO$195 - $AP$195*EXP(-$AQ$195*J203^$AR$195))*1.02 -> 949.39416 | N203: =20/M203 -> 0.021066066 | O203: =($AS$195 - $AT$195*EXP(-$AU$195*J203^$AV$195))*1.02 -> 1016.3869 | P203: =20/O203 -> 0.019677546 | Q203: =($AW$195 - $AX$195*EXP(-$AY$195*J203^$AZ$195))*1.02 -> 1078.9625 | R203: =20/Q203 -> 0.018536326 | S203: =($BA$195 - $BB$195*EXP(-$BC$195*J203^$BD$195))*1.015 -> 1132.9126 | T203: =20/S203 -> 0.017653613
A204: 3700 | B204: =($Y$195 - $Z$195*EXP(-$AA$195*A204^$AB$195))*1.015 -> 489.73338 | C204: =20/B204 -> 0.040838548 | D204: 3675 | E204: =($AC$195 - $AD$195*EXP(-$AE$195*D204^$AF$195))*1.022 -> 680.93463 | F204: =20/E204 -> 0.029371395 | G204: 3665 | H204: =($AG$195 - $AH$195*EXP(-$AI$195*G204^$AJ$195))*1.02 -> 789.8074 | I204: =20/H204 -> 0.025322629 | J204: 3650 | K204: =($AK$195 - $AL$195*EXP(-$AM$195*J204^$AN$195))*1.02 -> 875.5985 | L204: =20/K204 -> 0.022841519 | M204: =($AO$195 - $AP$195*EXP(-$AQ$195*J204^$AR$195))*1.02 -> 949.553 | N204: =20/M204 -> 0.021062542 | O204: =($AS$195 - $AT$195*EXP(-$AU$195*J204^$AV$195))*1.02 -> 1016.6901 | P204: =20/O204 -> 0.019671678 | Q204: =($AW$195 - $AX$195*EXP(-$AY$195*J204^$AZ$195))*1.02 -> 1079.4886 | R204: =20/Q204 -> 0.018527292 | S204: =($BA$195 - $BB$195*EXP(-$BC$195*J204^$BD$195))*1.015 -> 1133.7492 | T204: =20/S204 -> 0.017640586
A205: 3750 | B205: =($Y$195 - $Z$195*EXP(-$AA$195*A205^$AB$195))*1.015 -> 489.73372 | C205: =20/B205 -> 0.040838519 | D205: 3725 | E205: =($AC$195 - $AD$195*EXP(-$AE$195*D205^$AF$195))*1.022 -> 680.94499 | F205: =20/E205 -> 0.029370948 | G205: 3715 | H205: =($AG$195 - $AH$195*EXP(-$AI$195*G205^$AJ$195))*1.02 -> 789.83153 | I205: =20/H205 -> 0.025321856 | J205: 3700 | K205: =($AK$195 - $AL$195*EXP(-$AM$195*J205^$AN$195))*1.02 -> 875.65787 | L205: =20/K205 -> 0.02283997 | M205: =($AO$195 - $AP$195*EXP(-$AQ$195*J205^$AR$195))*1.02 -> 949.68086 | N205: =20/M205 -> 0.021059706 | O205: =($AS$195 - $AT$195*EXP(-$AU$195*J205^$AV$195))*1.02 -> 1016.9401 | P205: =20/O205 -> 0.019666842 | Q205: =($AW$195 - $AX$195*EXP(-$AY$195*J205^$AZ$195))*1.02 -> 1079.9316 | R205: =20/Q205 -> 0.018519691 | S205: =($BA$195 - $BB$195*EXP(-$BC$195*J205^$BD$195))*1.015 -> 1134.4664 | T205: =20/S205 -> 0.017629434
A206: 3800 | B206: =($Y$195 - $Z$195*EXP(-$AA$195*A206^$AB$195))*1.015 -> 489.73396 | C206: =20/B206 -> 0.040838499 | D206: 3775 | E206: =($AC$195 - $AD$195*EXP(-$AE$195*D206^$AF$195))*1.022 -> 680.95272 | F206: =20/E206 -> 0.029370615 | G206: 3765 | H206: =($AG$195 - $AH$195*EXP(-$AI$195*G206^$AJ$195))*1.02 -> 789.84986 | I206: =20/H206 -> 0.025321268 | J206: 3750 | K206: =($AK$195 - $AL$195*EXP(-$AM$195*J206^$AN$195))*1.02 -> 875.70419 | L206: =20/K206 -> 0.022838763 | M206: =($AO$195 - $AP$195*EXP(-$AQ$195*J206^$AR$195))*1.02 -> 949.78331 | N206: =20/M206 -> 0.021057435 | O206: =($AS$195 - $AT$195*EXP(-$AU$195*J206^$AV$195))*1.02 -> 1017.1454 | P206: =20/O206 -> 0.019662872 | Q206: =($AW$195 - $AX$195*EXP(-$AY$195*J206^$AZ$195))*1.02 -> 1080.3033 | R206: =20/Q206 -> 0.018513319 | S206: =($BA$195 - $BB$195*EXP(-$BC$195*J206^$BD$195))*1.015 -> 1135.0792 | T206: =20/S206 -> 0.017619916
A207: 3850 | B207: =($Y$195 - $Z$195*EXP(-$AA$195*A207^$AB$195))*1.015 -> 489.73412 | C207: =20/B207 -> 0.040838486 | D207: 3825 | E207: =($AC$195 - $AD$195*EXP(-$AE$195*D207^$AF$195))*1.022 -> 680.95847 | F207: =20/E207 -> 0.029370367 | G207: 3815 | H207: =($AG$195 - $AH$195*EXP(-$AI$195*G207^$AJ$195))*1.02 -> 789.86369 | I207: =20/H207 -> 0.025320825 | J207: 3800 | K207: =($AK$195 - $AL$195*EXP(-$AM$195*J207^$AN$195))*1.02 -> 875.74012 | L207: =20/K207 -> 0.022837825 | M207: =($AO$195 - $AP$195*EXP(-$AQ$195*J207^$AR$195))*1.02 -> 949.86502 | N207: =20/M207 -> 0.021055623 | O207: =($AS$195 - $AT$195*EXP(-$AU$195*J207^$AV$195))*1.02 -> 1017.3133 | P207: =20/O207 -> 0.019659627 | Q207: =($AW$195 - $AX$195*EXP(-$AY$195*J207^$AZ$195))*1.02 -> 1080.614 | R207: =20/Q207 -> 0.018507996 | S207: =($BA$195 - $BB$195*EXP(-$BC$195*J207^$BD$195))*1.015 -> 1135.6012 | T207: =20/S207 -> 0.017611816
... A251: 6050 | B251: =($Y$195 - $Z$195*EXP(-$AA$195*A251^$AB$195))*1.015 -> 489.73443 | C251: =20/B251 -> 0.04083846 | D251: 6025 | E251: =($AC$195 - $AD$195*EXP(-$AE$195*D251^$AF$195))*1.022 -> 680.97381 | F251: =20/E251 -> 0.029369705 | G251: 6015 | H251: =($AG$195 - $AH$195*EXP(-$AI$195*G251^$AJ$195))*1.02 -> 789.90292 | I251: =20/H251 -> 0.025319567 | J251: 6000 | K251: =($AK$195 - $AL$195*EXP(-$AM$195*J251^$AN$195))*1.02 -> 875.85394 | L251: =20/K251 -> 0.022834858 | M251: =($AO$195 - $AP$195*EXP(-$AQ$195*J251^$AR$195))*1.02 -> 950.15745 | N251: =20/M251 -> 0.021049143 | O251: =($AS$195 - $AT$195*EXP(-$AU$195*J251^$AV$195))*1.02 -> 1017.9934 | P251: =20/O251 -> 0.019646492 | Q251: =($AW$195 - $AX$195*EXP(-$AY$195*J251^$AZ$195))*1.02 -> 1082.0311 | R251: =20/Q251 -> 0.018483757 | S251: =($BA$195 - $BB$195*EXP(-$BC$195*J251^$BD$195))*1.015 -> 1138.2635 | T251: =20/S251 -> 0.017570625

Sheet Typ1 1mm 2x F12
A1: kg/s | B1: L/h | C1: min^-1 | D1: m/s | E1: Gesamt m³/h | F1: dp [Pa] | G1: Tin [K] | H1: TAmbient [K] | I1: dTAmbient | J1: TAmbient2 | K1: TAmbient2 | L1: Tout_avg | M1: Tout_avg | N1: dTFluid [K] | O1: P [W] | P1: k [W/m²*K] | Q1: dTlog | R1: cp [J/kg * K] | S1: ρ [kg/m³] | T1: cp [J/kg * K] | U1: ρ [kg/m³]
A2: 0 | B2: =A2/S2*3600*1000 -> 0 | C2: 0 | D2: 0 | F2: 0 | G2: 315 | H2: 295 | R2: 4180 | S2: 991.5 | Y2: -144.24373 | Z2: 10.5287 | AA2: -0.031256926 | AB2: 2.9456116e-05 | AC2: 17554.454 | AD2: -125.69235 | AE2: 0.39362054 | AF2: -0.00041079636 | AG2: 2.306401 | AH2: -0.0037612753 | AI2: 995.1762 | AJ2: 0.039735 | AL2: -0.0073107128 | AM2: 2.552808 | AN2: 1.5829103
A3: 0.008 | B3: =A3/S3*3600*1000 -> 29.042372 | C3: 0 | D3: 0 | F3: 0 | G3: 315 | H3: 295 | J3: 297.20729 | L3: 314.23737 | M3: =G3-O3/(R3*A3) -> 314.23737 | N3: =G3-L3 -> 0.76262638 | O3: ='Typ1 1,5 mm Noctua F12'!Q3*0.693 -> 25.493462 | P3: =O3/(Abmessung!B$17*Q3) -> 1.7819632 | Q3: =((G3-J3)-(L3-H3))/LN((G3-J3)/(L3-H3)) -> 18.505644 | R3: =((AC3 + AD3*G3 +AE3*G3^2 + AF3*G3^3)+(AC3 + AD3*L3 + AE3*L3^2 + AF3*L3^3))/2 -> 4178.5635 | S3: =((Y3 + Z3*G3 + AA3*G3^2 + AB3*G3^3)+(Y3 + Z3*L3 + AA3*L3^2 + AB3*L3^3))/2 -> 991.65453 | T3: =((AI3 + AJ3*H3)+(AI3 + AJ3*J3))/2 -> 1006.9419 | U3: =((AG3 + AH3*H3)+(AG3 + AH3*J3))/2 -> 1.1926737 | Y3: -144.24373 | Z3: 10.5287 | AA3: -0.031256926 | AB3: 2.9456116e-05 | AC3: 17554.454 | AD3: -125.69235 | AE3: 0.39362054 | AF3: -0.00041079636 | AG3: 2.306401 | AH3: -0.0037612753 | AI3: 995.1762 | AJ3: 0.039735 | AL3: -0.0073107128 | AM3: 2.552808 | AN3: 1.5829103
A4: 0.014 | B4: =A4/S4*3600*1000 -> 50.826023 | C4: 0 | D4: 0 | F4: 0 | G4: 315 | H4: 295 | J4: 297.94433 | L4: 314.42457 | M4: =G4-O4/(R4*A4) -> 314.42457 | N4: =G4-L4 -> 0.5754307 | O4: ='Typ1 1,5 mm Noctua F12'!Q4*0.693 -> 33.66263 | P4: =O4/(Abmessung!B$17*Q4) -> 2.3905954 | Q4: =((G4-J4)-(L4-H4))/LN((G4-J4)/(L4-H4)) -> 18.21445 | R4: =((AC4 + AD4*G4 +AE4*G4^2 + AF4*G4^3)+(AC4 + AD4*L4 + AE4*L4^2 + AF4*L4^3))/2 -> 4178.5632 | S4: =((Y4 + Z4*G4 + AA4*G4^2 + AB4*G4^3)+(Y4 + Z4*L4 + AA4*L4^2 + AB4*L4^3))/2 -> 991.61801 | T4: =((AI4 + AJ4*H4)+(AI4 + AJ4*J4))/2 -> 1006.9565 | U4: =((AG4 + AH4*H4)+(AG4 + AH4*J4))/2 -> 1.1912876 | Y4: -144.24373 | Z4: 10.5287 | AA4: -0.031256926 | AB4: 2.9456116e-05 | AC4: 17554.454 | AD4: -125.69235 | AE4: 0.39362054 | AF4: -0.00041079636 | AG4: 2.306401 | AH4: -0.0037612753 | AI4: 995.1762 | AJ4: 0.039735 | AL4: -0.0073107128 | AM4: 2.552808 | AN4: 1.5829103
A5: 0.02 | B5: =A5/S5*3600*1000 -> 72.610232 | C5: 0 | D5: 0 | F5: 0 | G5: 315 | H5: 295 | J5: 298.35294 | L5: 314.53817 | M5: =G5-O5/(R5*A5) -> 314.53817 | N5: =G5-L5 -> 0.46182526 | O5: ='Typ1 1,5 mm Noctua F12'!Q5*0.693 -> 38.59532 | P5: =O5/(Abmessung!B$17*Q5) -> 2.7652476 | Q5: =((G5-J5)-(L5-H5))/LN((G5-J5)/(L5-H5)) -> 18.054053 | R5: =((AC5 + AD5*G5 +AE5*G5^2 + AF5*G5^3)+(AC5 + AD5*L5 + AE5*L5^2 + AF5*L5^3))/2 -> 4178.5632 | S5: =((Y5 + Z5*G5 + AA5*G5^2 + AB5*G5^3)+(Y5 + Z5*L5 + AA5*L5^2 + AB5*L5^3))/2 -> 991.59578 | T5: =((AI5 + AJ5*H5)+(AI5 + AJ5*J5))/2 -> 1006.9646 | U5: =((AG5 + AH5*H5)+(AG5 + AH5*J5))/2 -> 1.1905191 | Y5: -144.24373 | Z5: 10.5287 | AA5: -0.031256926 | AB5: 2.9456116e-05 | AC5: 17554.454 | AD5: -125.69235 | AE5: 0.39362054 | AF5: -0.00041079636 | AG5: 2.306401 | AH5: -0.0037612753 | AI5: 995.1762 | AJ5: 0.039735 | AL5: -0.0073107128 | AM5: 2.552808 | AN5: 1.5829103
A6: 0.026 | B6: =A6/S6*3600*1000 -> 94.394719 | C6: 0 | D6: 0 | F6: 0 | G6: 315 | H6: 295 | J6: 298.63722 | L6: 314.61414 | M6: =G6-O6/(R6*A6) -> 314.61414 | N6: =G6-L6 -> 0.38585604 | O6: ='Typ1 1,5 mm Noctua F12'!Q6*0.693 -> 41.92042 | P6: =O6/(Abmessung!B$17*Q6) -> 3.0226805 | Q6: =((G6-J6)-(L6-H6))/LN((G6-J6)/(L6-H6)) -> 17.939382 | R6: =((AC6 + AD6*G6 +AE6*G6^2 + AF6*G6^3)+(AC6 + AD6*L6 + AE6*L6^2 + AF6*L6^3))/2 -> 4178.5632 | S6: =((Y6 + Z6*G6 + AA6*G6^2 + AB6*G6^3)+(Y6 + Z6*L6 + AA6*L6^2 + AB6*L6^3))/2 -> 991.5809 | T6: =((AI6 + AJ6*H6)+(AI6 + AJ6*J6))/2 -> 1006.9703 | U6: =((AG6 + AH6*H6)+(AG6 + AH6*J6))/2 -> 1.1899845 | Y6: -144.24373 | Z6: 10.5287 | AA6: -0.031256926 | AB6: 2.9456116e-05 | AC6: 17554.454 | AD6: -125.69235 | AE6: 0.39362054 | AF6: -0.00041079636 | AG6: 2.306401 | AH6: -0.0037612753 | AI6: 995.1762 | AJ6: 0.039735 | AL6: -0.0073107128 | AM6: 2.552808 | AN6: 1.5829103
A7: 0.032 | B7: =A7/S7*3600*1000 -> 116.17937 | C7: 0 | D7: 0 | F7: 0 | G7: 315 | H7: 295 | J7: 298.85549 | L7: 314.66867 | M7: =G7-O7/(R7*A7) -> 314.66867 | N7: =G7-L7 -> 0.33133293 | O7: ='Typ1 1,5 mm Noctua F12'!Q7*0.693 -> 44.303859 | P7: =O7/(Abmessung!B$17*Q7) -> 3.2107798 | Q7: =((G7-J7)-(L7-H7))/LN((G7-J7)/(L7-H7)) -> 17.84864 | R7: =((AC7 + AD7*G7 +AE7*G7^2 + AF7*G7^3)+(AC7 + AD7*L7 + AE7*L7^2 + AF7*L7^3))/2 -> 4178.5632 | S7: =((Y7 + Z7*G7 + AA7*G7^2 + AB7*G7^3)+(Y7 + Z7*L7 + AA7*L7^2 + AB7*L7^3))/2 -> 991.5702 | T7: =((AI7 + AJ7*H7)+(AI7 + AJ7*J7))/2 -> 1006.9746 | U7: =((AG7 + AH7*H7)+(AG7 + AH7*J7))/2 -> 1.189574 | Y7: -144.24373 | Z7: 10.5287 | AA7: -0.031256926 | AB7: 2.9456116e-05 | AC7: 17554.454 | AD7: -125.69235 | AE7: 0.39362054 | AF7: -0.00041079636 | AG7: 2.306401 | AH7: -0.0037612753 | AI7: 995.1762 | AJ7: 0.039735 | AL7: -0.0073107128 | AM7: 2.552808 | AN7: 1.5829103
A8: 0.038 | B8: =A8/S8*3600*1000 -> 137.96412 | C8: 0 | D8: 0 | F8: 0 | G8: 315 | H8: 295 | J8: 299.03273 | L8: 314.70978 | M8: =G8-O8/(R8*A8) -> 314.70978 | N8: =G8-L8 -> 0.29021863 | O8: ='Typ1 1,5 mm Noctua F12'!Q8*0.693 -> 46.082482 | P8: =O8/(Abmessung!B$17*Q8) -> 3.3539113 | Q8: =((G8-J8)-(L8-H8))/LN((G8-J8)/(L8-H8)) -> 17.772904 | R8: =((AC8 + AD8*G8 +AE8*G8^2 + AF8*G8^3)+(AC8 + AD8*L8 + AE8*L8^2 + AF8*L8^3))/2 -> 4178.5632 | S8: =((Y8 + Z8*G8 + AA8*G8^2 + AB8*G8^3)+(Y8 + Z8*L8 + AA8*L8^2 + AB8*L8^3))/2 -> 991.56213 | T8: =((AI8 + AJ8*H8)+(AI8 + AJ8*J8))/2 -> 1006.9781 | U8: =((AG8 + AH8*H8)+(AG8 + AH8*J8))/2 -> 1.1892407 | Y8: -144.24373 | Z8: 10.5287 | AA8: -0.031256926 | AB8: 2.9456116e-05 | AC8: 17554.454 | AD8: -125.69235 | AE8: 0.39362054 | AF8: -0.00041079636 | AG8: 2.306401 | AH8: -0.0037612753 | AI8: 995.1762 | AJ8: 0.039735 | AL8: -0.0073107128 | AM8: 2.552808 | AN8: 1.5829103
A9: 0.044 | B9: =A9/S9*3600*1000 -> 159.74895 | C9: 0 | D9: 0 | F9: 0 | G9: 315 | H9: 295 | J9: 299.18196 | L9: 314.74193 | M9: =G9-O9/(R9*A9) -> 314.74193 | N9: =G9-L9 -> 0.25807378 | O9: ='Typ1 1,5 mm Noctua F12'!Q9*0.693 -> 47.448616 | P9: =O9/(Abmessung!B$17*Q9) -> 3.4660777 | Q9: =((G9-J9)-(L9-H9))/LN((G9-J9)/(L9-H9)) -> 17.707586 | R9: =((AC9 + AD9*G9 +AE9*G9^2 + AF9*G9^3)+(AC9 + AD9*L9 + AE9*L9^2 + AF9*L9^3))/2 -> 4178.5632 | S9: =((Y9 + Z9*G9 + AA9*G9^2 + AB9*G9^3)+(Y9 + Z9*L9 + AA9*L9^2 + AB9*L9^3))/2 -> 991.55581 | T9: =((AI9 + AJ9*H9)+(AI9 + AJ9*J9))/2 -> 1006.9811 | U9: =((AG9 + AH9*H9)+(AG9 + AH9*J9))/2 -> 1.18896 | Y9: -144.24373 | Z9: 10.5287 | AA9: -0.031256926 | AB9: 2.9456116e-05 | AC9: 17554.454 | AD9: -125.69235 | AE9: 0.39362054 | AF9: -0.00041079636 | AG9: 2.306401 | AH9: -0.0037612753 | AI9: 995.1762 | AJ9: 0.039735 | AL9: -0.0073107128 | AM9: 2.552808 | AN9: 1.5829103
A10: 0.05 | B10: =A10/S10*3600*1000 -> 181.53383 | C10: 0 | D10: 0 | F10: 0 | G10: 315 | H10: 295 | J10: 299.31084 | L10: 314.76776 | M10: =G10-O10/(R10*A10) -> 314.76776 | N10: =G10-L10 -> 0.23223854 | O10: ='Typ1 1,5 mm Noctua F12'!Q10*0.693 -> 48.521172 | P10: =O10/(Abmessung!B$17*Q10) -> 3.5559937 | Q10: =((G10-J10)-(L10-H10))/LN((G10-J10)/(L10-H10)) -> 17.649988 | R10: =((AC10 + AD10*G10 +AE10*G10^2 + AF10*G10^3)+(AC10 + AD10*L10 + AE10*L10^2 + AF10*L10^3))/2 -> 4178.5633 | S10: =((Y10 + Z10*G10 + AA10*G10^2 + AB10*G10^3)+(Y10 + Z10*L10 + AA10*L10^2 + AB10*L10^3))/2 -> 991.55073 | T10: =((AI10 + AJ10*H10)+(AI10 + AJ10*J10))/2 -> 1006.9837 | U10: =((AG10 + AH10*H10)+(AG10 + AH10*J10))/2 -> 1.1887177 | Y10: -144.24373 | Z10: 10.5287 | AA10: -0.031256926 | AB10: 2.9456116e-05 | AC10: 17554.454 | AD10: -125.69235 | AE10: 0.39362054 | AF10: -0.00041079636 | AG10: 2.306401 | AH10: -0.0037612753 | AI10: 995.1762 | AJ10: 0.039735 | AL10: -0.0073107128 | AM10: 2.552808 | AN10: 1.5829103
A11: 0.056 | B11: =A11/S11*3600*1000 -> 203.31874 | C11: 0 | D11: 0 | F11: 0 | G11: 315 | H11: 295 | J11: 299.42428 | L11: 314.78898 | M11: =G11-O11/(R11*A11) -> 314.78898 | N11: =G11-L11 -> 0.21101737 | O11: ='Typ1 1,5 mm Noctua F12'!Q11*0.693 -> 49.377969 | P11: =O11/(Abmessung!B$17*Q11) -> 3.6294 | Q11: =((G11-J11)-(L11-H11))/LN((G11-J11)/(L11-H11)) -> 17.598372 | R11: =((AC11 + AD11*G11 +AE11*G11^2 + AF11*G11^3)+(AC11 + AD11*L11 + AE11*L11^2 + AF11*L11^3))/2 -> 4178.5633 | S11: =((Y11 + Z11*G11 + AA11*G11^2 + AB11*G11^3)+(Y11 + Z11*L11 + AA11*L11^2 + AB11*L11^3))/2 -> 991.54656 | T11: =((AI11 + AJ11*H11)+(AI11 + AJ11*J11))/2 -> 1006.9859 | U11: =((AG11 + AH11*H11)+(AG11 + AH11*J11))/2 -> 1.1885043 | Y11: -144.24373 | Z11: 10.5287 | AA11: -0.031256926 | AB11: 2.9456116e-05 | AC11: 17554.454 | AD11: -125.69235 | AE11: 0.39362054 | AF11: -0.00041079636 | AG11: 2.306401 | AH11: -0.0037612753 | AI11: 995.1762 | AJ11: 0.039735 | AL11: -0.0073107128 | AM11: 2.552808 | AN11: 1.5829103
A12: 0.062 | B12: =A12/S12*3600*1000 -> 225.10369 | C12: 0 | D12: 0 | F12: 0 | G12: 315 | H12: 295 | J12: 299.52558 | L12: 314.80672 | M12: =G12-O12/(R12*A12) -> 314.80672 | N12: =G12-L12 -> 0.19327586 | O12: ='Typ1 1,5 mm Noctua F12'!Q12*0.693 -> 50.072157 | P12: =O12/(Abmessung!B$17*Q12) -> 3.6902432 | Q12: =((G12-J12)-(L12-H12))/LN((G12-J12)/(L12-H12)) -> 17.551547 | R12: =((AC12 + AD12*G12 +AE12*G12^2 + AF12*G12^3)+(AC12 + AD12*L12 + AE12*L12^2 + AF12*L12^3))/2 -> 4178.5633 | S12: =((Y12 + Z12*G12 + AA12*G12^2 + AB12*G12^3)+(Y12 + Z12*L12 + AA12*L12^2 + AB12*L12^3))/2 -> 991.54307 | T12: =((AI12 + AJ12*H12)+(AI12 + AJ12*J12))/2 -> 1006.9879 | U12: =((AG12 + AH12*H12)+(AG12 + AH12*J12))/2 -> 1.1883138 | Y12: -144.24373 | Z12: 10.5287 | AA12: -0.031256926 | AB12: 2.9456116e-05 | AC12: 17554.454 | AD12: -125.69235 | AE12: 0.39362054 | AF12: -0.00041079636 | AG12: 2.306401 | AH12: -0.0037612753 | AI12: 995.1762 | AJ12: 0.039735 | AL12: -0.0073107128 | AM12: 2.552808 | AN12: 1.5829103
A13: 0.068 | B13: =A13/S13*3600*1000 -> 246.88865 | C13: 0 | D13: 0 | F13: 0 | G13: 315 | H13: 295 | J13: 299.6171 | L13: 314.82177 | M13: =G13-O13/(R13*A13) -> 314.82177 | N13: =G13-L13 -> 0.17822504 | O13: ='Typ1 1,5 mm Noctua F12'!Q13*0.693 -> 50.641275 | P13: =O13/(Abmessung!B$17*Q13) -> 3.7413291 | Q13: =((G13-J13)-(L13-H13))/LN((G13-J13)/(L13-H13)) -> 17.508656 | R13: =((AC13 + AD13*G13 +AE13*G13^2 + AF13*G13^3)+(AC13 + AD13*L13 + AE13*L13^2 + AF13*L13^3))/2 -> 4178.5633 | S13: =((Y13 + Z13*G13 + AA13*G13^2 + AB13*G13^3)+(Y13 + Z13*L13 + AA13*L13^2 + AB13*L13^3))/2 -> 991.54011 | T13: =((AI13 + AJ13*H13)+(AI13 + AJ13*J13))/2 -> 1006.9898 | U13: =((AG13 + AH13*H13)+(AG13 + AH13*J13))/2 -> 1.1881417 | Y13: -144.24373 | Z13: 10.5287 | AA13: -0.031256926 | AB13: 2.9456116e-05 | AC13: 17554.454 | AD13: -125.69235 | AE13: 0.39362054 | AF13: -0.00041079636 | AG13: 2.306401 | AH13: -0.0037612753 | AI13: 995.1762 | AJ13: 0.039735 | AL13: -0.0073107128 | AM13: 2.552808 | AN13: 1.5829103
A14: 0.074 | B14: =A14/S14*3600*1000 -> 268.67363 | C14: 0 | D14: 0 | F14: 0 | G14: 315 | H14: 295 | J14: 299.70056 | L14: 314.8347 | M14: =G14-O14/(R14*A14) -> 314.8347 | N14: =G14-L14 -> 0.16529852 | O14: ='Typ1 1,5 mm Noctua F12'!Q14*0.693 -> 51.112566 | P14: =O14/(Abmessung!B$17*Q14) -> 3.7847068 | Q14: =((G14-J14)-(L14-H14))/LN((G14-J14)/(L14-H14)) -> 17.46906 | R14: =((AC14 + AD14*G14 +AE14*G14^2 + AF14*G14^3)+(AC14 + AD14*L14 + AE14*L14^2 + AF14*L14^3))/2 -> 4178.5634 | S14: =((Y14 + Z14*G14 + AA14*G14^2 + AB14*G14^3)+(Y14 + Z14*L14 + AA14*L14^2 + AB14*L14^3))/2 -> 991.53757 | T14: =((AI14 + AJ14*H14)+(AI14 + AJ14*J14))/2 -> 1006.9914 | U14: =((AG14 + AH14*H14)+(AG14 + AH14*J14))/2 -> 1.1879847 | Y14: -144.24373 | Z14: 10.5287 | AA14: -0.031256926 | AB14: 2.9456116e-05 | AC14: 17554.454 | AD14: -125.69235 | AE14: 0.39362054 | AF14: -0.00041079636 | AG14: 2.306401 | AH14: -0.0037612753 | AI14: 995.1762 | AJ14: 0.039735 | AL14: -0.0073107128 | AM14: 2.552808 | AN14: 1.5829103
A15: 0.008 | B15: =A15/S15*3600*1000 -> 29.009066 | C15: 600 | D15: =E15/(0.02809*3600) -> 0.54190894 | E15: 54.8 | F15: 2.82 | G15: 315 | H15: 295 | I15: =O15*3600/(T15*U15*E15) -> 12.965557 | J15: 307.9652 | K15: =H15+I15 -> 307.96556 | L15: 308.02858 | M15: =G15-O15/(R15*A15) -> 308.02858 | N15: =G15-L15 -> 6.9714153 | O15: 233.05432 | P15: =O15/(Abmessung!B$17*Q15) -> 30.996012 | Q15: =((G15-J15)-(L15-H15))/LN((G15-J15)/(L15-H15)) -> 9.7258021 | R15: =((AC15 + AD15*G15 +AE15*G15^2 + AF15*G15^3)+(AC15 + AD15*L15 + AE15*L15^2 + AF15*L15^3))/2 -> 4178.7482 | S15: =((Y15 + Z15*G15 + AA15*G15^2 + AB15*G15^3)+(Y15 + Z15*L15 + AA15*L15^2 + AB15*L15^3))/2 -> 992.79307 | T15: =((AI15 + AJ15*H15)+(AI15 + AJ15*J15))/2 -> 1007.1556 | U15: =((AG15 + AH15*H15)+(AG15 + AH15*J15))/2 -> 1.1724419 | Y15: -144.24373 | Z15: 10.5287 | AA15: -0.031256926 | AB15: 2.9456116e-05 | AC15: 17554.454 | AD15: -125.69235 | AE15: 0.39362054 | AF15: -0.00041079636 | AG15: 2.306401 | AH15: -0.0037612753 | AI15: 995.1762 | AJ15: 0.039735 | AL15: -0.0073107128 | AM15: 2.552808 | AN15: 1.5829103
A16: 0.014 | B16: =A16/S16*3600*1000 -> 50.789201 | C16: 600 | D16: =E16/(0.02809*3600) -> 0.54190894 | E16: 54.8 | F16: 2.82 | G16: 315 | H16: 295 | I16: =O16*3600/(T16*U16*E16) -> 14.310108 | J16: 309.30965 | K16: =H16+I16 -> 309.31011 | L16: 310.61245 | M16: =G16-O16/(R16*A16) -> 310.61245 | N16: =G16-L16 -> 4.3875454 | O16: 256.67455 | P16: =O16/(Abmessung!B$17*Q16) -> 33.773203 | Q16: =((G16-J16)-(L16-H16))/LN((G16-J16)/(L16-H16)) -> 9.830705 | R16: =((AC16 + AD16*G16 +AE16*G16^2 + AF16*G16^3)+(AC16 + AD16*L16 + AE16*L16^2 + AF16*L16^3))/2 -> 4178.6227 | S16: =((Y16 + Z16*G16 + AA16*G16^2 + AB16*G16^3)+(Y16 + Z16*L16 + AA16*L16^2 + AB16*L16^3))/2 -> 992.33694 | T16: =((AI16 + AJ16*H16)+(AI16 + AJ16*J16))/2 -> 1007.1823 | U16: =((AG16 + AH16*H16)+(AG16 + AH16*J16))/2 -> 1.1699135 | Y16: -144.24373 | Z16: 10.5287 | AA16: -0.031256926 | AB16: 2.9456116e-05 | AC16: 17554.454 | AD16: -125.69235 | AE16: 0.39362054 | AF16: -0.00041079636 | AG16: 2.306401 | AH16: -0.0037612753 | AI16: 995.1762 | AJ16: 0.039735 | AL16: -0.0073107128 | AM16: 2.552808 | AN16: 1.5829103
A17: 0.02 | B17: =A17/S17*3600*1000 -> 72.57193 | C17: 600 | D17: =E17/(0.02809*3600) -> 0.54190894 | E17: 54.8 | F17: 2.82 | G17: 315 | H17: 295 | I17: =O17*3600/(T17*U17*E17) -> 14.935687 | J17: 309.93518 | K17: =H17+I17 -> 309.93569 | L17: 311.79761 | M17: =G17-O17/(R17*A17) -> 311.79761 | N17: =G17-L17 -> 3.2023866 | O17: 267.62924 | P17: =O17/(Abmessung!B$17*Q17) -> 35.374936 | Q17: =((G17-J17)-(L17-H17))/LN((G17-J17)/(L17-H17)) -> 9.786153 | R17: =((AC17 + AD17*G17 +AE17*G17^2 + AF17*G17^3)+(AC17 + AD17*L17 + AE17*L17^2 + AF17*L17^3))/2 -> 4178.5905 | S17: =((Y17 + Z17*G17 + AA17*G17^2 + AB17*G17^3)+(Y17 + Z17*L17 + AA17*L17^2 + AB17*L17^3))/2 -> 992.11913 | T17: =((AI17 + AJ17*H17)+(AI17 + AJ17*J17))/2 -> 1007.1947 | U17: =((AG17 + AH17*H17)+(AG17 + AH17*J17))/2 -> 1.1687371 | Y17: -144.24373 | Z17: 10.5287 | AA17: -0.031256926 | AB17: 2.9456116e-05 | AC17: 17554.454 | AD17: -125.69235 | AE17: 0.39362054 | AF17: -0.00041079636 | AG17: 2.306401 | AH17: -0.0037612753 | AI17: 995.1762 | AJ17: 0.039735 | AL17: -0.0073107128 | AM17: 2.552808 | AN17: 1.5829103
A18: 0.026 | B18: =A18/S18*3600*1000 -> 94.355644 | C18: 600 | D18: =E18/(0.02809*3600) -> 0.54190894 | E18: 54.8 | F18: 2.82 | G18: 315 | H18: 295 | I18: =O18*3600/(T18*U18*E18) -> 15.293686 | J18: 310.29314 | K18: =H18+I18 -> 310.29369 | L18: 312.47901 | M18: =G18-O18/(R18*A18) -> 312.47901 | N18: =G18-L18 -> 2.5209922 | O18: 273.88823 | P18: =O18/(Abmessung!B$17*Q18) -> 36.392402 | Q18: =((G18-J18)-(L18-H18))/LN((G18-J18)/(L18-H18)) -> 9.7350178 | R18: =((AC18 + AD18*G18 +AE18*G18^2 + AF18*G18^3)+(AC18 + AD18*L18 + AE18*L18^2 + AF18*L18^3))/2 -> 4178.5782 | S18: =((Y18 + Z18*G18 + AA18*G18^2 + AB18*G18^3)+(Y18 + Z18*L18 + AA18*L18^2 + AB18*L18^3))/2 -> 991.99154 | T18: =((AI18 + AJ18*H18)+(AI18 + AJ18*J18))/2 -> 1007.2019 | U18: =((AG18 + AH18*H18)+(AG18 + AH18*J18))/2 -> 1.1680639 | Y18: -144.24373 | Z18: 10.5287 | AA18: -0.031256926 | AB18: 2.9456116e-05 | AC18: 17554.454 | AD18: -125.69235 | AE18: 0.39362054 | AF18: -0.00041079636 | AG18: 2.306401 | AH18: -0.0037612753 | AI18: 995.1762 | AJ18: 0.039735 | AL18: -0.0073107128 | AM18: 2.552808 | AN18: 1.5829103
A19: 0.032 | B19: =A19/S19*3600*1000 -> 116.13984 | C19: 600 | D19: =E19/(0.02809*3600) -> 0.54190894 | E19: 54.8 | F19: 2.82 | G19: 315 | H19: 295 | I19: =O19*3600/(T19*U19*E19) -> 15.522504 | J19: 310.52194 | K19: =H19+I19 -> 310.5225 | L19: 312.9218 | M19: =G19-O19/(R19*A19) -> 312.9218 | N19: =G19-L19 -> 2.0781985 | O19: 277.88488 | P19: =O19/(Abmessung!B$17*Q19) -> 37.080155 | Q19: =((G19-J19)-(L19-H19))/LN((G19-J19)/(L19-H19)) -> 9.6938766 | R19: =((AC19 + AD19*G19 +AE19*G19^2 + AF19*G19^3)+(AC19 + AD19*L19 + AE19*L19^2 + AF19*L19^3))/2 -> 4178.5722 | S19: =((Y19 + Z19*G19 + AA19*G19^2 + AB19*G19^3)+(Y19 + Z19*L19 + AA19*L19^2 + AB19*L19^3))/2 -> 991.90771 | T19: =((AI19 + AJ19*H19)+(AI19 + AJ19*J19))/2 -> 1007.2064 | U19: =((AG19 + AH19*H19)+(AG19 + AH19*J19))/2 -> 1.1676336 | Y19: -144.24373 | Z19: 10.5287 | AA19: -0.031256926 | AB19: 2.9456116e-05 | AC19: 17554.454 | AD19: -125.69235 | AE19: 0.39362054 | AF19: -0.00041079636 | AG19: 2.306401 | AH19: -0.0037612753 | AI19: 995.1762 | AJ19: 0.039735 | AL19: -0.0073107128 | AM19: 2.552808 | AN19: 1.5829103
A20: 0.038 | B20: =A20/S20*3600*1000 -> 137.9243 | C20: 600 | D20: =E20/(0.02809*3600) -> 0.54190894 | E20: 54.8 | F20: 2.82 | G20: 315 | H20: 295 | I20: =O20*3600/(T20*U20*E20) -> 15.678964 | J20: 310.67839 | K20: =H20+I20 -> 310.67896 | L20: 313.23274 | M20: =G20-O20/(R20*A20) -> 313.23274 | N20: =G20-L20 -> 1.7672631 | O20: 280.61597 | P20: =O20/(Abmessung!B$17*Q20) -> 37.563256 | Q20: =((G20-J20)-(L20-H20))/LN((G20-J20)/(L20-H20)) -> 9.6632509 | R20: =((AC20 + AD20*G20 +AE20*G20^2 + AF20*G20^3)+(AC20 + AD20*L20 + AE20*L20^2 + AF20*L20^3))/2 -> 4178.569 | S20: =((Y20 + Z20*G20 + AA20*G20^2 + AB20*G20^3)+(Y20 + Z20*L20 + AA20*L20^2 + AB20*L20^3))/2 -> 991.84843 | T20: =((AI20 + AJ20*H20)+(AI20 + AJ20*J20))/2 -> 1007.2095 | U20: =((AG20 + AH20*H20)+(AG20 + AH20*J20))/2 -> 1.1673394 | Y20: -144.24373 | Z20: 10.5287 | AA20: -0.031256926 | AB20: 2.9456116e-05 | AC20: 17554.454 | AD20: -125.69235 | AE20: 0.39362054 | AF20: -0.00041079636 | AG20: 2.306401 | AH20: -0.0037612753 | AI20: 995.1762 | AJ20: 0.039735 | AL20: -0.0073107128 | AM20: 2.552808 | AN20: 1.5829103
A21: 0.044 | B21: =A21/S21*3600*1000 -> 159.70893 | C21: 600 | D21: =E21/(0.02809*3600) -> 0.54190894 | E21: 54.8 | F21: 2.82 | G21: 315 | H21: 295 | I21: =O21*3600/(T21*U21*E21) -> 15.790756 | J21: 310.79018 | K21: =H21+I21 -> 310.79076 | L21: 313.46312 | M21: =G21-O21/(R21*A21) -> 313.46312 | N21: =G21-L21 -> 1.5368824 | O21: 282.56651 | P21: =O21/(Abmessung!B$17*Q21) -> 37.91038 | Q21: =((G21-J21)-(L21-H21))/LN((G21-J21)/(L21-H21)) -> 9.6413234 | R21: =((AC21 + AD21*G21 +AE21*G21^2 + AF21*G21^3)+(AC21 + AD21*L21 + AE21*L21^2 + AF21*L21^3))/2 -> 4178.5671 | S21: =((Y21 + Z21*G21 + AA21*G21^2 + AB21*G21^3)+(Y21 + Z21*L21 + AA21*L21^2 + AB21*L21^3))/2 -> 991.80428 | T21: =((AI21 + AJ21*H21)+(AI21 + AJ21*J21))/2 -> 1007.2117 | U21: =((AG21 + AH21*H21)+(AG21 + AH21*J21))/2 -> 1.1671292 | Y21: -144.24373 | Z21: 10.5287 | AA21: -0.031256926 | AB21: 2.9456116e-05 | AC21: 17554.454 | AD21: -125.69235 | AE21: 0.39362054 | AF21: -0.00041079636 | AG21: 2.306401 | AH21: -0.0037612753 | AI21: 995.1762 | AJ21: 0.039735 | AL21: -0.0073107128 | AM21: 2.552808 | AN21: 1.5829103
A22: 0.05 | B22: =A22/S22*3600*1000 -> 181.49367 | C22: 600 | D22: =E22/(0.02809*3600) -> 0.54190894 | E22: 54.8 | F22: 2.82 | G22: 315 | H22: 295 | I22: =O22*3600/(T22*U22*E22) -> 15.87309 | J22: 310.87251 | K22: =H22+I22 -> 310.87309 | L22: 313.64067 | M22: =G22-O22/(R22*A22) -> 313.64067 | N22: =G22-L22 -> 1.3593305 | O22: 284.00261 | P22: =O22/(Abmessung!B$17*Q22) -> 38.162955 | Q22: =((G22-J22)-(L22-H22))/LN((G22-J22)/(L22-H22)) -> 9.6261903 | R22: =((AC22 + AD22*G22 +AE22*G22^2 + AF22*G22^3)+(AC22 + AD22*L22 + AE22*L22^2 + AF22*L22^3))/2 -> 4178.5659 | S22: =((Y22 + Z22*G22 + AA22*G22^2 + AB22*G22^3)+(Y22 + Z22*L22 + AA22*L22^2 + AB22*L22^3))/2 -> 991.77013 | T22: =((AI22 + AJ22*H22)+(AI22 + AJ22*J22))/2 -> 1007.2134 | U22: =((AG22 + AH22*H22)+(AG22 + AH22*J22))/2 -> 1.1669744 | Y22: -144.24373 | Z22: 10.5287 | AA22: -0.031256926 | AB22: 2.9456116e-05 | AC22: 17554.454 | AD22: -125.69235 | AE22: 0.39362054 | AF22: -0.00041079636 | AG22: 2.306401 | AH22: -0.0037612753 | AI22: 995.1762 | AJ22: 0.039735 | AL22: -0.0073107128 | AM22: 2.552808 | AN22: 1.5829103
A23: 0.056 | B23: =A23/S23*3600*1000 -> 203.27849 | C23: 600 | D23: =E23/(0.02809*3600) -> 0.54190894 | E23: 54.8 | F23: 2.82 | G23: 315 | H23: 295 | I23: =O23*3600/(T23*U23*E23) -> 15.934944 | J23: 310.93437 | K23: =H23+I23 -> 310.93494 | L23: 313.7817 | M23: =G23-O23/(R23*A23) -> 313.7817 | N23: =G23-L23 -> 1.2182977 | O23: 285.08122 | P23: =O23/(Abmessung!B$17*Q23) -> 38.346991 | Q23: =((G23-J23)-(L23-H23))/LN((G23-J23)/(L23-H23)) -> 9.6163758 | R23: =((AC23 + AD23*G23 +AE23*G23^2 + AF23*G23^3)+(AC23 + AD23*L23 + AE23*L23^2 + AF23*L23^3))/2 -> 4178.5652 | S23: =((Y23 + Z23*G23 + AA23*G23^2 + AB23*G23^3)+(Y23 + Z23*L23 + AA23*L23^2 + AB23*L23^3))/2 -> 991.74292 | T23: =((AI23 + AJ23*H23)+(AI23 + AJ23*J23))/2 -> 1007.2146 | U23: =((AG23 + AH23*H23)+(AG23 + AH23*J23))/2 -> 1.166858 | Y23: -144.24373 | Z23: 10.5287 | AA23: -0.031256926 | AB23: 2.9456116e-05 | AC23: 17554.454 | AD23: -125.69235 | AE23: 0.39362054 | AF23: -0.00041079636 | AG23: 2.306401 | AH23: -0.0037612753 | AI23: 995.1762 | AJ23: 0.039735 | AL23: -0.0073107128 | AM23: 2.552808 | AN23: 1.5829103
A24: 0.062 | B24: =A24/S24*3600*1000 -> 225.06336 | C24: 600 | D24: =E24/(0.02809*3600) -> 0.54190894 | E24: 54.8 | F24: 2.82 | G24: 315 | H24: 295 | I24: =O24*3600/(T24*U24*E24) -> 15.981928 | J24: 310.98135 | K24: =H24+I24 -> 310.98193 | L24: 313.89644 | M24: =G24-O24/(R24*A24) -> 313.89644 | N24: =G24-L24 -> 1.10356 | O24: 285.90041 | P24: =O24/(Abmessung!B$17*Q24) -> 38.479488 | Q24: =((G24-J24)-(L24-H24))/LN((G24-J24)/(L24-H24)) -> 9.6108011 | R24: =((AC24 + AD24*G24 +AE24*G24^2 + AF24*G24^3)+(AC24 + AD24*L24 + AE24*L24^2 + AF24*L24^3))/2 -> 4178.5646 | S24: =((Y24 + Z24*G24 + AA24*G24^2 + AB24*G24^3)+(Y24 + Z24*L24 + AA24*L24^2 + AB24*L24^3))/2 -> 991.72073 | T24: =((AI24 + AJ24*H24)+(AI24 + AJ24*J24))/2 -> 1007.2155 | U24: =((AG24 + AH24*H24)+(AG24 + AH24*J24))/2 -> 1.1667697 | Y24: -144.24373 | Z24: 10.5287 | AA24: -0.031256926 | AB24: 2.9456116e-05 | AC24: 17554.454 | AD24: -125.69235 | AE24: 0.39362054 | AF24: -0.00041079636 | AG24: 2.306401 | AH24: -0.0037612753 | AI24: 995.1762 | AJ24: 0.039735 | AL24: -0.0073107128 | AM24: 2.552808 | AN24: 1.5829103
A25: 0.068 | B25: =A25/S25*3600*1000 -> 246.84828 | C25: 600 | D25: =E25/(0.02809*3600) -> 0.54190894 | E25: 54.8 | F25: 2.82 | G25: 315 | H25: 295 | I25: =O25*3600/(T25*U25*E25) -> 16.017819 | J25: 311.01725 | K25: =H25+I25 -> 311.01782 | L25: 313.99161 | M25: =G25-O25/(R25*A25) -> 313.99161 | N25: =G25-L25 -> 1.0083891 | O25: 286.52608 | P25: =O25/(Abmessung!B$17*Q25) -> 38.572558 | Q25: =((G25-J25)-(L25-H25))/LN((G25-J25)/(L25-H25)) -> 9.6085933 | R25: =((AC25 + AD25*G25 +AE25*G25^2 + AF25*G25^3)+(AC25 + AD25*L25 + AE25*L25^2 + AF25*L25^3))/2 -> 4178.5642 | S25: =((Y25 + Z25*G25 + AA25*G25^2 + AB25*G25^3)+(Y25 + Z25*L25 + AA25*L25^2 + AB25*L25^3))/2 -> 991.70229 | T25: =((AI25 + AJ25*H25)+(AI25 + AJ25*J25))/2 -> 1007.2162 | U25: =((AG25 + AH25*H25)+(AG25 + AH25*J25))/2 -> 1.1667021 | Y25: -144.24373 | Z25: 10.5287 | AA25: -0.031256926 | AB25: 2.9456116e-05 | AC25: 17554.454 | AD25: -125.69235 | AE25: 0.39362054 | AF25: -0.00041079636 | AG25: 2.306401 | AH25: -0.0037612753 | AI25: 995.1762 | AJ25: 0.039735 | AL25: -0.0073107128 | AM25: 2.552808 | AN25: 1.5829103
A26: 0.074 | B26: =A26/S26*3600*1000 -> 268.63322 | C26: 600 | D26: =E26/(0.02809*3600) -> 0.54190894 | E26: 54.8 | F26: 2.82 | G26: 315 | H26: 295 | I26: =O26*3600/(T26*U26*E26) -> 16.045235 | J26: 311.04467 | K26: =H26+I26 -> 311.04524 | L26: 314.07183 | M26: =G26-O26/(R26*A26) -> 314.07183 | N26: =G26-L26 -> 0.92817344 | O26: 287.00397 | P26: =O26/(Abmessung!B$17*Q26) -> 38.634972 | Q26: =((G26-J26)-(L26-H26))/LN((G26-J26)/(L26-H26)) -> 9.6090711 | R26: =((AC26 + AD26*G26 +AE26*G26^2 + AF26*G26^3)+(AC26 + AD26*L26 + AE26*L26^2 + AF26*L26^3))/2 -> 4178.564 | S26: =((Y26 + Z26*G26 + AA26*G26^2 + AB26*G26^3)+(Y26 + Z26*L26 + AA26*L26^2 + AB26*L26^3))/2 -> 991.68672 | T26: =((AI26 + AJ26*H26)+(AI26 + AJ26*J26))/2 -> 1007.2168 | U26: =((AG26 + AH26*H26)+(AG26 + AH26*J26))/2 -> 1.1666506 | Y26: -144.24373 | Z26: 10.5287 | AA26: -0.031256926 | AB26: 2.9456116e-05 | AC26: 17554.454 | AD26: -125.69235 | AE26: 0.39362054 | AF26: -0.00041079636 | AG26: 2.306401 | AH26: -0.0037612753 | AI26: 995.1762 | AJ26: 0.039735 | AL26: -0.0073107128 | AM26: 2.552808 | AN26: 1.5829103
... A110: 0.074 | B110: =A110/S110*3600*1000 -> 268.43279 | C110: 3000 | D110: =E110/(0.02809*3600) -> 3.3295756 | E110: 336.7 | F110: 32.54 | G110: 315 | H110: 295 | I110: =O110*3600/(T110*U110*E110) -> 13.699844 | J110: 308.69959 | K110: =H110+I110 -> 308.69984 | L110: 310.11267 | M110: =G110-O110/(R110*A110) -> 310.11267 | N110: =G110-L110 -> 4.8873316 | O110: 1511.2578 | P110: =O110/(Abmessung!B$17*Q110) -> 194.08553 | Q110: =((G110-J110)-(L110-H110))/LN((G110-J110)/(L110-H110)) -> 10.072087 | R110: =((AC110 + AD110*G110 +AE110*G110^2 + AF110*G110^3)+(AC110 + AD110*L110 + AE110*L110^2 + AF110*L110^3))/2 -> 4178.6407 | S110: =((Y110 + Z110*G110 + AA110*G110^2 + AB110*G110^3)+(Y110 + Z110*L110 + AA110*L110^2 + AB110*L110^3))/2 -> 992.4272 | T110: =((AI110 + AJ110*H110)+(AI110 + AJ110*J110))/2 -> 1007.1702 | U110: =((AG110 + AH110*H110)+(AG110 + AH110*J110))/2 -> 1.1710608 | Y110: -144.24373 | Z110: 10.5287 | AA110: -0.031256926 | AB110: 2.9456116e-05 | AC110: 17554.454 | AD110: -125.69235 | AE110: 0.39362054 | AF110: -0.00041079636 | AG110: 2.306401 | AH110: -0.0037612753 | AI110: 995.1762 | AJ110: 0.039735 | AL110: -0.0073107128 | AM110: 2.552808 | AN110: 1.5829103
A114: 29 | D114: 50.8 | G114: 72.5 | J114: 94.4 | M114: 116.1 | O114: 137.9 | Q114: 159.7 | S114: 181.4
A115: 0.008 | D115: 0.014 | G115: 0.02 | J115: 0.026 | M115: 0.032 | O115: 0.038 | Q115: 0.044 | S115: 0.05
A118: rpm | B118: W | C118: K/W | D118: rpm | E118: W | F118: K/W | G118: rpm | H118: W | I118: K/W | J118: rpm | K118: W | L118: K/W | M118: W | N118: K/W | O118: W | P118: K/W | Q118: W | R118: K/W | S118: W | T118: K/W
A121: 0 | B121: =$Y$195 /(1 + EXP($Z$195-$AA$195*A121))^(1/$AB$195)*1.013 -> 24.424687 | C121: =20/B121 -> 0.81884365
A122: 5 | B122: =$Y$195 /(1 + EXP($Z$195-$AA$195*A122))^(1/$AB$195)*1.013 -> 25.199346 | C122: =20/B122 -> 0.79367138
A123: 10 | B123: =$Y$195 /(1 + EXP($Z$195-$AA$195*A123))^(1/$AB$195)*1.013 -> 25.992477 | C123: =20/B123 -> 0.76945341
A124: 15 | B124: =$Y$195 /(1 + EXP($Z$195-$AA$195*A124))^(1/$AB$195)*1.013 -> 26.804289 | C124: =20/B124 -> 0.74614924
A125: 20 | B125: =$Y$195 /(1 + EXP($Z$195-$AA$195*A125))^(1/$AB$195)*1.013 -> 27.634989 | C125: =20/B125 -> 0.72372021
A126: 25 | B126: =$Y$195 /(1 + EXP($Z$195-$AA$195*A126))^(1/$AB$195)*1.013 -> 28.484776 | C126: =20/B126 -> 0.70212945 | D126: 0 | E126: =33.8234496280637+ (0.187753670062407)*D126 + 0.000427792336470956*D126^2 -> 33.82345 | F126: =20/E126 -> 0.59130574
A127: 30 | B127: =$Y$195 /(1 + EXP($Z$195-$AA$195*A127))^(1/$AB$195)*1.013 -> 29.353844 | C127: =20/B127 -> 0.68134178 | D127: 5 | E127: =33.8234496280637+ (0.187753670062407)*D127 + 0.000427792336470956*D127^2 -> 34.772913 | F127: =20/E127 -> 0.57516033
A128: 35 | B128: =$Y$195 /(1 + EXP($Z$195-$AA$195*A128))^(1/$AB$195)*1.013 -> 30.24238 | C128: =20/B128 -> 0.66132361 | D128: 10 | E128: =33.8234496280637+ (0.187753670062407)*D128 + 0.000427792336470956*D128^2 -> 35.743766 | F128: =20/E128 -> 0.55953814 | G128: 0 | H128: =38.8175538187116+ (0.166152742927712)*G128 + 0.000475566867430996*G128^2 -> 38.817554 | I128: =20/H128 -> 0.51523082
A129: 40 | B129: =$Y$195 /(1 + EXP($Z$195-$AA$195*A129))^(1/$AB$195)*1.013 -> 31.150566 | C129: =20/B129 -> 0.6420429 | D129: 15 | E129: =33.8234496280637+ (0.187753670062407)*D129 + 0.000427792336470956*D129^2 -> 36.736008 | F129: =20/E129 -> 0.54442497 | G129: 5 | H129: =38.8175538187116+ (0.166152742927712)*G129 + 0.000475566867430996*G129^2 -> 39.660207 | I129: =20/H129 -> 0.50428381
A130: 45 | B130: =$Y$195 /(1 + EXP($Z$195-$AA$195*A130))^(1/$AB$195)*1.013 -> 32.078577 | C130: =20/B130 -> 0.62346906 | D130: 20 | E130: =33.8234496280637+ (0.187753670062407)*D130 + 0.000427792336470956*D130^2 -> 37.74964 | F130: =20/E130 -> 0.52980638 | G130: 10 | H130: =38.8175538187116+ (0.166152742927712)*G130 + 0.000475566867430996*G130^2 -> 40.526638 | I130: =20/H130 -> 0.49350257
A131: 50 | B131: =$Y$195 /(1 + EXP($Z$195-$AA$195*A131))^(1/$AB$195)*1.013 -> 33.026579 | C131: =20/B131 -> 0.60557286 | D131: 25 | E131: =33.8234496280637+ (0.187753670062407)*D131 + 0.000427792336470956*D131^2 -> 38.784662 | F131: =20/E131 -> 0.51566777 | G131: 15 | H131: =38.8175538187116+ (0.166152742927712)*G131 + 0.000475566867430996*G131^2 -> 41.416848 | I131: =20/H131 -> 0.48289528 | J131: 0 | K131: 41.499097 | L131: =20/K131 -> 0.48193819 | M131: 43.929729 | N131: =20/M131 -> 0.45527255 | O131: 45.551885 | P131: =20/O131 -> 0.43905976 | Q131: 47.186696 | R131: =20/Q131 -> 0.42384829 | S131: 49.066888 | T131: =20/S131 -> 0.40760686
A132: 100 | B132: =$Y$195 /(1 + EXP($Z$195-$AA$195*A132))^(1/$AB$195)*1.013 -> 43.637581 | C132: =20/B132 -> 0.45832054 | D132: 75 | E132: =33.8234496280637+ (0.187753670062407)*D132 + 0.000427792336470956*D132^2 -> 50.311307 | F132: =20/E132 -> 0.39752496 | G132: 65 | H132: =38.8175538187116+ (0.166152742927712)*G132 + 0.000475566867430996*G132^2 -> 51.626752 | I132: =20/H132 -> 0.38739605 | J132: 50 | K132: 46.704485 | L132: =20/K132 -> 0.4282244 | M132: 49.44 | N132: =20/M132 -> 0.40453074 | O132: 61.363357 | P132: =20/O132 -> 0.32592741 | Q132: 62.991776 | R132: =20/Q132 -> 0.31750176 | S132: 64.646064 | T132: =20/S132 -> 0.30937692
A133: 150 | B133: =$Y$195 /(1 + EXP($Z$195-$AA$195*A133))^(1/$AB$195)*1.013 -> 56.372196 | C133: =20/B133 -> 0.35478483 | D133: 125 | E133: =33.8234496280637+ (0.187753670062407)*D133 + 0.000427792336470956*D133^2 -> 63.976914 | F133: =20/E133 -> 0.31261277 | G133: 115 | H133: =38.8175538187116+ (0.166152742927712)*G133 + 0.000475566867430996*G133^2 -> 64.214491 | I133: =20/H133 -> 0.31145618 | J133: 100 | K133: 58.786689 | L133: =20/K133 -> 0.34021307 | M133: 60.417348 | N133: =20/M133 -> 0.33103075 | O133: 78.356521 | P133: =20/O133 -> 0.25524359 | Q133: 80.007126 | R133: =20/Q133 -> 0.24997773 | S133: 81.461694 | T133: =20/S133 -> 0.24551417
A134: 200 | B134: =$Y$195 /(1 + EXP($Z$195-$AA$195*A134))^(1/$AB$195)*1.013 -> 71.253022 | C134: =20/B134 -> 0.28068985 | D134: 175 | E134: =33.8234496280637+ (0.187753670062407)*D134 + 0.000427792336470956*D134^2 -> 79.781482 | F134: =20/E134 -> 0.25068474 | G134: 165 | H134: =38.8175538187116+ (0.166152742927712)*G134 + 0.000475566867430996*G134^2 -> 79.180064 | I134: =20/H134 -> 0.25258883 | J134: 150 | K134: 73.060409 | L134: =20/K134 -> 0.27374607 | M134: 75.087 | N134: =20/M134 -> 0.26635769 | O134: 96.531378 | P134: =20/O134 -> 0.20718652 | Q134: 98.232745 | R134: =20/Q134 -> 0.2035981 | S134: 99.513777 | T134: =20/S134 -> 0.2009772
A135: 250 | B135: =$Y$195 /(1 + EXP($Z$195-$AA$195*A135))^(1/$AB$195)*1.013 -> 88.200938 | C135: =20/B135 -> 0.22675496 | D135: 225 | E135: =33.8234496280637+ (0.187753670062407)*D135 + 0.000427792336470956*D135^2 -> 97.725012 | F135: =20/E135 -> 0.2046559 | G135: 215 | H135: =38.8175538187116+ (0.166152742927712)*G135 + 0.000475566867430996*G135^2 -> 96.523472 | I135: =20/H135 -> 0.20720349 | J135: 200 | K135: 90.663067 | L135: =20/K135 -> 0.22059699 | M135: 93.17793 | N135: =20/M135 -> 0.2146431 | O135: 115.88793 | P135: =20/O135 -> 0.17258053 | Q135: 117.66863 | R135: =20/Q135 -> 0.16996883 | S135: 118.80231 | T135: =20/S135 -> 0.16834689
A136: 300 | B136: =$Y$195 /(1 + EXP($Z$195-$AA$195*A136))^(1/$AB$195)*1.013 -> 107.03599 | C136: =20/B136 -> 0.18685305 | D136: 275 | E136: =33.8234496280637+ (0.187753670062407)*D136 + 0.000427792336470956*D136^2 -> 117.8075 | F136: =20/E136 -> 0.16976847 | G136: 265 | H136: =38.8175538187116+ (0.166152742927712)*G136 + 0.000475566867430996*G136^2 -> 116.24471 | I136: =20/H136 -> 0.17205083 | J136: 250 | K136: 112.12151 | L136: =20/K136 -> 0.17837791 | M136: 115.2316 | N136: =20/M136 -> 0.17356351 | O136: 136.42617 | P136: =20/O136 -> 0.14659944 | Q136: 138.31479 | R136: =20/Q136 -> 0.14459769 | S136: 139.3273 | T136: =20/S136 -> 0.14354688
A137: 350 | B137: =$Y$195 /(1 + EXP($Z$195-$AA$195*A137))^(1/$AB$195)*1.013 -> 127.48873 | C137: =20/B137 -> 0.15687661 | D137: 325 | E137: =33.8234496280637+ (0.187753670062407)*D137 + 0.000427792336470956*D137^2 -> 140.02896 | F137: =20/E137 -> 0.1428276 | G137: 315 | H137: =38.8175538187116+ (0.166152742927712)*G137 + 0.000475566867430996*G137^2 -> 138.34379 | I137: =20/H137 -> 0.14456739 | J137: 300 | K137: 135.6084 | L137: =20/K137 -> 0.14748349 | M137: 139.36998 | N137: =20/M137 -> 0.14350293 | O137: 158.14611 | P137: =20/O137 -> 0.12646533 | Q137: 160.17122 | R137: =20/Q137 -> 0.12486638 | S137: 161.08874 | T137: =20/S137 -> 0.12415517
A138: 400 | B138: =$Y$195 /(1 + EXP($Z$195-$AA$195*A138))^(1/$AB$195)*1.013 -> 149.22019 | C138: =20/B138 -> 0.13403012 | D138: 375 | E138: =33.8234496280637+ (0.187753670062407)*D138 + 0.000427792336470956*D138^2 -> 164.38937 | F138: =20/E138 -> 0.12166237 | G138: 365 | H138: =38.8175538187116+ (0.166152742927712)*G138 + 0.000475566867430996*G138^2 -> 162.8207 | I138: =20/H138 -> 0.1228345 | J138: 350 | K138: 160.75367 | L138: =20/K138 -> 0.12441395 | M138: 165.21275 | N138: =20/M138 -> 0.12105603 | O138: 181.04773 | P138: =20/O138 -> 0.1104681 | Q138: 183.23792 | R138: =20/Q138 -> 0.10914772 | S138: 184.08664 | T138: =20/S138 -> 0.1086445
A139: 450 | B139: =$Y$195 /(1 + EXP($Z$195-$AA$195*A139))^(1/$AB$195)*1.013 -> 171.84697 | C139: =20/B139 -> 0.11638261 | D139: 425 | E139: =33.8234496280637+ (0.187753670062407)*D139 + 0.000427792336470956*D139^2 -> 190.88875 | F139: =20/E139 -> 0.10477307 | G139: 415 | H139: =38.8175538187116+ (0.166152742927712)*G139 + 0.000475566867430996*G139^2 -> 189.67545 | I139: =20/H139 -> 0.10544327 | J139: 400 | K139: 187.29347 | L139: =20/K139 -> 0.10678429 | M139: 192.48873 | N139: =20/M139 -> 0.10390219 | O139: 205.13106 | P139: =20/O139 -> 0.097498645 | Q139: 207.51488 | R139: =20/Q139 -> 0.096378629 | S139: 208.32098 | T139: =20/S139 -> 0.096005691
A140: 500 | B140: =$Y$195 /(1 + EXP($Z$195-$AA$195*A140))^(1/$AB$195)*1.013 -> 194.96824 | C140: =20/B140 -> 0.10258081 | D140: 475 | E140: =($AC$195 - $AD$195*EXP(-$AE$195*D140^$AF$195))*1.022 -> 215.51569 | F140: =20/E140 -> 0.092800669 | G140: 465 | H140: =38.8175538187116+ (0.166152742927712)*G140 + 0.000475566867430996*G140^2 -> 218.90803 | I140: =20/H140 -> 0.091362571 | J140: 450 | K140: 214.84473 | L140: =20/K140 -> 0.093090484 | M140: 220.80421 | N140: =20/M140 -> 0.090577981 | O140: 230.39607 | P140: =20/O140 -> 0.086807036 | Q140: 233.00212 | R140: =20/Q140 -> 0.085836129 | S140: 233.79178 | T140: =20/S140 -> 0.085546206
A141: 550 | B141: =$Y$195 /(1 + EXP($Z$195-$AA$195*A141))^(1/$AB$195)*1.013 -> 218.19086 | C141: =20/B141 -> 0.091662868 | D141: 525 | E141: =($AC$195 - $AD$195*EXP(-$AE$195*D141^$AF$195))*1.022 -> 241.37132 | F141: =20/E141 -> 0.082859884 | G141: 515 | H141: =($AG$195 - $AH$195*EXP(-$AI$195*G141^$AJ$195))*1.02 -> 245.68925 | I141: =20/H141 -> 0.081403643 | J141: 500 | K141: 243.2039 | L141: =20/K141 -> 0.082235525 | M141: 249.95002 | N141: =20/M141 -> 0.080015996 | O141: 256.84278 | P141: =20/O141 -> 0.077868649 | Q141: 259.69962 | R141: =20/Q141 -> 0.077012048 | S141: 260.49904 | T141: =20/S141 -> 0.076775716
A142: 600 | B142: =$Y$195 /(1 + EXP($Z$195-$AA$195*A142))^(1/$AB$195)*1.013 -> 241.15056 | C142: =20/B142 -> 0.082935741 | D142: 575 | E142: =($AC$195 - $AD$195*EXP(-$AE$195*D142^$AF$195))*1.022 -> 267.2087 | F142: =20/E142 -> 0.074847861 | G142: 565 | H142: =($AG$195 - $AH$195*EXP(-$AI$195*G142^$AJ$195))*1.02 -> 273.97483 | I142: =20/H142 -> 0.072999406 | J142: 550 | K142: 272.14554 | L142: =20/K142 -> 0.073490089 | M142: 279.69447 | N142: =20/M142 -> 0.071506599 | O142: 284.02297 | P142: =20/O142 -> 0.070416839 | Q142: 287.17986 | R142: =20/Q142 -> 0.069642768 | S142: 288.03365 | T142: =20/S142 -> 0.069436332
A143: 650 | B143: =$Y$195 /(1 + EXP($Z$195-$AA$195*A143))^(1/$AB$195)*1.013 -> 263.52738 | C143: =20/B143 -> 0.075893443 | D143: 625 | E143: =($AC$195 - $AD$195*EXP(-$AE$195*D143^$AF$195))*1.022 -> 292.83624 | F143: =20/E143 -> 0.068297558 | G143: 615 | H143: =($AG$195 - $AH$195*EXP(-$AI$195*G143^$AJ$195))*1.02 -> 302.36616 | I143: =20/H143 -> 0.066144968 | J143: 600 | K143: =($AK$195 - $AL$195*EXP(-$AM$195*J143^$AN$195))*1.02 -> 303.34886 | L143: =20/K143 -> 0.065930692 | M143: =($AO$195 - $AP$195*EXP(-$AQ$195*J143^$AR$195))*1.02 -> 309.82867 | N143: =20/M143 -> 0.064551805 | O143: 314.55216 | P143: =20/O143 -> 0.063582459 | Q143: 317.95346 | R143: =20/Q143 -> 0.062902287 | S143: 318.81738 | T143: =20/S143 -> 0.062731837
A144: 700 | B144: =$Y$195 /(1 + EXP($Z$195-$AA$195*A144))^(1/$AB$195)*1.013 -> 285.05528 | C144: =20/B144 -> 0.07016183 | D144: 675 | E144: =($AC$195 - $AD$195*EXP(-$AE$195*D144^$AF$195))*1.022 -> 318.08847 | F144: =20/E144 -> 0.06287559 | G144: 665 | H144: =($AG$195 - $AH$195*EXP(-$AI$195*G144^$AJ$195))*1.02 -> 330.66469 | I144: =20/H144 -> 0.060484233 | J144: 650 | K144: =($AK$195 - $AL$195*EXP(-$AM$195*J144^$AN$195))*1.02 -> 333.19493 | L144: =20/K144 -> 0.060024923 | M144: =($AO$195 - $AP$195*EXP(-$AQ$195*J144^$AR$195))*1.02 -> 340.16422 | N144: =20/M144 -> 0.058795131 | O144: 345.35462 | P144: =20/O144 -> 0.057911488 | Q144: 349.05857 | R144: =20/Q144 -> 0.057296974 | S144: 349.98155 | T144: =20/S144 -> 0.057145869
A145: 750 | B145: =$Y$195 /(1 + EXP($Z$195-$AA$195*A145))^(1/$AB$195)*1.013 -> 305.5261 | C145: =20/B145 -> 0.065460856 | D145: 725 | E145: =($AC$195 - $AD$195*EXP(-$AE$195*D145^$AF$195))*1.022 -> 342.82386 | F145: =20/E145 -> 0.058338997 | G145: 715 | H145: =($AG$195 - $AH$195*EXP(-$AI$195*G145^$AJ$195))*1.02 -> 358.69458 | I145: =20/H145 -> 0.055757742 | J145: 700 | K145: =($AK$195 - $AL$195*EXP(-$AM$195*J145^$AN$195))*1.02 -> 362.97616 | L145: =20/K145 -> 0.055100038 | M145: =($AO$195 - $AP$195*EXP(-$AQ$195*J145^$AR$195))*1.02 -> 370.5314 | N145: =20/M145 -> 0.053976532 | O145: 376.27093 | P145: =20/O145 -> 0.05315319 | Q145: 380.34588 | R145: =20/Q145 -> 0.052583717 | S145: 381.38666 | T145: =20/S145 -> 0.052440219
A146: 800 | B146: =$Y$195 /(1 + EXP($Z$195-$AA$195*A146))^(1/$AB$195)*1.013 -> 324.78899 | C146: =20/B146 -> 0.061578442 | D146: 775 | E146: =($AC$195 - $AD$195*EXP(-$AE$195*D146^$AF$195))*1.022 -> 366.92291 | F146: =20/E146 -> 0.054507362 | G146: 765 | H146: =($AG$195 - $AH$195*EXP(-$AI$195*G146^$AJ$195))*1.02 -> 386.30146 | I146: =20/H146 -> 0.051773038 | J146: 750 | K146: =($AK$195 - $AL$195*EXP(-$AM$195*J146^$AN$195))*1.02 -> 392.52742 | L146: =20/K146 -> 0.050951855 | M146: =($AO$195 - $AP$195*EXP(-$AQ$195*J146^$AR$195))*1.02 -> 400.77779 | N146: =20/M146 -> 0.049902965 | O146: 407.15732 | P146: =20/O146 -> 0.049121062 | Q146: 411.68034 | R146: =20/Q146 -> 0.048581382 | S146: 412.90629 | T146: =20/S146 -> 0.04843714
A147: 850 | B147: =$Y$195 /(1 + EXP($Z$195-$AA$195*A147))^(1/$AB$195)*1.013 -> 342.74638 | C147: =20/B147 -> 0.058352185 | D147: 825 | E147: =($AC$195 - $AD$195*EXP(-$AE$195*D147^$AF$195))*1.022 -> 390.28633 | F147: =20/E147 -> 0.051244428 | G147: 815 | H147: =($AG$195 - $AH$195*EXP(-$AI$195*G147^$AJ$195))*1.02 -> 413.35111 | I147: =20/H147 -> 0.048385016 | J147: 800 | K147: =($AK$195 - $AL$195*EXP(-$AM$195*J147^$AN$195))*1.02 -> 421.70222 | L147: =20/K147 -> 0.047426831 | M147: =($AO$195 - $AP$195*EXP(-$AQ$195*J147^$AR$195))*1.02 -> 430.76712 | N147: =20/M147 -> 0.046428799 | O147: 437.8845 | P147: =20/O147 -> 0.045674145 | Q147: 442.93999 | R147: =20/Q147 -> 0.045152843 | S147: 444.42587 | T147: =20/S147 -> 0.045001881
A148: 900 | B148: =$Y$195 /(1 + EXP($Z$195-$AA$195*A148))^(1/$AB$195)*1.013 -> 359.34775 | C148: =20/B148 -> 0.055656395 | D148: 875 | E148: =($AC$195 - $AD$195*EXP(-$AE$195*D148^$AF$195))*1.022 -> 412.83336 | F148: =20/E148 -> 0.048445697 | G148: 865 | H148: =($AG$195 - $AH$195*EXP(-$AI$195*G148^$AJ$195))*1.02 -> 439.72838 | I148: =20/H148 -> 0.045482623 | J148: 850 | K148: =($AK$195 - $AL$195*EXP(-$AM$195*J148^$AN$195))*1.02 -> 450.37171 | L148: =20/K148 -> 0.044407763 | M148: =($AO$195 - $AP$195*EXP(-$AQ$195*J148^$AR$195))*1.02 -> 460.37826 | N148: =20/M148 -> 0.043442538 | O148: =($AS$195 - $AT$195*EXP(-$AU$195*J148^$AV$195))*1.02 -> 468.33658 | P148: =20/O148 -> 0.042704331 | Q148: =($AW$195 - $AX$195*EXP(-$AY$195*J148^$AZ$195))*1.02 -> 474.01488 | R148: =20/Q148 -> 0.042192768 | S148: =($BA$195 - $BB$195*EXP(-$BC$195*J148^$BD$195))*1.015 -> 475.84164 | T148: =20/S148 -> 0.04203079
A149: 950 | B149: =$Y$195 /(1 + EXP($Z$195-$AA$195*A149))^(1/$AB$195)*1.013 -> 374.58223 | C149: =20/B149 -> 0.053392816 | D149: 925 | E149: =($AC$195 - $AD$195*EXP(-$AE$195*D149^$AF$195))*1.022 -> 434.50016 | F149: =20/E149 -> 0.046029903 | G149: 915 | H149: =($AG$195 - $AH$195*EXP(-$AI$195*G149^$AJ$195))*1.02 -> 465.33593 | I149: =20/H149 -> 0.042979703 | J149: 900 | K149: =($AK$195 - $AL$195*EXP(-$AM$195*J149^$AN$195))*1.02 -> 478.42372 | L149: =20/K149 -> 0.041803947 | M149: =($AO$195 - $AP$195*EXP(-$AQ$195*J149^$AR$195))*1.02 -> 489.50427 | N149: =20/M149 -> 0.040857662 | O149: =($AS$195 - $AT$195*EXP(-$AU$195*J149^$AV$195))*1.02 -> 498.41024 | P149: =20/O149 -> 0.040127586 | Q149: =($AW$195 - $AX$195*EXP(-$AY$195*J149^$AZ$195))*1.02 -> 504.80625 | R149: =20/Q149 -> 0.039619161 | S149: =($BA$195 - $BB$195*EXP(-$BC$195*J149^$BD$195))*1.015 -> 507.05985 | T149: =20/S149 -> 0.039443076
A150: 1000 | B150: =$Y$195 /(1 + EXP($Z$195-$AA$195*A150))^(1/$AB$195)*1.013 -> 388.47092 | C150: =20/B150 -> 0.051483905 | D150: 975 | E150: =($AC$195 - $AD$195*EXP(-$AE$195*D150^$AF$195))*1.022 -> 455.23824 | F150: =20/E150 -> 0.04393304 | G150: 965 | H150: =($AG$195 - $AH$195*EXP(-$AI$195*G150^$AJ$195))*1.02 -> 490.09312 | I150: =20/H150 -> 0.040808571 | J150: 950 | K150: =($AK$195 - $AL$195*EXP(-$AM$195*J150^$AN$195))*1.02 -> 505.76183 | L150: =20/K150 -> 0.039544305 | M150: =($AO$195 - $AP$195*EXP(-$AQ$195*J150^$AR$195))*1.02 -> 518.05156 | N150: =20/M150 -> 0.038606196 | O150: =($AS$195 - $AT$195*EXP(-$AU$195*J150^$AV$195))*1.02 -> 528.01392 | P150: =20/O150 -> 0.037877789 | Q150: =($AW$195 - $AX$195*EXP(-$AY$195*J150^$AZ$195))*1.02 -> 535.22573 | R150: =20/Q150 -> 0.037367411 | S150: =($BA$195 - $BB$195*EXP(-$BC$195*J150^$BD$195))*1.015 -> 537.99599 | T150: =20/S150 -> 0.037174998
A151: 1050 | B151: =$Y$195 /(1 + EXP($Z$195-$AA$195*A151))^(1/$AB$195)*1.013 -> 401.05945 | C151: =20/B151 -> 0.049867919 | D151: 1025 | E151: =($AC$195 - $AD$195*EXP(-$AE$195*D151^$AF$195))*1.022 -> 475.013 | F151: =20/E151 -> 0.04210411 | G151: 1015 | H151: =($AG$195 - $AH$195*EXP(-$AI$195*G151^$AJ$195))*1.02 -> 513.93479 | I151: =20/H151 -> 0.038915443 | J151: 1000 | K151: =($AK$195 - $AL$195*EXP(-$AM$195*J151^$AN$195))*1.02 -> 532.30441 | L151: =20/K151 -> 0.037572486 | M151: =($AO$195 - $AP$195*EXP(-$AQ$195*J151^$AR$195))*1.02 -> 545.93908 | N151: =20/M151 -> 0.036634124 | O151: =($AS$195 - $AT$195*EXP(-$AU$195*J151^$AV$195))*1.02 -> 557.06706 | P151: =20/O151 -> 0.03590232 | Q151: =($AW$195 - $AX$195*EXP(-$AY$195*J151^$AZ$195))*1.02 -> 565.19467 | R151: =20/Q151 -> 0.035386038 | S151: =($BA$195 - $BB$195*EXP(-$BC$195*J151^$BD$195))*1.015 -> 568.57417 | T151: =20/S151 -> 0.03517571
A152: 1100 | B152: =$Y$195 /(1 + EXP($Z$195-$AA$195*A152))^(1/$AB$195)*1.013 -> 412.41126 | C152: =20/B152 -> 0.048495281 | D152: 1075 | E152: =($AC$195 - $AD$195*EXP(-$AE$195*D152^$AF$195))*1.022 -> 493.80228 | F152: =20/E152 -> 0.040502041 | G152: 1065 | H152: =($AG$195 - $AH$195*EXP(-$AI$195*G152^$AJ$195))*1.02 -> 536.81008 | I152: =20/H152 -> 0.037257125 | J152: 1050 | K152: =($AK$195 - $AL$195*EXP(-$AM$195*J152^$AN$195))*1.02 -> 557.98369 | L152: =20/K152 -> 0.035843342 | M152: =($AO$195 - $AP$195*EXP(-$AQ$195*J152^$AR$195))*1.02 -> 573.09749 | N152: =20/M152 -> 0.034898076 | O152: =($AS$195 - $AT$195*EXP(-$AU$195*J152^$AV$195))*1.02 -> 585.49942 | P152: =20/O152 -> 0.034158873 | Q152: =($AW$195 - $AX$195*EXP(-$AY$195*J152^$AZ$195))*1.02 -> 594.64352 | R152: =20/Q152 -> 0.033633596 | S152: =($BA$195 - $BB$195*EXP(-$BC$195*J152^$BD$195))*1.015 -> 598.72654 | T152: =20/S152 -> 0.033404231
A153: 1150 | B153: =$Y$195 /(1 + EXP($Z$195-$AA$195*A153))^(1/$AB$195)*1.013 -> 422.6018 | C153: =20/B153 -> 0.047325875 | D153: 1125 | E153: =($AC$195 - $AD$195*EXP(-$AE$195*D153^$AF$195))*1.022 -> 511.59494 | F153: =20/E153 -> 0.039093428 | G153: 1115 | H153: =($AG$195 - $AH$195*EXP(-$AI$195*G153^$AJ$195))*1.02 -> 558.68129 | I153: =20/H153 -> 0.035798586 | J153: 1100 | K153: =($AK$195 - $AL$195*EXP(-$AM$195*J153^$AN$195))*1.02 -> 582.74477 | L153: =20/K153 -> 0.034320342 | M153: =($AO$195 - $AP$195*EXP(-$AQ$195*J153^$AR$195))*1.02 -> 599.46846 | N153: =20/M153 -> 0.033362889 | O153: =($AS$195 - $AT$195*EXP(-$AU$195*J153^$AV$195))*1.02 -> 613.25041 | P153: =20/O153 -> 0.032613105 | Q153: =($AW$195 - $AX$195*EXP(-$AY$195*J153^$AZ$195))*1.02 -> 623.51127 | R153: =20/Q153 -> 0.032076405 | S153: =($BA$195 - $BB$195*EXP(-$BC$195*J153^$BD$195))*1.015 -> 628.39279 | T153: =20/S153 -> 0.031827227
A154: 1200 | B154: =$Y$195 /(1 + EXP($Z$195-$AA$195*A154))^(1/$AB$195)*1.013 -> 431.71366 | C154: =20/B154 -> 0.046327002 | D154: 1175 | E154: =($AC$195 - $AD$195*EXP(-$AE$195*D154^$AF$195))*1.022 -> 528.38964 | F154: =20/E154 -> 0.037850856 | G154: 1165 | H154: =($AG$195 - $AH$195*EXP(-$AI$195*G154^$AJ$195))*1.02 -> 579.52265 | I154: =20/H154 -> 0.034511162 | J154: 1150 | K154: =($AK$195 - $AL$195*EXP(-$AM$195*J154^$AN$195))*1.02 -> 606.54475 | L154: =20/K154 -> 0.032973659 | M154: =($AO$195 - $AP$195*EXP(-$AQ$195*J154^$AR$195))*1.02 -> 625.00383 | N154: =20/M154 -> 0.031999804 | O154: =($AS$195 - $AT$195*EXP(-$AU$195*J154^$AV$195))*1.02 -> 640.26849 | P154: =20/O154 -> 0.031236896 | Q154: =($AW$195 - $AX$195*EXP(-$AY$195*J154^$AZ$195))*1.02 -> 651.74482 | R154: =20/Q154 -> 0.030686857 | S154: =($BA$195 - $BB$195*EXP(-$BC$195*J154^$BD$195))*1.015 -> 657.51963 | T154: =20/S154 -> 0.030417343
A155: 1250 | B155: =$Y$195 /(1 + EXP($Z$195-$AA$195*A155))^(1/$AB$195)*1.013 -> 439.83271 | C155: =20/B155 -> 0.045471834 | D155: 1225 | E155: =($AC$195 - $AD$195*EXP(-$AE$195*D155^$AF$195))*1.022 -> 544.19352 | F155: =20/E155 -> 0.036751632 | G155: 1215 | H155: =($AG$195 - $AH$195*EXP(-$AI$195*G155^$AJ$195))*1.02 -> 599.31925 | I155: =20/H155 -> 0.033371196 | J155: 1200 | K155: =($AK$195 - $AL$195*EXP(-$AM$195*J155^$AN$195))*1.02 -> 629.35171 | L155: =20/K155 -> 0.031778733 | M155: =($AO$195 - $AP$195*EXP(-$AQ$195*J155^$AR$195))*1.02 -> 649.66495 | N155: =20/M155 -> 0.030785099 | O155: =($AS$195 - $AT$195*EXP(-$AU$195*J155^$AV$195))*1.02 -> 666.51051 | P155: =20/O155 -> 0.030007029 | Q155: =($AW$195 - $AX$195*EXP(-$AY$195*J155^$AZ$195))*1.02 -> 679.29857 | R155: =20/Q155 -> 0.029442135 | S155: =($BA$195 - $BB$195*EXP(-$BC$195*J155^$BD$195))*1.015 -> 686.06034 | T155: =20/S155 -> 0.029151955
A156: 1300 | B156: =$Y$195 /(1 + EXP($Z$195-$AA$195*A156))^(1/$AB$195)*1.013 -> 447.04505 | C156: =20/B156 -> 0.044738221 | D156: 1275 | E156: =($AC$195 - $AD$195*EXP(-$AE$195*D156^$AF$195))*1.022 -> 559.02108 | F156: =20/E156 -> 0.035776826 | G156: 1265 | H156: =($AG$195 - $AH$195*EXP(-$AI$195*G156^$AJ$195))*1.02 -> 618.06584 | I156: =20/H156 -> 0.032359012 | J156: 1250 | K156: =($AK$195 - $AL$195*EXP(-$AM$195*J156^$AN$195))*1.02 -> 651.14379 | L156: =20/K156 -> 0.030715182 | M156: =($AO$195 - $AP$195*EXP(-$AQ$195*J156^$AR$195))*1.02 -> 673.42189 | N156: =20/M156 -> 0.029699064 | O156: =($AS$195 - $AT$195*EXP(-$AU$195*J156^$AV$195))*1.02 -> 691.94113 | P156: =20/O156 -> 0.028904193 | Q156: =($AW$195 - $AX$195*EXP(-$AY$195*J156^$AZ$195))*1.02 -> 706.13383 | R156: =20/Q156 -> 0.028323243 | S156: =($BA$195 - $BB$195*EXP(-$BC$195*J156^$BD$195))*1.015 -> 713.9744 | T156: =20/S156 -> 0.028012209
A157: 1350 | B157: =$Y$195 /(1 + EXP($Z$195-$AA$195*A157))^(1/$AB$195)*1.013 -> 453.43482 | C157: =20/B157 -> 0.044107773 | D157: 1325 | E157: =($AC$195 - $AD$195*EXP(-$AE$195*D157^$AF$195))*1.022 -> 572.89304 | F157: =20/E157 -> 0.03491053 | G157: 1315 | H157: =($AG$195 - $AH$195*EXP(-$AI$195*G157^$AJ$195))*1.02 -> 635.76578 | I157: =20/H157 -> 0.031458126 | J157: 1300 | K157: =($AK$195 - $AL$195*EXP(-$AM$195*J157^$AN$195))*1.02 -> 671.90831 | L157: =20/K157 -> 0.029765966 | M157: =($AO$195 - $AP$195*EXP(-$AQ$195*J157^$AR$195))*1.02 -> 696.25281 | N157: =20/M157 -> 0.028725198 | O157: =($AS$195 - $AT$195*EXP(-$AU$195*J157^$AV$195))*1.02 -> 716.53229 | P157: =20/O157 -> 0.02791221 | Q157: =($AW$195 - $AX$195*EXP(-$AY$195*J157^$AZ$195))*1.02 -> 732.2184 | R157: =20/Q157 -> 0.027314255 | S157: =($BA$195 - $BB$195*EXP(-$BC$195*J157^$BD$195))*1.015 -> 741.227 | T157: =20/S157 -> 0.026982287
A158: 1400 | B158: =$Y$195 /(1 + EXP($Z$195-$AA$195*A158))^(1/$AB$195)*1.013 -> 459.08259 | C158: =20/B158 -> 0.043565146 | D158: 1375 | E158: =($AC$195 - $AD$195*EXP(-$AE$195*D158^$AF$195))*1.022 -> 585.83539 | F158: =20/E158 -> 0.034139283 | G158: 1365 | H158: =($AG$195 - $AH$195*EXP(-$AI$195*G158^$AJ$195))*1.02 -> 652.43003 | I158: =20/H158 -> 0.030654628 | J158: 1350 | K158: =($AK$195 - $AL$195*EXP(-$AM$195*J158^$AN$195))*1.02 -> 691.64084 | L158: =20/K158 -> 0.028916743 | M158: =($AO$195 - $AP$195*EXP(-$AQ$195*J158^$AR$195))*1.02 -> 718.14321 | N158: =20/M158 -> 0.027849599 | O158: =($AS$195 - $AT$195*EXP(-$AU$195*J158^$AV$195))*1.02 -> 740.26261 | P158: =20/O158 -> 0.027017439 | Q158: =($AW$195 - $AX$195*EXP(-$AY$195*J158^$AZ$195))*1.02 -> 757.52609 | R158: =20/Q158 -> 0.026401731 | S158: =($BA$195 - $BB$195*EXP(-$BC$195*J158^$BD$195))*1.015 -> 767.78874 | T158: =20/S158 -> 0.026048832
A159: 1450 | B159: =$Y$195 /(1 + EXP($Z$195-$AA$195*A159))^(1/$AB$195)*1.013 -> 464.0643 | C159: =20/B159 -> 0.043097476 | D159: 1425 | E159: =($AC$195 - $AD$195*EXP(-$AE$195*D159^$AF$195))*1.022 -> 597.87839 | F159: =20/E159 -> 0.033451619 | G159: 1415 | H159: =($AG$195 - $AH$195*EXP(-$AI$195*G159^$AJ$195))*1.02 -> 668.07608 | I159: =20/H159 -> 0.02993671 | J159: 1400 | K159: =($AK$195 - $AL$195*EXP(-$AM$195*J159^$AN$195))*1.02 -> 710.34431 | L159: =20/K159 -> 0.02815536 | M159: =($AO$195 - $AP$195*EXP(-$AQ$195*J159^$AR$195))*1.02 -> 739.08529 | N159: =20/M159 -> 0.027060476 | O159: =($AS$195 - $AT$195*EXP(-$AU$195*J159^$AV$195))*1.02 -> 763.11684 | P159: =20/O159 -> 0.026208306 | Q159: =($AW$195 - $AX$195*EXP(-$AY$195*J159^$AZ$195))*1.02 -> 782.03627 | R159: =20/Q159 -> 0.025574261 | S159: =($BA$195 - $BB$195*EXP(-$BC$195*J159^$BD$195))*1.015 -> 793.63521 | T159: =20/S159 -> 0.025200495
... A194: 3200 | B194: =$Y$195 /(1 + EXP($Z$195-$AA$195*A194))^(1/$AB$195)*1.013 -> 498.80305 | C194: =20/B194 -> 0.040095986 | D194: 3175 | E194: =($AC$195 - $AD$195*EXP(-$AE$195*D194^$AF$195))*1.022 -> 719.36428 | F194: =20/E194 -> 0.027802326 | G194: 3165 | H194: =($AG$195 - $AH$195*EXP(-$AI$195*G194^$AJ$195))*1.02 -> 838.86398 | I194: =20/H194 -> 0.023841767 | J194: 3150 | K194: =($AK$195 - $AL$195*EXP(-$AM$195*J194^$AN$195))*1.02 -> 938.23312 | L194: =20/K194 -> 0.021316664 | M194: =($AO$195 - $AP$195*EXP(-$AQ$195*J194^$AR$195))*1.02 -> 1030.8162 | N194: =20/M194 -> 0.019402101 | O194: =($AS$195 - $AT$195*EXP(-$AU$195*J194^$AV$195))*1.02 -> 1115.8562 | P194: =20/O194 -> 0.017923457 | Q194: =($AW$195 - $AX$195*EXP(-$AY$195*J194^$AZ$195))*1.02 -> 1196.697 | R194: =20/Q194 -> 0.016712668 | S194: =($BA$195 - $BB$195*EXP(-$BC$195*J194^$BD$195))*1.015 -> 1267.845 | T194: =20/S194 -> 0.015774799
A195: 3250 | B195: =$Y$195 /(1 + EXP($Z$195-$AA$195*A195))^(1/$AB$195)*1.013 -> 498.83916 | C195: =20/B195 -> 0.040093083 | D195: 3225 | E195: =($AC$195 - $AD$195*EXP(-$AE$195*D195^$AF$195))*1.022 -> 719.5987 | F195: =20/E195 -> 0.027793269 | G195: 3215 | H195: =($AG$195 - $AH$195*EXP(-$AI$195*G195^$AJ$195))*1.02 -> 839.26294 | I195: =20/H195 -> 0.023830434 | J195: 3200 | K195: =($AK$195 - $AL$195*EXP(-$AM$195*J195^$AN$195))*1.02 -> 938.97867 | L195: =20/K195 -> 0.021299738 | M195: =($AO$195 - $AP$195*EXP(-$AQ$195*J195^$AR$195))*1.02 -> 1032.2506 | N195: =20/M195 -> 0.019375139 | O195: =($AS$195 - $AT$195*EXP(-$AU$195*J195^$AV$195))*1.02 -> 1118.1311 | P195: =20/O195 -> 0.017886991 | Q195: =($AW$195 - $AX$195*EXP(-$AY$195*J195^$AZ$195))*1.02 -> 1200.031 | R195: =20/Q195 -> 0.016666236 | S195: =($BA$195 - $BB$195*EXP(-$BC$195*J195^$BD$195))*1.015 -> 1272.4022 | T195: =20/S195 -> 0.0157183 | Y195: 492.67579 | Z195: -0.14954389 | AA195: 0.0027891278 | AB195: 0.2058775 | AC195: 705.54674 | AD195: 675.1744 | AE195: 2.1001459e-05 | AF195: 1.5581245 | AG195: 825.35875 | AH195: 791.31418 | AI195: 1.3381628e-05 | AJ195: 1.6058949 | AK195: 925.93801 | AL195: 889.78985 | AM195: 1.2026412e-05 | AN195: 1.6057194 | AO195: 1024.4634 | AP195: 986.59292 | AQ195: 1.3373038e-05 | AR195: 1.5732508 | AS195: 1119.0728 | AT195: 1080.2416 | AU195: 1.4030895e-05 | AV195: 1.5517088 | AW195: 1215.0229 | AX195: 1175.4848 | AY195: 1.4672988e-05 | AZ195: 1.5312554 | BA195: 1313.8663 | BB195: 1273.7704 | BC195: 1.5129626e-05 | BD195: 1.5133745
A196: 3300 | B196: =$Y$195 /(1 + EXP($Z$195-$AA$195*A196))^(1/$AB$195)*1.013 -> 498.87058 | C196: =20/B196 -> 0.040090558 | D196: 3275 | E196: =($AC$195 - $AD$195*EXP(-$AE$195*D196^$AF$195))*1.022 -> 719.80251 | F196: =20/E196 -> 0.027785399 | G196: 3265 | H196: =($AG$195 - $AH$195*EXP(-$AI$195*G196^$AJ$195))*1.02 -> 839.61192 | I196: =20/H196 -> 0.023820529 | J196: 3250 | K196: =($AK$195 - $AL$195*EXP(-$AM$195*J196^$AN$195))*1.02 -> 939.64077 | L196: =20/K196 -> 0.02128473 | M196: =($AO$195 - $AP$195*EXP(-$AQ$195*J196^$AR$195))*1.02 -> 1033.5505 | N196: =20/M196 -> 0.019350772 | O196: =($AS$195 - $AT$195*EXP(-$AU$195*J196^$AV$195))*1.02 -> 1120.2209 | P196: =20/O196 -> 0.017853621 | Q196: =($AW$195 - $AX$195*EXP(-$AY$195*J196^$AZ$195))*1.02 -> 1203.1289 | R196: =20/Q196 -> 0.016623323 | S196: =($BA$195 - $BB$195*EXP(-$BC$195*J196^$BD$195))*1.015 -> 1276.6764 | T196: =20/S196 -> 0.015665677
A197: 3350 | B197: =$Y$195 /(1 + EXP($Z$195-$AA$195*A197))^(1/$AB$195)*1.013 -> 498.89791 | C197: =20/B197 -> 0.040088362 | D197: 3325 | E197: =($AC$195 - $AD$195*EXP(-$AE$195*D197^$AF$195))*1.022 -> 719.97945 | F197: =20/E197 -> 0.027778571 | G197: 3315 | H197: =($AG$195 - $AH$195*EXP(-$AI$195*G197^$AJ$195))*1.02 -> 839.91674 | I197: =20/H197 -> 0.023811884 | J197: 3300 | K197: =($AK$195 - $AL$195*EXP(-$AM$195*J197^$AN$195))*1.02 -> 940.22794 | L197: =20/K197 -> 0.021271438 | M197: =($AO$195 - $AP$195*EXP(-$AQ$195*J197^$AR$195))*1.02 -> 1034.7272 | N197: =20/M197 -> 0.019328767 | O197: =($AS$195 - $AT$195*EXP(-$AU$195*J197^$AV$195))*1.02 -> 1122.139 | P197: =20/O197 -> 0.017823105 | Q197: =($AW$195 - $AX$195*EXP(-$AY$195*J197^$AZ$195))*1.02 -> 1206.0049 | R197: =20/Q197 -> 0.01658368 | S197: =($BA$195 - $BB$195*EXP(-$BC$195*J197^$BD$195))*1.015 -> 1280.6823 | T197: =20/S197 -> 0.015616675
A198: 3400 | B198: =$Y$195 /(1 + EXP($Z$195-$AA$195*A198))^(1/$AB$195)*1.013 -> 498.92168 | C198: =20/B198 -> 0.040086452 | D198: 3375 | E198: =($AC$195 - $AD$195*EXP(-$AE$195*D198^$AF$195))*1.022 -> 720.13286 | F198: =20/E198 -> 0.027772653 | G198: 3365 | H198: =($AG$195 - $AH$195*EXP(-$AI$195*G198^$AJ$195))*1.02 -> 840.18257 | I198: =20/H198 -> 0.02380435 | J198: 3350 | K198: =($AK$195 - $AL$195*EXP(-$AM$195*J198^$AN$195))*1.02 -> 940.74797 | L198: =20/K198 -> 0.021259679 | M198: =($AO$195 - $AP$195*EXP(-$AQ$195*J198^$AR$195))*1.02 -> 1035.7911 | N198: =20/M198 -> 0.019308913 | O198: =($AS$195 - $AT$195*EXP(-$AU$195*J198^$AV$195))*1.02 -> 1123.8977 | P198: =20/O198 -> 0.017795214 | Q198: =($AW$195 - $AX$195*EXP(-$AY$195*J198^$AZ$195))*1.02 -> 1208.673 | R198: =20/Q198 -> 0.016547073 | S198: =($BA$195 - $BB$195*EXP(-$BC$195*J198^$BD$195))*1.015 -> 1284.4343 | T198: =20/S198 -> 0.015571058
A199: 3450 | B199: =$Y$195 /(1 + EXP($Z$195-$AA$195*A199))^(1/$AB$195)*1.013 -> 498.94236 | C199: =20/B199 -> 0.040084791 | D199: 3425 | E199: =($AC$195 - $AD$195*EXP(-$AE$195*D199^$AF$195))*1.022 -> 720.26567 | F199: =20/E199 -> 0.027767532 | G199: 3415 | H199: =($AG$195 - $AH$195*EXP(-$AI$195*G199^$AJ$195))*1.02 -> 840.41408 | I199: =20/H199 -> 0.023797793 | J199: 3400 | K199: =($AK$195 - $AL$195*EXP(-$AM$195*J199^$AN$195))*1.02 -> 941.20793 | L199: =20/K199 -> 0.02124929 | M199: =($AO$195 - $AP$195*EXP(-$AQ$195*J199^$AR$195))*1.02 -> 1036.7521 | N199: =20/M199 -> 0.019291015 | O199: =($AS$195 - $AT$195*EXP(-$AU$195*J199^$AV$195))*1.02 -> 1125.5089 | P199: =20/O199 -> 0.017769739 | Q199: =($AW$195 - $AX$195*EXP(-$AY$195*J199^$AZ$195))*1.02 -> 1211.1461 | R199: =20/Q199 -> 0.016513285 | S199: =($BA$195 - $BB$195*EXP(-$BC$195*J199^$BD$195))*1.015 -> 1287.9458 | T199: =20/S199 -> 0.015528603
A200: 3500 | B200: =$Y$195 /(1 + EXP($Z$195-$AA$195*A200))^(1/$AB$195)*1.013 -> 498.96035 | C200: =20/B200 -> 0.040083345 | D200: 3475 | E200: =($AC$195 - $AD$195*EXP(-$AE$195*D200^$AF$195))*1.022 -> 720.3805 | F200: =20/E200 -> 0.027763106 | G200: 3465 | H200: =($AG$195 - $AH$195*EXP(-$AI$195*G200^$AJ$195))*1.02 -> 840.6154 | I200: =20/H200 -> 0.023792093 | J200: 3450 | K200: =($AK$195 - $AL$195*EXP(-$AM$195*J200^$AN$195))*1.02 -> 941.61421 | L200: =20/K200 -> 0.021240121 | M200: =($AO$195 - $AP$195*EXP(-$AQ$195*J200^$AR$195))*1.02 -> 1037.6191 | N200: =20/M200 -> 0.019274895 | O200: =($AS$195 - $AT$195*EXP(-$AU$195*J200^$AV$195))*1.02 -> 1126.9836 | P200: =20/O200 -> 0.017746487 | Q200: =($AW$195 - $AX$195*EXP(-$AY$195*J200^$AZ$195))*1.02 -> 1213.4367 | R200: =20/Q200 -> 0.016482112 | S200: =($BA$195 - $BB$195*EXP(-$BC$195*J200^$BD$195))*1.015 -> 1291.2303 | T200: =20/S200 -> 0.015489104
A201: 3550 | B201: =$Y$195 /(1 + EXP($Z$195-$AA$195*A201))^(1/$AB$195)*1.013 -> 498.976 | C201: =20/B201 -> 0.040082088 | D201: 3525 | E201: =($AC$195 - $AD$195*EXP(-$AE$195*D201^$AF$195))*1.022 -> 720.47965 | F201: =20/E201 -> 0.027759285 | G201: 3515 | H201: =($AG$195 - $AH$195*EXP(-$AI$195*G201^$AJ$195))*1.02 -> 840.79022 | I201: =20/H201 -> 0.023787146 | J201: 3500 | K201: =($AK$195 - $AL$195*EXP(-$AM$195*J201^$AN$195))*1.02 -> 941.97262 | L201: =20/K201 -> 0.02123204 | M201: =($AO$195 - $AP$195*EXP(-$AQ$195*J201^$AR$195))*1.02 -> 1038.4006 | N201: =20/M201 -> 0.019260389 | O201: =($AS$195 - $AT$195*EXP(-$AU$195*J201^$AV$195))*1.02 -> 1128.3321 | P201: =20/O201 -> 0.017725278 | Q201: =($AW$195 - $AX$195*EXP(-$AY$195*J201^$AZ$195))*1.02 -> 1215.5568 | R201: =20/Q201 -> 0.016453366 | S201: =($BA$195 - $BB$195*EXP(-$BC$195*J201^$BD$195))*1.015 -> 1294.3002 | T201: =20/S201 -> 0.015452365
A202: 3600 | B202: =$Y$195 /(1 + EXP($Z$195-$AA$195*A202))^(1/$AB$195)*1.013 -> 498.98961 | C202: =20/B202 -> 0.040080995 | D202: 3575 | E202: =($AC$195 - $AD$195*EXP(-$AE$195*D202^$AF$195))*1.022 -> 720.56513 | F202: =20/E202 -> 0.027755992 | G202: 3565 | H202: =($AG$195 - $AH$195*EXP(-$AI$195*G202^$AJ$195))*1.02 -> 840.9418 | I202: =20/H202 -> 0.023782859 | J202: 3550 | K202: =($AK$195 - $AL$195*EXP(-$AM$195*J202^$AN$195))*1.02 -> 942.28837 | L202: =20/K202 -> 0.021224925 | M202: =($AO$195 - $AP$195*EXP(-$AQ$195*J202^$AR$195))*1.02 -> 1039.1043 | N202: =20/M202 -> 0.019247347 | O202: =($AS$195 - $AT$195*EXP(-$AU$195*J202^$AV$195))*1.02 -> 1129.5642 | P202: =20/O202 -> 0.017705944 | Q202: =($AW$195 - $AX$195*EXP(-$AY$195*J202^$AZ$195))*1.02 -> 1217.5174 | R202: =20/Q202 -> 0.01642687 | S202: =($BA$195 - $BB$195*EXP(-$BC$195*J202^$BD$195))*1.015 -> 1297.1678 | T202: =20/S202 -> 0.015418206
A203: 3650 | B203: =$Y$195 /(1 + EXP($Z$195-$AA$195*A203))^(1/$AB$195)*1.013 -> 499.00145 | C203: =20/B203 -> 0.040080044 | D203: 3625 | E203: =($AC$195 - $AD$195*EXP(-$AE$195*D203^$AF$195))*1.022 -> 720.63874 | F203: =20/E203 -> 0.027753157 | G203: 3615 | H203: =($AG$195 - $AH$195*EXP(-$AI$195*G203^$AJ$195))*1.02 -> 841.07305 | I203: =20/H203 -> 0.023779147 | J203: 3600 | K203: =($AK$195 - $AL$195*EXP(-$AM$195*J203^$AN$195))*1.02 -> 942.5662 | L203: =20/K203 -> 0.021218669 | M203: =($AO$195 - $AP$195*EXP(-$AQ$195*J203^$AR$195))*1.02 -> 1039.7371 | N203: =20/M203 -> 0.019235631 | O203: =($AS$195 - $AT$195*EXP(-$AU$195*J203^$AV$195))*1.02 -> 1130.6889 | P203: =20/O203 -> 0.017688332 | Q203: =($AW$195 - $AX$195*EXP(-$AY$195*J203^$AZ$195))*1.02 -> 1219.3292 | R203: =20/Q203 -> 0.016402462 | S203: =($BA$195 - $BB$195*EXP(-$BC$195*J203^$BD$195))*1.015 -> 1299.8445 | T203: =20/S203 -> 0.015386455
A204: 3700 | B204: =$Y$195 /(1 + EXP($Z$195-$AA$195*A204))^(1/$AB$195)*1.013 -> 499.01175 | C204: =20/B204 -> 0.040079217 | D204: 3675 | E204: =($AC$195 - $AD$195*EXP(-$AE$195*D204^$AF$195))*1.022 -> 720.70204 | F204: =20/E204 -> 0.027750719 | G204: 3665 | H204: =($AG$195 - $AH$195*EXP(-$AI$195*G204^$AJ$195))*1.02 -> 841.18653 | I204: =20/H204 -> 0.023775939 | J204: 3650 | K204: =($AK$195 - $AL$195*EXP(-$AM$195*J204^$AN$195))*1.02 -> 942.81033 | L204: =20/K204 -> 0.021213174 | M204: =($AO$195 - $AP$195*EXP(-$AQ$195*J204^$AR$195))*1.02 -> 1040.3058 | N204: =20/M204 -> 0.019225117 | O204: =($AS$195 - $AT$195*EXP(-$AU$195*J204^$AV$195))*1.02 -> 1131.7146 | P204: =20/O204 -> 0.0176723 | Q204: =($AW$195 - $AX$195*EXP(-$AY$195*J204^$AZ$195))*1.02 -> 1221.0022 | R204: =20/Q204 -> 0.016379987 | S204: =($BA$195 - $BB$195*EXP(-$BC$195*J204^$BD$195))*1.015 -> 1302.3415 | T204: =20/S204 -> 0.015356955
A205: 3750 | B205: =$Y$195 /(1 + EXP($Z$195-$AA$195*A205))^(1/$AB$195)*1.013 -> 499.02071 | C205: =20/B205 -> 0.040078497 | D205: 3725 | E205: =($AC$195 - $AD$195*EXP(-$AE$195*D205^$AF$195))*1.022 -> 720.7564 | F205: =20/E205 -> 0.027748626 | G205: 3715 | H205: =($AG$195 - $AH$195*EXP(-$AI$195*G205^$AJ$195))*1.02 -> 841.28452 | I205: =20/H205 -> 0.02377317 | J205: 3700 | K205: =($AK$195 - $AL$195*EXP(-$AM$195*J205^$AN$195))*1.02 -> 943.0246 | L205: =20/K205 -> 0.021208355 | M205: =($AO$195 - $AP$195*EXP(-$AQ$195*J205^$AR$195))*1.02 -> 1040.8162 | N205: =20/M205 -> 0.019215689 | O205: =($AS$195 - $AT$195*EXP(-$AU$195*J205^$AV$195))*1.02 -> 1132.6493 | P205: =20/O205 -> 0.017657716 | Q205: =($AW$195 - $AX$195*EXP(-$AY$195*J205^$AZ$195))*1.02 -> 1222.546 | R205: =20/Q205 -> 0.016359303 | S205: =($BA$195 - $BB$195*EXP(-$BC$195*J205^$BD$195))*1.015 -> 1304.6694 | T205: =20/S205 -> 0.015329554
