Workbook

Sheet Jan
A1: Arbeitszeitnachweis | G1: Monat: | H1: =A7 -> 43831 | J1: Jahr: | K1: =A7 -> 43831
A3: Name: | B3: Walter Mustermann | G3: a) Sollstunden des Monats bei 40h Woche | L3: =((NETWORKDAYS($A$7,(IF($A$37="",IF($A$36="",IF($A$35="",$A$34,$A$35),$A$36),$A$37)),Schichten!$F$2:$F$23))*8) -> 176
A4: Einrichtg./ Gruppe | B4: Shelter | G4: b) vertraglich vereinbarte Wochenarbeitszeit in Stunden | L4: 40
G5: c) Sollstunden des Monats entsprechend b) | L5: =(L3/40)*L4 -> 176
A6: Datum | B6: Diensttätigkeit von … bis … Uhr | D6: krank | E6: d) Urlaub* | F6: e) krank* | G6: f) abgeleistete Arbeitszeit* | H6: davon Spätarbeit (20 - 23 Uhr)* | I6: davon Nachtarbeit (23 - 06 Uhr)* | J6: davon Samstags (13 - 20 Uhr)* | K6: davon Sonntags (00 - 24 Uhr)* | L6: davon am Wochen- feiertag (00 - 24 Uhr)*
A7: 43831 | E7: =IF(($B7="U"),IF(WEEKDAY($A7)=1,"",IF(WEEKDAY($A7)=7,"",IF(COUNTIF(Schichten!F:F,$A7)>0,"",(8/40)*$L$4))),"") | F7: =IF($M7=TRUE,IF((B7="U"),"",IF(ISBLANK(B7),"",IF(ISBLANK(C7),"Ende?",IF(B7=C7,24,(IF(B7>C7,IF(((C7+1)-B7)>TIME(6,0,0),((C7+1)-B7)-TIME(0,30,0),((C7+1)-B7)),IF((C7-B7)>TIME(6,0,0),(C7-B7)-TIME(0,30,0),(C7-B7))))*24)))),"") | G7: =IF((B7="U"),"",IF((M7=TRUE),"",IF(ISBLANK(B7),"",IF(ISBLANK(C7),"Ende?",IF(B7=C7,24,(IF(B7>C7,IF(((C7+1)-B7)>TIME(6,0,0),((C7+1)-B7)-TIME(0,30,0),((C7+1)-B7)),IF((C7-B7)>TIME(6,0,0),(C7-B7)-TIME(0,30,0),(C7-B7))))*24))))) | H7: =IF((B7="U"),"",IF((M7=TRUE),"",IF(ISBLANK(B7),"",IF(ISBLANK(C7),"Ende?",(MAX(0,MIN(Schichten!$D$3+(Schichten!$C$3>Schichten!$D$3),C7+(B7>C7))-MAX(Schichten!$C$3,B7))+MAX(0,(MIN(Schichten!$D$3,C7+(B7>C7))-B7)*(Schichten!$C$3>Schichten!$D$3))+MAX(0,MIN(Schichten!$D$3+(Schichten!$C$3>Schichten!$D$3),C7+0)-Schichten!$C$3)*(B7>C7))*24)))) | I7: =IF((B7="U"),"",IF((M7=TRUE),"",IF(ISBLANK(B7),"",IF(ISBLANK(C7),"Ende?",(MAX(0,MIN(Schichten!$D$4+(Schichten!$C$4>Schichten!$D$4),C7+(B7>C7))-MAX(Schichten!$C$4,B7))+MAX(0,(MIN(Schichten!$D$4,C7+(B7>C7))-B7)*(Schichten!$C$4>Schichten!$D$4))+MAX(0,MIN(Schichten!$D$4+(Schichten!$C$4>Schichten!$D$4),C7+0)-Schichten!$C$4)*(B7>C7))*24)))) | J7: =IF((B7="U"),"",IF((M7=TRUE),"",IF(ISBLANK(B7),"",IF(ISBLANK(C7),"Ende?",IF(WEEKDAY(A7)=7,(MAX(0,MIN(Schichten!$D$5+(Schichten!$C$5>Schichten!$D$5),C7+(B7>C7))-MAX(Schichten!$C$5,B7))+MAX(0,(MIN(Schichten!$D$5,C7+(B7>C7))-B7)*(Schichten!$C$5>Schichten!$D$5))+MAX(0,MIN(Schichten!$D$5+(Schichten!$C$5>Schichten!$D$5),$C7+0)-Schichten!$C$5)*($B7>$C7))*24,IF(WEEKDAY(A7)=6,IF(B7>C7,IF(C7>0.541666,(C7-0.541666)*24,0),0),0)))))) | K7: =IF(M7=TRUE,"",IF((IF((B7="U"),"",IF((M7=TRUE),"",IF(ISBLANK(B7),"",IF(ISBLANK(C7),"Ende?",(IF(WEEKDAY(A7)=1,IF(B7>C7,1,C7),IF(WEEKDAY(A7)=7,IF(B7>C7,C7,0)))-IF(WEEKDAY(A7)=1,B7,IF(WEEKDAY(A7)=7,0)))*24)))))>G7,G7,(IF((B7="U"),"",IF((B7="K"),"",IF(ISBLANK(B7),"",IF(ISBLANK(C7),"Ende?",(IF(WEEKDAY(A7)=1,IF(B7>C7,1,C7),IF(WEEKDAY(A7)=7,IF(B7>C7,C7,0)))-IF(WEEKDAY(A7)=1,B7,IF(WEEKDAY(A7)=7,0)))*24))))))) | L7: =IF(M7=TRUE,"",IF((IF((B7="U"),"",IF((B7="K"),"",IF(ISBLANK(B7),"",IF(ISBLANK(C7),"Ende?",(IF(COUNTIF(Schichten!F:F,A7)>0,IF(B7>C7,1,C7)+IF(COUNTIF(Schichten!F:F,A8)>0,IF(B7>C7,C7,0)),IF(COUNTIF(Schichten!F:F,A8)>0,IF(B7>C7,C7,0)))-IF(COUNTIF(Schichten!F:F,A7)>0,B7,IF(COUNTIF(Schichten!F:F,A8)>0,0)))*24)))))>G7,G7,(IF((B7="U"),"",IF((B7="K"),"",IF(ISBLANK(B7),"",IF(ISBLANK(C7),"Ende?",(IF(COUNTIF(Schichten!F:F,A7)>0,IF(B7>C7,1,C7)+IF(COUNTIF(Schichten!F:F,A8)>0,IF(B7>C7,C7,0)),IF(COUNTIF(Schichten!F:F,A8)>0,IF(B7>C7,C7,0)))-IF(COUNTIF(Schichten!F:F,A7)>0,B7,IF(COUNTIF(Schichten!F:F,A8)>0,0)))*24))))))) | M7: FALSE
A8: =IF(MONTH($A$7+ROW(A1))=MONTH($A$7), $A$7+ROW(A1), "") -> 43832 | E8: =IF(($B8="U"),IF(WEEKDAY($A8)=1,"",IF(WEEKDAY($A8)=7,"",IF(COUNTIF(Schichten!F:F,$A8)>0,"",(8/40)*$L$4))),"") | F8: =IF($M8=TRUE,IF((B8="U"),"",IF(ISBLANK(B8),"",IF(ISBLANK(C8),"Ende?",IF(B8=C8,24,(IF(B8>C8,IF(((C8+1)-B8)>TIME(6,0,0),((C8+1)-B8)-TIME(0,30,0),((C8+1)-B8)),IF((C8-B8)>TIME(6,0,0),(C8-B8)-TIME(0,30,0),(C8-B8))))*24)))),"") | G8: =IF((B8="U"),"",IF((M8=TRUE),"",IF(ISBLANK(B8),"",IF(ISBLANK(C8),"Ende?",IF(B8=C8,24,(IF(B8>C8,IF(((C8+1)-B8)>TIME(6,0,0),((C8+1)-B8)-TIME(0,30,0),((C8+1)-B8)),IF((C8-B8)>TIME(6,0,0),(C8-B8)-TIME(0,30,0),(C8-B8))))*24))))) | H8: =IF((B8="U"),"",IF((M8=TRUE),"",IF(ISBLANK(B8),"",IF(ISBLANK(C8),"Ende?",(MAX(0,MIN(Schichten!$D$3+(Schichten!$C$3>Schichten!$D$3),C8+(B8>C8))-MAX(Schichten!$C$3,B8))+MAX(0,(MIN(Schichten!$D$3,C8+(B8>C8))-B8)*(Schichten!$C$3>Schichten!$D$3))+MAX(0,MIN(Schichten!$D$3+(Schichten!$C$3>Schichten!$D$3),C8+0)-Schichten!$C$3)*(B8>C8))*24)))) | I8: =IF((B8="U"),"",IF((M8=TRUE),"",IF(ISBLANK(B8),"",IF(ISBLANK(C8),"Ende?",(MAX(0,MIN(Schichten!$D$4+(Schichten!$C$4>Schichten!$D$4),C8+(B8>C8))-MAX(Schichten!$C$4,B8))+MAX(0,(MIN(Schichten!$D$4,C8+(B8>C8))-B8)*(Schichten!$C$4>Schichten!$D$4))+MAX(0,MIN(Schichten!$D$4+(Schichten!$C$4>Schichten!$D$4),C8+0)-Schichten!$C$4)*(B8>C8))*24)))) | J8: =IF((B8="U"),"",IF((M8=TRUE),"",IF(ISBLANK(B8),"",IF(ISBLANK(C8),"Ende?",IF(WEEKDAY(A8)=7,(MAX(0,MIN(Schichten!$D$5+(Schichten!$C$5>Schichten!$D$5),C8+(B8>C8))-MAX(Schichten!$C$5,B8))+MAX(0,(MIN(Schichten!$D$5,C8+(B8>C8))-B8)*(Schichten!$C$5>Schichten!$D$5))+MAX(0,MIN(Schichten!$D$5+(Schichten!$C$5>Schichten!$D$5),$C8+0)-Schichten!$C$5)*($B8>$C8))*24,IF(WEEKDAY(A8)=6,IF(B8>C8,IF(C8>0.541666,(C8-0.541666)*24,0),0),0)))))) | K8: =IF(M8=TRUE,"",IF((IF((B8="U"),"",IF((M8=TRUE),"",IF(ISBLANK(B8),"",IF(ISBLANK(C8),"Ende?",(IF(WEEKDAY(A8)=1,IF(B8>C8,1,C8),IF(WEEKDAY(A8)=7,IF(B8>C8,C8,0)))-IF(WEEKDAY(A8)=1,B8,IF(WEEKDAY(A8)=7,0)))*24)))))>G8,G8,(IF((B8="U"),"",IF((B8="K"),"",IF(ISBLANK(B8),"",IF(ISBLANK(C8),"Ende?",(IF(WEEKDAY(A8)=1,IF(B8>C8,1,C8),IF(WEEKDAY(A8)=7,IF(B8>C8,C8,0)))-IF(WEEKDAY(A8)=1,B8,IF(WEEKDAY(A8)=7,0)))*24))))))) | L8: =IF(M8=TRUE,"",IF((IF((B8="U"),"",IF((B8="K"),"",IF(ISBLANK(B8),"",IF(ISBLANK(C8),"Ende?",(IF(COUNTIF(Schichten!F:F,A8)>0,IF(B8>C8,1,C8)+IF(COUNTIF(Schichten!F:F,A9)>0,IF(B8>C8,C8,0)),IF(COUNTIF(Schichten!F:F,A9)>0,IF(B8>C8,C8,0)))-IF(COUNTIF(Schichten!F:F,A8)>0,B8,IF(COUNTIF(Schichten!F:F,A9)>0,0)))*24)))))>G8,G8,(IF((B8="U"),"",IF((B8="K"),"",IF(ISBLANK(B8),"",IF(ISBLANK(C8),"Ende?",(IF(COUNTIF(Schichten!F:F,A8)>0,IF(B8>C8,1,C8)+IF(COUNTIF(Schichten!F:F,A9)>0,IF(B8>C8,C8,0)),IF(COUNTIF(Schichten!F:F,A9)>0,IF(B8>C8,C8,0)))-IF(COUNTIF(Schichten!F:F,A8)>0,B8,IF(COUNTIF(Schichten!F:F,A9)>0,0)))*24))))))) | M8: FALSE
A9: =IF(MONTH($A$7+ROW(A2))=MONTH($A$7), $A$7+ROW(A2), "") -> 43833 | E9: =IF(($B9="U"),IF(WEEKDAY($A9)=1,"",IF(WEEKDAY($A9)=7,"",IF(COUNTIF(Schichten!F:F,$A9)>0,"",(8/40)*$L$4))),"") | F9: =IF($M9=TRUE,IF((B9="U"),"",IF(ISBLANK(B9),"",IF(ISBLANK(C9),"Ende?",IF(B9=C9,24,(IF(B9>C9,IF(((C9+1)-B9)>TIME(6,0,0),((C9+1)-B9)-TIME(0,30,0),((C9+1)-B9)),IF((C9-B9)>TIME(6,0,0),(C9-B9)-TIME(0,30,0),(C9-B9))))*24)))),"") | G9: =IF((B9="U"),"",IF((M9=TRUE),"",IF(ISBLANK(B9),"",IF(ISBLANK(C9),"Ende?",IF(B9=C9,24,(IF(B9>C9,IF(((C9+1)-B9)>TIME(6,0,0),((C9+1)-B9)-TIME(0,30,0),((C9+1)-B9)),IF((C9-B9)>TIME(6,0,0),(C9-B9)-TIME(0,30,0),(C9-B9))))*24))))) | H9: =IF((B9="U"),"",IF((M9=TRUE),"",IF(ISBLANK(B9),"",IF(ISBLANK(C9),"Ende?",(MAX(0,MIN(Schichten!$D$3+(Schichten!$C$3>Schichten!$D$3),C9+(B9>C9))-MAX(Schichten!$C$3,B9))+MAX(0,(MIN(Schichten!$D$3,C9+(B9>C9))-B9)*(Schichten!$C$3>Schichten!$D$3))+MAX(0,MIN(Schichten!$D$3+(Schichten!$C$3>Schichten!$D$3),C9+0)-Schichten!$C$3)*(B9>C9))*24)))) | I9: =IF((B9="U"),"",IF((M9=TRUE),"",IF(ISBLANK(B9),"",IF(ISBLANK(C9),"Ende?",(MAX(0,MIN(Schichten!$D$4+(Schichten!$C$4>Schichten!$D$4),C9+(B9>C9))-MAX(Schichten!$C$4,B9))+MAX(0,(MIN(Schichten!$D$4,C9+(B9>C9))-B9)*(Schichten!$C$4>Schichten!$D$4))+MAX(0,MIN(Schichten!$D$4+(Schichten!$C$4>Schichten!$D$4),C9+0)-Schichten!$C$4)*(B9>C9))*24)))) | J9: =IF((B9="U"),"",IF((M9=TRUE),"",IF(ISBLANK(B9),"",IF(ISBLANK(C9),"Ende?",IF(WEEKDAY(A9)=7,(MAX(0,MIN(Schichten!$D$5+(Schichten!$C$5>Schichten!$D$5),C9+(B9>C9))-MAX(Schichten!$C$5,B9))+MAX(0,(MIN(Schichten!$D$5,C9+(B9>C9))-B9)*(Schichten!$C$5>Schichten!$D$5))+MAX(0,MIN(Schichten!$D$5+(Schichten!$C$5>Schichten!$D$5),$C9+0)-Schichten!$C$5)*($B9>$C9))*24,IF(WEEKDAY(A9)=6,IF(B9>C9,IF(C9>0.541666,(C9-0.541666)*24,0),0),0)))))) | K9: =IF(M9=TRUE,"",IF((IF((B9="U"),"",IF((M9=TRUE),"",IF(ISBLANK(B9),"",IF(ISBLANK(C9),"Ende?",(IF(WEEKDAY(A9)=1,IF(B9>C9,1,C9),IF(WEEKDAY(A9)=7,IF(B9>C9,C9,0)))-IF(WEEKDAY(A9)=1,B9,IF(WEEKDAY(A9)=7,0)))*24)))))>G9,G9,(IF((B9="U"),"",IF((B9="K"),"",IF(ISBLANK(B9),"",IF(ISBLANK(C9),"Ende?",(IF(WEEKDAY(A9)=1,IF(B9>C9,1,C9),IF(WEEKDAY(A9)=7,IF(B9>C9,C9,0)))-IF(WEEKDAY(A9)=1,B9,IF(WEEKDAY(A9)=7,0)))*24))))))) | L9: =IF(M9=TRUE,"",IF((IF((B9="U"),"",IF((B9="K"),"",IF(ISBLANK(B9),"",IF(ISBLANK(C9),"Ende?",(IF(COUNTIF(Schichten!F:F,A9)>0,IF(B9>C9,1,C9)+IF(COUNTIF(Schichten!F:F,A10)>0,IF(B9>C9,C9,0)),IF(COUNTIF(Schichten!F:F,A10)>0,IF(B9>C9,C9,0)))-IF(COUNTIF(Schichten!F:F,A9)>0,B9,IF(COUNTIF(Schichten!F:F,A10)>0,0)))*24)))))>G9,G9,(IF((B9="U"),"",IF((B9="K"),"",IF(ISBLANK(B9),"",IF(ISBLANK(C9),"Ende?",(IF(COUNTIF(Schichten!F:F,A9)>0,IF(B9>C9,1,C9)+IF(COUNTIF(Schichten!F:F,A10)>0,IF(B9>C9,C9,0)),IF(COUNTIF(Schichten!F:F,A10)>0,IF(B9>C9,C9,0)))-IF(COUNTIF(Schichten!F:F,A9)>0,B9,IF(COUNTIF(Schichten!F:F,A10)>0,0)))*24))))))) | M9: FALSE
A10: =IF(MONTH($A$7+ROW(A3))=MONTH($A$7), $A$7+ROW(A3), "") -> 43834 | E10: =IF(($B10="U"),IF(WEEKDAY($A10)=1,"",IF(WEEKDAY($A10)=7,"",IF(COUNTIF(Schichten!F:F,$A10)>0,"",(8/40)*$L$4))),"") | F10: =IF($M10=TRUE,IF((B10="U"),"",IF(ISBLANK(B10),"",IF(ISBLANK(C10),"Ende?",IF(B10=C10,24,(IF(B10>C10,IF(((C10+1)-B10)>TIME(6,0,0),((C10+1)-B10)-TIME(0,30,0),((C10+1)-B10)),IF((C10-B10)>TIME(6,0,0),(C10-B10)-TIME(0,30,0),(C10-B10))))*24)))),"") | G10: =IF((B10="U"),"",IF((M10=TRUE),"",IF(ISBLANK(B10),"",IF(ISBLANK(C10),"Ende?",IF(B10=C10,24,(IF(B10>C10,IF(((C10+1)-B10)>TIME(6,0,0),((C10+1)-B10)-TIME(0,30,0),((C10+1)-B10)),IF((C10-B10)>TIME(6,0,0),(C10-B10)-TIME(0,30,0),(C10-B10))))*24))))) | H10: =IF((B10="U"),"",IF((M10=TRUE),"",IF(ISBLANK(B10),"",IF(ISBLANK(C10),"Ende?",(MAX(0,MIN(Schichten!$D$3+(Schichten!$C$3>Schichten!$D$3),C10+(B10>C10))-MAX(Schichten!$C$3,B10))+MAX(0,(MIN(Schichten!$D$3,C10+(B10>C10))-B10)*(Schichten!$C$3>Schichten!$D$3))+MAX(0,MIN(Schichten!$D$3+(Schichten!$C$3>Schichten!$D$3),C10+0)-Schichten!$C$3)*(B10>C10))*24)))) | I10: =IF((B10="U"),"",IF((M10=TRUE),"",IF(ISBLANK(B10),"",IF(ISBLANK(C10),"Ende?",(MAX(0,MIN(Schichten!$D$4+(Schichten!$C$4>Schichten!$D$4),C10+(B10>C10))-MAX(Schichten!$C$4,B10))+MAX(0,(MIN(Schichten!$D$4,C10+(B10>C10))-B10)*(Schichten!$C$4>Schichten!$D$4))+MAX(0,MIN(Schichten!$D$4+(Schichten!$C$4>Schichten!$D$4),C10+0)-Schichten!$C$4)*(B10>C10))*24)))) | J10: =IF((B10="U"),"",IF((M10=TRUE),"",IF(ISBLANK(B10),"",IF(ISBLANK(C10),"Ende?",IF(WEEKDAY(A10)=7,(MAX(0,MIN(Schichten!$D$5+(Schichten!$C$5>Schichten!$D$5),C10+(B10>C10))-MAX(Schichten!$C$5,B10))+MAX(0,(MIN(Schichten!$D$5,C10+(B10>C10))-B10)*(Schichten!$C$5>Schichten!$D$5))+MAX(0,MIN(Schichten!$D$5+(Schichten!$C$5>Schichten!$D$5),$C10+0)-Schichten!$C$5)*($B10>$C10))*24,IF(WEEKDAY(A10)=6,IF(B10>C10,IF(C10>0.541666,(C10-0.541666)*24,0),0),0)))))) | K10: =IF(M10=TRUE,"",IF((IF((B10="U"),"",IF((M10=TRUE),"",IF(ISBLANK(B10),"",IF(ISBLANK(C10),"Ende?",(IF(WEEKDAY(A10)=1,IF(B10>C10,1,C10),IF(WEEKDAY(A10)=7,IF(B10>C10,C10,0)))-IF(WEEKDAY(A10)=1,B10,IF(WEEKDAY(A10)=7,0)))*24)))))>G10,G10,(IF((B10="U"),"",IF((B10="K"),"",IF(ISBLANK(B10),"",IF(ISBLANK(C10),"Ende?",(IF(WEEKDAY(A10)=1,IF(B10>C10,1,C10),IF(WEEKDAY(A10)=7,IF(B10>C10,C10,0)))-IF(WEEKDAY(A10)=1,B10,IF(WEEKDAY(A10)=7,0)))*24))))))) | L10: =IF(M10=TRUE,"",IF((IF((B10="U"),"",IF((B10="K"),"",IF(ISBLANK(B10),"",IF(ISBLANK(C10),"Ende?",(IF(COUNTIF(Schichten!F:F,A10)>0,IF(B10>C10,1,C10)+IF(COUNTIF(Schichten!F:F,A11)>0,IF(B10>C10,C10,0)),IF(COUNTIF(Schichten!F:F,A11)>0,IF(B10>C10,C10,0)))-IF(COUNTIF(Schichten!F:F,A10)>0,B10,IF(COUNTIF(Schichten!F:F,A11)>0,0)))*24)))))>G10,G10,(IF((B10="U"),"",IF((B10="K"),"",IF(ISBLANK(B10),"",IF(ISBLANK(C10),"Ende?",(IF(COUNTIF(Schichten!F:F,A10)>0,IF(B10>C10,1,C10)+IF(COUNTIF(Schichten!F:F,A11)>0,IF(B10>C10,C10,0)),IF(COUNTIF(Schichten!F:F,A11)>0,IF(B10>C10,C10,0)))-IF(COUNTIF(Schichten!F:F,A10)>0,B10,IF(COUNTIF(Schichten!F:F,A11)>0,0)))*24))))))) | M10: FALSE
A11: =IF(MONTH($A$7+ROW(A4))=MONTH($A$7), $A$7+ROW(A4), "") -> 43835 | E11: =IF(($B11="U"),IF(WEEKDAY($A11)=1,"",IF(WEEKDAY($A11)=7,"",IF(COUNTIF(Schichten!F:F,$A11)>0,"",(8/40)*$L$4))),"") | F11: =IF($M11=TRUE,IF((B11="U"),"",IF(ISBLANK(B11),"",IF(ISBLANK(C11),"Ende?",IF(B11=C11,24,(IF(B11>C11,IF(((C11+1)-B11)>TIME(6,0,0),((C11+1)-B11)-TIME(0,30,0),((C11+1)-B11)),IF((C11-B11)>TIME(6,0,0),(C11-B11)-TIME(0,30,0),(C11-B11))))*24)))),"") | G11: =IF((B11="U"),"",IF((M11=TRUE),"",IF(ISBLANK(B11),"",IF(ISBLANK(C11),"Ende?",IF(B11=C11,24,(IF(B11>C11,IF(((C11+1)-B11)>TIME(6,0,0),((C11+1)-B11)-TIME(0,30,0),((C11+1)-B11)),IF((C11-B11)>TIME(6,0,0),(C11-B11)-TIME(0,30,0),(C11-B11))))*24))))) | H11: =IF((B11="U"),"",IF((M11=TRUE),"",IF(ISBLANK(B11),"",IF(ISBLANK(C11),"Ende?",(MAX(0,MIN(Schichten!$D$3+(Schichten!$C$3>Schichten!$D$3),C11+(B11>C11))-MAX(Schichten!$C$3,B11))+MAX(0,(MIN(Schichten!$D$3,C11+(B11>C11))-B11)*(Schichten!$C$3>Schichten!$D$3))+MAX(0,MIN(Schichten!$D$3+(Schichten!$C$3>Schichten!$D$3),C11+0)-Schichten!$C$3)*(B11>C11))*24)))) | I11: =IF((B11="U"),"",IF((M11=TRUE),"",IF(ISBLANK(B11),"",IF(ISBLANK(C11),"Ende?",(MAX(0,MIN(Schichten!$D$4+(Schichten!$C$4>Schichten!$D$4),C11+(B11>C11))-MAX(Schichten!$C$4,B11))+MAX(0,(MIN(Schichten!$D$4,C11+(B11>C11))-B11)*(Schichten!$C$4>Schichten!$D$4))+MAX(0,MIN(Schichten!$D$4+(Schichten!$C$4>Schichten!$D$4),C11+0)-Schichten!$C$4)*(B11>C11))*24)))) | J11: =IF((B11="U"),"",IF((M11=TRUE),"",IF(ISBLANK(B11),"",IF(ISBLANK(C11),"Ende?",IF(WEEKDAY(A11)=7,(MAX(0,MIN(Schichten!$D$5+(Schichten!$C$5>Schichten!$D$5),C11+(B11>C11))-MAX(Schichten!$C$5,B11))+MAX(0,(MIN(Schichten!$D$5,C11+(B11>C11))-B11)*(Schichten!$C$5>Schichten!$D$5))+MAX(0,MIN(Schichten!$D$5+(Schichten!$C$5>Schichten!$D$5),$C11+0)-Schichten!$C$5)*($B11>$C11))*24,IF(WEEKDAY(A11)=6,IF(B11>C11,IF(C11>0.541666,(C11-0.541666)*24,0),0),0)))))) | K11: =IF(M11=TRUE,"",IF((IF((B11="U"),"",IF((M11=TRUE),"",IF(ISBLANK(B11),"",IF(ISBLANK(C11),"Ende?",(IF(WEEKDAY(A11)=1,IF(B11>C11,1,C11),IF(WEEKDAY(A11)=7,IF(B11>C11,C11,0)))-IF(WEEKDAY(A11)=1,B11,IF(WEEKDAY(A11)=7,0)))*24)))))>G11,G11,(IF((B11="U"),"",IF((B11="K"),"",IF(ISBLANK(B11),"",IF(ISBLANK(C11),"Ende?",(IF(WEEKDAY(A11)=1,IF(B11>C11,1,C11),IF(WEEKDAY(A11)=7,IF(B11>C11,C11,0)))-IF(WEEKDAY(A11)=1,B11,IF(WEEKDAY(A11)=7,0)))*24))))))) | L11: =IF(M11=TRUE,"",IF((IF((B11="U"),"",IF((B11="K"),"",IF(ISBLANK(B11),"",IF(ISBLANK(C11),"Ende?",(IF(COUNTIF(Schichten!F:F,A11)>0,IF(B11>C11,1,C11)+IF(COUNTIF(Schichten!F:F,A12)>0,IF(B11>C11,C11,0)),IF(COUNTIF(Schichten!F:F,A12)>0,IF(B11>C11,C11,0)))-IF(COUNTIF(Schichten!F:F,A11)>0,B11,IF(COUNTIF(Schichten!F:F,A12)>0,0)))*24)))))>G11,G11,(IF((B11="U"),"",IF((B11="K"),"",IF(ISBLANK(B11),"",IF(ISBLANK(C11),"Ende?",(IF(COUNTIF(Schichten!F:F,A11)>0,IF(B11>C11,1,C11)+IF(COUNTIF(Schichten!F:F,A12)>0,IF(B11>C11,C11,0)),IF(COUNTIF(Schichten!F:F,A12)>0,IF(B11>C11,C11,0)))-IF(COUNTIF(Schichten!F:F,A11)>0,B11,IF(COUNTIF(Schichten!F:F,A12)>0,0)))*24))))))) | M11: FALSE
A12: =IF(MONTH($A$7+ROW(A5))=MONTH($A$7), $A$7+ROW(A5), "") -> 43836 | E12: =IF(($B12="U"),IF(WEEKDAY($A12)=1,"",IF(WEEKDAY($A12)=7,"",IF(COUNTIF(Schichten!F:F,$A12)>0,"",(8/40)*$L$4))),"") | F12: =IF($M12=TRUE,IF((B12="U"),"",IF(ISBLANK(B12),"",IF(ISBLANK(C12),"Ende?",IF(B12=C12,24,(IF(B12>C12,IF(((C12+1)-B12)>TIME(6,0,0),((C12+1)-B12)-TIME(0,30,0),((C12+1)-B12)),IF((C12-B12)>TIME(6,0,0),(C12-B12)-TIME(0,30,0),(C12-B12))))*24)))),"") | G12: =IF((B12="U"),"",IF((M12=TRUE),"",IF(ISBLANK(B12),"",IF(ISBLANK(C12),"Ende?",IF(B12=C12,24,(IF(B12>C12,IF(((C12+1)-B12)>TIME(6,0,0),((C12+1)-B12)-TIME(0,30,0),((C12+1)-B12)),IF((C12-B12)>TIME(6,0,0),(C12-B12)-TIME(0,30,0),(C12-B12))))*24))))) | H12: =IF((B12="U"),"",IF((M12=TRUE),"",IF(ISBLANK(B12),"",IF(ISBLANK(C12),"Ende?",(MAX(0,MIN(Schichten!$D$3+(Schichten!$C$3>Schichten!$D$3),C12+(B12>C12))-MAX(Schichten!$C$3,B12))+MAX(0,(MIN(Schichten!$D$3,C12+(B12>C12))-B12)*(Schichten!$C$3>Schichten!$D$3))+MAX(0,MIN(Schichten!$D$3+(Schichten!$C$3>Schichten!$D$3),C12+0)-Schichten!$C$3)*(B12>C12))*24)))) | I12: =IF((B12="U"),"",IF((M12=TRUE),"",IF(ISBLANK(B12),"",IF(ISBLANK(C12),"Ende?",(MAX(0,MIN(Schichten!$D$4+(Schichten!$C$4>Schichten!$D$4),C12+(B12>C12))-MAX(Schichten!$C$4,B12))+MAX(0,(MIN(Schichten!$D$4,C12+(B12>C12))-B12)*(Schichten!$C$4>Schichten!$D$4))+MAX(0,MIN(Schichten!$D$4+(Schichten!$C$4>Schichten!$D$4),C12+0)-Schichten!$C$4)*(B12>C12))*24)))) | J12: =IF((B12="U"),"",IF((M12=TRUE),"",IF(ISBLANK(B12),"",IF(ISBLANK(C12),"Ende?",IF(WEEKDAY(A12)=7,(MAX(0,MIN(Schichten!$D$5+(Schichten!$C$5>Schichten!$D$5),C12+(B12>C12))-MAX(Schichten!$C$5,B12))+MAX(0,(MIN(Schichten!$D$5,C12+(B12>C12))-B12)*(Schichten!$C$5>Schichten!$D$5))+MAX(0,MIN(Schichten!$D$5+(Schichten!$C$5>Schichten!$D$5),$C12+0)-Schichten!$C$5)*($B12>$C12))*24,IF(WEEKDAY(A12)=6,IF(B12>C12,IF(C12>0.541666,(C12-0.541666)*24,0),0),0)))))) | K12: =IF(M12=TRUE,"",IF((IF((B12="U"),"",IF((M12=TRUE),"",IF(ISBLANK(B12),"",IF(ISBLANK(C12),"Ende?",(IF(WEEKDAY(A12)=1,IF(B12>C12,1,C12),IF(WEEKDAY(A12)=7,IF(B12>C12,C12,0)))-IF(WEEKDAY(A12)=1,B12,IF(WEEKDAY(A12)=7,0)))*24)))))>G12,G12,(IF((B12="U"),"",IF((B12="K"),"",IF(ISBLANK(B12),"",IF(ISBLANK(C12),"Ende?",(IF(WEEKDAY(A12)=1,IF(B12>C12,1,C12),IF(WEEKDAY(A12)=7,IF(B12>C12,C12,0)))-IF(WEEKDAY(A12)=1,B12,IF(WEEKDAY(A12)=7,0)))*24))))))) | L12: =IF(M12=TRUE,"",IF((IF((B12="U"),"",IF((B12="K"),"",IF(ISBLANK(B12),"",IF(ISBLANK(C12),"Ende?",(IF(COUNTIF(Schichten!F:F,A12)>0,IF(B12>C12,1,C12)+IF(COUNTIF(Schichten!F:F,A13)>0,IF(B12>C12,C12,0)),IF(COUNTIF(Schichten!F:F,A13)>0,IF(B12>C12,C12,0)))-IF(COUNTIF(Schichten!F:F,A12)>0,B12,IF(COUNTIF(Schichten!F:F,A13)>0,0)))*24)))))>G12,G12,(IF((B12="U"),"",IF((B12="K"),"",IF(ISBLANK(B12),"",IF(ISBLANK(C12),"Ende?",(IF(COUNTIF(Schichten!F:F,A12)>0,IF(B12>C12,1,C12)+IF(COUNTIF(Schichten!F:F,A13)>0,IF(B12>C12,C12,0)),IF(COUNTIF(Schichten!F:F,A13)>0,IF(B12>C12,C12,0)))-IF(COUNTIF(Schichten!F:F,A12)>0,B12,IF(COUNTIF(Schichten!F:F,A13)>0,0)))*24))))))) | M12: FALSE
A13: =IF(MONTH($A$7+ROW(A6))=MONTH($A$7), $A$7+ROW(A6), "") -> 43837 | E13: =IF(($B13="U"),IF(WEEKDAY($A13)=1,"",IF(WEEKDAY($A13)=7,"",IF(COUNTIF(Schichten!F:F,$A13)>0,"",(8/40)*$L$4))),"") | F13: =IF($M13=TRUE,IF((B13="U"),"",IF(ISBLANK(B13),"",IF(ISBLANK(C13),"Ende?",IF(B13=C13,24,(IF(B13>C13,IF(((C13+1)-B13)>TIME(6,0,0),((C13+1)-B13)-TIME(0,30,0),((C13+1)-B13)),IF((C13-B13)>TIME(6,0,0),(C13-B13)-TIME(0,30,0),(C13-B13))))*24)))),"") | G13: =IF((B13="U"),"",IF((M13=TRUE),"",IF(ISBLANK(B13),"",IF(ISBLANK(C13),"Ende?",IF(B13=C13,24,(IF(B13>C13,IF(((C13+1)-B13)>TIME(6,0,0),((C13+1)-B13)-TIME(0,30,0),((C13+1)-B13)),IF((C13-B13)>TIME(6,0,0),(C13-B13)-TIME(0,30,0),(C13-B13))))*24))))) | H13: =IF((B13="U"),"",IF((M13=TRUE),"",IF(ISBLANK(B13),"",IF(ISBLANK(C13),"Ende?",(MAX(0,MIN(Schichten!$D$3+(Schichten!$C$3>Schichten!$D$3),C13+(B13>C13))-MAX(Schichten!$C$3,B13))+MAX(0,(MIN(Schichten!$D$3,C13+(B13>C13))-B13)*(Schichten!$C$3>Schichten!$D$3))+MAX(0,MIN(Schichten!$D$3+(Schichten!$C$3>Schichten!$D$3),C13+0)-Schichten!$C$3)*(B13>C13))*24)))) | I13: =IF((B13="U"),"",IF((M13=TRUE),"",IF(ISBLANK(B13),"",IF(ISBLANK(C13),"Ende?",(MAX(0,MIN(Schichten!$D$4+(Schichten!$C$4>Schichten!$D$4),C13+(B13>C13))-MAX(Schichten!$C$4,B13))+MAX(0,(MIN(Schichten!$D$4,C13+(B13>C13))-B13)*(Schichten!$C$4>Schichten!$D$4))+MAX(0,MIN(Schichten!$D$4+(Schichten!$C$4>Schichten!$D$4),C13+0)-Schichten!$C$4)*(B13>C13))*24)))) | J13: =IF((B13="U"),"",IF((M13=TRUE),"",IF(ISBLANK(B13),"",IF(ISBLANK(C13),"Ende?",IF(WEEKDAY(A13)=7,(MAX(0,MIN(Schichten!$D$5+(Schichten!$C$5>Schichten!$D$5),C13+(B13>C13))-MAX(Schichten!$C$5,B13))+MAX(0,(MIN(Schichten!$D$5,C13+(B13>C13))-B13)*(Schichten!$C$5>Schichten!$D$5))+MAX(0,MIN(Schichten!$D$5+(Schichten!$C$5>Schichten!$D$5),$C13+0)-Schichten!$C$5)*($B13>$C13))*24,IF(WEEKDAY(A13)=6,IF(B13>C13,IF(C13>0.541666,(C13-0.541666)*24,0),0),0)))))) | K13: =IF(M13=TRUE,"",IF((IF((B13="U"),"",IF((M13=TRUE),"",IF(ISBLANK(B13),"",IF(ISBLANK(C13),"Ende?",(IF(WEEKDAY(A13)=1,IF(B13>C13,1,C13),IF(WEEKDAY(A13)=7,IF(B13>C13,C13,0)))-IF(WEEKDAY(A13)=1,B13,IF(WEEKDAY(A13)=7,0)))*24)))))>G13,G13,(IF((B13="U"),"",IF((B13="K"),"",IF(ISBLANK(B13),"",IF(ISBLANK(C13),"Ende?",(IF(WEEKDAY(A13)=1,IF(B13>C13,1,C13),IF(WEEKDAY(A13)=7,IF(B13>C13,C13,0)))-IF(WEEKDAY(A13)=1,B13,IF(WEEKDAY(A13)=7,0)))*24))))))) | L13: =IF(M13=TRUE,"",IF((IF((B13="U"),"",IF((B13="K"),"",IF(ISBLANK(B13),"",IF(ISBLANK(C13),"Ende?",(IF(COUNTIF(Schichten!F:F,A13)>0,IF(B13>C13,1,C13)+IF(COUNTIF(Schichten!F:F,A14)>0,IF(B13>C13,C13,0)),IF(COUNTIF(Schichten!F:F,A14)>0,IF(B13>C13,C13,0)))-IF(COUNTIF(Schichten!F:F,A13)>0,B13,IF(COUNTIF(Schichten!F:F,A14)>0,0)))*24)))))>G13,G13,(IF((B13="U"),"",IF((B13="K"),"",IF(ISBLANK(B13),"",IF(ISBLANK(C13),"Ende?",(IF(COUNTIF(Schichten!F:F,A13)>0,IF(B13>C13,1,C13)+IF(COUNTIF(Schichten!F:F,A14)>0,IF(B13>C13,C13,0)),IF(COUNTIF(Schichten!F:F,A14)>0,IF(B13>C13,C13,0)))-IF(COUNTIF(Schichten!F:F,A13)>0,B13,IF(COUNTIF(Schichten!F:F,A14)>0,0)))*24))))))) | M13: FALSE
A14: =IF(MONTH($A$7+ROW(A7))=MONTH($A$7), $A$7+ROW(A7), "") -> 43838 | E14: =IF(($B14="U"),IF(WEEKDAY($A14)=1,"",IF(WEEKDAY($A14)=7,"",IF(COUNTIF(Schichten!F:F,$A14)>0,"",(8/40)*$L$4))),"") | F14: =IF($M14=TRUE,IF((B14="U"),"",IF(ISBLANK(B14),"",IF(ISBLANK(C14),"Ende?",IF(B14=C14,24,(IF(B14>C14,IF(((C14+1)-B14)>TIME(6,0,0),((C14+1)-B14)-TIME(0,30,0),((C14+1)-B14)),IF((C14-B14)>TIME(6,0,0),(C14-B14)-TIME(0,30,0),(C14-B14))))*24)))),"") | G14: =IF((B14="U"),"",IF((M14=TRUE),"",IF(ISBLANK(B14),"",IF(ISBLANK(C14),"Ende?",IF(B14=C14,24,(IF(B14>C14,IF(((C14+1)-B14)>TIME(6,0,0),((C14+1)-B14)-TIME(0,30,0),((C14+1)-B14)),IF((C14-B14)>TIME(6,0,0),(C14-B14)-TIME(0,30,0),(C14-B14))))*24))))) | H14: =IF((B14="U"),"",IF((M14=TRUE),"",IF(ISBLANK(B14),"",IF(ISBLANK(C14),"Ende?",(MAX(0,MIN(Schichten!$D$3+(Schichten!$C$3>Schichten!$D$3),C14+(B14>C14))-MAX(Schichten!$C$3,B14))+MAX(0,(MIN(Schichten!$D$3,C14+(B14>C14))-B14)*(Schichten!$C$3>Schichten!$D$3))+MAX(0,MIN(Schichten!$D$3+(Schichten!$C$3>Schichten!$D$3),C14+0)-Schichten!$C$3)*(B14>C14))*24)))) | I14: =IF((B14="U"),"",IF((M14=TRUE),"",IF(ISBLANK(B14),"",IF(ISBLANK(C14),"Ende?",(MAX(0,MIN(Schichten!$D$4+(Schichten!$C$4>Schichten!$D$4),C14+(B14>C14))-MAX(Schichten!$C$4,B14))+MAX(0,(MIN(Schichten!$D$4,C14+(B14>C14))-B14)*(Schichten!$C$4>Schichten!$D$4))+MAX(0,MIN(Schichten!$D$4+(Schichten!$C$4>Schichten!$D$4),C14+0)-Schichten!$C$4)*(B14>C14))*24)))) | J14: =IF((B14="U"),"",IF((M14=TRUE),"",IF(ISBLANK(B14),"",IF(ISBLANK(C14),"Ende?",IF(WEEKDAY(A14)=7,(MAX(0,MIN(Schichten!$D$5+(Schichten!$C$5>Schichten!$D$5),C14+(B14>C14))-MAX(Schichten!$C$5,B14))+MAX(0,(MIN(Schichten!$D$5,C14+(B14>C14))-B14)*(Schichten!$C$5>Schichten!$D$5))+MAX(0,MIN(Schichten!$D$5+(Schichten!$C$5>Schichten!$D$5),$C14+0)-Schichten!$C$5)*($B14>$C14))*24,IF(WEEKDAY(A14)=6,IF(B14>C14,IF(C14>0.541666,(C14-0.541666)*24,0),0),0)))))) | K14: =IF(M14=TRUE,"",IF((IF((B14="U"),"",IF((M14=TRUE),"",IF(ISBLANK(B14),"",IF(ISBLANK(C14),"Ende?",(IF(WEEKDAY(A14)=1,IF(B14>C14,1,C14),IF(WEEKDAY(A14)=7,IF(B14>C14,C14,0)))-IF(WEEKDAY(A14)=1,B14,IF(WEEKDAY(A14)=7,0)))*24)))))>G14,G14,(IF((B14="U"),"",IF((B14="K"),"",IF(ISBLANK(B14),"",IF(ISBLANK(C14),"Ende?",(IF(WEEKDAY(A14)=1,IF(B14>C14,1,C14),IF(WEEKDAY(A14)=7,IF(B14>C14,C14,0)))-IF(WEEKDAY(A14)=1,B14,IF(WEEKDAY(A14)=7,0)))*24))))))) | L14: =IF(M14=TRUE,"",IF((IF((B14="U"),"",IF((B14="K"),"",IF(ISBLANK(B14),"",IF(ISBLANK(C14),"Ende?",(IF(COUNTIF(Schichten!F:F,A14)>0,IF(B14>C14,1,C14)+IF(COUNTIF(Schichten!F:F,A15)>0,IF(B14>C14,C14,0)),IF(COUNTIF(Schichten!F:F,A15)>0,IF(B14>C14,C14,0)))-IF(COUNTIF(Schichten!F:F,A14)>0,B14,IF(COUNTIF(Schichten!F:F,A15)>0,0)))*24)))))>G14,G14,(IF((B14="U"),"",IF((B14="K"),"",IF(ISBLANK(B14),"",IF(ISBLANK(C14),"Ende?",(IF(COUNTIF(Schichten!F:F,A14)>0,IF(B14>C14,1,C14)+IF(COUNTIF(Schichten!F:F,A15)>0,IF(B14>C14,C14,0)),IF(COUNTIF(Schichten!F:F,A15)>0,IF(B14>C14,C14,0)))-IF(COUNTIF(Schichten!F:F,A14)>0,B14,IF(COUNTIF(Schichten!F:F,A15)>0,0)))*24))))))) | M14: FALSE
A15: =IF(MONTH($A$7+ROW(A8))=MONTH($A$7), $A$7+ROW(A8), "") -> 43839 | E15: =IF(($B15="U"),IF(WEEKDAY($A15)=1,"",IF(WEEKDAY($A15)=7,"",IF(COUNTIF(Schichten!F:F,$A15)>0,"",(8/40)*$L$4))),"") | F15: =IF($M15=TRUE,IF((B15="U"),"",IF(ISBLANK(B15),"",IF(ISBLANK(C15),"Ende?",IF(B15=C15,24,(IF(B15>C15,IF(((C15+1)-B15)>TIME(6,0,0),((C15+1)-B15)-TIME(0,30,0),((C15+1)-B15)),IF((C15-B15)>TIME(6,0,0),(C15-B15)-TIME(0,30,0),(C15-B15))))*24)))),"") | G15: =IF((B15="U"),"",IF((M15=TRUE),"",IF(ISBLANK(B15),"",IF(ISBLANK(C15),"Ende?",IF(B15=C15,24,(IF(B15>C15,IF(((C15+1)-B15)>TIME(6,0,0),((C15+1)-B15)-TIME(0,30,0),((C15+1)-B15)),IF((C15-B15)>TIME(6,0,0),(C15-B15)-TIME(0,30,0),(C15-B15))))*24))))) | H15: =IF((B15="U"),"",IF((M15=TRUE),"",IF(ISBLANK(B15),"",IF(ISBLANK(C15),"Ende?",(MAX(0,MIN(Schichten!$D$3+(Schichten!$C$3>Schichten!$D$3),C15+(B15>C15))-MAX(Schichten!$C$3,B15))+MAX(0,(MIN(Schichten!$D$3,C15+(B15>C15))-B15)*(Schichten!$C$3>Schichten!$D$3))+MAX(0,MIN(Schichten!$D$3+(Schichten!$C$3>Schichten!$D$3),C15+0)-Schichten!$C$3)*(B15>C15))*24)))) | I15: =IF((B15="U"),"",IF((M15=TRUE),"",IF(ISBLANK(B15),"",IF(ISBLANK(C15),"Ende?",(MAX(0,MIN(Schichten!$D$4+(Schichten!$C$4>Schichten!$D$4),C15+(B15>C15))-MAX(Schichten!$C$4,B15))+MAX(0,(MIN(Schichten!$D$4,C15+(B15>C15))-B15)*(Schichten!$C$4>Schichten!$D$4))+MAX(0,MIN(Schichten!$D$4+(Schichten!$C$4>Schichten!$D$4),C15+0)-Schichten!$C$4)*(B15>C15))*24)))) | J15: =IF((B15="U"),"",IF((M15=TRUE),"",IF(ISBLANK(B15),"",IF(ISBLANK(C15),"Ende?",IF(WEEKDAY(A15)=7,(MAX(0,MIN(Schichten!$D$5+(Schichten!$C$5>Schichten!$D$5),C15+(B15>C15))-MAX(Schichten!$C$5,B15))+MAX(0,(MIN(Schichten!$D$5,C15+(B15>C15))-B15)*(Schichten!$C$5>Schichten!$D$5))+MAX(0,MIN(Schichten!$D$5+(Schichten!$C$5>Schichten!$D$5),$C15+0)-Schichten!$C$5)*($B15>$C15))*24,IF(WEEKDAY(A15)=6,IF(B15>C15,IF(C15>0.541666,(C15-0.541666)*24,0),0),0)))))) | K15: =IF(M15=TRUE,"",IF((IF((B15="U"),"",IF((M15=TRUE),"",IF(ISBLANK(B15),"",IF(ISBLANK(C15),"Ende?",(IF(WEEKDAY(A15)=1,IF(B15>C15,1,C15),IF(WEEKDAY(A15)=7,IF(B15>C15,C15,0)))-IF(WEEKDAY(A15)=1,B15,IF(WEEKDAY(A15)=7,0)))*24)))))>G15,G15,(IF((B15="U"),"",IF((B15="K"),"",IF(ISBLANK(B15),"",IF(ISBLANK(C15),"Ende?",(IF(WEEKDAY(A15)=1,IF(B15>C15,1,C15),IF(WEEKDAY(A15)=7,IF(B15>C15,C15,0)))-IF(WEEKDAY(A15)=1,B15,IF(WEEKDAY(A15)=7,0)))*24))))))) | L15: =IF(M15=TRUE,"",IF((IF((B15="U"),"",IF((B15="K"),"",IF(ISBLANK(B15),"",IF(ISBLANK(C15),"Ende?",(IF(COUNTIF(Schichten!F:F,A15)>0,IF(B15>C15,1,C15)+IF(COUNTIF(Schichten!F:F,A16)>0,IF(B15>C15,C15,0)),IF(COUNTIF(Schichten!F:F,A16)>0,IF(B15>C15,C15,0)))-IF(COUNTIF(Schichten!F:F,A15)>0,B15,IF(COUNTIF(Schichten!F:F,A16)>0,0)))*24)))))>G15,G15,(IF((B15="U"),"",IF((B15="K"),"",IF(ISBLANK(B15),"",IF(ISBLANK(C15),"Ende?",(IF(COUNTIF(Schichten!F:F,A15)>0,IF(B15>C15,1,C15)+IF(COUNTIF(Schichten!F:F,A16)>0,IF(B15>C15,C15,0)),IF(COUNTIF(Schichten!F:F,A16)>0,IF(B15>C15,C15,0)))-IF(COUNTIF(Schichten!F:F,A15)>0,B15,IF(COUNTIF(Schichten!F:F,A16)>0,0)))*24))))))) | M15: FALSE
A16: =IF(MONTH($A$7+ROW(A9))=MONTH($A$7), $A$7+ROW(A9), "") -> 43840 | E16: =IF(($B16="U"),IF(WEEKDAY($A16)=1,"",IF(WEEKDAY($A16)=7,"",IF(COUNTIF(Schichten!F:F,$A16)>0,"",(8/40)*$L$4))),"") | F16: =IF($M16=TRUE,IF((B16="U"),"",IF(ISBLANK(B16),"",IF(ISBLANK(C16),"Ende?",IF(B16=C16,24,(IF(B16>C16,IF(((C16+1)-B16)>TIME(6,0,0),((C16+1)-B16)-TIME(0,30,0),((C16+1)-B16)),IF((C16-B16)>TIME(6,0,0),(C16-B16)-TIME(0,30,0),(C16-B16))))*24)))),"") | G16: =IF((B16="U"),"",IF((M16=TRUE),"",IF(ISBLANK(B16),"",IF(ISBLANK(C16),"Ende?",IF(B16=C16,24,(IF(B16>C16,IF(((C16+1)-B16)>TIME(6,0,0),((C16+1)-B16)-TIME(0,30,0),((C16+1)-B16)),IF((C16-B16)>TIME(6,0,0),(C16-B16)-TIME(0,30,0),(C16-B16))))*24))))) | H16: =IF((B16="U"),"",IF((M16=TRUE),"",IF(ISBLANK(B16),"",IF(ISBLANK(C16),"Ende?",(MAX(0,MIN(Schichten!$D$3+(Schichten!$C$3>Schichten!$D$3),C16+(B16>C16))-MAX(Schichten!$C$3,B16))+MAX(0,(MIN(Schichten!$D$3,C16+(B16>C16))-B16)*(Schichten!$C$3>Schichten!$D$3))+MAX(0,MIN(Schichten!$D$3+(Schichten!$C$3>Schichten!$D$3),C16+0)-Schichten!$C$3)*(B16>C16))*24)))) | I16: =IF((B16="U"),"",IF((M16=TRUE),"",IF(ISBLANK(B16),"",IF(ISBLANK(C16),"Ende?",(MAX(0,MIN(Schichten!$D$4+(Schichten!$C$4>Schichten!$D$4),C16+(B16>C16))-MAX(Schichten!$C$4,B16))+MAX(0,(MIN(Schichten!$D$4,C16+(B16>C16))-B16)*(Schichten!$C$4>Schichten!$D$4))+MAX(0,MIN(Schichten!$D$4+(Schichten!$C$4>Schichten!$D$4),C16+0)-Schichten!$C$4)*(B16>C16))*24)))) | J16: =IF((B16="U"),"",IF((M16=TRUE),"",IF(ISBLANK(B16),"",IF(ISBLANK(C16),"Ende?",IF(WEEKDAY(A16)=7,(MAX(0,MIN(Schichten!$D$5+(Schichten!$C$5>Schichten!$D$5),C16+(B16>C16))-MAX(Schichten!$C$5,B16))+MAX(0,(MIN(Schichten!$D$5,C16+(B16>C16))-B16)*(Schichten!$C$5>Schichten!$D$5))+MAX(0,MIN(Schichten!$D$5+(Schichten!$C$5>Schichten!$D$5),$C16+0)-Schichten!$C$5)*($B16>$C16))*24,IF(WEEKDAY(A16)=6,IF(B16>C16,IF(C16>0.541666,(C16-0.541666)*24,0),0),0)))))) | K16: =IF(M16=TRUE,"",IF((IF((B16="U"),"",IF((M16=TRUE),"",IF(ISBLANK(B16),"",IF(ISBLANK(C16),"Ende?",(IF(WEEKDAY(A16)=1,IF(B16>C16,1,C16),IF(WEEKDAY(A16)=7,IF(B16>C16,C16,0)))-IF(WEEKDAY(A16)=1,B16,IF(WEEKDAY(A16)=7,0)))*24)))))>G16,G16,(IF((B16="U"),"",IF((B16="K"),"",IF(ISBLANK(B16),"",IF(ISBLANK(C16),"Ende?",(IF(WEEKDAY(A16)=1,IF(B16>C16,1,C16),IF(WEEKDAY(A16)=7,IF(B16>C16,C16,0)))-IF(WEEKDAY(A16)=1,B16,IF(WEEKDAY(A16)=7,0)))*24))))))) | L16: =IF(M16=TRUE,"",IF((IF((B16="U"),"",IF((B16="K"),"",IF(ISBLANK(B16),"",IF(ISBLANK(C16),"Ende?",(IF(COUNTIF(Schichten!F:F,A16)>0,IF(B16>C16,1,C16)+IF(COUNTIF(Schichten!F:F,A17)>0,IF(B16>C16,C16,0)),IF(COUNTIF(Schichten!F:F,A17)>0,IF(B16>C16,C16,0)))-IF(COUNTIF(Schichten!F:F,A16)>0,B16,IF(COUNTIF(Schichten!F:F,A17)>0,0)))*24)))))>G16,G16,(IF((B16="U"),"",IF((B16="K"),"",IF(ISBLANK(B16),"",IF(ISBLANK(C16),"Ende?",(IF(COUNTIF(Schichten!F:F,A16)>0,IF(B16>C16,1,C16)+IF(COUNTIF(Schichten!F:F,A17)>0,IF(B16>C16,C16,0)),IF(COUNTIF(Schichten!F:F,A17)>0,IF(B16>C16,C16,0)))-IF(COUNTIF(Schichten!F:F,A16)>0,B16,IF(COUNTIF(Schichten!F:F,A17)>0,0)))*24))))))) | M16: FALSE
A17: =IF(MONTH($A$7+ROW(A10))=MONTH($A$7), $A$7+ROW(A10), "") -> 43841 | E17: =IF(($B17="U"),IF(WEEKDAY($A17)=1,"",IF(WEEKDAY($A17)=7,"",IF(COUNTIF(Schichten!F:F,$A17)>0,"",(8/40)*$L$4))),"") | F17: =IF($M17=TRUE,IF((B17="U"),"",IF(ISBLANK(B17),"",IF(ISBLANK(C17),"Ende?",IF(B17=C17,24,(IF(B17>C17,IF(((C17+1)-B17)>TIME(6,0,0),((C17+1)-B17)-TIME(0,30,0),((C17+1)-B17)),IF((C17-B17)>TIME(6,0,0),(C17-B17)-TIME(0,30,0),(C17-B17))))*24)))),"") | G17: =IF((B17="U"),"",IF((M17=TRUE),"",IF(ISBLANK(B17),"",IF(ISBLANK(C17),"Ende?",IF(B17=C17,24,(IF(B17>C17,IF(((C17+1)-B17)>TIME(6,0,0),((C17+1)-B17)-TIME(0,30,0),((C17+1)-B17)),IF((C17-B17)>TIME(6,0,0),(C17-B17)-TIME(0,30,0),(C17-B17))))*24))))) | H17: =IF((B17="U"),"",IF((M17=TRUE),"",IF(ISBLANK(B17),"",IF(ISBLANK(C17),"Ende?",(MAX(0,MIN(Schichten!$D$3+(Schichten!$C$3>Schichten!$D$3),C17+(B17>C17))-MAX(Schichten!$C$3,B17))+MAX(0,(MIN(Schichten!$D$3,C17+(B17>C17))-B17)*(Schichten!$C$3>Schichten!$D$3))+MAX(0,MIN(Schichten!$D$3+(Schichten!$C$3>Schichten!$D$3),C17+0)-Schichten!$C$3)*(B17>C17))*24)))) | I17: =IF((B17="U"),"",IF((M17=TRUE),"",IF(ISBLANK(B17),"",IF(ISBLANK(C17),"Ende?",(MAX(0,MIN(Schichten!$D$4+(Schichten!$C$4>Schichten!$D$4),C17+(B17>C17))-MAX(Schichten!$C$4,B17))+MAX(0,(MIN(Schichten!$D$4,C17+(B17>C17))-B17)*(Schichten!$C$4>Schichten!$D$4))+MAX(0,MIN(Schichten!$D$4+(Schichten!$C$4>Schichten!$D$4),C17+0)-Schichten!$C$4)*(B17>C17))*24)))) | J17: =IF((B17="U"),"",IF((M17=TRUE),"",IF(ISBLANK(B17),"",IF(ISBLANK(C17),"Ende?",IF(WEEKDAY(A17)=7,(MAX(0,MIN(Schichten!$D$5+(Schichten!$C$5>Schichten!$D$5),C17+(B17>C17))-MAX(Schichten!$C$5,B17))+MAX(0,(MIN(Schichten!$D$5,C17+(B17>C17))-B17)*(Schichten!$C$5>Schichten!$D$5))+MAX(0,MIN(Schichten!$D$5+(Schichten!$C$5>Schichten!$D$5),$C17+0)-Schichten!$C$5)*($B17>$C17))*24,IF(WEEKDAY(A17)=6,IF(B17>C17,IF(C17>0.541666,(C17-0.541666)*24,0),0),0)))))) | K17: =IF(M17=TRUE,"",IF((IF((B17="U"),"",IF((M17=TRUE),"",IF(ISBLANK(B17),"",IF(ISBLANK(C17),"Ende?",(IF(WEEKDAY(A17)=1,IF(B17>C17,1,C17),IF(WEEKDAY(A17)=7,IF(B17>C17,C17,0)))-IF(WEEKDAY(A17)=1,B17,IF(WEEKDAY(A17)=7,0)))*24)))))>G17,G17,(IF((B17="U"),"",IF((B17="K"),"",IF(ISBLANK(B17),"",IF(ISBLANK(C17),"Ende?",(IF(WEEKDAY(A17)=1,IF(B17>C17,1,C17),IF(WEEKDAY(A17)=7,IF(B17>C17,C17,0)))-IF(WEEKDAY(A17)=1,B17,IF(WEEKDAY(A17)=7,0)))*24))))))) | L17: =IF(M17=TRUE,"",IF((IF((B17="U"),"",IF((B17="K"),"",IF(ISBLANK(B17),"",IF(ISBLANK(C17),"Ende?",(IF(COUNTIF(Schichten!F:F,A17)>0,IF(B17>C17,1,C17)+IF(COUNTIF(Schichten!F:F,A18)>0,IF(B17>C17,C17,0)),IF(COUNTIF(Schichten!F:F,A18)>0,IF(B17>C17,C17,0)))-IF(COUNTIF(Schichten!F:F,A17)>0,B17,IF(COUNTIF(Schichten!F:F,A18)>0,0)))*24)))))>G17,G17,(IF((B17="U"),"",IF((B17="K"),"",IF(ISBLANK(B17),"",IF(ISBLANK(C17),"Ende?",(IF(COUNTIF(Schichten!F:F,A17)>0,IF(B17>C17,1,C17)+IF(COUNTIF(Schichten!F:F,A18)>0,IF(B17>C17,C17,0)),IF(COUNTIF(Schichten!F:F,A18)>0,IF(B17>C17,C17,0)))-IF(COUNTIF(Schichten!F:F,A17)>0,B17,IF(COUNTIF(Schichten!F:F,A18)>0,0)))*24))))))) | M17: FALSE
A18: =IF(MONTH($A$7+ROW(A11))=MONTH($A$7), $A$7+ROW(A11), "") -> 43842 | E18: =IF(($B18="U"),IF(WEEKDAY($A18)=1,"",IF(WEEKDAY($A18)=7,"",IF(COUNTIF(Schichten!F:F,$A18)>0,"",(8/40)*$L$4))),"") | F18: =IF($M18=TRUE,IF((B18="U"),"",IF(ISBLANK(B18),"",IF(ISBLANK(C18),"Ende?",IF(B18=C18,24,(IF(B18>C18,IF(((C18+1)-B18)>TIME(6,0,0),((C18+1)-B18)-TIME(0,30,0),((C18+1)-B18)),IF((C18-B18)>TIME(6,0,0),(C18-B18)-TIME(0,30,0),(C18-B18))))*24)))),"") | G18: =IF((B18="U"),"",IF((M18=TRUE),"",IF(ISBLANK(B18),"",IF(ISBLANK(C18),"Ende?",IF(B18=C18,24,(IF(B18>C18,IF(((C18+1)-B18)>TIME(6,0,0),((C18+1)-B18)-TIME(0,30,0),((C18+1)-B18)),IF((C18-B18)>TIME(6,0,0),(C18-B18)-TIME(0,30,0),(C18-B18))))*24))))) | H18: =IF((B18="U"),"",IF((M18=TRUE),"",IF(ISBLANK(B18),"",IF(ISBLANK(C18),"Ende?",(MAX(0,MIN(Schichten!$D$3+(Schichten!$C$3>Schichten!$D$3),C18+(B18>C18))-MAX(Schichten!$C$3,B18))+MAX(0,(MIN(Schichten!$D$3,C18+(B18>C18))-B18)*(Schichten!$C$3>Schichten!$D$3))+MAX(0,MIN(Schichten!$D$3+(Schichten!$C$3>Schichten!$D$3),C18+0)-Schichten!$C$3)*(B18>C18))*24)))) | I18: =IF((B18="U"),"",IF((M18=TRUE),"",IF(ISBLANK(B18),"",IF(ISBLANK(C18),"Ende?",(MAX(0,MIN(Schichten!$D$4+(Schichten!$C$4>Schichten!$D$4),C18+(B18>C18))-MAX(Schichten!$C$4,B18))+MAX(0,(MIN(Schichten!$D$4,C18+(B18>C18))-B18)*(Schichten!$C$4>Schichten!$D$4))+MAX(0,MIN(Schichten!$D$4+(Schichten!$C$4>Schichten!$D$4),C18+0)-Schichten!$C$4)*(B18>C18))*24)))) | J18: =IF((B18="U"),"",IF((M18=TRUE),"",IF(ISBLANK(B18),"",IF(ISBLANK(C18),"Ende?",IF(WEEKDAY(A18)=7,(MAX(0,MIN(Schichten!$D$5+(Schichten!$C$5>Schichten!$D$5),C18+(B18>C18))-MAX(Schichten!$C$5,B18))+MAX(0,(MIN(Schichten!$D$5,C18+(B18>C18))-B18)*(Schichten!$C$5>Schichten!$D$5))+MAX(0,MIN(Schichten!$D$5+(Schichten!$C$5>Schichten!$D$5),$C18+0)-Schichten!$C$5)*($B18>$C18))*24,IF(WEEKDAY(A18)=6,IF(B18>C18,IF(C18>0.541666,(C18-0.541666)*24,0),0),0)))))) | K18: =IF(M18=TRUE,"",IF((IF((B18="U"),"",IF((M18=TRUE),"",IF(ISBLANK(B18),"",IF(ISBLANK(C18),"Ende?",(IF(WEEKDAY(A18)=1,IF(B18>C18,1,C18),IF(WEEKDAY(A18)=7,IF(B18>C18,C18,0)))-IF(WEEKDAY(A18)=1,B18,IF(WEEKDAY(A18)=7,0)))*24)))))>G18,G18,(IF((B18="U"),"",IF((B18="K"),"",IF(ISBLANK(B18),"",IF(ISBLANK(C18),"Ende?",(IF(WEEKDAY(A18)=1,IF(B18>C18,1,C18),IF(WEEKDAY(A18)=7,IF(B18>C18,C18,0)))-IF(WEEKDAY(A18)=1,B18,IF(WEEKDAY(A18)=7,0)))*24))))))) | L18: =IF(M18=TRUE,"",IF((IF((B18="U"),"",IF((B18="K"),"",IF(ISBLANK(B18),"",IF(ISBLANK(C18),"Ende?",(IF(COUNTIF(Schichten!F:F,A18)>0,IF(B18>C18,1,C18)+IF(COUNTIF(Schichten!F:F,A19)>0,IF(B18>C18,C18,0)),IF(COUNTIF(Schichten!F:F,A19)>0,IF(B18>C18,C18,0)))-IF(COUNTIF(Schichten!F:F,A18)>0,B18,IF(COUNTIF(Schichten!F:F,A19)>0,0)))*24)))))>G18,G18,(IF((B18="U"),"",IF((B18="K"),"",IF(ISBLANK(B18),"",IF(ISBLANK(C18),"Ende?",(IF(COUNTIF(Schichten!F:F,A18)>0,IF(B18>C18,1,C18)+IF(COUNTIF(Schichten!F:F,A19)>0,IF(B18>C18,C18,0)),IF(COUNTIF(Schichten!F:F,A19)>0,IF(B18>C18,C18,0)))-IF(COUNTIF(Schichten!F:F,A18)>0,B18,IF(COUNTIF(Schichten!F:F,A19)>0,0)))*24))))))) | M18: FALSE
A19: =IF(MONTH($A$7+ROW(A12))=MONTH($A$7), $A$7+ROW(A12), "") -> 43843 | E19: =IF(($B19="U"),IF(WEEKDAY($A19)=1,"",IF(WEEKDAY($A19)=7,"",IF(COUNTIF(Schichten!F:F,$A19)>0,"",(8/40)*$L$4))),"") | F19: =IF($M19=TRUE,IF((B19="U"),"",IF(ISBLANK(B19),"",IF(ISBLANK(C19),"Ende?",IF(B19=C19,24,(IF(B19>C19,IF(((C19+1)-B19)>TIME(6,0,0),((C19+1)-B19)-TIME(0,30,0),((C19+1)-B19)),IF((C19-B19)>TIME(6,0,0),(C19-B19)-TIME(0,30,0),(C19-B19))))*24)))),"") | G19: =IF((B19="U"),"",IF((M19=TRUE),"",IF(ISBLANK(B19),"",IF(ISBLANK(C19),"Ende?",IF(B19=C19,24,(IF(B19>C19,IF(((C19+1)-B19)>TIME(6,0,0),((C19+1)-B19)-TIME(0,30,0),((C19+1)-B19)),IF((C19-B19)>TIME(6,0,0),(C19-B19)-TIME(0,30,0),(C19-B19))))*24))))) | H19: =IF((B19="U"),"",IF((M19=TRUE),"",IF(ISBLANK(B19),"",IF(ISBLANK(C19),"Ende?",(MAX(0,MIN(Schichten!$D$3+(Schichten!$C$3>Schichten!$D$3),C19+(B19>C19))-MAX(Schichten!$C$3,B19))+MAX(0,(MIN(Schichten!$D$3,C19+(B19>C19))-B19)*(Schichten!$C$3>Schichten!$D$3))+MAX(0,MIN(Schichten!$D$3+(Schichten!$C$3>Schichten!$D$3),C19+0)-Schichten!$C$3)*(B19>C19))*24)))) | I19: =IF((B19="U"),"",IF((M19=TRUE),"",IF(ISBLANK(B19),"",IF(ISBLANK(C19),"Ende?",(MAX(0,MIN(Schichten!$D$4+(Schichten!$C$4>Schichten!$D$4),C19+(B19>C19))-MAX(Schichten!$C$4,B19))+MAX(0,(MIN(Schichten!$D$4,C19+(B19>C19))-B19)*(Schichten!$C$4>Schichten!$D$4))+MAX(0,MIN(Schichten!$D$4+(Schichten!$C$4>Schichten!$D$4),C19+0)-Schichten!$C$4)*(B19>C19))*24)))) | J19: =IF((B19="U"),"",IF((M19=TRUE),"",IF(ISBLANK(B19),"",IF(ISBLANK(C19),"Ende?",IF(WEEKDAY(A19)=7,(MAX(0,MIN(Schichten!$D$5+(Schichten!$C$5>Schichten!$D$5),C19+(B19>C19))-MAX(Schichten!$C$5,B19))+MAX(0,(MIN(Schichten!$D$5,C19+(B19>C19))-B19)*(Schichten!$C$5>Schichten!$D$5))+MAX(0,MIN(Schichten!$D$5+(Schichten!$C$5>Schichten!$D$5),$C19+0)-Schichten!$C$5)*($B19>$C19))*24,IF(WEEKDAY(A19)=6,IF(B19>C19,IF(C19>0.541666,(C19-0.541666)*24,0),0),0)))))) | K19: =IF(M19=TRUE,"",IF((IF((B19="U"),"",IF((M19=TRUE),"",IF(ISBLANK(B19),"",IF(ISBLANK(C19),"Ende?",(IF(WEEKDAY(A19)=1,IF(B19>C19,1,C19),IF(WEEKDAY(A19)=7,IF(B19>C19,C19,0)))-IF(WEEKDAY(A19)=1,B19,IF(WEEKDAY(A19)=7,0)))*24)))))>G19,G19,(IF((B19="U"),"",IF((B19="K"),"",IF(ISBLANK(B19),"",IF(ISBLANK(C19),"Ende?",(IF(WEEKDAY(A19)=1,IF(B19>C19,1,C19),IF(WEEKDAY(A19)=7,IF(B19>C19,C19,0)))-IF(WEEKDAY(A19)=1,B19,IF(WEEKDAY(A19)=7,0)))*24))))))) | L19: =IF(M19=TRUE,"",IF((IF((B19="U"),"",IF((B19="K"),"",IF(ISBLANK(B19),"",IF(ISBLANK(C19),"Ende?",(IF(COUNTIF(Schichten!F:F,A19)>0,IF(B19>C19,1,C19)+IF(COUNTIF(Schichten!F:F,A20)>0,IF(B19>C19,C19,0)),IF(COUNTIF(Schichten!F:F,A20)>0,IF(B19>C19,C19,0)))-IF(COUNTIF(Schichten!F:F,A19)>0,B19,IF(COUNTIF(Schichten!F:F,A20)>0,0)))*24)))))>G19,G19,(IF((B19="U"),"",IF((B19="K"),"",IF(ISBLANK(B19),"",IF(ISBLANK(C19),"Ende?",(IF(COUNTIF(Schichten!F:F,A19)>0,IF(B19>C19,1,C19)+IF(COUNTIF(Schichten!F:F,A20)>0,IF(B19>C19,C19,0)),IF(COUNTIF(Schichten!F:F,A20)>0,IF(B19>C19,C19,0)))-IF(COUNTIF(Schichten!F:F,A19)>0,B19,IF(COUNTIF(Schichten!F:F,A20)>0,0)))*24))))))) | M19: FALSE
... A37: =IF(MONTH($A$7+ROW(A30))=MONTH($A$7), $A$7+ROW(A30), "") -> 43861 | E37: =IF(($B37="U"),IF(WEEKDAY($A37)=1,"",IF(WEEKDAY($A37)=7,"",IF(COUNTIF(Schichten!F:F,$A37)>0,"",(8/40)*$L$4))),"") | F37: =IF($M37=TRUE,IF((B37="U"),"",IF(ISBLANK(B37),"",IF(ISBLANK(C37),"Ende?",IF(B37=C37,24,(IF(B37>C37,IF(((C37+1)-B37)>TIME(6,0,0),((C37+1)-B37)-TIME(0,30,0),((C37+1)-B37)),IF((C37-B37)>TIME(6,0,0),(C37-B37)-TIME(0,30,0),(C37-B37))))*24)))),"") | G37: =IF((B37="U"),"",IF((M37=TRUE),"",IF(ISBLANK(B37),"",IF(ISBLANK(C37),"Ende?",IF(B37=C37,24,(IF(B37>C37,IF(((C37+1)-B37)>TIME(6,0,0),((C37+1)-B37)-TIME(0,30,0),((C37+1)-B37)),IF((C37-B37)>TIME(6,0,0),(C37-B37)-TIME(0,30,0),(C37-B37))))*24))))) | H37: =IF((B37="U"),"",IF((M37=TRUE),"",IF(ISBLANK(B37),"",IF(ISBLANK(C37),"Ende?",(MAX(0,MIN(Schichten!$D$3+(Schichten!$C$3>Schichten!$D$3),C37+(B37>C37))-MAX(Schichten!$C$3,B37))+MAX(0,(MIN(Schichten!$D$3,C37+(B37>C37))-B37)*(Schichten!$C$3>Schichten!$D$3))+MAX(0,MIN(Schichten!$D$3+(Schichten!$C$3>Schichten!$D$3),C37+0)-Schichten!$C$3)*(B37>C37))*24)))) | I37: =IF((B37="U"),"",IF((M37=TRUE),"",IF(ISBLANK(B37),"",IF(ISBLANK(C37),"Ende?",(MAX(0,MIN(Schichten!$D$4+(Schichten!$C$4>Schichten!$D$4),C37+(B37>C37))-MAX(Schichten!$C$4,B37))+MAX(0,(MIN(Schichten!$D$4,C37+(B37>C37))-B37)*(Schichten!$C$4>Schichten!$D$4))+MAX(0,MIN(Schichten!$D$4+(Schichten!$C$4>Schichten!$D$4),C37+0)-Schichten!$C$4)*(B37>C37))*24)))) | J37: =IF((B37="U"),"",IF((M37=TRUE),"",IF(ISBLANK(B37),"",IF(ISBLANK(C37),"Ende?",IF(WEEKDAY(A37)=7,(MAX(0,MIN(Schichten!$D$5+(Schichten!$C$5>Schichten!$D$5),C37+(B37>C37))-MAX(Schichten!$C$5,B37))+MAX(0,(MIN(Schichten!$D$5,C37+(B37>C37))-B37)*(Schichten!$C$5>Schichten!$D$5))+MAX(0,MIN(Schichten!$D$5+(Schichten!$C$5>Schichten!$D$5),$C37+0)-Schichten!$C$5)*($B37>$C37))*24,IF(WEEKDAY(A37)=6,IF(B37>C37,IF(C37>0.541666,(C37-0.541666)*24,0),0),0)))))) | K37: =IF(M37=TRUE,"",IF((IF((B37="U"),"",IF((M37=TRUE),"",IF(ISBLANK(B37),"",IF(ISBLANK(C37),"Ende?",(IF(WEEKDAY(A37)=1,IF(B37>C37,1,C37),IF(WEEKDAY(A37)=7,IF(B37>C37,C37,0)))-IF(WEEKDAY(A37)=1,B37,IF(WEEKDAY(A37)=7,0)))*24)))))>G37,G37,(IF((B37="U"),"",IF((B37="K"),"",IF(ISBLANK(B37),"",IF(ISBLANK(C37),"Ende?",(IF(WEEKDAY(A37)=1,IF(B37>C37,1,C37),IF(WEEKDAY(A37)=7,IF(B37>C37,C37,0)))-IF(WEEKDAY(A37)=1,B37,IF(WEEKDAY(A37)=7,0)))*24))))))) | L37: =IF(M37=TRUE,"",IF((IF((B37="U"),"",IF((B37="K"),"",IF(ISBLANK(B37),"",IF(ISBLANK(C37),"Ende?",(IF(COUNTIF(Schichten!F:F,A37)>0,IF(B37>C37,1,C37)+IF(COUNTIF(Schichten!F:F,A38)>0,IF(B37>C37,C37,0)),IF(COUNTIF(Schichten!F:F,A38)>0,IF(B37>C37,C37,0)))-IF(COUNTIF(Schichten!F:F,A37)>0,B37,IF(COUNTIF(Schichten!F:F,A38)>0,0)))*24)))))>G37,G37,(IF((B37="U"),"",IF((B37="K"),"",IF(ISBLANK(B37),"",IF(ISBLANK(C37),"Ende?",(IF(COUNTIF(Schichten!F:F,A37)>0,IF(B37>C37,1,C37)+IF(COUNTIF(Schichten!F:F,A38)>0,IF(B37>C37,C37,0)),IF(COUNTIF(Schichten!F:F,A38)>0,IF(B37>C37,C37,0)))-IF(COUNTIF(Schichten!F:F,A37)>0,B37,IF(COUNTIF(Schichten!F:F,A38)>0,0)))*24))))))) | M37: FALSE
G38: =IF((B38="U"),"",IF((B38="K"),"",IF(ISBLANK(B38),"",IF(ISBLANK(C38),"Ende?",IF(B38=C38,24,(IF(B38>C38,IF(((C38+1)-B38)>TIME(6,0,0),((C38+1)-B38)-TIME(0,30,0),((C38+1)-B38)),IF((C38-B38)>TIME(6,0,0),(C38-B38)-TIME(0,30,0),(C38-B38))))*24))))) | H38: =IF((B38="U"),"",IF((B38="K"),"",IF(ISBLANK(B38),"",IF(ISBLANK(C38),"Ende?",(MAX(0,MIN(Schichten!$D$3+(Schichten!$C$3>Schichten!$D$3),C38+(B38>C38))-MAX(Schichten!$C$3,B38))+MAX(0,(MIN(Schichten!$D$3,C38+(B38>C38))-B38)*(Schichten!$C$3>Schichten!$D$3))+MAX(0,MIN(Schichten!$D$3+(Schichten!$C$3>Schichten!$D$3),C38+0)-Schichten!$C$3)*(B38>C38))*24)))) | I38: =IF((B38="U"),"",IF((B38="K"),"",IF(ISBLANK(B38),"",IF(ISBLANK(C38),"Ende?",(MAX(0,MIN(Schichten!$D$4+(Schichten!$C$4>Schichten!$D$4),C38+(B38>C38))-MAX(Schichten!$C$4,B38))+MAX(0,(MIN(Schichten!$D$4,C38+(B38>C38))-B38)*(Schichten!$C$4>Schichten!$D$4))+MAX(0,MIN(Schichten!$D$4+(Schichten!$C$4>Schichten!$D$4),C38+0)-Schichten!$C$4)*(B38>C38))*24)))) | J38: =IF((B38="U"),"",IF((B38="K"),"",IF(ISBLANK(B38),"",IF(ISBLANK(C38),"Ende?",IF(WEEKDAY(A38)=7,(MAX(0,MIN(Schichten!$D$5+(Schichten!$C$5>Schichten!$D$5),C38+(B38>C38))-MAX(Schichten!$C$5,B38))+MAX(0,(MIN(Schichten!$D$5,C38+(B38>C38))-B38)*(Schichten!$C$5>Schichten!$D$5))+MAX(0,MIN(Schichten!$D$5+(Schichten!$C$5>Schichten!$D$5),$C38+0)-Schichten!$C$5)*($B38>$C38))*24,IF(WEEKDAY(A38)=6,IF(B38>C38,IF(C38>0.541666,(C38-0.541666)*24,0),0),0)))))) | K38: =IF((IF((B38="U"),"",IF((B38="K"),"",IF(ISBLANK(B38),"",IF(ISBLANK(C38),"Ende?",(IF(WEEKDAY(A38)=1,IF(B38>C38,1,C38),IF(WEEKDAY(A38)=7,IF(B38>C38,C38,0)))-IF(WEEKDAY(A38)=1,B38,IF(WEEKDAY(A38)=7,0)))*24)))))>G38,G38,(IF((B38="U"),"",IF((B38="K"),"",IF(ISBLANK(B38),"",IF(ISBLANK(C38),"Ende?",(IF(WEEKDAY(A38)=1,IF(B38>C38,1,C38),IF(WEEKDAY(A38)=7,IF(B38>C38,C38,0)))-IF(WEEKDAY(A38)=1,B38,IF(WEEKDAY(A38)=7,0)))*24)))))) | L38: =IF((IF((B38="U"),"",IF((B38="K"),"",IF(ISBLANK(B38),"",IF(ISBLANK(C38),"Ende?",(IF(COUNTIF(Schichten!F:F,A38)>0,IF(B38>C38,1,C38)+IF(COUNTIF(Schichten!F:F,A39)>0,IF(B38>C38,C38,0)),IF(COUNTIF(Schichten!F:F,A39)>0,IF(B38>C38,C38,0)))-IF(COUNTIF(Schichten!F:F,A38)>0,B38,IF(COUNTIF(Schichten!F:F,A39)>0,0)))*24)))))>G38,G38,(IF((B38="U"),"",IF((B38="K"),"",IF(ISBLANK(B38),"",IF(ISBLANK(C38),"Ende?",(IF(COUNTIF(Schichten!F:F,A38)>0,IF(B38>C38,1,C38)+IF(COUNTIF(Schichten!F:F,A39)>0,IF(B38>C38,C38,0)),IF(COUNTIF(Schichten!F:F,A39)>0,IF(B38>C38,C38,0)))-IF(COUNTIF(Schichten!F:F,A38)>0,B38,IF(COUNTIF(Schichten!F:F,A39)>0,0)))*24))))))
G39: =IF((B39="U"),"",IF((B39="K"),"",IF(ISBLANK(B39),"",IF(ISBLANK(C39),"Ende?",IF(B39=C39,24,(IF(B39>C39,IF(((C39+1)-B39)>TIME(6,0,0),((C39+1)-B39)-TIME(0,30,0),((C39+1)-B39)),IF((C39-B39)>TIME(6,0,0),(C39-B39)-TIME(0,30,0),(C39-B39))))*24))))) | H39: =IF((B39="U"),"",IF((B39="K"),"",IF(ISBLANK(B39),"",IF(ISBLANK(C39),"Ende?",(MAX(0,MIN(Schichten!$D$3+(Schichten!$C$3>Schichten!$D$3),C39+(B39>C39))-MAX(Schichten!$C$3,B39))+MAX(0,(MIN(Schichten!$D$3,C39+(B39>C39))-B39)*(Schichten!$C$3>Schichten!$D$3))+MAX(0,MIN(Schichten!$D$3+(Schichten!$C$3>Schichten!$D$3),C39+0)-Schichten!$C$3)*(B39>C39))*24)))) | I39: =IF((B39="U"),"",IF((B39="K"),"",IF(ISBLANK(B39),"",IF(ISBLANK(C39),"Ende?",(MAX(0,MIN(Schichten!$D$4+(Schichten!$C$4>Schichten!$D$4),C39+(B39>C39))-MAX(Schichten!$C$4,B39))+MAX(0,(MIN(Schichten!$D$4,C39+(B39>C39))-B39)*(Schichten!$C$4>Schichten!$D$4))+MAX(0,MIN(Schichten!$D$4+(Schichten!$C$4>Schichten!$D$4),C39+0)-Schichten!$C$4)*(B39>C39))*24)))) | J39: =IF((B39="U"),"",IF((B39="K"),"",IF(ISBLANK(B39),"",IF(ISBLANK(C39),"Ende?",IF(WEEKDAY(A39)=7,(MAX(0,MIN(Schichten!$D$5+(Schichten!$C$5>Schichten!$D$5),C39+(B39>C39))-MAX(Schichten!$C$5,B39))+MAX(0,(MIN(Schichten!$D$5,C39+(B39>C39))-B39)*(Schichten!$C$5>Schichten!$D$5))+MAX(0,MIN(Schichten!$D$5+(Schichten!$C$5>Schichten!$D$5),$C39+0)-Schichten!$C$5)*($B39>$C39))*24,IF(WEEKDAY(A39)=6,IF(B39>C39,IF(C39>0.541666,(C39-0.541666)*24,0),0),0)))))) | K39: =IF((IF((B39="U"),"",IF((B39="K"),"",IF(ISBLANK(B39),"",IF(ISBLANK(C39),"Ende?",(IF(WEEKDAY(A39)=1,IF(B39>C39,1,C39),IF(WEEKDAY(A39)=7,IF(B39>C39,C39,0)))-IF(WEEKDAY(A39)=1,B39,IF(WEEKDAY(A39)=7,0)))*24)))))>G39,G39,(IF((B39="U"),"",IF((B39="K"),"",IF(ISBLANK(B39),"",IF(ISBLANK(C39),"Ende?",(IF(WEEKDAY(A39)=1,IF(B39>C39,1,C39),IF(WEEKDAY(A39)=7,IF(B39>C39,C39,0)))-IF(WEEKDAY(A39)=1,B39,IF(WEEKDAY(A39)=7,0)))*24)))))) | L39: =IF((IF((B39="U"),"",IF((B39="K"),"",IF(ISBLANK(B39),"",IF(ISBLANK(C39),"Ende?",(IF(COUNTIF(Schichten!F:F,A39)>0,IF(B39>C39,1,C39)+IF(COUNTIF(Schichten!F:F,A48)>0,IF(B39>C39,C39,0)),IF(COUNTIF(Schichten!F:F,A48)>0,IF(B39>C39,C39,0)))-IF(COUNTIF(Schichten!F:F,A39)>0,B39,IF(COUNTIF(Schichten!F:F,A48)>0,0)))*24)))))>G39,G39,(IF((B39="U"),"",IF((B39="K"),"",IF(ISBLANK(B39),"",IF(ISBLANK(C39),"Ende?",(IF(COUNTIF(Schichten!F:F,A39)>0,IF(B39>C39,1,C39)+IF(COUNTIF(Schichten!F:F,A48)>0,IF(B39>C39,C39,0)),IF(COUNTIF(Schichten!F:F,A48)>0,IF(B39>C39,C39,0)))-IF(COUNTIF(Schichten!F:F,A39)>0,B39,IF(COUNTIF(Schichten!F:F,A48)>0,0)))*24))))))
G40: =IF((B40="U"),"",IF((B40="K"),"",IF(ISBLANK(B40),"",IF(ISBLANK(C40),"Ende?",IF(B40=C40,24,(IF(B40>C40,IF(((C40+1)-B40)>TIME(6,0,0),((C40+1)-B40)-TIME(0,30,0),((C40+1)-B40)),IF((C40-B40)>TIME(6,0,0),(C40-B40)-TIME(0,30,0),(C40-B40))))*24))))) | H40: =IF((B40="U"),"",IF((B40="K"),"",IF(ISBLANK(B40),"",IF(ISBLANK(C40),"Ende?",(MAX(0,MIN(Schichten!$D$3+(Schichten!$C$3>Schichten!$D$3),C40+(B40>C40))-MAX(Schichten!$C$3,B40))+MAX(0,(MIN(Schichten!$D$3,C40+(B40>C40))-B40)*(Schichten!$C$3>Schichten!$D$3))+MAX(0,MIN(Schichten!$D$3+(Schichten!$C$3>Schichten!$D$3),C40+0)-Schichten!$C$3)*(B40>C40))*24)))) | I40: =IF((B40="U"),"",IF((B40="K"),"",IF(ISBLANK(B40),"",IF(ISBLANK(C40),"Ende?",(MAX(0,MIN(Schichten!$D$4+(Schichten!$C$4>Schichten!$D$4),C40+(B40>C40))-MAX(Schichten!$C$4,B40))+MAX(0,(MIN(Schichten!$D$4,C40+(B40>C40))-B40)*(Schichten!$C$4>Schichten!$D$4))+MAX(0,MIN(Schichten!$D$4+(Schichten!$C$4>Schichten!$D$4),C40+0)-Schichten!$C$4)*(B40>C40))*24)))) | J40: =IF((B40="U"),"",IF((B40="K"),"",IF(ISBLANK(B40),"",IF(ISBLANK(C40),"Ende?",IF(WEEKDAY(A40)=7,(MAX(0,MIN(Schichten!$D$5+(Schichten!$C$5>Schichten!$D$5),C40+(B40>C40))-MAX(Schichten!$C$5,B40))+MAX(0,(MIN(Schichten!$D$5,C40+(B40>C40))-B40)*(Schichten!$C$5>Schichten!$D$5))+MAX(0,MIN(Schichten!$D$5+(Schichten!$C$5>Schichten!$D$5),$C40+0)-Schichten!$C$5)*($B40>$C40))*24,IF(WEEKDAY(A40)=6,IF(B40>C40,IF(C40>0.541666,(C40-0.541666)*24,0),0),0)))))) | K40: =IF((IF((B40="U"),"",IF((B40="K"),"",IF(ISBLANK(B40),"",IF(ISBLANK(C40),"Ende?",(IF(WEEKDAY(A40)=1,IF(B40>C40,1,C40),IF(WEEKDAY(A40)=7,IF(B40>C40,C40,0)))-IF(WEEKDAY(A40)=1,B40,IF(WEEKDAY(A40)=7,0)))*24)))))>G40,G40,(IF((B40="U"),"",IF((B40="K"),"",IF(ISBLANK(B40),"",IF(ISBLANK(C40),"Ende?",(IF(WEEKDAY(A40)=1,IF(B40>C40,1,C40),IF(WEEKDAY(A40)=7,IF(B40>C40,C40,0)))-IF(WEEKDAY(A40)=1,B40,IF(WEEKDAY(A40)=7,0)))*24)))))) | L40: =IF((IF((B40="U"),"",IF((B40="K"),"",IF(ISBLANK(B40),"",IF(ISBLANK(C40),"Ende?",(IF(COUNTIF(Schichten!F:F,A40)>0,IF(B40>C40,1,C40)+IF(COUNTIF(Schichten!F:F,A49)>0,IF(B40>C40,C40,0)),IF(COUNTIF(Schichten!F:F,A49)>0,IF(B40>C40,C40,0)))-IF(COUNTIF(Schichten!F:F,A40)>0,B40,IF(COUNTIF(Schichten!F:F,A49)>0,0)))*24)))))>G40,G40,(IF((B40="U"),"",IF((B40="K"),"",IF(ISBLANK(B40),"",IF(ISBLANK(C40),"Ende?",(IF(COUNTIF(Schichten!F:F,A40)>0,IF(B40>C40,1,C40)+IF(COUNTIF(Schichten!F:F,A49)>0,IF(B40>C40,C40,0)),IF(COUNTIF(Schichten!F:F,A49)>0,IF(B40>C40,C40,0)))-IF(COUNTIF(Schichten!F:F,A40)>0,B40,IF(COUNTIF(Schichten!F:F,A49)>0,0)))*24))))))
G41: =IF((B41="U"),"",IF((B41="K"),"",IF(ISBLANK(B41),"",IF(ISBLANK(C41),"Ende?",IF(B41=C41,24,(IF(B41>C41,IF(((C41+1)-B41)>TIME(6,0,0),((C41+1)-B41)-TIME(0,30,0),((C41+1)-B41)),IF((C41-B41)>TIME(6,0,0),(C41-B41)-TIME(0,30,0),(C41-B41))))*24))))) | H41: =IF((B41="U"),"",IF((B41="K"),"",IF(ISBLANK(B41),"",IF(ISBLANK(C41),"Ende?",(MAX(0,MIN(Schichten!$D$3+(Schichten!$C$3>Schichten!$D$3),C41+(B41>C41))-MAX(Schichten!$C$3,B41))+MAX(0,(MIN(Schichten!$D$3,C41+(B41>C41))-B41)*(Schichten!$C$3>Schichten!$D$3))+MAX(0,MIN(Schichten!$D$3+(Schichten!$C$3>Schichten!$D$3),C41+0)-Schichten!$C$3)*(B41>C41))*24)))) | I41: =IF((B41="U"),"",IF((B41="K"),"",IF(ISBLANK(B41),"",IF(ISBLANK(C41),"Ende?",(MAX(0,MIN(Schichten!$D$4+(Schichten!$C$4>Schichten!$D$4),C41+(B41>C41))-MAX(Schichten!$C$4,B41))+MAX(0,(MIN(Schichten!$D$4,C41+(B41>C41))-B41)*(Schichten!$C$4>Schichten!$D$4))+MAX(0,MIN(Schichten!$D$4+(Schichten!$C$4>Schichten!$D$4),C41+0)-Schichten!$C$4)*(B41>C41))*24)))) | J41: =IF((B41="U"),"",IF((B41="K"),"",IF(ISBLANK(B41),"",IF(ISBLANK(C41),"Ende?",IF(WEEKDAY(A41)=7,(MAX(0,MIN(Schichten!$D$5+(Schichten!$C$5>Schichten!$D$5),C41+(B41>C41))-MAX(Schichten!$C$5,B41))+MAX(0,(MIN(Schichten!$D$5,C41+(B41>C41))-B41)*(Schichten!$C$5>Schichten!$D$5))+MAX(0,MIN(Schichten!$D$5+(Schichten!$C$5>Schichten!$D$5),$C41+0)-Schichten!$C$5)*($B41>$C41))*24,IF(WEEKDAY(A41)=6,IF(B41>C41,IF(C41>0.541666,(C41-0.541666)*24,0),0),0)))))) | K41: =IF((IF((B41="U"),"",IF((B41="K"),"",IF(ISBLANK(B41),"",IF(ISBLANK(C41),"Ende?",(IF(WEEKDAY(A41)=1,IF(B41>C41,1,C41),IF(WEEKDAY(A41)=7,IF(B41>C41,C41,0)))-IF(WEEKDAY(A41)=1,B41,IF(WEEKDAY(A41)=7,0)))*24)))))>G41,G41,(IF((B41="U"),"",IF((B41="K"),"",IF(ISBLANK(B41),"",IF(ISBLANK(C41),"Ende?",(IF(WEEKDAY(A41)=1,IF(B41>C41,1,C41),IF(WEEKDAY(A41)=7,IF(B41>C41,C41,0)))-IF(WEEKDAY(A41)=1,B41,IF(WEEKDAY(A41)=7,0)))*24)))))) | L41: =IF((IF((B41="U"),"",IF((B41="K"),"",IF(ISBLANK(B41),"",IF(ISBLANK(C41),"Ende?",(IF(COUNTIF(Schichten!F:F,A41)>0,IF(B41>C41,1,C41)+IF(COUNTIF(Schichten!F:F,A50)>0,IF(B41>C41,C41,0)),IF(COUNTIF(Schichten!F:F,A50)>0,IF(B41>C41,C41,0)))-IF(COUNTIF(Schichten!F:F,A41)>0,B41,IF(COUNTIF(Schichten!F:F,A50)>0,0)))*24)))))>G41,G41,(IF((B41="U"),"",IF((B41="K"),"",IF(ISBLANK(B41),"",IF(ISBLANK(C41),"Ende?",(IF(COUNTIF(Schichten!F:F,A41)>0,IF(B41>C41,1,C41)+IF(COUNTIF(Schichten!F:F,A50)>0,IF(B41>C41,C41,0)),IF(COUNTIF(Schichten!F:F,A50)>0,IF(B41>C41,C41,0)))-IF(COUNTIF(Schichten!F:F,A41)>0,B41,IF(COUNTIF(Schichten!F:F,A50)>0,0)))*24))))))
G42: =IF((B42="U"),"",IF((B42="K"),"",IF(ISBLANK(B42),"",IF(ISBLANK(C42),"Ende?",IF(B42=C42,24,(IF(B42>C42,IF(((C42+1)-B42)>TIME(6,0,0),((C42+1)-B42)-TIME(0,30,0),((C42+1)-B42)),IF((C42-B42)>TIME(6,0,0),(C42-B42)-TIME(0,30,0),(C42-B42))))*24))))) | H42: =IF((B42="U"),"",IF((B42="K"),"",IF(ISBLANK(B42),"",IF(ISBLANK(C42),"Ende?",(MAX(0,MIN(Schichten!$D$3+(Schichten!$C$3>Schichten!$D$3),C42+(B42>C42))-MAX(Schichten!$C$3,B42))+MAX(0,(MIN(Schichten!$D$3,C42+(B42>C42))-B42)*(Schichten!$C$3>Schichten!$D$3))+MAX(0,MIN(Schichten!$D$3+(Schichten!$C$3>Schichten!$D$3),C42+0)-Schichten!$C$3)*(B42>C42))*24)))) | I42: =IF((B42="U"),"",IF((B42="K"),"",IF(ISBLANK(B42),"",IF(ISBLANK(C42),"Ende?",(MAX(0,MIN(Schichten!$D$4+(Schichten!$C$4>Schichten!$D$4),C42+(B42>C42))-MAX(Schichten!$C$4,B42))+MAX(0,(MIN(Schichten!$D$4,C42+(B42>C42))-B42)*(Schichten!$C$4>Schichten!$D$4))+MAX(0,MIN(Schichten!$D$4+(Schichten!$C$4>Schichten!$D$4),C42+0)-Schichten!$C$4)*(B42>C42))*24)))) | J42: =IF((B42="U"),"",IF((B42="K"),"",IF(ISBLANK(B42),"",IF(ISBLANK(C42),"Ende?",IF(WEEKDAY(A42)=7,(MAX(0,MIN(Schichten!$D$5+(Schichten!$C$5>Schichten!$D$5),C42+(B42>C42))-MAX(Schichten!$C$5,B42))+MAX(0,(MIN(Schichten!$D$5,C42+(B42>C42))-B42)*(Schichten!$C$5>Schichten!$D$5))+MAX(0,MIN(Schichten!$D$5+(Schichten!$C$5>Schichten!$D$5),$C42+0)-Schichten!$C$5)*($B42>$C42))*24,IF(WEEKDAY(A42)=6,IF(B42>C42,IF(C42>0.541666,(C42-0.541666)*24,0),0),0)))))) | K42: =IF((IF((B42="U"),"",IF((B42="K"),"",IF(ISBLANK(B42),"",IF(ISBLANK(C42),"Ende?",(IF(WEEKDAY(A42)=1,IF(B42>C42,1,C42),IF(WEEKDAY(A42)=7,IF(B42>C42,C42,0)))-IF(WEEKDAY(A42)=1,B42,IF(WEEKDAY(A42)=7,0)))*24)))))>G42,G42,(IF((B42="U"),"",IF((B42="K"),"",IF(ISBLANK(B42),"",IF(ISBLANK(C42),"Ende?",(IF(WEEKDAY(A42)=1,IF(B42>C42,1,C42),IF(WEEKDAY(A42)=7,IF(B42>C42,C42,0)))-IF(WEEKDAY(A42)=1,B42,IF(WEEKDAY(A42)=7,0)))*24)))))) | L42: =IF((IF((B42="U"),"",IF((B42="K"),"",IF(ISBLANK(B42),"",IF(ISBLANK(C42),"Ende?",(IF(COUNTIF(Schichten!F:F,A42)>0,IF(B42>C42,1,C42)+IF(COUNTIF(Schichten!F:F,A51)>0,IF(B42>C42,C42,0)),IF(COUNTIF(Schichten!F:F,A51)>0,IF(B42>C42,C42,0)))-IF(COUNTIF(Schichten!F:F,A42)>0,B42,IF(COUNTIF(Schichten!F:F,A51)>0,0)))*24)))))>G42,G42,(IF((B42="U"),"",IF((B42="K"),"",IF(ISBLANK(B42),"",IF(ISBLANK(C42),"Ende?",(IF(COUNTIF(Schichten!F:F,A42)>0,IF(B42>C42,1,C42)+IF(COUNTIF(Schichten!F:F,A51)>0,IF(B42>C42,C42,0)),IF(COUNTIF(Schichten!F:F,A51)>0,IF(B42>C42,C42,0)))-IF(COUNTIF(Schichten!F:F,A42)>0,B42,IF(COUNTIF(Schichten!F:F,A51)>0,0)))*24))))))
G43: =IF((B43="U"),"",IF((B43="K"),"",IF(ISBLANK(B43),"",IF(ISBLANK(C43),"Ende?",IF(B43=C43,24,(IF(B43>C43,IF(((C43+1)-B43)>TIME(6,0,0),((C43+1)-B43)-TIME(0,30,0),((C43+1)-B43)),IF((C43-B43)>TIME(6,0,0),(C43-B43)-TIME(0,30,0),(C43-B43))))*24))))) | H43: =IF((B43="U"),"",IF((B43="K"),"",IF(ISBLANK(B43),"",IF(ISBLANK(C43),"Ende?",(MAX(0,MIN(Schichten!$D$3+(Schichten!$C$3>Schichten!$D$3),C43+(B43>C43))-MAX(Schichten!$C$3,B43))+MAX(0,(MIN(Schichten!$D$3,C43+(B43>C43))-B43)*(Schichten!$C$3>Schichten!$D$3))+MAX(0,MIN(Schichten!$D$3+(Schichten!$C$3>Schichten!$D$3),C43+0)-Schichten!$C$3)*(B43>C43))*24)))) | I43: =IF((B43="U"),"",IF((B43="K"),"",IF(ISBLANK(B43),"",IF(ISBLANK(C43),"Ende?",(MAX(0,MIN(Schichten!$D$4+(Schichten!$C$4>Schichten!$D$4),C43+(B43>C43))-MAX(Schichten!$C$4,B43))+MAX(0,(MIN(Schichten!$D$4,C43+(B43>C43))-B43)*(Schichten!$C$4>Schichten!$D$4))+MAX(0,MIN(Schichten!$D$4+(Schichten!$C$4>Schichten!$D$4),C43+0)-Schichten!$C$4)*(B43>C43))*24)))) | J43: =IF((B43="U"),"",IF((B43="K"),"",IF(ISBLANK(B43),"",IF(ISBLANK(C43),"Ende?",IF(WEEKDAY(A43)=7,(MAX(0,MIN(Schichten!$D$5+(Schichten!$C$5>Schichten!$D$5),C43+(B43>C43))-MAX(Schichten!$C$5,B43))+MAX(0,(MIN(Schichten!$D$5,C43+(B43>C43))-B43)*(Schichten!$C$5>Schichten!$D$5))+MAX(0,MIN(Schichten!$D$5+(Schichten!$C$5>Schichten!$D$5),$C43+0)-Schichten!$C$5)*($B43>$C43))*24,IF(WEEKDAY(A43)=6,IF(B43>C43,IF(C43>0.541666,(C43-0.541666)*24,0),0),0)))))) | K43: =IF((IF((B43="U"),"",IF((B43="K"),"",IF(ISBLANK(B43),"",IF(ISBLANK(C43),"Ende?",(IF(WEEKDAY(A43)=1,IF(B43>C43,1,C43),IF(WEEKDAY(A43)=7,IF(B43>C43,C43,0)))-IF(WEEKDAY(A43)=1,B43,IF(WEEKDAY(A43)=7,0)))*24)))))>G43,G43,(IF((B43="U"),"",IF((B43="K"),"",IF(ISBLANK(B43),"",IF(ISBLANK(C43),"Ende?",(IF(WEEKDAY(A43)=1,IF(B43>C43,1,C43),IF(WEEKDAY(A43)=7,IF(B43>C43,C43,0)))-IF(WEEKDAY(A43)=1,B43,IF(WEEKDAY(A43)=7,0)))*24)))))) | L43: =IF((IF((B43="U"),"",IF((B43="K"),"",IF(ISBLANK(B43),"",IF(ISBLANK(C43),"Ende?",(IF(COUNTIF(Schichten!F:F,A43)>0,IF(B43>C43,1,C43)+IF(COUNTIF(Schichten!F:F,A52)>0,IF(B43>C43,C43,0)),IF(COUNTIF(Schichten!F:F,A52)>0,IF(B43>C43,C43,0)))-IF(COUNTIF(Schichten!F:F,A43)>0,B43,IF(COUNTIF(Schichten!F:F,A52)>0,0)))*24)))))>G43,G43,(IF((B43="U"),"",IF((B43="K"),"",IF(ISBLANK(B43),"",IF(ISBLANK(C43),"Ende?",(IF(COUNTIF(Schichten!F:F,A43)>0,IF(B43>C43,1,C43)+IF(COUNTIF(Schichten!F:F,A52)>0,IF(B43>C43,C43,0)),IF(COUNTIF(Schichten!F:F,A52)>0,IF(B43>C43,C43,0)))-IF(COUNTIF(Schichten!F:F,A43)>0,B43,IF(COUNTIF(Schichten!F:F,A52)>0,0)))*24))))))
G44: =IF((B44="U"),"",IF((B44="K"),"",IF(ISBLANK(B44),"",IF(ISBLANK(C44),"Ende?",IF(B44=C44,24,(IF(B44>C44,IF(((C44+1)-B44)>TIME(6,0,0),((C44+1)-B44)-TIME(0,30,0),((C44+1)-B44)),IF((C44-B44)>TIME(6,0,0),(C44-B44)-TIME(0,30,0),(C44-B44))))*24))))) | H44: =IF((B44="U"),"",IF((B44="K"),"",IF(ISBLANK(B44),"",IF(ISBLANK(C44),"Ende?",(MAX(0,MIN(Schichten!$D$3+(Schichten!$C$3>Schichten!$D$3),C44+(B44>C44))-MAX(Schichten!$C$3,B44))+MAX(0,(MIN(Schichten!$D$3,C44+(B44>C44))-B44)*(Schichten!$C$3>Schichten!$D$3))+MAX(0,MIN(Schichten!$D$3+(Schichten!$C$3>Schichten!$D$3),C44+0)-Schichten!$C$3)*(B44>C44))*24)))) | I44: =IF((B44="U"),"",IF((B44="K"),"",IF(ISBLANK(B44),"",IF(ISBLANK(C44),"Ende?",(MAX(0,MIN(Schichten!$D$4+(Schichten!$C$4>Schichten!$D$4),C44+(B44>C44))-MAX(Schichten!$C$4,B44))+MAX(0,(MIN(Schichten!$D$4,C44+(B44>C44))-B44)*(Schichten!$C$4>Schichten!$D$4))+MAX(0,MIN(Schichten!$D$4+(Schichten!$C$4>Schichten!$D$4),C44+0)-Schichten!$C$4)*(B44>C44))*24)))) | J44: =IF((B44="U"),"",IF((B44="K"),"",IF(ISBLANK(B44),"",IF(ISBLANK(C44),"Ende?",IF(WEEKDAY(A44)=7,(MAX(0,MIN(Schichten!$D$5+(Schichten!$C$5>Schichten!$D$5),C44+(B44>C44))-MAX(Schichten!$C$5,B44))+MAX(0,(MIN(Schichten!$D$5,C44+(B44>C44))-B44)*(Schichten!$C$5>Schichten!$D$5))+MAX(0,MIN(Schichten!$D$5+(Schichten!$C$5>Schichten!$D$5),$C44+0)-Schichten!$C$5)*($B44>$C44))*24,IF(WEEKDAY(A44)=6,IF(B44>C44,IF(C44>0.541666,(C44-0.541666)*24,0),0),0)))))) | K44: =IF((IF((B44="U"),"",IF((B44="K"),"",IF(ISBLANK(B44),"",IF(ISBLANK(C44),"Ende?",(IF(WEEKDAY(A44)=1,IF(B44>C44,1,C44),IF(WEEKDAY(A44)=7,IF(B44>C44,C44,0)))-IF(WEEKDAY(A44)=1,B44,IF(WEEKDAY(A44)=7,0)))*24)))))>G44,G44,(IF((B44="U"),"",IF((B44="K"),"",IF(ISBLANK(B44),"",IF(ISBLANK(C44),"Ende?",(IF(WEEKDAY(A44)=1,IF(B44>C44,1,C44),IF(WEEKDAY(A44)=7,IF(B44>C44,C44,0)))-IF(WEEKDAY(A44)=1,B44,IF(WEEKDAY(A44)=7,0)))*24)))))) | L44: =IF((IF((B44="U"),"",IF((B44="K"),"",IF(ISBLANK(B44),"",IF(ISBLANK(C44),"Ende?",(IF(COUNTIF(Schichten!F:F,A44)>0,IF(B44>C44,1,C44)+IF(COUNTIF(Schichten!F:F,A53)>0,IF(B44>C44,C44,0)),IF(COUNTIF(Schichten!F:F,A53)>0,IF(B44>C44,C44,0)))-IF(COUNTIF(Schichten!F:F,A44)>0,B44,IF(COUNTIF(Schichten!F:F,A53)>0,0)))*24)))))>G44,G44,(IF((B44="U"),"",IF((B44="K"),"",IF(ISBLANK(B44),"",IF(ISBLANK(C44),"Ende?",(IF(COUNTIF(Schichten!F:F,A44)>0,IF(B44>C44,1,C44)+IF(COUNTIF(Schichten!F:F,A53)>0,IF(B44>C44,C44,0)),IF(COUNTIF(Schichten!F:F,A53)>0,IF(B44>C44,C44,0)))-IF(COUNTIF(Schichten!F:F,A44)>0,B44,IF(COUNTIF(Schichten!F:F,A53)>0,0)))*24))))))
